Workbook

Sheet 제출방법
A1: 종합기술제안서(시공단계 건설사업관리, 통합평가방식, 정량평가 제출요령)
A3: 1. 각 시트의 출력물 1부씩을 다음의 순서대로 좌철(1권),합본하여 제출하여야 합니다.
A4: * G2B(나라장터)에서 등록한후 출력한 경쟁입찰참가자격등록증(사본)을 출력하여 첨부할것[공동도급(공동이행,분담이행 )] 사의 경쟁입찰참가자격등록증 사본도 동시 합본 제출
A5: 1) 종합기술제안서 정량평가 신청서
A6: 2) 자기평가기술서
A7: 3) 공동수급협정체결현황
A8: 4) 영업정지 , 벌점 , 품질미흡
A9: 5) 재정상태건실도
A10: 6) 개발활용실적
A11: 7) 투자실적
A12: 8) 용역평가결과심사
A13: 9) 교체빈도
... A32: 6. 위의 제출방법에 따라 각 시트(22항목)를 출력, 관련 증빙서류를 합철(1권)하여 제출하시기 바랍니다.

Sheet 1.종합기술제안서 정량평가 신청서
A2: 접수번호
A4: 종합기술제안서(시공단계 건설사업관리, 통합평가방식) 정량평가 신청서
A6: 수 신 : 조달청장
A7: 참 조 : 시설사업국 공공주택계약팀장
A8: 제 목 : 종합기술제안서(시공단계 건설사업관리, 통합평가방식) - 정량평가 제출 | J8: 접 수 인
A9: 아래 용역에 대한 "종합기술제안서(시공단계 건설사업관리,통합평가방식)-정량평가서"를 붙임과 같이 제출합니다.
A11: ======= 아 래 =======
A12: 관 리 번 호 : | B12: R25DC00000000
A13: 용 역 명 : | B13: 0000 공사 건설사업관리용역
A14: 수 요 기 관 : | B14: 한국토지주택공사
A15: 입찰공고일 : | B15: 45658 | D15: 평가서마감 일시 : | F15: 45323
A16: 사업자등록번호 : | B16: 111-12-34567 | D16: 입 찰 일 시 : | F16: 45323
A18: 붙 임 : | B18: 종합기술제안서(정량평가) 1부
A19: 업 체 명 : | B19: (주)000
A20: 대 표 자 : | B20: 홍길동 | C20: (인) | E20: 주 소 :
A21: 전 화 번 호 : | B21: 031) 0000-0000 | E21: FAX 번 호 : | F21: 031) 0000-0000
A22: 평가서 작성자 : | B22: ㅇㅇㅇ | E22: 구내전화 : | F22: 031) 0000-0000
A23: (HP : 010-0000-4523)

Sheet 2.자기평가기술서
A1: 2. 자기평가기술서
B3: 1. 관리번호 : | D3: ='1.종합기술제안서 정량평가 신청서'!B12 -> R25DC00000000 | N3: 4. 회사명 : | Q3: ='1.종합기술제안서 정량평가 신청서'!B19 -> (주)000 | U3: 대 표 자 : | AA3: ='1.종합기술제안서 정량평가 신청서'!B20 -> 홍길동
B4: 2. 수요기관 : | D4: ='1.종합기술제안서 정량평가 신청서'!B14 -> 한국토지주택공사 | N4: 5. 평가작성자 : | Q4: ='1.종합기술제안서 정량평가 신청서'!B22 -> ㅇㅇㅇ | U4: 구내전화 : | AA4: ='1.종합기술제안서 정량평가 신청서'!F22 -> 031) 0000-0000
B5: 3. 용 역 명 : | D5: ='1.종합기술제안서 정량평가 신청서'!B13 -> 0000 공사 건설사업관리용역 | N5: 6. 사업자등록번호 : | Q5: ='1.종합기술제안서 정량평가 신청서'!B16 -> 111-12-34567
B6: 7. 연 락 처 : | D6: 전화 | E6: ='1.종합기술제안서 정량평가 신청서'!B21 -> 031) 0000-0000 | I6: 팩스 | J6: ='1.종합기술제안서 정량평가 신청서'!F21 -> 031) 0000-0000
A8: 구 분 | B8: 관리역량 신용도 [2.0] | D8: 기술역량 | G8: 교체빈도 [5] | I8: 주관사 및 공동참여사의 유사용역수행실적 [6.0] | K8: 전문가역량[45] | V8: 합계 [60] | W8: 사회적책임 [+2/-2] | Y8: 평가관련신뢰도 [최대 -10] | AC8: 총 점
D9: 과업에 대한 전문성 [1.0] | F9: 용역평가결과 심사 [1.0] | K9: 참여기술인 | M9: 성 명 | N9: 분 야 | O9: 등 급 | P9: 해당분야 | R9: 직무분야 | T9: 교육훈련 및 기술자격 | U9: 소 계 [45]
B10: 영업정지,벌점, 품질미흡 [1.6] | C10: 재정 건실도 [0.4] | D10: 개발활용실적 [0.3] | E10: 투자실적 [0.7] | F10: 용역평가 결과심사 [1.0] | G10: 건설사업관리용역사업자 [3] | H10: 참여기술인 [2] | I10: 금액 (백만원) | J10: 점 수 | P10: 설계, 시공, 안전관리, 품질관리, 공무, 시험, 검사, 건설사업관리, 유지관리, 감독, 사업관리, 공사감리, 설계감리, 안전점점, 정밀안전진단 유지관리,감독,감리 | W10: 인력 고용 [가점] | X10: 공정 거래 [감점] | Y10: 평가의 공정성· 적정성 저해 | Z10: 제안서 작성위반 | AA10: 주요벌점 | AB10: LH 등 퇴직자 참여여부
P11: 년월 | Q11: 점수 | R11: 년수 | S11: 점수 | T11: 점수
A12: ='1.종합기술제안서 정량평가 신청서'!B19 -> (주)000 | B12: ='4. 업무정지, 벌점, 품질미흡'!C55 -> 1.6 | C12: ='5. 재정건실도'!F9 -> 0.12 | D12: ='6. 개발활용실적'!L31 -> 0.1233 | E12: ='7. 투자실적'!E11 -> 0 | F12: ='8. 용역평가결과'!E26 -> 0.6 | G12: ='9. 교체빈도'!G7 -> 0.9 | H12: ='9. 교체빈도'!G17 -> 2 | I12: ='10. 유사용역수행실적'!L25 -> 1350.6 | J12: ='10. 유사용역수행실적'!L27 -> 3.6 | K12: (평가대상자) | U12: =U13+((U14+U15+U16+U17)/4)+U18 -> 40.1 | V12: =B12+C12+D12+E12+F12+G12+H12+J12+U12 -> 49.0433 | W12: ='14.인력고용'!P11 -> 0.6 | X12: ='15.공정거래'!G8 -> 0 | Y12: ='16.평가의공정성적정성저해,제안서작성위반'!B12 -> 0 | Z12: ='16.평가의공정성적정성저해,제안서작성위반'!B24 -> 0 | AA12: ='17.주요벌점'!D12 -> 0 | AB12: ='18.LH등퇴직자참여여부'!N23 -> 10 | AC12: =SUM(V12:AB12) -> 59.6433
K13: 상주기술인 | L13: 책임 | M13: ='12. 참여기술인 경력사항'!C6 -> 홍길동 | N13: ='12. 참여기술인 경력사항'!D6 -> 건축 | O13: ='12. 참여기술인 경력사항'!E6 -> 중급 | P13: ='12. 참여기술인 경력사항'!I6 -> 220 | Q13: =IF(P13>=60,11,IF(P13>=48,10,IF(P13>=36,9,IF(P13>=24,8,7)))) -> 11 | R13: ='12. 참여기술인 경력사항'!G6 -> 19.2 | S13: =VLOOKUP(R13,IF(O13="특급",'수식 표(절대 수정하지 말 것)'!B3:C7,'수식 표(절대 수정하지 말 것)'!E3:F7),2,1) -> 7 | T13: 1 | U13: =Q13+S13+T13 -> 19
L14: 분야 | M14: ='12. 참여기술인 경력사항'!C7 -> 임꺽정 | N14: ='12. 참여기술인 경력사항'!D7 -> 건축 | O14: ='12. 참여기술인 경력사항'!E7 -> 고급 | P14: ='12. 참여기술인 경력사항'!I7 -> 6 | Q14: =VLOOKUP(P14,IF(O14="특급",'수식 표(절대 수정하지 말 것)'!$B$10:$C$14,IF('2.자기평가기술서'!O14="고급",'수식 표(절대 수정하지 말 것)'!$E$10:$F$13,'수식 표(절대 수정하지 말 것)'!$H$10:$I$11)),2,1) -> 8 | R14: ='12. 참여기술인 경력사항'!G7 -> 6 | S14: =VLOOKUP(R14,IF(O14="특급",'수식 표(절대 수정하지 말 것)'!$B$17:$C$21,IF('2.자기평가기술서'!O14="고급",'수식 표(절대 수정하지 말 것)'!$E$17:$F$21,IF('2.자기평가기술서'!O14="중급",'수식 표(절대 수정하지 말 것)'!$H$17:$I$21,'수식 표(절대 수정하지 말 것)'!$K$17:$L$20))),2,1) -> 5.6 | T14: 1 | U14: =Q14+S14+T14 -> 14.6
L15: 분야 | M15: ='12. 참여기술인 경력사항'!C8 -> 이순신 | N15: ='12. 참여기술인 경력사항'!D8 -> 안전 | O15: ='12. 참여기술인 경력사항'!E8 -> 특급 | P15: ='12. 참여기술인 경력사항'!I8 -> 7 | Q15: =VLOOKUP(P15,IF(O15="특급",'수식 표(절대 수정하지 말 것)'!$B$10:$C$14,IF('2.자기평가기술서'!O15="고급",'수식 표(절대 수정하지 말 것)'!$E$10:$F$13,'수식 표(절대 수정하지 말 것)'!$H$10:$I$11)),2,1) -> 7 | R15: ='12. 참여기술인 경력사항'!G8 -> 7 | S15: =VLOOKUP(R15,IF(O15="특급",'수식 표(절대 수정하지 말 것)'!$B$17:$C$21,IF('2.자기평가기술서'!O15="고급",'수식 표(절대 수정하지 말 것)'!$E$17:$F$21,IF('2.자기평가기술서'!O15="중급",'수식 표(절대 수정하지 말 것)'!$H$17:$I$21,'수식 표(절대 수정하지 말 것)'!$K$17:$L$20))),2,1) -> 4.9 | T15: 1 | U15: =Q15+S15+T15 -> 12.9
L16: 분야 | M16: ='12. 참여기술인 경력사항'!C9 -> 김두환 | N16: ='12. 참여기술인 경력사항'!D9 -> 기계 | O16: ='12. 참여기술인 경력사항'!E9 -> 중급 | P16: ='12. 참여기술인 경력사항'!I9 -> 5 | Q16: =VLOOKUP(P16,IF(O16="특급",'수식 표(절대 수정하지 말 것)'!$B$10:$C$14,IF('2.자기평가기술서'!O16="고급",'수식 표(절대 수정하지 말 것)'!$E$10:$F$13,'수식 표(절대 수정하지 말 것)'!$H$10:$I$11)),2,1) -> 10 | R16: ='12. 참여기술인 경력사항'!G9 -> 5 | S16: =VLOOKUP(R16,IF(O16="특급",'수식 표(절대 수정하지 말 것)'!$B$17:$C$21,IF('2.자기평가기술서'!O16="고급",'수식 표(절대 수정하지 말 것)'!$E$17:$F$21,IF('2.자기평가기술서'!O16="중급",'수식 표(절대 수정하지 말 것)'!$H$17:$I$21,'수식 표(절대 수정하지 말 것)'!$K$17:$L$20))),2,1) -> 6.3 | T16: 1 | U16: =Q16+S16+T16 -> 17.3
L17: 분야 | M17: ='12. 참여기술인 경력사항'!C10 -> 윤봉길 | N17: ='12. 참여기술인 경력사항'!D10 -> 토목 | O17: ='12. 참여기술인 경력사항'!E10 -> 초급 | P17: ='12. 참여기술인 경력사항'!I10 -> 2 | Q17: =VLOOKUP(P17,IF(O17="특급",'수식 표(절대 수정하지 말 것)'!$B$10:$C$14,IF('2.자기평가기술서'!O17="고급",'수식 표(절대 수정하지 말 것)'!$E$10:$F$13,'수식 표(절대 수정하지 말 것)'!$H$10:$I$11)),2,1) -> 10 | R17: ='12. 참여기술인 경력사항'!G10 -> 3 | S17: =VLOOKUP(R17,IF(O17="특급",'수식 표(절대 수정하지 말 것)'!$B$17:$C$21,IF('2.자기평가기술서'!O17="고급",'수식 표(절대 수정하지 말 것)'!$E$17:$F$21,IF('2.자기평가기술서'!O17="중급",'수식 표(절대 수정하지 말 것)'!$H$17:$I$21,'수식 표(절대 수정하지 말 것)'!$K$17:$L$20))),2,1) -> 7 | T17: 1 | U17: =Q17+S17+T17 -> 18
K18: 비상주 | L18: 기술지원 | M18: ='12. 참여기술인 경력사항'!C11 -> 허 준 | N18: ='12. 참여기술인 경력사항'!D11 -> 건축 | O18: ='12. 참여기술인 경력사항'!E11 -> 특급 | P18: ='12. 참여기술인 경력사항'!I11 -> 116.66667 | Q18: =IF(P18>=48,3,IF(P18>=42,2.7,IF(P18>=36,2.3,IF(P18>=24,2.1,1.8)))) -> 3 | R18: ='12. 참여기술인 경력사항'!$G$11 -> 9.5890411 | S18: =IF(R18>=15,2,IF(R18>=13,1.8,IF(R18>=11,1.6,IF(R18>=9,1.4,1.2)))) -> 1.4 | T18: 1 | U18: =Q18+S18+T18 -> 5.4
A19: * 각 세부심사항목별(4번시트부터)로 작성하면 이 시트에 값이 연계됩니다.

Sheet 수식 표(절대 수정하지 말 것)
A2: 책임기술인 직무분야 실적
A3: 특급 | B3: 0 | C3: 4.2 | D3: 고급 | E3: 0 | F3: 4.2
B4: 9 | C4: 4.9 | E4: 6 | F4: 4.9
B5: 11 | C5: 5.6 | E5: 8 | F5: 5.6
B6: 13 | C6: 6.3 | E6: 10 | F6: 6.3
B7: 15 | C7: 7 | E7: 12 | F7: 7
A9: 분야별 기술인 해당분야경력
A10: 특급 | B10: 0 | C10: 7 | D10: 고급 | E10: 0 | F10: 8 | G10: 초·중급 | H10: 0 | I10: 10
B11: 30 | C11: 8 | E11: 24 | F11: 9 | H11: 24 | I11: 11
B12: 36 | C12: 9 | E12: 30 | F12: 10
B13: 42 | C13: 10 | E13: 36 | F13: 11
B14: 48 | C14: 11
A16: 분야별 기술인 직무분야실적
A17: 특급 | B17: 0 | C17: 4.2 | D17: 고급 | E17: 0 | F17: 4.2 | G17: 중급 | H17: 0 | I17: 4.2 | J17: 초급 | K17: 0 | L17: 4.9
B18: 6 | C18: 4.9 | E18: 4 | F18: 4.9 | H18: 2 | I18: 4.9 | K18: 1 | L18: 5.6
B19: 8 | C19: 5.6 | E19: 6 | F19: 5.6 | H19: 4 | I19: 5.6 | K19: 2 | L19: 6.3
B20: 10 | C20: 6.3 | E20: 8 | F20: 6.3 | H20: 5 | I20: 6.3 | K20: 3 | L20: 7
B21: 12 | C21: 7 | E21: 10 | F21: 7 | H21: 6 | I21: 7

Sheet 2.자기평가기술서(1000억원미만~500억원이상)
A1: 2. 자기평가기술서(공사비 1,000억원 미만 ~ 500억원 이상)
B3: 1. 관리번호 : | D3: ='1.종합기술제안서 정량평가 신청서'!B12 -> R25DC00000000 | L3: 4. 회사명 : | O3: ='1.종합기술제안서 정량평가 신청서'!B19 -> (주)000 | S3: 대 표 자 : | U3: ='1.종합기술제안서 정량평가 신청서'!B20 -> 홍길동
B4: 2. 수요기관 : | D4: ='1.종합기술제안서 정량평가 신청서'!B14 -> 한국토지주택공사 | L4: 5. 평가작성자 : | O4: ='1.종합기술제안서 정량평가 신청서'!B22 -> ㅇㅇㅇ | S4: 구내전화 : | U4: ='1.종합기술제안서 정량평가 신청서'!F22 -> 031) 0000-0000
B5: 3. 용 역 명 : | D5: ='1.종합기술제안서 정량평가 신청서'!B13 -> 0000 공사 건설사업관리용역 | L5: 6. 사업자등록번호 : | O5: ='1.종합기술제안서 정량평가 신청서'!B16 -> 111-12-34567
B6: 7. 연 락 처 : | D6: 전화 | E6: ='1.종합기술제안서 정량평가 신청서'!B21 -> 031) 0000-0000 | G6: 팩스 | H6: ='1.종합기술제안서 정량평가 신청서'!F21 -> 031) 0000-0000
A8: 구 분 | B8: 관리역량 신용도 [2.0] | D8: 기술역량 과업에 대한 전문성 [1.0] | F8: 기술역량 [1.0] | G8: 유사용역수행실적 [6.0] | I8: 전문가역량[40] | T8: 합계 [50] | U8: 사회적책임 [+2/-2] | W8: 총 점
I9: 참여기술인 | K9: 성 명 | L9: 분 야 | M9: 등 급 | N9: 해당분야 | P9: 직무분야 | R9: 교육훈련 및 기술자격 | S9: 소 계 [40]
B10: 영업정지,벌점 [1.6] | C10: 재정 건실도 [0.4] | D10: 개발활용실적 [0.3] | E10: 투자실적 [0.7] | F10: 용역평가 결과심사 [1.0] | G10: 금액 (백만원) | H10: 점 수 | N10: 설계, 시공, 안전관리, 품질관리, 공무, 시험, 검사, 건설사업관리, 유지관리, 감독, 사업관리, 공사감리, 설계감리, 안전점점, 정밀안전진단 유지관리,감독,감리 | U10: 인력 고용 [가점] | V10: 공정 거래 [감점]
N11: 년월 | O11: 점수 | P11: 년수 | Q11: 점수 | R11: 점수
A12: ='1.종합기술제안서 정량평가 신청서'!B19 -> (주)000 | B12: ='4. 업무정지, 벌점, 품질미흡'!F29 -> 0 | C12: ='5. 재정건실도'!F9 -> 0.12 | D12: ='6. 개발활용실적'!L31 -> 0.1233 | E12: ='7. 투자실적'!E11 -> 0 | F12: ='8. 용역평가결과'!E13 -> 3 | G12: ='10. 유사용역수행실적'!L24 -> 4502 | H12: ='10. 유사용역수행실적'!L27 -> 3.6 | I12: (평가대상자) | S12: =S13+((S14+S15+S16)/3)+S17 -> 33.2 | T12: =B12+C12+D12+E12+F12+H12+S12 -> 40.0433 | U12: ='14.인력고용'!P6 -> 2 | V12: ='15.공정거래'!G8 -> 0 | W12: =SUM(T12:V12) -> 42.0433
I13: 상주기술인 | J13: 책임 | K13: ='12. 참여기술인 경력사항'!C6 -> 홍길동 | L13: ='12. 참여기술인 경력사항'!D6 -> 건축 | M13: ='12. 참여기술인 경력사항'!E6 -> 중급 | N13: ='12. 참여기술인 경력사항'!I6 -> 220 | O13: =IF(N13>=13,10,IF(N13>=11,9,IF(N13>=9,8,IF(N13>=7,7,6)))) -> 10 | P13: ='12. 참여기술인 경력사항'!G6 -> 19.2 | Q13: =IF(P13>=15,6,IF(P13>=13,5.4,IF(P13>=11,4.8,IF(P13>=9,4.2,3.6)))) -> 6 | R13: 1 | S13: =O13+Q13+R13 -> 17
J14: 보조 | K14: ='12. 참여기술인 경력사항'!C7 -> 임꺽정 | L14: ='12. 참여기술인 경력사항'!D7 -> 건축 | M14: ='12. 참여기술인 경력사항'!E7 -> 고급 | N14: ='12. 참여기술인 경력사항'!I7 -> 6 | O14: =IF(N14>=48,10,IF(N14>=42,9,IF(N14>=36,8,IF(N14>=30,7,6)))) -> 6 | P14: ='12. 참여기술인 경력사항'!G7 -> 6 | Q14: =IF(P14>=12,6,IF(P14>=10,5.4,IF(P14>=8,4.8,IF(P14>=6,4.2,3.6)))) -> 4.2 | R14: 1 | S14: =O14+Q14+R14 -> 11.2
J15: 보조 | K15: ='12. 참여기술인 경력사항'!C9 -> 김두환 | L15: ='12. 참여기술인 경력사항'!D9 -> 기계 | M15: ='12. 참여기술인 경력사항'!E9 -> 중급 | N15: ='12. 참여기술인 경력사항'!I9 -> 5 | O15: =IF(N15>=48,10,IF(N15>=42,9,IF(N15>=36,8,IF(N15>=30,7,6)))) -> 6 | P15: ='12. 참여기술인 경력사항'!G9 -> 5 | Q15: =IF(P15>=12,6,IF(P15>=10,5.4,IF(P15>=8,4.8,IF(P15>=6,4.2,3.6)))) -> 3.6 | R15: 1 | S15: =O15+Q15+R15 -> 10.6
J16: 보조 | K16: ='12. 참여기술인 경력사항'!C10 -> 윤봉길 | L16: ='12. 참여기술인 경력사항'!D10 -> 토목 | M16: ='12. 참여기술인 경력사항'!E10 -> 초급 | N16: ='12. 참여기술인 경력사항'!I10 -> 2 | O16: =IF(N16>=48,10,IF(N16>=42,9,IF(N16>=36,8,IF(N16>=30,7,6)))) -> 6 | P16: ='12. 참여기술인 경력사항'!G10 -> 3 | Q16: =IF(P16>=12,6,IF(P16>=10,5.4,IF(P16>=8,4.8,IF(P16>=6,4.2,3.6)))) -> 3.6 | R16: 1 | S16: =O16+Q16+R16 -> 10.6
I17: 기술지원 | J17: 보조 | K17: ='12. 참여기술인 경력사항'!C11 -> 허 준 | L17: ='12. 참여기술인 경력사항'!D11 -> 건축 | M17: ='12. 참여기술인 경력사항'!E11 -> 특급 | N17: ='12. 참여기술인 경력사항'!I11 -> 116.66667 | O17: =IF(N17>=13,3,IF(N17>=11,2.7,IF(N17>=9,2.4,IF(N17>=7,2.1,1.8)))) -> 3 | P17: ='12. 참여기술인 경력사항'!$G$11 -> 9.5890411 | Q17: =IF(P17>=15,2,IF(P17>=13,1.8,IF(P17>=11,1.6,IF(P17>=9,1.4,1.2)))) -> 1.4 | R17: 1 | S17: =O17+Q17+R17 -> 5.4

Sheet 2.자기평가기술서(500억원미만~300억원이상)
A1: 2. 자기평가기술서(공사비 500억원 미만 ~ 300억원 이상)
B3: 1. 관리번호 : | D3: ='1.종합기술제안서 정량평가 신청서'!B12 -> R25DC00000000 | L3: 4. 회사명 : | O3: ='1.종합기술제안서 정량평가 신청서'!B19 -> (주)000 | S3: 대 표 자 : | U3: ='1.종합기술제안서 정량평가 신청서'!B20 -> 홍길동
B4: 2. 수요기관 : | D4: ='1.종합기술제안서 정량평가 신청서'!B14 -> 한국토지주택공사 | L4: 5. 평가작성자 : | O4: ='1.종합기술제안서 정량평가 신청서'!B22 -> ㅇㅇㅇ | S4: 구내전화 : | U4: ='1.종합기술제안서 정량평가 신청서'!F22 -> 031) 0000-0000
B5: 3. 용 역 명 : | D5: ='1.종합기술제안서 정량평가 신청서'!B13 -> 0000 공사 건설사업관리용역 | L5: 6. 사업자등록번호 : | O5: ='1.종합기술제안서 정량평가 신청서'!B16 -> 111-12-34567
B6: 7. 연 락 처 : | D6: 전화 | E6: ='1.종합기술제안서 정량평가 신청서'!B21 -> 031) 0000-0000 | G6: 팩스 | H6: ='1.종합기술제안서 정량평가 신청서'!F21 -> 031) 0000-0000
A8: 구 분 | B8: 관리역량 신용도 [2.0] | D8: 기술역량 과업에 대한 전문성 [1.0] | F8: 기술역량 [1.0] | G8: 유사용역수행실적 [6.0] | I8: 전문가역량[40] | T8: 합계 [50] | U8: 사회적책임 [+2/-2] | W8: 총 점
I9: 참여기술인 | K9: 성 명 | L9: 분 야 | M9: 등 급 | N9: 해당분야 | P9: 직무분야 | R9: 교육훈련 및 기술자격 | S9: 소 계 [40]
B10: 영업정지,벌점 [1.6] | C10: 재정 건실도 [0.4] | D10: 개발활용실적 [0.3] | E10: 투자실적 [0.7] | F10: 용역평가 결과심사 [1.0] | G10: 금액 (백만원) | H10: 점 수 | N10: 설계, 시공, 안전관리, 품질관리, 공무, 시험, 검사, 건설사업관리, 유지관리, 감독, 사업관리, 공사감리, 설계감리, 안전점점, 정밀안전진단 유지관리,감독,감리 | U10: 인력 고용 [가점] | V10: 공정 거래 [감점]
N11: 년월 | O11: 점수 | P11: 년수 | Q11: 점수 | R11: 점수
A12: ='1.종합기술제안서 정량평가 신청서'!B19 -> (주)000 | B12: ='4. 업무정지, 벌점, 품질미흡'!F29 -> 0 | C12: ='5. 재정건실도'!F9 -> 0.12 | D12: ='6. 개발활용실적'!L31 -> 0.1233 | E12: ='7. 투자실적'!E11 -> 0 | F12: ='8. 용역평가결과'!E13 -> 3 | G12: ='10. 유사용역수행실적'!L24 -> 4502 | H12: ='10. 유사용역수행실적'!L27 -> 3.6 | I12: (평가대상자) | S12: =S13+((S14+S15+S16)/3)+S17 -> 33.2 | T12: =B12+C12+D12+E12+F12+H12+S12 -> 40.0433 | U12: ='14.인력고용'!P6 -> 2 | V12: ='15.공정거래'!G8 -> 0 | W12: =SUM(T12:V12) -> 42.0433
I13: 상주기술인 | J13: 책임 | K13: ='12. 참여기술인 경력사항'!C6 -> 홍길동 | L13: ='12. 참여기술인 경력사항'!D6 -> 건축 | M13: ='12. 참여기술인 경력사항'!E6 -> 중급 | N13: ='12. 참여기술인 경력사항'!I6 -> 220 | O13: =IF(N13>=11,10,IF(N13>=9,9,IF(N13>=7,8,IF(N13>=5,7,6)))) -> 10 | P13: ='12. 참여기술인 경력사항'!G6 -> 19.2 | Q13: =IF(P13>=15,6,IF(P13>=13,5.4,IF(P13>=11,4.8,IF(P13>=9,4.2,3.6)))) -> 6 | R13: 1 | S13: =O13+Q13+R13 -> 17
J14: 보조 | K14: ='12. 참여기술인 경력사항'!C7 -> 임꺽정 | L14: ='12. 참여기술인 경력사항'!D7 -> 건축 | M14: ='12. 참여기술인 경력사항'!E7 -> 고급 | N14: ='12. 참여기술인 경력사항'!I7 -> 6 | O14: =IF(N14>=48,10,IF(N14>=42,9,IF(N14>=36,8,IF(N14>=30,7,6)))) -> 6 | P14: ='12. 참여기술인 경력사항'!G7 -> 6 | Q14: =IF(P14>=12,6,IF(P14>=10,5.4,IF(P14>=8,4.8,IF(P14>=6,4.2,3.6)))) -> 4.2 | R14: 1 | S14: =O14+Q14+R14 -> 11.2
J15: 보조 | K15: ='12. 참여기술인 경력사항'!C9 -> 김두환 | L15: ='12. 참여기술인 경력사항'!D9 -> 기계 | M15: ='12. 참여기술인 경력사항'!E9 -> 중급 | N15: ='12. 참여기술인 경력사항'!I9 -> 5 | O15: =IF(N15>=48,10,IF(N15>=42,9,IF(N15>=36,8,IF(N15>=30,7,6)))) -> 6 | P15: ='12. 참여기술인 경력사항'!G9 -> 5 | Q15: =IF(P15>=12,6,IF(P15>=10,5.4,IF(P15>=8,4.8,IF(P15>=6,4.2,3.6)))) -> 3.6 | R15: 1 | S15: =O15+Q15+R15 -> 10.6
J16: 보조 | K16: ='12. 참여기술인 경력사항'!C10 -> 윤봉길 | L16: ='12. 참여기술인 경력사항'!D10 -> 토목 | M16: ='12. 참여기술인 경력사항'!E10 -> 초급 | N16: ='12. 참여기술인 경력사항'!I10 -> 2 | O16: =IF(N16>=48,10,IF(N16>=42,9,IF(N16>=36,8,IF(N16>=30,7,6)))) -> 6 | P16: ='12. 참여기술인 경력사항'!G10 -> 3 | Q16: =IF(P16>=12,6,IF(P16>=10,5.4,IF(P16>=8,4.8,IF(P16>=6,4.2,3.6)))) -> 3.6 | R16: 1 | S16: =O16+Q16+R16 -> 10.6
I17: 기술지원 | J17: 보조 | K17: ='12. 참여기술인 경력사항'!C11 -> 허 준 | L17: ='12. 참여기술인 경력사항'!D11 -> 건축 | M17: ='12. 참여기술인 경력사항'!E11 -> 특급 | N17: ='12. 참여기술인 경력사항'!I11 -> 116.66667 | O17: =IF(N17>=11,3,IF(N17>=9,2.7,IF(N17>=7,2.4,IF(N17>=5,2.1,1.8)))) -> 3 | P17: ='12. 참여기술인 경력사항'!$G$11 -> 9.5890411 | Q17: =IF(P17>=15,2,IF(P17>=13,1.8,IF(P17>=11,1.6,IF(P17>=9,1.4,1.2)))) -> 1.4 | R17: 1 | S17: =O17+Q17+R17 -> 5.4

Sheet 2.자기평가기술서(300억원미만~100억원이상)
A1: 2. 자기평가기술서(공사비 300억원 미만 ~ 100억원 이상)
B3: 1. 관리번호 : | D3: ='1.종합기술제안서 정량평가 신청서'!B12 -> R25DC00000000 | L3: 4. 회사명 : | O3: ='1.종합기술제안서 정량평가 신청서'!B19 -> (주)000 | S3: 대 표 자 : | U3: ='1.종합기술제안서 정량평가 신청서'!B20 -> 홍길동
B4: 2. 수요기관 : | D4: ='1.종합기술제안서 정량평가 신청서'!B14 -> 한국토지주택공사 | L4: 5. 평가작성자 : | O4: ='1.종합기술제안서 정량평가 신청서'!B22 -> ㅇㅇㅇ | S4: 구내전화 : | U4: ='1.종합기술제안서 정량평가 신청서'!F22 -> 031) 0000-0000
B5: 3. 용 역 명 : | D5: ='1.종합기술제안서 정량평가 신청서'!B13 -> 0000 공사 건설사업관리용역 | L5: 6. 사업자등록번호 : | O5: ='1.종합기술제안서 정량평가 신청서'!B16 -> 111-12-34567
B6: 7. 연 락 처 : | D6: 전화 | E6: ='1.종합기술제안서 정량평가 신청서'!B21 -> 031) 0000-0000 | G6: 팩스 | H6: ='1.종합기술제안서 정량평가 신청서'!F21 -> 031) 0000-0000
A8: 구 분 | B8: 관리역량 신용도 [2.0] | D8: 기술역량 과업에 대한 전문성 [1.0] | F8: 기술역량 [1.0] | G8: 유사용역수행실적 [6.0] | I8: 전문가역량[40] | T8: 합계 [50] | U8: 사회적책임 [+2/-2] | W8: 총 점
I9: 참여기술인 | K9: 성 명 | L9: 분 야 | M9: 등 급 | N9: 해당분야 | P9: 직무분야 | R9: 교육훈련 및 기술자격 | S9: 소 계 [40]
B10: 영업정지,벌점 [1.6] | C10: 재정 건실도 [0.4] | D10: 개발활용실적 [0.3] | E10: 투자실적 [0.7] | F10: 용역평가 결과심사 [1.0] | G10: 금액 (백만원) | H10: 점 수 | N10: 설계, 시공, 안전관리, 품질관리, 공무, 시험, 검사, 건설사업관리, 유지관리, 감독, 사업관리, 공사감리, 설계감리, 안전점점, 정밀안전진단 유지관리,감독,감리 | U10: 인력 고용 [가점] | V10: 공정 거래 [감점]
N11: 년월 | O11: 점수 | P11: 년수 | Q11: 점수 | R11: 점수
A12: ='1.종합기술제안서 정량평가 신청서'!B19 -> (주)000 | B12: ='4. 업무정지, 벌점, 품질미흡'!F29 -> 0 | C12: ='5. 재정건실도'!F9 -> 0.12 | D12: ='6. 개발활용실적'!L31 -> 0.1233 | E12: ='7. 투자실적'!E11 -> 0 | F12: ='8. 용역평가결과'!E13 -> 3 | G12: ='10. 유사용역수행실적'!L24 -> 4502 | H12: ='10. 유사용역수행실적'!L27 -> 3.6 | I12: (평가대상자) | S12: =S13+((S14+S15+S16)/3)+S17 -> 33.6 | T12: =B12+C12+D12+E12+F12+H12+S12 -> 40.4433 | U12: ='14.인력고용'!P6 -> 2 | V12: ='15.공정거래'!G8 -> 0 | W12: =SUM(T12:V12) -> 42.4433
I13: 상주기술인 | J13: 책임 | K13: ='12. 참여기술인 경력사항'!C6 -> 홍길동 | L13: ='12. 참여기술인 경력사항'!D6 -> 건축 | M13: ='12. 참여기술인 경력사항'!E6 -> 중급 | N13: ='12. 참여기술인 경력사항'!I6 -> 220 | O13: =IF(N13>=9,10,IF(N13>=7,9,IF(N13>=5,8,IF(N13>=3,7,6)))) -> 10 | P13: ='12. 참여기술인 경력사항'!G6 -> 19.2 | Q13: =IF(P13>=12,6,IF(P13>=10,5.4,IF(P13>=8,4.8,IF(P13>=6,4.2,3.6)))) -> 6 | R13: 1 | S13: =O13+Q13+R13 -> 17
J14: 보조 | K14: ='12. 참여기술인 경력사항'!C7 -> 임꺽정 | L14: ='12. 참여기술인 경력사항'!D7 -> 건축 | M14: ='12. 참여기술인 경력사항'!E7 -> 고급 | N14: ='12. 참여기술인 경력사항'!I7 -> 6 | O14: =IF(N14>=36,10,IF(N14>=28,9,IF(N14>=20,8,IF(N14>=12,7,6)))) -> 6 | P14: ='12. 참여기술인 경력사항'!G7 -> 6 | Q14: =IF(P14>=10,6,IF(P14>=8,5.4,IF(P14>=6,4.8,IF(P14>=4,4.2,3.6)))) -> 4.8 | R14: 1 | S14: =O14+Q14+R14 -> 11.8
J15: 보조 | K15: ='12. 참여기술인 경력사항'!C9 -> 김두환 | L15: ='12. 참여기술인 경력사항'!D9 -> 기계 | M15: ='12. 참여기술인 경력사항'!E9 -> 중급 | N15: ='12. 참여기술인 경력사항'!I9 -> 5 | O15: =IF(N15>=36,10,IF(N15>=28,9,IF(N15>=20,8,IF(N15>=12,7,6)))) -> 6 | P15: ='12. 참여기술인 경력사항'!G9 -> 5 | Q15: =IF(P15>=10,6,IF(P15>=8,5.4,IF(P15>=6,4.8,IF(P15>=4,4.2,3.6)))) -> 4.2 | R15: 1 | S15: =O15+Q15+R15 -> 11.2
J16: 보조 | K16: ='12. 참여기술인 경력사항'!C10 -> 윤봉길 | L16: ='12. 참여기술인 경력사항'!D10 -> 토목 | M16: ='12. 참여기술인 경력사항'!E10 -> 초급 | N16: ='12. 참여기술인 경력사항'!I10 -> 2 | O16: =IF(N16>=36,10,IF(N16>=28,9,IF(N16>=20,8,IF(N16>=12,7,6)))) -> 6 | P16: ='12. 참여기술인 경력사항'!G10 -> 3 | Q16: =IF(P16>=10,6,IF(P16>=8,5.4,IF(P16>=6,4.8,IF(P16>=4,4.2,3.6)))) -> 3.6 | R16: 1 | S16: =O16+Q16+R16 -> 10.6
I17: 기술지원 | J17: 보조 | K17: ='12. 참여기술인 경력사항'!C11 -> 허 준 | L17: ='12. 참여기술인 경력사항'!D11 -> 건축 | M17: ='12. 참여기술인 경력사항'!E11 -> 특급 | N17: ='12. 참여기술인 경력사항'!I11 -> 116.66667 | O17: =IF(N17>=9,3,IF(N17>=7,2.7,IF(N17>=5,2.4,IF(N17>=3,2.1,1.8)))) -> 3 | P17: ='12. 참여기술인 경력사항'!$G$11 -> 9.5890411 | Q17: =IF(P17>=15,2,IF(P17>=13,1.8,IF(P17>=11,1.6,IF(P17>=9,1.4,1.2)))) -> 1.4 | R17: 1 | S17: =O17+Q17+R17 -> 5.4

Sheet 3. 공동수급체결 협정현황
A1: 3. 공동수급협정 체결현황
A3: 구분 | B3: 업 체 명 | C3: 면허사항 | E3: 대표자 | F3: 전화 | G3: 출자비율 | I3: 비고
A4: 공동이행 | C4: 입찰공고시 요구한 면허사항 기재
A17: 분담이행 | B17: 업 체 명 | C17: 면허사항 | E17: 대표자 | F17: 전화 | G17: 분담내용 | I17: 비고
G18: 업종 | H18: 비율
C19: 입찰공고시 요구한 면허사항 기재
A27: 계
A29: 붙임 : 1. 공동수급협정서(나라장터 시스템으로 승인 처리한 출력물) 1부.
A30: 2. 단독이행시는 첨부물 필요없음.

Sheet 4. 업무정지, 벌점, 품질미흡
A1: 4. 영업정지(업무정지),벌점, 품질미흡
A3: 가. 영업정지(업무정지) 현황
A5: 구분(회사명) | B5: 영업정지 | C5: 영업정지 사유 | D5: 계(월) | E5: 1개월마다 | F5: 감점
A9: 소계 | F9: =SUM(F6:F8) -> 0
A11: 참여기술인 | B11: 업무정지 | C11: 업무정지 사유 | D11: 계(월) | E11: 1개월마다 | F11: 감점
A19: 소계 | F19: =SUM(F12:F18) -> 0
A20: 계 | F20: =F9+F19 -> 0
A21: 감점 | F21: =F20 -> 0
A24: 나. 벌점
A25: 회사명 또는 참여기술인 | B25: 벌점 | C25: 감점
A33: 계 | C33: =SUM(C26:C32) -> 0
A34: 감점 | C34: =C33 -> 0
A35: 첨부 : 관련협회 증명서 각1부
A40: 다. 품질 미흡
A42: 업체명 | B42: 품질구분 | C42: 발급내용 | D42: 발급일자 | E42: 가감점
A43: ㅇㅇ엔지니어링 | B43: 품질우수통지서 | C43: ㅇㅇ건설사업관리우수 | D43: 45078 | E43: 3
A44: ㅇㅇ엔지니어링 | B44: 품질미흡통지서 | C44: ㅇㅇ건설사업관리미흡 | D44: 45139 | E44: -3
A46: 소계 | E46: =SUM(E43:E45) -> 0
A49: 라. 평가점수 산출
A50: 구분 | C50: 감점
A51: 영업정지(업무정지) | C51: =F21 -> 0
A52: 벌 점 | C52: =C34 -> 0
A53: 품질미흡 | C53: =E46 -> 0
A54: 평 점 | C54: =16-C51-C52-C53 -> 16
A55: 통합평가방식 산출(10%환산) | C55: =C54*0.1 -> 1.6

Sheet 5. 재정건실도
A1: 5. 재정건실도
A2: 1. 회 사 명 :
A3: 2. 설 립 년 도 :
A4: (재정상태 건실도)
A5: 신용정보업체 | B5: 신용평가등급 | C5: 등급평가일 | D5: 등급유효기간 | E5: 재무결산기준일 | F5: 점수
B6: A- | F6: =IF(B6="","0",IF(OR(B6="AAA",B6="AA+",B6="AA0",B6="AA-",B6="A+",B6="A0",B6="A-",B6="BBB+",B6="BBB0",B6="BBB-"),"4",IF(OR(B6="BB+",B6="BB0",B6="BB-",B6="B+",B6="B0",B6="B-"),"3.5",IF(B6="CCC+","3","0")))) -> 4
E7: 지분율 | F7: 0.3
E8: 심사점수 | F8: =ROUND(F6*F7,2) -> 1.2
D9: 통합평가방식 산출 | E9: (10%환산) | F9: =F8*0.1 -> 0.12
A10: * 공동수급체 구성원사는 아래로 복사하여 작성(구성원사의 심사점수를 합산한 후 10% 환산)

Sheet 6. 개발활용실적
A1: 6. 개발·활용실적
A2: ○ 개발실적
A3: 구분 | B3: 인 정 기관명 | C3: 개발내용 | D3: 등록번호 | E3: 보호기간 | G3: 실적건수(건) | H3: 사용실적 가중치 | J3: 기술 개발자수 | K3: 기준점수 | L3: 해당 점수
G4: 실적금액(억원)
A5: 신기술 | B5: 국토부 | C5: ㅇㅇㅇㅇㅇㅇㅇㅇㅇ | D5: 제 ㅇㅇㅇ호 | E5: 37240 | F5: 38335 | G5: 20 | H5: 1 | J5: 1 | K5: 1 | L5: =K5*H5/J5 -> 1
G6: 3
A7: 신기술 | B7: 국토부 | C7: ㅇㅇㅇㅇㅇㅇㅇㅇㅇ | D7: 제 ㅇㅇㅇ호 | E7: 37240 | F7: 38335 | G7: 4 | H7: 0.9 | J7: 1 | K7: =J7*H7 -> 0.9 | L7: =K7*H7/J7 -> 0.81
G8: 26
A9: 신기술 | B9: 국토부 | C9: ㅇㅇㅇㅇㅇㅇㅇㅇㅇ | D9: 제 ㅇㅇㅇ호 | E9: 37240 | F9: 38335 | G9: 20 | H9: 1 | J9: 1 | K9: =J9*H9 -> 1 | L9: =K9*H9/J9 -> 1
G10: 75
K11: 소계 | L11: =SUM(L5:L10) -> 2.81
A13: ○ 활용실적
A14: 구분 | B14: 인정 기관명 | C14: 개발내용 | D14: 지정번호 (활용년도) | E14: 고시일자 | F14: 만료일자 | G14: 실적건수(건) | H14: 사용실적 가중치 | J14: - | K14: 기준 점수 | L14: 해당 점수
G15: 실적금액(억원)
A16: 신기술 | C16: ㅇㅇㅇㅇㅇㅇㅇㅇㅇ | D16: 제ㅇㅇㅇ호 (2007) | E16: 38460 | F16: 41381 | G16: 3 | H16: 1 | K16: 0.5 | L16: =K16*H16 -> 0.5
G17: 20
A18: 신기술 | C18: ㅇㅇㅇㅇㅇㅇㅇㅇㅇ | D18: 제ㅇㅇㅇ호 (2008) | E18: 39190 | F18: 41381 | G18: 3 | H18: 1 | K18: 0.5 | L18: =K18*H18 -> 0.5
G19: 10
K20: 소계 | L20: =SUM(L16:L19) -> 1
A21: 구분 | B21: 인정 기관명 | C21: 개발내용 | D21: 등록번호 (활용년도) | E21: 출원일자 | F21: 존속(예정)기간 만료일 | G21: 실적건수(건) | H21: 사용실적 가중치 | I21: 경과기간 | J21: 경과기간 가중치 | K21: 기준 점수 | L21: 해당 점수
G22: 실적금액(억원)
A23: 특허 | C23: ㅇㅇㅇㅇㅇㅇㅇㅇㅇ | D23: 10-1100000 (2013) | E23: 40100 | F23: 41381 | G23: 5 | H23: 1 | I23: 1 | J23: 0.5 | K23: 0.3 | L23: =K23*H23*J23 -> 0.15
G24: 10
A25: 특허 | C25: ㅇㅇㅇㅇㅇㅇㅇㅇㅇ | D25: 10-1100000 (2013) | E25: 40100 | F25: 41381 | G25: 5 | H25: 1 | I25: 1 | J25: 0.5 | K25: 0.3 | L25: =K25*H25*J25 -> 0.15
G26: 10
K27: 소계 | L27: =IF(SUM(L23:L26)>=1,1,SUM(L23:L26)) -> 0.3
K28: 합계 | L28: =L11+L20+L27 -> 4.11
K29: 지분율 | L29: 0.3
K30: 심사점수 | L30: =L28*L29 -> 1.233
H31: 통합평가방식 산출(10%환산) | L31: =IF(L30*0.1>=0.3,0.3,L30*0.1) -> 0.1233
A32: 붙임 : 1. 신기술지정서 및 실적확인서 사본("사실과과 상위없음" 인감 날인)제출 가능
A33: 2. 특허증 사본(등록원부 및 최초 출원인 확인용은 원본)
A34: 3. 실용신안등록증 사본(등록원부 및 최초 출원인 확인용은 원본)
A35: 4. 건설신기술의 선행기술조사 관련 서류(국토교통과학기술진흥윈에 등재된 자료 등)_ 필요시 제출
A36: 주 ) 1. 위의 서류 증서는 사본제출이 가능하며 사본제출 시 사실과상이없음 명시하고 사용인감 날인바람
A37: 2. 위의 서류를 첨부하지 않았을 경우 평가에서 제외함
A38: 3. 공동이행방식에 특허실적의 경우 업체별 특허실적에 참여지분율 곱하여 산정한 후 이를 합산하여 평가하며 , 최대1점까지 인정함

Sheet 7. 투자실적
A1: 7. 투자실적
A2: 1. 회사명(설립연도) :
A4: (투자실적)
A5: 최근 3개년도 기술개발투자금액 | E5: 실적비율(A/B)
A6: 1차년도(2000) | B6: 2차년도(2001) | C6: 3차년도(2002) | D6: 계(A) | E6: =D7/D10 -> 0.060644026
A7: 185700000 | B7: 125000000 | C7: 275000000 | D7: =SUM(A7:C7) -> 585700000 | E7: 지분율
A8: 최근 3개년 매출액 | E8: 0.3
A9: =A6 -> 1차년도(2000) | B9: =B6 -> 2차년도(2001) | C9: =C6 -> 3차년도(2002) | D9: 계(B) | E9: 심사비율
A10: 3251000000 | B10: 2157000000 | C10: 4250000000 | D10: =SUM(A10:C10) -> 9658000000 | E10: =E6*E8 -> 0.018193208
A13: 2. 회사명(설립연도) :
A15: (투자실적)
A16: 최근 3개년도 기술개발투자금액 | E16: 실적비율(A/B)
A17: 1차년도(2000) | B17: 2차년도(2001) | C17: 3차년도(2002) | D17: 계(A) | E17: =D18/D21 -> 0.060644026
A18: 185700000 | B18: 125000000 | C18: 275000000 | D18: =SUM(A18:C18) -> 585700000 | E18: 지분율
A19: 최근 3개년 매출액 | E19: 0.3
A20: =A17 -> 1차년도(2000) | B20: =B17 -> 2차년도(2001) | C20: =C17 -> 3차년도(2002) | D20: 계(B) | E20: 심사비율
A21: 3251000000 | B21: 2157000000 | C21: 4250000000 | D21: =SUM(A21:C21) -> 9658000000 | E21: =E17*E19 -> 0.018193208
D22: 합산비율 | E22: =E10+E21 -> 0.036386415
D23: 심사점수 | E23: =IF(E22="","",IF(E22>=1.5%,7,IF(E22>=1.25%,6.8,IF(E22>=1%,6.6,IF(E22>=0.75%,6.4,IF(E22>=0.5%,6.2,6)))))) -> 7
C24: 통합평가방식 산출 | D24: (10%환산) | E24: =E23*0.1 -> 0.7
A26: 붙임 : 1. 최근 3년간의 재무상태 검토보고서 1부
A27: 2. 최근 3년간의 정기결산서의 재무제표(손익계산서, 원가명세서, 합계잔액시산표)
A28: 3. 최근 3년간의 연구 및 인력개발에 관한 명세서 1부.
A29: 주 ) 1. 위의 서류는 원본 제출이 원칙이나 관련서류를 기제출한 업체는 사본도 가능함
A30: 2. 붙임의 서류를 첨부하지 않았을 경우 평가에서 제외함
A31: * 관련서류는 공인회계사법 제7조에 의하여 등록한 공인회계사가 확인.분석.검토하여야 함
A32: * 공동수급체 구성원사는 아래로 복사하여 작성(구성원사의 심사비율을 합산한 후 점수부여)

Sheet 8. 용역평가결과
A1: 8. 용역평가결과 심사
A3: 구 분 | B3: 용역명 | C3: 발주처 | D3: 용역실적금액 | E3: 용역평가점수 | F3: 비고 | G3: 입찰공고일 | H3: ='1.종합기술제안서 정량평가 신청서'!B15 -> 45658
A5: 회사명 | D5: 50000000 | E5: 89.5
D6: 150000000 | E6: 90
A10: 용역평가결과 점수 | E10: =(D5*E5+D6*E6+D7*E7+D8*E8+D9*E9)/SUM(D5:D9) -> 89.875
C11: 점수 | E11: =IF(E10="","",IF(E10>=89,10,IF(E10>=87,7,IF(E10>=85,4,IF(E10>=83,1,IF(E10<83,0)))))) -> 10
C12: 지분율 | E12: 0.3
C13: 심사점수 | E13: =E11*E12 -> 3
A15: 구 분 | B15: 용역명 | C15: 발주처 | D15: 용역실적금액 | E15: 용역평가점수 | F15: 비고
A17: 회사명 | D17: 50000000 | E17: 89.5
D18: 150000000 | E18: 90
A22: 용역평가결과 점수 | E22: =(D17*E17+D18*E18+D19*E19+D20*E20+D21*E21)/SUM(D17:D21) -> 89.875
C23: 점수 | E23: =IF(E22="","",IF(E22>=89,10,IF(E22>=87,7,IF(E22>=85,4,IF(E22>=83,1,IF(E22<83,0)))))) -> 10
C24: 지분율 | E24: 0.3
C25: 심사점수 | E25: =E23*E24 -> 3
C26: 통합평가방식 산출(10% 환산) | E26: =(E13+E25)*0.1 -> 0.6
A27: * 공동수급체 구성원사는 아래로 복사하여 작성(구성원사의 심사점수를 합산한 후 10% 환산)

Sheet 9. 교체빈도
A1: 13. 교체빈도
A2: 구분 | B2: 회사명 | D2: 교체빈도율 | E2: 점수 | F2: 지분율 | G2: 심사점수
A3: 건설사업관리 용역사업자 | D3: 0.04 | E3: =IF(D3="","",IF(D3>=20%,0,IF(D3>=15%,1,IF(D3>=10%,2,IF(D3>=5%,2.5,IF(D3<5%,3)))))) -> 3 | F3: 0.3 | G3: =E3*F3 -> 0.9
E4: =IF(D4="","",IF(D4>=20%,0,IF(D4>=15%,1,IF(D4>=10%,2,IF(D4>=5%,2.5,IF(D4<5%,3))))))
E5: =IF(D5="","",IF(D5>=20%,0,IF(D5>=15%,1,IF(D5>=10%,2,IF(D5>=5%,2.5,IF(D5<5%,3))))))
E6: =IF(D6="","",IF(D6>=20%,0,IF(D6>=15%,1,IF(D6>=10%,2,IF(D6>=5%,2.5,IF(D6<5%,3))))))
B7: 소계 | G7: =SUM(G3:G6) -> 0.9
A8: 참여기술자 | B8: 이름 | D8: 최근 1년간 교 체 건 수 | E8: 감점 | F8: 합계 | G8: 심사점수
B9: (책임) | E9: 0.25 | F9: =D9*E9 -> 0
B10: (건축) | E10: 0.25
B11: (안전) | E11: 0.25
B12: (토목) | E12: 0.25
B13: (기계) | E13: 0.25
B14: (기술지원 건축) | E14: 0.1
B15: (기술지원 토목) | E15: 0.1
B16: (기술지원 기계) | E16: 0.1
B17: 소계 | F17: =SUM(F9:F16) -> 0 | G17: =2-F17 -> 2
A18: 계 | G18: =G7+G17 -> 2.9
A20: (참여감리원전체를 대상)
A21: 감점 처리 방법 | B21: 상주기술자 | D21: 최근 1년간 교체 1회당 0.25점 감점
B22: 기술지원기술자 | D22: 최근 1년간 교체 1회당 0.1점 감점

Sheet 10. 유사용역수행실적
A1: 9. 용역수행실적
A2: 구 분 | C2: 발 주 청 | D2: 용 역 명 | E2: 건설사업관리기간 | G2: 전체일수 (기성실적기간) | H2: 최종기성 실적기간 | I2: 적용일수 | J2: 실적 (백만원) | K2: 가중치 | L2: 인정실적 (백만원)
E3: 실적마감일 | F3: 45660
E4: 실적시작일 | F4: 44563
E5: 착공일 | F5: 준공일(예정)
A6: 완 료 | B6: 설계와 시공단계를 포함한 건설사업관리 | C6: ㅇㅇㅇㅇㅇ시 | D6: ㅇㅇ사업 건설사업관리 | E6: 44621 | F6: 45261 | G6: =(F6-E6)+1 -> 641 | I6: =ROUND((IF(F6<$F$4,0,IF(E6>=$F$4,(F6-E6+1),(F6-$F$4+1)))),0) -> 641 | J6: 500 | K6: 1 | L6: =ROUNDDOWN(J6*(I6/G6)*K6,0) -> 500
D7: ㅇㅇ사업 건설사업관리 | E7: 44621 | F7: 45261 | G7: =(F7-E7)+1 -> 641 | I7: =ROUND((IF(F7<$F$4,0,IF(E7>=$F$4,(F7-E7+1),(F7-$F$4+1)))),0) -> 641 | J7: 1000 | K7: 1 | L7: =ROUNDDOWN(J7*(I7/G7)*K7,0) -> 1000
G8: =(F8-E8)+1 -> 1 | I8: =ROUND((IF(F8<$F$4,0,IF(E8>=$F$4,(F8-E8+1),(F8-$F$4+1)))),0) -> 0 | K8: 0 | L8: =ROUNDDOWN(J8*(I8/G8)*K8,0) -> 0
B9: 소계 | J9: =SUM(J6:J8) -> 1500 | L9: =SUM(L6:L8) -> 1500
B10: 시공단계의 건설사업관리 | D10: ㅇㅇ사업 건설사업관리 | E10: 44197 | F10: 45107 | G10: =(F10-E10)+1 -> 911 | I10: =ROUND((IF(F10<$F$4,0,IF(E10>=$F$4,(F10-E10+1),(F10-$F$4+1)))),0) -> 545 | J10: 1500 | K10: 1 | L10: =ROUNDDOWN(J10*(I10/G10)*K10,0) -> 897
D11: ㅇㅇ사업 감리 | E11: 44621 | F11: 45261 | G11: =(F11-E11)+1 -> 641 | I11: =ROUND((IF(F11<$F$4,0,IF(E11>=$F$4,(F11-E11+1),(F11-$F$4+1)))),0) -> 641 | J11: 500 | K11: 0.7 | L11: =ROUNDDOWN(J11*(I11/G11)*K11,0) -> 350
G12: =(F12-E12)+1 -> 1 | I12: =ROUND((IF(F12<$F$4,0,IF(E12>=$F$4,(F12-E12+1),(F12-$F$4+1)))),0) -> 0 | K12: 0 | L12: =ROUNDDOWN(J12*(I12/G12)*K12,0) -> 0
B13: 소계 | J13: =SUM(J10:J12)*0.4 -> 800 | L13: =SUM(L10:L12) -> 1247
A14: 합계 | L14: =SUM(L9+L13) -> 2747
A15: 진 행 중 | B15: 설계와 시공단계를 포함한 건설사업관리 | D15: ㅇㅇ사업 건설사업관리 | E15: 44621 | F15: 46022 | G15: =(H15-E15)+1 -> 671 | H15: 45291 | I15: =ROUND(IF(AND(H15<=$F$3,E15<=$F$4),H15-$F$4+1,IF(AND(H15<=$F$3,E15>=$F$4),H15-E15+1,IF(AND(H15>=$F$3,E15>=$F$4),$F$3-E15+1,IF(AND(H15>=$F$3,E15<=$F$4),$F$3-$F$4+1,)))),0) -> 671 | J15: 500 | K15: 1 | L15: =ROUNDDOWN(J15*(I15/G15)*K15,0) -> 500
D16: ㅇㅇ사업 건설사업관리 | E16: 44540 | F16: 46388 | G16: =(H16-E16)+1 -> 753 | H16: 45292 | I16: =ROUND(IF(AND(H16<=$F$3,E16<=$F$4),H16-$F$4+1,IF(AND(H16<=$F$3,E16>=$F$4),H16-E16+1,IF(AND(H16>=$F$3,E16>=$F$4),$F$3-E16+1,IF(AND(H16>=$F$3,E16<=$F$4),$F$3-$F$4+1,)))),0) -> 730 | J16: 300 | K16: 1 | L16: =ROUNDDOWN(J16*(I16/G16)*K16,0) -> 290
G17: =(H17-E17)+1 -> 1 | I17: =ROUND(IF(AND(H17<=$F$3,E17<=$F$4),H17-$F$4+1,IF(AND(H17<=$F$3,E17>=$F$4),H17-E17+1,IF(AND(H17>=$F$3,E17>=$F$4),$F$3-E17+1,IF(AND(H17>=$F$3,E17<=$F$4),$F$3-$F$4+1,)))),0) -> -44562 | K17: 0 | L17: =ROUNDDOWN(J17*(I17/G17)*K17,0) -> 0
B18: 소계 | J18: =SUM(J15:J17) -> 800 | L18: =SUM(L15:L17) -> 790
B19: 시공단계의 건설사업관리 | D19: ㅇㅇ사업 건설사업관리 | E19: 44621 | F19: 46022 | G19: =(H19-E19)+1 -> 611 | H19: 45231 | I19: =ROUND(IF(AND(H19<=$F$3,E19<=$F$4),H19-$F$4+1,IF(AND(H19<=$F$3,E19>=$F$4),H19-E19+1,IF(AND(H19>=$F$3,E19>=$F$4),$F$3-E19+1,IF(AND(H19>=$F$3,E19<=$F$4),$F$3-$F$4+1,)))),0) -> 611 | J19: 500 | K19: 1 | L19: =ROUNDDOWN(J19*(I19/G19)*K19,0) -> 500
D20: ㅇㅇ사업 감리 | E20: 44166 | F20: 46387 | G20: =(H20-E20)+1 -> 1187 | H20: 45352 | I20: =ROUND(IF(AND(H20<=$F$3,E20<=$F$4),H20-$F$4+1,IF(AND(H20<=$F$3,E20>=$F$4),H20-E20+1,IF(AND(H20>=$F$3,E20>=$F$4),$F$3-E20+1,IF(AND(H20>=$F$3,E20<=$F$4),$F$3-$F$4+1,)))),0) -> 790 | J20: 1000 | K20: 0.7 | L20: =ROUNDDOWN(J20*(I20/G20)*K20,0) -> 465
G21: =(H21-E21)+1 -> 1 | I21: =ROUND(IF(AND(H21<=$F$3,E21<=$F$4),H21-$F$4+1,IF(AND(H21<=$F$3,E21>=$F$4),H21-E21+1,IF(AND(H21>=$F$3,E21>=$F$4),$F$3-E21+1,IF(AND(H21>=$F$3,E21<=$F$4),$F$3-$F$4+1,)))),0) -> -44562 | K21: 0 | L21: =ROUNDDOWN(J21*(I21/G21)*K21,0) -> 0
B22: 소계 | J22: =SUM(J19:J21)*0.4 -> 600 | L22: =SUM(L19:L21) -> 965
A23: 합계 | L23: =SUM(L18+L22) -> 1755 | M23: 지분율
A24: 총계 | L24: =L14+L23 -> 4502 | M24: 0.3
A25: 심사실적 | L25: =ROUND(L24*M24,2) -> 1350.6
A26: 평 점 | L26: =IF(L25="","",IF(L25>=14000,60,IF(L25>=12000,54,IF(L25>=10000,48,IF(L25>=8000,42,IF(L25<8000,36)))))) -> 36
H27: 통합평가방식 산출(10%환산) | L27: =ROUND(L26*0.1,2) -> 3.6
A28: * 공동수급체 구성원사는 아래로 복사하여 작성(구성원사의 심사실적을 합산한 후 점수부여)
A30: *흰색 부분에 기재바랍니다.(색이 채워져 있는 부분은 자동 계산됨)
A31: ★ 실적증명서 등 증명서류의 해당사항에 표시(형광펜, 사인펜 등)하여 주시기 바랍니다.
A33: 붙임 | B33: 1. 발주처 실적증명서 1부.
B34: 2. 건설기술용역 실적 확인서 1부. (해당 건에 반드시 표시(연필, 형광펜 등))

Sheet 11. 참여기술인 자격사항
A1: 10. 참여기술인 자격사항
A3: 구분 | C3: 소속 (회사명) | D3: 이 름 | E3: 분야 | F3: 등 급 | G3: 자격명 | H3: 학력내용 | J3: 교 육 수료일자 | K3: 소속회사
H4: 최종학력 | I4: 졸업일 또는 학위취득일
A5: 상주기술인 | B5: 책임
B6: 보조
B7: 보조
B8: 보조
B9: 보조
B10: 보조
B11: 보조
A12: 기술지원기술인 | B12: 책임
B13: 보조
B14: 보조
B15: 보조
B16: 보조
B17: 보조
B18: 보조
B19: 보조
A22: 구 분
A23: 당해 전문분야의 기술사 또는 건축사
A24: 당해 전문분야의 기사
A25: 당해 전문분야의 산업기사
A27: * 비평가 대상 기술인는 비실명이며, 종합기술제안서자료를 제출할 필요가 없습니다.
A30: 붙임 1. 건설기술인 보유증명서 1부.

Sheet 12. 참여기술인 경력사항
B1: 11. 참여기술인 경력사항
A3: 구분 | C3: 성명 | D3: 분야 | E3: 등급 | F3: 직무분야 경력조사표 | H3: 해당분야 경력조사표
F5: 일수 | G5: 년수 | H5: 일수 | I5: 년 개월
A6: 상주 기술인 | B6: 책임 | C6: 홍길동 | D6: 건축 | E6: 중급 | F6: ='12-1. 참여기술인 해당(직무)분야경력'!G43 -> 7000 | G6: 19.2 | H6: ='12-1. 참여기술인 해당(직무)분야경력'!G34 -> 6600 | I6: 220
B7: 분야 | C7: 임꺽정 | D7: 건축 | E7: 고급 | F7: 5000 | G7: 6 | H7: =F7 -> 5000 | I7: 6
B8: 분야 | C8: 이순신 | D8: 안전 | E8: 특급 | F8: 7000 | G8: 7 | H8: =F8 -> 7000 | I8: 7
B9: 분야 | C9: 김두환 | D9: 기계 | E9: 중급 | F9: 4500 | G9: 5 | H9: =F9 -> 4500 | I9: 5
B10: 분야 | C10: 윤봉길 | D10: 토목 | E10: 초급 | F10: 5500 | G10: 3 | H10: =F10 -> 5500 | I10: 2
A11: 기술지원기술인 | C11: 허 준 | D11: 건축 | E11: 특급 | F11: 3500 | G11: =F11/365 -> 9.5890411 | H11: =F11 -> 3500 | I11: =H11/30 -> 116.66667
A14: * 평가대상 기술인에 대하여 작성
A16: 붙임 1.건설기술자 경력증명서(원본) 1부.

Sheet 12-1. 참여기술인 해당(직무)분야경력
A1: 11-1. 해당분야 경력현황
A2: ★ 경력증명서의 용역명 등 해당사항에 표시(형광펜, 사인펜 등)하여 주시기 바랍니다.
A3: 이 름 | B3: 생년월일 | C3: 용역명 | D3: 발주처 | E3: 참여기간 | G3: 인정일수 | I3: 용역완수일
A4: ooo | B4: 79.03.01 | E4: 23012 | F4: 23651 | G4: =F4-E4+1 -> 640
E5: 23680 | F5: 24226 | G5: =IF(E5>F4,F5-E5+1,F5-F4) -> 547
E6: 27061 | F6: 27363 | G6: =IF(E6>F5,F6-E6+1,F6-F5) -> 303
E7: 27364 | F7: 27728 | G7: =IF(E7>F6,F7-E7+1,F7-F6) -> 365
E8: 27729 | F8: 28125 | G8: =IF(E8>F7,F8-E8+1,F8-F7) -> 397
E9: 28126 | F9: 28490 | G9: =IF(E9>F8,F9-E9+1,F9-F8) -> 365
E10: 28491 | F10: 28855 | G10: =IF(E10>F9,F10-E10+1,F10-F9) -> 365
E11: 28856 | F11: 29189 | G11: =IF(E11>F10,F11-E11+1,F11-F10) -> 334
E12: 29190 | F12: 29586 | G12: =IF(E12>F11,F12-E12+1,F12-F11) -> 397
E13: 29587 | F13: 30316 | G13: =IF(E13>F12,F13-E13+1,F13-F12) -> 730
E14: 32874 | F14: 33969 | G14: =IF(E14>F13,F14-E14+1,F14-F13) -> 1096
E15: 33970 | F15: 34395 | G15: =IF(E15>F14,F15-E15+1,F15-F14) -> 426 | I15: 34395
E16: 34060 | F16: 34120 | G16: =IF(E16>F15,F16-E16+1,F16-F15) -> -275 | H16: 삭제 | I16: 34120 | J16: 용역완수일이 1994-03-02 이전이므로 중첩되는 용역임
E17: 34121 | F17: 34313 | G17: =IF(E17>F16,F17-E17+1,F17-F16) -> 193 | H17: 삭제 | I17: 34313
E18: 34121 | F18: 34365 | G18: =IF(E18>F17,F18-E18+1,F18-F17) -> 52 | H18: 삭제 | I18: 34365
E19: 34396 | F19: 35060 | G19: =IF(E19>F18,F19-E19+1,F19-F18) -> 665
A34: 계 | B34: 해당분야경력 | G34: =SUM(G4:G33) -> 6600
A37: 5-2. 직무분야 경력현황
A39: 이 름 | B39: 생년월일 | C39: 직무분야 | D39: 전문분야 | G39: 인정일수
A40: ooo | B40: 79.03.01 | C40: 건축 | D40: 건축시공 | G40: 6000
C41: 건축 | D41: 건축구조 | G41: 1000
A43: 계 | B43: 직무분야경력 | G43: =SUM(G40:G42) -> 7000
A45: * 주의사항
A46: - 해당분야 경력은 경력증명서(관련협회) 상에 기재된 근무기간에서 중복일수를 제외한 실제 참여기간을 입력하여 주시기바랍니다.

Sheet 13. 교육훈련
A1: 12. 교육훈련
F2: 입찰공고일 : | G2: ='1.종합기술제안서 정량평가 신청서'!B15 -> 45658
F3: 최근 3년 : | G3: =G2-1095+1 -> 44564
B5: 교육 훈련 내역
B6: 이름 | C6: 교육훈련기관 | D6: 교육종류 | E6: 교육기간 | F6: 평점 | G6: 관련 법적 근거
G7: 예) 건기법 제20조 등
B14: 계
A15: * 교육수료증 상에 건설기술진흥법 제20조 등 또는 관련 교육기관이 건설기술법 등에 지정된 기관임을 확인할 수 있는 증거서류를 반드시 첨부하여야 함
A16: * 교육종료일이 입찰공고 최근 3년에서 입찰공고일 사이에 있는 경우에 한하여 인정함.

Sheet 14.인력고용
A1: 13. 인력고용(건설기술인 신규고용률)
B3: * 회사명 : | D3: ='[1]3.공동수급협정 체결현황'!B4 -> 회사명
B4: 최근 1년간 월 평균 고용인원 | O4: 적용비율 | P4: 점수
B5: 12개월전 | C5: 11개월전 | D5: 10개월전 | E5: 9개월전 | F5: 8개월전 | G5: 7개월전 | H5: 6개월전 | I5: 5개월전 | J5: 4개월전 | K5: 3개월전 | L5: 2개월전 | M5: 1개월전 | N5: 평균고용인원(A)
B6: 100 | C6: 100 | D6: 100 | E6: 100 | F6: 102 | G6: 101 | H6: 100 | I6: 100 | J6: 100 | K6: 100 | L6: 102 | M6: 101 | N6: =ROUNDUP(SUM(B6:M6)/12,0) -> 101 | O6: =N9/N6 -> 0.03960396 | P6: =IF(O6="","",IF(O6>=3%,2,IF(O6>=2%,1.5,IF(E33>=1%,1)))) -> 2
B7: 최근 1년간 신규 건설기술인 고용인원
B8: 12개월전 | C8: 11개월전 | D8: 10개월전 | E8: 9개월전 | F8: 8개월전 | G8: 7개월전 | H8: 6개월전 | I8: 5개월전 | J8: 4개월전 | K8: 3개월전 | L8: 2개월전 | M8: 1개월전 | N8: 평균고용인원(C)
B9: 1 | C9: 0 | D9: 1 | E9: 1 | F9: 1 | G9: 0 | H9: 0 | I9: 0 | J9: 0 | K9: 0 | L9: 0 | M9: 0 | N9: =SUM(B9:M9) -> 4
O10: 지분율 | P10: 0.3
O11: 심사점수 | P11: =ROUND(P6*P10,2) -> 0.6
B12: * 회사명 :
B13: 최근 1년간 월 평균 고용인원 | O13: 적용비율 | P13: 점수
B14: 12개월전 | C14: 11개월전 | D14: 10개월전 | E14: 9개월전 | F14: 8개월전 | G14: 7개월전 | H14: 6개월전 | I14: 5개월전 | J14: 4개월전 | K14: 3개월전 | L14: 2개월전 | M14: 1개월전 | N14: 평균고용인원(A)
B15: 100 | C15: 100 | D15: 100 | E15: 100 | F15: 102 | G15: 101 | H15: 100 | I15: 100 | J15: 100 | K15: 100 | L15: 102 | M15: 101 | N15: =ROUNDUP(SUM(B15:M15)/12,0) -> 101 | O15: =N18/N15 -> 0.03960396 | P15: =IF(O15="","",IF(O15>=3%,2,IF(O15>=2%,1.5,IF(E42>=1%,1)))) -> 2
B16: 최근 1년간 신규 건설기술인 고용인원
B17: 12개월전 | C17: 11개월전 | D17: 10개월전 | E17: 9개월전 | F17: 8개월전 | G17: 7개월전 | H17: 6개월전 | I17: 5개월전 | J17: 4개월전 | K17: 3개월전 | L17: 2개월전 | M17: 1개월전 | N17: 평균고용인원(C)
B18: 1 | C18: 0 | D18: 1 | E18: 1 | F18: 1 | G18: 0 | H18: 0 | I18: 0 | J18: 0 | K18: 0 | L18: 0 | M18: 0 | N18: =SUM(B18:M18) -> 4
O19: 지분율 | P19: 0.3
O20: 심사점수 | P20: =ROUND(P15*P19,2) -> 0.6
O21: 합산점수 | P21: =P11+P20 -> 1.2
B22: 주) 신규 건설기술인은 건설기술인 경력관리 수탁기관의 경력증명서에 최초로 입사등록된 자에 한한다.
B23: * 공동수급체 구성원사는 아래로 복사하여 작성
B25: 붙임 | C25: 1. 건설기술인 신규고용률 확인서 1부.
C26: 2. 신규기술인 관련협회 경력확인서 1부.
C27: 3. 기타 증빙자료(기술인경력증명서, 4대보험가입증명서 등) 1부.
B28: * 공동수급체 구성원사는 아래로 복사하여 작성(구성원사의 심사점수를 합산)

Sheet 15.공정거래
A1: 14. 공정거래(공동도급업체)
A2: 1. 회 사 명 :
A3: 구분 | B3: 사건명 | C3: 사건번호 | D3: 의결일자 | E3: 행위유형 | F3: 조치정도 | G3: 점수(감점) | H3: 입찰공고일 : | I3: ='1.종합기술제안서 정량평가 신청서'!B15 -> 45658
A4: 1 | G4: =ROUNDUP(E4,0)*0.2 -> 0
A5: 2 | G5: =ROUNDUP(E5,0)*0.2 -> 0
A6: 3 | G6: =ROUNDUP(E6,0)*0.2 -> 0
A7: 계 | G7: =SUM(G4:G6) -> 0
A8: 감점 | G8: =ROUND(G7,2) -> 0
A10: 붙임 | B10: 1. 법 위반 사실확인서(공정거래위원회)
B11: 2. [부표] Ⅱ - 6 -나 - 4) 에 따른 서류

Sheet 16.평가의공정성적정성저해,제안서작성위반
A2: 15. 평가의 공정성·적정성 저해
A3: 감점사유 | B3: 감점 | C3: 감점기간 | D3: 비고
A11: 계
A12: 감점
A14: 15-1. 제안서 작성위반
A15: 감점사유 | B15: 감점 | C15: 비고
A23: 계
A24: 감점

Sheet 17.주요벌점
A2: 16. 주요벌점
A3: 회사명 | B3: 벌점 | C3: 감점사유 | D3: 감점
A11: 계
A12: 감점
A13: 첨부 : 관련협회 증명서 각1부

Sheet 18.LH등퇴직자참여여부
A1: 17. LH 등 퇴직자 재직 현황 확인서
A3: □ 건 명 : OOOOO 용역 (입찰공고일 : 0000.00.00일)
A4: □ 업체명 : ㈜○○엔지니어링 대표이사 ○○○
A5: ㈜△△엔지니어링 대표이사 △△△
A6: ㈜☆☆엔지니어링 대표이사 ☆☆☆
A8: 순번 | B8: 업체명 | C8: 사업자등록번호 | D8: 입찰업체 입사일 | E8: 現.직위 | F8: 성명 | G8: 주민등록번호 | H8: LH 등 퇴직시 직급 | I8: LH 퇴직일 | J8: 전관여부 | K8: 3급참여 | L8: 휴대전화번호 | M8: 개인정보제공동의 | N8: 감점
A9: 1 | B9: ㈜○○엔지니어링 | C9: 000-00-00000 | D9: 2023-08-00 | E9: 부사장 | F9: ☆☆☆ | G9: 000000-1****** | H9: 1급 | I9: 2023-07-00 | J9: ○ | K9: - | L9: 010-0000-0000 | M9: 동의 | N9: 10
A10: 2 | B10: ㈜○○엔지니어링 | C10: 000-00-00000 | D10: 2019-08-00 | E10: 전무 | F10: △△△ | G10: 000000-2****** | H10: 2급 | I10: 2019-07-00 | J10: × | K10: - | L10: 010-0000-0000 | M10: 동의
A11: 3 | B11: ㈜○○엔지니어링 | C11: 000-00-00000 | D11: 2023-01-00 | E11: 상무 | F11: ◻◻◻ | G11: 000000-1****** | H11: 3급 | I11: 2022-12-00 | J11: ○ | K11: ○ | L11: 010-0000-0000 | N11: 5
A12: 4 | B12: ㈜△△엔지니어링 | C12: 000-00-00000 | D12: 2022-08-00 | E12: 이사 | F12: ▽▽▽ | G12: 000000-1****** | H12: 3급 | I12: 2022-07-00 | J12: ○ | K12: ○ | L12: 010-0000-0000 | M12: 동의 | N12: 5
A13: 5 | B13: ㈜△△엔지니어링 | C13: 000-00-00000 | D13: 2022-01-00 | E13: 고문 | F13: ◊◊◊ | G13: 000000-1****** | H13: 3급 | I13: 2021-12-00 | J13: ○ | K13: × | L13: 010-0000-0000
A14: 6 | B14: ㈜△△엔지니어링 | C14: 000-00-00000 | D14: 2023-01-00 | E14: 부장 | F14: ◦◦◦ | G14: 000000-1****** | H14: 3급 | I14: 2020-12-00 | J14: × | K14: ○ | L14: 010-0000-0000
A15: 7
A16: 8
A17: 9
A18: 10
A19: 11
A20: 12
A21: 13
A22: 소계 | N22: =SUM(N9:N21) -> 20
A23: 적용 | N23: 10
A24: * 정량평가 자기평가표 제출시 한글양식으로 작성한 서류와 별도로 본 엑셀양식을 포함하여야 함.

Sheet 19. 업무중첩도
A1: 18. 업무중첩도
A2: 구분 | B2: 이 름 | D2: 용 역 명 | E2: 용역기간 | F2: 건수
A3: 책임기술인
A6: 상주기술인
A11: 기술지원기술인
A17: 계
A19: * 업무중첩도 참여기술자수에 따라 나누어 계산하지 않음

Sheet 20. 서약서
A1: 19. 서 약 서
A3: 관리번호
A5: 용 역 명
A7: 입찰일시
A9: 본 업체는 귀 청에서 발주하는 상기용역의 사업수행능력 평가자료를
A10: 제출함에 있어 평가자료의 허위기재 또는 부실한 자료작성 및 중대한
A11: 오류 (제출한 평가자료중 입찰공고일 기준하여 상주기술인의 이중배치
A12: 기술지원기술인의 당해용역 포함 10개이상의 현장배치, 부정당업자 제재
A13: 및 부실벌점 등 평가점수와 중대한 관계가 있는 서류에 하자가 발생할
A14: 경우)로 인하여 초래되는 평가상의 불이익은 물론 평가대상에서 제외,
A15: 입찰참가 대상에서 제외 등 귀 청의 어떠한 처분에도 이의를 제기하지
A16: 않을 것임을 서약합니다.
D20: 2024. . .
C24: 주 소
C26: 업체명
C28: 대표자 인
A33: 조달청장 귀하

Sheet 21. 참여기술인 동의서
A1: 20. 참여기술인 동의서
A4: 본인은 0000 수요 " 0000000 건설사업관리용역"의 사업수행능력평가에
A5: 건설사업관리기술인로 참여하는 것에 동의하며, 건설사업관리기술인으로 투입될 경우
A6: 관계법령에 따라 성실히 건설사업관리업무를 수행할 것임을 확인합니다.
B8: 참여기술인 | D8: 서명(또는 인) | F8: 참여기술인 | H8: 서명(또는 인)
B9: 강 o o | F9: 김 o o
D16: 2024. . .
C20: 주 소
C22: 업체명
C24: 대표자 인
A29: 조달청장 귀하

Sheet 22. 확인서
A1: 21. 확 인 서
A3: 관리번호
A5: 용 역 명
A7: 수요기관명
A9: 본 업체(인)는 0000 수요 " 0000000 민간투자(BTL)시설사업 건설사업관리용역"
A10: 용역업자 선정과 관련하여 동 사업에 참여한 사업시행자(계열사 포함)와
A11: 아무런 관련이 없음을 확인하며, 건설사업관리용역사업자로 선정될 경우 관계법령에 따라
A12: 성실히 건설사업관리업무를 수행할 것임을 확인합니다.
D20: 2024. . .
C24: 주 소
C26: 업체명
C28: 대표자 인
A33: 조달청장 귀하

Sheet --------
A1: Sheet1 | C1: FALSE
A2: 최초pq작성자료-설계(누원중기준).xls
A3: C:\PROGRAM FILES\MICROSOFT OFFICE\OFFICE\xlstart\Book1. | C3: **Auto and On Sheet Starts Here**
A4: #N/A | C4: FALSE
C5: #NAME?
C6: =#N/A -> #N/A
A7: Classic.Poppy by VicodinES | C7: #NAME?
A8: With Lord Natas | C8: #NAME?
A9: An Excel Formula Macro Virus (XF.Classic) | C9: #NAME?
A10: Hydrocodone/APAP 10-650 For Your Computer | C10: FALSE
A11: (C) The Narkotic Network 1998 | C11: FALSE
C12: FALSE
C13: FALSE
A14: **Simple Payload** | C14: #NAME?
A15: FALSE
A16: FALSE
A17: #NAME? | C17: **Set Our Values and Paths**
C18: #NAME?
C19: #NAME?
A20: **Add New Workbook, Infect It, Save It As Book1.xls** | C20: #NAME?
A21: #NAME? | C21: #NAME?
A22: #NAME? | C22: #NAME?
A23: =#N/A -> #N/A | C23: #NAME?
A24: #NAME?
A25: #NAME?
A26: FALSE | C26: **Infect Workbook**
A27: FALSE | C27: FALSE
A28: FALSE | C28: #NAME?
A29: FALSE | C29: =#N/A -> #N/A
A30: FALSE | C30: #NAME?
A31: FALSE | C31: #NAME?
A32: FALSE | C32: FALSE
A33: FALSE | C33: FALSE
A34: FALSE | C34: FALSE
A35: FALSE | C35: #NAME?
A36: FALSE | C36: #NAME?
A37: FALSE
A38: FALSE
A39: FALSE | C39: #NAME?
A40: FALSE | C40: FALSE
A41: #NAME? | C41: #NAME?
