Workbook
Name _: [1]도면자료제출일정!#REF!
Name ___AAA1: ROUND([0]!___AAA1*0.0254,3)
Name ___aaa2: ROUND([0]!___aaa2*0.0254,3)
Name ___BBB1: ROUND([0]!___BBB1*0.0254,3)
Name ___JJ21: [3]중기일위대가!$J$25
Name ___JK21: [3]중기일위대가!$K$25
Name ___JN21: [3]중기일위대가!$I$25
Name ___M009: ROUND([0]!___M009*0.0254,3)
Name ___NEW1: ROUND([0]!___NEW1*0.0254,3)
Name ___NEW2: ROUND([0]!___NEW2*0.0254,3)
Name ___NEW3: ROUND([0]!___NEW3*0.0254,3)
Name ___NEW5: ROUND([0]!___NEW5*0.0254,3)
Name __a1: #REF!
Name __a2: #REF!
Name __A20000: #REF!
Name __a3: #REF!
Name __AAA1: ROUND([0]!__AAA1*0.0254,3)
Name __aaa2: ROUND([0]!__aaa2*0.0254,3)
Name __AAA204: '[5]3층LOAD'!#REF!
Name __alm1: #REF!
Name __alm2: #REF!
Name __BBB1: ROUND([0]!__BBB1*0.0254,3)
Name __CDT2: #REF!
Name __D2: [6]Sheet5!#REF!
Name __D3: [6]Sheet5!#REF!
Name __D4: [6]Sheet5!#REF!
Name __D5: [6]Sheet5!#REF!
Name __DOG1: #REF!
Name __DOG2: #REF!
Name __DOG22: #REF!
Name __DOG3: #REF!
Name __DOG33: #REF!
Name __DOG4: #REF!
Name __IL1: #REF!
Name __JJ21: [3]중기일위대가!$J$25
Name __JK21: [3]중기일위대가!$K$25
Name __JN21: [3]중기일위대가!$I$25
Name __M009: ROUND([0]!__M009*0.0254,3)
Name __NEW1: ROUND([0]!__NEW1*0.0254,3)
Name __NEW2: ROUND([0]!__NEW2*0.0254,3)
Name __NEW3: ROUND([0]!__NEW3*0.0254,3)
Name __NEW5: ROUND([0]!__NEW5*0.0254,3)
Name __PI48: #REF!
Name __PI60: #REF!
Name __RO110: #REF!
Name __RO22: #REF!
Name __RO35: #REF!
Name __RO45: #REF!
Name __RO60: #REF!
Name __RO80: #REF!
Name __ST1: #N/A
Name __SUM1: [7]EP0618!#REF!
Name __SUM10: [7]EP0618!#REF!
Name __SUM11: [7]EP0618!#REF!
Name __SUM12: [7]EP0618!#REF!
Name __SUM13: [7]EP0618!#REF!
Name __SUM14: [7]EP0618!#REF!
Name __SUM15: [7]EP0618!#REF!
Name __SUM16: [7]EP0618!#REF!
Name __SUM17: [7]EP0618!#REF!

Sheet 공종리스트
A1: 공 종 리 스 트
A2: 공사명 : 청도학생수련원 본관동 보수 소방공사
A3: No | B3: 공 종 명 | C3: 단위 | D3: 수량 | E3: 재 료 비 | G3: 노 무 비 | I3: 경 비 | K3: 합 계 | L3: 비고
E4: 단 가 | F4: 금 액 | G4: 단 가 | H4: 금 액 | I4: 단 가 | J4: 금 액
A5: 0101 | B5: 스프링클러 설비 공사 | C5: 식 | D5: 1 | I5: =내역서!J64 -> 0 | J5: =D5*I5 -> 0 | K5: =F5+H5+J5 -> 0 | M5: 0110 | N5: 011001 | P5: 1 | Q5: =D5*내역서!Q64 -> 0 | R5: =D5*내역서!R64 -> 0 | S5: =D5*내역서!S64 -> 0 | T5: =D5*내역서!T64 -> 0 | U5: =D5*내역서!U64 -> 0 | V5: =D5*내역서!V64 -> 0 | W5: =D5*내역서!W64 -> 0 | X5: =D5*내역서!X64 -> 0 | Y5: =D5*내역서!Y64 -> 0 | Z5: =D5*내역서!Z64 -> 0 | AA5: =D5*내역서!AA64 -> 0 | AB5: =D5*내역서!AB64 -> 0 | AC5: =D5*내역서!AC64 -> 0 | AD5: =D5*내역서!AD64 -> 0 | AE5: =D5*내역서!AE64 -> 0 | AF5: =D5*내역서!AF64 -> 0 | AG5: =D5*내역서!AG64 -> 0 | AH5: =D5*내역서!AH64 -> 0 | AI5: =D5*내역서!AI64 -> 0 | AJ5: =D5*내역서!AJ64 -> 0 | AK5: =D5*내역서!AK64 -> 0 | AL5: =D5*내역서!AL64 -> 0 | AM5: =D5*내역서!AM64 -> 0 | AN5: =D5*내역서!AN64 -> 0 | AO5: =D5*내역서!AO64 -> 0 | AP5: =D5*내역서!AP64 -> 0 | AQ5: =D5*내역서!AQ64 -> 0 | AR5: =D5*내역서!AR64 -> 0 | AS5: =D5*내역서!AS64 -> 0 | AT5: =D5*내역서!AT64 -> 0 | AU5: =D5*내역서!AU64 -> 0
A6: 0102 | B6: 철거 배관 공사 | C6: 식 | D6: 1 | I6: =내역서!J84 -> 0 | J6: =D6*I6 -> 0 | K6: =F6+H6+J6 -> 0 | M6: 0110 | N6: 011001 | P6: 1 | Q6: =D6*내역서!Q65 -> 0 | R6: =D6*내역서!R65 -> 0 | S6: =D6*내역서!S65 -> 0 | T6: =D6*내역서!T65 -> 0 | U6: =D6*내역서!U65 -> 0 | V6: =D6*내역서!V65 -> 0 | W6: =D6*내역서!W65 -> 0 | X6: =D6*내역서!X65 -> 0 | Y6: =D6*내역서!Y65 -> 0 | Z6: =D6*내역서!Z65 -> 0 | AA6: =D6*내역서!AA65 -> 0 | AB6: =D6*내역서!AB65 -> 0 | AC6: =D6*내역서!AC65 -> 0 | AD6: =D6*내역서!AD65 -> 0 | AE6: =D6*내역서!AE65 -> 0 | AF6: =D6*내역서!AF65 -> 0 | AG6: =D6*내역서!AG65 -> 0 | AH6: =D6*내역서!AH65 -> 0 | AI6: =D6*내역서!AI65 -> 0 | AJ6: =D6*내역서!AJ65 -> 0 | AK6: =D6*내역서!AK65 -> 0 | AL6: =D6*내역서!AL65 -> 0 | AM6: =D6*내역서!AM65 -> 0 | AN6: =D6*내역서!AN65 -> 0 | AO6: =D6*내역서!AO65 -> 0 | AP6: =D6*내역서!AP65 -> 0 | AQ6: =D6*내역서!AQ65 -> 0 | AR6: =D6*내역서!AR65 -> 0 | AS6: =D6*내역서!AS65 -> 0 | AT6: =D6*내역서!AT65 -> 0 | AU6: =D6*내역서!AU65 -> 0
A7: 010301 | B7: 학생객실 소방설비공사 | C7: 식 | D7: 1 | J7: =D7*I7 -> 0 | K7: =F7+H7+J7 -> 0
A8: 010302 | B8: 지도자숙소 소방설비공사 | C8: 식 | D8: 1 | J8: =D8*I8 -> 0 | K8: =F8+H8+J8 -> 0
A9: 010303 | B9: 지도자숙소 유도등설비공사 | C9: 식 | D9: 1 | J9: =D9*I9 -> 0 | K9: =F9+H9+J9 -> 0
A10: 010304 | B10: 소방설비철거공사 | C10: 식 | D10: 1 | J10: =D10*I10 -> 0 | K10: =F10+H10+J10 -> 0
B11: 합 계 | C11: 식 | D11: 1 | F11: =SUM(F5:F10) -> 0 | H11: =SUM(H5:H10) -> 0 | J11: =SUM(J5:J6) -> 0 | K11: =F11+H11+J11 -> 0 | N11: 01 | P11: 1 | Q11: 33905 | R11: 0 | S11: 0 | T11: 0 | U11: 0 | V11: 0 | W11: 1353437 | X11: 0 | Y11: 0 | Z11: 0 | AA11: 0 | AB11: -3805600 | AC11: 0 | AD11: 0 | AE11: 0 | AF11: 0 | AG11: 0 | AH11: 0 | AI11: 0 | AJ11: 0 | AK11: 0 | AL11: 0 | AM11: 0 | AN11: 0 | AO11: 0 | AP11: 0 | AQ11: 0 | AR11: 0 | AS11: 0 | AT11: 0 | AU11: 0

Sheet 내역서
A1: 내 역 서
A2: 공사명 : 청도학생수련원 본관동 보수 소방공사
A3: 품 명 | B3: 규 격 | C3: 단위 | D3: 수 량 | E3: 재 료 비 | G3: 노 무 비 | I3: 경 비 | K3: 합 계 | L3: 비고
E4: 단 가 | F4: 금 액 | G4: 단 가 | H4: 금 액 | I4: 단 가 | J4: 금 액 | M4: 손료요율 | N4: 손료구분 | O4: 적용구분 | P4: 합계구분 | Q4: 기계경비 | R4: 운반비 | S4: 작업부산물 | T4: 관급 | U4: 외주비 | V4: 장비비 | W4: 폐기물처리비 | X4: 가설비 | Y4: 잡비제외분 | Z4: 사급자재대 | AA4: 관급자재대 | AB4: 작업부산물1 | AC4: 도급자관급자재대 | AD4: 사용자항목3 | AE4: 사용자항목4 | AF4: 사용자항목5 | AG4: 사용자항목6 | AH4: 사용자항목7 | AI4: 사용자항목8 | AJ4: 사용자항목9 | AK4: 사용자항목10 | AL4: 사용자항목11 | AM4: 사용자항목12 | AN4: 사용자항목13 | AO4: 사용자항목14 | AP4: 사용자항목15 | AQ4: 품질관리비 | AR4: 석면분담금 | AS4: 임금채권부담금 | AT4: 소방시설공사업 배상책임공제 | AU4: 간접재료비 | AV4: 품목구분 | AW4: 조달코드 | AX4: 구분
A5: 1. 스프링클러 설비 공사
A6: 스테인레스강관(2.8T) | B6: KS D 3576 SCH10SD, D25 | C6: M | D6: 53 | K6: =F6+H6+J6 -> 0 | N6: ="04" -> 04 | O6: 기계경비 | P6: 1 | Q6: =IF(O6="기계경비", J6, 0) -> 0 | R6: =IF(O6="운반비", K6, 0) -> 0 | S6: =IF(O6="작업부산물", F6, 0) -> 0 | T6: =IF(O6="관급", F6, 0) -> 0 | U6: =IF(O6="외주비", J6, 0) -> 0 | V6: =IF(O6="장비비", J6, 0) -> 0 | W6: =IF(O6="폐기물처리비", K6, 0) -> 0 | X6: =IF(O6="가설비", J6, 0) -> 0 | Y6: =IF(O6="잡비제외분", F6, 0) -> 0 | Z6: =IF(O6="사급자재대", K6, 0) -> 0 | AA6: =IF(O6="관급자재대", K6, 0) -> 0 | AB6: =IF(O6="작업부산물1", K6, 0) -> 0 | AC6: =IF(O6="도급자관급자재대", K6, 0) -> 0 | AD6: =IF(O6="사용자항목3", K6, 0) -> 0 | AE6: =IF(O6="사용자항목4", K6, 0) -> 0 | AF6: =IF(O6="사용자항목5", K6, 0) -> 0 | AG6: =IF(O6="사용자항목6", K6, 0) -> 0 | AH6: =IF(O6="사용자항목7", K6, 0) -> 0 | AI6: =IF(O6="사용자항목8", K6, 0) -> 0 | AJ6: =IF(O6="사용자항목9", K6, 0) -> 0 | AK6: =IF(O6="사용자항목10", K6, 0) -> 0 | AL6: =IF(O6="사용자항목11", K6, 0) -> 0 | AM6: =IF(O6="사용자항목12", K6, 0) -> 0 | AN6: =IF(O6="사용자항목13", K6, 0) -> 0 | AO6: =IF(O6="사용자항목14", K6, 0) -> 0 | AP6: =IF(O6="사용자항목15", K6, 0) -> 0 | AQ6: =IF(O6="품질관리비", K6, 0) -> 0 | AR6: =IF(O6="석면분담금", K6, 0) -> 0 | AS6: =IF(O6="임금채권부담금", K6, 0) -> 0 | AT6: =IF(O6="소방시설공사업 배상책임공제", K6, 0) -> 0
A7: 스테인레스강관(2.8T) | B7: KS D 3576 SCH10SD, D32 | C7: M | D7: 53 | K7: =F7+H7+J7 -> 0 | N7: ="04" -> 04 | O7: 기계경비 | P7: 1 | Q7: =IF(O7="기계경비", J7, 0) -> 0 | R7: =IF(O7="운반비", K7, 0) -> 0 | S7: =IF(O7="작업부산물", F7, 0) -> 0 | T7: =IF(O7="관급", F7, 0) -> 0 | U7: =IF(O7="외주비", J7, 0) -> 0 | V7: =IF(O7="장비비", J7, 0) -> 0 | W7: =IF(O7="폐기물처리비", K7, 0) -> 0 | X7: =IF(O7="가설비", J7, 0) -> 0 | Y7: =IF(O7="잡비제외분", F7, 0) -> 0 | Z7: =IF(O7="사급자재대", K7, 0) -> 0 | AA7: =IF(O7="관급자재대", K7, 0) -> 0 | AB7: =IF(O7="작업부산물1", K7, 0) -> 0 | AC7: =IF(O7="도급자관급자재대", K7, 0) -> 0 | AD7: =IF(O7="사용자항목3", K7, 0) -> 0 | AE7: =IF(O7="사용자항목4", K7, 0) -> 0 | AF7: =IF(O7="사용자항목5", K7, 0) -> 0 | AG7: =IF(O7="사용자항목6", K7, 0) -> 0 | AH7: =IF(O7="사용자항목7", K7, 0) -> 0 | AI7: =IF(O7="사용자항목8", K7, 0) -> 0 | AJ7: =IF(O7="사용자항목9", K7, 0) -> 0 | AK7: =IF(O7="사용자항목10", K7, 0) -> 0 | AL7: =IF(O7="사용자항목11", K7, 0) -> 0 | AM7: =IF(O7="사용자항목12", K7, 0) -> 0 | AN7: =IF(O7="사용자항목13", K7, 0) -> 0 | AO7: =IF(O7="사용자항목14", K7, 0) -> 0 | AP7: =IF(O7="사용자항목15", K7, 0) -> 0 | AQ7: =IF(O7="품질관리비", K7, 0) -> 0 | AR7: =IF(O7="석면분담금", K7, 0) -> 0 | AS7: =IF(O7="임금채권부담금", K7, 0) -> 0 | AT7: =IF(O7="소방시설공사업 배상책임공제", K7, 0) -> 0
A8: 스테인레스강관(3.0T) | B8: KS D 3576 SCH10SD, D100 | C8: M | D8: 15 | K8: =F8+H8+J8 -> 0 | N8: ="04" -> 04 | O8: 기계경비 | P8: 1 | Q8: =IF(O8="기계경비", J8, 0) -> 0 | R8: =IF(O8="운반비", K8, 0) -> 0 | S8: =IF(O8="작업부산물", F8, 0) -> 0 | T8: =IF(O8="관급", F8, 0) -> 0 | U8: =IF(O8="외주비", J8, 0) -> 0 | V8: =IF(O8="장비비", J8, 0) -> 0 | W8: =IF(O8="폐기물처리비", K8, 0) -> 0 | X8: =IF(O8="가설비", J8, 0) -> 0 | Y8: =IF(O8="잡비제외분", F8, 0) -> 0 | Z8: =IF(O8="사급자재대", K8, 0) -> 0 | AA8: =IF(O8="관급자재대", K8, 0) -> 0 | AB8: =IF(O8="작업부산물1", K8, 0) -> 0 | AC8: =IF(O8="도급자관급자재대", K8, 0) -> 0 | AD8: =IF(O8="사용자항목3", K8, 0) -> 0 | AE8: =IF(O8="사용자항목4", K8, 0) -> 0 | AF8: =IF(O8="사용자항목5", K8, 0) -> 0 | AG8: =IF(O8="사용자항목6", K8, 0) -> 0 | AH8: =IF(O8="사용자항목7", K8, 0) -> 0 | AI8: =IF(O8="사용자항목8", K8, 0) -> 0 | AJ8: =IF(O8="사용자항목9", K8, 0) -> 0 | AK8: =IF(O8="사용자항목10", K8, 0) -> 0 | AL8: =IF(O8="사용자항목11", K8, 0) -> 0 | AM8: =IF(O8="사용자항목12", K8, 0) -> 0 | AN8: =IF(O8="사용자항목13", K8, 0) -> 0 | AO8: =IF(O8="사용자항목14", K8, 0) -> 0 | AP8: =IF(O8="사용자항목15", K8, 0) -> 0 | AQ8: =IF(O8="품질관리비", K8, 0) -> 0 | AR8: =IF(O8="석면분담금", K8, 0) -> 0 | AS8: =IF(O8="임금채권부담금", K8, 0) -> 0 | AT8: =IF(O8="소방시설공사업 배상책임공제", K8, 0) -> 0
A9: 관보온(고무발포보온) | B9: D25 X 25T | C9: M | D9: 48 | K9: =F9+H9+J9 -> 0 | N9: ="" | O9: 기계경비 | P9: 1 | Q9: =IF(O9="기계경비", J9, 0) -> 0 | R9: =IF(O9="운반비", K9, 0) -> 0 | S9: =IF(O9="작업부산물", F9, 0) -> 0 | T9: =IF(O9="관급", F9, 0) -> 0 | U9: =IF(O9="외주비", J9, 0) -> 0 | V9: =IF(O9="장비비", J9, 0) -> 0 | W9: =IF(O9="폐기물처리비", K9, 0) -> 0 | X9: =IF(O9="가설비", J9, 0) -> 0 | Y9: =IF(O9="잡비제외분", F9, 0) -> 0 | Z9: =IF(O9="사급자재대", K9, 0) -> 0 | AA9: =IF(O9="관급자재대", K9, 0) -> 0 | AB9: =IF(O9="작업부산물1", K9, 0) -> 0 | AC9: =IF(O9="도급자관급자재대", K9, 0) -> 0 | AD9: =IF(O9="사용자항목3", K9, 0) -> 0 | AE9: =IF(O9="사용자항목4", K9, 0) -> 0 | AF9: =IF(O9="사용자항목5", K9, 0) -> 0 | AG9: =IF(O9="사용자항목6", K9, 0) -> 0 | AH9: =IF(O9="사용자항목7", K9, 0) -> 0 | AI9: =IF(O9="사용자항목8", K9, 0) -> 0 | AJ9: =IF(O9="사용자항목9", K9, 0) -> 0 | AK9: =IF(O9="사용자항목10", K9, 0) -> 0 | AL9: =IF(O9="사용자항목11", K9, 0) -> 0 | AM9: =IF(O9="사용자항목12", K9, 0) -> 0 | AN9: =IF(O9="사용자항목13", K9, 0) -> 0 | AO9: =IF(O9="사용자항목14", K9, 0) -> 0 | AP9: =IF(O9="사용자항목15", K9, 0) -> 0 | AQ9: =IF(O9="품질관리비", K9, 0) -> 0 | AR9: =IF(O9="석면분담금", K9, 0) -> 0 | AS9: =IF(O9="임금채권부담금", K9, 0) -> 0 | AT9: =IF(O9="소방시설공사업 배상책임공제", K9, 0) -> 0
A10: 관보온(고무발포보온) | B10: D32 X 25T | C10: M | D10: 48 | K10: =F10+H10+J10 -> 0 | N10: ="" | O10: 기계경비 | P10: 1 | Q10: =IF(O10="기계경비", J10, 0) -> 0 | R10: =IF(O10="운반비", K10, 0) -> 0 | S10: =IF(O10="작업부산물", F10, 0) -> 0 | T10: =IF(O10="관급", F10, 0) -> 0 | U10: =IF(O10="외주비", J10, 0) -> 0 | V10: =IF(O10="장비비", J10, 0) -> 0 | W10: =IF(O10="폐기물처리비", K10, 0) -> 0 | X10: =IF(O10="가설비", J10, 0) -> 0 | Y10: =IF(O10="잡비제외분", F10, 0) -> 0 | Z10: =IF(O10="사급자재대", K10, 0) -> 0 | AA10: =IF(O10="관급자재대", K10, 0) -> 0 | AB10: =IF(O10="작업부산물1", K10, 0) -> 0 | AC10: =IF(O10="도급자관급자재대", K10, 0) -> 0 | AD10: =IF(O10="사용자항목3", K10, 0) -> 0 | AE10: =IF(O10="사용자항목4", K10, 0) -> 0 | AF10: =IF(O10="사용자항목5", K10, 0) -> 0 | AG10: =IF(O10="사용자항목6", K10, 0) -> 0 | AH10: =IF(O10="사용자항목7", K10, 0) -> 0 | AI10: =IF(O10="사용자항목8", K10, 0) -> 0 | AJ10: =IF(O10="사용자항목9", K10, 0) -> 0 | AK10: =IF(O10="사용자항목10", K10, 0) -> 0 | AL10: =IF(O10="사용자항목11", K10, 0) -> 0 | AM10: =IF(O10="사용자항목12", K10, 0) -> 0 | AN10: =IF(O10="사용자항목13", K10, 0) -> 0 | AO10: =IF(O10="사용자항목14", K10, 0) -> 0 | AP10: =IF(O10="사용자항목15", K10, 0) -> 0 | AQ10: =IF(O10="품질관리비", K10, 0) -> 0 | AR10: =IF(O10="석면분담금", K10, 0) -> 0 | AS10: =IF(O10="임금채권부담금", K10, 0) -> 0 | AT10: =IF(O10="소방시설공사업 배상책임공제", K10, 0) -> 0
A11: 관보온(고무발포보온) | B11: D100 X 40T | C11: M | D11: 14 | K11: =F11+H11+J11 -> 0 | N11: ="" | O11: 기계경비 | P11: 1 | Q11: =IF(O11="기계경비", J11, 0) -> 0 | R11: =IF(O11="운반비", K11, 0) -> 0 | S11: =IF(O11="작업부산물", F11, 0) -> 0 | T11: =IF(O11="관급", F11, 0) -> 0 | U11: =IF(O11="외주비", J11, 0) -> 0 | V11: =IF(O11="장비비", J11, 0) -> 0 | W11: =IF(O11="폐기물처리비", K11, 0) -> 0 | X11: =IF(O11="가설비", J11, 0) -> 0 | Y11: =IF(O11="잡비제외분", F11, 0) -> 0 | Z11: =IF(O11="사급자재대", K11, 0) -> 0 | AA11: =IF(O11="관급자재대", K11, 0) -> 0 | AB11: =IF(O11="작업부산물1", K11, 0) -> 0 | AC11: =IF(O11="도급자관급자재대", K11, 0) -> 0 | AD11: =IF(O11="사용자항목3", K11, 0) -> 0 | AE11: =IF(O11="사용자항목4", K11, 0) -> 0 | AF11: =IF(O11="사용자항목5", K11, 0) -> 0 | AG11: =IF(O11="사용자항목6", K11, 0) -> 0 | AH11: =IF(O11="사용자항목7", K11, 0) -> 0 | AI11: =IF(O11="사용자항목8", K11, 0) -> 0 | AJ11: =IF(O11="사용자항목9", K11, 0) -> 0 | AK11: =IF(O11="사용자항목10", K11, 0) -> 0 | AL11: =IF(O11="사용자항목11", K11, 0) -> 0 | AM11: =IF(O11="사용자항목12", K11, 0) -> 0 | AN11: =IF(O11="사용자항목13", K11, 0) -> 0 | AO11: =IF(O11="사용자항목14", K11, 0) -> 0 | AP11: =IF(O11="사용자항목15", K11, 0) -> 0 | AQ11: =IF(O11="품질관리비", K11, 0) -> 0 | AR11: =IF(O11="석면분담금", K11, 0) -> 0 | AS11: =IF(O11="임금채권부담금", K11, 0) -> 0 | AT11: =IF(O11="소방시설공사업 배상책임공제", K11, 0) -> 0
A12: 스테인레스관이음쇠 용접식 | B12: 티 S10, D25 | C12: EA | D12: 8 | K12: =F12+H12+J12 -> 0 | N12: ="01" -> 01 | O12: 기계경비 | P12: 1 | Q12: =IF(O12="기계경비", J12, 0) -> 0 | R12: =IF(O12="운반비", K12, 0) -> 0 | S12: =IF(O12="작업부산물", F12, 0) -> 0 | T12: =IF(O12="관급", F12, 0) -> 0 | U12: =IF(O12="외주비", J12, 0) -> 0 | V12: =IF(O12="장비비", J12, 0) -> 0 | W12: =IF(O12="폐기물처리비", K12, 0) -> 0 | X12: =IF(O12="가설비", J12, 0) -> 0 | Y12: =IF(O12="잡비제외분", F12, 0) -> 0 | Z12: =IF(O12="사급자재대", K12, 0) -> 0 | AA12: =IF(O12="관급자재대", K12, 0) -> 0 | AB12: =IF(O12="작업부산물1", K12, 0) -> 0 | AC12: =IF(O12="도급자관급자재대", K12, 0) -> 0 | AD12: =IF(O12="사용자항목3", K12, 0) -> 0 | AE12: =IF(O12="사용자항목4", K12, 0) -> 0 | AF12: =IF(O12="사용자항목5", K12, 0) -> 0 | AG12: =IF(O12="사용자항목6", K12, 0) -> 0 | AH12: =IF(O12="사용자항목7", K12, 0) -> 0 | AI12: =IF(O12="사용자항목8", K12, 0) -> 0 | AJ12: =IF(O12="사용자항목9", K12, 0) -> 0 | AK12: =IF(O12="사용자항목10", K12, 0) -> 0 | AL12: =IF(O12="사용자항목11", K12, 0) -> 0 | AM12: =IF(O12="사용자항목12", K12, 0) -> 0 | AN12: =IF(O12="사용자항목13", K12, 0) -> 0 | AO12: =IF(O12="사용자항목14", K12, 0) -> 0 | AP12: =IF(O12="사용자항목15", K12, 0) -> 0 | AQ12: =IF(O12="품질관리비", K12, 0) -> 0 | AR12: =IF(O12="석면분담금", K12, 0) -> 0 | AS12: =IF(O12="임금채권부담금", K12, 0) -> 0 | AT12: =IF(O12="소방시설공사업 배상책임공제", K12, 0) -> 0
A13: 스테인레스관이음쇠 용접식 | B13: 티 S10, D50 | C13: EA | D13: 4 | K13: =F13+H13+J13 -> 0 | N13: ="01" -> 01 | O13: 기계경비 | P13: 1 | Q13: =IF(O13="기계경비", J13, 0) -> 0 | R13: =IF(O13="운반비", K13, 0) -> 0 | S13: =IF(O13="작업부산물", F13, 0) -> 0 | T13: =IF(O13="관급", F13, 0) -> 0 | U13: =IF(O13="외주비", J13, 0) -> 0 | V13: =IF(O13="장비비", J13, 0) -> 0 | W13: =IF(O13="폐기물처리비", K13, 0) -> 0 | X13: =IF(O13="가설비", J13, 0) -> 0 | Y13: =IF(O13="잡비제외분", F13, 0) -> 0 | Z13: =IF(O13="사급자재대", K13, 0) -> 0 | AA13: =IF(O13="관급자재대", K13, 0) -> 0 | AB13: =IF(O13="작업부산물1", K13, 0) -> 0 | AC13: =IF(O13="도급자관급자재대", K13, 0) -> 0 | AD13: =IF(O13="사용자항목3", K13, 0) -> 0 | AE13: =IF(O13="사용자항목4", K13, 0) -> 0 | AF13: =IF(O13="사용자항목5", K13, 0) -> 0 | AG13: =IF(O13="사용자항목6", K13, 0) -> 0 | AH13: =IF(O13="사용자항목7", K13, 0) -> 0 | AI13: =IF(O13="사용자항목8", K13, 0) -> 0 | AJ13: =IF(O13="사용자항목9", K13, 0) -> 0 | AK13: =IF(O13="사용자항목10", K13, 0) -> 0 | AL13: =IF(O13="사용자항목11", K13, 0) -> 0 | AM13: =IF(O13="사용자항목12", K13, 0) -> 0 | AN13: =IF(O13="사용자항목13", K13, 0) -> 0 | AO13: =IF(O13="사용자항목14", K13, 0) -> 0 | AP13: =IF(O13="사용자항목15", K13, 0) -> 0 | AQ13: =IF(O13="품질관리비", K13, 0) -> 0 | AR13: =IF(O13="석면분담금", K13, 0) -> 0 | AS13: =IF(O13="임금채권부담금", K13, 0) -> 0 | AT13: =IF(O13="소방시설공사업 배상책임공제", K13, 0) -> 0
A14: 스테인레스관이음쇠 용접식 | B14: 티 S10, D100 | C14: EA | D14: 9 | K14: =F14+H14+J14 -> 0 | N14: ="01" -> 01 | O14: 기계경비 | P14: 1 | Q14: =IF(O14="기계경비", J14, 0) -> 0 | R14: =IF(O14="운반비", K14, 0) -> 0 | S14: =IF(O14="작업부산물", F14, 0) -> 0 | T14: =IF(O14="관급", F14, 0) -> 0 | U14: =IF(O14="외주비", J14, 0) -> 0 | V14: =IF(O14="장비비", J14, 0) -> 0 | W14: =IF(O14="폐기물처리비", K14, 0) -> 0 | X14: =IF(O14="가설비", J14, 0) -> 0 | Y14: =IF(O14="잡비제외분", F14, 0) -> 0 | Z14: =IF(O14="사급자재대", K14, 0) -> 0 | AA14: =IF(O14="관급자재대", K14, 0) -> 0 | AB14: =IF(O14="작업부산물1", K14, 0) -> 0 | AC14: =IF(O14="도급자관급자재대", K14, 0) -> 0 | AD14: =IF(O14="사용자항목3", K14, 0) -> 0 | AE14: =IF(O14="사용자항목4", K14, 0) -> 0 | AF14: =IF(O14="사용자항목5", K14, 0) -> 0 | AG14: =IF(O14="사용자항목6", K14, 0) -> 0 | AH14: =IF(O14="사용자항목7", K14, 0) -> 0 | AI14: =IF(O14="사용자항목8", K14, 0) -> 0 | AJ14: =IF(O14="사용자항목9", K14, 0) -> 0 | AK14: =IF(O14="사용자항목10", K14, 0) -> 0 | AL14: =IF(O14="사용자항목11", K14, 0) -> 0 | AM14: =IF(O14="사용자항목12", K14, 0) -> 0 | AN14: =IF(O14="사용자항목13", K14, 0) -> 0 | AO14: =IF(O14="사용자항목14", K14, 0) -> 0 | AP14: =IF(O14="사용자항목15", K14, 0) -> 0 | AQ14: =IF(O14="품질관리비", K14, 0) -> 0 | AR14: =IF(O14="석면분담금", K14, 0) -> 0 | AS14: =IF(O14="임금채권부담금", K14, 0) -> 0 | AT14: =IF(O14="소방시설공사업 배상책임공제", K14, 0) -> 0
A15: 스테인레스관이음쇠 용접식 | B15: 레듀셔 S10, D50 | C15: EA | D15: 8 | K15: =F15+H15+J15 -> 0 | N15: ="01" -> 01 | O15: 기계경비 | P15: 1 | Q15: =IF(O15="기계경비", J15, 0) -> 0 | R15: =IF(O15="운반비", K15, 0) -> 0 | S15: =IF(O15="작업부산물", F15, 0) -> 0 | T15: =IF(O15="관급", F15, 0) -> 0 | U15: =IF(O15="외주비", J15, 0) -> 0 | V15: =IF(O15="장비비", J15, 0) -> 0 | W15: =IF(O15="폐기물처리비", K15, 0) -> 0 | X15: =IF(O15="가설비", J15, 0) -> 0 | Y15: =IF(O15="잡비제외분", F15, 0) -> 0 | Z15: =IF(O15="사급자재대", K15, 0) -> 0 | AA15: =IF(O15="관급자재대", K15, 0) -> 0 | AB15: =IF(O15="작업부산물1", K15, 0) -> 0 | AC15: =IF(O15="도급자관급자재대", K15, 0) -> 0 | AD15: =IF(O15="사용자항목3", K15, 0) -> 0 | AE15: =IF(O15="사용자항목4", K15, 0) -> 0 | AF15: =IF(O15="사용자항목5", K15, 0) -> 0 | AG15: =IF(O15="사용자항목6", K15, 0) -> 0 | AH15: =IF(O15="사용자항목7", K15, 0) -> 0 | AI15: =IF(O15="사용자항목8", K15, 0) -> 0 | AJ15: =IF(O15="사용자항목9", K15, 0) -> 0 | AK15: =IF(O15="사용자항목10", K15, 0) -> 0 | AL15: =IF(O15="사용자항목11", K15, 0) -> 0 | AM15: =IF(O15="사용자항목12", K15, 0) -> 0 | AN15: =IF(O15="사용자항목13", K15, 0) -> 0 | AO15: =IF(O15="사용자항목14", K15, 0) -> 0 | AP15: =IF(O15="사용자항목15", K15, 0) -> 0 | AQ15: =IF(O15="품질관리비", K15, 0) -> 0 | AR15: =IF(O15="석면분담금", K15, 0) -> 0 | AS15: =IF(O15="임금채권부담금", K15, 0) -> 0 | AT15: =IF(O15="소방시설공사업 배상책임공제", K15, 0) -> 0
A16: 스테인레스관이음쇠 용접식 | B16: 캡 S10, D25 | C16: EA | D16: 20 | K16: =F16+H16+J16 -> 0 | N16: ="01" -> 01 | O16: 기계경비 | P16: 1 | Q16: =IF(O16="기계경비", J16, 0) -> 0 | R16: =IF(O16="운반비", K16, 0) -> 0 | S16: =IF(O16="작업부산물", F16, 0) -> 0 | T16: =IF(O16="관급", F16, 0) -> 0 | U16: =IF(O16="외주비", J16, 0) -> 0 | V16: =IF(O16="장비비", J16, 0) -> 0 | W16: =IF(O16="폐기물처리비", K16, 0) -> 0 | X16: =IF(O16="가설비", J16, 0) -> 0 | Y16: =IF(O16="잡비제외분", F16, 0) -> 0 | Z16: =IF(O16="사급자재대", K16, 0) -> 0 | AA16: =IF(O16="관급자재대", K16, 0) -> 0 | AB16: =IF(O16="작업부산물1", K16, 0) -> 0 | AC16: =IF(O16="도급자관급자재대", K16, 0) -> 0 | AD16: =IF(O16="사용자항목3", K16, 0) -> 0 | AE16: =IF(O16="사용자항목4", K16, 0) -> 0 | AF16: =IF(O16="사용자항목5", K16, 0) -> 0 | AG16: =IF(O16="사용자항목6", K16, 0) -> 0 | AH16: =IF(O16="사용자항목7", K16, 0) -> 0 | AI16: =IF(O16="사용자항목8", K16, 0) -> 0 | AJ16: =IF(O16="사용자항목9", K16, 0) -> 0 | AK16: =IF(O16="사용자항목10", K16, 0) -> 0 | AL16: =IF(O16="사용자항목11", K16, 0) -> 0 | AM16: =IF(O16="사용자항목12", K16, 0) -> 0 | AN16: =IF(O16="사용자항목13", K16, 0) -> 0 | AO16: =IF(O16="사용자항목14", K16, 0) -> 0 | AP16: =IF(O16="사용자항목15", K16, 0) -> 0 | AQ16: =IF(O16="품질관리비", K16, 0) -> 0 | AR16: =IF(O16="석면분담금", K16, 0) -> 0 | AS16: =IF(O16="임금채권부담금", K16, 0) -> 0 | AT16: =IF(O16="소방시설공사업 배상책임공제", K16, 0) -> 0
A17: 합 플랜지 이음(스테인레스) | B17: D100 | C17: 개소 | D17: 1 | K17: =F17+H17+J17 -> 0 | N17: ="" | O17: 기계경비 | P17: 1 | Q17: =IF(O17="기계경비", J17, 0) -> 0 | R17: =IF(O17="운반비", K17, 0) -> 0 | S17: =IF(O17="작업부산물", F17, 0) -> 0 | T17: =IF(O17="관급", F17, 0) -> 0 | U17: =IF(O17="외주비", J17, 0) -> 0 | V17: =IF(O17="장비비", J17, 0) -> 0 | W17: =IF(O17="폐기물처리비", K17, 0) -> 0 | X17: =IF(O17="가설비", J17, 0) -> 0 | Y17: =IF(O17="잡비제외분", F17, 0) -> 0 | Z17: =IF(O17="사급자재대", K17, 0) -> 0 | AA17: =IF(O17="관급자재대", K17, 0) -> 0 | AB17: =IF(O17="작업부산물1", K17, 0) -> 0 | AC17: =IF(O17="도급자관급자재대", K17, 0) -> 0 | AD17: =IF(O17="사용자항목3", K17, 0) -> 0 | AE17: =IF(O17="사용자항목4", K17, 0) -> 0 | AF17: =IF(O17="사용자항목5", K17, 0) -> 0 | AG17: =IF(O17="사용자항목6", K17, 0) -> 0 | AH17: =IF(O17="사용자항목7", K17, 0) -> 0 | AI17: =IF(O17="사용자항목8", K17, 0) -> 0 | AJ17: =IF(O17="사용자항목9", K17, 0) -> 0 | AK17: =IF(O17="사용자항목10", K17, 0) -> 0 | AL17: =IF(O17="사용자항목11", K17, 0) -> 0 | AM17: =IF(O17="사용자항목12", K17, 0) -> 0 | AN17: =IF(O17="사용자항목13", K17, 0) -> 0 | AO17: =IF(O17="사용자항목14", K17, 0) -> 0 | AP17: =IF(O17="사용자항목15", K17, 0) -> 0 | AQ17: =IF(O17="품질관리비", K17, 0) -> 0 | AR17: =IF(O17="석면분담금", K17, 0) -> 0 | AS17: =IF(O17="임금채권부담금", K17, 0) -> 0 | AT17: =IF(O17="소방시설공사업 배상책임공제", K17, 0) -> 0
A18: 스테인레스배관용접(알곤용접) | B18: D25 | C18: 개소 | D18: 24 | K18: =F18+H18+J18 -> 0 | N18: ="" | O18: 기계경비 | P18: 1 | Q18: =IF(O18="기계경비", J18, 0) -> 0 | R18: =IF(O18="운반비", K18, 0) -> 0 | S18: =IF(O18="작업부산물", F18, 0) -> 0 | T18: =IF(O18="관급", F18, 0) -> 0 | U18: =IF(O18="외주비", J18, 0) -> 0 | V18: =IF(O18="장비비", J18, 0) -> 0 | W18: =IF(O18="폐기물처리비", K18, 0) -> 0 | X18: =IF(O18="가설비", J18, 0) -> 0 | Y18: =IF(O18="잡비제외분", F18, 0) -> 0 | Z18: =IF(O18="사급자재대", K18, 0) -> 0 | AA18: =IF(O18="관급자재대", K18, 0) -> 0 | AB18: =IF(O18="작업부산물1", K18, 0) -> 0 | AC18: =IF(O18="도급자관급자재대", K18, 0) -> 0 | AD18: =IF(O18="사용자항목3", K18, 0) -> 0 | AE18: =IF(O18="사용자항목4", K18, 0) -> 0 | AF18: =IF(O18="사용자항목5", K18, 0) -> 0 | AG18: =IF(O18="사용자항목6", K18, 0) -> 0 | AH18: =IF(O18="사용자항목7", K18, 0) -> 0 | AI18: =IF(O18="사용자항목8", K18, 0) -> 0 | AJ18: =IF(O18="사용자항목9", K18, 0) -> 0 | AK18: =IF(O18="사용자항목10", K18, 0) -> 0 | AL18: =IF(O18="사용자항목11", K18, 0) -> 0 | AM18: =IF(O18="사용자항목12", K18, 0) -> 0 | AN18: =IF(O18="사용자항목13", K18, 0) -> 0 | AO18: =IF(O18="사용자항목14", K18, 0) -> 0 | AP18: =IF(O18="사용자항목15", K18, 0) -> 0 | AQ18: =IF(O18="품질관리비", K18, 0) -> 0 | AR18: =IF(O18="석면분담금", K18, 0) -> 0 | AS18: =IF(O18="임금채권부담금", K18, 0) -> 0 | AT18: =IF(O18="소방시설공사업 배상책임공제", K18, 0) -> 0
A19: 스테인레스배관용접(알곤용접) | B19: D50 | C19: 개소 | D19: 28 | K19: =F19+H19+J19 -> 0 | N19: ="" | O19: 기계경비 | P19: 1 | Q19: =IF(O19="기계경비", J19, 0) -> 0 | R19: =IF(O19="운반비", K19, 0) -> 0 | S19: =IF(O19="작업부산물", F19, 0) -> 0 | T19: =IF(O19="관급", F19, 0) -> 0 | U19: =IF(O19="외주비", J19, 0) -> 0 | V19: =IF(O19="장비비", J19, 0) -> 0 | W19: =IF(O19="폐기물처리비", K19, 0) -> 0 | X19: =IF(O19="가설비", J19, 0) -> 0 | Y19: =IF(O19="잡비제외분", F19, 0) -> 0 | Z19: =IF(O19="사급자재대", K19, 0) -> 0 | AA19: =IF(O19="관급자재대", K19, 0) -> 0 | AB19: =IF(O19="작업부산물1", K19, 0) -> 0 | AC19: =IF(O19="도급자관급자재대", K19, 0) -> 0 | AD19: =IF(O19="사용자항목3", K19, 0) -> 0 | AE19: =IF(O19="사용자항목4", K19, 0) -> 0 | AF19: =IF(O19="사용자항목5", K19, 0) -> 0 | AG19: =IF(O19="사용자항목6", K19, 0) -> 0 | AH19: =IF(O19="사용자항목7", K19, 0) -> 0 | AI19: =IF(O19="사용자항목8", K19, 0) -> 0 | AJ19: =IF(O19="사용자항목9", K19, 0) -> 0 | AK19: =IF(O19="사용자항목10", K19, 0) -> 0 | AL19: =IF(O19="사용자항목11", K19, 0) -> 0 | AM19: =IF(O19="사용자항목12", K19, 0) -> 0 | AN19: =IF(O19="사용자항목13", K19, 0) -> 0 | AO19: =IF(O19="사용자항목14", K19, 0) -> 0 | AP19: =IF(O19="사용자항목15", K19, 0) -> 0 | AQ19: =IF(O19="품질관리비", K19, 0) -> 0 | AR19: =IF(O19="석면분담금", K19, 0) -> 0 | AS19: =IF(O19="임금채권부담금", K19, 0) -> 0 | AT19: =IF(O19="소방시설공사업 배상책임공제", K19, 0) -> 0
A20: 스테인레스배관용접(알곤용접) | B20: D100 | C20: 개소 | D20: 29 | K20: =F20+H20+J20 -> 0 | N20: ="" | O20: 기계경비 | P20: 1 | Q20: =IF(O20="기계경비", J20, 0) -> 0 | R20: =IF(O20="운반비", K20, 0) -> 0 | S20: =IF(O20="작업부산물", F20, 0) -> 0 | T20: =IF(O20="관급", F20, 0) -> 0 | U20: =IF(O20="외주비", J20, 0) -> 0 | V20: =IF(O20="장비비", J20, 0) -> 0 | W20: =IF(O20="폐기물처리비", K20, 0) -> 0 | X20: =IF(O20="가설비", J20, 0) -> 0 | Y20: =IF(O20="잡비제외분", F20, 0) -> 0 | Z20: =IF(O20="사급자재대", K20, 0) -> 0 | AA20: =IF(O20="관급자재대", K20, 0) -> 0 | AB20: =IF(O20="작업부산물1", K20, 0) -> 0 | AC20: =IF(O20="도급자관급자재대", K20, 0) -> 0 | AD20: =IF(O20="사용자항목3", K20, 0) -> 0 | AE20: =IF(O20="사용자항목4", K20, 0) -> 0 | AF20: =IF(O20="사용자항목5", K20, 0) -> 0 | AG20: =IF(O20="사용자항목6", K20, 0) -> 0 | AH20: =IF(O20="사용자항목7", K20, 0) -> 0 | AI20: =IF(O20="사용자항목8", K20, 0) -> 0 | AJ20: =IF(O20="사용자항목9", K20, 0) -> 0 | AK20: =IF(O20="사용자항목10", K20, 0) -> 0 | AL20: =IF(O20="사용자항목11", K20, 0) -> 0 | AM20: =IF(O20="사용자항목12", K20, 0) -> 0 | AN20: =IF(O20="사용자항목13", K20, 0) -> 0 | AO20: =IF(O20="사용자항목14", K20, 0) -> 0 | AP20: =IF(O20="사용자항목15", K20, 0) -> 0 | AQ20: =IF(O20="품질관리비", K20, 0) -> 0 | AR20: =IF(O20="석면분담금", K20, 0) -> 0 | AS20: =IF(O20="임금채권부담금", K20, 0) -> 0 | AT20: =IF(O20="소방시설공사업 배상책임공제", K20, 0) -> 0
A21: 스테인레스관이음쇠 나사식 | B21: D25, 티이, 나사식 | C21: EA | D21: 12 | K21: =F21+H21+J21 -> 0 | N21: ="01" -> 01 | O21: 기계경비 | P21: 1 | Q21: =IF(O21="기계경비", J21, 0) -> 0 | R21: =IF(O21="운반비", K21, 0) -> 0 | S21: =IF(O21="작업부산물", F21, 0) -> 0 | T21: =IF(O21="관급", F21, 0) -> 0 | U21: =IF(O21="외주비", J21, 0) -> 0 | V21: =IF(O21="장비비", J21, 0) -> 0 | W21: =IF(O21="폐기물처리비", K21, 0) -> 0 | X21: =IF(O21="가설비", J21, 0) -> 0 | Y21: =IF(O21="잡비제외분", F21, 0) -> 0 | Z21: =IF(O21="사급자재대", K21, 0) -> 0 | AA21: =IF(O21="관급자재대", K21, 0) -> 0 | AB21: =IF(O21="작업부산물1", K21, 0) -> 0 | AC21: =IF(O21="도급자관급자재대", K21, 0) -> 0 | AD21: =IF(O21="사용자항목3", K21, 0) -> 0 | AE21: =IF(O21="사용자항목4", K21, 0) -> 0 | AF21: =IF(O21="사용자항목5", K21, 0) -> 0 | AG21: =IF(O21="사용자항목6", K21, 0) -> 0 | AH21: =IF(O21="사용자항목7", K21, 0) -> 0 | AI21: =IF(O21="사용자항목8", K21, 0) -> 0 | AJ21: =IF(O21="사용자항목9", K21, 0) -> 0 | AK21: =IF(O21="사용자항목10", K21, 0) -> 0 | AL21: =IF(O21="사용자항목11", K21, 0) -> 0 | AM21: =IF(O21="사용자항목12", K21, 0) -> 0 | AN21: =IF(O21="사용자항목13", K21, 0) -> 0 | AO21: =IF(O21="사용자항목14", K21, 0) -> 0 | AP21: =IF(O21="사용자항목15", K21, 0) -> 0 | AQ21: =IF(O21="품질관리비", K21, 0) -> 0 | AR21: =IF(O21="석면분담금", K21, 0) -> 0 | AS21: =IF(O21="임금채권부담금", K21, 0) -> 0 | AT21: =IF(O21="소방시설공사업 배상책임공제", K21, 0) -> 0
A22: 스테인레스관이음쇠 나사식 | B22: D32, 티이, 나사식 | C22: EA | D22: 8 | K22: =F22+H22+J22 -> 0 | N22: ="01" -> 01 | O22: 기계경비 | P22: 1 | Q22: =IF(O22="기계경비", J22, 0) -> 0 | R22: =IF(O22="운반비", K22, 0) -> 0 | S22: =IF(O22="작업부산물", F22, 0) -> 0 | T22: =IF(O22="관급", F22, 0) -> 0 | U22: =IF(O22="외주비", J22, 0) -> 0 | V22: =IF(O22="장비비", J22, 0) -> 0 | W22: =IF(O22="폐기물처리비", K22, 0) -> 0 | X22: =IF(O22="가설비", J22, 0) -> 0 | Y22: =IF(O22="잡비제외분", F22, 0) -> 0 | Z22: =IF(O22="사급자재대", K22, 0) -> 0 | AA22: =IF(O22="관급자재대", K22, 0) -> 0 | AB22: =IF(O22="작업부산물1", K22, 0) -> 0 | AC22: =IF(O22="도급자관급자재대", K22, 0) -> 0 | AD22: =IF(O22="사용자항목3", K22, 0) -> 0 | AE22: =IF(O22="사용자항목4", K22, 0) -> 0 | AF22: =IF(O22="사용자항목5", K22, 0) -> 0 | AG22: =IF(O22="사용자항목6", K22, 0) -> 0 | AH22: =IF(O22="사용자항목7", K22, 0) -> 0 | AI22: =IF(O22="사용자항목8", K22, 0) -> 0 | AJ22: =IF(O22="사용자항목9", K22, 0) -> 0 | AK22: =IF(O22="사용자항목10", K22, 0) -> 0 | AL22: =IF(O22="사용자항목11", K22, 0) -> 0 | AM22: =IF(O22="사용자항목12", K22, 0) -> 0 | AN22: =IF(O22="사용자항목13", K22, 0) -> 0 | AO22: =IF(O22="사용자항목14", K22, 0) -> 0 | AP22: =IF(O22="사용자항목15", K22, 0) -> 0 | AQ22: =IF(O22="품질관리비", K22, 0) -> 0 | AR22: =IF(O22="석면분담금", K22, 0) -> 0 | AS22: =IF(O22="임금채권부담금", K22, 0) -> 0 | AT22: =IF(O22="소방시설공사업 배상책임공제", K22, 0) -> 0
A23: 스테인레스관이음쇠 나사식 | B23: D25, 니플, 나사식 | C23: EA | D23: 24 | K23: =F23+H23+J23 -> 0 | N23: ="01" -> 01 | O23: 기계경비 | P23: 1 | Q23: =IF(O23="기계경비", J23, 0) -> 0 | R23: =IF(O23="운반비", K23, 0) -> 0 | S23: =IF(O23="작업부산물", F23, 0) -> 0 | T23: =IF(O23="관급", F23, 0) -> 0 | U23: =IF(O23="외주비", J23, 0) -> 0 | V23: =IF(O23="장비비", J23, 0) -> 0 | W23: =IF(O23="폐기물처리비", K23, 0) -> 0 | X23: =IF(O23="가설비", J23, 0) -> 0 | Y23: =IF(O23="잡비제외분", F23, 0) -> 0 | Z23: =IF(O23="사급자재대", K23, 0) -> 0 | AA23: =IF(O23="관급자재대", K23, 0) -> 0 | AB23: =IF(O23="작업부산물1", K23, 0) -> 0 | AC23: =IF(O23="도급자관급자재대", K23, 0) -> 0 | AD23: =IF(O23="사용자항목3", K23, 0) -> 0 | AE23: =IF(O23="사용자항목4", K23, 0) -> 0 | AF23: =IF(O23="사용자항목5", K23, 0) -> 0 | AG23: =IF(O23="사용자항목6", K23, 0) -> 0 | AH23: =IF(O23="사용자항목7", K23, 0) -> 0 | AI23: =IF(O23="사용자항목8", K23, 0) -> 0 | AJ23: =IF(O23="사용자항목9", K23, 0) -> 0 | AK23: =IF(O23="사용자항목10", K23, 0) -> 0 | AL23: =IF(O23="사용자항목11", K23, 0) -> 0 | AM23: =IF(O23="사용자항목12", K23, 0) -> 0 | AN23: =IF(O23="사용자항목13", K23, 0) -> 0 | AO23: =IF(O23="사용자항목14", K23, 0) -> 0 | AP23: =IF(O23="사용자항목15", K23, 0) -> 0 | AQ23: =IF(O23="품질관리비", K23, 0) -> 0 | AR23: =IF(O23="석면분담금", K23, 0) -> 0 | AS23: =IF(O23="임금채권부담금", K23, 0) -> 0 | AT23: =IF(O23="소방시설공사업 배상책임공제", K23, 0) -> 0
A24: 스테인레스관이음쇠 나사식 | B24: D32, 니플, 나사식 | C24: EA | D24: 16 | K24: =F24+H24+J24 -> 0 | N24: ="01" -> 01 | O24: 기계경비 | P24: 1 | Q24: =IF(O24="기계경비", J24, 0) -> 0 | R24: =IF(O24="운반비", K24, 0) -> 0 | S24: =IF(O24="작업부산물", F24, 0) -> 0 | T24: =IF(O24="관급", F24, 0) -> 0 | U24: =IF(O24="외주비", J24, 0) -> 0 | V24: =IF(O24="장비비", J24, 0) -> 0 | W24: =IF(O24="폐기물처리비", K24, 0) -> 0 | X24: =IF(O24="가설비", J24, 0) -> 0 | Y24: =IF(O24="잡비제외분", F24, 0) -> 0 | Z24: =IF(O24="사급자재대", K24, 0) -> 0 | AA24: =IF(O24="관급자재대", K24, 0) -> 0 | AB24: =IF(O24="작업부산물1", K24, 0) -> 0 | AC24: =IF(O24="도급자관급자재대", K24, 0) -> 0 | AD24: =IF(O24="사용자항목3", K24, 0) -> 0 | AE24: =IF(O24="사용자항목4", K24, 0) -> 0 | AF24: =IF(O24="사용자항목5", K24, 0) -> 0 | AG24: =IF(O24="사용자항목6", K24, 0) -> 0 | AH24: =IF(O24="사용자항목7", K24, 0) -> 0 | AI24: =IF(O24="사용자항목8", K24, 0) -> 0 | AJ24: =IF(O24="사용자항목9", K24, 0) -> 0 | AK24: =IF(O24="사용자항목10", K24, 0) -> 0 | AL24: =IF(O24="사용자항목11", K24, 0) -> 0 | AM24: =IF(O24="사용자항목12", K24, 0) -> 0 | AN24: =IF(O24="사용자항목13", K24, 0) -> 0 | AO24: =IF(O24="사용자항목14", K24, 0) -> 0 | AP24: =IF(O24="사용자항목15", K24, 0) -> 0 | AQ24: =IF(O24="품질관리비", K24, 0) -> 0 | AR24: =IF(O24="석면분담금", K24, 0) -> 0 | AS24: =IF(O24="임금채권부담금", K24, 0) -> 0 | AT24: =IF(O24="소방시설공사업 배상책임공제", K24, 0) -> 0
A25: 스테인레스관이음쇠 나사식 | B25: D40, 니플, 나사식 | C25: EA | D25: 1 | J25: =ROUNDDOWN(D25*I25, 0) -> 0 | K25: =F25+H25+J25 -> 0 | N25: ="01" -> 01 | O25: 기계경비 | P25: 1 | Q25: =IF(O25="기계경비", J25, 0) -> 0 | R25: =IF(O25="운반비", K25, 0) -> 0 | S25: =IF(O25="작업부산물", F25, 0) -> 0 | T25: =IF(O25="관급", F25, 0) -> 0 | U25: =IF(O25="외주비", J25, 0) -> 0 | V25: =IF(O25="장비비", J25, 0) -> 0 | W25: =IF(O25="폐기물처리비", K25, 0) -> 0 | X25: =IF(O25="가설비", J25, 0) -> 0 | Y25: =IF(O25="잡비제외분", F25, 0) -> 0 | Z25: =IF(O25="사급자재대", K25, 0) -> 0 | AA25: =IF(O25="관급자재대", K25, 0) -> 0 | AB25: =IF(O25="작업부산물1", K25, 0) -> 0 | AC25: =IF(O25="도급자관급자재대", K25, 0) -> 0 | AD25: =IF(O25="사용자항목3", K25, 0) -> 0 | AE25: =IF(O25="사용자항목4", K25, 0) -> 0 | AF25: =IF(O25="사용자항목5", K25, 0) -> 0 | AG25: =IF(O25="사용자항목6", K25, 0) -> 0 | AH25: =IF(O25="사용자항목7", K25, 0) -> 0 | AI25: =IF(O25="사용자항목8", K25, 0) -> 0 | AJ25: =IF(O25="사용자항목9", K25, 0) -> 0 | AK25: =IF(O25="사용자항목10", K25, 0) -> 0 | AL25: =IF(O25="사용자항목11", K25, 0) -> 0 | AM25: =IF(O25="사용자항목12", K25, 0) -> 0 | AN25: =IF(O25="사용자항목13", K25, 0) -> 0 | AO25: =IF(O25="사용자항목14", K25, 0) -> 0 | AP25: =IF(O25="사용자항목15", K25, 0) -> 0 | AQ25: =IF(O25="품질관리비", K25, 0) -> 0 | AR25: =IF(O25="석면분담금", K25, 0) -> 0 | AS25: =IF(O25="임금채권부담금", K25, 0) -> 0 | AT25: =IF(O25="소방시설공사업 배상책임공제", K25, 0) -> 0
A26: 수격방지기 | B26: 수격방지기, W.H.C, D100mm | C26: 개 | D26: 1 | J26: =ROUNDDOWN(D26*I26, 0) -> 0 | K26: =F26+H26+J26 -> 0 | N26: ="01" -> 01 | O26: 기계경비 | P26: 1 | Q26: =IF(O26="기계경비", J26, 0) -> 0 | R26: =IF(O26="운반비", K26, 0) -> 0 | S26: =IF(O26="작업부산물", F26, 0) -> 0 | T26: =IF(O26="관급", F26, 0) -> 0 | U26: =IF(O26="외주비", J26, 0) -> 0 | V26: =IF(O26="장비비", J26, 0) -> 0 | W26: =IF(O26="폐기물처리비", K26, 0) -> 0 | X26: =IF(O26="가설비", J26, 0) -> 0 | Y26: =IF(O26="잡비제외분", F26, 0) -> 0 | Z26: =IF(O26="사급자재대", K26, 0) -> 0 | AA26: =IF(O26="관급자재대", K26, 0) -> 0 | AB26: =IF(O26="작업부산물1", K26, 0) -> 0 | AC26: =IF(O26="도급자관급자재대", K26, 0) -> 0 | AD26: =IF(O26="사용자항목3", K26, 0) -> 0 | AE26: =IF(O26="사용자항목4", K26, 0) -> 0 | AF26: =IF(O26="사용자항목5", K26, 0) -> 0 | AG26: =IF(O26="사용자항목6", K26, 0) -> 0 | AH26: =IF(O26="사용자항목7", K26, 0) -> 0 | AI26: =IF(O26="사용자항목8", K26, 0) -> 0 | AJ26: =IF(O26="사용자항목9", K26, 0) -> 0 | AK26: =IF(O26="사용자항목10", K26, 0) -> 0 | AL26: =IF(O26="사용자항목11", K26, 0) -> 0 | AM26: =IF(O26="사용자항목12", K26, 0) -> 0 | AN26: =IF(O26="사용자항목13", K26, 0) -> 0 | AO26: =IF(O26="사용자항목14", K26, 0) -> 0 | AP26: =IF(O26="사용자항목15", K26, 0) -> 0 | AQ26: =IF(O26="품질관리비", K26, 0) -> 0 | AR26: =IF(O26="석면분담금", K26, 0) -> 0 | AS26: =IF(O26="임금채권부담금", K26, 0) -> 0 | AT26: =IF(O26="소방시설공사업 배상책임공제", K26, 0) -> 0
A27: 소방용밸브 | B27: 앵글밸브, D40 | C27: EA | D27: 1 | J27: =ROUNDDOWN(D27*I27, 0) -> 0 | K27: =F27+H27+J27 -> 0 | N27: ="01" -> 01 | O27: 기계경비 | P27: 1 | Q27: =IF(O27="기계경비", J27, 0) -> 0 | R27: =IF(O27="운반비", K27, 0) -> 0 | S27: =IF(O27="작업부산물", F27, 0) -> 0 | T27: =IF(O27="관급", F27, 0) -> 0 | U27: =IF(O27="외주비", J27, 0) -> 0 | V27: =IF(O27="장비비", J27, 0) -> 0 | W27: =IF(O27="폐기물처리비", K27, 0) -> 0 | X27: =IF(O27="가설비", J27, 0) -> 0 | Y27: =IF(O27="잡비제외분", F27, 0) -> 0 | Z27: =IF(O27="사급자재대", K27, 0) -> 0 | AA27: =IF(O27="관급자재대", K27, 0) -> 0 | AB27: =IF(O27="작업부산물1", K27, 0) -> 0 | AC27: =IF(O27="도급자관급자재대", K27, 0) -> 0 | AD27: =IF(O27="사용자항목3", K27, 0) -> 0 | AE27: =IF(O27="사용자항목4", K27, 0) -> 0 | AF27: =IF(O27="사용자항목5", K27, 0) -> 0 | AG27: =IF(O27="사용자항목6", K27, 0) -> 0 | AH27: =IF(O27="사용자항목7", K27, 0) -> 0 | AI27: =IF(O27="사용자항목8", K27, 0) -> 0 | AJ27: =IF(O27="사용자항목9", K27, 0) -> 0 | AK27: =IF(O27="사용자항목10", K27, 0) -> 0 | AL27: =IF(O27="사용자항목11", K27, 0) -> 0 | AM27: =IF(O27="사용자항목12", K27, 0) -> 0 | AN27: =IF(O27="사용자항목13", K27, 0) -> 0 | AO27: =IF(O27="사용자항목14", K27, 0) -> 0 | AP27: =IF(O27="사용자항목15", K27, 0) -> 0 | AQ27: =IF(O27="품질관리비", K27, 0) -> 0 | AR27: =IF(O27="석면분담금", K27, 0) -> 0 | AS27: =IF(O27="임금채권부담금", K27, 0) -> 0 | AT27: =IF(O27="소방시설공사업 배상책임공제", K27, 0) -> 0
A28: 수동식소화기 | B28: 청정소화기 3.0KG | C28: EA | D28: 10 | J28: =ROUNDDOWN(D28*I28, 0) -> 0 | K28: =F28+H28+J28 -> 0 | N28: ="01" -> 01 | O28: 기계경비 | P28: 1 | Q28: =IF(O28="기계경비", J28, 0) -> 0 | R28: =IF(O28="운반비", K28, 0) -> 0 | S28: =IF(O28="작업부산물", F28, 0) -> 0 | T28: =IF(O28="관급", F28, 0) -> 0 | U28: =IF(O28="외주비", J28, 0) -> 0 | V28: =IF(O28="장비비", J28, 0) -> 0 | W28: =IF(O28="폐기물처리비", K28, 0) -> 0 | X28: =IF(O28="가설비", J28, 0) -> 0 | Y28: =IF(O28="잡비제외분", F28, 0) -> 0 | Z28: =IF(O28="사급자재대", K28, 0) -> 0 | AA28: =IF(O28="관급자재대", K28, 0) -> 0 | AB28: =IF(O28="작업부산물1", K28, 0) -> 0 | AC28: =IF(O28="도급자관급자재대", K28, 0) -> 0 | AD28: =IF(O28="사용자항목3", K28, 0) -> 0 | AE28: =IF(O28="사용자항목4", K28, 0) -> 0 | AF28: =IF(O28="사용자항목5", K28, 0) -> 0 | AG28: =IF(O28="사용자항목6", K28, 0) -> 0 | AH28: =IF(O28="사용자항목7", K28, 0) -> 0 | AI28: =IF(O28="사용자항목8", K28, 0) -> 0 | AJ28: =IF(O28="사용자항목9", K28, 0) -> 0 | AK28: =IF(O28="사용자항목10", K28, 0) -> 0 | AL28: =IF(O28="사용자항목11", K28, 0) -> 0 | AM28: =IF(O28="사용자항목12", K28, 0) -> 0 | AN28: =IF(O28="사용자항목13", K28, 0) -> 0 | AO28: =IF(O28="사용자항목14", K28, 0) -> 0 | AP28: =IF(O28="사용자항목15", K28, 0) -> 0 | AQ28: =IF(O28="품질관리비", K28, 0) -> 0 | AR28: =IF(O28="석면분담금", K28, 0) -> 0 | AS28: =IF(O28="임금채권부담금", K28, 0) -> 0 | AT28: =IF(O28="소방시설공사업 배상책임공제", K28, 0) -> 0
A29: 주방자동소화장치(전기식) | B29: 레인지용 | C29: SET | D29: 8 | J29: =ROUNDDOWN(D29*I29, 0) -> 0 | K29: =F29+H29+J29 -> 0 | N29: ="01" -> 01 | O29: 기계경비 | P29: 1 | Q29: =IF(O29="기계경비", J29, 0) -> 0 | R29: =IF(O29="운반비", K29, 0) -> 0 | S29: =IF(O29="작업부산물", F29, 0) -> 0 | T29: =IF(O29="관급", F29, 0) -> 0 | U29: =IF(O29="외주비", J29, 0) -> 0 | V29: =IF(O29="장비비", J29, 0) -> 0 | W29: =IF(O29="폐기물처리비", K29, 0) -> 0 | X29: =IF(O29="가설비", J29, 0) -> 0 | Y29: =IF(O29="잡비제외분", F29, 0) -> 0 | Z29: =IF(O29="사급자재대", K29, 0) -> 0 | AA29: =IF(O29="관급자재대", K29, 0) -> 0 | AB29: =IF(O29="작업부산물1", K29, 0) -> 0 | AC29: =IF(O29="도급자관급자재대", K29, 0) -> 0 | AD29: =IF(O29="사용자항목3", K29, 0) -> 0 | AE29: =IF(O29="사용자항목4", K29, 0) -> 0 | AF29: =IF(O29="사용자항목5", K29, 0) -> 0 | AG29: =IF(O29="사용자항목6", K29, 0) -> 0 | AH29: =IF(O29="사용자항목7", K29, 0) -> 0 | AI29: =IF(O29="사용자항목8", K29, 0) -> 0 | AJ29: =IF(O29="사용자항목9", K29, 0) -> 0 | AK29: =IF(O29="사용자항목10", K29, 0) -> 0 | AL29: =IF(O29="사용자항목11", K29, 0) -> 0 | AM29: =IF(O29="사용자항목12", K29, 0) -> 0 | AN29: =IF(O29="사용자항목13", K29, 0) -> 0 | AO29: =IF(O29="사용자항목14", K29, 0) -> 0 | AP29: =IF(O29="사용자항목15", K29, 0) -> 0 | AQ29: =IF(O29="품질관리비", K29, 0) -> 0 | AR29: =IF(O29="석면분담금", K29, 0) -> 0 | AS29: =IF(O29="임금채권부담금", K29, 0) -> 0 | AT29: =IF(O29="소방시설공사업 배상책임공제", K29, 0) -> 0
A30: 청정소화기받침대 | B30: 3.0KG | C30: EA | D30: 8 | J30: =ROUNDDOWN(D30*I30, 0) -> 0 | K30: =F30+H30+J30 -> 0 | N30: ="01" -> 01 | O30: 기계경비 | P30: 1 | Q30: =IF(O30="기계경비", J30, 0) -> 0 | R30: =IF(O30="운반비", K30, 0) -> 0 | S30: =IF(O30="작업부산물", F30, 0) -> 0 | T30: =IF(O30="관급", F30, 0) -> 0 | U30: =IF(O30="외주비", J30, 0) -> 0 | V30: =IF(O30="장비비", J30, 0) -> 0 | W30: =IF(O30="폐기물처리비", K30, 0) -> 0 | X30: =IF(O30="가설비", J30, 0) -> 0 | Y30: =IF(O30="잡비제외분", F30, 0) -> 0 | Z30: =IF(O30="사급자재대", K30, 0) -> 0 | AA30: =IF(O30="관급자재대", K30, 0) -> 0 | AB30: =IF(O30="작업부산물1", K30, 0) -> 0 | AC30: =IF(O30="도급자관급자재대", K30, 0) -> 0 | AD30: =IF(O30="사용자항목3", K30, 0) -> 0 | AE30: =IF(O30="사용자항목4", K30, 0) -> 0 | AF30: =IF(O30="사용자항목5", K30, 0) -> 0 | AG30: =IF(O30="사용자항목6", K30, 0) -> 0 | AH30: =IF(O30="사용자항목7", K30, 0) -> 0 | AI30: =IF(O30="사용자항목8", K30, 0) -> 0 | AJ30: =IF(O30="사용자항목9", K30, 0) -> 0 | AK30: =IF(O30="사용자항목10", K30, 0) -> 0 | AL30: =IF(O30="사용자항목11", K30, 0) -> 0 | AM30: =IF(O30="사용자항목12", K30, 0) -> 0 | AN30: =IF(O30="사용자항목13", K30, 0) -> 0 | AO30: =IF(O30="사용자항목14", K30, 0) -> 0 | AP30: =IF(O30="사용자항목15", K30, 0) -> 0 | AQ30: =IF(O30="품질관리비", K30, 0) -> 0 | AR30: =IF(O30="석면분담금", K30, 0) -> 0 | AS30: =IF(O30="임금채권부담금", K30, 0) -> 0 | AT30: =IF(O30="소방시설공사업 배상책임공제", K30, 0) -> 0
A31: 소화기표지(축광식) | B31: 160*160 | C31: EA | D31: 8 | J31: =ROUNDDOWN(D31*I31, 0) -> 0 | K31: =F31+H31+J31 -> 0 | N31: ="01" -> 01 | O31: 기계경비 | P31: 1 | Q31: =IF(O31="기계경비", J31, 0) -> 0 | R31: =IF(O31="운반비", K31, 0) -> 0 | S31: =IF(O31="작업부산물", F31, 0) -> 0 | T31: =IF(O31="관급", F31, 0) -> 0 | U31: =IF(O31="외주비", J31, 0) -> 0 | V31: =IF(O31="장비비", J31, 0) -> 0 | W31: =IF(O31="폐기물처리비", K31, 0) -> 0 | X31: =IF(O31="가설비", J31, 0) -> 0 | Y31: =IF(O31="잡비제외분", F31, 0) -> 0 | Z31: =IF(O31="사급자재대", K31, 0) -> 0 | AA31: =IF(O31="관급자재대", K31, 0) -> 0 | AB31: =IF(O31="작업부산물1", K31, 0) -> 0 | AC31: =IF(O31="도급자관급자재대", K31, 0) -> 0 | AD31: =IF(O31="사용자항목3", K31, 0) -> 0 | AE31: =IF(O31="사용자항목4", K31, 0) -> 0 | AF31: =IF(O31="사용자항목5", K31, 0) -> 0 | AG31: =IF(O31="사용자항목6", K31, 0) -> 0 | AH31: =IF(O31="사용자항목7", K31, 0) -> 0 | AI31: =IF(O31="사용자항목8", K31, 0) -> 0 | AJ31: =IF(O31="사용자항목9", K31, 0) -> 0 | AK31: =IF(O31="사용자항목10", K31, 0) -> 0 | AL31: =IF(O31="사용자항목11", K31, 0) -> 0 | AM31: =IF(O31="사용자항목12", K31, 0) -> 0 | AN31: =IF(O31="사용자항목13", K31, 0) -> 0 | AO31: =IF(O31="사용자항목14", K31, 0) -> 0 | AP31: =IF(O31="사용자항목15", K31, 0) -> 0 | AQ31: =IF(O31="품질관리비", K31, 0) -> 0 | AR31: =IF(O31="석면분담금", K31, 0) -> 0 | AS31: =IF(O31="임금채권부담금", K31, 0) -> 0 | AT31: =IF(O31="소방시설공사업 배상책임공제", K31, 0) -> 0
A32: 소화기함 설치 | B32: 스텐, 매립 300*600*180 | C32: 개소 | D32: 2 | J32: =ROUNDDOWN(D32*I32, 0) -> 0 | K32: =F32+H32+J32 -> 0 | N32: ="" | O32: 기계경비 | P32: 1 | Q32: =IF(O32="기계경비", J32, 0) -> 0 | R32: =IF(O32="운반비", K32, 0) -> 0 | S32: =IF(O32="작업부산물", F32, 0) -> 0 | T32: =IF(O32="관급", F32, 0) -> 0 | U32: =IF(O32="외주비", J32, 0) -> 0 | V32: =IF(O32="장비비", J32, 0) -> 0 | W32: =IF(O32="폐기물처리비", K32, 0) -> 0 | X32: =IF(O32="가설비", J32, 0) -> 0 | Y32: =IF(O32="잡비제외분", F32, 0) -> 0 | Z32: =IF(O32="사급자재대", K32, 0) -> 0 | AA32: =IF(O32="관급자재대", K32, 0) -> 0 | AB32: =IF(O32="작업부산물1", K32, 0) -> 0 | AC32: =IF(O32="도급자관급자재대", K32, 0) -> 0 | AD32: =IF(O32="사용자항목3", K32, 0) -> 0 | AE32: =IF(O32="사용자항목4", K32, 0) -> 0 | AF32: =IF(O32="사용자항목5", K32, 0) -> 0 | AG32: =IF(O32="사용자항목6", K32, 0) -> 0 | AH32: =IF(O32="사용자항목7", K32, 0) -> 0 | AI32: =IF(O32="사용자항목8", K32, 0) -> 0 | AJ32: =IF(O32="사용자항목9", K32, 0) -> 0 | AK32: =IF(O32="사용자항목10", K32, 0) -> 0 | AL32: =IF(O32="사용자항목11", K32, 0) -> 0 | AM32: =IF(O32="사용자항목12", K32, 0) -> 0 | AN32: =IF(O32="사용자항목13", K32, 0) -> 0 | AO32: =IF(O32="사용자항목14", K32, 0) -> 0 | AP32: =IF(O32="사용자항목15", K32, 0) -> 0 | AQ32: =IF(O32="품질관리비", K32, 0) -> 0 | AR32: =IF(O32="석면분담금", K32, 0) -> 0 | AS32: =IF(O32="임금채권부담금", K32, 0) -> 0 | AT32: =IF(O32="소방시설공사업 배상책임공제", K32, 0) -> 0
A33: 소방용헤드 | B33: 조기반응, 플러쉬 72°C 표준 | C33: EA | D33: 30 | J33: =ROUNDDOWN(D33*I33, 0) -> 0 | K33: =F33+H33+J33 -> 0 | N33: ="01" -> 01 | O33: 기계경비 | P33: 1 | Q33: =IF(O33="기계경비", J33, 0) -> 0 | R33: =IF(O33="운반비", K33, 0) -> 0 | S33: =IF(O33="작업부산물", F33, 0) -> 0 | T33: =IF(O33="관급", F33, 0) -> 0 | U33: =IF(O33="외주비", J33, 0) -> 0 | V33: =IF(O33="장비비", J33, 0) -> 0 | W33: =IF(O33="폐기물처리비", K33, 0) -> 0 | X33: =IF(O33="가설비", J33, 0) -> 0 | Y33: =IF(O33="잡비제외분", F33, 0) -> 0 | Z33: =IF(O33="사급자재대", K33, 0) -> 0 | AA33: =IF(O33="관급자재대", K33, 0) -> 0 | AB33: =IF(O33="작업부산물1", K33, 0) -> 0 | AC33: =IF(O33="도급자관급자재대", K33, 0) -> 0 | AD33: =IF(O33="사용자항목3", K33, 0) -> 0 | AE33: =IF(O33="사용자항목4", K33, 0) -> 0 | AF33: =IF(O33="사용자항목5", K33, 0) -> 0 | AG33: =IF(O33="사용자항목6", K33, 0) -> 0 | AH33: =IF(O33="사용자항목7", K33, 0) -> 0 | AI33: =IF(O33="사용자항목8", K33, 0) -> 0 | AJ33: =IF(O33="사용자항목9", K33, 0) -> 0 | AK33: =IF(O33="사용자항목10", K33, 0) -> 0 | AL33: =IF(O33="사용자항목11", K33, 0) -> 0 | AM33: =IF(O33="사용자항목12", K33, 0) -> 0 | AN33: =IF(O33="사용자항목13", K33, 0) -> 0 | AO33: =IF(O33="사용자항목14", K33, 0) -> 0 | AP33: =IF(O33="사용자항목15", K33, 0) -> 0 | AQ33: =IF(O33="품질관리비", K33, 0) -> 0 | AR33: =IF(O33="석면분담금", K33, 0) -> 0 | AS33: =IF(O33="임금채권부담금", K33, 0) -> 0 | AT33: =IF(O33="소방시설공사업 배상책임공제", K33, 0) -> 0
A34: 플렉시블조인트(소방용) | B34: (나관보온), 1,200mm, 소방용 | C34: EA | D34: 30 | J34: =ROUNDDOWN(D34*I34, 0) -> 0 | K34: =F34+H34+J34 -> 0 | N34: ="01" -> 01 | O34: 기계경비 | P34: 1 | Q34: =IF(O34="기계경비", J34, 0) -> 0 | R34: =IF(O34="운반비", K34, 0) -> 0 | S34: =IF(O34="작업부산물", F34, 0) -> 0 | T34: =IF(O34="관급", F34, 0) -> 0 | U34: =IF(O34="외주비", J34, 0) -> 0 | V34: =IF(O34="장비비", J34, 0) -> 0 | W34: =IF(O34="폐기물처리비", K34, 0) -> 0 | X34: =IF(O34="가설비", J34, 0) -> 0 | Y34: =IF(O34="잡비제외분", F34, 0) -> 0 | Z34: =IF(O34="사급자재대", K34, 0) -> 0 | AA34: =IF(O34="관급자재대", K34, 0) -> 0 | AB34: =IF(O34="작업부산물1", K34, 0) -> 0 | AC34: =IF(O34="도급자관급자재대", K34, 0) -> 0 | AD34: =IF(O34="사용자항목3", K34, 0) -> 0 | AE34: =IF(O34="사용자항목4", K34, 0) -> 0 | AF34: =IF(O34="사용자항목5", K34, 0) -> 0 | AG34: =IF(O34="사용자항목6", K34, 0) -> 0 | AH34: =IF(O34="사용자항목7", K34, 0) -> 0 | AI34: =IF(O34="사용자항목8", K34, 0) -> 0 | AJ34: =IF(O34="사용자항목9", K34, 0) -> 0 | AK34: =IF(O34="사용자항목10", K34, 0) -> 0 | AL34: =IF(O34="사용자항목11", K34, 0) -> 0 | AM34: =IF(O34="사용자항목12", K34, 0) -> 0 | AN34: =IF(O34="사용자항목13", K34, 0) -> 0 | AO34: =IF(O34="사용자항목14", K34, 0) -> 0 | AP34: =IF(O34="사용자항목15", K34, 0) -> 0 | AQ34: =IF(O34="품질관리비", K34, 0) -> 0 | AR34: =IF(O34="석면분담금", K34, 0) -> 0 | AS34: =IF(O34="임금채권부담금", K34, 0) -> 0 | AT34: =IF(O34="소방시설공사업 배상책임공제", K34, 0) -> 0
A35: 스프링클러헤드 철거 후 재설치 | C35: EA | D35: 343 | J35: =ROUNDDOWN(D35*I35, 0) -> 0 | K35: =F35+H35+J35 -> 0 | N35: ="" | O35: 기계경비 | P35: 1 | Q35: =IF(O35="기계경비", J35, 0) -> 0 | R35: =IF(O35="운반비", K35, 0) -> 0 | S35: =IF(O35="작업부산물", F35, 0) -> 0 | T35: =IF(O35="관급", F35, 0) -> 0 | U35: =IF(O35="외주비", J35, 0) -> 0 | V35: =IF(O35="장비비", J35, 0) -> 0 | W35: =IF(O35="폐기물처리비", K35, 0) -> 0 | X35: =IF(O35="가설비", J35, 0) -> 0 | Y35: =IF(O35="잡비제외분", F35, 0) -> 0 | Z35: =IF(O35="사급자재대", K35, 0) -> 0 | AA35: =IF(O35="관급자재대", K35, 0) -> 0 | AB35: =IF(O35="작업부산물1", K35, 0) -> 0 | AC35: =IF(O35="도급자관급자재대", K35, 0) -> 0 | AD35: =IF(O35="사용자항목3", K35, 0) -> 0 | AE35: =IF(O35="사용자항목4", K35, 0) -> 0 | AF35: =IF(O35="사용자항목5", K35, 0) -> 0 | AG35: =IF(O35="사용자항목6", K35, 0) -> 0 | AH35: =IF(O35="사용자항목7", K35, 0) -> 0 | AI35: =IF(O35="사용자항목8", K35, 0) -> 0 | AJ35: =IF(O35="사용자항목9", K35, 0) -> 0 | AK35: =IF(O35="사용자항목10", K35, 0) -> 0 | AL35: =IF(O35="사용자항목11", K35, 0) -> 0 | AM35: =IF(O35="사용자항목12", K35, 0) -> 0 | AN35: =IF(O35="사용자항목13", K35, 0) -> 0 | AO35: =IF(O35="사용자항목14", K35, 0) -> 0 | AP35: =IF(O35="사용자항목15", K35, 0) -> 0 | AQ35: =IF(O35="품질관리비", K35, 0) -> 0 | AR35: =IF(O35="석면분담금", K35, 0) -> 0 | AS35: =IF(O35="임금채권부담금", K35, 0) -> 0 | AT35: =IF(O35="소방시설공사업 배상책임공제", K35, 0) -> 0
A36: 구멍뚫기(코어드릴) | B36: D 50, 콘크리트 150㎜, 벽 | C36: 개소 | D36: 42 | J36: =ROUNDDOWN(D36*I36, 0) -> 0 | K36: =F36+H36+J36 -> 0 | N36: ="" | O36: 기계경비 | P36: 1 | Q36: =IF(O36="기계경비", J36, 0) -> 0 | R36: =IF(O36="운반비", K36, 0) -> 0 | S36: =IF(O36="작업부산물", F36, 0) -> 0 | T36: =IF(O36="관급", F36, 0) -> 0 | U36: =IF(O36="외주비", J36, 0) -> 0 | V36: =IF(O36="장비비", J36, 0) -> 0 | W36: =IF(O36="폐기물처리비", K36, 0) -> 0 | X36: =IF(O36="가설비", J36, 0) -> 0 | Y36: =IF(O36="잡비제외분", F36, 0) -> 0 | Z36: =IF(O36="사급자재대", K36, 0) -> 0 | AA36: =IF(O36="관급자재대", K36, 0) -> 0 | AB36: =IF(O36="작업부산물1", K36, 0) -> 0 | AC36: =IF(O36="도급자관급자재대", K36, 0) -> 0 | AD36: =IF(O36="사용자항목3", K36, 0) -> 0 | AE36: =IF(O36="사용자항목4", K36, 0) -> 0 | AF36: =IF(O36="사용자항목5", K36, 0) -> 0 | AG36: =IF(O36="사용자항목6", K36, 0) -> 0 | AH36: =IF(O36="사용자항목7", K36, 0) -> 0 | AI36: =IF(O36="사용자항목8", K36, 0) -> 0 | AJ36: =IF(O36="사용자항목9", K36, 0) -> 0 | AK36: =IF(O36="사용자항목10", K36, 0) -> 0 | AL36: =IF(O36="사용자항목11", K36, 0) -> 0 | AM36: =IF(O36="사용자항목12", K36, 0) -> 0 | AN36: =IF(O36="사용자항목13", K36, 0) -> 0 | AO36: =IF(O36="사용자항목14", K36, 0) -> 0 | AP36: =IF(O36="사용자항목15", K36, 0) -> 0 | AQ36: =IF(O36="품질관리비", K36, 0) -> 0 | AR36: =IF(O36="석면분담금", K36, 0) -> 0 | AS36: =IF(O36="임금채권부담금", K36, 0) -> 0 | AT36: =IF(O36="소방시설공사업 배상책임공제", K36, 0) -> 0
A37: 절연행거 | B37: D25 | C37: SET | D37: 16 | J37: =ROUNDDOWN(D37*I37, 0) -> 0 | K37: =F37+H37+J37 -> 0 | N37: ="" | O37: 기계경비 | P37: 1 | Q37: =IF(O37="기계경비", J37, 0) -> 0 | R37: =IF(O37="운반비", K37, 0) -> 0 | S37: =IF(O37="작업부산물", F37, 0) -> 0 | T37: =IF(O37="관급", F37, 0) -> 0 | U37: =IF(O37="외주비", J37, 0) -> 0 | V37: =IF(O37="장비비", J37, 0) -> 0 | W37: =IF(O37="폐기물처리비", K37, 0) -> 0 | X37: =IF(O37="가설비", J37, 0) -> 0 | Y37: =IF(O37="잡비제외분", F37, 0) -> 0 | Z37: =IF(O37="사급자재대", K37, 0) -> 0 | AA37: =IF(O37="관급자재대", K37, 0) -> 0 | AB37: =IF(O37="작업부산물1", K37, 0) -> 0 | AC37: =IF(O37="도급자관급자재대", K37, 0) -> 0 | AD37: =IF(O37="사용자항목3", K37, 0) -> 0 | AE37: =IF(O37="사용자항목4", K37, 0) -> 0 | AF37: =IF(O37="사용자항목5", K37, 0) -> 0 | AG37: =IF(O37="사용자항목6", K37, 0) -> 0 | AH37: =IF(O37="사용자항목7", K37, 0) -> 0 | AI37: =IF(O37="사용자항목8", K37, 0) -> 0 | AJ37: =IF(O37="사용자항목9", K37, 0) -> 0 | AK37: =IF(O37="사용자항목10", K37, 0) -> 0 | AL37: =IF(O37="사용자항목11", K37, 0) -> 0 | AM37: =IF(O37="사용자항목12", K37, 0) -> 0 | AN37: =IF(O37="사용자항목13", K37, 0) -> 0 | AO37: =IF(O37="사용자항목14", K37, 0) -> 0 | AP37: =IF(O37="사용자항목15", K37, 0) -> 0 | AQ37: =IF(O37="품질관리비", K37, 0) -> 0 | AR37: =IF(O37="석면분담금", K37, 0) -> 0 | AS37: =IF(O37="임금채권부담금", K37, 0) -> 0 | AT37: =IF(O37="소방시설공사업 배상책임공제", K37, 0) -> 0
A38: 절연행거 | B38: D32 | C38: SET | D38: 8 | J38: =ROUNDDOWN(D38*I38, 0) -> 0 | K38: =F38+H38+J38 -> 0 | N38: ="" | O38: 기계경비 | P38: 1 | Q38: =IF(O38="기계경비", J38, 0) -> 0 | R38: =IF(O38="운반비", K38, 0) -> 0 | S38: =IF(O38="작업부산물", F38, 0) -> 0 | T38: =IF(O38="관급", F38, 0) -> 0 | U38: =IF(O38="외주비", J38, 0) -> 0 | V38: =IF(O38="장비비", J38, 0) -> 0 | W38: =IF(O38="폐기물처리비", K38, 0) -> 0 | X38: =IF(O38="가설비", J38, 0) -> 0 | Y38: =IF(O38="잡비제외분", F38, 0) -> 0 | Z38: =IF(O38="사급자재대", K38, 0) -> 0 | AA38: =IF(O38="관급자재대", K38, 0) -> 0 | AB38: =IF(O38="작업부산물1", K38, 0) -> 0 | AC38: =IF(O38="도급자관급자재대", K38, 0) -> 0 | AD38: =IF(O38="사용자항목3", K38, 0) -> 0 | AE38: =IF(O38="사용자항목4", K38, 0) -> 0 | AF38: =IF(O38="사용자항목5", K38, 0) -> 0 | AG38: =IF(O38="사용자항목6", K38, 0) -> 0 | AH38: =IF(O38="사용자항목7", K38, 0) -> 0 | AI38: =IF(O38="사용자항목8", K38, 0) -> 0 | AJ38: =IF(O38="사용자항목9", K38, 0) -> 0 | AK38: =IF(O38="사용자항목10", K38, 0) -> 0 | AL38: =IF(O38="사용자항목11", K38, 0) -> 0 | AM38: =IF(O38="사용자항목12", K38, 0) -> 0 | AN38: =IF(O38="사용자항목13", K38, 0) -> 0 | AO38: =IF(O38="사용자항목14", K38, 0) -> 0 | AP38: =IF(O38="사용자항목15", K38, 0) -> 0 | AQ38: =IF(O38="품질관리비", K38, 0) -> 0 | AR38: =IF(O38="석면분담금", K38, 0) -> 0 | AS38: =IF(O38="임금채권부담금", K38, 0) -> 0 | AT38: =IF(O38="소방시설공사업 배상책임공제", K38, 0) -> 0
A39: 절연행거 | B39: D100 | C39: SET | D39: 7 | J39: =ROUNDDOWN(D39*I39, 0) -> 0 | K39: =F39+H39+J39 -> 0 | N39: ="" | O39: 기계경비 | P39: 1 | Q39: =IF(O39="기계경비", J39, 0) -> 0 | R39: =IF(O39="운반비", K39, 0) -> 0 | S39: =IF(O39="작업부산물", F39, 0) -> 0 | T39: =IF(O39="관급", F39, 0) -> 0 | U39: =IF(O39="외주비", J39, 0) -> 0 | V39: =IF(O39="장비비", J39, 0) -> 0 | W39: =IF(O39="폐기물처리비", K39, 0) -> 0 | X39: =IF(O39="가설비", J39, 0) -> 0 | Y39: =IF(O39="잡비제외분", F39, 0) -> 0 | Z39: =IF(O39="사급자재대", K39, 0) -> 0 | AA39: =IF(O39="관급자재대", K39, 0) -> 0 | AB39: =IF(O39="작업부산물1", K39, 0) -> 0 | AC39: =IF(O39="도급자관급자재대", K39, 0) -> 0 | AD39: =IF(O39="사용자항목3", K39, 0) -> 0 | AE39: =IF(O39="사용자항목4", K39, 0) -> 0 | AF39: =IF(O39="사용자항목5", K39, 0) -> 0 | AG39: =IF(O39="사용자항목6", K39, 0) -> 0 | AH39: =IF(O39="사용자항목7", K39, 0) -> 0 | AI39: =IF(O39="사용자항목8", K39, 0) -> 0 | AJ39: =IF(O39="사용자항목9", K39, 0) -> 0 | AK39: =IF(O39="사용자항목10", K39, 0) -> 0 | AL39: =IF(O39="사용자항목11", K39, 0) -> 0 | AM39: =IF(O39="사용자항목12", K39, 0) -> 0 | AN39: =IF(O39="사용자항목13", K39, 0) -> 0 | AO39: =IF(O39="사용자항목14", K39, 0) -> 0 | AP39: =IF(O39="사용자항목15", K39, 0) -> 0 | AQ39: =IF(O39="품질관리비", K39, 0) -> 0 | AR39: =IF(O39="석면분담금", K39, 0) -> 0 | AS39: =IF(O39="임금채권부담금", K39, 0) -> 0 | AT39: =IF(O39="소방시설공사업 배상책임공제", K39, 0) -> 0
A40: 스테인레스강관(2.8T) | B40: KS D 3576 SCH10SD, D40 | C40: M | D40: 238 | J40: =ROUNDDOWN(D40*I40, 0) -> 0 | K40: =F40+H40+J40 -> 0 | N40: ="04" -> 04 | O40: 기계경비 | P40: 1 | Q40: =IF(O40="기계경비", J40, 0) -> 0 | R40: =IF(O40="운반비", K40, 0) -> 0 | S40: =IF(O40="작업부산물", F40, 0) -> 0 | T40: =IF(O40="관급", F40, 0) -> 0 | U40: =IF(O40="외주비", J40, 0) -> 0 | V40: =IF(O40="장비비", J40, 0) -> 0 | W40: =IF(O40="폐기물처리비", K40, 0) -> 0 | X40: =IF(O40="가설비", J40, 0) -> 0 | Y40: =IF(O40="잡비제외분", F40, 0) -> 0 | Z40: =IF(O40="사급자재대", K40, 0) -> 0 | AA40: =IF(O40="관급자재대", K40, 0) -> 0 | AB40: =IF(O40="작업부산물1", K40, 0) -> 0 | AC40: =IF(O40="도급자관급자재대", K40, 0) -> 0 | AD40: =IF(O40="사용자항목3", K40, 0) -> 0 | AE40: =IF(O40="사용자항목4", K40, 0) -> 0 | AF40: =IF(O40="사용자항목5", K40, 0) -> 0 | AG40: =IF(O40="사용자항목6", K40, 0) -> 0 | AH40: =IF(O40="사용자항목7", K40, 0) -> 0 | AI40: =IF(O40="사용자항목8", K40, 0) -> 0 | AJ40: =IF(O40="사용자항목9", K40, 0) -> 0 | AK40: =IF(O40="사용자항목10", K40, 0) -> 0 | AL40: =IF(O40="사용자항목11", K40, 0) -> 0 | AM40: =IF(O40="사용자항목12", K40, 0) -> 0 | AN40: =IF(O40="사용자항목13", K40, 0) -> 0 | AO40: =IF(O40="사용자항목14", K40, 0) -> 0 | AP40: =IF(O40="사용자항목15", K40, 0) -> 0 | AQ40: =IF(O40="품질관리비", K40, 0) -> 0 | AR40: =IF(O40="석면분담금", K40, 0) -> 0 | AS40: =IF(O40="임금채권부담금", K40, 0) -> 0 | AT40: =IF(O40="소방시설공사업 배상책임공제", K40, 0) -> 0
...
