Workbook
Name _____DAT1: #REF!
Name _____DAT10: #REF!
Name _____DAT11: #REF!
Name _____DAT2: #REF!
Name _____DAT3: #REF!
Name _____DAT4: #REF!
Name _____DAT5: #REF!
Name _____DAT6: #REF!
Name _____DAT7: #REF!
Name _____DAT8: #REF!
Name _____DAT9: #REF!
Name ____DAT1: #REF!
Name ____DAT10: #REF!
Name ____DAT11: #REF!
Name ____DAT2: #REF!
Name ____DAT3: #REF!
Name ____DAT4: #REF!
Name ____DAT5: #REF!
Name ____DAT6: #REF!
Name ____DAT7: #REF!
Name ____DAT8: #REF!
Name ____DAT9: #REF!
Name ____PA1: #REF!
Name ____pd08: #REF!
Name ___a1: #REF!
Name ___DAT1: #REF!
Name ___DAT10: #REF!
Name ___DAT11: #REF!
Name ___DAT2: #REF!
Name ___DAT3: #REF!
Name ___DAT4: #REF!
Name ___DAT5: #REF!
Name ___DAT6: #REF!
Name ___DAT7: #REF!
Name ___DAT8: #REF!
Name ___DAT9: #REF!
Name ___p11: #REF!
Name ___p2: #REF!
Name ___PA1: #REF!
Name ___pd08: #REF!
Name ___sp1: #REF!
Name ___sp1: #REF!
Name ___sp1: #REF!
Name ___sp2: #REF!
Name ___sp2: #REF!
Name ___sp2: #REF!
Name ___sp3: #REF!
Name ___sp3: #REF!
Name __0Crite: #REF!
Name __0Criteria: #REF!
Name __10: #REF!
Name __10: #REF!
Name __11: #REF!
Name __11: #REF!
Name __6: #REF!
Name __6: #REF!
Name __7: #REF!
Name __7: #REF!
Name __8: #REF!
Name __8: #REF!

Sheet 사업개요
A2: 주택건설공사 감리자 모집에 따른 사업개요
A4: 1. 사업명 : 전미동1가 공동주택(연립) 신축공사
A6: 2. 신 청 자 현 황
A7: - 사업시행자 : 성안종합건설㈜ | C7: 대표 박 찬 수 | E7: (☏ 063-272-2377)
A8: 전북특별자치도 전주시 덕진구 세병로 30, 8층
A9: - 설 계 자 : ANS건축사사무소 | C9: 대표 신 용 석 | E9: (☏ 032-555-7896)
A10: 인천광역시 부평구 충선로 209번길 13, 405호
A11: - 시 공 자 : 성안종합건설㈜ | C11: 대표 박 찬 수 | E11: (☏ 063-272-2377)
A12: 전북특별자치도 전주시 덕진구 세병로 30, 8층
A14: 3. 사 업 개 요
A15: 1) 대 지 위 치 : 전북특별자치도 전주시 덕진구 전미동1가 26-12 외 6필지
A16: 2) 대 지 면 적 : 8,699㎡
A17: 3) 규 모 : 지하1층, 지상4층 공동주택 5개동 40세대
A18: 4) 연 면 적 : 9,419.7504㎡
A19: 5) 사 업 승 인 일 : 2026. 09. 28. | C19: 세대수: 40세대
A20: 6) 전체공사기간 : 2026년 11월 ~ 2028년 04월 (18개월)
A22: 4. 공 사 개 요
A23: 1) 총사업비 | B23: : | C23: =사업비산출총괄표!D24 -> 19532524 | D23: 천원
A24: 2) 대지비 | B24: : | C24: =사업비산출총괄표!D22 -> 5041400 | D24: 천원
A25: 3) 총공사비 | B25: : | C25: =사업비산출총괄표!D14 -> 12003229 | D25: 천원 | E25: (부가세별도)
A26: - 건축감리대상공사비 | B26: : | C26: =사업비산출총괄표!E14 -> 9777137.9 | D26: 천원 | E26: (일반관리비, 이윤포함)
A27: - 타법감리대상공사비 | B27: : | C27: =사업비산출총괄표!H14 -> 1943711.4 | D27: 천원 | E27: (일반관리비, 이윤포함)
A28: - 감리제외공사비 | B28: : | C28: =[1]사업비산출총괄표!I14 -> 266393 | D28: 천원
A31: * 주택법 제24조 6항에 의거 주택건설공사 감리비 지급기준에 의거하여 산정.

Sheet 사업비산출총괄표
A1: [별지 제1호 서식]
A2: 총 사업비 산출 총괄표
A3: ※공사명 : 전미동1가 공동주택(연립) 신축공사 | I3: (단위 : 천원)
A4: 구 분 | D4: 전 체 | E4: 건축감리 | F4: 전기감리 | G4: 소방감리 | H4: 타법감리 | I4: 감리제외
A5: 총 공 사 비 | B5: 순공사비 | C5: 토목공사 | D5: =SUM(E5:I5) -> 1711629 | E5: =공종별총공사비!E11 -> 1445233 | I5: 266396 | N5: 기존금액 | O5: 제외금액(48%) | P5: 적용금액(52%)
C6: 건축공사 | D6: =SUM(E6:I6) -> 7318343 | E6: =공종별총공사비!E28 -> 7318343 | N6: 145560 | O6: 69868.8 | P6: 75691.2
C7: 기계설비공사 | D7: =SUM(E7:I7) -> 460139 | E7: =공종별총공사비!E38 -> 460139 | N7: 162827 | O7: 78156.96 | P7: 84670.04
C8: 전기공사 | D8: =SUM(E8:I8) -> 768182 | H8: =공종별총공사비!H39 -> 768182 | P8: 0
C9: 정보통신공사 | D9: =SUM(E9:I9) -> 501785 | H9: =공종별총공사비!H40 -> 501785 | P9: 0
C10: 소방설비공사 | D10: =SUM(E10:I10) -> 563723 | H10: =공종별총공사비!H41 -> 563723 | N10: 246605 | O10: 118370.4 | P10: 128234.6
C11: 계 | D11: =SUM(D5:D10) -> 11323801 | E11: =SUM(E5:E10) -> 9223715 | F11: =SUM(F5:F10) -> 0 | G11: =SUM(G5:G10) -> 0 | H11: =SUM(H5:H10) -> 1833690 | I11: =SUM(I5:I10) -> 266396
B12: 일반관리비 | D12: =공종별총공사비!D43 -> 452952.04 | E12: =공종별총공사비!E43 -> 368948.6 | H12: =공종별총공사비!H43 -> 73347.6 | K12: =$E$12/E11 -> 0.04
B13: 이 윤 | D13: =공종별총공사비!D44 -> 226476.02 | E13: =공종별총공사비!E44 -> 184474.3 | H13: =공종별총공사비!H44 -> 36673.8 | K13: =E13/E11 -> 0.02
B14: 소 계 | D14: =SUM(D11:D13) -> 12003229 | E14: =SUM(E11:E13) -> 9777137.9 | F14: =SUM(F11:F13) -> 0 | G14: =SUM(G11:G13) -> 0 | H14: =SUM(H11:H13) -> 1943711.4 | I14: =SUM(I11:I13) -> 266396
A15: 간 접 비 | B15: 설 계 비 | D15: 316363
B16: 감 리 비 | D16: 300000
B17: 일반분양시설경비 | D17: 763800
B18: 분담금 및 부담금 | D18: 225176
B19: 보 상 비 | D19: 0
B20: 기타 사업비성 경비 | D20: 882556
B21: 소 계 | D21: =SUM(D15:D20) -> 2487895
A22: 대 지 비 | D22: 5041400
A23: 부가가치세액 | D23: 0
A24: 총사업비 계 | D24: =+D23+D22+D21+D14 -> 19532524
A26: 주 1. 순공사비란 : 재료비,노무비,경비를 합한 금액임
A27: 2. 일반관리비와 이윤에 대한 정의 및 산정방법은 "원가계산에 의한 예정가격 작성준칙(예산회계)"에 따름
A28: 3. 부가가치 세액의 정의와 산정방법은 "부가가치세법"에 따름
A29: 4. 간접비란 사업비 중 총 공사비를 제외한 설계비,감리비, 일반분양시설 경비등 사업비성 경비를 말하며,
A30: 세부비목은 다음과 같음
A31: - 일반 분양시설 경비 : 시공비,운영비,광고홍보비
A32: - 분담금 및 부담금 : 인입분담금(가스,전기,수도,지역난방),진입도로,학교용지확보 부담금
A33: - 보상비 : 이주대책비,이주보상비
A34: - 기타 사업비성 경비 : 제세공과금,측량.교통.환경영향평가 수수료,취득세,등록세,건물 보존등기비 및
A35: 입주관리비, 분양.임대보증 및 하자 보증수수료등 기타 사업성 경비
A36: - 대지비 : 대지구입비,대지구입관련 금융비용 및 제세공과금

Sheet 공종별총공사비
A1: [별지 제2호 서식]
A2: 공종별 총공사비 구성 현황표
I3: (금액단위 : 천원)
A4: 구분 | B4: 분야 | C4: 공종 | D4: 전체 | E4: 건축감리 | F4: 전기감리 | G4: 소방감리 | H4: 타법감리 | I4: 감리제외
A5: 순공사비 | B5: 토목 | C5: 토공사 및 흙막이공사 | D5: 294454 | E5: 294454 | L5: =F5+H5+G5+E5+-D5 -> 0 | P5: 기존금액 | Q5: 제외금액(48%) | R5: 적용금액(52%)
B6: (6개공종) | C6: 우,오수공사 | D6: =SUM(E6:I6) -> 145560 | E6: 75691 | I6: 69869 | L6: =F6+H6+G6+E6+-D6 -> -69869 | P6: 145560 | Q6: =P6*0.48 -> 69868.8 | R6: =P6-Q6 -> 75691.2
C7: 측구공사 | D7: =SUM(E7:I7) -> 162827 | E7: 84670 | I7: 78157 | P7: 162827 | Q7: =P7*0.48 -> 78156.96 | R7: =P7-Q7 -> 84670.04
C8: 옹벽공사 | D8: 464094 | E8: 464094 | Q8: =P8*0.48 -> 0 | R8: =P8-Q8 -> 0
C9: 조경공사(식재,시설물) | D9: 398089 | E9: 398089 | Q9: =P9*0.48 -> 0 | R9: =P9-Q9 -> 0
C10: 포장및부대공사 | D10: =SUM(E10:I10) -> 246605 | E10: 128235 | I10: 118370 | L10: =F10+H10+G10+E10+-D10 -> -118370 | P10: 246605 | Q10: =P10*0.48 -> 118370.4 | R10: =P10-Q10 -> 128234.6
C11: 소계 1 | D11: =SUM(D5:D10) -> 1711629 | E11: =SUM(E5:E10) -> 1445233 | I11: =SUM(I5:I10) -> 266396 | L11: =F11+H11+G11+E11+-D11 -> -266396
B12: 건축 | C12: 공통가설공사 | D12: 367518 | E12: 367518 | L12: =F12+H12+G12+E12+-D12 -> 0 | P12: 제외금액 합계 | Q12: =Q6+Q7+Q10 -> 266396.16
B13: (16개공종) | C13: 가설공사 | D13: 249768 | E13: 249768 | L13: =F13+H13+G13+E13+-D13 -> 0
C14: 철근콘크리트공사 | D14: 2704004 | E14: 2704004 | L14: =F14+H14+G14+E14+-D14 -> 0
C15: 방수공사 | D15: 109768 | E15: 109768 | L15: =F15+H15+G15+E15+-D15 -> 0
C16: 조적공사 | D16: 48156 | E16: 48156 | L16: =F16+H16+G16+E16+-D16 -> 0 | P16: 기존토목면적 | Q16: 제외토목면적
C17: 미장공사 | D17: 97088 | E17: 97088 | L17: =F17+H17+G17+E17+-D17 -> 0 | P17: =1141+1128 -> 2269 | Q17: 1128
C18: 타일공사 | D18: 22376 | E18: 22376 | L18: =F18+H18+G18+E18+-D18 -> 0 | Q18: =Q17/P17 -> 0.4971353
C19: 수장공사 | D19: 45579 | E19: 45579 | L19: =F19+H19+G19+E19+-D19 -> 0
C20: 도장공사 | D20: 190357 | E20: 190357 | L20: =F20+H20+G20+E20+-D20 -> 0
C21: 석공사 | D21: 504421 | E21: 504421 | L21: =F21+H21+G21+E21+-D21 -> 0
C22: 창호공사 | D22: 66904 | E22: 66904 | L22: =F22+H22+G22+E22+-D22 -> 0
C23: 금속공사 | D23: 138605 | E23: 138605 | L23: =F23+H23+G23+E23+-D23 -> 0
C24: 유리공사 | D24: 64586 | E24: 64586 | L24: =F24+H24+G24+E24+-D24 -> 0
C25: 승강기공사 | D25: 263100 | E25: 263100 | L25: =F25+H25+G25+E25+-D25 -> 0
C26: 주요자재 및 운반비 | D26: 51023 | E26: 51023 | L26: =F26+H26+G26+E26+-D26 -> 0
C27: 인테리어공사 | D27: 2395090 | E27: 2395090 | L27: =F27+H27+G27+E27+-D27 -> 0
C28: 소계 2 | D28: =SUM(D12:D27) -> 7318343 | E28: =SUM(E12:E27) -> 7318343 | L28: =F28+H28+G28+E28+-D28 -> 0
A29: 순공사비 | B29: 기계설비 | C29: 장비설치공사 | D29: 94984 | E29: 94984 | L29: =F29+H29+G29+E29+-D29 -> 0
B30: (9개공종) | C30: 급수급탕배관공사 | D30: 47988 | E30: 47988 | L30: =F30+H30+G30+E30+-D30 -> 0
C31: 오배수배관공사 | D31: 51108 | E31: 51108 | L31: =F31+H31+G31+E31+-D31 -> 0
C32: 환기덕트공사 | D32: 6527 | E32: 6527 | L32: =F32+H32+G32+E32+-D32 -> 0
C33: 단위세대 급수급탕공사 | D33: 62482 | E33: 62482 | L33: =F33+H33+G33+E33+-D33 -> 0
C34: 단위세대 오배수공사 | D34: 60179 | E34: 60179 | L34: =F34+H34+G34+E34+-D34 -> 0
C35: 단위세대 난방공사 | D35: 91479 | E35: 91479 | L35: =F35+H35+G35+E35+-D35 -> 0
C36: 단위세대 환기공사 | D36: 32168 | E36: 32168 | L36: =F36+H36+G36+E36+-D36 -> 0
C37: 옥외급수공사 | D37: 13224 | E37: 13224 | L37: =F37+H37+G37+E37+-D37 -> 0
C38: 소계 3 | D38: =SUM(D29:D37) -> 460139 | E38: =SUM(E29:E37) -> 460139 | L38: =F38+H38+G38+E38+-D38 -> 0
B39: 전기(9개 공사) | D39: 768182 | H39: 768182 | J39: 0.84533881 | L39: =F39+H39+G39+E39+-D39 -> 0
B40: 정보통신(13개 공사) | D40: 501785 | H40: 501785 | J40: 0.012464161 | L40: =F40+H40+G40+E40+-D40 -> 0
B41: 소방(6개공사) | D41: 563723 | H41: 563723 | J41: 0.02808829 | L41: =F41+H41+G41+E41+-D41 -> 0
A42: 합계 | D42: =E42+H42+I42 -> 11323801 | E42: =E11+E28+E38 -> 9223715 | F42: =F11+F28+F38 -> 0 | G42: =G11+G28+G38 -> 0 | H42: =H39+H40+H41 -> 1833690 | I42: =I11 -> 266396 | K42: =H42+G42+F42+E42+-D42 -> -266396 | L42: =F42+H42+G42+E42+-D42 -> -266396
A43: 일반관리비 | D43: =D42*4% -> 452952.04 | E43: =E42*4% -> 368948.6 | H43: =H42*4% -> 73347.6 | K43: =(#REF!/H42)*H43 -> #REF!
A44: 이윤 | D44: =D42*2% -> 226476.02 | E44: =E42*2% -> 184474.3 | H44: =H42*2% -> 36673.8 | K44: =(#REF!/H42)*H44 -> #REF!
A45: 총 공 사 비 계 | D45: =SUM(D42:D44) -> 12003229 | E45: =SUM(E42:E44) -> 9777137.9 | F45: =SUM(F42:F44) -> 0 | G45: =SUM(G42:G44) -> 0 | H45: =SUM(H42:H44) -> 1943711.4 | I45: =I11 -> 266396 | K45: =+K44+K43+#REF! -> #REF!
K46: =D45-K45 -> #REF!

Sheet 예정공정표
A1: 전 체 예 정 공 정 표
B2: 공 사 명 : 전미동1가 공동주택(연립) 신축공사
B3: 착공 예정일 : 2026.11
B4: 공 사 기 간 : 착공일로부터 18개월
A5: 공 종 | D5: 2026년 | F5: 2027년 | R5: 2028년 | V5: 비 고
D6: 11 | E6: 12 | F6: 1 | G6: 2 | H6: 3 | I6: 4 | J6: 5 | K6: 6 | L6: 7 | M6: 8 | N6: 9 | O6: 10 | P6: 11 | Q6: 12 | R6: 1 | S6: 2 | T6: 3 | U6: 4
D7: 1 | E7: 2 | F7: 3 | G7: 4 | H7: 5 | I7: 6 | J7: 7 | K7: 8 | L7: 9 | M7: 10 | N7: 11 | O7: 12 | P7: 13 | Q7: 14 | R7: 15 | S7: 16 | T7: 17 | U7: 18
A8: 전체공기 | V8: 2026.11.01~2028.04.30 (18개월)
A11: 건 축 공 사 | V11: 2026.11.01~2028.04.30 (18개월)
A14: 구조체공사 | V14: 2027.01.01~2027.08.31 (8개월)
A17: 토목 공사 | V17: 2026.11.01~2027.03.31 2027.12.01~2028.04.30 (10개월)
A20: 조경 공 사 | V20: 2027.12.01~2028.04.30 (5개월)
A23: 설 비 공 사 | V23: 2027.01.01~2028.04.30 (16개월)
A26: 전 기 공 사 (타법감리) | V26: 2027.01.01~2028.04.30 (16개월)
A29: 정보통신공사 (타법감리) | V29: 2027.01.01~2028.04.30 (16개월)
A32: 소 방 공 사 (타법감리) | V32: 2027.01.01~2028.04.30 (16개월)
Z49: 1 | AB49: 2022 | AC49: 6
Z50: 2 | AB50: 2022 | AC50: 7
Z51: 3 | AB51: 2022 | AC51: 8
Z52: 4 | AB52: 2022 | AC52: 9
Z53: 5 | AB53: 2022 | AC53: 10
Z54: 6 | AB54: 2022 | AC54: 11
Z55: 7 | AB55: 2022 | AC55: 12
Z56: 8 | AB56: 2023 | AC56: 1
Z57: 9 | AB57: 2023 | AC57: 2
Z58: 10 | AB58: 2023 | AC58: 3
Z59: 11 | AB59: 2023 | AC59: 4
Z60: 12 | AB60: 2023 | AC60: 5
... Z81: 33 | AB81: 2025 | AC81: 2
