Workbook

Sheet 겉표지
A1: =표지!A1 -> 見 積 書 | Z1: 견적가로형식-1
C18: 件 名: | D18: =표지!C13 -> 신안군 스마트양식 클러스터 테스트배드 조성사업 통신공사
C20: 提 出 處: | D20: =표지!C4 -> 貴下
C22: 提 出 日: | D22: =표지!C6 -> 2026년 5월 18일
D36: =표지!I3 -> 대 한 민 국 주 식 회 사
D37: =표지!I4
D38: =표지!I5 -> ㅇ ㅇ 시 ㅇ ㅇ 구 ㅇ ㅇ 동
D39: =표지!I6
D40: =표지!I7 -> 대표이사 홍 길 동
D41: =표지!I8
D42: =표지!I9 -> 대표전화 (02) 0 0 0 - 0 0 0 0
D43: =표지!I10
D44: =표지!I11 -> 팩 스 (02) 0 0 0 - 0 0 0 0
D45: =표지!I12
D46: =표지!I13

Sheet 표지
A1: 見 積 書
I3: 대 한 민 국 주 식 회 사
B4: 제 출 처: | C4: 貴下
I5: ㅇ ㅇ 시 ㅇ ㅇ 구 ㅇ ㅇ 동
B6: 제 출 일: | C6: 2026년 5월 18일
I7: 대표이사 홍 길 동
B8: 아래와 같이 見積書를 제출합니다.
I9: 대표전화 (02) 0 0 0 - 0 0 0 0
I11: 팩 스 (02) 0 0 0 - 0 0 0 0
B13: 공 사 명: | C13: 신안군 스마트양식 클러스터 테스트배드 조성사업 통신공사
B15: 공사금액: | C15: ="一金"&NUMBERSTRING(F40,2)&"원整("&DOLLAR(F40,0)&")" -> 一金零원整(₩0)
B17: 내 용 | D17: 단위 | E17: 수량 | F17: 금 액 | H17: 비 고 | M17: 요율 | N17: 금액 | O17: 이윤 | P17: 끝자리맞추기
B18: 재 료 비 | D18: 식 | E18: 1 | F18: =옵션!$B$2 -> 0 | N18: =E18*F18 -> 0
B19: 노 무 비 | D19: 식 | E19: 1 | F19: =옵션!$C$2 -> 0 | N19: =E19*F19 -> 0
B20: 간 접 노 무 비 | D20: 식 | E20: 1 | F20: =TRUNC((F19)*M20/100) -> 0 | H20: (직접 노무비) * 17.9 % | M20: 17.9 | N20: =E20*F20 -> 0
B21: ( 소 계 ) | F21: =SUM(F18:F20) -> 0 | N21: =E21*F21 -> 0
B22: 기 계 경 비 | D22: 식 | E22: 1 | F22: =옵션!$D$2 -> 0 | N22: =E22*F22 -> 0
B23: 산 재 보 험 료 | D23: 식 | E23: 1 | F23: =TRUNC((F19+F20)*M23/100) -> 0 | H23: (노무비) * 3.56 % | M23: 3.56 | N23: =E23*F23 -> 0
B24: 고 용 보 험 료 | D24: 식 | E24: 1 | F24: =TRUNC((F19+F20)*M24/100) -> 0 | H24: (노무비) * 1.01 % | M24: 1.01 | N24: =E24*F24 -> 0
B25: 건 강 보 험 료 | D25: 식 | E25: 1 | F25: =TRUNC((F19)*M25/100) -> 0 | H25: (직접 노무비) * 3.595 % | M25: 3.595 | N25: =E25*F25 -> 0
B26: 연 금 보 험 료 | D26: 식 | E26: 1 | F26: =TRUNC((F19)*M26/100) -> 0 | H26: (직접 노무비) * 4.75 % | M26: 4.75 | N26: =E26*F26 -> 0
B27: 퇴 직 금 공 제 | D27: 식 | E27: 1 | F27: =TRUNC((F19)*M27/100) -> 0 | H27: (직접 노무비) * 2.3 % | M27: 2.3 | N27: =E27*F27 -> 0
B28: 안 전 관 리 비 | D28: 식 | E28: 1 | F28: =TRUNC((F18+F19+F37/1.1)*M28/100) -> 0 | H28: (재료+직노+관급재/1.1) * 3.11 % | M28: 3.11 | N28: =E28*F28 -> 0
B29: 기 타 경 비 | D29: 식 | E29: 1 | F29: =TRUNC((F21)*M29/100) -> 0 | H29: (재료+노무) * 5.2 % | M29: 5.2 | N29: =E29*F29 -> 0
B30: 법 정 분 담 금 | D30: 식 | E30: 1 | F30: =TRUNC((F19+F20)*M30/100) -> 0 | H30: (노무비) * 0.096 % | M30: 0.096 | N30: =E30*F30 -> 0
B31: 노인장기요양보험 | D31: 식 | E31: 1 | F31: =TRUNC((F25)*M31/100) -> 0 | H31: (건강 보험료) * 13.14 % | M31: 13.14 | N31: =E31*F31 -> 0
B32: ( 소 계 ) | F32: =SUM(F22:F31) -> 0 | N32: =E32*F32 -> 0
B33: 일 반 관 리 비 | D33: 식 | E33: 1 | F33: =TRUNC((F21+F32)*M33/100) -> 0 | H33: (재료+노무+경비) * 8 % | M33: 8 | N33: =E33*F33 -> 0
B34: 이 윤 | D34: 식 | E34: 1 | F34: =O34-((SUM(N18:N33)+O34-TRUNC((SUM(N18:N33)+O34)/P34)*P34)) -> 0 | H34: (노무+경비+일반관리비) * 15 % | M34: 15 | N34: =E34*F34 -> 0 | O34: =TRUNC((F19+F20+F32+F33)*M34/100) -> 0 | P34: 100000
B35: ( 총 원 가 ) | F35: =SUM(N18:N34) -> 0 | N35: =E35*F35 -> 0
B36: 부 가 가 치 세 | D36: 식 | E36: 1 | F36: =TRUNC((F35)*M36/100) -> 0 | M36: 10 | N36: =E36*F36 -> 0
B37: 관 급 자 관 급 | D37: 식 | E37: 1 | F37: =옵션!$F$3 -> 0 | N37: =E37*F37 -> 0
N38: =E38*F38 -> 0
N39: =E39*F39 -> 0
B40: ( 총 계 ) | F40: =N40 -> 0 | N40: =SUM(N18:N39) -> 0
B41: 1. 부가가치세 별도
B42: 2. 한전불입금 별도

Sheet 원가
A1: 원 가 계 산 서
A3: 공사명: | C3: 신안군 스마트양식 클러스터 테스트배드 조성사업 통신공사 | E3: 공사기간: 15 개월
A4: 비 목 | C4: 구 분 | D4: 금 액 | E4: 구 성 비 | I4: 요율 | J4: 수량 | K4: 금액 | L4: 이윤 | M4: 끝자리 맞추기
B5: 재 료 비 | C5: 직 접 재 료 비 | D5: =옵션!$B$2 -> 0 | J5: 1 | K5: =D5*J5 -> 0
C6: 간 접 재 료 비 | K6: =D6*J6 -> 0
C7: ( 소 계 ) | D7: =SUM(D5:D6) -> 0 | K7: =D7*J7 -> 0
A8: 순 | B8: 노 무 비 | C8: 직 접 노 무 비 | D8: =옵션!$C$2 -> 0 | J8: 1 | K8: =D8*J8 -> 0
C9: 간 접 노 무 비 | D9: =TRUNC(D8*I9/100) -> 0 | E9: (직접 노무비) * 18.2 % | I9: 18.2 | J9: 1 | K9: =D9*J9 -> 0
C10: ( 소 계 ) | D10: =SUM(D8:D9) -> 0 | K10: =D10*J10 -> 0
C11: 기 계 경 비 | D11: =옵션!$D$2 -> 0 | J11: 1 | K11: =D11*J11 -> 0
C12: 산 재 보 험 료 | D12: =TRUNC(D10*I12/100) -> 0 | E12: (노무비) * 3.56 % | I12: 3.56 | J12: 1 | K12: =D12*J12 -> 0
A13: 공 | C13: 고 용 보 험 료 | D13: =TRUNC(D10*I13/100) -> 0 | E13: (노무비) * 1.01 % | I13: 1.01 | J13: 1 | K13: =D13*J13 -> 0
B14: 경 | C14: 퇴 직 금 공 제 | D14: =TRUNC(D8*I14/100) -> 0 | E14: (직접 노무비) * 2.3 % | I14: 2.3 | J14: 1 | K14: =D14*J14 -> 0
C15: 안 전 관 리 비 | D15: =TRUNC((D7+D8)*I15/100) -> 0 | E15: (재료+직노) * 2.07 % | I15: 2.07 | J15: 1 | K15: =D15*J15 -> 0
C16: 기 타 경 비 | D16: =TRUNC((D7+D10)*I16/100) -> 0 | E16: (재료+노무) * 5.5 % | I16: 5.5 | J16: 1 | K16: =D16*J16 -> 0
C17: 건 강 보 험 료 | D17: =TRUNC(D8*I17/100) -> 0 | E17: (직접 노무비) * 3.595 % | I17: 3.595 | J17: 1 | K17: =D17*J17 -> 0
A18: 사 | C18: 연 금 보 험 료 | D18: =TRUNC(D8*I18/100) -> 0 | E18: (직접 노무비) * 4.75 % | I18: 4.75 | J18: 1 | K18: =D18*J18 -> 0
C19: 노인장기요양보험 | D19: =TRUNC(D17*I19/100) -> 0 | E19: (건강 보험료) * 13.14 % | I19: 13.14 | J19: 1 | K19: =D19*J19 -> 0
C20: 법 정 분 담 금 | D20: =TRUNC(D10*I20/100) -> 0 | E20: (노무비) * 0.096 % | I20: 0.096 | J20: 1 | K20: =D20*J20 -> 0
K21: =D21*J21 -> 0
B22: 비 | K22: =D22*J22 -> 0
A23: 비 | K23: =D23*J23 -> 0
K24: =D24*J24 -> 0
C25: ( 소 계 ) | D25: =SUM(D11:D24) -> 0 | K25: =D25*J25 -> 0
B26: ( 순 공 사 비 계 ) | D26: =D7+D10+D25 -> 0 | K26: =D26*J26 -> 0
A27: 일 반 관 리 비 | D27: =TRUNC((D7+D10+D25)*I27/100) -> 0 | E27: (재료+노무+경비) * 8 % | I27: 8 | J27: 1 | K27: =D27*J27 -> 0
A28: 이 윤 | D28: =L28-((SUM(K5:K27)+L28-TRUNC((SUM(K5:K27)+L28)/M28)*M28)) -> 0 | E28: (노무+경비+일반관리비) * 15 % | I28: 15 | J28: 1 | K28: =D28*J28 -> 0 | L28: =TRUNC((D10+D25+D27)*I28/100) -> 0 | M28: 100000
A29: ( 총 원 가 ) | D29: =SUM(K5:K28) -> 0 | K29: =D29*J29 -> 0
A30: 부 가 가 치 세 | D30: =TRUNC(D29*I30/100) -> 0 | I30: 10 | J30: 1 | K30: =D30*J30 -> 0
A31: 관 급 자 관 급 | D31: =옵션!$F$3 -> 0 | H31: =SUM(D29:D30) -> 0 | J31: 1 | K31: =D31*J31 -> 0
K32: =D32*J32 -> 0
K33: =D33*J33 -> 0
K34: =D34*J34 -> 0
A35: ( 총 계 ) | D35: =K35 -> 0 | K35: =SUM(K5:K34) -> 0

Sheet 총괄표
A1: 총줄수-> | B1: 133 | C1: 2.0 | D1: [ 신안군 스마트양식 클러스터 테스트배드 조성 ] | AA1: 연속견적가로형식
A2: 번호 | B2: 공종코드 | C2: … | D2: 공 종 명 | E2: 규격 | F2: 단위 | G2: 수량 | H2: 재료비 | J2: 노무비 | M2: 경비 | P2: 계 | Q2: 비고
H3: 단가 | I3: 금액 | J3: 수량 | K3: 단가 | L3: 금액 | M3: 단가 | N3: 금액 | O3: 단가
B4: 공종줄 | D4: [신안군 스마트양식 클러스터 테스트배드 조성]
B5: 001 | D5: 1.옥외 통신 인입설비 | F5: 식 | G5: 1 | H5: =내역서!I29 -> 0 | I5: =G5*H5 -> 0 | K5: =내역서!L29 -> 0 | L5: =G5*K5 -> 0 | M5: =내역서!N29 -> 0 | N5: =G5*M5 -> 0 | P5: =SUM(I5,L5,N5) -> 0
B6: 002 | D6: 2.정보통신설비 | F6: 식 | G6: 1 | H6: =총괄표!I81 -> 0 | I6: =G6*H6 -> 0 | K6: =총괄표!L81 -> 0 | L6: =G6*K6 -> 0 | M6: =총괄표!N81 -> 0 | N6: =G6*M6 -> 0 | P6: =SUM(I6,L6,N6) -> 0
B7: 003 | D7: 3.방송설비 | F7: 식 | G7: 1 | H7: =총괄표!I107 -> 0 | I7: =G7*H7 -> 0 | K7: =총괄표!L107 -> 0 | L7: =G7*K7 -> 0 | M7: =총괄표!N107 -> 0 | N7: =G7*M7 -> 0 | P7: =SUM(I7,L7,N7) -> 0
B8: 004 | D8: 4.주차관제설비 | F8: 식 | G8: 1 | H8: =내역서!I237 -> 0 | I8: =G8*H8 -> 0 | K8: =내역서!L237 -> 0 | L8: =G8*K8 -> 0 | M8: =내역서!N237 -> 0 | N8: =G8*M8 -> 0 | P8: =SUM(I8,L8,N8) -> 0
I9: =G9*H9 -> 0 | L9: =G9*K9 -> 0 | N9: =G9*M9 -> 0 | P9: =SUM(I9,L9,N9) -> 0
I10: =G10*H10 -> 0 | L10: =G10*K10 -> 0 | N10: =G10*M10 -> 0 | P10: =SUM(I10,L10,N10) -> 0
I11: =G11*H11 -> 0 | L11: =G11*K11 -> 0 | N11: =G11*M11 -> 0 | P11: =SUM(I11,L11,N11) -> 0
I12: =G12*H12 -> 0 | L12: =G12*K12 -> 0 | N12: =G12*M12 -> 0 | P12: =SUM(I12,L12,N12) -> 0
I13: =G13*H13 -> 0 | L13: =G13*K13 -> 0 | N13: =G13*M13 -> 0 | P13: =SUM(I13,L13,N13) -> 0
I14: =G14*H14 -> 0 | L14: =G14*K14 -> 0 | N14: =G14*M14 -> 0 | P14: =SUM(I14,L14,N14) -> 0
I15: =G15*H15 -> 0 | L15: =G15*K15 -> 0 | N15: =G15*M15 -> 0 | P15: =SUM(I15,L15,N15) -> 0
I16: =G16*H16 -> 0 | L16: =G16*K16 -> 0 | N16: =G16*M16 -> 0 | P16: =SUM(I16,L16,N16) -> 0
I17: =G17*H17 -> 0 | L17: =G17*K17 -> 0 | N17: =G17*M17 -> 0 | P17: =SUM(I17,L17,N17) -> 0
I18: =G18*H18 -> 0 | L18: =G18*K18 -> 0 | N18: =G18*M18 -> 0 | P18: =SUM(I18,L18,N18) -> 0
I19: =G19*H19 -> 0 | L19: =G19*K19 -> 0 | N19: =G19*M19 -> 0 | P19: =SUM(I19,L19,N19) -> 0
I20: =G20*H20 -> 0 | L20: =G20*K20 -> 0 | N20: =G20*M20 -> 0 | P20: =SUM(I20,L20,N20) -> 0
... I28: =G28*H28 -> 0 | L28: =G28*K28 -> 0 | N28: =G28*M28 -> 0 | P28: =SUM(I28,L28,N28) -> 0
C29: Total | D29: ( 합 계 ) | I29: =TRUNC(SUM(I4:I28)) -> 0 | L29: =TRUNC(SUM(L4:L28)) -> 0 | N29: =TRUNC(SUM(N4:N28)) -> 0 | P29: =TRUNC(SUM(P4:P28)) -> 0
B30: 공종줄 | D30: [신안군 스마트양식 클러스터 테스트배드 조성]
B31: 005 | D31: 5.관급자관급 | F31: 식 | G31: 1 | H31: =총괄표!I133 -> 0 | I31: =G31*H31 -> 0 | K31: =총괄표!L133 -> 0 | L31: =G31*K31 -> 0 | M31: =총괄표!N133 -> 0 | N31: =G31*M31 -> 0 | P31: =SUM(I31,L31,N31) -> 0
I32: =G32*H32 -> 0 | L32: =G32*K32 -> 0 | N32: =G32*M32 -> 0 | P32: =SUM(I32,L32,N32) -> 0
I33: =G33*H33 -> 0 | L33: =G33*K33 -> 0 | N33: =G33*M33 -> 0 | P33: =SUM(I33,L33,N33) -> 0
I34: =G34*H34 -> 0 | L34: =G34*K34 -> 0 | N34: =G34*M34 -> 0 | P34: =SUM(I34,L34,N34) -> 0
I35: =G35*H35 -> 0 | L35: =G35*K35 -> 0 | N35: =G35*M35 -> 0 | P35: =SUM(I35,L35,N35) -> 0
I36: =G36*H36 -> 0 | L36: =G36*K36 -> 0 | N36: =G36*M36 -> 0 | P36: =SUM(I36,L36,N36) -> 0
I37: =G37*H37 -> 0 | L37: =G37*K37 -> 0 | N37: =G37*M37 -> 0 | P37: =SUM(I37,L37,N37) -> 0
I38: =G38*H38 -> 0 | L38: =G38*K38 -> 0 | N38: =G38*M38 -> 0 | P38: =SUM(I38,L38,N38) -> 0
I39: =G39*H39 -> 0 | L39: =G39*K39 -> 0 | N39: =G39*M39 -> 0 | P39: =SUM(I39,L39,N39) -> 0
I40: =G40*H40 -> 0 | L40: =G40*K40 -> 0 | N40: =G40*M40 -> 0 | P40: =SUM(I40,L40,N40) -> 0
I41: =G41*H41 -> 0 | L41: =G41*K41 -> 0 | N41: =G41*M41 -> 0 | P41: =SUM(I41,L41,N41) -> 0
I42: =G42*H42 -> 0 | L42: =G42*K42 -> 0 | N42: =G42*M42 -> 0 | P42: =SUM(I42,L42,N42) -> 0
I43: =G43*H43 -> 0 | L43: =G43*K43 -> 0 | N43: =G43*M43 -> 0 | P43: =SUM(I43,L43,N43) -> 0
... I54: =G54*H54 -> 0 | L54: =G54*K54 -> 0 | N54: =G54*M54 -> 0 | P54: =SUM(I54,L54,N54) -> 0
C55: Total | D55: ( 합 계 ) | I55: =TRUNC(SUM(I30:I54)) -> 0 | L55: =TRUNC(SUM(L30:L54)) -> 0 | N55: =TRUNC(SUM(N30:N54)) -> 0 | P55: =TRUNC(SUM(P30:P54)) -> 0
B56: 공종줄 | D56: 2.정보통신설비
B57: 00201 | D57: 2-1.1층 정보통신설비 | F57: 식 | G57: 1 | H57: =내역서!I55 -> 0 | I57: =G57*H57 -> 0 | K57: =내역서!L55 -> 0 | L57: =G57*K57 -> 0 | M57: =내역서!N55 -> 0 | N57: =G57*M57 -> 0 | P57: =SUM(I57,L57,N57) -> 0
B58: 00202 | D58: 2-2.관리동 정보통신설비 | F58: 식 | G58: 1 | H58: =내역서!I81 -> 0 | I58: =G58*H58 -> 0 | K58: =내역서!L81 -> 0 | L58: =G58*K58 -> 0 | M58: =내역서!N81 -> 0 | N58: =G58*M58 -> 0 | P58: =SUM(I58,L58,N58) -> 0
B59: 00203 | D59: 2-3.실험실 및 사무실 정보통신설비 | F59: 식 | G59: 1 | H59: =내역서!I107 -> 0 | I59: =G59*H59 -> 0 | K59: =내역서!L107 -> 0 | L59: =G59*K59 -> 0 | M59: =내역서!N107 -> 0 | N59: =G59*M59 -> 0 | P59: =SUM(I59,L59,N59) -> 0
I60: =G60*H60 -> 0 | L60: =G60*K60 -> 0 | N60: =G60*M60 -> 0 | P60: =SUM(I60,L60,N60) -> 0
I61: =G61*H61 -> 0 | L61: =G61*K61 -> 0 | N61: =G61*M61 -> 0 | P61: =SUM(I61,L61,N61) -> 0
I62: =G62*H62 -> 0 | L62: =G62*K62 -> 0 | N62: =G62*M62 -> 0 | P62: =SUM(I62,L62,N62) -> 0
I63: =G63*H63 -> 0 | L63: =G63*K63 -> 0 | N63: =G63*M63 -> 0 | P63: =SUM(I63,L63,N63) -> 0
I64: =G64*H64 -> 0 | L64: =G64*K64 -> 0 | N64: =G64*M64 -> 0 | P64: =SUM(I64,L64,N64) -> 0
I65: =G65*H65 -> 0 | L65: =G65*K65 -> 0 | N65: =G65*M65 -> 0 | P65: =SUM(I65,L65,N65) -> 0
I66: =G66*H66 -> 0 | L66: =G66*K66 -> 0 | N66: =G66*M66 -> 0 | P66: =SUM(I66,L66,N66) -> 0
I67: =G67*H67 -> 0 | L67: =G67*K67 -> 0 | N67: =G67*M67 -> 0 | P67: =SUM(I67,L67,N67) -> 0
I68: =G68*H68 -> 0 | L68: =G68*K68 -> 0 | N68: =G68*M68 -> 0 | P68: =SUM(I68,L68,N68) -> 0
I69: =G69*H69 -> 0 | L69: =G69*K69 -> 0 | N69: =G69*M69 -> 0 | P69: =SUM(I69,L69,N69) -> 0
I70: =G70*H70 -> 0 | L70: =G70*K70 -> 0 | N70: =G70*M70 -> 0 | P70: =SUM(I70,L70,N70) -> 0
I71: =G71*H71 -> 0 | L71: =G71*K71 -> 0 | N71: =G71*M71 -> 0 | P71: =SUM(I71,L71,N71) -> 0
... I80: =G80*H80 -> 0 | L80: =G80*K80 -> 0 | N80: =G80*M80 -> 0 | P80: =SUM(I80,L80,N80) -> 0
B81: 002 | C81: Total | D81: ( 합 계 ) | I81: =TRUNC(SUM(I56:I80)) -> 0 | L81: =TRUNC(SUM(L56:L80)) -> 0 | N81: =TRUNC(SUM(N56:N80)) -> 0 | P81: =TRUNC(SUM(P56:P80)) -> 0
B82: 공종줄 | D82: 3.방송설비
B83: 00301 | D83: 3-1.1층 방송설비 | F83: 식 | G83: 1 | H83: =내역서!I133 -> 0 | I83: =G83*H83 -> 0 | K83: =내역서!L133 -> 0 | L83: =G83*K83 -> 0 | M83: =내역서!N133 -> 0 | N83: =G83*M83 -> 0 | P83: =SUM(I83,L83,N83) -> 0
B84: 00302 | D84: 3-2.2층 방송설비 | F84: 식 | G84: 1 | H84: =내역서!I159 -> 0 | I84: =G84*H84 -> 0 | K84: =내역서!L159 -> 0 | L84: =G84*K84 -> 0 | M84: =내역서!N159 -> 0 | N84: =G84*M84 -> 0 | P84: =SUM(I84,L84,N84) -> 0
B85: 00303 | D85: 3-3.관리동 방송설비 | F85: 식 | G85: 1 | H85: =내역서!I185 -> 0 | I85: =G85*H85 -> 0 | K85: =내역서!L185 -> 0 | L85: =G85*K85 -> 0 | M85: =내역서!N185 -> 0 | N85: =G85*M85 -> 0 | P85: =SUM(I85,L85,N85) -> 0
B86: 00304 | D86: 3-4.관리동 교육실 AV설비 | F86: 식 | G86: 1 | H86: =내역서!I211 -> 0 | I86: =G86*H86 -> 0 | K86: =내역서!L211 -> 0 | L86: =G86*K86 -> 0 | M86: =내역서!N211 -> 0 | N86: =G86*M86 -> 0 | P86: =SUM(I86,L86,N86) -> 0
I87: =G87*H87 -> 0 | L87: =G87*K87 -> 0 | N87: =G87*M87 -> 0 | P87: =SUM(I87,L87,N87) -> 0
I88: =G88*H88 -> 0 | L88: =G88*K88 -> 0 | N88: =G88*M88 -> 0 | P88: =SUM(I88,L88,N88) -> 0
I89: =G89*H89 -> 0 | L89: =G89*K89 -> 0 | N89: =G89*M89 -> 0 | P89: =SUM(I89,L89,N89) -> 0
I90: =G90*H90 -> 0 | L90: =G90*K90 -> 0 | N90: =G90*M90 -> 0 | P90: =SUM(I90,L90,N90) -> 0
I91: =G91*H91 -> 0 | L91: =G91*K91 -> 0 | N91: =G91*M91 -> 0 | P91: =SUM(I91,L91,N91) -> 0
I92: =G92*H92 -> 0 | L92: =G92*K92 -> 0 | N92: =G92*M92 -> 0 | P92: =SUM(I92,L92,N92) -> 0
I93: =G93*H93 -> 0 | L93: =G93*K93 -> 0 | N93: =G93*M93 -> 0 | P93: =SUM(I93,L93,N93) -> 0
I94: =G94*H94 -> 0 | L94: =G94*K94 -> 0 | N94: =G94*M94 -> 0 | P94: =SUM(I94,L94,N94) -> 0
I95: =G95*H95 -> 0 | L95: =G95*K95 -> 0 | N95: =G95*M95 -> 0 | P95: =SUM(I95,L95,N95) -> 0
I96: =G96*H96 -> 0 | L96: =G96*K96 -> 0 | N96: =G96*M96 -> 0 | P96: =SUM(I96,L96,N96) -> 0
I97: =G97*H97 -> 0 | L97: =G97*K97 -> 0 | N97: =G97*M97 -> 0 | P97: =SUM(I97,L97,N97) -> 0
I98: =G98*H98 -> 0 | L98: =G98*K98 -> 0 | N98: =G98*M98 -> 0 | P98: =SUM(I98,L98,N98) -> 0
... I106: =G106*H106 -> 0 | L106: =G106*K106 -> 0 | N106: =G106*M106 -> 0 | P106: =SUM(I106,L106,N106) -> 0
B107: 003 | C107: Total | D107: ( 합 계 ) | I107: =TRUNC(SUM(I82:I106)) -> 0 | L107: =TRUNC(SUM(L82:L106)) -> 0 | N107: =TRUNC(SUM(N82:N106)) -> 0 | P107: =TRUNC(SUM(P82:P106)) -> 0
B108: 공종줄 | D108: 5.관급자관급
B109: 00501 | D109: 5-3-1.1층 방송설비 | F109: 식 | G109: 1 | H109: =내역서!I263 -> 0 | I109: =G109*H109 -> 0 | K109: =내역서!L263 -> 0 | L109: =G109*K109 -> 0 | M109: =내역서!N263 -> 0 | N109: =G109*M109 -> 0 | P109: =SUM(I109,L109,N109) -> 0
B110: 00502 | D110: 5-4.주차관제설비 | F110: 식 | G110: 1 | H110: =내역서!I289 -> 0 | I110: =G110*H110 -> 0 | K110: =내역서!L289 -> 0 | L110: =G110*K110 -> 0 | M110: =내역서!N289 -> 0 | N110: =G110*M110 -> 0 | P110: =SUM(I110,L110,N110) -> 0
I111: =G111*H111 -> 0 | L111: =G111*K111 -> 0 | N111: =G111*M111 -> 0 | P111: =SUM(I111,L111,N111) -> 0
I112: =G112*H112 -> 0 | L112: =G112*K112 -> 0 | N112: =G112*M112 -> 0 | P112: =SUM(I112,L112,N112) -> 0
I113: =G113*H113 -> 0 | L113: =G113*K113 -> 0 | N113: =G113*M113 -> 0 | P113: =SUM(I113,L113,N113) -> 0
I114: =G114*H114 -> 0 | L114: =G114*K114 -> 0 | N114: =G114*M114 -> 0 | P114: =SUM(I114,L114,N114) -> 0
I115: =G115*H115 -> 0 | L115: =G115*K115 -> 0 | N115: =G115*M115 -> 0 | P115: =SUM(I115,L115,N115) -> 0
I116: =G116*H116 -> 0 | L116: =G116*K116 -> 0 | N116: =G116*M116 -> 0 | P116: =SUM(I116,L116,N116) -> 0
I117: =G117*H117 -> 0 | L117: =G117*K117 -> 0 | N117: =G117*M117 -> 0 | P117: =SUM(I117,L117,N117) -> 0
I118: =G118*H118 -> 0 | L118: =G118*K118 -> 0 | N118: =G118*M118 -> 0 | P118: =SUM(I118,L118,N118) -> 0
I119: =G119*H119 -> 0 | L119: =G119*K119 -> 0 | N119: =G119*M119 -> 0 | P119: =SUM(I119,L119,N119) -> 0
I120: =G120*H120 -> 0 | L120: =G120*K120 -> 0 | N120: =G120*M120 -> 0 | P120: =SUM(I120,L120,N120) -> 0
I121: =G121*H121 -> 0 | L121: =G121*K121 -> 0 | N121: =G121*M121 -> 0 | P121: =SUM(I121,L121,N121) -> 0
I122: =G122*H122 -> 0 | L122: =G122*K122 -> 0 | N122: =G122*M122 -> 0 | P122: =SUM(I122,L122,N122) -> 0
... I132: =G132*H132 -> 0 | L132: =G132*K132 -> 0 | N132: =G132*M132 -> 0 | P132: =SUM(I132,L132,N132) -> 0
B133: 005 | C133: Total | D133: ( 합 계 ) | I133: =TRUNC(SUM(I108:I132)) -> 0 | L133: =TRUNC(SUM(L108:L132)) -> 0 | N133: =TRUNC(SUM(N108:N132)) -> 0 | P133: =TRUNC(SUM(P108:P132)) -> 0

Sheet 내역서
A1: 총줄수-> | B1: 289 | C1: 2.0 | D1: [ 신안군 스마트양식 클러스터 테스트배드 조성 ] | W1: 노임 계산 정보 | AA1: 부속재 및 손료
A2: 번호 | B2: 공종코드 | C2: 코드 | D2: 명 칭 | E2: 규 격 | F2: 단위 | G2: 수량 | H2: 재료비 | J2: 노무비 | M2: 경비 | P2: 계 | Q2: 비고 | W2: 노임계 | X2: 전체(%) | Y2: 공종별(%) | Z2: 노임 소수 | AA2: CD배관재 | AB2: 일반배관재 | AC2: 소모재 | AD2: 자재계 | AE2: 노임계
H3: 단가 | I3: 금액 | J3: 수량 | K3: 단가 | L3: 금액 | M3: 단가 | N3: 금액 | O3: 단가 | AD3: =IF(옵션!$C$11 =0, "1", 옵션!$C$11) -> 1 | AE3: =IF(옵션!$C$12 =0, "1", 옵션!$C$12) -> 1
B4: 공종줄 | D4: 1.옥외 통신 인입설비
A5: 5975B467033 | B5: 001 | C5: E59751467033 | D5: 경질비닐전선관(지중) | E5: HI 22 mm | F5: m | Q5: 제 7호 | AB5: =G5*H5 -> 0 | AC5: =G5*H5 -> 0
A6: 5975B467035 | B6: 001 | C6: E59751467035 | D6: 경질비닐전선관(지중) | E6: HI 36 mm | F6: m | Q6: 제 8호 | AB6: =G6*H6 -> 0 | AC6: =G6*H6 -> 0
A7: E145A927204 | B7: 001 | C7: EE1450927204 | D7: 접지용비닐절연전선(F-GV) | E7: 10㎟ | F7: m | Q7: 제 22호 | AC7: =G7*H7 -> 0
A8: 5805B747511 | B8: 001 | C8: E58051747511 | D8: 110 Block | E8: 100P | F8: 개 | Q8: 제 34호
A9: 5805B797001 | B9: 001 | C9: E58051797001 | D9: 피뢰탄기반 | E9: 50 회선 | F9: 대 | Q9: 제 35호
A10: 56959000007 | B10: 001 | C10: EMM526336933 | D10: 패치패널 | E10: Cat.5E 24포트 | F10: SET | Q10: 제 38호
A11: 56959000009 | B11: 001 | C11: EMM300040838 | D11: RACK CABINET | E11: 585x1210x570 | F11: 개 | Q11: 제 42호
A12: 5985A407009 | B12: 001 | C12: E59850407009 | D12: 분배기 | E12: 쌍방향유니트, 8 분배기 | F12: 개 | Q12: 제 45호
A13: 5820A147101 | B13: 001 | C13: E58200147101 | D13: 증폭기 | E13: 쌍방향 | F13: 조 | Q13: 제 46호
A14: 5985A457004 | B14: 001 | C14: E59850457004 | D14: 분배기함 | E14: STEEL, 600x700x150 | F14: 면 | Q14: 제 47호
A15: 56959000010 | B15: 001 | C15: EMM795549350 | D15: 핸드홀 | E15: 수공1호(통신용) | F15: 조 | Q15: 제 49호
A16: CA565826042 | B16: 001 | C16: ECA565826042 | D16: 기계터파기 | E16: 보통토사(0.6㎥) | F16: ㎥ | Q16: ECA565826042
A17: CA565826051 | B17: 001 | C17: ECA565826051 | D17: 기계되메우기 | E17: 보통토사(0.6㎥) | F17: ㎥ | Q17: ECA565826051
A18: 56950630016 | B18: 001 | C18: ETL110190000 | D18: 광분배함 | E18: 24CORE | F18: 식 | Q18: 제 2호
A19: EOA13141002 | B19: 001 | C19: EOA131410002 | D19: 접지봉 | E19: 16Φ×1800mm, 3본 | F19: 개소 | Q19: 제 5호
I20: =TRUNC(G20*H20) -> 0 | L20: =TRUNC(G20*K20) -> 0 | N20: =TRUNC(G20*M20) -> 0 | P20: =SUM(I20,L20,N20) -> 0 | AE20: =TRUNC(SUM(AE4:AE19)) -> 0
I21: =TRUNC(G21*H21) -> 0 | L21: =TRUNC(G21*K21) -> 0 | N21: =TRUNC(G21*M21) -> 0 | P21: =SUM(I21,L21,N21) -> 0
I22: =TRUNC(G22*H22) -> 0 | L22: =TRUNC(G22*K22) -> 0 | N22: =TRUNC(G22*M22) -> 0 | P22: =SUM(I22,L22,N22) -> 0
I23: =TRUNC(G23*H23) -> 0 | L23: =TRUNC(G23*K23) -> 0 | N23: =TRUNC(G23*M23) -> 0 | P23: =SUM(I23,L23,N23) -> 0
I24: =TRUNC(G24*H24) -> 0 | L24: =TRUNC(G24*K24) -> 0 | N24: =TRUNC(G24*M24) -> 0 | P24: =SUM(I24,L24,N24) -> 0
I25: =TRUNC(G25*H25) -> 0 | L25: =TRUNC(G25*K25) -> 0 | N25: =TRUNC(G25*M25) -> 0 | P25: =SUM(I25,L25,N25) -> 0
I26: =TRUNC(G26*H26) -> 0 | L26: =TRUNC(G26*K26) -> 0 | N26: =TRUNC(G26*M26) -> 0 | P26: =SUM(I26,L26,N26) -> 0
I27: =TRUNC(G27*H27) -> 0 | L27: =TRUNC(G27*K27) -> 0 | N27: =TRUNC(G27*M27) -> 0 | P27: =SUM(I27,L27,N27) -> 0
I28: =TRUNC(G28*H28) -> 0 | L28: =TRUNC(G28*K28) -> 0 | N28: =TRUNC(G28*M28) -> 0 | P28: =SUM(I28,L28,N28) -> 0
B29: 합계줄 | D29: ( 합 계 ) | I29: =TRUNC(SUM(I4:I28)) -> 0 | L29: =TRUNC(SUM(L4:L28)) -> 0 | N29: =TRUNC(SUM(N4:N28)) -> 0 | P29: =TRUNC(SUM(P4:P28)) -> 0
B30: 공종줄 | D30: 2.정보통신설비::2-1.1층 정보통신설비
A31: 5975B467017 | B31: 00201 | C31: E59751467017 | D31: 경질비닐전선관 | E31: HI 54 mm | F31: m | Q31: 제 6호 | AB31: =G31*H31 -> 0 | AC31: =G31*H31 -> 0
A32: 5975D017024 | B32: 00201 | C32: E59753017024 | D32: 1종금속제가요전선관 | E32: 22 mm 일반-방수 | F32: m | Q32: 제 15호 | AC32: =G32*H32 -> 0
A33: 5975D857121 | B33: 00201 | C33: E59753857121 | D33: 풀박스 | E33: 300×300×150 | F33: 개 | Q33: 제 20호
A34: 6145E127542 | B34: 00201 | C34: E61454127542 | D34: 고발포동축케이블 | E34: 삼중차폐, 7C-HFBT | F34: m | Q34: 제 27호 | AC34: =G34*H34 -> 0
A35: 56959000004 | B35: 00201 | C35: EMM362692755 | D35: UTP 케이블 | E35: Cat.5E 0.5mm 4P | F35: m | Q35: 제 28호 | AC35: =G35*H35 -> 0
A36: 56959000005 | B36: 00201 | C36: EMM525000051 | D36: 광케이블(옥내용) | E36: SM 4c | F36: m | Q36: 제 30호 | AC36: =G36*H36 -> 0
A37: 56950640028 | B37: 00201 | C37: ETL110380000 | D37: 광케이블 국내성단 | E37: 4C | F37: 개소 | Q37: 제 3호
I38: =TRUNC(G38*H38) -> 0 | L38: =TRUNC(G38*K38) -> 0 | N38: =TRUNC(G38*M38) -> 0 | P38: =SUM(I38,L38,N38) -> 0 | AE38: =TRUNC(SUM(AE30:AE37)) -> 0
I39: =TRUNC(G39*H39) -> 0 | L39: =TRUNC(G39*K39) -> 0 | N39: =TRUNC(G39*M39) -> 0 | P39: =SUM(I39,L39,N39) -> 0
I40: =TRUNC(G40*H40) -> 0 | L40: =TRUNC(G40*K40) -> 0 | N40: =TRUNC(G40*M40) -> 0 | P40: =SUM(I40,L40,N40) -> 0
I41: =TRUNC(G41*H41) -> 0 | L41: =TRUNC(G41*K41) -> 0 | N41: =TRUNC(G41*M41) -> 0 | P41: =SUM(I41,L41,N41) -> 0
I42: =TRUNC(G42*H42) -> 0 | L42: =TRUNC(G42*K42) -> 0 | N42: =TRUNC(G42*M42) -> 0 | P42: =SUM(I42,L42,N42) -> 0
I43: =TRUNC(G43*H43) -> 0 | L43: =TRUNC(G43*K43) -> 0 | N43: =TRUNC(G43*M43) -> 0 | P43: =SUM(I43,L43,N43) -> 0
I44: =TRUNC(G44*H44) -> 0 | L44: =TRUNC(G44*K44) -> 0 | N44: =TRUNC(G44*M44) -> 0 | P44: =SUM(I44,L44,N44) -> 0
I45: =TRUNC(G45*H45) -> 0 | L45: =TRUNC(G45*K45) -> 0 | N45: =TRUNC(G45*M45) -> 0 | P45: =SUM(I45,L45,N45) -> 0
I46: =TRUNC(G46*H46) -> 0 | L46: =TRUNC(G46*K46) -> 0 | N46: =TRUNC(G46*M46) -> 0 | P46: =SUM(I46,L46,N46) -> 0
I47: =TRUNC(G47*H47) -> 0 | L47: =TRUNC(G47*K47) -> 0 | N47: =TRUNC(G47*M47) -> 0 | P47: =SUM(I47,L47,N47) -> 0
I48: =TRUNC(G48*H48) -> 0 | L48: =TRUNC(G48*K48) -> 0 | N48: =TRUNC(G48*M48) -> 0 | P48: =SUM(I48,L48,N48) -> 0
I49: =TRUNC(G49*H49) -> 0 | L49: =TRUNC(G49*K49) -> 0 | N49: =TRUNC(G49*M49) -> 0 | P49: =SUM(I49,L49,N49) -> 0
I50: =TRUNC(G50*H50) -> 0 | L50: =TRUNC(G50*K50) -> 0 | N50: =TRUNC(G50*M50) -> 0 | P50: =SUM(I50,L50,N50) -> 0
... I54: =TRUNC(G54*H54) -> 0 | L54: =TRUNC(G54*K54) -> 0 | N54: =TRUNC(G54*M54) -> 0 | P54: =SUM(I54,L54,N54) -> 0
B55: 합계줄 | D55: ( 합 계 ) | I55: =TRUNC(SUM(I30:I54)) -> 0 | L55: =TRUNC(SUM(L30:L54)) -> 0 | N55: =TRUNC(SUM(N30:N54)) -> 0 | P55: =TRUNC(SUM(P30:P54)) -> 0
B56: 공종줄 | D56: 2.정보통신설비::2-2.관리동 정보통신설비
A57: 56959000001 | B57: 00202 | C57: EDA11100020S | D57: 합성수지제 가요전선관 | E57: CD, 16㎜ | F57: m | Q57: 제 9호 | AA57: =G57*H57 -> 0 | AC57: =G57*H57 -> 0
A58: 5975D097002 | B58: 00202 | C58: E59753097002 | D58: 합성수지제 가요전선관 | E58: CD-난연성 16㎜ | F58: m | Q58: 제 11호 | AA58: =G58*H58 -> 0 | AC58: =G58*H58 -> 0
A59: 5975D777102 | B59: 00202 | C59: E59753777102 | D59: 스위치박스 | E59: 1 개용 54 mm | F59: 개 | Q59: 제 17호
A60: 5975D857021 | B60: 00202 | C60: E59753857021 | D60: 풀박스 | E60: 100×100×100 | F60: 개 | Q60: 제 18호
A61: 5975D857111 | B61: 00202 | C61: E59753857111 | D61: 풀박스 | E61: 300×300×100 | F61: 개 | Q61: 제 19호
A62: 6145E127541 | B62: 00202 | C62: E61454127541 | D62: 고발포동축케이블 | E62: 삼중차폐, 5C-HFBT | F62: m | Q62: 제 26호 | AC62: =G62*H62 -> 0
A63: 56959000004 | B63: 00202 | C63: EMM362692755 | D63: UTP 케이블 | E63: Cat.5E 0.5mm 4P | F63: m | Q63: 제 28호 | AC63: =G63*H63 -> 0
A64: 5805B750102 | B64: 00202 | C64: E58051750102 | D64: 모듈라짹 | E64: 매입용, Cat.5 2구 | F64: 개 | Q64: 제 31호
A65: 5805B750108 | B65: 00202 | C65: E58051750108 | D65: 모듈라짹 | E65: SYSTEM BOX용, Cat.5 2구 | F65: 개 | Q65: 제 32호
A66: 56959000006 | B66: 00202 | C66: EMM362698001 | D66: 모듈라짹 | E66: 매입용, Cat.5E 2구 | F66: 개 | Q66: 제 33호
A67: 5935A317312 | B67: 00202 | C67: E59350317312 | D67: TV 유니트 | E67: 1방 | F67: 개 | Q67: 제 43호
A68: 56959000011 | B68: 00202 | C68: EMM024353054 | D68: UTP 케이블 2열 동시포설 | E68: Cat.5E 0.5mm 4P | F68: m | Q68: 제 50호 | AC68: =G68*H68 -> 0
I69: =TRUNC(G69*H69) -> 0 | L69: =TRUNC(G69*K69) -> 0 | N69: =TRUNC(G69*M69) -> 0 | P69: =SUM(I69,L69,N69) -> 0 | AE69: =TRUNC(SUM(AE56:AE68)) -> 0
I70: =TRUNC(G70*H70) -> 0 | L70: =TRUNC(G70*K70) -> 0 | N70: =TRUNC(G70*M70) -> 0 | P70: =SUM(I70,L70,N70) -> 0
I71: =TRUNC(G71*H71) -> 0 | L71: =TRUNC(G71*K71) -> 0 | N71: =TRUNC(G71*M71) -> 0 | P71: =SUM(I71,L71,N71) -> 0
I72: =TRUNC(G72*H72) -> 0 | L72: =TRUNC(G72*K72) -> 0 | N72: =TRUNC(G72*M72) -> 0 | P72: =SUM(I72,L72,N72) -> 0
I73: =TRUNC(G73*H73) -> 0 | L73: =TRUNC(G73*K73) -> 0 | N73: =TRUNC(G73*M73) -> 0 | P73: =SUM(I73,L73,N73) -> 0
I74: =TRUNC(G74*H74) -> 0 | L74: =TRUNC(G74*K74) -> 0 | N74: =TRUNC(G74*M74) -> 0 | P74: =SUM(I74,L74,N74) -> 0
I75: =TRUNC(G75*H75) -> 0 | L75: =TRUNC(G75*K75) -> 0 | N75: =TRUNC(G75*M75) -> 0 | P75: =SUM(I75,L75,N75) -> 0
I76: =TRUNC(G76*H76) -> 0 | L76: =TRUNC(G76*K76) -> 0 | N76: =TRUNC(G76*M76) -> 0 | P76: =SUM(I76,L76,N76) -> 0
I77: =TRUNC(G77*H77) -> 0 | L77: =TRUNC(G77*K77) -> 0 | N77: =TRUNC(G77*M77) -> 0 | P77: =SUM(I77,L77,N77) -> 0
I78: =TRUNC(G78*H78) -> 0 | L78: =TRUNC(G78*K78) -> 0 | N78: =TRUNC(G78*M78) -> 0 | P78: =SUM(I78,L78,N78) -> 0
I79: =TRUNC(G79*H79) -> 0 | L79: =TRUNC(G79*K79) -> 0 | N79: =TRUNC(G79*M79) -> 0 | P79: =SUM(I79,L79,N79) -> 0
I80: =TRUNC(G80*H80) -> 0 | L80: =TRUNC(G80*K80) -> 0 | N80: =TRUNC(G80*M80) -> 0 | P80: =SUM(I80,L80,N80) -> 0
B81: 합계줄 | D81: ( 합 계 ) | I81: =TRUNC(SUM(I56:I80)) -> 0 | L81: =TRUNC(SUM(L56:L80)) -> 0 | N81: =TRUNC(SUM(N56:N80)) -> 0 | P81: =TRUNC(SUM(P56:P80)) -> 0
B82: 공종줄 | D82: 2.정보통신설비::2-3.실험실 및 사무실 정보통신설비
A83: 56959000001 | B83: 00203 | C83: EDA11100020S | D83: 합성수지제 가요전선관 | E83: CD, 16㎜ | F83: m | Q83: 제 9호 | AA83: =G83*H83 -> 0 | AC83: =G83*H83 -> 0
A84: 5975D097002 | B84: 00203 | C84: E59753097002 | D84: 합성수지제 가요전선관 | E84: CD-난연성 16㎜ | F84: m | Q84: 제 11호 | AA84: =G84*H84 -> 0 | AC84: =G84*H84 -> 0
A85: 5975D777102 | B85: 00203 | C85: E59753777102 | D85: 스위치박스 | E85: 1 개용 54 mm | F85: 개 | Q85: 제 17호
A86: 6145E127541 | B86: 00203 | C86: E61454127541 | D86: 고발포동축케이블 | E86: 삼중차폐, 5C-HFBT | F86: m | Q86: 제 26호 | AC86: =G86*H86 -> 0
A87: 56959000004 | B87: 00203 | C87: EMM362692755 | D87: UTP 케이블 | E87: Cat.5E 0.5mm 4P | F87: m | Q87: 제 28호 | AC87: =G87*H87 -> 0
A88: 5805B750102 | B88: 00203 | C88: E58051750102 | D88: 모듈라짹 | E88: 매입용, Cat.5 2구 | F88: 개 | Q88: 제 31호
A89: 6060A067145 | B89: 00203 | C89: E60600067145 | D89: 광 분배함 | E89: 광분배함, 4 CORE | F89: 개 | Q89: 제 36호
A90: 5895C007301 | B90: 00203 | C90: E58952007301 | D90: 허브 | E90: 100Mbps, 8PORT | F90: 개 | Q90: 제 37호
A91: 5935A317312 | B91: 00203 | C91: E59350317312 | D91: TV 유니트 | E91: 1방 | F91: 개 | Q91: 제 43호
A92: 5985A407007 | B92: 00203 | C92: E59850407007 | D92: 분배기 | E92: 쌍방향유니트, 4 분배기 | F92: 개 | Q92: 제 44호
A93: 5985A457104 | B93: 00203 | C93: E59850457104 | D93: 분배기함 | E93: SUS, 600x700x150 | F93: 면 | Q93: 제 48호
A94: 56959000011 | B94: 00203 | C94: EMM024353054 | D94: UTP 케이블 2열 동시포설 | E94: Cat.5E 0.5mm 4P | F94: m | Q94: 제 50호 | AC94: =G94*H94 -> 0
A95: 56959000015 | B95: 00203 | C95: EMM019853667 | D95: 패치 판넬 | E95: 8포트 | F95: EA | Q95: 제 54호
I96: =TRUNC(G96*H96) -> 0 | L96: =TRUNC(G96*K96) -> 0 | N96: =TRUNC(G96*M96) -> 0 | P96: =SUM(I96,L96,N96) -> 0 | AE96: =TRUNC(SUM(AE82:AE95)) -> 0
I97: =TRUNC(G97*H97) -> 0 | L97: =TRUNC(G97*K97) -> 0 | N97: =TRUNC(G97*M97) -> 0 | P97: =SUM(I97,L97,N97) -> 0
I98: =TRUNC(G98*H98) -> 0 | L98: =TRUNC(G98*K98) -> 0 | N98: =TRUNC(G98*M98) -> 0 | P98: =SUM(I98,L98,N98) -> 0
I99: =TRUNC(G99*H99) -> 0 | L99: =TRUNC(G99*K99) -> 0 | N99: =TRUNC(G99*M99) -> 0 | P99: =SUM(I99,L99,N99) -> 0
I100: =TRUNC(G100*H100) -> 0 | L100: =TRUNC(G100*K100) -> 0 | N100: =TRUNC(G100*M100) -> 0 | P100: =SUM(I100,L100,N100) -> 0
I101: =TRUNC(G101*H101) -> 0 | L101: =TRUNC(G101*K101) -> 0 | N101: =TRUNC(G101*M101) -> 0 | P101: =SUM(I101,L101,N101) -> 0
I102: =TRUNC(G102*H102) -> 0 | L102: =TRUNC(G102*K102) -> 0 | N102: =TRUNC(G102*M102) -> 0 | P102: =SUM(I102,L102,N102) -> 0
I103: =TRUNC(G103*H103) -> 0 | L103: =TRUNC(G103*K103) -> 0 | N103: =TRUNC(G103*M103) -> 0 | P103: =SUM(I103,L103,N103) -> 0
...

Sheet 옵션
B1: 재료비 | C1: 노무비 | D1: 경비 | F1: 계
A2: 총 급 액 | B2: =총괄표!I29 -> 0 | C2: =총괄표!L29 -> 0 | D2: =총괄표!N29 -> 0 | F2: =SUM(B2,C2,D2) -> 0
A3: 관급자관급 | B3: =총괄표!I133 -> 0 | C3: =총괄표!L133 -> 0 | D3: =총괄표!N133 -> 0 | F3: =SUM(B3,C3,D3) -> 0 | H3: 금액조정이 안되나요?
F4: =SUM(B4,C4,D4) -> 0
F5: =SUM(B5,C5,D5) -> 0
F6: =SUM(B6,C6,D6) -> 0 | H6: 이지테크에서 변환할 때 2번 옵션을 지정하여 다시 해보세요
F7: =SUM(B7,C7,D7) -> 0
F8: =SUM(B8,C8,D8) -> 0
H9: 시트를 삭제할 때 에러가 뜨면 1번 옵션으로 하면 됩니다.
B10: 적용율(%) | C10: 끝자리 | D10: 적용율(%)/100 | E10: 일위대가소수
A11: 전체자재 적용율(%)(공종/일위대가) | B11: 100 | C11: 1 | D11: =$B$11/100 -> 1
A12: 전체노임 적용율(%)(공종) | B12: 100 | C12: 1 | D12: =$B$12/100 -> 1 | E12: 2 | H12: 2번 옵션으로 변환했을 때에는 결과값이 다를 수 있습니다.
A13: 전체노임 적용율(%)(일위대가) | B13: 100 | C13: 1 | D13: =$B$13/100 -> 1 | E13: 5
A20: *(그룹별 자재 단가 추가 할증)* | B20: 적용율(%) | D20: 적용율(%)/100
A21: Cable(CAB) 할증(%) | B21: =B11 -> 100 | D21: =$B$21/100 -> 1
A22: Wire (WIR) 할증(%) | B22: =B11 -> 100 | D22: =$B$22/100 -> 1
A23: Pipe (PIP) 할증(%) | B23: =B11 -> 100 | D23: =$B$23/100 -> 1
A24: 제 4그룹 할증(%) | B24: =B11 -> 100 | D24: =$B$24/100 -> 1
A25: 제 5그룹 할증(%) | B25: =B11 -> 100 | D25: =$B$25/100 -> 1
A30: *(그룹별 노임 추가 할증)* | B30: 적용율(%) | C30: 자동부속재(전기) | D30: 자동부속재(통신)
A31: 배관부속재(%) | B31: 15 | C31: 15 | D31: 20
A32: CD관부속재(%) | B32: 40 | C32: 40 | D32: 40
A33: 소모잡자재(%) | B33: 2 | H33: 본 파일은 이지테크에서 2번 옵션으로 만들었습니다.
A34: 방폭할증(%)
A35: 고소할증(%) | B35: 2
A36: 공구손료(%) | B36: 3
A40: *(공종별 노임 적용율(%))* | B40: 적용율(%) | C40: 소수자릿수
A41: 1.옥외 통신 인입설비 | B41: 100 | C41: 3
A42: 4.주차관제설비 | B42: 100 | C42: 3
A43: 2-1.1층 정보통신설비 | B43: 100 | C43: 3
A44: 2-2.관리동 정보통신설비 | B44: 100 | C44: 3
A45: 2-3.실험실 및 사무실 정보통신설비 | B45: 100 | C45: 3
A46: 3-1.1층 방송설비 | B46: 100 | C46: 3
A47: 3-2.2층 방송설비 | B47: 100 | C47: 3
A48: 3-3.관리동 방송설비 | B48: 100 | C48: 3
A49: 3-4.관리동 교육실 AV설비 | B49: 100 | C49: 3
A50: 5-3-1.1층 방송설비 | B50: 100 | C50: 3
A51: 5-4.주차관제설비 | B51: 100 | C51: 3

Sheet 목차
A1: 총줄수-> | B1: 61 | D1: [ 신안군 스마트양식 클러스터 테스트배드 조성사업 통신공사 ]
A2: 번호 | B2: 공종코드 | C2: … | D2: 구 분 | E2: 내 용 | F2: 단위 | G2: 수량 | H2: 비 고
D4: 전체 집계표* | E4: 1.옥외 통신 인입설비 | F4: 식 | G4: 1 | H4: 전체집계표* - 1
D5: 전체 집계표* | E5: 2-1.1층 정보통신설비 | F5: 식 | G5: 1 | H5: 전체집계표* - 38
D6: 전체 집계표* | E6: 2-2.관리동 정보통신설비 | F6: 식 | G6: 1 | H6: 전체집계표* - 75
D7: 전체 집계표* | E7: 2-3.실험실 및 사무실 정보통신설비 | F7: 식 | G7: 1 | H7: 전체집계표* - 112
D8: 전체 집계표* | E8: 3-1.1층 방송설비 | F8: 식 | G8: 1 | H8: 전체집계표* - 149
D9: 전체 집계표* | E9: 3-2.2층 방송설비 | F9: 식 | G9: 1 | H9: 전체집계표* - 186
D10: 전체 집계표* | E10: 3-3.관리동 방송설비 | F10: 식 | G10: 1 | H10: 전체집계표* - 223
D11: 전체 집계표* | E11: 3-4.관리동 교육실 AV설비 | F11: 식 | G11: 1 | H11: 전체집계표* - 260
D12: 전체 집계표* | E12: 4.주차관제설비 | F12: 식 | G12: 1 | H12: 전체집계표* - 297
D13: 기본 산출서* | E13: 1.옥외 통신 인입설비 | F13: 식 | G13: 1 | H13: 기본산출서* - 1
D14: 기본 산출서 | E14: 2.정보통신설비 | F14: 식 | G14: 1
D15: 기본 산출서* | E15: 2-1.1층 정보통신설비 | F15: 식 | G15: 1 | H15: 기본산출서* - 47
D16: 기본 산출서* | E16: 2-2.관리동 정보통신설비 | F16: 식 | G16: 1 | H16: 기본산출서* - 93
D17: 기본 산출서* | E17: 2-3.실험실 및 사무실 정보통신설비 | F17: 식 | G17: 1 | H17: 기본산출서* - 139
D18: 기본 산출서 | E18: 3.방송설비 | F18: 식 | G18: 1
D19: 기본 산출서* | E19: 3-1.1층 방송설비 | F19: 식 | G19: 1 | H19: 기본산출서* - 185
D20: 기본 산출서* | E20: 3-2.2층 방송설비 | F20: 식 | G20: 1 | H20: 기본산출서* - 231
D21: 기본 산출서* | E21: 3-3.관리동 방송설비 | F21: 식 | G21: 1 | H21: 기본산출서* - 277
D22: 기본 산출서* | E22: 3-4.관리동 교육실 AV설비 | F22: 식 | G22: 1 | H22: 기본산출서* - 323
D23: 기본 산출서* | E23: 4.주차관제설비 | F23: 식 | G23: 1 | H23: 기본산출서* - 369
D24: 목록별 산출서* | E24: 1.옥외 통신 인입설비 | F24: 식 | G24: 1 | H24: 목록별산출서* - 4
D25: 목록별 산출서 | E25: 2.정보통신설비 | F25: 식 | G25: 1
D26: 목록별 산출서* | E26: 2-1.1층 정보통신설비 | F26: 식 | G26: 1 | H26: 목록별산출서* - 46
D27: 목록별 산출서* | E27: 2-2.관리동 정보통신설비 | F27: 식 | G27: 1 | H27: 목록별산출서* - 88
D28: 목록별 산출서* | E28: 2-3.실험실 및 사무실 정보통신설비 | F28: 식 | G28: 1 | H28: 목록별산출서* - 130
D29: 목록별 산출서 | E29: 3.방송설비 | F29: 식 | G29: 1
D30: 목록별 산출서* | E30: 3-1.1층 방송설비 | F30: 식 | G30: 1 | H30: 목록별산출서* - 172
D31: 목록별 산출서* | E31: 3-2.2층 방송설비 | F31: 식 | G31: 1 | H31: 목록별산출서* - 214
D32: 목록별 산출서* | E32: 3-3.관리동 방송설비 | F32: 식 | G32: 1 | H32: 목록별산출서* - 256
D33: 목록별 산출서* | E33: 3-4.관리동 교육실 AV설비 | F33: 식 | G33: 1 | H33: 목록별산출서* - 298
D34: 목록별 산출서* | E34: 4.주차관제설비 | F34: 식 | G34: 1 | H34: 목록별산출서* - 340

Sheet 목록별산출서
A1: 총줄수-> | B1: 381 | C1: 64Bit용 | D1: [ 신안군 스마트양식 클러스터 테스트배드 조성사업 통신공사 ]
D2: 산 출 목 록 | E2: 산 출 수 식 | F2: 줄 | G2: 수식계 | H2: 코드 | I2: 명칭 | J2: 규격 | K2: 단위 | L2: 단위수식 | M2: 단위계 | N2: 계
F3: 수
B4: 공종줄 | C4: 1 | D4: 1.옥외 통신 인입설비
A5: P01 | B5: 핸드홀 + 통신 + 수공1호 | D5: 핸드홀 수공1호(통신용) | E5: 1 | F5: - | G5: =IF(egTextCal(E5)<>0, egTextCal(E5), ) -> #NAME? | H5: MM795549350 | I5: 핸드홀 | J5: 수공1호(통신용) | K5: 조 | L5: 1 | M5: =IF(egTextCal(L5)<>0, egTextCal(L5), ) -> #NAME? | N5: =SUM(G5:G5)*M5 -> #NAME?
A6: P01 | B6: 랙캐비넷 + 570 + 585x1210 | D6: RACK CABINET 585x1210x570 | E6: 1 | F6: 1 | G6: =IF(egTextCal(E6)<>0, egTextCal(E6), ) -> #NAME? | H6: MM300040838 | I6: RACK CABINET | J6: 585x1210x570 | K6: 개 | L6: 1 | M6: =IF(egTextCal(L6)<>0, egTextCal(L6), ) -> #NAME? | N6: =SUM(G6:G10)*M6 -> #NAME?
A7: P01 | B7: 피뢰 + 탄기반 + 50 회선 | F7: 2 | H7: 58051797001 | I7: 피뢰탄기반 | J7: 50 회선 | K7: 대 | L7: 1 | M7: =IF(egTextCal(L7)<>0, egTextCal(L7), ) -> #NAME? | N7: =SUM(G6:G10)*M7 -> #NAME?
A8: P01 | B8: 110Block + 100P | F8: 3 | H8: 58051747511 | I8: 110 Block | J8: 100P | K8: 개 | L8: 1 | M8: =IF(egTextCal(L8)<>0, egTextCal(L8), ) -> #NAME? | N8: =SUM(G6:G10)*M8 -> #NAME?
A9: P01 | B9: 광분배함 + 24CORE | F9: 4 | H9: 56950630016 | I9: 광분배함 | J9: 24CORE | K9: 식 | L9: 1 | M9: =IF(egTextCal(L9)<>0, egTextCal(L9), ) -> #NAME? | N9: =SUM(G6:G10)*M9 -> #NAME?
A10: P01 | B10: 패치패널 + Cat.5E + 24포트 | F10: 5 | H10: MM526336933 | I10: 패치패널 | J10: Cat.5E 24포트 | K10: SET | L10: 2 | M10: =IF(egTextCal(L10)<>0, egTextCal(L10), ) -> #NAME? | N10: =SUM(G6:G10)*M10 -> #NAME?
A11: P01 | B11: 전선관 + (지중) + HI 36c | D11: EMPTY PIPE(HI 36c지중) | E11: 50*3 | F11: - | G11: =IF(egTextCal(E11)<>0, egTextCal(E11), ) -> #NAME? | H11: 59751467035 | I11: 경질비닐전선관(지중) | J11: HI 36 mm | K11: M | L11: 1 | M11: =IF(egTextCal(L11)<>0, egTextCal(L11), ) -> #NAME? | N11: =SUM(G11:G11)*M11 -> #NAME?
A12: P01 | B12: 접지전선 + F-GV + 10_㎟ | D12: (E)-10_㎟(HI 22c지중) | E12: 20 | F12: 1 | G12: =IF(egTextCal(E12)<>0, egTextCal(E12), ) -> #NAME? | H12: E1450927204 | I12: 접지용비닐절연전선(F-GV) | J12: 10㎟ | K12: M | L12: 1 | M12: =IF(egTextCal(L12)<>0, egTextCal(L12), ) -> #NAME? | N12: =SUM(G12:G13)*M12 -> #NAME?
A13: P01 | B13: 전선관 + (지중) + HI 22c | F13: 2 | H13: 59751467033 | I13: 경질비닐전선관(지중) | J13: HI 22 mm | K13: M | L13: 1 | M13: =IF(egTextCal(L13)<>0, egTextCal(L13), ) -> #NAME? | N13: =SUM(G12:G13)*M13 -> #NAME?
A14: P01 | B14: 접지봉 + 16Φx1800 + 3본 | D14: 접지봉 16Φ×1800mm, 3본 | E14: 2 | F14: - | G14: =IF(egTextCal(E14)<>0, egTextCal(E14), ) -> #NAME? | H14: EOA13141002 | I14: 접지봉 | J14: 16Φ×1800mm, 3본 | K14: 개소 | L14: 1 | M14: =IF(egTextCal(L14)<>0, egTextCal(L14), ) -> #NAME? | N14: =SUM(G14:G14)*M14 -> #NAME?
A15: P01 | B15: 분배기함 + ST 600 + 700x150 | D15: 분배기함(철재) 600x700x150 | E15: 1 | F15: 1 | G15: =IF(egTextCal(E15)<>0, egTextCal(E15), ) -> #NAME? | H15: 59850457004 | I15: 분배기함 | J15: STEEL, 600x700x150 | K15: 면 | L15: 1 | M15: =IF(egTextCal(L15)<>0, egTextCal(L15), ) -> #NAME? | N15: =SUM(G15:G17)*M15 -> #NAME?
A16: P01 | B16: 쌍방향 + 유니트 + 8 분배기 | F16: 2 | H16: 59850407009 | I16: 분배기 | J16: 쌍방향유니트, 8 분배기 | K16: 개 | L16: 1 | M16: =IF(egTextCal(L16)<>0, egTextCal(L16), ) -> #NAME? | N16: =SUM(G15:G17)*M16 -> #NAME?
A17: P01 | B17: 증폭기 + 쌍방향 | F17: 3 | H17: 58200147101 | I17: 증폭기 | J17: 쌍방향 | K17: 조 | L17: 1 | M17: =IF(egTextCal(L17)<>0, egTextCal(L17), ) -> #NAME? | N17: =SUM(G15:G17)*M17 -> #NAME?
A18: P01 | B18: 기계 + 터파기 + 보통암 | D18: 기계터파기 보통암 보통토사(0.6 | E18: 20*1.2*0.6 | F18: - | G18: =IF(egTextCal(E18)<>0, egTextCal(E18), ) -> #NAME? | H18: CA565826042 | I18: 기계터파기 | J18: 보통토사(0.6㎥) | K18: ㎥ | L18: 1 | M18: =IF(egTextCal(L18)<>0, egTextCal(L18), ) -> #NAME? | N18: =SUM(G18:G18)*M18 -> #NAME?
A19: P01 | B19: 기계 + 되메우기 + 보통토 | D19: 기계되메우기 보통토사 보통토사 | E19: 20*1.2*0.6 | F19: - | G19: =IF(egTextCal(E19)<>0, egTextCal(E19), ) -> #NAME? | H19: CA565826051 | I19: 기계되메우기 | J19: 보통토사(0.6㎥) | K19: ㎥ | L19: 1 | M19: =IF(egTextCal(L19)<>0, egTextCal(L19), ) -> #NAME? | N19: =SUM(G19:G19)*M19 -> #NAME?
A20: P01
A21: P01
A22: P01
A23: P01
A24: P01
A25: P01
A26: P01
A27: P01
A28: P01
A29: P01
A30: P01
A31: P01
... A45: P01
B46: 공종줄 | C46: 1 | D46: 2.정보통신설비::2-1.1층 정보통신설비
A47: P0201 | B47: 광케이블 + 옥내 + SM 4c | D47: 옥내 SM 4c-1 | E47: 103+4 | F47: - | G47: =IF(egTextCal(E47)<>0, egTextCal(E47), ) -> #NAME? | H47: MM525000051 | I47: 광케이블(옥내용) | J47: SM 4c | K47: M | L47: 1 | M47: =IF(egTextCal(L47)<>0, egTextCal(L47), ) -> #NAME? | N47: =SUM(G47:G47)*M47 -> #NAME?
A48: P0201 | B48: Cat5E + UTP 0.5 + 4P | D48: UTP 0.5 4P-1 | E48: 103+4 | F48: - | G48: =IF(egTextCal(E48)<>0, egTextCal(E48), ) -> #NAME? | H48: MM362692755 | I48: UTP 케이블 | J48: Cat.5E 0.5mm 4P | K48: M | L48: 1 | M48: =IF(egTextCal(L48)<>0, egTextCal(L48), ) -> #NAME? | N48: =SUM(G48:G48)*M48 -> #NAME?
A49: P0201 | B49: 고발포 + 삼중차폐 + 7C-HFBT | D49: 삼중차폐 7C-HFBT-1 | E49: 103+4 | F49: - | G49: =IF(egTextCal(E49)<>0, egTextCal(E49), ) -> #NAME? | H49: 61454127542 | I49: 고발포동축케이블 | J49: 삼중차폐, 7C-HFBT | K49: M | L49: 1 | M49: =IF(egTextCal(L49)<>0, egTextCal(L49), ) -> #NAME? | N49: =SUM(G49:G49)*M49 -> #NAME?
A50: P0201 | B50: 1종 가요 + 전선관 + 방수22c | D50: EMPTY PIPE(방수22c) | E50: (103+4)*3 | F50: - | G50: =IF(egTextCal(E50)<>0, egTextCal(E50), ) -> #NAME? | H50: 59753017024 | I50: 1종금속제가요전선관 | J50: 22 mm 일반-방수 | K50: M | L50: 1 | M50: =IF(egTextCal(L50)<>0, egTextCal(L50), ) -> #NAME? | N50: =SUM(G50:G50)*M50 -> #NAME?
A51: P0201 | B51: 광케이블 + 국내성단 + 4C | D51: 광케이블 국내성단 4C | E51: 2 | F51: - | G51: =IF(egTextCal(E51)<>0, egTextCal(E51), ) -> #NAME? | H51: 56950640028 | I51: 광케이블 국내성단 | J51: 4C | K51: 개소 | L51: 1 | M51: =IF(egTextCal(L51)<>0, egTextCal(L51), ) -> #NAME? | N51: =SUM(G51:G51)*M51 -> #NAME?
A52: P0201 | B52: 풀박스 + 300x300 + 150 | D52: 풀박스 300x300x150 | E52: 1 | F52: - | G52: =IF(egTextCal(E52)<>0, egTextCal(E52), ) -> #NAME? | H52: 59753857121 | I52: 풀박스 | J52: 300×300×150 | K52: 개 | L52: 1 | M52: =IF(egTextCal(L52)<>0, egTextCal(L52), ) -> #NAME? | N52: =SUM(G52:G52)*M52 -> #NAME?
A53: P0201 | B53: 전선관 + (일반) + HI 54c | D53: EMPTY PIPE(HI 54c일반) | E53: 3*4 | F53: - | G53: =IF(egTextCal(E53)<>0, egTextCal(E53), ) -> #NAME? | H53: 59751467017 | I53: 경질비닐전선관 | J53: HI 54 mm | K53: M | L53: 1 | M53: =IF(egTextCal(L53)<>0, egTextCal(L53), ) -> #NAME? | N53: =SUM(G53:G53)*M53 -> #NAME?
A54: P0201
A55: P0201
A56: P0201
A57: P0201
A58: P0201
A59: P0201
A60: P0201
A61: P0201
A62: P0201
A63: P0201
A64: P0201
A65: P0201
... A87: P0201
B88: 공종줄 | C88: 1 | D88: 2.정보통신설비::2-2.관리동 정보통신설비
A89: P0202 | B89: 풀박스 + 100x100 + 100 | D89: 풀박스 100x100x100 | E89: 1 | F89: - | G89: =IF(egTextCal(E89)<>0, egTextCal(E89), ) -> #NAME? | H89: 59753857021 | I89: 풀박스 | J89: 100×100×100 | K89: 개 | L89: 1 | M89: =IF(egTextCal(L89)<>0, egTextCal(L89), ) -> #NAME? | N89: =SUM(G89:G89)*M89 -> #NAME?
A90: P0202 | B90: 풀박스 + 300x300 + 100 | D90: 풀박스 300x300x100 | E90: 1 | F90: - | G90: =IF(egTextCal(E90)<>0, egTextCal(E90), ) -> #NAME? | H90: 59753857111 | I90: 풀박스 | J90: 300×300×100 | K90: 개 | L90: 1 | M90: =IF(egTextCal(L90)<>0, egTextCal(L90), ) -> #NAME? | N90: =SUM(G90:G90)*M90 -> #NAME?
A91: P0202 | B91: UTP 4P Cat.5E 2열동시포설 | D91: UTP 4P Cat.5E 2열동시포설 | E91: 5+3+5+10+15+13+8*2+10*2+11+9*2+11*2+12 | F91: 1 | G91: =IF(egTextCal(E91)<>0, egTextCal(E91), ) -> #NAME? | H91: MM024353054 | I91: UTP 케이블 2열 동시포설 | J91: Cat.5E 0.5mm 4P | K91: M | L91: 2 | M91: =IF(egTextCal(L91)<>0, egTextCal(L91), ) -> #NAME? | N91: =SUM(G91:G92)*M91 -> #NAME?
A92: P0202 | B92: 전선관 + (일반) + CD 16c | E92: 15*2+17*2+18+16*2+17*2+18+23+23+28+35 | F92: 2 | G92: =IF(egTextCal(E92)<>0, egTextCal(E92), ) -> #NAME? | H92: MM432071853 | I92: 합성수지제 가요전선관 | J92: CD, 16㎜ | K92: M | L92: 1 | M92: =IF(egTextCal(L92)<>0, egTextCal(L92), ) -> #NAME? | N92: =SUM(G91:G92)*M92 -> #NAME?
A93: P0202 | B93: Cat5E + UTP 0.5 + 4P | D93: UTP 4P-1 Cat.5E (CD 16C) | E93: 32 | F93: 1 | G93: =IF(egTextCal(E93)<>0, egTextCal(E93), ) -> #NAME? | H93: MM362692755 | I93: UTP 케이블 | J93: Cat.5E 0.5mm 4P | K93: M | L93: 1 | M93: =IF(egTextCal(L93)<>0, egTextCal(L93), ) -> #NAME? | N93: =SUM(G93:G94)*M93 -> #NAME?
A94: P0202 | B94: 전선관 + (KS) + CD 16c | F94: 2 | H94: 59753097002 | I94: 합성수지제 가요전선관 | J94: CD-난연성 16㎜ | K94: M | L94: 1 | M94: =IF(egTextCal(L94)<>0, egTextCal(L94), ) -> #NAME? | N94: =SUM(G93:G94)*M94 -> #NAME?
A95: P0202 | B95: Cat5E + UTP 0.5 + 4P | C95: 구간 접속 | D95: UTP 4P-2 Cat.5E(접속선) | E95: 0.2m*2개소*15구간 | F95: - | G95: =IF(egTextCal(E95)<>0, egTextCal(E95), ) -> #NAME? | H95: MM362692755 | I95: UTP 케이블 | J95: Cat.5E 0.5mm 4P | K95: M | L95: 2 | M95: =IF(egTextCal(L95)<>0, egTextCal(L95), ) -> #NAME? | N95: =SUM(G95:G95)*M95 -> #NAME?
A96: P0202 | B96: Cat5E + UTP 0.5 + 4P | D96: UTP 4P-2 Cat.5E (CD 16C)단자반귀로 | E96: 17+2 | F96: 1 | G96: =IF(egTextCal(E96)<>0, egTextCal(E96), ) -> #NAME? | H96: MM362692755 | I96: UTP 케이블 | J96: Cat.5E 0.5mm 4P | K96: M | L96: 2*H:1 | M96: =IF(egTextCal(L96)<>0, egTextCal(L96), ) -> #NAME? | N96: =SUM(G96:G97)*M96 -> #NAME?
A97: P0202 | B97: 전선관 + (KS) + CD 16c | F97: 2 | H97: 59753097002 | I97: 합성수지제 가요전선관 | J97: CD-난연성 16㎜ | K97: M | L97: 1 | M97: =IF(egTextCal(L97)<>0, egTextCal(L97), ) -> #NAME? | N97: =SUM(G96:G97)*M97 -> #NAME?
A98: P0202 | B98: Cat5E + UTP 0.5 + 4P | D98: 모듈러짹(1구 박스/2구짹)말단-Cat.5E(CD) | E98: 8 | F98: 1 | G98: =IF(egTextCal(E98)<>0, egTextCal(E98), ) -> #NAME? | H98: MM362692755 | I98: UTP 케이블 | J98: Cat.5E 0.5mm 4P | K98: M | L98: 0.5*2 | M98: =IF(egTextCal(L98)<>0, egTextCal(L98), ) -> #NAME? | N98: =SUM(G98:G101)*M98 -> #NAME?
A99: P0202 | B99: 전선관 + (KS) + CD 16c | F99: 2 | H99: 59753097002 | I99: 합성수지제 가요전선관 | J99: CD-난연성 16㎜ | K99: M | L99: 0.5 | M99: =IF(egTextCal(L99)<>0, egTextCal(L99), ) -> #NAME? | N99: =SUM(G98:G101)*M99 -> #NAME?
A100: P0202 | B100: 스위치 + 1구 박스 + 54mm | F100: 3 | H100: 59753777102 | I100: 스위치박스 | J100: 1 개용 54 mm | K100: 개 | L100: 1 | M100: =IF(egTextCal(L100)<>0, egTextCal(L100), ) -> #NAME? | N100: =SUM(G98:G101)*M100 -> #NAME?
A101: P0202 | B101: 모듈러짹 + 매입Ct5E + 2구 | F101: 4 | H101: MM362698001 | I101: 모듈라짹 | J101: 매입용, Cat.5E 2구 | K101: 개 | L101: 1 | M101: =IF(egTextCal(L101)<>0, egTextCal(L101), ) -> #NAME? | N101: =SUM(G98:G101)*M101 -> #NAME?
A102: P0202 | B102: 모듈러짹 + 매입Cat5 + 2구 | D102: 모듈러 짹 2구 | E102: 12 | F102: - | G102: =IF(egTextCal(E102)<>0, egTextCal(E102), ) -> #NAME? | H102: 58051750102 | I102: 모듈라짹 | J102: 매입용, Cat.5 2구 | K102: 개 | L102: 1 | M102: =IF(egTextCal(L102)<>0, egTextCal(L102), ) -> #NAME? | N102: =SUM(G102:G102)*M102 -> #NAME?
A103: P0202 | B103: Cat5E + UTP 0.5 + 4P | C103: 구간 접속 | D103: UTP 4P-1 Cat.5E(접속선) | E103: 0.2m*2개소*1구간 | F103: - | G103: =IF(egTextCal(E103)<>0, egTextCal(E103), ) -> #NAME? | H103: MM362692755 | I103: UTP 케이블 | J103: Cat.5E 0.5mm 4P | K103: M | L103: 1 | M103: =IF(egTextCal(L103)<>0, egTextCal(L103), ) -> #NAME? | N103: =SUM(G103:G103)*M103 -> #NAME?
A104: P0202 | B104: 고발포 + 삼중차폐 + 5C-HFBT | D104: 5C-HFBT(CD 16C)평면 | E104: 7+10+15+13+23+23+28+35 | F104: 1 | G104: =IF(egTextCal(E104)<>0, egTextCal(E104), ) -> #NAME? | H104: 61454127541 | I104: 고발포동축케이블 | J104: 삼중차폐, 5C-HFBT | K104: M | L104: 1 | M104: =IF(egTextCal(L104)<>0, egTextCal(L104), ) -> #NAME? | N104: =SUM(G104:G105)*M104 -> #NAME?
A105: P0202 | B105: 전선관 + (KS) + CD 16c | F105: 2 | H105: 59753097002 | I105: 합성수지제 가요전선관 | J105: CD-난연성 16㎜ | K105: M | L105: 1 | M105: =IF(egTextCal(L105)<>0, egTextCal(L105), ) -> #NAME? | N105: =SUM(G104:G105)*M105 -> #NAME?
A106: P0202 | B106: 고발포 + 삼중차폐 + 5C-HFBT | C106: 구간 접속 | D106: 5C-HFBT(접속선) | E106: 0.2m*2개소*1구간 | F106: - | G106: =IF(egTextCal(E106)<>0, egTextCal(E106), ) -> #NAME? | H106: 61454127541 | I106: 고발포동축케이블 | J106: 삼중차폐, 5C-HFBT | K106: M | L106: 1 | M106: =IF(egTextCal(L106)<>0, egTextCal(L106), ) -> #NAME? | N106: =SUM(G106:G106)*M106 -> #NAME?
A107: P0202 | B107: 스위치 + 1구 박스 + 54mm | D107: TV 말단유니트(W/T 박스) | E107: 7 | F107: 1 | G107: =IF(egTextCal(E107)<>0, egTextCal(E107), ) -> #NAME? | H107: 59753777102 | I107: 스위치박스 | J107: 1 개용 54 mm | K107: 개 | L107: 1 | M107: =IF(egTextCal(L107)<>0, egTextCal(L107), ) -> #NAME? | N107: =SUM(G107:G108)*M107 -> #NAME?
A108: P0202 | B108: TV UNIT + 1방 | F108: 2 | H108: 59350317312 | I108: TV 유니트 | J108: 1방 | K108: 개 | L108: 1 | M108: =IF(egTextCal(L108)<>0, egTextCal(L108), ) -> #NAME? | N108: =SUM(G107:G108)*M108 -> #NAME?
A109: P0202 | B109: 모듈러짹 + 시스템용 + Cat5 2구 | D109: 모듈라짹 SYSTEM BOX용,Cat.5 2구 | E109: 22 | F109: - | G109: =IF(egTextCal(E109)<>0, egTextCal(E109), ) -> #NAME? | H109: 58051750108 | I109: 모듈라짹 | J109: SYSTEM BOX용, Cat.5 2구 | K109: 개 | L109: 1 | M109: =IF(egTextCal(L109)<>0, egTextCal(L109), ) -> #NAME? | N109: =SUM(G109:G109)*M109 -> #NAME?
A110: P0202 | F110: -
A111: P0202
A112: P0202
A113: P0202
A114: P0202
A115: P0202
A116: P0202
A117: P0202
A118: P0202
A119: P0202
A120: P0202
A121: P0202
A122: P0202
... A129: P0202
B130: 공종줄 | C130: 1 | D130: 2.정보통신설비::2-3.실험실 및 사무실 정보통신설비
A131: P0203 | B131: 분배기함 + SUS 600 + 700x150 | D131: 분배기함(SUS) 600x700x150 | E131: 1 | F131: 1 | G131: =IF(egTextCal(E131)<>0, egTextCal(E131), ) -> #NAME? | H131: 59850457104 | I131: 분배기함 | J131: SUS, 600x700x150 | K131: 면 | L131: 1 | M131: =IF(egTextCal(L131)<>0, egTextCal(L131), ) -> #NAME? | N131: =SUM(G131:G135)*M131 -> #NAME?
A132: P0203 | B132: 허브 + 100Mbps + 8PORT | F132: 2 | H132: 58952007301 | I132: 허브 | J132: 100Mbps, 8PORT | K132: 개 | L132: 1 | M132: =IF(egTextCal(L132)<>0, egTextCal(L132), ) -> #NAME? | N132: =SUM(G131:G135)*M132 -> #NAME?
A133: P0203 | B133: 쌍방향 + 유니트 + 4 분배기 | F133: 3 | H133: 59850407007 | I133: 분배기 | J133: 쌍방향유니트, 4 분배기 | K133: 개 | L133: 1 | M133: =IF(egTextCal(L133)<>0, egTextCal(L133), ) -> #NAME? | N133: =SUM(G131:G135)*M133 -> #NAME?
A134: P0203 | B134: 광분배함 + 4 + CORE | F134: 4 | H134: 60600067145 | I134: 광 분배함 | J134: 광분배함, 4 CORE | K134: 개 | L134: 1 | M134: =IF(egTextCal(L134)<>0, egTextCal(L134), ) -> #NAME? | N134: =SUM(G131:G135)*M134 -> #NAME?
A135: P0203 | B135: 패치 판넬 8포트 | F135: 5 | H135: MM019853667 | I135: 패치 판넬 | J135: 8포트 | K135: EA | L135: 1 | M135: =IF(egTextCal(L135)<>0, egTextCal(L135), ) -> #NAME? | N135: =SUM(G131:G135)*M135 -> #NAME?
A136: P0203 | B136: UTP 4P Cat.5E 2열동시포설 | D136: UTP 4P Cat.5E 2열동시포설 | E136: 8+6 | F136: 1 | G136: =IF(egTextCal(E136)<>0, egTextCal(E136), ) -> #NAME? | H136: MM024353054 | I136: UTP 케이블 2열 동시포설 | J136: Cat.5E 0.5mm 4P | K136: M | L136: 2 | M136: =IF(egTextCal(L136)<>0, egTextCal(L136), ) -> #NAME? | N136: =SUM(G136:G137)*M136 -> #NAME?
A137: P0203 | B137: 전선관 + (일반) + CD 16c | F137: 2 | H137: MM432071853 | I137: 합성수지제 가요전선관 | J137: CD, 16㎜ | K137: M | L137: 1 | M137: =IF(egTextCal(L137)<>0, egTextCal(L137), ) -> #NAME? | N137: =SUM(G136:G137)*M137 -> #NAME?
A138: P0203 | B138: Cat5E + UTP 0.5 + 4P | C138: 구간 접속 | D138: UTP 4P-2 Cat.5E(접속선) | E138: 0.2m*2개소*2구간 | F138: - | G138: =IF(egTextCal(E138)<>0, egTextCal(E138), ) -> #NAME? | H138: MM362692755 | I138: UTP 케이블 | J138: Cat.5E 0.5mm 4P | K138: M | L138: 2 | M138: =IF(egTextCal(L138)<>0, egTextCal(L138), ) -> #NAME? | N138: =SUM(G138:G138)*M138 -> #NAME?
A139: P0203 | B139: Cat5E + UTP 0.5 + 4P | D139: UTP 4P-2 Cat.5E (CD 16C)단자반귀로 | E139: 2 | F139: 1 | G139: =IF(egTextCal(E139)<>0, egTextCal(E139), ) -> #NAME? | H139: MM362692755 | I139: UTP 케이블 | J139: Cat.5E 0.5mm 4P | K139: M | L139: 2*H:1 | M139: =IF(egTextCal(L139)<>0, egTextCal(L139), ) -> #NAME? | N139: =SUM(G139:G140)*M139 -> #NAME?
A140: P0203 | B140: 전선관 + (KS) + CD 16c | F140: 2 | H140: 59753097002 | I140: 합성수지제 가요전선관 | J140: CD-난연성 16㎜ | K140: M | L140: 1 | M140: =IF(egTextCal(L140)<>0, egTextCal(L140), ) -> #NAME? | N140: =SUM(G139:G140)*M140 -> #NAME?
...

Sheet 사용설명
B1: ** 반드시 다음 사항을 숙지하신 다음 수정 작업을 하십시오 **
A2: 1. | B2: 산출 양식은 공식이 연결되어 있지 않습니다.
B3: 수정 작업은 본 프로그램에서 하신 후 다시 작성(엑셀파일) 하십시오.
A4: 2. | B4: 본 파일의 내용을 인쇄할 경우, 미리보기를 통하여 페이지 절선을 확인 후 인쇄하십시오.
A5: 3. | B5: 페이지 절선이 맞지 않으면 다음을 참고하십시오.
B17: a. 해당시트의 셀 전체를 선택합니다.
B18: b. 행높이를 적절히 가감하면 페이지 절선을 맞출 수 있습니다.
