Workbook

Sheet 원가
A1: 원 가 계 산 서
A3: 공사명: | C3: 고이분교 복합문화센터 리모델링 전기공사 | E3: 공사기간: 6 개월 이하
A4: 비 목 | C4: 구 분 | D4: 금 액 | E4: 구 성 비 | I4: 요율 | J4: 수량 | K4: 금액 | L4: 이윤 | M4: 끝자리 맞추기
B5: 재 료 비 | C5: 직 접 재 료 비 | D5: =옵션!$B$2 -> 0 | J5: 1 | K5: =D5*J5 -> 0
C6: 간 접 재 료 비 | K6: =D6*J6 -> 0
C7: ( 소 계 ) | D7: =SUM(D5:D6) -> 0 | K7: =D7*J7 -> 0
A8: 순 | B8: 노 무 비 | C8: 직 접 노 무 비 | D8: =옵션!$C$2 -> 0 | J8: 1 | K8: =D8*J8 -> 0
C9: 도 서 할 증 | D9: =TRUNC(D8*I9/100) -> 0 | E9: (직접 노무비) * 2 % | I9: 2
C10: 간 접 노 무 비 | D10: =TRUNC(D8*I10/100) -> 0 | E10: (직접 노무비) * 17.5 % | I10: 17.5 | J10: 1 | K10: =D10*J10 -> 0
C11: ( 소 계 ) | D11: =SUM(D8:D10) -> 0 | K11: =D11*J11 -> 0
C12: 기 계 경 비 | D12: =옵션!$D$2 -> 0 | J12: 1 | K12: =D12*J12 -> 0
C13: 산 재 보 험 료 | D13: =TRUNC(D11*I13/100) -> 0 | E13: (노무비) * 3.56 % | I13: 3.56 | J13: 1 | K13: =D13*J13 -> 0
A14: 공 | C14: 고 용 보 험 료 | D14: =TRUNC(D11*I14/100) -> 0 | E14: (노무비) * 1.01 % | I14: 1.01 | J14: 1 | K14: =D14*J14 -> 0
B15: 경 | C15: 퇴 직 금 공 제 | D15: =TRUNC((D8+D9)*I15/100)*0 -> 0 | E15: (직접 노무비+도서할증) * 2.3 % | I15: 2.3 | J15: 1 | K15: =D15*J15 -> 0
C16: 산업안전보건관리비 | D16: =TRUNC((D7+D8+D9+D34/1.1)*I16/100) -> 0 | E16: (재료+직노+도서할증+도급관급재/1.1) * 3.11 % | I16: 3.11 | J16: 1 | K16: =D16*J16 -> 0
C17: 기 타 경 비 | D17: =TRUNC((D7+D11)*I17/100) -> 0 | E17: (재료+노무) * 5.0 % | I17: 5 | J17: 1 | K17: =D17*J17 -> 0
C18: 건 강 보 험 료 | D18: =TRUNC((D8+D9)*I18/100) -> 0 | E18: (직접 노무비+도서할증) * 3.595 % | I18: 3.595 | J18: 1 | K18: =D18*J18 -> 0
A19: 사 | C19: 연 금 보 험 료 | D19: =TRUNC((D8+D9)*I19/100) -> 0 | E19: (직접 노무비+도서할증) * 4.75 % | I19: 4.75 | J19: 1 | K19: =D19*J19 -> 0
C20: 노인장기요양보험 | D20: =TRUNC(D18*I20/100) -> 0 | E20: (건강 보험료) * 13.14 % | I20: 13.14 | J20: 1 | K20: =D20*J20 -> 0
C21: 석 면 분 담 금 | D21: =TRUNC(D11*0.00006,) -> 0 | E21: (노무비) * 0.006% | K21: =D21*J21 -> 0
C22: 임금채권부담금 | D22: =TRUNC(D11*0.0009,0) -> 0 | E22: (노무비) * 0.09% | K22: =D22*J22 -> 0
B23: 비 | K23: =D23*J23 -> 0
A24: 비 | K24: =D24*J24 -> 0
K25: =D25*J25 -> 0
C26: ( 소 계 ) | D26: =SUM(D12:D25) -> 0 | K26: =D26*J26 -> 0
B27: ( 순 공 사 비 계 ) | D27: =D7+D11+D26 -> 0 | K27: =D27*J27 -> 0
A28: 일 반 관 리 비 | D28: =TRUNC((D7+D11+D26)*I28/100) -> 0 | E28: (재료+노무+경비) * 8 % | I28: 8 | J28: 1 | K28: =D28*J28 -> 0
A29: 이 윤 | E29: (노무+경비+일반관리비) * 15 % | I29: 15 | J29: 1 | K29: =D29*J29 -> 0 | L29: =TRUNC((D11+D26+D28)*I29/100) -> 0 | M29: 10000
A30: 공사손해보험료 | D30: =ROUNDUP((D27+D28+D29)*0.7%,-3) -> 0 | J30: 1 | K30: =D30*J30 -> 0
A31: ( 총 원 가 ) | D31: =SUM(K5:K30) -> 0 | K31: =D31*J31 -> 0
A32: 부 가 가 치 세 | D32: =TRUNC(D31*I32/100) -> 0 | I32: 10 | J32: 1 | K32: =D32*J32 -> 0
A33: 도 급 금 액 | D33: =D31+D32 -> 0
A34: 도 급 자 관 급 | D34: =옵션!$F$3 -> 0 | E34: 분전반 | J34: 1 | K34: =D34*J34 -> 0
A35: 대 관 수 수 료 | E35: 한전불입금 | J35: 1 | K35: =D35*J35 -> 0
K36: =D36*J36 -> 0
A37: ( 총 계 ) | D37: =D33+D34+D35 -> 0 | E37: 천원미만절상 | K37: =SUM(K5:K36) -> 0
C41: =D41-D33 -> 91524000 | D41: 91524000
C42: =D42-D37 -> 104329000 | D42: 104329000

Sheet 총괄표
A1: 총줄수-> | B1: 107 | C1: 2.0 | D1: [ 고이분교 복합문화센터 리모델링 전기공사 ] | AA1: 연속견적가로형식
A2: 번호 | B2: 공종코드 | C2: … | D2: 공 종 명 | E2: 규격 | F2: 단위 | G2: 수량 | H2: 재료비 | J2: 노무비 | M2: 경비 | P2: 계 | Q2: 비고
H3: 단가 | I3: 금액 | J3: 수량 | K3: 단가 | L3: 금액 | M3: 단가 | N3: 금액 | O3: 단가
B4: 공종줄 | D4: [고이분교 복합문화센터 리모델링 전기공사]
B5: 001 | D5: 1.전력간선설비공사 | F5: 식 | G5: 1 | H5: =총괄표!I81 -> 0 | I5: =G5*H5 -> 0 | K5: =총괄표!L81 -> 0 | L5: =G5*K5 -> 0 | M5: =총괄표!N81 -> 0 | N5: =G5*M5 -> 0 | P5: =SUM(I5,L5,N5) -> 0
B6: 002 | D6: 2.전등설비공사 | F6: 식 | G6: 1 | H6: =내역서!I107 -> 0 | I6: =G6*H6 -> 0 | K6: =내역서!L107 -> 0 | L6: =G6*K6 -> 0 | M6: =내역서!N107 -> 0 | N6: =G6*M6 -> 0 | P6: =SUM(I6,L6,N6) -> 0
B7: 003 | D7: 3.전열설비공사 | F7: 식 | G7: 1 | H7: =내역서!I133 -> 0 | I7: =G7*H7 -> 0 | K7: =내역서!L133 -> 0 | L7: =G7*K7 -> 0 | M7: =내역서!N133 -> 0 | N7: =G7*M7 -> 0 | P7: =SUM(I7,L7,N7) -> 0
B8: 004 | D8: 4.냉난방설비공사 | F8: 식 | G8: 1 | H8: =내역서!I159 -> 0 | I8: =G8*H8 -> 0 | K8: =내역서!L159 -> 0 | L8: =G8*K8 -> 0 | M8: =내역서!N159 -> 0 | N8: =G8*M8 -> 0 | P8: =SUM(I8,L8,N8) -> 0
I9: =G9*H9 -> 0 | L9: =G9*K9 -> 0 | N9: =G9*M9 -> 0 | P9: =SUM(I9,L9,N9) -> 0
I10: =G10*H10 -> 0 | L10: =G10*K10 -> 0 | N10: =G10*M10 -> 0 | P10: =SUM(I10,L10,N10) -> 0
I11: =G11*H11 -> 0 | L11: =G11*K11 -> 0 | N11: =G11*M11 -> 0 | P11: =SUM(I11,L11,N11) -> 0
I12: =G12*H12 -> 0 | L12: =G12*K12 -> 0 | N12: =G12*M12 -> 0 | P12: =SUM(I12,L12,N12) -> 0
I13: =G13*H13 -> 0 | L13: =G13*K13 -> 0 | N13: =G13*M13 -> 0 | P13: =SUM(I13,L13,N13) -> 0
I14: =G14*H14 -> 0 | L14: =G14*K14 -> 0 | N14: =G14*M14 -> 0 | P14: =SUM(I14,L14,N14) -> 0
I15: =G15*H15 -> 0 | L15: =G15*K15 -> 0 | N15: =G15*M15 -> 0 | P15: =SUM(I15,L15,N15) -> 0
I16: =G16*H16 -> 0 | L16: =G16*K16 -> 0 | N16: =G16*M16 -> 0 | P16: =SUM(I16,L16,N16) -> 0
I17: =G17*H17 -> 0 | L17: =G17*K17 -> 0 | N17: =G17*M17 -> 0 | P17: =SUM(I17,L17,N17) -> 0
I18: =G18*H18 -> 0 | L18: =G18*K18 -> 0 | N18: =G18*M18 -> 0 | P18: =SUM(I18,L18,N18) -> 0
I19: =G19*H19 -> 0 | L19: =G19*K19 -> 0 | N19: =G19*M19 -> 0 | P19: =SUM(I19,L19,N19) -> 0
I20: =G20*H20 -> 0 | L20: =G20*K20 -> 0 | N20: =G20*M20 -> 0 | P20: =SUM(I20,L20,N20) -> 0
... I28: =G28*H28 -> 0 | L28: =G28*K28 -> 0 | N28: =G28*M28 -> 0 | P28: =SUM(I28,L28,N28) -> 0
C29: Total | D29: ( 합 계 ) | I29: =TRUNC(SUM(I4:I28)) -> 0 | L29: =TRUNC(SUM(L4:L28)) -> 0 | N29: =TRUNC(SUM(N4:N28)) -> 0 | P29: =TRUNC(SUM(P4:P28)) -> 0
B30: 공종줄 | D30: [고이분교 복합문화센터 리모델링 전기공사]
B31: 005 | D31: 5.도급자관급 | F31: 식 | G31: 1 | H31: =총괄표!I107 -> 0 | I31: =G31*H31 -> 0 | K31: =총괄표!L107 -> 0 | L31: =G31*K31 -> 0 | M31: =총괄표!N107 -> 0 | N31: =G31*M31 -> 0 | P31: =SUM(I31,L31,N31) -> 0
I32: =G32*H32 -> 0 | L32: =G32*K32 -> 0 | N32: =G32*M32 -> 0 | P32: =SUM(I32,L32,N32) -> 0
I33: =G33*H33 -> 0 | L33: =G33*K33 -> 0 | N33: =G33*M33 -> 0 | P33: =SUM(I33,L33,N33) -> 0
I34: =G34*H34 -> 0 | L34: =G34*K34 -> 0 | N34: =G34*M34 -> 0 | P34: =SUM(I34,L34,N34) -> 0
I35: =G35*H35 -> 0 | L35: =G35*K35 -> 0 | N35: =G35*M35 -> 0 | P35: =SUM(I35,L35,N35) -> 0
I36: =G36*H36 -> 0 | L36: =G36*K36 -> 0 | N36: =G36*M36 -> 0 | P36: =SUM(I36,L36,N36) -> 0
I37: =G37*H37 -> 0 | L37: =G37*K37 -> 0 | N37: =G37*M37 -> 0 | P37: =SUM(I37,L37,N37) -> 0
I38: =G38*H38 -> 0 | L38: =G38*K38 -> 0 | N38: =G38*M38 -> 0 | P38: =SUM(I38,L38,N38) -> 0
I39: =G39*H39 -> 0 | L39: =G39*K39 -> 0 | N39: =G39*M39 -> 0 | P39: =SUM(I39,L39,N39) -> 0
I40: =G40*H40 -> 0 | L40: =G40*K40 -> 0 | N40: =G40*M40 -> 0 | P40: =SUM(I40,L40,N40) -> 0
I41: =G41*H41 -> 0 | L41: =G41*K41 -> 0 | N41: =G41*M41 -> 0 | P41: =SUM(I41,L41,N41) -> 0
I42: =G42*H42 -> 0 | L42: =G42*K42 -> 0 | N42: =G42*M42 -> 0 | P42: =SUM(I42,L42,N42) -> 0
I43: =G43*H43 -> 0 | L43: =G43*K43 -> 0 | N43: =G43*M43 -> 0 | P43: =SUM(I43,L43,N43) -> 0
... I54: =G54*H54 -> 0 | L54: =G54*K54 -> 0 | N54: =G54*M54 -> 0 | P54: =SUM(I54,L54,N54) -> 0
C55: Total | D55: ( 합 계 ) | I55: =TRUNC(SUM(I30:I54)) -> 0 | L55: =TRUNC(SUM(L30:L54)) -> 0 | N55: =TRUNC(SUM(N30:N54)) -> 0 | P55: =TRUNC(SUM(P30:P54)) -> 0
B56: 공종줄 | D56: 1.전력간선설비공사
B57: 00101 | D57: 1-1.전력인입 | F57: 식 | G57: 1 | H57: =내역서!I29 -> 0 | I57: =G57*H57 -> 0 | K57: =내역서!L29 -> 0 | L57: =G57*K57 -> 0 | M57: =내역서!N29 -> 0 | N57: =G57*M57 -> 0 | P57: =SUM(I57,L57,N57) -> 0
...

Sheet 내역서
A1: 총줄수-> | B1: 185 | C1: 2.0 | D1: [ 고이분교 복합문화센터 리모델링 전기공사 ] | W1: 노임 계산 정보 | AA1: 부속재 및 손료
A2: 번호 | B2: 공종코드 | C2: 코드 | D2: 명 칭 | E2: 규 격 | F2: 단위 | G2: 수량 | H2: 재료비 | J2: 노무비 | M2: 경비 | P2: 계 | Q2: 비고 | W2: 노임계 | X2: 전체(%) | Y2: 공종별(%) | Z2: 노임 소수 | AA2: CD배관재 | AB2: 일반배관재 | AC2: 소모재 | AD2: 자재계 | AE2: 노임계
H3: 단가 | I3: 금액 | J3: 수량 | K3: 단가 | L3: 금액 | M3: 단가 | N3: 금액 | O3: 단가 | AD3: =IF(옵션!$C$11 =0, "1", 옵션!$C$11) -> 1 | AE3: =IF(옵션!$C$12 =0, "1", 옵션!$C$12) -> 1
B4: 공종줄 | D4: 1.전력간선설비공사::1-1.전력인입
A5: 59751467013 | B5: 00101 | C5: 3913170610034966 | D5: 경질비닐전선관 | E5: HI 22 mm | F5: m | G5: 3 | AB5: =J5*H5 -> 0 | AC5: =J5*H5 -> 0
A6: 59753178004 | B6: 00101 | C6: 3913170610045634 | D6: 파상형 폴리에틸렌 전선관 | E6: 65㎜ | F6: m | G6: 21 | AB6: =J6*H6 -> 0 | AC6: =J6*H6 -> 0
A7: A0500000000 | B7: 00101 | C7: RENT000000000002 | D7: [ 배관 부속재 ] | E7: 전선관의 15 % | F7: 식 | G7: 1 | AB7: =TRUNC(SUM(AB4:AB6)) -> 0
A8: E1450927205 | B8: 00101 | C8: 2612152420683699 | D8: 접지용비닐절연전선(F-GV) | E8: 16㎟ | F8: m | G8: 3 | AC8: =J8*H8 -> 0
A9: E1450287508 | B9: 00101 | C9: 2612162920683888 | D9: 폴리에틸렌 난연케이블 | E9: 0.6/1kv F-CV 1C×35㎟ | F9: m | G9: 21 | AC9: =J9*H9 -> 0
A10: 59750427104 | B10: 00101 | C10: 3912161310034846 | D10: 접지봉 | E10: 16Φ×1800 mm | F10: 개 | G10: 3
A11: MM300041036 | B11: 00101 | C11: 3912161320937669 | D11: 접지봉 콘넥터 | E11: 일반형 Φ16 | F11: 개 | G11: 3
A12: 59751777101 | B12: 00101 | C12: 3912169720173983 | D12: 접지첨가제 | E12: 접지저항저감제,아스판엠,10Kg | F12: 개 | G12: 1
A13: E9400177002 | B13: 00101 | C13: 3912143210033787 | D13: 러그단자 | E13: 동관단자 1 HOLE 16 ㎟ | F13: 개 | G13: 2
A14: E9400177004 | B14: 00101 | C14: 3912143210033789 | D14: 러그단자 | E14: 동관단자 1 HOLE 35 ㎟ | F14: 개 | G14: 8
A15: MM300041311 | B15: 00101 | C15: 3912218220173418 | D15: 전주용입상관 | E15: D130x2m | F15: 개 | G15: 1
A16: 56950200520 | B16: 00101 | C16: EAC110160000 | D16: 맨 홀 | E16: 1000x1000x1000 | F16: 식 | G16: 1 | Q16: 제 1호
A17: ERP42300002 | B17: 00101 | C17: ERP423000002 | D17: 배관용구멍뚫기(코어드릴기준) | E17: 벽면￠75 Conc 두께 300mm이하 | F17: 개소 | G17: 2 | Q17: 제 2호
A18: MM969725379 | B18: 00101 | C18: 391115ZZ701Z0015 | D18: 필름밴드 | F18: 개 | G18: 4 | Z18: 노임계
A19: 56959000002 | B19: 00101 | C19: E56959000002 | D19: 되메우기(기계90%,인력10%) | E19: 보통토사 | F19: ㎥ | G19: 19.6 | Q19: 제 4호
A20: 56959000001 | B20: 00101 | C20: E56959000001 | D20: 터파기(기계90%,인력10%) | E20: 보통토사 | F20: ㎥ | G20: 19.6 | Q20: 제 3호
A21: A0100000000 | B21: 00101 | C21: RENT000000000003 | D21: [ 소모 잡자재 ] | E21: 전선, 전선관의 2 % | F21: 식 | G21: 1 | AC21: =TRUNC(TRUNC(SUM(AC4:AC20))*옵션!$B$33/100) -> 0 | AD21: =TRUNC(SUM(I4:I20))+TRUNC(SUM(N4:N20)) -> 0
A22: 56900017016 | B22: 00101 | C22: L001010101000075 | D22: 노 무 비 | E22: 내선전공 | F22: 인 | G22: =#REF! -> #REF! | AE22: =L22 -> 0
A23: 56900017076 | B23: 00101 | C23: L001010101000078 | D23: 노 무 비 | E23: 저압케이블전공 | F23: 인 | G23: =#REF! -> #REF! | AE23: =L23 -> 0
A24: 56900017031 | B24: 00101 | C24: L001010101000081 | D24: 노 무 비 | E24: 배전전공 | F24: 인 | G24: =#REF! -> #REF! | AE24: =L24 -> 0
A25: 56900017041 | B25: 00101 | C25: L001010101000002 | D25: 노 무 비 | E25: 보통인부 | F25: 인 | G25: =#REF! -> #REF! | AE25: =L25 -> 0
A26: A0300000000 | B26: 00101 | C26: RENT000000000006 | D26: [ 공 구 손 료 ] | E26: 노무비의 3 % | F26: 식 | G26: 1
AC27: =TRUNC(AE27*옵션!$B$36/100) -> 0 | AD27: =TRUNC(SUM(L4:L25)) -> 0 | AE27: =TRUNC(SUM(AE4:AE26)) -> 0
B29: 합계줄 | D29: ( 합 계 )
B30: 공종줄 | D30: 1.전력간선설비공사::1-2.전력간선
A31: 59751467017 | B31: 00102 | C31: 3913170610034970 | D31: 경질비닐전선관 | E31: HI 54 mm | F31: m | G31: 17 | AB31: =J31*H31 -> 0 | AC31: =J31*H31 -> 0
A32: A0500000000 | B32: 00102 | C32: RENT000000000002 | D32: [ 배관 부속재 ] | E32: 전선관의 15 % | F32: 식 | G32: 1 | AB32: =TRUNC(SUM(AB30:AB31)) -> 0
A33: 59753017007 | B33: 00102 | C33: 3913170620174414 | D33: 1종금속제가요전선관 | E33: 42 mm 일반-비방수 | F33: m | G33: 222 | AC33: =J33*H33 -> 0
A34: MM300040379 | B34: 00102 | C34: 3913171221650789 | D34: 전선덕트 | E34: 알루미늄 150x100mm | F34: m | G34: 3
A35: E1450927204 | B35: 00102 | C35: 2612152420683698 | D35: 접지용비닐절연전선(F-GV) | E35: 10㎟ | F35: m | G35: 222 | AC35: =J35*H35 -> 0
A36: E1450927206 | B36: 00102 | C36: 2612152420683700 | D36: 접지용비닐절연전선(F-GV) | E36: 25㎟ | F36: m | G36: 17 | AC36: =J36*H36 -> 0
A37: E1450287524 | B37: 00102 | C37: 2612162920683905 | D37: 폴리에틸렌 난연케이블 | E37: 0.6/1kv F-CV 2C×10㎟ | F37: m | G37: 168 | AC37: =J37*H37 -> 0
A38: E1450287564 | B38: 00102 | C38: 2612162920683946 | D38: 폴리에틸렌 난연케이블 | E38: 0.6/1kv F-CV 4C×10㎟ | F38: m | G38: 25 | AC38: =J38*H38 -> 0
A39: E1450287568 | B39: 00102 | C39: 2612162920683949 | D39: 폴리에틸렌 난연케이블 | E39: 0.6/1kv F-CV 4C×35㎟ | F39: m | G39: 16 | AC39: =J39*H39 -> 0
A40: 59753867011 | B40: 00102 | C40: 3912110220186117 | D40: 세대단자함 | E40: 50A(Main), 4회로 | F40: 개 | G40: 4
A41: E9400177001 | B41: 00102 | C41: 3912143210033786 | D41: 러그단자 | E41: 동관단자 1 HOLE 10 ㎟ | F41: 개 | G41: 40
...

Sheet 옵션
B1: 재료비 | C1: 노무비 | D1: 경비 | F1: 계
A2: 총 급 액 | B2: =총괄표!I29 -> 0 | C2: =총괄표!L29 -> 0 | D2: =총괄표!N29 -> 0 | F2: =SUM(B2,C2,D2) -> 0
A3: 도급자관급 | B3: =총괄표!I107 -> 0 | C3: =총괄표!L107 -> 0 | D3: =총괄표!N107 -> 0 | F3: =SUM(B3,C3,D3) -> 0 | H3: 금액조정이 안되나요?
F4: =SUM(B4,C4,D4) -> 0
F5: =SUM(B5,C5,D5) -> 0
F6: =SUM(B6,C6,D6) -> 0 | H6: 이지테크에서 변환할 때 2번 옵션을 지정하여 다시 해보세요
F7: =SUM(B7,C7,D7) -> 0
F8: =SUM(B8,C8,D8) -> 0
H9: 시트를 삭제할 때 에러가 뜨면 1번 옵션으로 하면 됩니다.
B10: 적용율(%) | C10: 끝자리 | D10: 적용율(%)/100 | E10: 일위대가소수
A11: 전체자재 적용율(%)(공종/일위대가) | B11: 100 | C11: 1 | D11: =$B$11/100 -> 1
A12: 전체노임 적용율(%)(공종) | B12: 100 | C12: 1 | D12: =$B$12/100 -> 1 | E12: 2 | H12: 2번 옵션으로 변환했을 때에는 결과값이 다를 수 있습니다.
A13: 전체노임 적용율(%)(일위대가) | B13: 100 | C13: 1 | D13: =$B$13/100 -> 1 | E13: 5
A20: *(그룹별 자재 단가 추가 할증)* | B20: 적용율(%) | D20: 적용율(%)/100
A21: Cable(CAB) 할증(%) | B21: =B11 -> 100 | D21: =$B$21/100 -> 1
A22: Wire (WIR) 할증(%) | B22: =B11 -> 100 | D22: =$B$22/100 -> 1
A23: Pipe (PIP) 할증(%) | B23: =B11 -> 100 | D23: =$B$23/100 -> 1
A24: 제 4그룹 할증(%) | B24: =B11 -> 100 | D24: =$B$24/100 -> 1
A25: 제 5그룹 할증(%) | B25: =B11 -> 100 | D25: =$B$25/100 -> 1
A30: *(그룹별 노임 추가 할증)* | B30: 적용율(%) | C30: 자동부속재(전기) | D30: 자동부속재(통신)
A31: 배관부속재(%) | B31: 15 | C31: 15 | D31: 20
A32: CD관부속재(%) | B32: 40 | C32: 40 | D32: 40
A33: 소모잡자재(%) | B33: 2 | H33: 본 파일은 이지테크에서 2번 옵션으로 만들었습니다.
A34: 방폭할증(%)
A35: 고소할증(%) | B35: 2
A36: 공구손료(%) | B36: 3
A40: *(공종별 노임 적용율(%))* | B40: 적용율(%) | C40: 소수자릿수
A41: 2.전등설비공사 | B41: 100 | C41: 0
A42: 3.전열설비공사 | B42: 100 | C42: 0
A43: 4.냉난방설비공사 | B43: 100 | C43: 0
A44: 1-1.전력인입 | B44: 100 | C44: 0
A45: 1-2.전력간선 | B45: 100 | C45: 0
A46: 5-1-2.전력간선 | B46: 100 | C46: 3

Sheet 사용설명
B1: ** 반드시 다음 사항을 숙지하신 다음 수정 작업을 하십시오 **
A2: 1. | B2: 속성이 숫자인 셀을 삭제할 때는 반드시 'Delete' 키를 사용하십시오.
B3: **주의:'Space Bar' 로 지웠을 때는 '#Value' Error가 발생됩니다.
A4: 2. | B4: 일위대가(을지)는 소수점 처리 때문에 셀 속성을 '일반'으로 하였습니다.(소수점 능동 처리)
B5: **참고: (수량*단가)의 결과는 소수 한자리, 금액을 취합한 소계는 1원 이하 절사입니다.
A6: 3. | B6: 내역서에서는 수량에만 셀 속성을 '일반'으로 하였습니다.(소수점 능동 처리)
A7: 4. | B7: 단가수정은 '단가조사서'시트 에서 하십시오.
B8: a)표지와 원가 -> 총괄표 -> 내역서 ->일위대가와 합산자재 ->단가조사서 를 참조하고
B9: 있으므로 단가조사서의 결정단가를 수정하면 전체 금액이 갱신됩니다.
B10: **주의: 금액란은 공식이 걸려있으므로 조심하여 수정하십시오.
B11: b)전체 자재를 일정 요율(%)로 변경할 때는 옵션시트의 자재 적용율을 조정하면 됩니다.
A12: 5. | B12: 노임 단가는 '단가조사서'시트에서 품셈은 '노임근거'시트에서 수정하십시오.
B13: a)전체 노임을 일정 요율(%)로 변경할 때는 '옵션시트'의 전체노임 적용율을 조정하면 됩니다.
B14: b)공종별로 노임을 수정하려면 '옵션시트'의 공종별 노임 적용율을 조정하면 됩니다.
B15: c)케이블 및 전선 자재 단가를 추가로 조정하려면 그룹별 자재 적용율을 조정하면 됩니다.
B16: 그룹은 견적 프로그램에서 엑셀파일이 만들어질때 지정됩니다.
A17: 6. | B17: 겉표지의 모든 정보는 표지를 참조하였습니다.(정보 수정은 표지에서만 하시면 됩니다.)
A18: 7. | B18: 필수 :본 프로그램의 총 금액을 확인한 후 사용하십시오.
A19: 8. | B19: 본 파일의 내용을 인쇄할 경우, 미리보기를 통하여 페이지 절선을 확인 후 인쇄하십시오.
A20: 9. | B20: 관급자재 Sheet가 해당이 없을 경우엔 삭제하십시오.
A21: 10. | B21: 페이지 절선이 맞지 않으면 다음을 참고하십시오.
B33: a. 해당시트의 셀 전체를 선택합니다.
B34: b. 행높이를 적절히 가감하면 페이지 절선을 맞출 수 있습니다.
