Workbook
Name _: #REF!
Name _.사급자재대: #REF!
Name ___10: #REF!
Name ___11: #REF!
Name ___6: #REF!
Name ___7: #REF!
Name ___8: #REF!
Name ___9: #REF!
Name ___HPP1: #REF!
Name __10: #REF!
Name __11: #REF!
Name __6: #REF!
Name __7: #REF!
Name __8: #REF!
Name __9: #REF!
Name __A100000: #REF!
Name __A66000: #REF!
Name __A67000: #REF!
Name __A68000: #REF!
Name __A80000: #REF!
Name __AA1: #REF!
Name __C: #REF!
Name __CON135: #REF!
Name __CON210: #REF!
Name __CON240: #REF!
Name __ELL1: #REF!
Name __ELL2: #REF!
Name __HPP1: #REF!
Name __IV65999: #REF!
Name __IV66000: #REF!
Name __IV69999: #REF!
Name __IV70000: #REF!
Name __IV99999: #REF!
Name __JOI13: #REF!
Name __pa1: #REF!
Name __pa2: #REF!
Name __PRN2: #REF!
Name __PRN3: #REF!
Name __PRN4: #REF!
Name __PRN6: #REF!
Name __PRN7: #REF!
Name __SCH1: #REF!
Name __SH1: #REF!
Name __SH2: #REF!
Name __SH3: #REF!
Name __ST1: #N/A
Name __Ted1: #REF!
Name __Ts1: #REF!
Name __W1: #REF!
Name __YO1: #REF!
Name __zz1: #REF!
Name __Zz10137: #REF!
Name __각재: #REF!
Name __경유: #REF!
Name __경첩: #REF!
Name __구리스: #REF!
Name __모래: #REF!
Name __모빌유: #REF!
Name __박리제: #REF!
Name __벤토나이트: #REF!

Sheet 갑
N1: 설 계 설 명 서 | Y1: 6. 시행방법 : 도급시행 | AL1: 과 장 | AO1: 팀 장 | AQ1: 심 사 | AS1: 설 계 | AU1: 설 계 년 월 일
B2: 2026년도 | Y2: 7. 공사기간 다음 예정공정표에 의거 착수일로부터 1개월 (28일) 내에 준공키로 하고 다음 경우에 한하여 관의 승인을 얻어 그 기간을 | AU2: 2 0 2 6 년 0 9 월 일 설계
A3: 위 치 : | C3: 전북자치도 김제시 죽산면 죽산로126(구 새마을 금고) | N3: 1. 위 치 : | O3: =+C3 -> 전북자치도 김제시 죽산면 죽산로126(구 새마을 금고) | Z3: 연기 조치할 수 있다.
N4: 2. 사 업 명 : | O4: =B10 -> 김제시 죽산면 죽산로126(구 새마을 금고)내·외부공사 | Z4: (1) 천재지변으로 인하여 작업이 불가능할 때 | AM4: =B2 -> 2026년도
N5: 3. 목 적 : | O5: 시설 환경개선을 위한 리모델링 | Z5: (2) 관의 지시에 의하여 작업이 중단되었을대 | AO5: =B10 -> 김제시 죽산면 죽산로126(구 새마을 금고)내·외부공사
N7: 4. 과업 개요 | Y7: 공 종 | Z7: 4 | AA7: =Z7+3 -> 7 | AB7: =AA7+3 -> 10 | AC7: =AB7+3 -> 13 | AD7: =AC7+3 -> 16 | AE7: =AD7+3 -> 19 | AF7: =AE7+3 -> 22 | AG7: =AF7+3 -> 25 | AH7: =AG7+3 -> 28 | AI7: 비 고 | AQ7: =D13 -> 0
O8: 공 종 | Q8: 주 요 내 용 | Y8: 현장 현황조사 | AM8: 위 치
O9: 내부개선공사 | Q9: =O5 -> 시설 환경개선을 위한 리모델링 | Y9: 자재 수급 | AP9: =C3 -> 전북자치도 김제시 죽산면 죽산로126(구 새마을 금고)
B10: 김제시 죽산면 죽산로126(구 새마을 금고)내·외부공사 | Y10: 자재 가공 | AM10: 과 업 개 요
Y11: 공장 제작 | AP11: =O9 -> 내부개선공사 | AR11: =Q9 -> 시설 환경개선을 위한 리모델링
Y12: 현장시공 | AP12: =O10 -> 0 | AR12: =Q10 -> 0
Y13: 기타 | AP13: =O11 -> 0 | AR13: =Q11 -> 0
Y14: =O15 -> 0 | AP14: =O12 -> 0 | AR14: =Q12 -> 0
D15: [ 김제시 죽산면 죽산로126(구 새마을 금고)내·외부공사 ] | Y15: =O16 -> 0 | AP15: =O13 -> 0 | AR15: =Q13 -> 0
AP16: =O14 -> 0 | AR16: =Q14 -> 0
N17: 5. 공사 자재 : | O17: 본 공사에 소요되는 자재는 다음과 같다.
O18: 품 명 | Q18: 규 격 | S18: 단위 | T18: 수 량 | V18: 인 도 장 소 | W18: 비 고 | Y18: 8. 설계변경 : | Z18: ⑴ 본 공사는 조사 당시 수립된 자료에 의하여 설계한 것인바 조사불능 부분 및 조사후 변동된 사항에 대하여는 시공당시 | AO18: 총공사비: | AQ18: ="일금 "&NUMBERSTRING(AW18,1)&"-원정" -> #NUM! | AW18: =AQ19+AQ21+AV19 -> -23749
T19: 관 급 | U19: 사 급 | Z19: 실제 상황에 맞추어 설계 변경하기로 한다. | AO19: 공급가액: | AQ19: =원가!E32 -> -21590 | AT19: 부가세: | AV19: =원가!E33 -> -2159
O20: 설계 내역서 참조. | Z20: ⑵ 본 공사의 관급자내 수량 및 인도지의 변경이 있을 경우에는 이를 실지에 맞추어 설계 변경한다.
Z21: ⑶ 본 공사의 시공중 관의 형편상 설계변경을 필요로 할 시는 이를 설계 변경하기로 한다. | AO21: 구매 물품비 | AQ21: =원가!E35 -> 0
Y22: 9. 기 타 : | Z22: 일반시방서, 특별시방서에 준하여 공사의 시공을 한다.

Sheet 1
B4: =갑!D15 -> [ 김제시 죽산면 죽산로126(구 새마을 금고)내·외부공사 ]
J18: 원 가 계 산 서

Sheet 원가
B1: 공 사 원 가 계 산 서
B2: 사업명: | C2: =갑!B10 -> 김제시 죽산면 죽산로126(구 새마을 금고)내·외부공사
B3: 비 목 | E3: 금 액 | F3: 적 용 요 율 | G3: 산 출 근 거 | H3: 비 고
A4: A1 | B4: 순 공 사 원 가 | C4: 재료비 | D4: 직 접 재 료 비 | E4: =집계!F19 -> 0
A5: A2 | D5: 간 접 재 료 비 | E5: 0
A6: AS | D6: [ 소 계 ] | E6: =TRUNC(E4+E5, 0) -> 0
A7: B1 | C7: 노무비 | D7: 직 접 노 무 비 | E7: =집계!H19 -> 0
A8: B2 | D8: 간 접 노 무 비 | E8: =TRUNC(E7*$F$8, 0) -> 0 | F8: 0.175 | G8: 직접노무비 * 17.50%
A9: BS | D9: [ 소 계 ] | E9: =TRUNC(E7+E8, 0) -> 0
A10: C2 | C10: 경 비 | D10: 기 계 경 비 | E10: =집계!J19 -> 0
A11: C4 | D11: 산 재 보 험 료 | E11: =TRUNC(E9*$F$11, 0) -> 0 | F11: 0.0356 | G11: 노무비 * 3.56%
A12: C5 | D12: 고 용 보 험 료 | E12: =TRUNC(E9*$F$12, 0) -> 0 | F12: 0.0101 | G12: 노무비 * 1.01%
A13: C6 | D13: 국민 건강 보험료 | E13: =TRUNC(E7*$F$13, 0) -> 0 | F13: 0.03595 | G13: 직접노무비 * 3.595%
A14: CB | D14: 노인장기요양보험료 | E14: =TRUNC(E13*$F$14, 0) -> 0 | F14: 0.1314 | G14: 건강보험료 * 13.14%
A15: C7 | D15: 국민 연금 보험료 | E15: =TRUNC(E7*$F$15, 0) -> 0 | F15: 0.0475 | G15: 직접노무비 * 4.75%
A16: C8 | D16: 퇴직 공제 부금비 | E16: =TRUNC(E7*$F$16, 0) -> 0 | F16: 0.023 | G16: 직접노무비 * 2.3% | H16: 추정금액 1억 이상 건설공사
A17: CA | D17: 산업안전보건관리비 | E17: =TRUNC((E6+E7)*$F$17, 0) -> 0 | F17: 0.0311 | G17: (재료비+직노) * 3.11%
A18: CA | D18: 산업안전보건관리비 | E18: =TRUNC((E7+E8+#REF!)*$F$18, 0)*0 -> #REF! | F18: 0.0293 | G18: (재료비+직노+도급자관급) * 2.93% | H18: 도급자 관급 있을 시
A19: CG | D19: 기 타 경 비 | E19: =TRUNC((E6+E9)*$F$19, 0) -> 0 | F19: 0.05 | G19: (재료비+노무비) * 5.00%
A20: CH | D20: 석 면 분 담 금 | E20: =TRUNC((E9)*$F$20, 0) -> 0 | F20: 6e-05 | G20: (노무비) * 0.006%
A21: CK | D21: 임금 채권 부담금 | E21: =TRUNC((E9)*$F$21, 0) -> 0 | F21: 0.0009 | G21: (노무비) * 0.09%
D22: 공사이행 보증수수료 | E22: =TRUNC((E6+E7+E10)*$F$22, 0)*0 -> 0 | F22: 0.000141 | G22: (재료비+직노+기계경비) * 0.0141% | H22: 추정가격 300억 이상/기술제안 입찰
D23: 건설하도급대금지급보증서발급수수료 | E23: =TRUNC((E4+E7+E10)*$F$23, 0)*0 -> 0 | F23: 0.00081 | G23: (재료비+직노+기계경비) * 0.081% | H23: 전문건설공사 제외
D24: 폐 기 물 처 리 비 | E24: =내역!L139+내역!L267 -> 0 | G24: 별 도 산 출
A25: CH | D25: 환 경 보 전 비 | E25: =TRUNC((E6+E7+E10)*$F$25, 0) -> 0 | F25: 0.003 | G25: (재료비+직노+기계경비) * 0.3%
A26: CK | D26: 건설기계대여대금 지급보증액 발급금액 | E26: =TRUNC((E6+E7+E10)*$F$26, 0) -> 0 | F26: 0.0007 | G26: (재료비+직노+기계경비) * 0.07% | H26: 전기정보통신소방제외/국가유산수리공사제외
A27: CS | D27: [ 소 계 ] | E27: =TRUNC(E10+E11+E12+E13+E15+E16+E17+E14+E19+E25+E26+E22+E23+E20+E21+E24, 0) -> 0
A28: S1 | B28: 계 | E28: =TRUNC(E6+E9+E27, 0) -> 0
A29: D1 | B29: 일 반 관 리 비 | E29: =INT(E28*$F$29) -> 0 | F29: 0.08 | G29: 계 * 8.00%
A30: D2 | B30: 이 윤 | E30: =INT(E9+E27+E29)*$F$30-23750/1.1 -> -21590.909 | F30: 0.15 | G30: (노무비+경비+일반관리비) * 15.00% 이내
B31: 고 재 처 리 비 | E31: 0
A32: D9 | B32: 공 급 가 액 | E32: =TRUNC(E30+E29+E28+E31,0) -> -21590
A33: DB | B33: 부 가 가 치 세 | E33: =TRUNC(E32*$F$33, 0) -> -2159 | F33: 0.1 | G33: 공급가액 * 10%
A34: DH | B34: 도 급 액 | E34: =TRUNC(E32+E33,) -> -23749
B35: 구 매 제 품 비 | E35: =집계!L8 -> 0
A36: S2 | B36: 총 공 사 비 | E36: =E34+E35 -> -23749

Sheet 2
B4: =갑!D15 -> [ 김제시 죽산면 죽산로126(구 새마을 금고)내·외부공사 ]
J18: 총 괄 내 역 서

Sheet 집계
A1: 총괄 집계표
A2: 공 종 명 | B2: 규 격 | C2: 수량 | D2: 단위 | E2: 재 료 비 | G2: 노 무 비 | I2: 경 비 | K2: 합 계 | M2: 비 고
E3: 단 가 | F3: 금 액 | G3: 단 가 | H3: 금 액 | I3: 단 가 | J3: 금 액 | K3: 단 가 | L3: 금 액 | S3: 할 증 | T3: 화폐변환 | U3: OP값 | V3: EQ | W3: LA | X3: MA | Y3: 금액계상
A4: 김제시 죽산면 죽산로126(구 새마을 금고)내·외부공사
A5: 01. 구조보강공사 | C5: 1 | D5: 식 | E5: =내역!E5 -> 0 | F5: =TRUNC(E5*C5,0) -> 0 | G5: =내역!G5 -> 0 | H5: =TRUNC(G5*C5,0) -> 0 | I5: =내역!I5 -> 0 | J5: =TRUNC(I5*C5,0) -> 0 | K5: =E5+G5+I5 -> 0 | L5: =F5+H5+J5 -> 0 | P5: 10 | R5: A01 | BJ5: =HYPERLINK("#내역서!A43","A01 →") -> A01 →
A6: 02. 외부공사 | C6: 1 | D6: 식 | E6: =내역!E6 -> 0 | F6: =TRUNC(E6*C6,0) -> 0 | G6: =내역!G6 -> 0 | H6: =TRUNC(G6*C6,0) -> 0 | I6: =내역!I6 -> 0 | J6: =TRUNC(I6*C6,0) -> 0 | K6: =E6+G6+I6 -> 0 | L6: =F6+H6+J6 -> 0 | P6: 20 | R6: A02 | BJ6: =HYPERLINK("#내역서!A49","A02 →") -> A02 →
A7: 03. 내부공사 | C7: 1 | D7: 식 | E7: =내역!E7 -> 0 | F7: =TRUNC(E7*C7,0) -> 0 | G7: =내역!G7 -> 0 | H7: =TRUNC(G7*C7,0) -> 0 | I7: =내역!I7 -> 0 | J7: =TRUNC(I7*C7,0) -> 0 | K7: =E7+G7+I7 -> 0 | L7: =F7+H7+J7 -> 0 | P7: 30 | R7: A03 | BJ7: =HYPERLINK("#내역서!A108","A03 →") -> A03 →
A8: 04. 구매물품 | B8: 합산별도 | C8: 1 | D8: 식 | E8: =내역!E8 -> 0 | F8: =TRUNC(E8*C8,0) -> 0 | G8: =내역!G8 -> 0 | H8: =TRUNC(G8*C8,0) -> 0 | I8: =내역!I8 -> 0 | J8: =TRUNC(I8*C8,0) -> 0 | K8: =E8+G8+I8 -> 0 | L8: =F8+H8+J8 -> 0 | P8: 40 | Q8: * | R8: A04 | BJ8: =HYPERLINK("#내역서!A328","A04 →") -> A04 →
E9: =내역!E9 -> 0 | F9: 0 | G9: =내역!G9 -> 0 | H9: 0 | I9: =내역!I9 -> 0 | J9: 0 | K9: =E9+G9+I9 -> 0 | L9: =F9+H9+J9 -> 0 | P9: 50
E10: =내역!E10 -> 0 | F10: 0 | G10: =내역!G10 -> 0 | H10: 0 | I10: =내역!I10 -> 0 | J10: 0 | K10: =E10+G10+I10 -> 0 | L10: =F10+H10+J10 -> 0 | P10: 60
E11: =내역!E11 -> 0 | F11: 0 | G11: =내역!G11 -> 0 | H11: 0 | I11: =내역!I11 -> 0 | J11: 0 | K11: =E11+G11+I11 -> 0 | L11: =F11+H11+J11 -> 0 | P11: 70
E12: =내역!E12 -> 0 | F12: 0 | G12: =내역!G12 -> 0 | H12: 0 | I12: =내역!I12 -> 0 | J12: 0 | K12: =E12+G12+I12 -> 0 | L12: =F12+H12+J12 -> 0 | P12: 80
E13: =내역!E13 -> 0 | F13: 0 | G13: =내역!G13 -> 0 | H13: 0 | I13: =내역!I13 -> 0 | J13: 0 | K13: =E13+G13+I13 -> 0 | L13: =F13+H13+J13 -> 0 | P13: 90
E14: =내역!E14 -> 0 | F14: 0 | G14: =내역!G14 -> 0 | H14: 0 | I14: =내역!I14 -> 0 | J14: 0 | K14: =E14+G14+I14 -> 0 | L14: =F14+H14+J14 -> 0 | P14: 100
E15: =내역!E15 -> 0 | F15: 0 | G15: =내역!G15 -> 0 | H15: 0 | I15: =내역!I15 -> 0 | J15: 0 | K15: =E15+G15+I15 -> 0 | L15: =F15+H15+J15 -> 0 | P15: 110
E16: =내역!E16 -> 0 | F16: 0 | G16: =내역!G16 -> 0 | H16: 0 | I16: =내역!I16 -> 0 | J16: 0 | K16: =E16+G16+I16 -> 0 | L16: =F16+H16+J16 -> 0 | P16: 120
E17: =내역!E17 -> 0 | F17: 0 | G17: =내역!G17 -> 0 | H17: 0 | I17: =내역!I17 -> 0 | J17: 0 | K17: =E17+G17+I17 -> 0 | L17: =F17+H17+J17 -> 0 | P17: 130
E18: =내역!E18 -> 0 | F18: 0 | G18: =내역!G18 -> 0 | H18: 0 | I18: =내역!I18 -> 0 | J18: 0 | K18: =E18+G18+I18 -> 0 | L18: =F18+H18+J18 -> 0 | P18: 140 | AA18: MA+ = | AB18: =(집계!F5+집계!F6+집계!F7) -> 0 | AC18: MA = | AD18: =$AB18 -> 0
A19: 직 접 공 사 비 | F19: =TRUNC((F5+F6+F7),0) -> 0 | H19: =TRUNC((H5+H6+H7),0) -> 0 | J19: =TRUNC((J5+J6+J7),0) -> 0 | K19: =E19+G19+I19 -> 0 | L19: =F19+H19+J19 -> 0 | P19: 150 | Q19: * | R19: F | X19: MA = MA(1, -1,140) _x000D_ LA = LA(1, -1,140) _x000D_ EQ = EQ(1, -1,140) | AA19: LA+ = | AB19: =집계!H19*17.5/100 -> 0 | AC19: LA = | AD19: =$AB19 -> 0

Sheet 3
B4: =갑!D15 -> [ 김제시 죽산면 죽산로126(구 새마을 금고)내·외부공사 ]
J18: 산 출 내 역 서

Sheet 내역
A1: 내역서
A2: 공 종 명 | B2: 규 격 | C2: 수량 | D2: 단위 | E2: 재 료 비 | G2: 노 무 비 | I2: 경 비 | K2: 합 계 | M2: 비고
E3: 단 가 | F3: 금 액 | G3: 단 가 | H3: 금 액 | I3: 단 가 | J3: 금 액 | K3: 단 가 | L3: 금 액 | S3: 할 증 | T3: 화폐변환 | U3: OP값 | V3: EQ | W3: LA | X3: MA | Y3: 금액계상
A4: 김제시 죽산면 죽산로126(구 새마을 금고)내·외부공사
A5: 01. 구조보강공사 | C5: 1 | D5: 식 | E5: =F20 -> 0 | F5: =TRUNC(E5*C5,0) -> 0 | G5: =H20 -> 0 | H5: =TRUNC(G5*C5,0) -> 0 | I5: =J20 -> 0 | J5: =TRUNC(I5*C5,0) -> 0 | K5: =E5+G5+I5 -> 0 | L5: =F5+H5+J5 -> 0 | P5: 10 | R5: A01 | BJ5: =HYPERLINK("#내역서!A43","A01 →") -> A01 →
A6: 02. 외부공사 | C6: 1 | D6: 식 | E6: =F36 -> 0 | F6: =TRUNC(E6*C6,0) -> 0 | G6: =H36 -> 0 | H6: =TRUNC(G6*C6,0) -> 0 | I6: =J36 -> 0 | J6: =TRUNC(I6*C6,0) -> 0 | K6: =E6+G6+I6 -> 0 | L6: =F6+H6+J6 -> 0 | P6: 20 | R6: A02 | BJ6: =HYPERLINK("#내역서!A49","A02 →") -> A02 →
A7: 03. 내부공사 | C7: 1 | D7: 식 | E7: =F116 -> 0 | F7: =TRUNC(E7*C7,0) -> 0 | G7: =H116 -> 0 | H7: =TRUNC(G7*C7,0) -> 0 | I7: =J116 -> 0 | J7: =TRUNC(I7*C7,0) -> 0 | K7: =E7+G7+I7 -> 0 | L7: =F7+H7+J7 -> 0 | P7: 30 | R7: A03 | BJ7: =HYPERLINK("#내역서!A108","A03 →") -> A03 →
A8: 04. 구매물품 | C8: 1 | D8: 식 | E8: =F372 -> 0 | F8: =TRUNC(E8*C8,0) -> 0 | G8: =H372 -> 0 | H8: =TRUNC(G8*C8,0) -> 0 | I8: =J372 -> 0 | J8: =TRUNC(I8*C8,0) -> 0 | K8: =E8+G8+I8 -> 0 | L8: =F8+H8+J8 -> 0 | P8: 40 | Q8: * | R8: A04 | BJ8: =HYPERLINK("#내역서!A328","A04 →") -> A04 →
F9: 0 | H9: 0 | J9: 0 | K9: =E9+G9+I9 -> 0 | L9: =F9+H9+J9 -> 0 | P9: 50
F10: 0 | H10: 0 | J10: 0 | K10: =E10+G10+I10 -> 0 | L10: =F10+H10+J10 -> 0 | P10: 60
F11: 0 | H11: 0 | J11: 0 | K11: =E11+G11+I11 -> 0 | L11: =F11+H11+J11 -> 0 | P11: 70
F12: 0 | H12: 0 | J12: 0 | K12: =E12+G12+I12 -> 0 | L12: =F12+H12+J12 -> 0 | P12: 80
F13: 0 | H13: 0 | J13: 0 | K13: =E13+G13+I13 -> 0 | L13: =F13+H13+J13 -> 0 | P13: 90
F14: 0 | H14: 0 | J14: 0 | K14: =E14+G14+I14 -> 0 | L14: =F14+H14+J14 -> 0 | P14: 100
F15: 0 | H15: 0 | J15: 0 | K15: =E15+G15+I15 -> 0 | L15: =F15+H15+J15 -> 0 | P15: 110
F16: 0 | H16: 0 | J16: 0 | K16: =E16+G16+I16 -> 0 | L16: =F16+H16+J16 -> 0 | P16: 120
F17: 0 | H17: 0 | J17: 0 | K17: =E17+G17+I17 -> 0 | L17: =F17+H17+J17 -> 0 | P17: 130
F18: 0 | H18: 0 | J18: 0 | K18: =E18+G18+I18 -> 0 | L18: =F18+H18+J18 -> 0 | P18: 140 | AA18: MA+ = | AB18: =(내역!F5+내역!F6+내역!F7) -> 0 | AC18: MA = | AD18: =$AB18 -> 0
A19: 직 접 공 사 비 | C19: 1 | D19: 식 | F19: =TRUNC((F5+F6+F7),0) -> 0 | H19: =TRUNC((H5+H6+H7),0) -> 0 | J19: =TRUNC((J5+J6+J7),0) -> 0 | K19: =E19+G19+I19 -> 0 | L19: =F19+H19+J19 -> 0 | P19: 150 | Q19: * | R19: F | X19: MA = MA(1, -1,140) _x000D_ LA = LA(1, -1,140) _x000D_ EQ = EQ(1, -1,140) | AA19: LA+ = | AB19: =내역!H19*17.5/100 -> 0 | AC19: LA = | AD19: =$AB19 -> 0
A20: 01. 구조보강공사 | C20: 1 | D20: 식 | F20: =TRUNC(F21+F22+F23+F24,0) -> 0 | H20: =TRUNC(H21+H22+H23+H24,0) -> 0 | J20: =TRUNC(J21+J22+J23+J24,0) -> 0 | L20: =F20+H20+J20 -> 0 | O20: A01
A21: 보 탄소섬유 보강 | B21: Type1 - G1 300*500 (측면,하부2P All) | C21: 4.73 | D21: M | E21: =일위목록!E3 -> 0 | F21: =TRUNC(E21*C21,0) -> 0 | G21: =일위목록!F3 -> 0 | H21: =TRUNC(G21*C21,0) -> 0 | I21: =일위목록!G3 -> 0 | J21: =TRUNC(I21*C21,0) -> 0 | K21: =E21+G21+I21 -> 0 | L21: =F21+H21+J21 -> 0 | P21: 10 | R21: _0001 | T21: T | BJ21: =HYPERLINK("#일위대가목록!A3","_0001 →") -> _0001 →
A22: 보 철판 보강 | B22: Type2 - G2 300*500 (T9.0 측면,하부 All) | C22: 7.36 | D22: M | E22: =일위목록!E4 -> 0 | F22: =TRUNC(E22*C22,0) -> 0 | G22: =일위목록!F4 -> 0 | H22: =TRUNC(G22*C22,0) -> 0 | I22: =일위목록!G4 -> 0 | J22: =TRUNC(I22*C22,0) -> 0 | K22: =E22+G22+I22 -> 0 | L22: =F22+H22+J22 -> 0 | P22: 20 | R22: _0002 | T22: T | BJ22: =HYPERLINK("#일위대가목록!A4","_0002 →") -> _0002 →
A23: 보 탄소섬유 보강 | B23: Type3 - G1 300*500 (하부2P All) | C23: 7.09 | D23: M | E23: =일위목록!E5 -> 0 | F23: =TRUNC(E23*C23,0) -> 0 | G23: =일위목록!F5 -> 0 | H23: =TRUNC(G23*C23,0) -> 0 | I23: =일위목록!G5 -> 0 | J23: =TRUNC(I23*C23,0) -> 0 | K23: =E23+G23+I23 -> 0 | L23: =F23+H23+J23 -> 0 | P23: 30 | R23: _0003 | T23: T | BJ23: =HYPERLINK("#일위대가목록!A5","_0003 →") -> _0003 →
A24: 보 탄소섬유 보강 | B24: Type4 - B1 300*500 (단면복원 및 탄소섬유보강 2P All) | C24: 2.8 | D24: M | E24: =일위목록!E6 -> 0 | F24: =TRUNC(E24*C24,0) -> 0 | G24: =일위목록!F6 -> 0 | H24: =TRUNC(G24*C24,0) -> 0 | I24: =일위목록!G6 -> 0 | J24: =TRUNC(I24*C24,0) -> 0 | K24: =E24+G24+I24 -> 0 | L24: =F24+H24+J24 -> 0 | P24: 40 | R24: _0004 | T24: T | BJ24: =HYPERLINK("#일위대가목록!A6","_0004 →") -> _0004 →
F25: 0 | H25: 0 | J25: 0 | K25: =E25+G25+I25 -> 0 | L25: =F25+H25+J25 -> 0 | P25: 50
A36: 02. 외부공사 | C36: 1 | D36: 식 | F36: =TRUNC(F37+F38+F39+F40,0) -> 0 | H36: =TRUNC(H37+H38+H39+H40,0) -> 0 | O36: A02
A37: 02-01. 가설공사 | C37: 1 | D37: 식 | E37: =F52 -> 0 | F37: =TRUNC(E37*C37,0) -> 0 | G37: =H52 -> 0 | H37: =TRUNC(G37*C37,0) -> 0 | P37: 10 | R37: A02-01 | BJ37: =HYPERLINK("#내역서!A56","A02-01 →") -> A02-01 →
A38: 02-02. 철거공사 | C38: 1 | D38: 식 | E38: =F55 -> 0 | F38: =TRUNC(E38*C38,0) -> 0 | G38: =H55 -> 0 | H38: =TRUNC(G38*C38,0) -> 0 | P38: 20 | R38: A02-02 | BJ38: =HYPERLINK("#내역서!A59","A02-02 →") -> A02-02 →
A39: 02-03. 외부시설및마감공사 | C39: 1 | D39: 식 | E39: =F73 -> 0 | F39: =TRUNC(E39*C39,0) -> 0 | G39: =H73 -> 0 | H39: =TRUNC(G39*C39,0) -> 0 | P39: 30 | R39: A02-03 | BJ39: =HYPERLINK("#내역서!A77","A02-03 →") -> A02-03 →
A40: 02-04. 창호공사 | C40: 1 | D40: 식 | E40: =F78 -> 0 | F40: =TRUNC(E40*C40,0) -> 0 | G40: =H78 -> 0 | H40: =TRUNC(G40*C40,0) -> 0 | P40: 40 | R40: A02-04 | BJ40: =HYPERLINK("#내역서!A82","A02-04 →") -> A02-04 →
A41: 02-05. 폐기물 처리비 | B41: 합산 별도 | C41: 1 | D41: 식 | E41: =F98 -> 0 | F41: =TRUNC(E41*C41,0) -> 0 | G41: =H98 -> 0 | H41: =TRUNC(G41*C41,0) -> 0 | P41: 50 | Q41: * | R41: A02-05 | BJ41: =HYPERLINK("#내역서!A102","A02-05 →") -> A02-05 →
F42: 0 | H42: 0 | P42: 60
A52: 02-01. 가설공사 | C52: 1 | D52: 식 | F52: =TRUNC(F53,0) -> 0 | H52: =TRUNC(H53,0) -> 0 | J52: =TRUNC(J53,0) -> 0 | L52: =F52+H52+J52 -> 0 | O52: A02-01
A53: 교통통제 및 안전처리 | B53: 안전시설물 설치 | C53: 1 | D53: 식 | E53: =일위목록!E13 -> 0 | F53: =TRUNC(E53*C53,0) -> 0 | G53: =일위목록!F13 -> 0 | H53: =TRUNC(G53*C53,0) -> 0 | I53: =일위목록!G13 -> 0 | J53: =TRUNC(I53*C53,0) -> 0 | K53: =E53+G53+I53 -> 0 | L53: =F53+H53+J53 -> 0 | P53: 10 | R53: T1-1-1/1 | T53: T | BJ53: =HYPERLINK("#일위대가목록!A13","T1-1-1/1 →") -> T1-1-1/1 →
F54: 0 | H54: 0 | P54: 20
A55: 02-02. 철거공사 | C55: 1 | D55: 식 | F55: =TRUNC(F56+F57+F58+F59+F60+F61+F62+F63+F64+F65+F66+F67+F68+F69+F70+F71,0) -> 0 | H55: =TRUNC(H56+H57+H58+H59+H60+H61+H62+H63+H64+H65+H66+H67+H68+H69+H70+H71,0) -> 0 | O55: A02-02
A56: 금속 천정판 철거 | B56: 금속 처마 W400 | C56: 3.65 | D56: M2 | E56: =일위목록!E14 -> 0 | F56: =TRUNC(E56*C56,0) -> 0 | G56: =일위목록!F14 -> 0 | H56: =TRUNC(G56*C56,0) -> 0 | P56: 10 | R56: _0011 | T56: T | BJ56: =HYPERLINK("#일위대가목록!A14","_0011 →") -> _0011 →
A57: 강재창호 철거 | B57: 유리문 2475*3280 | C57: 1 | D57: 개소 | E57: =일위목록!E15 -> 0 | F57: =TRUNC(E57*C57,0) -> 0 | G57: =일위목록!F15 -> 0 | H57: =TRUNC(G57*C57,0) -> 0 | I57: =일위목록!G15 -> 0 | J57: =TRUNC(I57*C57,0) -> 0 | K57: =E57+G57+I57 -> 0 | L57: =F57+H57+J57 -> 0 | P57: 20 | R57: _0012 | T57: T | BJ57: =HYPERLINK("#일위대가목록!A15","_0012 →") -> _0012 →
A58: 강재창호 철거 | B58: 유리문 920*3280 | C58: 1 | D58: 개소 | E58: =일위목록!E16 -> 0 | F58: =TRUNC(E58*C58,0) -> 0 | G58: =일위목록!F16 -> 0 | H58: =TRUNC(G58*C58,0) -> 0 | I58: =일위목록!G16 -> 0 | J58: =TRUNC(I58*C58,0) -> 0 | K58: =E58+G58+I58 -> 0 | L58: =F58+H58+J58 -> 0 | P58: 30 | R58: _0013 | T58: T | BJ58: =HYPERLINK("#일위대가목록!A16","_0013 →") -> _0013 →
A59: 화장실 상부창 철거 | B59: 800*400 | C59: 1 | D59: 개소 | E59: =일위목록!E17 -> 0 | F59: =TRUNC(E59*C59,0) -> 0 | G59: =일위목록!F17 -> 0 | H59: =TRUNC(G59*C59,0) -> 0 | I59: =일위목록!G17 -> 0 | J59: =TRUNC(I59*C59,0) -> 0 | K59: =E59+G59+I59 -> 0 | L59: =F59+H59+J59 -> 0 | P59: 40 | R59: _0014 | T59: T | BJ59: =HYPERLINK("#일위대가목록!A17","_0014 →") -> _0014 →
...

Sheet 4
B4: =갑!D15 -> [ 김제시 죽산면 죽산로126(구 새마을 금고)내·외부공사 ]
J18: 일 위 대 가 목 록

Sheet 일위목록
A1: 일위대가목록
A2: 공 종 명 | B2: 규 격 | C2: 수 량 | D2: 단 위 | E2: 재 료 비 | F2: 노 무 비 | G2: 경 비 | H2: 합 계 | I2: 비 고 | T2: 재료비 | U2: 노무비 | V2: 경 비 | W2: 합 계 | Y2: 비교검토
A3: No.1 보 탄소섬유 보강 | B3: Type1 - G1 300*500 (측면,하부2P All) | C3: 1 | D3: M | E3: =호표!F4 -> 0 | F3: =호표!H4 -> 0 | G3: =호표!J4 -> 0 | H3: =E3+F3+G3 -> 0 | K3: _0001 | L3: T | T3: 234000 | U3: 0 | V3: 0 | W3: 234000 | Y3: =EXACT($H3,$W3) -> FALSE | AA3: =HYPERLINK("#일위대가_호표!A4","_0001 →") -> _0001 →
A4: No.2 보 철판 보강 | B4: Type2 - G2 300*500 (T9.0 측면,하부 All) | C4: 1 | D4: M | E4: =호표!F7 -> 0 | F4: =호표!H7 -> 0 | G4: =호표!J7 -> 0 | H4: =E4+F4+G4 -> 0 | K4: _0002 | L4: T | T4: 350538 | U4: 397174 | V4: 15367 | W4: 763079 | Y4: =EXACT($H4,$W4) -> FALSE | AA4: =HYPERLINK("#일위대가_호표!A7","_0002 →") -> _0002 →
A5: No.3 보 탄소섬유 보강 | B5: Type3 - G1 300*500 (하부2P All) | C5: 1 | D5: M | E5: =호표!F16 -> 0 | F5: =호표!H16 -> 0 | G5: =호표!J16 -> 0 | H5: =E5+F5+G5 -> 0 | K5: _0003 | L5: T | T5: 54000 | U5: 0 | V5: 0 | W5: 54000 | Y5: =EXACT($H5,$W5) -> FALSE | AA5: =HYPERLINK("#일위대가_호표!A16","_0003 →") -> _0003 →
A6: No.4 보 탄소섬유 보강 | B6: Type4 - B1 300*500 (단면복원 및 탄소섬유보강 2P All) | C6: 1 | D6: M | E6: =호표!F19 -> 0 | F6: =호표!H19 -> 0 | G6: =호표!J19 -> 0 | H6: =E6+F6+G6 -> 0 | K6: _0004 | L6: T | T6: 246000 | U6: 22495 | V6: 449 | W6: 268944 | Y6: =EXACT($H6,$W6) -> FALSE | AA6: =HYPERLINK("#일위대가_호표!A19","_0004 →") -> _0004 →
A7: No.5 콘크리트면 바탕정리 | B7: 바닥 연마기 면정리 3.6m이하 | C7: 1 | D7: M2 | E7: =호표!F23 -> 0 | F7: =호표!H23 -> 0 | G7: =호표!J23 -> 0 | H7: =E7+F7+G7 -> 0 | I7: 미장공사9-2-1 | K7: P9-2-1/1 | L7: T | T7: 84 | U7: 2803 | V7: 0 | W7: 2887 | Y7: =EXACT($H7,$W7) -> FALSE | AA7: =HYPERLINK("#일위대가_호표!A23","P9-2-1/1 →") -> P9-2-1/1 →
A8: No.6 강판 구멍뚫기(펀치뚫기) | B8: D21mm 타공 | C8: 1 | D8: 개소 | E8: =호표!F27 -> 0 | F8: =호표!H27 -> 0 | G8: =호표!J27 -> 0 | H8: =E8+F8+G8 -> 0 | I8: 기계설비13-4-2 | K8: S913-4-2/1 | L8: T | T8: 0 | U8: 2041 | V8: 40 | W8: 2081 | Y8: =EXACT($H8,$W8) -> FALSE | AA8: =HYPERLINK("#일위대가_호표!A27","S913-4-2/1 →") -> S913-4-2/1 →
A9: No.7 잡철물 제작 및 설치 | B9: 제품설치/일반철재 | C9: 1 | D9: Ton | E9: =호표!F31 -> 0 | F9: =호표!H31 -> 0 | G9: =호표!J31 -> 0 | H9: =E9+F9+G9 -> 0 | I9: 금속공사8-3-1 | K9: P8-3-1/1 | L9: T | T9: 37830 | U9: 1261013 | V9: 63050 | W9: 1361893 | Y9: =EXACT($H9,$W9) -> FALSE | AA9: =HYPERLINK("#일위대가_호표!A31","P8-3-1/1 →") -> P8-3-1/1 →
A10: No.8 앵커 볼트 설치 | B10: ø16이하 | C10: 1 | D10: 개 | E10: =호표!F39 -> 0 | F10: =호표!H39 -> 0 | G10: =호표!J39 -> 0 | H10: =E10+F10+G10 -> 0 | I10: 철골공사1-2-6 | K10: P1-2-5/1 | L10: T | T10: 0 | U10: 17332 | V10: 346 | W10: 17678 | Y10: =EXACT($H10,$W10) -> FALSE | AA10: =HYPERLINK("#일위대가_호표!A39","P1-2-5/1 →") -> P1-2-5/1 →
A11: No.9 에폭시 충진 | C11: 1 | D11: M | E11: =호표!F44 -> 0 | F11: =호표!H44 -> 0 | G11: =호표!J44 -> 0 | H11: =E11+F11+G11 -> 0 | I11: 유지보수공사1-3-3 | K11: PPU1-3-4 | L11: T | T11: 18000 | U11: 17421 | V11: 522 | W11: 35943 | Y11: =EXACT($H11,$W11) -> FALSE | AA11: =HYPERLINK("#일위대가_호표!A44","PPU1-3-4 →") -> PPU1-3-4 →
A12: No.10 콘크리트 단면복구 | B12: 균열폭 10mm 이하 | C12: 1 | D12: M | E12: =호표!F50 -> 0 | F12: =호표!H50 -> 0 | G12: =호표!J50 -> 0 | H12: =E12+F12+G12 -> 0 | I12: 유지보수공사1-3-2 | K12: PPU1-3-2 | L12: T | T12: 12000 | U12: 22495 | V12: 449 | W12: 34944 | Y12: =EXACT($H12,$W12) -> FALSE | AA12: =HYPERLINK("#일위대가_호표!A50","PPU1-3-2 →") -> PPU1-3-2 →
A13: No.11 교통통제 및 안전처리 | B13: 안전시설물 설치 | C13: 1 | D13: 식 | E13: =호표!F56 -> 0 | F13: =호표!H56 -> 0 | G13: =호표!J56 -> 0 | H13: =E13+F13+G13 -> 0 | I13: 도로포장공사1-1-1 | K13: T1-1-1/1 | L13: T | T13: 0 | U13: 457434 | V13: 0 | W13: 457434 | Y13: =EXACT($H13,$W13) -> FALSE | AA13: =HYPERLINK("#일위대가_호표!A56","T1-1-1/1 →") -> T1-1-1/1 →
A14: No.12 금속 천정판 철거 | B14: 금속 처마 W400 | C14: 1 | D14: M2 | E14: =호표!F59 -> 0 | F14: =호표!H59 -> 0 | G14: =호표!J59 -> 0 | H14: =E14+F14+G14 -> 0 | K14: _0011 | L14: T | T14: 0 | U14: 1822 | V14: 0 | W14: 1822 | Y14: =EXACT($H14,$W14) -> FALSE | AA14: =HYPERLINK("#일위대가_호표!A59","_0011 →") -> _0011 →
A15: No.13 강재창호 철거 | B15: 유리문 2475*3280 | C15: 1 | D15: 개소 | E15: =호표!F62 -> 0 | F15: =호표!H62 -> 0 | G15: =호표!J62 -> 0 | H15: =E15+F15+G15 -> 0 | K15: _0012 | L15: T | T15: 0 | U15: 57196 | V15: 0 | W15: 57196 | Y15: =EXACT($H15,$W15) -> FALSE | AA15: =HYPERLINK("#일위대가_호표!A62","_0012 →") -> _0012 →
A16: No.14 강재창호 철거 | B16: 유리문 920*3280 | C16: 1 | D16: 개소 | E16: =호표!F65 -> 0 | F16: =호표!H65 -> 0 | G16: =호표!J65 -> 0 | H16: =E16+F16+G16 -> 0 | K16: _0013 | L16: T | T16: 0 | U16: 48698 | V16: 0 | W16: 48698 | Y16: =EXACT($H16,$W16) -> FALSE | AA16: =HYPERLINK("#일위대가_호표!A65","_0013 →") -> _0013 →
A17: No.15 화장실 상부창 철거 | B17: 800*400 | C17: 1 | D17: 개소 | E17: =호표!F68 -> 0 | F17: =호표!H68 -> 0 | G17: =호표!J68 -> 0 | H17: =E17+F17+G17 -> 0 | K17: _0014 | L17: T | T17: 0 | U17: 17943 | V17: 0 | W17: 17943 | Y17: =EXACT($H17,$W17) -> FALSE | AA17: =HYPERLINK("#일위대가_호표!A68","_0014 →") -> _0014 →
A18: No.16 알루미늄 창호철거(정면) | B18: 1485*2175 | C18: 1 | D18: 개소 | E18: =호표!F71 -> 0 | F18: =호표!H71 -> 0 | G18: =호표!J71 -> 0 | H18: =E18+F18+G18 -> 0 | K18: _0015 | L18: T | T18: 0 | U18: 34401 | V18: 0 | W18: 34401 | Y18: =EXACT($H18,$W18) -> FALSE | AA18: =HYPERLINK("#일위대가_호표!A71","_0015 →") -> _0015 →
A19: No.17 알루미늄 창호철거(정면) | B19: 3845*2345 | C19: 1 | D19: 개소 | E19: =호표!F74 -> 0 | F19: =호표!H74 -> 0 | G19: =호표!J74 -> 0 | H19: =E19+F19+G19 -> 0 | K19: _0016 | L19: T | T19: 0 | U19: 44186 | V19: 0 | W19: 44186 | Y19: =EXACT($H19,$W19) -> FALSE | AA19: =HYPERLINK("#일위대가_호표!A74","_0016 →") -> _0016 →
A20: No.18 알루미늄 창호철거(좌측면) | B20: 830*920 | C20: 1 | D20: 개소 | E20: =호표!F77 -> 0 | F20: =호표!H77 -> 0 | G20: =호표!J77 -> 0 | H20: =E20+F20+G20 -> 0 | K20: _0017 | L20: T | T20: 0 | U20: 17943 | V20: 0 | W20: 17943 | Y20: =EXACT($H20,$W20) -> FALSE | AA20: =HYPERLINK("#일위대가_호표!A77","_0017 →") -> _0017 →
A21: No.19 알루미늄 창호철거(좌측면) | B21: 900*900 | C21: 1 | D21: 개소 | E21: =호표!F80 -> 0 | F21: =호표!H80 -> 0 | G21: =호표!J80 -> 0 | H21: =E21+F21+G21 -> 0 | K21: _0018 | L21: T | T21: 0 | U21: 17943 | V21: 0 | W21: 17943 | Y21: =EXACT($H21,$W21) -> FALSE | AA21: =HYPERLINK("#일위대가_호표!A80","_0018 →") -> _0018 →
A22: No.20 알루미늄 창호철거(좌측면) | B22: 1200*2490 | C22: 1 | D22: 개소 | E22: =호표!F83 -> 0 | F22: =호표!H83 -> 0 | G22: =호표!J83 -> 0 | H22: =E22+F22+G22 -> 0 | K22: _0019 | L22: T | T22: 0 | U22: 24365 | V22: 0 | W22: 24365 | Y22: =EXACT($H22,$W22) -> FALSE | AA22: =HYPERLINK("#일위대가_호표!A83","_0019 →") -> _0019 →
A23: No.21 알루미늄 창호철거(우측면) | B23: 1495*2470 | C23: 1 | D23: 개소 | E23: =호표!F86 -> 0 | F23: =호표!H86 -> 0 | G23: =호표!J86 -> 0 | H23: =E23+F23+G23 -> 0 | K23: _0020 | L23: T | T23: 0 | U23: 34401 | V23: 0 | W23: 34401 | Y23: =EXACT($H23,$W23) -> FALSE | AA23: =HYPERLINK("#일위대가_호표!A86","_0020 →") -> _0020 →
A24: No.22 알루미늄 창호철거(우측면) | B24: 1395*1395 | C24: 1 | D24: 개소 | E24: =호표!F89 -> 0 | F24: =호표!H89 -> 0 | G24: =호표!J89 -> 0 | H24: =E24+F24+G24 -> 0 | K24: _0021 | L24: T | T24: 0 | U24: 24365 | V24: 0 | W24: 24365 | Y24: =EXACT($H24,$W24) -> FALSE | AA24: =HYPERLINK("#일위대가_호표!A89","_0021 →") -> _0021 →
A25: No.23 벽면 목재철거 | B25: 데크재 철거 | C25: 1 | D25: M2 | E25: =호표!F92 -> 0 | F25: =호표!H92 -> 0 | G25: =호표!J92 -> 0 | H25: =E25+F25+G25 -> 0 | K25: _0022 | L25: T | T25: 0 | U25: 17079 | V25: 0 | W25: 17079 | Y25: =EXACT($H25,$W25) -> FALSE | AA25: =HYPERLINK("#일위대가_호표!A92","_0022 →") -> _0022 →
A26: No.24 목재 구조틀 철거 | B26: 평구조 각관 목재틀 | C26: 1 | D26: Ton | E26: =호표!F95 -> 0 | F26: =호표!H95 -> 0 | G26: =호표!J95 -> 0 | H26: =E26+F26+G26 -> 0 | K26: _0023 | L26: T | T26: 0 | U26: 2106000 | V26: 0 | W26: 2106000 | Y26: =EXACT($H26,$W26) -> FALSE | AA26: =HYPERLINK("#일위대가_호표!A95","_0023 →") -> _0023 →
A27: No.25 타일 철거 | B27: 벽타일 철거 | C27: 1 | D27: M2 | E27: =호표!F98 -> 0 | F27: =호표!H98 -> 0 | G27: =호표!J98 -> 0 | H27: =E27+F27+G27 -> 0 | I27: 유지보수공사12-2-9 | K27: _0024 | L27: T | T27: 0 | U27: 15036 | V27: 902 | W27: 15938 | Y27: =EXACT($H27,$W27) -> FALSE | AA27: =HYPERLINK("#일위대가_호표!A98","_0024 →") -> _0024 →
A28: No.26 조적벽 철거/헐기 | B28: 벽체 | C28: 1 | D28: M3 | E28: =호표!F103 -> 0 | F28: =호표!H103 -> 0 | G28: =호표!J103 -> 0 | H28: =E28+F28+G28 -> 0 | I28: 유지보수공사12-2-4 | K28: _0025 | L28: T | T28: 0 | U28: 147346 | V28: 2946 | W28: 150292 | Y28: =EXACT($H28,$W28) -> FALSE | AA28: =HYPERLINK("#일위대가_호표!A103","_0025 →") -> _0025 →
A29: No.27 폐기물상차(혼합건설폐기물) | B29: 24톤암롤, 30km | C29: 1 | D29: Ton | E29: =호표!F108 -> 0 | F29: =호표!H108 -> 0 | G29: =호표!J108 -> 6420 | H29: =E29+F29+G29 -> 6420 | K29: ZZ64 | L29: T | T29: 0 | U29: 0 | V29: 6420 | W29: 6420 | Y29: =EXACT($H29,$W29) -> TRUE | AA29: =HYPERLINK("#일위대가_호표!A108","ZZ64 →") -> ZZ64 →
A30: No.28 콘크리트 면정리 | B30: 바탕 연마기정리 | C30: 1 | D30: M2 | E30: =호표!F111 -> 0 | F30: =호표!H111 -> 0 | G30: =호표!J111 -> 0 | H30: =E30+F30+G30 -> 0 | I30: 미장공사9-2-1 | K30: _0026 | L30: T | T30: 444 | U30: 2803 | V30: 0 | W30: 3247 | Y30: =EXACT($H30,$W30) -> FALSE | AA30: =HYPERLINK("#일위대가_호표!A111","_0026 →") -> _0026 →
A31: No.29 목재도어 설치 | B31: 방부목 900*2100 | C31: 1 | D31: 개소 | E31: =호표!F116 -> 0 | F31: =호표!H116 -> 0 | G31: =호표!J116 -> 0 | H31: =E31+F31+G31 -> 0 | I31: 창호및유리공사10-1-1 | K31: _0027 | L31: T | T31: 602665 | U31: 88847 | V31: 0 | W31: 691512 | Y31: =EXACT($H31,$W31) -> FALSE | AA31: =HYPERLINK("#일위대가_호표!A116","_0027 →") -> _0027 →
A32: No.30 금속 어닝 설치 | B32: L3845*510*H1030 | C32: 1 | D32: EA | E32: =호표!F122 -> 0 | F32: =호표!H122 -> 0 | G32: =호표!J122 -> 0 | H32: =E32+F32+G32 -> 0 | K32: _0030 | L32: T | T32: 3500000 | U32: 0 | V32: 0 | W32: 3500000 | Y32: =EXACT($H32,$W32) -> FALSE | AA32: =HYPERLINK("#일위대가_호표!A122","_0030 →") -> _0030 →
A33: No.31 시스템 고정창호 | B33: 395*1395 AL, T24 로이투명 | C33: 1 | D33: EA | E33: =호표!F125 -> 0 | F33: =호표!H125 -> 0 | G33: =호표!J125 -> 0 | H33: =E33+F33+G33 -> 0 | I33: WW-01 | K33: _0031 | L33: T | T33: 1269138 | U33: 204916 | V33: 2530 | W33: 1476584 | Y33: =EXACT($H33,$W33) -> FALSE | AA33: =HYPERLINK("#일위대가_호표!A125","_0031 →") -> _0031 →
A34: No.32 시스템 고정창호 | B34: 1495*2490 AL, T24 로이투명 | C34: 1 | D34: EA | E34: =호표!F133 -> 0 | F34: =호표!H133 -> 0 | G34: =호표!J133 -> 0 | H34: =E34+F34+G34 -> 0 | I34: WW-02 | K34: _0032 | L34: T | T34: 1830916 | U34: 289758 | V34: 2530 | W34: 2123204 | Y34: =EXACT($H34,$W34) -> FALSE | AA34: =HYPERLINK("#일위대가_호표!A133","_0032 →") -> _0032 →
A35: No.33 시스템 미서기창호 | B35: 1500*2085 AL, T24 로이투명 | C35: 1 | D35: EA | E35: =호표!F141 -> 0 | F35: =호표!H141 -> 0 | G35: =호표!J141 -> 0 | H35: =E35+F35+G35 -> 0 | I35: WW-03 | K35: _0033 | L35: T | T35: 3220275 | U35: 261446 | V35: 2530 | W35: 3484251 | Y35: =EXACT($H35,$W35) -> FALSE | AA35: =HYPERLINK("#일위대가_호표!A141","_0033 →") -> _0033 →
A36: No.34 시스템 미서기창호 | B36: 1495*2085 AL, T24 로이투명 | C36: 1 | D36: EA | E36: =호표!F149 -> 0 | F36: =호표!H149 -> 0 | G36: =호표!J149 -> 0 | H36: =E36+F36+G36 -> 0 | I36: WW-04 | K36: _0034 | L36: T | T36: 3218960 | U36: 261000 | V36: 2530 | W36: 3482490 | Y36: =EXACT($H36,$W36) -> FALSE | AA36: =HYPERLINK("#일위대가_호표!A149","_0034 →") -> _0034 →
A37: No.35 시스템 미서기창호 | B37: 1485*2085 AL, T24 로이투명 | C37: 1 | D37: EA | E37: =호표!F157 -> 0 | F37: =호표!H157 -> 0 | G37: =호표!J157 -> 0 | H37: =E37+F37+G37 -> 0 | I37: WW-05 | K37: _0035 | L37: T | T37: 3216329 | U37: 260105 | V37: 2530 | W37: 3478964 | Y37: =EXACT($H37,$W37) -> FALSE | AA37: =HYPERLINK("#일위대가_호표!A157","_0035 →") -> _0035 →
A38: No.36 시스템 고정창호 | B38: 1200*2490 AL, T24 로이투명 | C38: 1 | D38: EA | E38: =호표!F165 -> 0 | F38: =호표!H165 -> 0 | G38: =호표!J165 -> 0 | H38: =E38+F38+G38 -> 0 | I38: WW-06 | K38: _0036 | L38: T | T38: 1656943 | U38: 258404 | V38: 2530 | W38: 1917877 | Y38: =EXACT($H38,$W38) -> FALSE | AA38: =HYPERLINK("#일위대가_호표!A165","_0036 →") -> _0036 →
A39: No.37 시스템 여닫이 도어 | B39: 950*2150 AL, T24 로이투명 | C39: 1 | D39: EA | E39: =호표!F173 -> 0 | F39: =호표!H173 -> 0 | G39: =호표!J173 -> 0 | H39: =E39+F39+G39 -> 0 | I39: WD-01 | K39: _0037 | L39: T | T39: 2543614 | U39: 210677 | V39: 1624 | W39: 2755915 | Y39: =EXACT($H39,$W39) -> FALSE | AA39: =HYPERLINK("#일위대가_호표!A173","_0037 →") -> _0037 →
A40: No.38 시스템 슬라이딩 도어 | B40: 1500*1495 AL, T24 로이투명 | C40: 1 | D40: EA | E40: =호표!F181 -> 0 | F40: =호표!H181 -> 0 | G40: =호표!J181 -> 0 | H40: =E40+F40+G40 -> 0 | I40: AW-01 | K40: _0038 | L40: T | T40: 3141706 | U40: 215851 | V40: 1624 | W40: 3359181 | Y40: =EXACT($H40,$W40) -> FALSE | AA40: =HYPERLINK("#일위대가_호표!A181","_0038 →") -> _0038 →
...

Sheet 5
B4: =갑!D15 -> [ 김제시 죽산면 죽산로126(구 새마을 금고)내·외부공사 ]
J18: 일 위 대 가 호 표

Sheet 호표
A1: 일위대가_호표
A2: 공 종 명 | B2: 규 격 | C2: 수량 | D2: 단위 | E2: 재 료 비 | G2: 노 무 비 | I2: 경 비 | K2: 합 계 | M2: 비 고
E3: 단 가 | F3: 금 액 | G3: 단 가 | H3: 금 액 | I3: 단 가 | J3: 금 액 | K3: 단 가 | L3: 금 액 | S3: 할 증 | T3: 화폐변환 | U3: OP값 | V3: EQ | W3: LA | X3: MA | Y3: 금액계상
A4: No.1 보 탄소섬유 보강 | B4: Type1 - G1 300*500 (측면,하부2P All) | C4: 1 | D4: M | F4: =TRUNC(F5,0) -> 0 | H4: =TRUNC(H5,0) -> 0 | J4: =TRUNC(J5,0) -> 0 | L4: =F4+H4+J4 -> 0 | O4: _0001
A5: 탄소섬유 시트 보강 | B5: 탄소섬유시트 300g | C5: 2.6 | D5: M2 | E5: =자재조서!E62 -> 0 | F5: =TRUNC(E5*C5,0) -> 0 | G5: 0 | I5: 0 | K5: =E5+G5+I5 -> 0 | L5: =F5+H5+J5 -> 0 | P5: 10 | R5: MZZ2000004 | BI5: =HYPERLINK("#자재조서!A62","MZZ2000004 →") -> MZZ2000004 →
A7: No.2 보 철판 보강 | B7: Type2 - G2 300*500 (T9.0 측면,하부 All) | C7: 1 | D7: M | F7: =TRUNC(F8+F9+F10+F11+F12+F13+F14,0) -> 0 | H7: =TRUNC(H8+H9+H10+H11+H12+H13+H14,0) -> 0 | J7: =TRUNC(J8+J9+J10+J11+J12+J13+J14,0) -> 0 | L7: =F7+H7+J7 -> 0 | O7: _0002
A8: 콘크리트면 바탕정리 | B8: 바닥 연마기 면정리 3.6m이하 | C8: 1.3 | D8: M2 | E8: =일위목록!E7 -> 0 | F8: =TRUNC(E8*C8,0) -> 0 | G8: =일위목록!F7 -> 0 | H8: =TRUNC(G8*C8,0) -> 0 | I8: =일위목록!G7 -> 0 | J8: =TRUNC(I8*C8,0) -> 0 | K8: =E8+G8+I8 -> 0 | L8: =F8+H8+J8 -> 0 | M8: 미장공사9-2-1 | P8: 10 | R8: P9-2-1/1 | T8: T | BI8: =HYPERLINK("#일위대가목록!A7","P9-2-1/1 →") -> P9-2-1/1 →
A9: 열연후판 | B9: 8.0 ＜T≤ 9.0 2438x6096mm SS275 | C9: 0.2 | D9: M/T | E9: =자재조서!E4 -> 0 | F9: =TRUNC(E9*C9,0) -> 0 | G9: 0 | I9: 0 | K9: =E9+G9+I9 -> 0 | L9: =F9+H9+J9 -> 0 | P9: 20 | R9: M0063057 | BI9: =HYPERLINK("#자재조서!A4","M0063057 →") -> M0063057 →
A10: 강판 구멍뚫기(펀치뚫기) | B10: D21mm 타공 | C10: 5 | D10: 개소 | E10: =일위목록!E8 -> 0 | F10: =TRUNC(E10*C10,0) -> 0 | G10: =일위목록!F8 -> 0 | H10: =TRUNC(G10*C10,0) -> 0 | I10: =일위목록!G8 -> 0 | J10: =TRUNC(I10*C10,0) -> 0 | K10: =E10+G10+I10 -> 0 | L10: =F10+H10+J10 -> 0 | M10: 기계설비13-4-2 | P10: 30 | R10: S913-4-2/1 | T10: T | BI10: =HYPERLINK("#일위대가목록!A8","S913-4-2/1 →") -> S913-4-2/1 →
A11: 잡철물 제작 및 설치 | B11: 제품설치/일반철재 | C11: 0.18 | D11: Ton | E11: =일위목록!E9 -> 0 | F11: =TRUNC(E11*C11,0) -> 0 | G11: =일위목록!F9 -> 0 | H11: =TRUNC(G11*C11,0) -> 0 | I11: =일위목록!G9 -> 0 | J11: =TRUNC(I11*C11,0) -> 0 | K11: =E11+G11+I11 -> 0 | L11: =F11+H11+J11 -> 0 | M11: 금속공사8-3-1 | P11: 40 | R11: P8-3-1/1 | T11: T | BI11: =HYPERLINK("#일위대가목록!A9","P8-3-1/1 →") -> P8-3-1/1 →
A12: 앵커볼트 | B12: HSA-M16×137 | C12: 5 | D12: EA | E12: =자재조서!E41 -> 0 | F12: =TRUNC(E12*C12,0) -> 0 | G12: 0 | I12: 0 | K12: =E12+G12+I12 -> 0 | L12: =F12+H12+J12 -> 0 | P12: 60 | R12: MZZ1002683 | BI12: =HYPERLINK("#자재조서!A41","MZZ1002683 →") -> MZZ1002683 →
A13: 앵커 볼트 설치 | B13: ø16이하 | C13: 5 | D13: 개 | E13: =일위목록!E10 -> 0 | F13: =TRUNC(E13*C13,0) -> 0 | G13: =일위목록!F10 -> 0 | H13: =TRUNC(G13*C13,0) -> 0 | I13: =일위목록!G10 -> 0 | J13: =TRUNC(I13*C13,0) -> 0 | K13: =E13+G13+I13 -> 0 | L13: =F13+H13+J13 -> 0 | M13: 철골공사1-2-6 | P13: 70 | R13: P1-2-5/1 | T13: T | BI13: =HYPERLINK("#일위대가목록!A10","P1-2-5/1 →") -> P1-2-5/1 →
A14: 에폭시 충진 | C14: 4 | D14: M | E14: =일위목록!E11 -> 0 | F14: =TRUNC(E14*C14,0) -> 0 | G14: =일위목록!F11 -> 0 | H14: =TRUNC(G14*C14,0) -> 0 | I14: =일위목록!G11 -> 0 | J14: =TRUNC(I14*C14,0) -> 0 | K14: =E14+G14+I14 -> 0 | L14: =F14+H14+J14 -> 0 | M14: 유지보수공사1-3-3 | P14: 80 | R14: PPU1-3-4 | T14: T | BI14: =HYPERLINK("#일위대가목록!A11","PPU1-3-4 →") -> PPU1-3-4 →
A16: No.3 보 탄소섬유 보강 | B16: Type3 - G1 300*500 (하부2P All) | C16: 1 | D16: M | F16: =TRUNC(F17,0) -> 0 | H16: =TRUNC(H17,0) -> 0 | J16: =TRUNC(J17,0) -> 0 | L16: =F16+H16+J16 -> 0 | O16: _0003
A17: 탄소섬유 시트 보강 | B17: 탄소섬유시트 300g | C17: 0.6 | D17: M2 | E17: =자재조서!E62 -> 0 | F17: =TRUNC(E17*C17,0) -> 0 | G17: 0 | I17: 0 | K17: =E17+G17+I17 -> 0 | L17: =F17+H17+J17 -> 0 | P17: 10 | R17: MZZ2000004 | BI17: =HYPERLINK("#자재조서!A62","MZZ2000004 →") -> MZZ2000004 →
A19: No.4 보 탄소섬유 보강 | B19: Type4 - B1 300*500 (단면복원 및 탄소섬유보강 2P All) | C19: 1 | D19: M | F19: =TRUNC(F20+F21,0) -> 0 | H19: =TRUNC(H20+H21,0) -> 0 | J19: =TRUNC(J20+J21,0) -> 0 | L19: =F19+H19+J19 -> 0 | O19: _0004
A20: 콘크리트 단면복구 | B20: 균열폭 10mm 이하 | C20: 1 | D20: M | E20: =일위목록!E12 -> 0 | F20: =TRUNC(E20*C20,0) -> 0 | G20: =일위목록!F12 -> 0 | H20: =TRUNC(G20*C20,0) -> 0 | I20: =일위목록!G12 -> 0 | J20: =TRUNC(I20*C20,0) -> 0 | K20: =E20+G20+I20 -> 0 | L20: =F20+H20+J20 -> 0 | M20: 유지보수공사1-3-2 | P20: 10 | R20: PPU1-3-2 | T20: T | BI20: =HYPERLINK("#일위대가목록!A12","PPU1-3-2 →") -> PPU1-3-2 →
A21: 탄소섬유 시트 보강 | B21: 탄소섬유시트 300g | C21: 2.6 | D21: M2 | E21: =자재조서!E62 -> 0 | F21: =TRUNC(E21*C21,0) -> 0 | G21: 0 | I21: 0 | K21: =E21+G21+I21 -> 0 | L21: =F21+H21+J21 -> 0 | P21: 30 | R21: MZZ2000004 | BI21: =HYPERLINK("#자재조서!A62","MZZ2000004 →") -> MZZ2000004 →
A23: No.5 콘크리트면 바탕정리 | B23: 바닥 연마기 면정리 3.6m이하 | C23: 1 | D23: M2 | F23: =TRUNC(F24+F25,0) -> 0 | H23: =TRUNC(H24+H25,0) -> 0 | J23: =TRUNC(J24+J25,0) -> 0 | L23: =F23+H23+J23 -> 0 | M23: 미장공사9-2-1 | O23: P9-2-1/1
A24: 견출공 | B24: 일반공사 직종 | C24: 0.011 | D24: 인 | E24: 0 | G24: =노임!D11 -> 0 | H24: =TRUNC(G24*C24,0) -> 0 | I24: 0 | K24: =E24+G24+I24 -> 0 | L24: =F24+H24+J24 -> 0 | P24: 10 | R24: L001010101000022 | AA24: MA+ = | AB24: =호표!H24*0.03 -> 0 | AC24: MA = | AD24: =$AB24 -> 0 | BI24: =HYPERLINK("#노임!A11","L001010101000022 →") -> L001010101000022 →
A25: 공구손료 | B25: 인력품의 3% | C25: 3 | D25: % | F25: =TRUNC((H24*0.03),0) -> 0 | H25: 0 | J25: 0 | K25: =E25+G25+I25 -> 0 | L25: =F25+H25+J25 -> 0 | P25: 20 | R25: F | X25: MA=LA(10)*0.03
A27: No.6 강판 구멍뚫기(펀치뚫기) | B27: D21mm 타공 | C27: 1 | D27: 개소 | F27: =TRUNC(F28+F29,0) -> 0 | H27: =TRUNC(H28+H29,0) -> 0 | J27: =TRUNC(J28+J29,0) -> 0 | L27: =F27+H27+J27 -> 0 | M27: 기계설비13-4-2 | O27: S913-4-2/1
A28: 철골공 | B28: 일반공사 직종 | C28: 0.008 | D28: 인 | E28: 0 | G28: =노임!D7 -> 0 | H28: =TRUNC(G28*C28,0) -> 0 | I28: 0 | K28: =E28+G28+I28 -> 0 | L28: =F28+H28+J28 -> 0 | P28: 10 | R28: L001010101000011 | AA28: EQ+ = | AB28: =호표!H28*0.02 -> 0 | AC28: EQ = | AD28: =$AB28 -> 0 | BI28: =HYPERLINK("#노임!A7","L001010101000011 →") -> L001010101000011 →
A29: 공구손료 및 기계경비 | B29: 인력품의 2% | C29: 2 | D29: % | F29: 0 | H29: 0 | J29: =TRUNC((H28*0.02),0) -> 0 | K29: =E29+G29+I29 -> 0 | L29: =F29+H29+J29 -> 0 | P29: 30 | R29: F | X29: eq=LA(10)*0.02
A31: No.7 잡철물 제작 및 설치 | B31: 제품설치/일반철재 | C31: 1 | D31: Ton | F31: =TRUNC(F32+F33+F34+F35+F36+F37,0) -> 0 | H31: =TRUNC(H32+H33+H34+H35+H36+H37,0) -> 0 | J31: =TRUNC(J32+J33+J34+J35+J36+J37,0) -> 0 | L31: =F31+H31+J31 -> 0 | M31: 금속공사8-3-1 | O31: P8-3-1/1
A32: 철공 | B32: 일반공사 직종 | C32: 2.85 | D32: 인 | E32: 0 | G32: =노임!D6 -> 0 | H32: =TRUNC(G32*C32,0) -> 0 | I32: 0 | K32: =E32+G32+I32 -> 0 | L32: =F32+H32+J32 -> 0 | P32: 10 | R32: L001010101000009 | BI32: =HYPERLINK("#노임!A6","L001010101000009 →") -> L001010101000009 →
A33: 용접공 | B33: 일반공사 직종 | C33: 1.04 | D33: 인 | E33: 0 | G33: =노임!D8 -> 0 | H33: =TRUNC(G33*C33,0) -> 0 | I33: 0 | K33: =E33+G33+I33 -> 0 | L33: =F33+H33+J33 -> 0 | P33: 20 | R33: L001010101000012 | BI33: =HYPERLINK("#노임!A8","L001010101000012 →") -> L001010101000012 →
A34: 특별인부 | B34: 일반공사 직종 | C34: 0.78 | D34: 인 | E34: 0 | G34: =노임!D4 -> 0 | H34: =TRUNC(G34*C34,0) -> 0 | I34: 0 | K34: =E34+G34+I34 -> 0 | L34: =F34+H34+J34 -> 0 | P34: 30 | R34: L001010101000003 | BI34: =HYPERLINK("#노임!A4","L001010101000003 →") -> L001010101000003 →
A35: 보통인부 | B35: 일반공사 직종 | C35: 0.52 | D35: 인 | E35: 0 | G35: =노임!D3 -> 0 | H35: =TRUNC(G35*C35,0) -> 0 | I35: 0 | K35: =E35+G35+I35 -> 0 | L35: =F35+H35+J35 -> 0 | P35: 40 | R35: L001010101000002 | AA35: EQ+ = | AB35: =(호표!H32+호표!H33+호표!H34+호표!H35)*0.05 -> 0 | AC35: EQ = | AD35: =$AB35 -> 0 | BI35: =HYPERLINK("#노임!A3","L001010101000002 →") -> L001010101000002 →
A36: 공구손료 | B36: 인력품의 5% | C36: 5 | D36: % | F36: 0 | H36: 0 | J36: =TRUNC(((H32+H33+H34+H35)*0.05),0) -> 0 | K36: =E36+G36+I36 -> 0 | L36: =F36+H36+J36 -> 0 | P36: 50 | R36: F | X36: eq=LA(10,20,30,40)*0.05 | AA36: MA+ = | AB36: =(호표!H32+호표!H33+호표!H34+호표!H35)*0.03 -> 0 | AC36: MA = | AD36: =$AB36 -> 0
A37: 잡재료비 | B37: 인력품의 3% | C37: 3 | D37: % | F37: =TRUNC(((H32+H33+H34+H35)*0.03),0) -> 0 | H37: 0 | J37: 0 | K37: =E37+G37+I37 -> 0 | L37: =F37+H37+J37 -> 0 | P37: 60 | R37: F | X37: MA=LA(10,20,30,40)*0.03
A39: No.8 앵커 볼트 설치 | B39: ø16이하 | C39: 1 | D39: 개 | F39: =TRUNC(F40+F41+F42,0) -> 0 | H39: =TRUNC(H40+H41+H42,0) -> 0 | J39: =TRUNC(J40+J41+J42,0) -> 0 | L39: =F39+H39+J39 -> 0 | M39: 철골공사1-2-6 | O39: P1-2-5/1
A40: 철골공 | B40: 일반공사 직종 | C40: 0.05 | D40: 인 | E40: 0 | G40: =노임!D7 -> 0 | H40: =TRUNC(G40*C40,0) -> 0 | I40: 0 | K40: =E40+G40+I40 -> 0 | L40: =F40+H40+J40 -> 0 | P40: 10 | R40: L001010101000011 | BI40: =HYPERLINK("#노임!A7","L001010101000011 →") -> L001010101000011 →
A41: 특별인부 | B41: 일반공사 직종 | C41: 0.02 | D41: 인 | E41: 0 | G41: =노임!D4 -> 0 | H41: =TRUNC(G41*C41,0) -> 0 | I41: 0 | K41: =E41+G41+I41 -> 0 | L41: =F41+H41+J41 -> 0 | P41: 20 | R41: L001010101000003 | AA41: EQ+ = | AB41: =(호표!H40+호표!H41)*0.02 -> 0 | AC41: EQ = | AD41: =$AB41 -> 0 | BI41: =HYPERLINK("#노임!A4","L001010101000003 →") -> L001010101000003 →
A42: 공구손료 및 경장비 | B42: 인력품의 2% | C42: 2 | D42: % | F42: 0 | H42: 0 | J42: =TRUNC(((H40+H41)*0.02),0) -> 0 | K42: =E42+G42+I42 -> 0 | L42: =F42+H42+J42 -> 0 | P42: 30 | R42: F | X42: eq=LA(10,20)*0.02
A44: No.9 에폭시 충진 | C44: 1 | D44: M | F44: =TRUNC(F45+F46+F47+F48,0) -> 0 | H44: =TRUNC(H45+H46+H47+H48,0) -> 0 | J44: =TRUNC(J45+J46+J47+J48,0) -> 0 | L44: =F44+H44+J44 -> 0 | M44: 유지보수공사1-3-3 | O44: PPU1-3-4
A45: 주입용 에폭시 | B45: G7 | C45: 1 | D45: kg | E45: =자재조서!E17 -> 0 | F45: =TRUNC(E45*C45,0) -> 0 | G45: 0 | I45: 0 | K45: =E45+G45+I45 -> 0 | L45: =F45+H45+J45 -> 0 | P45: 10 | R45: M3121003 | BI45: =HYPERLINK("#자재조서!A17","M3121003 →") -> M3121003 →
A46: 특별인부 | B46: 일반공사 직종 | C46: 0.0434 | D46: 인 | E46: 0 | G46: =노임!D4 -> 0 | H46: =TRUNC(G46*C46,0) -> 0 | I46: 0 | K46: =E46+G46+I46 -> 0 | L46: =F46+H46+J46 -> 0 | P46: 20 | R46: L001010101000003 | BI46: =HYPERLINK("#노임!A4","L001010101000003 →") -> L001010101000003 →
A47: 보통인부 | B47: 일반공사 직종 | C47: 0.0434 | D47: 인 | E47: 0 | G47: =노임!D3 -> 0 | H47: =TRUNC(G47*C47,0) -> 0 | I47: 0 | K47: =E47+G47+I47 -> 0 | L47: =F47+H47+J47 -> 0 | P47: 30 | R47: L001010101000002 | AA47: EQ+ = | AB47: =(호표!H46+호표!H47)*0.03 -> 0 | AC47: EQ = | AD47: =$AB47 -> 0 | BI47: =HYPERLINK("#노임!A3","L001010101000002 →") -> L001010101000002 →
A48: 공구손료 | B48: 인력품의 3% | C48: 3 | D48: % | F48: 0 | H48: 0 | J48: =TRUNC(((H46+H47)*0.03),0) -> 0 | K48: =E48+G48+I48 -> 0 | L48: =F48+H48+J48 -> 0 | P48: 40 | R48: F | X48: eq=LA(20,30)*0.03_x000D_
...

Sheet 6
B4: =갑!D15 -> [ 김제시 죽산면 죽산로126(구 새마을 금고)내·외부공사 ]
J18: 중 기 목 록 표

Sheet 중기목록
A1: 중기사용료목록
A2: 공 종 명 | B2: 규 격 | C2: 수 량 | D2: 단 위 | E2: 재 료 비 | F2: 노 무 비 | G2: 경 비 | H2: 합 계 | I2: 비 고
A3: 덤프트럭 | B3: 2.5 ton | C3: 1 | D3: HR | E3: =중기사용료!G10 -> 0 | F3: =중기사용료!G12 -> 0 | G3: =중기사용료!G7 -> 0 | H3: =E3+F3+G3 -> 0 | K3: E00000602002500000 | O3: =HYPERLINK("#중기사용료!A3","E00000602002500000 →") -> E00000602002500000 →
A4: 운반트럭 | B4: 2.5 ton | C4: 1 | D4: HR | E4: =중기사용료!G22 -> 0 | F4: =중기사용료!G24 -> 0 | G4: =중기사용료!G19 -> 0 | H4: =E4+F4+G4 -> 0 | K4: E000006020025000001 | O4: =HYPERLINK("#중기사용료!A15","E000006020025000001 →") -> E000006020025000001 →
A5: 고소작업차 | B5: 5 ton | C5: 1 | D5: HR | E5: =중기사용료!G34 -> 0 | F5: =중기사용료!G36 -> 0 | G5: =중기사용료!G31 -> 0 | H5: =E5+F5+G5 -> 0 | K5: E00002106000500000 | O5: =HYPERLINK("#중기사용료!A27","E00002106000500000 →") -> E00002106000500000 →
A6: 커터(콘크리트및아스팔트용) | B6: 320-400 mm | C6: 1 | D6: HR | E6: =중기사용료!G46 -> 0 | F6: =중기사용료!G48 -> 0 | G6: =중기사용료!G43 -> 0 | H6: =E6+F6+G6 -> 0 | K6: E00004430040000000 | O6: =HYPERLINK("#중기사용료!A39","E00004430040000000 →") -> E00004430040000000 →
A7: 소형브레이커(전기식) | B7: 1.5kW | C7: 1 | D7: HR | E7: 0 | F7: 0 | G7: =중기사용료!G55 -> 0 | H7: =E7+F7+G7 -> 0 | K7: E00005220001500000 | O7: =HYPERLINK("#중기사용료!A51","E00005220001500000 →") -> E00005220001500000 →
A8: 동력분무기 | B8: 4.85Kw | C8: 1 | D8: HR | E8: =중기사용료!G69 -> 0 | F8: 0 | G8: =중기사용료!G66 -> 0 | H8: =E8+F8+G8 -> 0 | K8: E00007210048500000 | O8: =HYPERLINK("#중기사용료!A62","E00007210048500000 →") -> E00007210048500000 →

Sheet 7
B4: =갑!D15 -> [ 김제시 죽산면 죽산로126(구 새마을 금고)내·외부공사 ]
J18: 중 기 사 용 료

Sheet 중기사용료
A1: 중기사용료
A3: 중 기 명 | B3: 덤프트럭2.5 ton | J3: E00000602002500000
A4: 중기가격 | B4: 21,982 천원
A5: 명 칭 | C5: 규 격 | D5: 수 량 | E5: 단 위 | F5: 단 가 | G5: 금 액 | H5: 비 고
A6: 경 비 | B6: 덤프트럭 | C6: 2.5 톤 | D6: =(1200 + 1067 + 700)*10^-4 -> 0.2967 | E6: 천원 | F6: =중기기초!F3 -> 0 | G6: =TRUNC(F6*D6, 0) -> 0 | K6: 10 | M6: G0000060200250000 | N6: .sang=1200, jung=1067,kwan=700 | AG6: =HYPERLINK("#중기기초자료!A3","G0000060200250000 →") -> G0000060200250000 →
B7: 소계 | G7: =TRUNC(G6, 0) -> 0
A8: 재 료 비 | B8: 경 유 | D8: 2.9 | E8: L | F8: =중기기초!D11 -> 0 | G8: =TRUNC(F8*D8, 2) -> 0 | K8: 40 | M8: M9366005 | AG8: =HYPERLINK("#중기기초자료!A11","M9366005 →") -> M9366005 →
B9: 잡 품 | D9: 38 | E9: % | F9: 0 | G9: =TRUNC((G8) * D9/100, 2) -> 0 | K9: 50 | M9: F/M1
B10: 소계 | G10: =TRUNC(G8+G9, 2) -> 0
A11: 노 무 비 | B11: 화물차운전사 | D11: 1 | E11: 인 | F11: =TRUNC(중기기초!E8 * 중기변수!C18, 0) -> 0 | G11: =TRUNC(F11*D11, 0) -> 0 | I11: 56900017059 | K11: 15 | M11: L001010101000049 | AG11: =HYPERLINK("#중기기초자료!A8","L001010101000049 →") -> L001010101000049 →
B12: 소계 | G12: =TRUNC(G11, 0) -> 0
B13: 총계 | G13: =TRUNC(G7+G10+G12, 2) -> 0
A15: 중 기 명 | B15: 운반트럭2.5 ton | J15: E000006020025000001
A16: 중기가격 | B16: 21,982 천원
A17: 명 칭 | C17: 규 격 | D17: 수 량 | E17: 단 위 | F17: 단 가 | G17: 금 액 | H17: 비 고
A18: 경 비 | B18: 덤프트럭 | C18: 2.5 톤 | D18: =(1200 + 1067 + 700)*10^-4 -> 0.2967 | E18: 천원 | F18: =중기기초!F3 -> 0 | G18: =TRUNC(F18*D18, 0) -> 0 | K18: 10 | M18: G0000060200250000 | N18: .sang=1200, jung=1067,kwan=700 | AG18: =HYPERLINK("#중기기초자료!A3","G0000060200250000 →") -> G0000060200250000 →
B19: 소계 | G19: =TRUNC(G18, 0) -> 0
A20: 재 료 비 | B20: 경 유 | D20: 2.9 | E20: L | F20: =중기기초!D11 -> 0 | G20: =TRUNC(F20*D20, 2) -> 0 | K20: 40 | M20: M9366005 | AG20: =HYPERLINK("#중기기초자료!A11","M9366005 →") -> M9366005 →
B21: 잡 품 | D21: 38 | E21: % | F21: 0 | G21: =TRUNC((G20) * D21/100, 2) -> 0 | K21: 50 | M21: F/M1
B22: 소계 | G22: =TRUNC(G20+G21, 2) -> 0
A23: 노 무 비 | B23: 화물차운전사 | D23: 1 | E23: 인 | F23: =TRUNC(중기기초!E8 * 중기변수!C18, 0) -> 0 | G23: =TRUNC(F23*D23, 0) -> 0 | I23: 56900017059 | K23: 15 | M23: L001010101000049 | AG23: =HYPERLINK("#중기기초자료!A8","L001010101000049 →") -> L001010101000049 →
B24: 소계 | G24: =TRUNC(G23, 0) -> 0
B25: 총계 | G25: =TRUNC(G19+G22+G24, 2) -> 0
A27: 중 기 명 | B27: 고소작업차5 ton | J27: E00002106000500000
A28: 중기가격 | B28: 140,857 천원
A29: 명 칭 | C29: 규 격 | D29: 수 량 | E29: 단 위 | F29: 단 가 | G29: 금 액 | H29: 비 고
A30: 경 비 | B30: 고소작업차 | C30: 5 ton | D30: =(1286 + 357 + 955)*10^-4 -> 0.2598 | E30: 천원 | F30: =중기기초!F4 -> 0 | G30: =TRUNC(F30*D30, 0) -> 0 | K30: 10 | M30: G0000210600050000 | N30: .sang=1286,jung=357,kwan=955 | AG30: =HYPERLINK("#중기기초자료!A4","G0000210600050000 →") -> G0000210600050000 →
B31: 소계 | G31: =TRUNC(G30, 0) -> 0
A32: 재 료 비 | B32: 경 유 | D32: 5.1 | E32: L | F32: =중기기초!D11 -> 0 | G32: =TRUNC(F32*D32, 2) -> 0 | K32: 40 | M32: M9366005 | AG32: =HYPERLINK("#중기기초자료!A11","M9366005 →") -> M9366005 →
B33: 잡 품 | D33: 20 | E33: % | F33: 0 | G33: =TRUNC((G32) * D33/100, 2) -> 0 | K33: 50 | M33: F/M1
B34: 소계 | G34: =TRUNC(G32+G33, 2) -> 0
A35: 노 무 비 | B35: 화물차운전사 | D35: 1 | E35: 인 | F35: =TRUNC(중기기초!E8 * 중기변수!C18, 0) -> 0 | G35: =TRUNC(F35*D35, 0) -> 0 | I35: 56900017059 | K35: 15 | M35: L001010101000049 | AG35: =HYPERLINK("#중기기초자료!A8","L001010101000049 →") -> L001010101000049 →
B36: 소계 | G36: =TRUNC(G35, 0) -> 0
B37: 총계 | G37: =TRUNC(G31+G34+G36, 2) -> 0
A39: 중 기 명 | B39: 커터(콘크리트및아스팔트용)320-400 mm | J39: E00004430040000000
A40: 중기가격 | B40: 3,249 천원
A41: 명 칭 | C41: 규 격 | D41: 수 량 | E41: 단 위 | F41: 단 가 | G41: 금 액 | H41: 비 고
A42: 경 비 | B42: 커터(콘크리트및아스팔트용) | C42: 320-400 mm | D42: =(4000 + 1333 + 1021)*10^-4 -> 0.6354 | E42: 천원 | F42: =중기기초!F5 -> 0 | G42: =TRUNC(F42*D42, 0) -> 0 | K42: 10 | M42: G0000443004000000 | N42: .sang=4000, jung=1333, kwan=1021 | AG42: =HYPERLINK("#중기기초자료!A5","G0000443004000000 →") -> G0000443004000000 →
B43: 소계 | G43: =TRUNC(G42, 0) -> 0
A44: 재 료 비 | B44: 휘 발 유 | D44: 5.6 | E44: L | F44: =중기기초!D10 -> 0 | G44: =TRUNC(F44*D44, 2) -> 0 | K44: 40 | M44: M1510150620282203 | AG44: =HYPERLINK("#중기기초자료!A10","M1510150620282203 →") -> M1510150620282203 →
...

Sheet 8
B4: =갑!D15 -> [ 김제시 죽산면 죽산로126(구 새마을 금고)내·외부공사 ]
J18: 중기사용 기초자료

Sheet 중기기초
A1: 중기기초자료
A2: 명 칭 | B2: 규 격 | C2: 단 위 | D2: 재 료 비 | E2: 노 무 비 | F2: 경 비 | G2: 합 계 | H2: 비 고
A3: 덤프트럭 | B3: 2.5 톤 | C3: 천원 | J3: G0000060200250000
A4: 고소작업차 | B4: 5 ton | C4: 천원 | J4: G0000210600050000
A5: 커터(콘크리트및아스팔트용) | B5: 320-400 mm | C5: 천원 | J5: G0000443004000000
A6: 소형브레이커(전기식) | B6: 1.5kW | C6: 천원 | J6: G0000522000150000
A7: 동력분무기 | B7: 4.85Kw | C7: 천원 | J7: G0000721004850000
A8: 화물차운전사 | B8: 일반공사 직종 | C8: 인 | H8: 2026.09.10 | I8: 56900017059 | J8: L001010101000049
A9: 일반기계운전사 | B9: 일반공사 직종 | C9: 인 | H9: 2026.09.10 | I9: 56900017058 | J9: L001010101000050
A10: 휘 발 유 | C10: L | H10: 2026.09.01 | J10: M1510150620282203
A11: 경 유 | C11: L | H11: 2026.09.01 | J11: M9366005

Sheet 9
B4: =갑!D15 -> [ 김제시 죽산면 죽산로126(구 새마을 금고)내·외부공사 ]
J18: 자 재 목 록 표

Sheet 자재
A1: 자재
A2: 명 칭 | B2: 규 격 | C2: 단 위 | D2: 단 가 | E2: 비 고
A3: 열연후판 | B3: 8.0 ＜T≤ 9.0 2438x6096mm SS275 | C3: M/T | E3: 거가/62(2609)/ | G3: M0063057 | H3: M0063057
A4: 아연도강판 | B4: 1.60x914x1829M/M (3'x6') | C4: M2 | E4: 물자/1-16(2609)/ | G4: M0078032 | H4: M0078032
A5: 구조용각관(백관,아연도) | B5: 30 × 30×1.6mm 1.38KG/M | C5: ｍ | E5: 거가/70(2609)/ | G5: M0131009 | H5: M0131009
A6: 구조용각관(백관,아연도) | B6: 40 × 40×2.3mm 2.62KG/M | C6: ｍ | E6: 거가/70(2609)/ | G6: M0131019 | H6: M0131019
A7: 스테인리스판(STS304) | B7: 1.0M/M | C7: M/T | E7: 물정/1-26(2609)/ | F7: 95150167022 | G7: M0195015 | H7: M0195015
A8: 스테인리스판(STS304) | B8: 2.0M/M | C8: M/T | E8: 물정/1-26(2609)/ | F8: 95150167031 | G8: M0195024 | H8: M0195024
A9: 강모래(광주) | B9: 세사 (시내도착도) | C9: ㎥ | E9: 물자/1-62(2609)/ | G9: M07170A3 | H9: M07170A3
A10: 보통시멘트 | B10: 40kg/대 (포장품) | C10: KG | E10: 물정/1-58(2609)/ | F10: 56100087101 | G10: M0747003 | H10: M0747003
A11: 단면복구용 몰탈 | B11: LDS-Mortar | C11: kg | E11: 물자/1-85(2609)/ | G11: M0801011 | H11: M0801011
A12: 미송각재 | B12: 3.6ｍ x 3.0cm x 3.0cm (상품) | C12: M3 | E12: 유물/73(2609)/ | G12: M0882021 | H12: M0882021
A13: 미송대패가공목재(㎥) | B13: 3600×200×200mm미만 | C13: ㎥ | E13: 물자/1-102(2609)/ | G13: M0980005 | H13: M0980005
A14: 스파이럴심 덕트관 | B14: T0.6x200㎜ | C14: ｍ | E14: 물정/1-121(2609)/ | G14: M1775021 | H14: M1775021
A15: 코킹재 | C15: ㎏ | E15: 물자/1-252(2609)/ | G15: M2061815 | H15: M2061815
A16: 주입용 에폭시 | B16: G7 | C16: kg | E16: 물정/1-461(2609)/ | G16: M3121003 | H16: M3121003
A17: 골함석(아연도강판) | B17: 0.50x914x1829 (가공비포함) | C17: M2 | E17: 물자/1-501(2609)/ | G17: M3144012 | H17: M3144012
A18: 천정점검구 | B18: 300x300 (일반용) | C18: EA | E18: 물정/(2609)/ | F18: 56802387001 | G18: M3429506 | H18: M3429506
A19: 스텐경첩 | B19: 2.0T×102× 89mm | C19: EA | E19: 물자/1-576(2609)/ | F19: 53400357001 | G19: M3894003 | H19: M3894003
A20: 투명로이복층유리(5+14+5) | B20: 24mm,(투명+건조공기+투명로이) | C20: ㎡ | E20: 물자/1-585(2609)/ | G20: M4036023 | H20: M4036023
A21: 에나멜페인트(알키드수지) | B21: KSM6020 1급 백색 18ℓ | C21: L | E21: 물자/1-588(2609)/ | F21: 80100507061 | G21: M4080003 | H21: M4080003
A22: 보통합판 | B22: 4.8x 910x1820㎜ (1급T-II) | C22: M2 | E22: 유물/407(2609)/ | G22: M4329005 | H22: M4329005
A23: 보통합판 | B23: 12 x 910x1820㎜ (1급T-II) | C23: M2 | E23: 유물/407(2609)/ | G23: M4329011 | H23: M4329011
A24: 보통합판 | B24: 18 x 910x1820㎜ (1급T-II) | C24: M2 | E24: 거가/667(2609)/ | G24: M4329015 | H24: M4329015
A25: 동관(L) | B25: 19.05 x 1.07㎜ | C25: ｍ | E25: 물정/1-714(2609)/ | G25: M5103009 | H25: M5103009
A26: 엘보(동관이음쇠) | B26: 19A (5/8")19.05㎜ | C26: EA | E26: 거가/786(2609)/ | G26: M5106011 | H26: M5106011
A27: 소켓(동관이음쇠) | B27: 19A (5/8")19.05㎜ | C27: EA | E27: 거가/786(2609)/ | G27: M5115011 | H27: M5115011
A28: 연마지 | B28: 150-800#230x280㎜ (공연마용) | C28: 매 | E28: 물자/1-1412(2609)/ | G28: M8916015 | H28: M8916015
A29: PE필름(저밀도) | B29: 0.1㎜ x 90cmx 91m | C29: ㎡ | E29: 거가/1460(2609)/ | G29: M9247008 | H29: M9247008
A30: 복층유리 | B30: 복층유리, 로이, 양면반강화, 24mm | C30: ㎡ | E30: 견단/조달청가격정/ | G30: MJD07918
A31: 수성페인트 | B31: 수성페인트, KSM6010-1종1급, 백색 | C31: L | E31: 견단/조달청가격정/ | G31: MJD12358
A32: 강판 가공(금속) | B32: 치수절단,절곡,면처리 | C32: M2 | E32: 견단// | G32: MVP1003
A33: 오일스테인 | B33: 침투성,노빌레 | C33: L | E33: 거가/627/ | G33: MVP2021
A34: 스타코 마감코트 | B34: 스타고 마감재 | C34: kg | E34: 거가/1523/ | G34: MVP2122
A35: 비계안정장치 | B35: 비계안정장치, 가새, 1.2*1.9m | C35: 개 | E35: 거가/166/ | G35: MVP3102
A36: 비계안정장치 | B36: 비계안정장치, 수평띠장, 1829mm | C36: 개 | E36: 거가/166/ | G36: MVP3103
A37: 비계안정장치 | B37: 비계안정장치, 바퀴 | C37: 개 | E37: 거가/166/ | G37: MVP3104
A38: 비계안정장치 | B38: 비계안정장치, 비계기본틀, 기둥, 1.2*1.7m | C38: 개 | E38: 거가/167/ | G38: MVP3105
A39: 비계안정장치 | B39: 비계안정장치, 발판, 500*1829 | C39: 장 | E39: 거가/167/ | G39: MVP3107
A40: 앵커볼트 | B40: HSA-M16×137 | C40: EA | E40: 물자/54(26.7)/ | G40: MZZ1002683
...

Sheet 10
B4: =갑!D15 -> [ 김제시 죽산면 죽산로126(구 새마을 금고)내·외부공사 ]
J18: 자 재 조 서

Sheet 자재조서
A1: 자재조서
A2: 코 드 | B2: 명 칭 | C2: 규 격 | D2: 단위 | E2: 적용단가 | F2: 물가정보 | H2: 거래가격 | J2: 물가자료 | L2: 유통물가 | N2: 견적단가 | P2: 적용방법 | Q2: 적용일시
F3: 단가 | G3: Page | H3: 단가 | I3: Page | J3: 단가 | K3: Page | L3: 단가 | M3: Page | N3: 단가 | O3: Page
A4: M0063057 | B4: 열연후판 | C4: 8.0 ＜T≤ 9.0 2438x6096mm SS275 | D4: M/T | G4: 1-14(2609) | I4: 62(2609) | K4: 1-14(2609) | M4: 26(2609) | P4: 최저단가 | Q4: 2026-09-12 09:13:41
A5: M0078032 | B5: 아연도강판 | C5: 1.60x914x1829M/M (3'x6') | D5: M2 | I5: 66(2609) | K5: 1-16(2609) | P5: 최저단가 | Q5: 2026-09-12 09:13:42
A6: M0131009 | B6: 구조용각관(백관,아연도) | C6: 30 × 30×1.6mm 1.38KG/M | D6: ｍ | I6: 70(2609) | K6: 1-26(2609) | P6: 최저단가 | Q6: 2026-09-12 09:13:47
A7: M0131019 | B7: 구조용각관(백관,아연도) | C7: 40 × 40×2.3mm 2.62KG/M | D7: ｍ | I7: 70(2609) | P7: 최저단가 | Q7: 2026-09-12 09:13:47
A8: M0195015 | B8: 스테인리스판(STS304) | C8: 1.0M/M | D8: M/T | G8: 1-26(2609) | I8: 73(2609) | K8: 1-30(2609) | M8: 36(2609) | P8: 최저단가 | Q8: 2026-09-12 09:13:50
A9: M0195024 | B9: 스테인리스판(STS304) | C9: 2.0M/M | D9: M/T | G9: 1-26(2609) | I9: 73(2609) | K9: 1-30(2609) | M9: 36(2609) | P9: 최저단가 | Q9: 2026-09-12 09:13:50
A10: M07170A3 | B10: 강모래(광주) | C10: 세사 (시내도착도) | D10: ㎥ | G10: 1-55(2609) | K10: 1-62(2609) | M10: 61(2609) | P10: 최저단가 | Q10: 2026-09-12 09:14:20
A11: M0747003 | B11: 보통시멘트 | C11: 40kg/대 (포장품) | D11: KG | G11: 1-58(2609) | I11: 102(2609) | K11: 1-65(2609) | M11: 62(2609) | P11: 최저단가 | Q11: 2026-09-12 09:14:38
A12: M0801011 | B12: 단면복구용 몰탈 | C12: LDS-Mortar | D12: kg | K12: 1-85(2609) | P12: 최저단가 | Q12: 2026-09-12 09:15:04
A13: M0882021 | B13: 미송각재 | C13: 3.6ｍ x 3.0cm x 3.0cm (상품) | D13: M3 | I13: 147(2609) | K13: 1-98(2609) | M13: 73(2609) | P13: 최저단가 | Q13: 2026-09-12 09:15:05
A14: M0980005 | B14: 미송대패가공목재(㎥) | C14: 3600×200×200mm미만 | D14: ㎥ | I14: 152(2609) | K14: 1-102(2609) | P14: 최저단가 | Q14: 2026-09-12 09:15:06
A15: M1775021 | B15: 스파이럴심 덕트관 | C15: T0.6x200㎜ | D15: ｍ | G15: 1-121(2609) | M15: 108(2609) | P15: 최저단가 | Q15: 2026-09-12 09:16:48
A16: M2061815 | B16: 코킹재 | D16: ㎏ | K16: 1-252(2609) | P16: 최저단가 | Q16: 2026-09-12 09:17:06
A17: M3121003 | B17: 주입용 에폭시 | C17: G7 | D17: kg | G17: 1-461(2609) | P17: 최저단가 | Q17: 2026-09-12 09:17:32
A18: M3144012 | B18: 골함석(아연도강판) | C18: 0.50x914x1829 (가공비포함) | D18: M2 | K18: 1-501(2609) | M18: 425(2609)\ | P18: 최저단가 | Q18: 2026-09-27 21:39:50
A19: M3429506 | B19: 천정점검구 | C19: 300x300 (일반용) | D19: EA | G19: (2609) | I19: (2609) | K19: 1-505(2609) | M19: (2609) | P19: 최저단가 | Q19: 2026-09-12 09:17:35
A20: M3894003 | B20: 스텐경첩 | C20: 2.0T×102× 89mm | D20: EA | I20: 658(2609) | K20: 1-576(2609) | M20: 451(2609) | P20: 최저단가 | Q20: 2026-09-12 09:17:36
A21: M4036023 | B21: 투명로이복층유리(5+14+5) | C21: 24mm,(투명+건조공기+투명로이) | D21: ㎡ | K21: 1-585(2609) | P21: 최저단가 | Q21: 2026-09-12 09:17:39
A22: M4080003 | B22: 에나멜페인트(알키드수지) | C22: KSM6020 1급 백색 18ℓ | D22: L | K22: 1-588(2609) | P22: 최저단가 | Q22: 2026-09-12 09:17:39
A23: M4329005 | B23: 보통합판 | C23: 4.8x 910x1820㎜ (1급T-II) | D23: M2 | G23: 1-587(2609) | I23: 667(2609) | K23: 1-670(2609) | M23: 407(2609) | P23: 최저단가 | Q23: 2026-09-12 09:17:43
A24: M4329011 | B24: 보통합판 | C24: 12 x 910x1820㎜ (1급T-II) | D24: M2 | G24: 1-587(2609) | I24: 667(2609) | K24: 1-670(2609) | M24: 407(2609) | P24: 최저단가 | Q24: 2026-09-12 09:17:43
A25: M4329015 | B25: 보통합판 | C25: 18 x 910x1820㎜ (1급T-II) | D25: M2 | G25: 1-587(2609) | I25: 667(2609) | P25: 최저단가 | Q25: 2026-09-12 09:17:43
A26: M5103009 | B26: 동관(L) | C26: 19.05 x 1.07㎜ | D26: ｍ | G26: 1-714(2609) | I26: 785(2609) | K26: 1-734(2609) | M26: 546(2609) | P26: 최저단가 | Q26: 2026-09-12 09:18:26
A27: M5106011 | B27: 엘보(동관이음쇠) | C27: 19A (5/8") 19.05㎜ | D27: EA | G27: 1-715(2609) | I27: 786(2609) | P27: 최저단가 | Q27: 2026-09-12 09:18:26
A28: M5115011 | B28: 소켓(동관이음쇠) | C28: 19A (5/8") 19.05㎜ | D28: EA | G28: 1-715(2609) | I28: 786(2609) | P28: 최저단가 | Q28: 2026-09-12 09:18:27
A29: M8916015 | B29: 연마지 | C29: 150-800# 230x280㎜ (공연마용) | D29: 매 | G29: 1-1078(2609) | I29: 1337(2609) | K29: 1-1412(2609) | M29: 1168(2609) | P29: 최저단가 | Q29: 2026-09-12 09:23:00
A30: M9247008 | B30: PE필름(저밀도) | C30: 0.1㎜ x 90cmx 91m | D30: ㎡ | I30: 1460(2609) | K30: 2-18(2609) | M30: 1182(2609) | P30: 최저단가 | Q30: 2026-09-12 09:23:04
A31: MJD07918 | B31: 복층유리 | C31: 복층유리, 로이, 양면반강화, 24mm | D31: ㎡ | O31: 조달청가격정보
A32: MJD12358 | B32: 수성페인트 | C32: 수성페인트, KSM6010-1종1급, 백색 | D32: L | O32: 조달청가격정보
A33: MVP1003 | B33: 강판 가공(금속) | C33: 치수절단,절곡,면처리 | D33: M2 | P33: 최저단가 | Q33: 2026-08-07 12:39:33
A34: MVP2021 | B34: 오일스테인 | C34: 침투성,노빌레 | D34: L | I34: 627
A35: MVP2122 | B35: 스타코 마감코트 | C35: 스타고 마감재 | D35: kg | I35: 1523
A36: MVP3102 | B36: 비계안정장치 | C36: 비계안정장치, 가새, 1.2*1.9m | D36: 개 | I36: 166 | M36: 82 | P36: 최저단가 | Q36: 2026-07-29 16:16:10
A37: MVP3103 | B37: 비계안정장치 | C37: 비계안정장치, 수평띠장, 1829mm | D37: 개 | I37: 166 | M37: 82 | P37: 최저단가 | Q37: 2026-07-29 16:16:10
A38: MVP3104 | B38: 비계안정장치 | C38: 비계안정장치, 바퀴 | D38: 개 | I38: 166 | P38: 최저단가 | Q38: 2026-07-29 16:16:10
A39: MVP3105 | B39: 비계안정장치 | C39: 비계안정장치, 비계기본틀, 기둥, 1.2*1.7m | D39: 개 | I39: 167 | M39: 82 | P39: 최저단가 | Q39: 2026-07-29 16:16:10
A40: MVP3107 | B40: 비계안정장치 | C40: 비계안정장치, 발판, 500*1829 | D40: 장 | I40: 167 | P40: 최저단가 | Q40: 2026-07-29 16:16:10
...

Sheet 11
B4: =갑!D15 -> [ 김제시 죽산면 죽산로126(구 새마을 금고)내·외부공사 ]
J18: 시 중 노 임

Sheet 노임
A1: 노임
A2: 명 칭 | B2: 규 격 | C2: 단 위 | D2: 단 가 | E2: 비 고
A3: 보통인부 | B3: 일반공사 직종 | C3: 인 | G3: L001010101000002
A4: 특별인부 | B4: 일반공사 직종 | C4: 인 | G4: L001010101000003
A5: 비계공 | B5: 일반공사 직종 | C5: 인 | G5: L001010101000006
A6: 철공 | B6: 일반공사 직종 | C6: 인 | G6: L001010101000009
A7: 철골공 | B7: 일반공사 직종 | C7: 인 | G7: L001010101000011
A8: 용접공 | B8: 일반공사 직종 | C8: 인 | G8: L001010101000012
A9: 착암공 | B9: 일반공사 직종 | C9: 인 | G9: L001010101000015
A10: 조적공 | B10: 일반공사 직종 | C10: 인 | G10: L001010101000021
A11: 견출공 | B11: 일반공사 직종 | C11: 인 | G11: L001010101000022
A12: 건축목공 | B12: 일반공사 직종 | C12: 인 | G12: L001010101000023
A13: 창호공 | B13: 일반공사 직종 | C13: 인 | G13: L001010101000024
A14: 유리공 | B14: 일반공사 직종 | C14: 인 | G14: L001010101000025
... A28: 철거공 | B28: 일반공사 직종 | C28: 인 | G28: L001010501000124

Sheet 12
B4: =갑!D15 -> [ 김제시 죽산면 죽산로126(구 새마을 금고)내·외부공사 ]
J18: 수 량 산 출 서

Sheet 수량(구조보강)
A1: 수량 집계표 (구조보강공사 산출서) | G1: =갑!B10 -> 김제시 죽산면 죽산로126(구 새마을 금고)내·외부공사
A2: No. | B2: 공종명 | C2: 규격 | D2: 단위 | E2: 수량 | F2: 산출근거 | G2: 비 고
A3: 1 | B3: 구조 보강공사
B4: 보 탄소섬유 보강 | C4: Type1 - G1 300*500 (측면,하부2P All) | D4: M | E4: =4.725 -> 4.725 | F4: 창고 클린룸 세로 보 4.725 | G4: 1층
B5: 보 철판 보강 | C5: Type2 - G2 300*500 (T9.0 측면,하부 All) | D5: M | E5: =7.36 -> 7.36 | F5: 메인홀 가로보 7.36 | G5: 1층
B6: 보 탄소섬유 보강 | C6: Type3 - G1 300*500 (하부2P All) | D6: M | E6: =7.09 -> 7.09 | F6: 스튜디오 가로보 7.09 | G6: 2층
B7: 보 탄소섬유 보강 | C7: Type4 - B1 300*500 (단면복원 및 탄소섬유보강 2P All) | D7: M | E7: =2.8 -> 2.8 | F7: 스튜디오 세로보 2.80 | G7: 2층

Sheet 수량(외부)
A1: 수량 집계표 (외부 수량 산출서) | G1: =갑!B10 -> 김제시 죽산면 죽산로126(구 새마을 금고)내·외부공사
A2: No. | B2: 공종명 | C2: 규격 | D2: 단위 | E2: 수량 | F2: 산출근거 | G2: 비 고
A3: 1 | B3: 가설공사
B4: 교통통제 및 안전처리 | C4: 통행 안전시설물 설치 | D4: 회 | E4: 1 | F4: 철거시 안전처리
A19: =A3+1 -> 2 | B19: 철거공사
B20: 금속 천정판 철거 | C20: 금속 처마 W400 | D20: M2 | E20: =9.13*0.4 -> 3.652 | F20: 캐드 길이 9.13*0.4폭 | G20: 입구천정
B21: 강재창호 철거 | C21: 유리문 2475*3280 | D21: 개소 | E21: 1 | F21: 외부 입면 전면 출입문 | G21: =2.475*3.28 -> 8.118
B22: 강재창호 철거 | C22: 유리문 920*3280 | D22: 개소 | E22: 1 | F22: 외부 입면 전면 출입문 | G22: =0.92*3.28 -> 3.0176
B23: 화장실 상부창철거 | C23: 800*400 | D23: 개소 | E23: 1 | F23: 화장실 외부 나가는 출입문 상부
B24: 알루미늄 창호철거(정면) | C24: 1485*2175 | D24: 개소 | E24: 4 | F24: 외부 입면 전면 창호 | G24: =1.485*2.175 -> 3.229875
B25: 알루미늄 창호철거(정면) | C25: 3845*2345 | D25: 개소 | E25: 1 | F25: 외부 입면 유리창호 | G25: =3.845*2.345 -> 9.016525
B26: 알루미늄 창호철거(좌측면) | C26: 830*920 | D26: 개소 | E26: 1 | F26: 외부 좌측면 창호 | G26: =0.83*0.92 -> 0.7636
B27: 알루미늄 창호철거(좌측면) | C27: 900*900 | D27: 개소 | E27: 2 | F27: 외부 좌측면 창호 | G27: =0.9*0.9 -> 0.81
B28: 알루미늄 창호철거(좌측면) | C28: 1200*2490 | D28: 개소 | E28: 1 | F28: 외부 좌측면 창호 | G28: =1.2*2.49 -> 2.988
B29: 알루미늄 창호철거(우측면) | C29: 1495*2470 | D29: 개소 | E29: 1 | F29: 외부 우측면 창호 | G29: =1.495*2.47 -> 3.69265
B30: 알루미늄 창호철거(우측면) | C30: 1395*1395 | D30: 개소 | E30: 1 | F30: 외부 우측면 창호 | G30: =1.395*1.395 -> 1.946025
B31: 벽면 목재철거 | C31: 데크재 철거 | D31: M2 | E31: =(9.13*3.4)-(0.92*3.4+2.475*3.4+3.845*2.345)+0.6*3.4*8 -> 26.802475 | F31: (9.13*3.4)-(0.92*3.4+2.475*3.4+3.845*2.345)+0.6*3.4*8
B32: 목재 구조틀 철거 | C32: 평구조 각관 목재틀 | D32: Ton | E32: =(4.5*3.34*26.8)/1000 -> 0.402804 | F32: 1M2 당 4.5미터 * 3.34Kg 단위중량* 총면적 26.8 / 1000
B33: 타일 철거 | C33: 벽 타일 | D33: M2 | E33: =(9.13*3.4)-(0.92*3.4+2.475*3.4+3.845*2.345)+0.6*3.4*8 -> 26.802475 | F33: (9.13*3.4)-(0.92*3.4+2.475*3.4+3.845*2.345)+0.6*3.4*8
B34: 조적벽체 철거 | C34: 화단부분철거 | D34: M3 | E34: =1.5*0.3*0.3 -> 0.135 | F34: 1.5*0.3*0.3
B35: 폐기물 상차 | C35: 혼합폐기물 | D35: Ton | E35: =G107 -> 1.9499173 | F35: 폐기물 총 중량 계
A36: =A19+1 -> 3 | B36: 외부시설및마감공사
B37: 콘크리트 면정리 | C37: 바탕 연마기면정리3.6m이하 | D37: M2 | E37: =(9.13*3.4)-(0.92*3.4+2.475*3.4+3.845*2.345)+0.6*3.4*8+3.65 -> 30.452475 | F37: (9.13*3.4)-(0.92*3.4+2.475*3.4+3.845*2.345)+0.6*3.4*8+3.65 | G37: 타일철거부위+입구천정
B38: 목재도어 설치 | C38: 방부목 900*2100 | D38: EA | E38: 1 | F38: 좌측 통로 출입문1개 설치
B39: 금속 어닝 설치 | C39: L3845*510*H1030 | D39: EA | E39: 1 | F39: 1개설치
A52: =A36+1 -> 4 | B52: 창호공사
A53: WW-01 | B53: 시스템 고정창호 | C53: 1395*1395 AL, T24 로이투명 | D53: EA | E53: 1 | F53: 창호 설치 수량 | G53: =I53/1000*J53/1000 -> 1.946025 | H53: =I53*2/1000+J53*2/1000 -> 5.58 | I53: 1395 | J53: 1395 | K53: AL, | L53: T24 | M53: 로이투명
A54: WW-02 | B54: 시스템 고정창호 | C54: 1495*2490 AL, T24 로이투명 | D54: EA | E54: 1 | F54: 창호 설치 수량 | G54: =I54/1000*J54/1000 -> 3.72255 | H54: =I54*2/1000+J54*2/1000 -> 7.97 | I54: 1495 | J54: 2490 | K54: AL, | L54: T24 | M54: 로이투명
A55: WW-03 | B55: 시스템 미서기창호 | C55: 1500*2085 AL, T24 로이투명 | D55: EA | E55: 1 | F55: 창호 설치 수량 | G55: =I55/1000*J55/1000 -> 3.1275 | H55: =I55*2/1000+J55*2/1000 -> 7.17 | I55: 1500 | J55: 2085 | K55: AL, | L55: T24 | M55: 로이투명
