Workbook
Name _: #REF!
Name _.사급자재대: #REF!
Name ___10: #REF!
Name ___11: #REF!
Name ___6: #REF!
Name ___7: #REF!
Name ___8: #REF!
Name ___9: #REF!
Name ___HPP1: #REF!
Name __10: #REF!
Name __11: #REF!
Name __6: #REF!
Name __7: #REF!
Name __8: #REF!
Name __9: #REF!
Name __A100000: #REF!
Name __A66000: #REF!
Name __A67000: #REF!
Name __A68000: #REF!
Name __A80000: #REF!
Name __AA1: #REF!
Name __C: #REF!
Name __CON135: #REF!
Name __CON210: #REF!
Name __CON240: #REF!
Name __ELL1: #REF!
Name __ELL2: #REF!
Name __HPP1: #REF!
Name __IV65999: #REF!
Name __IV66000: #REF!
Name __IV69999: #REF!
Name __IV70000: #REF!
Name __IV99999: #REF!
Name __JOI13: #REF!
Name __pa1: #REF!
Name __pa2: #REF!
Name __PRN2: #REF!
Name __PRN3: #REF!
Name __PRN4: #REF!
Name __PRN6: #REF!
Name __PRN7: #REF!
Name __SCH1: #REF!
Name __SH1: #REF!
Name __SH2: #REF!
Name __SH3: #REF!
Name __ST1: #N/A
Name __Ted1: #REF!
Name __Ts1: #REF!
Name __W1: #REF!
Name __YO1: #REF!
Name __zz1: #REF!
Name __Zz10137: #REF!
Name __각재: #REF!
Name __경유: #REF!
Name __경첩: #REF!
Name __구리스: #REF!
Name __모래: #REF!
Name __모빌유: #REF!
Name __박리제: #REF!
Name __벤토나이트: #REF!

Sheet 갑
N1: 설 계 설 명 서 | Y1: 6. 시행방법 : 도급시행 | AL1: 과 장 | AO1: 팀 장 | AQ1: 심 사 | AS1: 설 계 | AU1: 설 계 년 월 일
B2: 2026년도 | Y2: 7. 공사기간 다음 예정공정표에 의거 착수일로부터 1개월 (28일) 내에 준공키로 하고 다음 경우에 한하여 관의 승인을 얻어 그 기간을 | AU2: 2 0 2 6 년 0 9 월 일 설계
A3: 위 치 : | C3: 전북자치도 김제시 죽산면 죽산로126(구 새마을 금고) | N3: 1. 위 치 : | O3: =+C3 -> 전북자치도 김제시 죽산면 죽산로126(구 새마을 금고) | Z3: 연기 조치할 수 있다.
N4: 2. 사 업 명 : | O4: =B10 -> 김제시 죽산면 죽산로126(구 새마을 금고)내·외부공사 | Z4: (1) 천재지변으로 인하여 작업이 불가능할 때 | AM4: =B2 -> 2026년도
N5: 3. 목 적 : | O5: 시설 환경개선을 위한 리모델링 | Z5: (2) 관의 지시에 의하여 작업이 중단되었을대 | AO5: =B10 -> 김제시 죽산면 죽산로126(구 새마을 금고)내·외부공사
N7: 4. 과업 개요 | Y7: 공 종 | Z7: 4 | AA7: =Z7+3 -> 7 | AB7: =AA7+3 -> 10 | AC7: =AB7+3 -> 13 | AD7: =AC7+3 -> 16 | AE7: =AD7+3 -> 19 | AF7: =AE7+3 -> 22 | AG7: =AF7+3 -> 25 | AH7: =AG7+3 -> 28 | AI7: 비 고 | AQ7: =D13 -> 0
O8: 공 종 | Q8: 주 요 내 용 | Y8: 현장 현황조사 | AM8: 위 치
O9: 내부개선공사 | Q9: =O5 -> 시설 환경개선을 위한 리모델링 | Y9: 자재 수급 | AP9: =C3 -> 전북자치도 김제시 죽산면 죽산로126(구 새마을 금고)
B10: 김제시 죽산면 죽산로126(구 새마을 금고)내·외부공사 | Y10: 자재 가공 | AM10: 과 업 개 요
Y11: 공장 제작 | AP11: =O9 -> 내부개선공사 | AR11: =Q9 -> 시설 환경개선을 위한 리모델링
Y12: 현장시공 | AP12: =O10 -> 0 | AR12: =Q10 -> 0
Y13: 기타 | AP13: =O11 -> 0 | AR13: =Q11 -> 0
Y14: =O15 -> 0 | AP14: =O12 -> 0 | AR14: =Q12 -> 0
D15: [ 김제시 죽산면 죽산로126(구 새마을 금고)내·외부공사 ] | Y15: =O16 -> 0 | AP15: =O13 -> 0 | AR15: =Q13 -> 0
AP16: =O14 -> 0 | AR16: =Q14 -> 0
N17: 5. 공사 자재 : | O17: 본 공사에 소요되는 자재는 다음과 같다.
O18: 품 명 | Q18: 규 격 | S18: 단위 | T18: 수 량 | V18: 인 도 장 소 | W18: 비 고 | Y18: 8. 설계변경 : | Z18: ⑴ 본 공사는 조사 당시 수립된 자료에 의하여 설계한 것인바 조사불능 부분 및 조사후 변동된 사항에 대하여는 시공당시 | AO18: 총공사비: | AQ18: ="일금 "&NUMBERSTRING(AW18,1)&"-원정" -> #NUM! | AW18: =AQ19+AQ21+AV19 -> -23749
T19: 관 급 | U19: 사 급 | Z19: 실제 상황에 맞추어 설계 변경하기로 한다. | AO19: 공급가액: | AQ19: =원가!E32 -> -21590 | AT19: 부가세: | AV19: =원가!E33 -> -2159
O20: 설계 내역서 참조. | Z20: ⑵ 본 공사의 관급자내 수량 및 인도지의 변경이 있을 경우에는 이를 실지에 맞추어 설계 변경한다.
Z21: ⑶ 본 공사의 시공중 관의 형편상 설계변경을 필요로 할 시는 이를 설계 변경하기로 한다. | AO21: 구매 물품비 | AQ21: =원가!E35 -> 0
Y22: 9. 기 타 : | Z22: 일반시방서, 특별시방서에 준하여 공사의 시공을 한다.

Sheet 1
B4: =갑!D15 -> [ 김제시 죽산면 죽산로126(구 새마을 금고)내·외부공사 ]
J18: 원 가 계 산 서

Sheet 원가
B1: 공 사 원 가 계 산 서
B2: 사업명: | C2: =갑!B10 -> 김제시 죽산면 죽산로126(구 새마을 금고)내·외부공사
B3: 비 목 | E3: 금 액 | F3: 적 용 요 율 | G3: 산 출 근 거 | H3: 비 고
A4: A1 | B4: 순 공 사 원 가 | C4: 재료비 | D4: 직 접 재 료 비 | E4: =집계!F19 -> 0
A5: A2 | D5: 간 접 재 료 비 | E5: 0
A6: AS | D6: [ 소 계 ] | E6: =TRUNC(E4+E5, 0) -> 0
A7: B1 | C7: 노무비 | D7: 직 접 노 무 비 | E7: =집계!H19 -> 0
A8: B2 | D8: 간 접 노 무 비 | E8: =TRUNC(E7*$F$8, 0) -> 0 | F8: 0.175 | G8: 직접노무비 * 17.50%
A9: BS | D9: [ 소 계 ] | E9: =TRUNC(E7+E8, 0) -> 0
A10: C2 | C10: 경 비 | D10: 기 계 경 비 | E10: =집계!J19 -> 0
A11: C4 | D11: 산 재 보 험 료 | E11: =TRUNC(E9*$F$11, 0) -> 0 | F11: 0.0356 | G11: 노무비 * 3.56%
A12: C5 | D12: 고 용 보 험 료 | E12: =TRUNC(E9*$F$12, 0) -> 0 | F12: 0.0101 | G12: 노무비 * 1.01%
A13: C6 | D13: 국민 건강 보험료 | E13: =TRUNC(E7*$F$13, 0) -> 0 | F13: 0.03595 | G13: 직접노무비 * 3.595%
A14: CB | D14: 노인장기요양보험료 | E14: =TRUNC(E13*$F$14, 0) -> 0 | F14: 0.1314 | G14: 건강보험료 * 13.14%
A15: C7 | D15: 국민 연금 보험료 | E15: =TRUNC(E7*$F$15, 0) -> 0 | F15: 0.0475 | G15: 직접노무비 * 4.75%
A16: C8 | D16: 퇴직 공제 부금비 | E16: =TRUNC(E7*$F$16, 0) -> 0 | F16: 0.023 | G16: 직접노무비 * 2.3% | H16: 추정금액 1억 이상 건설공사
A17: CA | D17: 산업안전보건관리비 | E17: =TRUNC((E6+E7)*$F$17, 0) -> 0 | F17: 0.0311 | G17: (재료비+직노) * 3.11%
A18: CA | D18: 산업안전보건관리비 | E18: =TRUNC((E7+E8+#REF!)*$F$18, 0)*0 -> #REF! | F18: 0.0293 | G18: (재료비+직노+도급자관급) * 2.93% | H18: 도급자 관급 있을 시
A19: CG | D19: 기 타 경 비 | E19: =TRUNC((E6+E9)*$F$19, 0) -> 0 | F19: 0.05 | G19: (재료비+노무비) * 5.00%
A20: CH | D20: 석 면 분 담 금 | E20: =TRUNC((E9)*$F$20, 0) -> 0 | F20: 6e-05 | G20: (노무비) * 0.006%
A21: CK | D21: 임금 채권 부담금 | E21: =TRUNC((E9)*$F$21, 0) -> 0 | F21: 0.0009 | G21: (노무비) * 0.09%
D22: 공사이행 보증수수료 | E22: =TRUNC((E6+E7+E10)*$F$22, 0)*0 -> 0 | F22: 0.000141 | G22: (재료비+직노+기계경비) * 0.0141% | H22: 추정가격 300억 이상/기술제안 입찰
D23: 건설하도급대금지급보증서발급수수료 | E23: =TRUNC((E4+E7+E10)*$F$23, 0)*0 -> 0 | F23: 0.00081 | G23: (재료비+직노+기계경비) * 0.081% | H23: 전문건설공사 제외
D24: 폐 기 물 처 리 비 | E24: =내역!L139+내역!L267 -> 0 | G24: 별 도 산 출
A25: CH | D25: 환 경 보 전 비 | E25: =TRUNC((E6+E7+E10)*$F$25, 0) -> 0 | F25: 0.003 | G25: (재료비+직노+기계경비) * 0.3%
A26: CK | D26: 건설기계대여대금 지급보증액 발급금액 | E26: =TRUNC((E6+E7+E10)*$F$26, 0) -> 0 | F26: 0.0007 | G26: (재료비+직노+기계경비) * 0.07% | H26: 전기정보통신소방제외/국가유산수리공사제외
A27: CS | D27: [ 소 계 ] | E27: =TRUNC(E10+E11+E12+E13+E15+E16+E17+E14+E19+E25+E26+E22+E23+E20+E21+E24, 0) -> 0
A28: S1 | B28: 계 | E28: =TRUNC(E6+E9+E27, 0) -> 0
A29: D1 | B29: 일 반 관 리 비 | E29: =INT(E28*$F$29) -> 0 | F29: 0.08 | G29: 계 * 8.00%
A30: D2 | B30: 이 윤 | E30: =INT(E9+E27+E29)*$F$30-23750/1.1 -> -21590.909 | F30: 0.15 | G30: (노무비+경비+일반관리비) * 15.00% 이내
B31: 고 재 처 리 비 | E31: 0
A32: D9 | B32: 공 급 가 액 | E32: =TRUNC(E30+E29+E28+E31,0) -> -21590
A33: DB | B33: 부 가 가 치 세 | E33: =TRUNC(E32*$F$33, 0) -> -2159 | F33: 0.1 | G33: 공급가액 * 10%
A34: DH | B34: 도 급 액 | E34: =TRUNC(E32+E33,) -> -23749
B35: 구 매 제 품 비 | E35: =집계!L8 -> 0
A36: S2 | B36: 총 공 사 비 | E36: =E34+E35 -> -23749

Sheet 2
B4: =갑!D15 -> [ 김제시 죽산면 죽산로126(구 새마을 금고)내·외부공사 ]
J18: 총 괄 내 역 서

Sheet 집계
A1: 총괄 집계표
A2: 공 종 명 | B2: 규 격 | C2: 수량 | D2: 단위 | E2: 재 료 비 | G2: 노 무 비 | I2: 경 비 | K2: 합 계 | M2: 비 고
E3: 단 가 | F3: 금 액 | G3: 단 가 | H3: 금 액 | I3: 단 가 | J3: 금 액 | K3: 단 가 | L3: 금 액 | S3: 할 증 | T3: 화폐변환 | U3: OP값 | V3: EQ | W3: LA | X3: MA | Y3: 금액계상
A4: 김제시 죽산면 죽산로126(구 새마을 금고)내·외부공사
A5: 01. 구조보강공사 | C5: 1 | D5: 식 | E5: =내역!E5 -> 0 | F5: =TRUNC(E5*C5,0) -> 0 | G5: =내역!G5 -> 0 | H5: =TRUNC(G5*C5,0) -> 0 | I5: =내역!I5 -> 0 | J5: =TRUNC(I5*C5,0) -> 0 | K5: =E5+G5+I5 -> 0 | L5: =F5+H5+J5 -> 0 | P5: 10 | R5: A01 | BJ5: =HYPERLINK("#내역서!A43","A01 →") -> A01 →
A6: 02. 외부공사 | C6: 1 | D6: 식 | E6: =내역!E6 -> 0 | F6: =TRUNC(E6*C6,0) -> 0 | G6: =내역!G6 -> 0 | H6: =TRUNC(G6*C6,0) -> 0 | I6: =내역!I6 -> 0 | J6: =TRUNC(I6*C6,0) -> 0 | K6: =E6+G6+I6 -> 0 | L6: =F6+H6+J6 -> 0 | P6: 20 | R6: A02 | BJ6: =HYPERLINK("#내역서!A49","A02 →") -> A02 →
A7: 03. 내부공사 | C7: 1 | D7: 식 | E7: =내역!E7 -> 0 | F7: =TRUNC(E7*C7,0) -> 0 | G7: =내역!G7 -> 0 | H7: =TRUNC(G7*C7,0) -> 0 | I7: =내역!I7 -> 0 | J7: =TRUNC(I7*C7,0) -> 0 | K7: =E7+G7+I7 -> 0 | L7: =F7+H7+J7 -> 0 | P7: 30 | R7: A03 | BJ7: =HYPERLINK("#내역서!A108","A03 →") -> A03 →
A8: 04. 구매물품 | B8: 합산별도 | C8: 1 | D8: 식 | E8: =내역!E8 -> 0 | F8: =TRUNC(E8*C8,0) -> 0 | G8: =내역!G8 -> 0 | H8: =TRUNC(G8*C8,0) -> 0 | I8: =내역!I8 -> 0 | J8: =TRUNC(I8*C8,0) -> 0 | K8: =E8+G8+I8 -> 0 | L8: =F8+H8+J8 -> 0 | P8: 40 | Q8: * | R8: A04 | BJ8: =HYPERLINK("#내역서!A328","A04 →") -> A04 →
E9: =내역!E9 -> 0 | F9: 0 | G9: =내역!G9 -> 0 | H9: 0 | I9: =내역!I9 -> 0 | J9: 0 | K9: =E9+G9+I9 -> 0 | L9: =F9+H9+J9 -> 0 | P9: 50
E10: =내역!E10 -> 0 | F10: 0 | G10: =내역!G10 -> 0 | H10: 0 | I10: =내역!I10 -> 0 | J10: 0 | K10: =E10+G10+I10 -> 0 | L10: =F10+H10+J10 -> 0 | P10: 60
E11: =내역!E11 -> 0 | F11: 0 | G11: =내역!G11 -> 0 | H11: 0 | I11: =내역!I11 -> 0 | J11: 0 | K11: =E11+G11+I11 -> 0 | L11: =F11+H11+J11 -> 0 | P11: 70
E12: =내역!E12 -> 0 | F12: 0 | G12: =내역!G12 -> 0 | H12: 0 | I12: =내역!I12 -> 0 | J12: 0 | K12: =E12+G12+I12 -> 0 | L12: =F12+H12+J12 -> 0 | P12: 80
E13: =내역!E13 -> 0 | F13: 0 | G13: =내역!G13 -> 0 | H13: 0 | I13: =내역!I13 -> 0 | J13: 0 | K13: =E13+G13+I13 -> 0 | L13: =F13+H13+J13 -> 0 | P13: 90
E14: =내역!E14 -> 0 | F14: 0 | G14: =내역!G14 -> 0 | H14: 0 | I14: =내역!I14 -> 0 | J14: 0 | K14: =E14+G14+I14 -> 0 | L14: =F14+H14+J14 -> 0 | P14: 100
E15: =내역!E15 -> 0 | F15: 0 | G15: =내역!G15 -> 0 | H15: 0 | I15: =내역!I15 -> 0 | J15: 0 | K15: =E15+G15+I15 -> 0 | L15: =F15+H15+J15 -> 0 | P15: 110
E16: =내역!E16 -> 0 | F16: 0 | G16: =내역!G16 -> 0 | H16: 0 | I16: =내역!I16 -> 0 | J16: 0 | K16: =E16+G16+I16 -> 0 | L16: =F16+H16+J16 -> 0 | P16: 120
E17: =내역!E17 -> 0 | F17: 0 | G17: =내역!G17 -> 0 | H17: 0 | I17: =내역!I17 -> 0 | J17: 0 | K17: =E17+G17+I17 -> 0 | L17: =F17+H17+J17 -> 0 | P17: 130
E18: =내역!E18 -> 0 | F18: 0 | G18: =내역!G18 -> 0 | H18: 0 | I18: =내역!I18 -> 0 | J18: 0 | K18: =E18+G18+I18 -> 0 | L18: =F18+H18+J18 -> 0 | P18: 140 | AA18: MA+ = | AB18: =(집계!F5+집계!F6+집계!F7) -> 0 | AC18: MA = | AD18: =$AB18 -> 0
A19: 직 접 공 사 비 | F19: =TRUNC((F5+F6+F7),0) -> 0 | H19: =TRUNC((H5+H6+H7),0) -> 0 | J19: =TRUNC((J5+J6+J7),0) -> 0 | K19: =E19+G19+I19 -> 0 | L19: =F19+H19+J19 -> 0 | P19: 150 | Q19: * | R19: F | X19: MA = MA(1, -1,140) _x000D_ LA = LA(1, -1,140) _x000D_ EQ = EQ(1, -1,140) | AA19: LA+ = | AB19: =집계!H19*17.5/100 -> 0 | AC19: LA = | AD19: =$AB19 -> 0

Sheet 3
B4: =갑!D15 -> [ 김제시 죽산면 죽산로126(구 새마을 금고)내·외부공사 ]
J18: 산 출 내 역 서

Sheet 내역
A1: 내역서
A2: 공 종 명 | B2: 규 격 | C2: 수량 | D2: 단위 | E2: 재 료 비 | G2: 노 무 비 | I2: 경 비 | K2: 합 계 | M2: 비고
E3: 단 가 | F3: 금 액 | G3: 단 가 | H3: 금 액 | I3: 단 가 | J3: 금 액 | K3: 단 가 | L3: 금 액 | S3: 할 증 | T3: 화폐변환 | U3: OP값 | V3: EQ | W3: LA | X3: MA | Y3: 금액계상
A4: 김제시 죽산면 죽산로126(구 새마을 금고)내·외부공사
A5: 01. 구조보강공사 | C5: 1 | D5: 식 | E5: =F20 -> 0 | F5: =TRUNC(E5*C5,0) -> 0 | G5: =H20 -> 0 | H5: =TRUNC(G5*C5,0) -> 0 | I5: =J20 -> 0 | J5: =TRUNC(I5*C5,0) -> 0 | K5: =E5+G5+I5 -> 0 | L5: =F5+H5+J5 -> 0 | P5: 10 | R5: A01 | BJ5: =HYPERLINK("#내역서!A43","A01 →") -> A01 →
A6: 02. 외부공사 | C6: 1 | D6: 식 | E6: =F36 -> 0 | F6: =TRUNC(E6*C6,0) -> 0 | G6: =H36 -> 0 | H6: =TRUNC(G6*C6,0) -> 0 | I6: =J36 -> 0 | J6: =TRUNC(I6*C6,0) -> 0 | K6: =E6+G6+I6 -> 0 | L6: =F6+H6+J6 -> 0 | P6: 20 | R6: A02 | BJ6: =HYPERLINK("#내역서!A49","A02 →") -> A02 →
A7: 03. 내부공사 | C7: 1 | D7: 식 | E7: =F116 -> 0 | F7: =TRUNC(E7*C7,0) -> 0 | G7: =H116 -> 0 | H7: =TRUNC(G7*C7,0) -> 0 | I7: =J116 -> 0 | J7: =TRUNC(I7*C7,0) -> 0 | K7: =E7+G7+I7 -> 0 | L7: =F7+H7+J7 -> 0 | P7: 30 | R7: A03 | BJ7: =HYPERLINK("#내역서!A108","A03 →") -> A03 →
A8: 04. 구매물품 | C8: 1 | D8: 식 | E8: =F372 -> 0 | F8: =TRUNC(E8*C8,0) -> 0 | G8: =H372 -> 0 | H8: =TRUNC(G8*C8,0) -> 0 | I8: =J372 -> 0 | J8: =TRUNC(I8*C8,0) -> 0 | K8: =E8+G8+I8 -> 0 | L8: =F8+H8+J8 -> 0 | P8: 40 | Q8: * | R8: A04 | BJ8: =HYPERLINK("#내역서!A328","A04 →") -> A04 →
F9: 0 | H9: 0 | J9: 0 | K9: =E9+G9+I9 -> 0 | L9: =F9+H9+J9 -> 0 | P9: 50
F10: 0 | H10: 0 | J10: 0 | K10: =E10+G10+I10 -> 0 | L10: =F10+H10+J10 -> 0 | P10: 60
F11: 0 | H11: 0 | J11: 0 | K11: =E11+G11+I11 -> 0 | L11: =F11+H11+J11 -> 0 | P11: 70
F12: 0 | H12: 0 | J12: 0 | K12: =E12+G12+I12 -> 0 | L12: =F12+H12+J12 -> 0 | P12: 80
F13: 0 | H13: 0 | J13: 0 | K13: =E13+G13+I13 -> 0 | L13: =F13+H13+J13 -> 0 | P13: 90
F14: 0 | H14: 0 | J14: 0 | K14: =E14+G14+I14 -> 0 | L14: =F14+H14+J14 -> 0 | P14: 100
F15: 0 | H15: 0 | J15: 0 | K15: =E15+G15+I15 -> 0 | L15: =F15+H15+J15 -> 0 | P15: 110
F16: 0 | H16: 0 | J16: 0 | K16: =E16+G16+I16 -> 0 | L16: =F16+H16+J16 -> 0 | P16: 120
F17: 0 | H17: 0 | J17: 0 | K17: =E17+G17+I17 -> 0 | L17: =F17+H17+J17 -> 0 | P17: 130
F18: 0 | H18: 0 | J18: 0 | K18: =E18+G18+I18 -> 0 | L18: =F18+H18+J18 -> 0 | P18: 140 | AA18: MA+ = | AB18: =(내역!F5+내역!F6+내역!F7) -> 0 | AC18: MA = | AD18: =$AB18 -> 0
A19: 직 접 공 사 비 | C19: 1 | D19: 식 | F19: =TRUNC((F5+F6+F7),0) -> 0 | H19: =TRUNC((H5+H6+H7),0) -> 0 | J19: =TRUNC((J5+J6+J7),0) -> 0 | K19: =E19+G19+I19 -> 0 | L19: =F19+H19+J19 -> 0 | P19: 150 | Q19: * | R19: F | X19: MA = MA(1, -1,140) _x000D_ LA = LA(1, -1,140) _x000D_ EQ = EQ(1, -1,140) | AA19: LA+ = | AB19: =내역!H19*17.5/100 -> 0 | AC19: LA = | AD19: =$AB19 -> 0
A20: 01. 구조보강공사 | C20: 1 | D20: 식 | F20: =TRUNC(F21+F22+F23+F24,0) -> 0 | H20: =TRUNC(H21+H22+H23+H24,0) -> 0 | J20: =TRUNC(J21+J22+J23+J24,0) -> 0 | L20: =F20+H20+J20 -> 0 | O20: A01
A21: 보 탄소섬유 보강 | B21: Type1 - G1 300*500 (측면,하부2P All) | C21: 4.73 | D21: M | E21: =일위목록!E3 -> 0 | F21: =TRUNC(E21*C21,0) -> 0 | G21: =일위목록!F3 -> 0 | H21: =TRUNC(G21*C21,0) -> 0 | I21: =일위목록!G3 -> 0 | J21: =TRUNC(I21*C21,0) -> 0 | K21: =E21+G21+I21 -> 0 | L21: =F21+H21+J21 -> 0 | P21: 10 | R21: _0001 | T21: T | BJ21: =HYPERLINK("#일위대가목록!A3","_0001 →") -> _0001 →
A22: 보 철판 보강 | B22: Type2 - G2 300*500 (T9.0 측면,하부 All) | C22: 7.36 | D22: M | E22: =일위목록!E4 -> 0 | F22: =TRUNC(E22*C22,0) -> 0 | G22: =일위목록!F4 -> 0 | H22: =TRUNC(G22*C22,0) -> 0 | I22: =일위목록!G4 -> 0 | J22: =TRUNC(I22*C22,0) -> 0 | K22: =E22+G22+I22 -> 0 | L22: =F22+H22+J22 -> 0 | P22: 20 | R22: _0002 | T22: T | BJ22: =HYPERLINK("#일위대가목록!A4","_0002 →") -> _0002 →
A23: 보 탄소섬유 보강 | B23: Type3 - G1 300*500 (하부2P All) | C23: 7.09 | D23: M | E23: =일위목록!E5 -> 0 | F23: =TRUNC(E23*C23,0) -> 0 | G23: =일위목록!F5 -> 0 | H23: =TRUNC(G23*C23,0) -> 0 | I23: =일위목록!G5 -> 0 | J23: =TRUNC(I23*C23,0) -> 0 | K23: =E23+G23+I23 -> 0 | L23: =F23+H23+J23 -> 0 | P23: 30 | R23: _0003 | T23: T | BJ23: =HYPERLINK("#일위대가목록!A5","_0003 →") -> _0003 →
A24: 보 탄소섬유 보강 | B24: Type4 - B1 300*500 (단면복원 및 탄소섬유보강 2P All) | C24: 2.8 | D24: M | E24: =일위목록!E6 -> 0 | F24: =TRUNC(E24*C24,0) -> 0 | G24: =일위목록!F6 -> 0 | H24: =TRUNC(G24*C24,0) -> 0 | I24: =일위목록!G6 -> 0 | J24: =TRUNC(I24*C24,0) -> 0 | K24: =E24+G24+I24 -> 0 | L24: =F24+H24+J24 -> 0 | P24: 40 | R24: _0004 | T24: T | BJ24: =HYPERLINK("#일위대가목록!A6","_0004 →") -> _0004 →
F25: 0 | H25: 0 | J25: 0 | K25: =E25+G25+I25 -> 0 | L25: =F25+H25+J25 -> 0 | P25: 50
A36: 02. 외부공사 | C36: 1 | D36: 식 | F36: =TRUNC(F37+F38+F39+F40,0) -> 0 | H36: =TRUNC(H37+H38+H39+H40,0) -> 0 | O36: A02
A37: 02-01. 가설공사 | C37: 1 | D37: 식 | E37: =F52 -> 0 | F37: =TRUNC(E37*C37,0) -> 0 | G37: =H52 -> 0 | H37: =TRUNC(G37*C37,0) -> 0 | P37: 10 | R37: A02-01 | BJ37: =HYPERLINK("#내역서!A56","A02-01 →") -> A02-01 →
A38: 02-02. 철거공사 | C38: 1 | D38: 식 | E38: =F55 -> 0 | F38: =TRUNC(E38*C38,0) -> 0 | G38: =H55 -> 0 | H38: =TRUNC(G38*C38,0) -> 0 | P38: 20 | R38: A02-02 | BJ38: =HYPERLINK("#내역서!A59","A02-02 →") -> A02-02 →
A39: 02-03. 외부시설및마감공사 | C39: 1 | D39: 식 | E39: =F73 -> 0 | F39: =TRUNC(E39*C39,0) -> 0 | G39: =H73 -> 0 | H39: =TRUNC(G39*C39,0) -> 0 | P39: 30 | R39: A02-03 | BJ39: =HYPERLINK("#내역서!A77","A02-03 →") -> A02-03 →
A40: 02-04. 창호공사 | C40: 1 | D40: 식 | E40: =F78 -> 0 | F40: =TRUNC(E40*C40,0) -> 0 | G40: =H78 -> 0 | H40: =TRUNC(G40*C40,0) -> 0 | P40: 40 | R40: A02-04 | BJ40: =HYPERLINK("#내역서!A82","A02-04 →") -> A02-04 →
A41: 02-05. 폐기물 처리비 | B41: 합산 별도 | C41: 1 | D41: 식 | E41: =F98 -> 0 | F41: =TRUNC(E41*C41,0) -> 0 | G41: =H98 -> 0 | H41: =TRUNC(G41*C41,0) -> 0 | P41: 50 | Q41: * | R41: A02-05 | BJ41: =HYPERLINK("#내역서!A102","A02-05 →") -> A02-05 →
F42: 0 | H42: 0 | P42: 60
A52: 02-01. 가설공사 | C52: 1 | D52: 식 | F52: =TRUNC(F53,0) -> 0 | H52: =TRUNC(H53,0) -> 0 | J52: =TRUNC(J53,0) -> 0 | L52: =F52+H52+J52 -> 0 | O52: A02-01
A53: 교통통제 및 안전처리 | B53: 안전시설물 설치 | C53: 1 | D53: 식 | E53: =일위목록!E13 -> 0 | F53: =TRUNC(E53*C53,0) -> 0 | G53: =일위목록!F13 -> 0 | H53: =TRUNC(G53*C53,0) -> 0 | I53: =일위목록!G13 -> 0 | J53: =TRUNC(I53*C53,0) -> 0 | K53: =E53+G53+I53 -> 0 | L53: =F53+H53+J53 -> 0 | P53: 10 | R53: T1-1-1/1 | T53: T | BJ53: =HYPERLINK("#일위대가목록!A13","T1-1-1/1 →") -> T1-1-1/1 →
F54: 0 | H54: 0 | P54: 20
A55: 02-02. 철거공사 | C55: 1 | D55: 식 | F55: =TRUNC(F56+F57+F58+F59+F60+F61+F62+F63+F64+F65+F66+F67+F68+F69+F70+F71,0) -> 0 | H55: =TRUNC(H56+H57+H58+H59+H60+H61+H62+H63+H64+H65+H66+H67+H68+H69+H70+H71,0) -> 0 | O55: A02-02
A56: 금속 천정판 철거 | B56: 금속 처마 W400 | C56: 3.65 | D56: M2 | E56: =일위목록!E14 -> 0 | F56: =TRUNC(E56*C56,0) -> 0 | G56: =일위목록!F14 -> 0 | H56: =TRUNC(G56*C56,0) -> 0 | P56: 10 | R56: _0011 | T56: T | BJ56: =HYPERLINK("#일위대가목록!A14","_0011 →") -> _0011 →
A57: 강재창호 철거 | B57: 유리문 2475*3280 | C57: 1 | D57: 개소 | E57: =일위목록!E15 -> 0 | F57: =TRUNC(E57*C57,0) -> 0 | G57: =일위목록!F15 -> 0 | H57: =TRUNC(G57*C57,0) -> 0 | I57: =일위목록!G15 -> 0 | J57: =TRUNC(I57*C57,0) -> 0 | K57: =E57+G57+I57 -> 0 | L57: =F57+H57+J57 -> 0 | P57: 20 | R57: _0012 | T57: T | BJ57: =HYPERLINK("#일위대가목록!A15","_0012 →") -> _0012 →
A58: 강재창호 철거 | B58: 유리문 920*3280 | C58: 1 | D58: 개소 | E58: =일위목록!E16 -> 0 | F58: =TRUNC(E58*C58,0) -> 0 | G58: =일위목록!F16 -> 0 | H58: =TRUNC(G58*C58,0) -> 0 | I58: =일위목록!G16 -> 0 | J58: =TRUNC(I58*C58,0) -> 0 | K58: =E58+G58+I58 -> 0 | L58: =F58+H58+J58 -> 0 | P58: 30 | R58: _0013 | T58: T | BJ58: =HYPERLINK("#일위대가목록!A16","_0013 →") -> _0013 →
A59: 화장실 상부창 철거 | B59: 800*400 | C59: 1 | D59: 개소 | E59: =일위목록!E17 -> 0 | F59: =TRUNC(E59*C59,0) -> 0 | G59: =일위목록!F17 -> 0 | H59: =TRUNC(G59*C59,0) -> 0 | I59: =일위목록!G17 -> 0 | J59: =TRUNC(I59*C59,0) -> 0 | K59: =E59+G59+I59 -> 0 | L59: =F59+H59+J59 -> 0 | P59: 40 | R59: _0014 | T59: T | BJ59: =HYPERLINK("#일위대가목록!A17","_0014 →") -> _0014 →
A60: 알루미늄 창호철거(정면) | B60: 1485*2175 | C60: 4 | D60: 개소 | E60: =일위목록!E18 -> 0 | F60: =TRUNC(E60*C60,0) -> 0 | G60: =일위목록!F18 -> 0 | H60: =TRUNC(G60*C60,0) -> 0 | I60: =일위목록!G18 -> 0 | J60: =TRUNC(I60*C60,0) -> 0 | K60: =E60+G60+I60 -> 0 | L60: =F60+H60+J60 -> 0 | P60: 50 | R60: _0015 | T60: T | BJ60: =HYPERLINK("#일위대가목록!A18","_0015 →") -> _0015 →
A61: 알루미늄 창호철거(정면) | B61: 3845*2345 | C61: 1 | D61: 개소 | E61: =일위목록!E19 -> 0 | F61: =TRUNC(E61*C61,0) -> 0 | G61: =일위목록!F19 -> 0 | H61: =TRUNC(G61*C61,0) -> 0 | I61: =일위목록!G19 -> 0 | J61: =TRUNC(I61*C61,0) -> 0 | K61: =E61+G61+I61 -> 0 | L61: =F61+H61+J61 -> 0 | P61: 60 | R61: _0016 | T61: T | BJ61: =HYPERLINK("#일위대가목록!A19","_0016 →") -> _0016 →
A62: 알루미늄 창호철거(좌측면) | B62: 830*920 | C62: 1 | D62: 개소 | E62: =일위목록!E20 -> 0 | F62: =TRUNC(E62*C62,0) -> 0 | G62: =일위목록!F20 -> 0 | H62: =TRUNC(G62*C62,0) -> 0 | I62: =일위목록!G20 -> 0 | J62: =TRUNC(I62*C62,0) -> 0 | K62: =E62+G62+I62 -> 0 | L62: =F62+H62+J62 -> 0 | P62: 70 | R62: _0017 | T62: T | BJ62: =HYPERLINK("#일위대가목록!A20","_0017 →") -> _0017 →
A63: 알루미늄 창호철거(좌측면) | B63: 900*900 | C63: 2 | D63: 개소 | E63: =일위목록!E21 -> 0 | F63: =TRUNC(E63*C63,0) -> 0 | G63: =일위목록!F21 -> 0 | H63: =TRUNC(G63*C63,0) -> 0 | I63: =일위목록!G21 -> 0 | J63: =TRUNC(I63*C63,0) -> 0 | K63: =E63+G63+I63 -> 0 | L63: =F63+H63+J63 -> 0 | P63: 80 | R63: _0018 | T63: T | BJ63: =HYPERLINK("#일위대가목록!A21","_0018 →") -> _0018 →
A64: 알루미늄 창호철거(좌측면) | B64: 1200*2490 | C64: 1 | D64: 개소 | E64: =일위목록!E22 -> 0 | F64: =TRUNC(E64*C64,0) -> 0 | G64: =일위목록!F22 -> 0 | H64: =TRUNC(G64*C64,0) -> 0 | I64: =일위목록!G22 -> 0 | J64: =TRUNC(I64*C64,0) -> 0 | K64: =E64+G64+I64 -> 0 | L64: =F64+H64+J64 -> 0 | P64: 90 | R64: _0019 | T64: T | BJ64: =HYPERLINK("#일위대가목록!A22","_0019 →") -> _0019 →
A65: 알루미늄 창호철거(우측면) | B65: 1495*2470 | C65: 1 | D65: 개소 | E65: =일위목록!E23 -> 0 | F65: =TRUNC(E65*C65,0) -> 0 | G65: =일위목록!F23 -> 0 | H65: =TRUNC(G65*C65,0) -> 0 | I65: =일위목록!G23 -> 0 | J65: =TRUNC(I65*C65,0) -> 0 | K65: =E65+G65+I65 -> 0 | L65: =F65+H65+J65 -> 0 | P65: 100 | R65: _0020 | T65: T | BJ65: =HYPERLINK("#일위대가목록!A23","_0020 →") -> _0020 →
A66: 알루미늄 창호철거(우측면) | B66: 1395*1395 | C66: 1 | D66: 개소 | E66: =일위목록!E24 -> 0 | F66: =TRUNC(E66*C66,0) -> 0 | G66: =일위목록!F24 -> 0 | H66: =TRUNC(G66*C66,0) -> 0 | I66: =일위목록!G24 -> 0 | J66: =TRUNC(I66*C66,0) -> 0 | K66: =E66+G66+I66 -> 0 | L66: =F66+H66+J66 -> 0 | P66: 110 | R66: _0021 | T66: T | BJ66: =HYPERLINK("#일위대가목록!A24","_0021 →") -> _0021 →
A67: 벽면 목재철거 | B67: 데크재 철거 | C67: 26.8 | D67: M2 | E67: =일위목록!E25 -> 0 | F67: =TRUNC(E67*C67,0) -> 0 | G67: =일위목록!F25 -> 0 | H67: =TRUNC(G67*C67,0) -> 0 | I67: =일위목록!G25 -> 0 | J67: =TRUNC(I67*C67,0) -> 0 | K67: =E67+G67+I67 -> 0 | L67: =F67+H67+J67 -> 0 | P67: 120 | R67: _0022 | T67: T | BJ67: =HYPERLINK("#일위대가목록!A25","_0022 →") -> _0022 →
A68: 목재 구조틀 철거 | B68: 평구조 각관 목재틀 | C68: 0.4 | D68: Ton | E68: =일위목록!E26 -> 0 | F68: =TRUNC(E68*C68,0) -> 0 | G68: =일위목록!F26 -> 0 | P68: 130 | R68: _0023 | T68: T | BJ68: =HYPERLINK("#일위대가목록!A26","_0023 →") -> _0023 →
A69: 타일 철거 | B69: 벽타일 철거 | C69: 26.8 | D69: M2 | E69: =일위목록!E27 -> 0 | F69: =TRUNC(E69*C69,0) -> 0 | G69: =일위목록!F27 -> 0 | P69: 140 | R69: _0024 | T69: T | BJ69: =HYPERLINK("#일위대가목록!A27","_0024 →") -> _0024 →
A70: 조적벽 철거/헐기 | B70: 벽체 | C70: 0.14 | D70: M3 | E70: =일위목록!E28 -> 0 | F70: =TRUNC(E70*C70,0) -> 0 | G70: =일위목록!F28 -> 0 | P70: 150 | R70: _0025 | T70: T | BJ70: =HYPERLINK("#일위대가목록!A28","_0025 →") -> _0025 →
A71: 폐기물상차(혼합건설폐기물) | B71: 24톤암롤, 30km | C71: 1.95 | D71: Ton | E71: =일위목록!E29 -> 0 | F71: =TRUNC(E71*C71,0) -> 0 | G71: =일위목록!F29 -> 0 | P71: 160 | R71: ZZ64 | T71: T | BJ71: =HYPERLINK("#일위대가목록!A29","ZZ64 →") -> ZZ64 →
F72: 0 | P72: 170
A73: 02-03. 외부시설및마감공사 | C73: 1 | D73: 식 | F73: =TRUNC(F74+F75+F76,0) -> 0 | O73: A02-03
A74: 콘크리트 면정리 | B74: 바탕 연마기정리 | C74: 30.45 | D74: M2 | E74: =일위목록!E30 -> 0 | F74: =TRUNC(E74*C74,0) -> 0 | G74: =일위목록!F30 -> 0 | P74: 10 | R74: _0026 | T74: T | BJ74: =HYPERLINK("#일위대가목록!A30","_0026 →") -> _0026 →
A75: 목재도어 설치 | B75: 방부목 900*2100 | C75: 1 | D75: 개소 | E75: =일위목록!E31 -> 0 | F75: =TRUNC(E75*C75,0) -> 0 | G75: =일위목록!F31 -> 0 | P75: 20 | R75: _0027 | T75: T | BJ75: =HYPERLINK("#일위대가목록!A31","_0027 →") -> _0027 →
A76: 금속 어닝 설치 | B76: L3845*510*H1030 | C76: 1 | D76: EA | E76: =일위목록!E32 -> 0 | F76: =TRUNC(E76*C76,0) -> 0 | G76: =일위목록!F32 -> 0 | P76: 40 | R76: _0030 | T76: T | BJ76: =HYPERLINK("#일위대가목록!A32","_0030 →") -> _0030 →
F77: 0 | P77: 50
A78: 02-04. 창호공사 | C78: 1 | D78: 식 | F78: =TRUNC(F79+F80+F81+F82+F83+F84+F85+F86+F87+F88+F89+F90+F91+F92+F93+F94+F95+F96,0) -> 0 | O78: A02-04
A79: 시스템 고정창호 | B79: 395*1395 AL, T24 로이투명 | C79: 1 | D79: EA | E79: =일위목록!E33 -> 0 | F79: =TRUNC(E79*C79,0) -> 0 | G79: =일위목록!F33 -> 0 | P79: 10 | R79: _0031 | T79: T | BJ79: =HYPERLINK("#일위대가목록!A33","_0031 →") -> _0031 →
A80: 시스템 고정창호 | B80: 1495*2490 AL, T24 로이투명 | C80: 1 | D80: EA | E80: =일위목록!E34 -> 0 | F80: =TRUNC(E80*C80,0) -> 0 | G80: =일위목록!F34 -> 0 | P80: 20 | R80: _0032 | T80: T | BJ80: =HYPERLINK("#일위대가목록!A34","_0032 →") -> _0032 →
A81: 시스템 미서기창호 | B81: 1500*2085 AL, T24 로이투명 | C81: 1 | D81: EA | E81: =일위목록!E35 -> 0 | F81: =TRUNC(E81*C81,0) -> 0 | G81: =일위목록!F35 -> 0 | P81: 30 | R81: _0033 | T81: T | BJ81: =HYPERLINK("#일위대가목록!A35","_0033 →") -> _0033 →
A82: 시스템 미서기창호 | B82: 1495*2085 AL, T24 로이투명 | C82: 2 | D82: EA | E82: =일위목록!E36 -> 0 | F82: =TRUNC(E82*C82,0) -> 0 | G82: =일위목록!F36 -> 0 | P82: 40 | R82: _0034 | T82: T | BJ82: =HYPERLINK("#일위대가목록!A36","_0034 →") -> _0034 →
A83: 시스템 미서기창호 | B83: 1485*2085 AL, T24 로이투명 | C83: 1 | D83: EA | E83: =일위목록!E37 -> 0 | F83: =TRUNC(E83*C83,0) -> 0 | G83: =일위목록!F37 -> 0 | P83: 50 | R83: _0035 | T83: T | BJ83: =HYPERLINK("#일위대가목록!A37","_0035 →") -> _0035 →
A84: 시스템 고정창호 | B84: 1200*2490 AL, T24 로이투명 | C84: 1 | D84: EA | E84: =일위목록!E38 -> 0 | F84: =TRUNC(E84*C84,0) -> 0 | G84: =일위목록!F38 -> 0 | P84: 60 | R84: _0036 | T84: T | BJ84: =HYPERLINK("#일위대가목록!A38","_0036 →") -> _0036 →
A85: 시스템 여닫이 도어 | B85: 950*2150 AL, T24 로이투명 | C85: 1 | D85: EA | E85: =일위목록!E39 -> 0 | F85: =TRUNC(E85*C85,0) -> 0 | G85: =일위목록!F39 -> 0 | P85: 70 | R85: _0037 | T85: T | BJ85: =HYPERLINK("#일위대가목록!A39","_0037 →") -> _0037 →
A86: 시스템 슬라이딩 도어 | B86: 1500*1495 AL, T24 로이투명 | C86: 1 | D86: EA | E86: =일위목록!E40 -> 0 | F86: =TRUNC(E86*C86,0) -> 0 | G86: =일위목록!F40 -> 0 | P86: 80 | R86: _0038 | T86: T | BJ86: =HYPERLINK("#일위대가목록!A40","_0038 →") -> _0038 →
A87: 시스템 고정창호 | B87: 900*890 AL, T24 로이투명 | C87: 2 | D87: EA | E87: =일위목록!E41 -> 0 | F87: =TRUNC(E87*C87,0) -> 0 | G87: =일위목록!F41 -> 0 | P87: 90 | R87: _0039 | T87: T | BJ87: =HYPERLINK("#일위대가목록!A41","_0039 →") -> _0039 →
A88: 시스템 고정창호 | B88: 785*390 AL, T24 로이투명 | C88: 1 | D88: EA | E88: =일위목록!E42 -> 0 | F88: =TRUNC(E88*C88,0) -> 0 | G88: =일위목록!F42 -> 0 | P88: 100 | R88: _0040 | T88: T | BJ88: =HYPERLINK("#일위대가목록!A42","_0040 →") -> _0040 →
A89: 시스템 프로젝트창호 | B89: 865*925 AL, T24 로이투명 | C89: 1 | D89: EA | E89: =일위목록!E43 -> 0 | F89: =TRUNC(E89*C89,0) -> 0 | G89: =일위목록!F43 -> 0 | P89: 110 | R89: _0041 | T89: T | BJ89: =HYPERLINK("#일위대가목록!A43","_0041 →") -> _0041 →
A90: 시스템 프로젝트창호 | B90: 810*840 AL, T24 로이투명 | C90: 1 | D90: EA | E90: =일위목록!E44 -> 0 | F90: =TRUNC(E90*C90,0) -> 0 | G90: =일위목록!F44 -> 0 | P90: 120 | R90: _0042 | T90: T | BJ90: =HYPERLINK("#일위대가목록!A44","_0042 →") -> _0042 →
A91: 프레임리스 폴딩도어 | B91: 3845*H2330 상부고정창 T24 로이투명 | C91: 1 | D91: EA | E91: =일위목록!E45 -> 0 | F91: =TRUNC(E91*C91,0) -> 0 | G91: =일위목록!F45 -> 0 | P91: 130 | R91: _0043 | T91: T | BJ91: =HYPERLINK("#일위대가목록!A45","_0043 →") -> _0043 →
A92: 강화유리문도어 | B92: 2475*H3280 상부고정창 T24로이투명 양개형 | C92: 1 | D92: EA | E92: =일위목록!E46 -> 0 | F92: =TRUNC(E92*C92,0) -> 0 | G92: =일위목록!F46 -> 0 | P92: 140 | R92: _0044 | T92: T | BJ92: =HYPERLINK("#일위대가목록!A46","_0044 →") -> _0044 →
A93: 강화유리문도어 | B93: 920*H3280 상부고정창 T24로이투명 편개형 | C93: 1 | D93: EA | E93: =일위목록!E47 -> 0 | F93: =TRUNC(E93*C93,0) -> 0 | G93: =일위목록!F47 -> 0 | P93: 150 | R93: _0045 | T93: T | BJ93: =HYPERLINK("#일위대가목록!A47","_0045 →") -> _0045 →
A94: 외부 여닫이 설치 | B94: 방부목 893*H1345(Var)+시건장치 | C94: 1 | D94: EA | E94: =일위목록!E48 -> 0 | F94: =TRUNC(E94*C94,0) -> 0 | G94: =일위목록!F48 -> 0 | P94: 160 | R94: _0046 | T94: T | BJ94: =HYPERLINK("#일위대가목록!A48","_0046 →") -> _0046 →
A95: 운반트럭 | B95: 2.5 ton | C95: 8 | D95: HR | E95: =중기목록!E4 -> 0 | F95: =TRUNC(E95*C95,0) -> 0 | G95: =중기목록!F4 -> 0 | P95: 170 | R95: E000006020025000001 | BJ95: =HYPERLINK("#중기사용료목록!A4","E000006020025000001 →") -> E000006020025000001 →
A96: 고소작업차 | B96: 5 ton | C96: 8 | D96: HR | E96: =중기목록!E5 -> 0 | F96: =TRUNC(E96*C96,0) -> 0 | G96: =중기목록!F5 -> 0 | P96: 180 | R96: E00002106000500000 | BJ96: =HYPERLINK("#중기사용료목록!A5","E00002106000500000 →") -> E00002106000500000 →
F97: 0 | P97: 190
A98: 02-05. 폐기물 처리비 | B98: 합산 별도 | C98: 1 | D98: 식 | F98: =TRUNC(F99+F100+F101+F102,0) -> 0 | O98: A02-05
A99: 폐기물 운반(건설폐재류) | B99: 24톤덤프, 30km | C99: 0.31 | D99: Ton | E99: =일위목록!E49 -> 0 | F99: =TRUNC(E99*C99,0) -> 0 | G99: =일위목록!F49 -> 0 | P99: 10 | R99: ZZ71 | T99: T | BJ99: =HYPERLINK("#일위대가목록!A49","ZZ71 →") -> ZZ71 →
A100: 폐기물 운반(혼합건설폐기물) | B100: 24톤암롤, 30km | C100: 1.64 | D100: Ton | E100: =일위목록!E50 -> 0 | F100: =TRUNC(E100*C100,0) -> 0 | G100: =일위목록!F50 -> 0 | P100: 20 | R100: ZZ74 | T100: T | BJ100: =HYPERLINK("#일위대가목록!A50","ZZ74 →") -> ZZ74 →
A101: 폐기물 처리비 | B101: 폐 콘크리트 | C101: 0.31 | D101: Ton | E101: =일위목록!E51 -> 0 | F101: =TRUNC(E101*C101,0) -> 0 | G101: =일위목록!F51 -> 0 | P101: 30 | R101: ZZ81 | T101: T | BJ101: =HYPERLINK("#일위대가목록!A51","ZZ81 →") -> ZZ81 →
A102: 폐기물 처리비 | B102: 혼합건설폐기물(불연+가연) | C102: 1.64 | D102: Ton | E102: =일위목록!E52 -> 0 | F102: =TRUNC(E102*C102,0) -> 0 | G102: =일위목록!F52 -> 0 | P102: 40 | R102: ZZ86 | T102: T | BJ102: =HYPERLINK("#일위대가목록!A52","ZZ86 →") -> ZZ86 →
F103: 0 | P103: 50
A116: 03. 내부공사 | C116: 1 | D116: 식 | F116: =TRUNC(F117+F118,0) -> 0 | O116: A03
A117: 02-01. 1층 내부공사 | C117: 1 | D117: 식 | E117: =F132 -> 0 | F117: =TRUNC(E117*C117,0) -> 0 | G117: =H132 -> 0 | P117: 10 | R117: A03-01 | BJ117: =HYPERLINK("#내역서!A112","A03-01 →") -> A03-01 →
A118: 02-02. 2층 내부공사 | C118: 1 | D118: 식 | E118: =F260 -> 0 | F118: =TRUNC(E118*C118,0) -> 0 | G118: =H260 -> 0 | P118: 20 | R118: A03-02 | BJ118: =HYPERLINK("#내역서!A234","A03-02 →") -> A03-02 →
F119: 0 | P119: 30
A132: 03-01. 1층 내부공사 | C132: 1 | D132: 식 | F132: =TRUNC(F133+F134+F135+F136+F137+F138,0) -> 0 | O132: A03-01
A133: 03-01-01. 공통 가설공사 | C133: 1 | D133: 식 | E133: =F148 -> 0 | F133: =TRUNC(E133*C133,0) -> 0 | G133: =H148 -> 0 | P133: 10 | R133: A03-01-01 | BJ133: =HYPERLINK("#내역서!A121","A03-01-01 →") -> A03-01-01 →
A134: 03-01-02. 철거공사 | C134: 1 | D134: 식 | E134: =F155 -> 0 | F134: =TRUNC(E134*C134,0) -> 0 | G134: =H155 -> 0 | P134: 20 | R134: A03-01-02 | BJ134: =HYPERLINK("#내역서!A128","A03-01-02 →") -> A03-01-02 →
A135: 03-01-03. 인테리어공사 | C135: 1 | D135: 식 | E135: =F164 -> 0 | F135: =TRUNC(E135*C135,0) -> 0 | G135: =H164 -> 0 | P135: 30 | R135: A03-01-03 | BJ135: =HYPERLINK("#내역서!A137","A03-01-03 →") -> A03-01-03 →
A136: 03-01-04. 냉난방 공사 | C136: 1 | D136: 식 | E136: =F201 -> 0 | F136: =TRUNC(E136*C136,0) -> 0 | G136: =H201 -> 0 | P136: 40 | R136: A03-01-04 | BJ136: =HYPERLINK("#내역서!A174","A03-01-04 →") -> A03-01-04 →
A137: 03-01-05. 설비공사 | C137: 1 | D137: 식 | E137: =F210 -> 0 | F137: =TRUNC(E137*C137,0) -> 0 | G137: =H210 -> 0 | P137: 50 | R137: A03-01-05 | BJ137: =HYPERLINK("#내역서!A183","A03-01-05 →") -> A03-01-05 →
A138: 03-01-06. 가구공사 | C138: 1 | D138: 식 | E138: =F239 -> 0 | F138: =TRUNC(E138*C138,0) -> 0 | G138: =H239 -> 0 | P138: 60 | R138: A03-01-06 | BJ138: =HYPERLINK("#내역서!A212","A03-01-06 →") -> A03-01-06 →
A139: 03-01-07. 폐기물 처리비 | B139: 합산 별도 | C139: 1 | D139: 식 | E139: =F255 -> 0 | F139: =TRUNC(E139*C139,0) -> 0 | G139: =H255 -> 0 | P139: 70 | Q139: * | R139: A03-01-07 | BJ139: =HYPERLINK("#내역서!A228","A03-01-07 →") -> A03-01-07 →
F140: 0 | P140: 80
A148: 03-01-01. 공통 가설공사 | C148: 1 | D148: 식 | F148: =TRUNC(F149+F150+F151+F152+F153,0) -> 0 | O148: A03-01-01
A149: 먹매김(일반-학교,공장,사무실등) | B149: 구조부 먹매김 | C149: 118 | D149: M2 | E149: =일위목록!E76 -> 0 | F149: =TRUNC(E149*C149,0) -> 0 | G149: =일위목록!F76 -> 0 | P149: 10 | R149: P4-1-1/4 | T149: T | BJ149: =HYPERLINK("#일위대가목록!A76","P4-1-1/4 →") -> P4-1-1/4 →
A150: 건축물 현장정리 | B150: 리모델링 현장(준공청소제외) | C150: 118 | D150: M2 | E150: =일위목록!E77 -> 0 | F150: =TRUNC(E150*C150,0) -> 0 | G150: =일위목록!F77 -> 0 | P150: 20 | R150: R2-11-2/7 | T150: T | BJ150: =HYPERLINK("#일위대가목록!A77","R2-11-2/7 →") -> R2-11-2/7 →
...

Sheet 4
B4: =갑!D15 -> [ 김제시 죽산면 죽산로126(구 새마을 금고)내·외부공사 ]
J18: 일 위 대 가 목 록

Sheet 일위목록
A1: 일위대가목록
A2: 공 종 명 | B2: 규 격 | C2: 수 량 | D2: 단 위 | E2: 재 료 비 | F2: 노 무 비 | G2: 경 비 | H2: 합 계 | I2: 비 고 | T2: 재료비 | U2: 노무비 | V2: 경 비 | W2: 합 계 | Y2: 비교검토
A3: No.1 보 탄소섬유 보강 | B3: Type1 - G1 300*500 (측면,하부2P All) | C3: 1 | D3: M | E3: =호표!F4 -> 0 | F3: =호표!H4 -> 0 | G3: =호표!J4 -> 0 | H3: =E3+F3+G3 -> 0 | K3: _0001 | L3: T | T3: 234000 | U3: 0 | V3: 0 | W3: 234000 | Y3: =EXACT($H3,$W3) -> FALSE | AA3: =HYPERLINK("#일위대가_호표!A4","_0001 →") -> _0001 →
A4: No.2 보 철판 보강 | B4: Type2 - G2 300*500 (T9.0 측면,하부 All) | C4: 1 | D4: M | E4: =호표!F7 -> 0 | F4: =호표!H7 -> 0 | G4: =호표!J7 -> 0 | H4: =E4+F4+G4 -> 0 | K4: _0002 | L4: T | T4: 350538 | U4: 397174 | V4: 15367 | W4: 763079 | Y4: =EXACT($H4,$W4) -> FALSE | AA4: =HYPERLINK("#일위대가_호표!A7","_0002 →") -> _0002 →
A5: No.3 보 탄소섬유 보강 | B5: Type3 - G1 300*500 (하부2P All) | C5: 1 | D5: M | E5: =호표!F16 -> 0 | F5: =호표!H16 -> 0 | G5: =호표!J16 -> 0 | H5: =E5+F5+G5 -> 0 | K5: _0003 | L5: T | T5: 54000 | U5: 0 | V5: 0 | W5: 54000 | Y5: =EXACT($H5,$W5) -> FALSE | AA5: =HYPERLINK("#일위대가_호표!A16","_0003 →") -> _0003 →
A6: No.4 보 탄소섬유 보강 | B6: Type4 - B1 300*500 (단면복원 및 탄소섬유보강 2P All) | C6: 1 | D6: M | E6: =호표!F19 -> 0 | F6: =호표!H19 -> 0 | G6: =호표!J19 -> 0 | H6: =E6+F6+G6 -> 0 | K6: _0004 | L6: T | T6: 246000 | U6: 22495 | V6: 449 | W6: 268944 | Y6: =EXACT($H6,$W6) -> FALSE | AA6: =HYPERLINK("#일위대가_호표!A19","_0004 →") -> _0004 →
A7: No.5 콘크리트면 바탕정리 | B7: 바닥 연마기 면정리 3.6m이하 | C7: 1 | D7: M2 | E7: =호표!F23 -> 0 | F7: =호표!H23 -> 0 | G7: =호표!J23 -> 0 | H7: =E7+F7+G7 -> 0 | I7: 미장공사9-2-1 | K7: P9-2-1/1 | L7: T | T7: 84 | U7: 2803 | V7: 0 | W7: 2887 | Y7: =EXACT($H7,$W7) -> FALSE | AA7: =HYPERLINK("#일위대가_호표!A23","P9-2-1/1 →") -> P9-2-1/1 →
A8: No.6 강판 구멍뚫기(펀치뚫기) | B8: D21mm 타공 | C8: 1 | D8: 개소 | E8: =호표!F27 -> 0 | F8: =호표!H27 -> 0 | G8: =호표!J27 -> 0 | H8: =E8+F8+G8 -> 0 | I8: 기계설비13-4-2 | K8: S913-4-2/1 | L8: T | T8: 0 | U8: 2041 | V8: 40 | W8: 2081 | Y8: =EXACT($H8,$W8) -> FALSE | AA8: =HYPERLINK("#일위대가_호표!A27","S913-4-2/1 →") -> S913-4-2/1 →
A9: No.7 잡철물 제작 및 설치 | B9: 제품설치/일반철재 | C9: 1 | D9: Ton | E9: =호표!F31 -> 0 | F9: =호표!H31 -> 0 | G9: =호표!J31 -> 0 | H9: =E9+F9+G9 -> 0 | I9: 금속공사8-3-1 | K9: P8-3-1/1 | L9: T | T9: 37830 | U9: 1261013 | V9: 63050 | W9: 1361893 | Y9: =EXACT($H9,$W9) -> FALSE | AA9: =HYPERLINK("#일위대가_호표!A31","P8-3-1/1 →") -> P8-3-1/1 →
A10: No.8 앵커 볼트 설치 | B10: ø16이하 | C10: 1 | D10: 개 | E10: =호표!F39 -> 0 | F10: =호표!H39 -> 0 | G10: =호표!J39 -> 0 | H10: =E10+F10+G10 -> 0 | I10: 철골공사1-2-6 | K10: P1-2-5/1 | L10: T | T10: 0 | U10: 17332 | V10: 346 | W10: 17678 | Y10: =EXACT($H10,$W10) -> FALSE | AA10: =HYPERLINK("#일위대가_호표!A39","P1-2-5/1 →") -> P1-2-5/1 →
A11: No.9 에폭시 충진 | C11: 1 | D11: M | E11: =호표!F44 -> 0 | F11: =호표!H44 -> 0 | G11: =호표!J44 -> 0 | H11: =E11+F11+G11 -> 0 | I11: 유지보수공사1-3-3 | K11: PPU1-3-4 | L11: T | T11: 18000 | U11: 17421 | V11: 522 | W11: 35943 | Y11: =EXACT($H11,$W11) -> FALSE | AA11: =HYPERLINK("#일위대가_호표!A44","PPU1-3-4 →") -> PPU1-3-4 →
A12: No.10 콘크리트 단면복구 | B12: 균열폭 10mm 이하 | C12: 1 | D12: M | E12: =호표!F50 -> 0 | F12: =호표!H50 -> 0 | G12: =호표!J50 -> 0 | H12: =E12+F12+G12 -> 0 | I12: 유지보수공사1-3-2 | K12: PPU1-3-2 | L12: T | T12: 12000 | U12: 22495 | V12: 449 | W12: 34944 | Y12: =EXACT($H12,$W12) -> FALSE | AA12: =HYPERLINK("#일위대가_호표!A50","PPU1-3-2 →") -> PPU1-3-2 →
A13: No.11 교통통제 및 안전처리 | B13: 안전시설물 설치 | C13: 1 | D13: 식 | E13: =호표!F56 -> 0 | F13: =호표!H56 -> 0 | G13: =호표!J56 -> 0 | H13: =E13+F13+G13 -> 0 | I13: 도로포장공사1-1-1 | K13: T1-1-1/1 | L13: T | T13: 0 | U13: 457434 | V13: 0 | W13: 457434 | Y13: =EXACT($H13,$W13) -> FALSE | AA13: =HYPERLINK("#일위대가_호표!A56","T1-1-1/1 →") -> T1-1-1/1 →
A14: No.12 금속 천정판 철거 | B14: 금속 처마 W400 | C14: 1 | D14: M2 | E14: =호표!F59 -> 0 | F14: =호표!H59 -> 0 | G14: =호표!J59 -> 0 | H14: =E14+F14+G14 -> 0 | K14: _0011 | L14: T | T14: 0 | U14: 1822 | V14: 0 | W14: 1822 | Y14: =EXACT($H14,$W14) -> FALSE | AA14: =HYPERLINK("#일위대가_호표!A59","_0011 →") -> _0011 →
A15: No.13 강재창호 철거 | B15: 유리문 2475*3280 | C15: 1 | D15: 개소 | E15: =호표!F62 -> 0 | F15: =호표!H62 -> 0 | G15: =호표!J62 -> 0 | H15: =E15+F15+G15 -> 0 | K15: _0012 | L15: T | T15: 0 | U15: 57196 | V15: 0 | W15: 57196 | Y15: =EXACT($H15,$W15) -> FALSE | AA15: =HYPERLINK("#일위대가_호표!A62","_0012 →") -> _0012 →
A16: No.14 강재창호 철거 | B16: 유리문 920*3280 | C16: 1 | D16: 개소 | E16: =호표!F65 -> 0 | F16: =호표!H65 -> 0 | G16: =호표!J65 -> 0 | H16: =E16+F16+G16 -> 0 | K16: _0013 | L16: T | T16: 0 | U16: 48698 | V16: 0 | W16: 48698 | Y16: =EXACT($H16,$W16) -> FALSE | AA16: =HYPERLINK("#일위대가_호표!A65","_0013 →") -> _0013 →
A17: No.15 화장실 상부창 철거 | B17: 800*400 | C17: 1 | D17: 개소 | E17: =호표!F68 -> 0 | F17: =호표!H68 -> 0 | G17: =호표!J68 -> 0 | H17: =E17+F17+G17 -> 0 | K17: _0014 | L17: T | T17: 0 | U17: 17943 | V17: 0 | W17: 17943 | Y17: =EXACT($H17,$W17) -> FALSE | AA17: =HYPERLINK("#일위대가_호표!A68","_0014 →") -> _0014 →
A18: No.16 알루미늄 창호철거(정면) | B18: 1485*2175 | C18: 1 | D18: 개소 | E18: =호표!F71 -> 0 | F18: =호표!H71 -> 0 | G18: =호표!J71 -> 0 | H18: =E18+F18+G18 -> 0 | K18: _0015 | L18: T | T18: 0 | U18: 34401 | V18: 0 | W18: 34401 | Y18: =EXACT($H18,$W18) -> FALSE | AA18: =HYPERLINK("#일위대가_호표!A71","_0015 →") -> _0015 →
A19: No.17 알루미늄 창호철거(정면) | B19: 3845*2345 | C19: 1 | D19: 개소 | E19: =호표!F74 -> 0 | F19: =호표!H74 -> 0 | G19: =호표!J74 -> 0 | H19: =E19+F19+G19 -> 0 | K19: _0016 | L19: T | T19: 0 | U19: 44186 | V19: 0 | W19: 44186 | Y19: =EXACT($H19,$W19) -> FALSE | AA19: =HYPERLINK("#일위대가_호표!A74","_0016 →") -> _0016 →
A20: No.18 알루미늄 창호철거(좌측면) | B20: 830*920 | C20: 1 | D20: 개소 | E20: =호표!F77 -> 0 | F20: =호표!H77 -> 0 | G20: =호표!J77 -> 0 | H20: =E20+F20+G20 -> 0 | K20: _0017 | L20: T | T20: 0 | U20: 17943 | V20: 0 | W20: 17943 | Y20: =EXACT($H20,$W20) -> FALSE | AA20: =HYPERLINK("#일위대가_호표!A77","_0017 →") -> _0017 →
A21: No.19 알루미늄 창호철거(좌측면) | B21: 900*900 | C21: 1 | D21: 개소 | E21: =호표!F80 -> 0 | F21: =호표!H80 -> 0 | G21: =호표!J80 -> 0 | H21: =E21+F21+G21 -> 0 | K21: _0018 | L21: T | T21: 0 | U21: 17943 | V21: 0 | W21: 17943 | Y21: =EXACT($H21,$W21) -> FALSE | AA21: =HYPERLINK("#일위대가_호표!A80","_0018 →") -> _0018 →
A22: No.20 알루미늄 창호철거(좌측면) | B22: 1200*2490 | C22: 1 | D22: 개소 | E22: =호표!F83 -> 0 | F22: =호표!H83 -> 0 | G22: =호표!J83 -> 0 | H22: =E22+F22+G22 -> 0 | K22: _0019 | L22: T | T22: 0 | U22: 24365 | V22: 0 | W22: 24365 | Y22: =EXACT($H22,$W22) -> FALSE | AA22: =HYPERLINK("#일위대가_호표!A83","_0019 →") -> _0019 →
A23: No.21 알루미늄 창호철거(우측면) | B23: 1495*2470 | C23: 1 | D23: 개소 | E23: =호표!F86 -> 0 | F23: =호표!H86 -> 0 | G23: =호표!J86 -> 0 | H23: =E23+F23+G23 -> 0 | K23: _0020 | L23: T | T23: 0 | U23: 34401 | V23: 0 | W23: 34401 | Y23: =EXACT($H23,$W23) -> FALSE | AA23: =HYPERLINK("#일위대가_호표!A86","_0020 →") -> _0020 →
A24: No.22 알루미늄 창호철거(우측면) | B24: 1395*1395 | C24: 1 | D24: 개소 | E24: =호표!F89 -> 0 | F24: =호표!H89 -> 0 | G24: =호표!J89 -> 0 | H24: =E24+F24+G24 -> 0 | K24: _0021 | L24: T | T24: 0 | U24: 24365 | V24: 0 | W24: 24365 | Y24: =EXACT($H24,$W24) -> FALSE | AA24: =HYPERLINK("#일위대가_호표!A89","_0021 →") -> _0021 →
A25: No.23 벽면 목재철거 | B25: 데크재 철거 | C25: 1 | D25: M2 | E25: =호표!F92 -> 0 | F25: =호표!H92 -> 0 | G25: =호표!J92 -> 0 | H25: =E25+F25+G25 -> 0 | K25: _0022 | L25: T | T25: 0 | U25: 17079 | V25: 0 | W25: 17079 | Y25: =EXACT($H25,$W25) -> FALSE | AA25: =HYPERLINK("#일위대가_호표!A92","_0022 →") -> _0022 →
A26: No.24 목재 구조틀 철거 | B26: 평구조 각관 목재틀 | C26: 1 | D26: Ton | E26: =호표!F95 -> 0 | F26: =호표!H95 -> 0 | G26: =호표!J95 -> 0 | H26: =E26+F26+G26 -> 0 | K26: _0023 | L26: T | T26: 0 | U26: 2106000 | V26: 0 | W26: 2106000 | Y26: =EXACT($H26,$W26) -> FALSE | AA26: =HYPERLINK("#일위대가_호표!A95","_0023 →") -> _0023 →
A27: No.25 타일 철거 | B27: 벽타일 철거 | C27: 1 | D27: M2 | E27: =호표!F98 -> 0 | F27: =호표!H98 -> 0 | G27: =호표!J98 -> 0 | H27: =E27+F27+G27 -> 0 | I27: 유지보수공사12-2-9 | K27: _0024 | L27: T | T27: 0 | U27: 15036 | V27: 902 | W27: 15938 | Y27: =EXACT($H27,$W27) -> FALSE | AA27: =HYPERLINK("#일위대가_호표!A98","_0024 →") -> _0024 →
A28: No.26 조적벽 철거/헐기 | B28: 벽체 | C28: 1 | D28: M3 | E28: =호표!F103 -> 0 | F28: =호표!H103 -> 0 | G28: =호표!J103 -> 0 | H28: =E28+F28+G28 -> 0 | I28: 유지보수공사12-2-4 | K28: _0025 | L28: T | T28: 0 | U28: 147346 | V28: 2946 | W28: 150292 | Y28: =EXACT($H28,$W28) -> FALSE | AA28: =HYPERLINK("#일위대가_호표!A103","_0025 →") -> _0025 →
A29: No.27 폐기물상차(혼합건설폐기물) | B29: 24톤암롤, 30km | C29: 1 | D29: Ton | E29: =호표!F108 -> 0 | F29: =호표!H108 -> 0 | G29: =호표!J108 -> 6420 | H29: =E29+F29+G29 -> 6420 | K29: ZZ64 | L29: T | T29: 0 | U29: 0 | V29: 6420 | W29: 6420 | Y29: =EXACT($H29,$W29) -> TRUE | AA29: =HYPERLINK("#일위대가_호표!A108","ZZ64 →") -> ZZ64 →
A30: No.28 콘크리트 면정리 | B30: 바탕 연마기정리 | C30: 1 | D30: M2 | E30: =호표!F111 -> 0 | F30: =호표!H111 -> 0 | G30: =호표!J111 -> 0 | H30: =E30+F30+G30 -> 0 | I30: 미장공사9-2-1 | K30: _0026 | L30: T | T30: 444 | U30: 2803 | V30: 0 | W30: 3247 | Y30: =EXACT($H30,$W30) -> FALSE | AA30: =HYPERLINK("#일위대가_호표!A111","_0026 →") -> _0026 →
A31: No.29 목재도어 설치 | B31: 방부목 900*2100 | C31: 1 | D31: 개소 | E31: =호표!F116 -> 0 | F31: =호표!H116 -> 0 | G31: =호표!J116 -> 0 | H31: =E31+F31+G31 -> 0 | I31: 창호및유리공사10-1-1 | K31: _0027 | L31: T | T31: 602665 | U31: 88847 | V31: 0 | W31: 691512 | Y31: =EXACT($H31,$W31) -> FALSE | AA31: =HYPERLINK("#일위대가_호표!A116","_0027 →") -> _0027 →
A32: No.30 금속 어닝 설치 | B32: L3845*510*H1030 | C32: 1 | D32: EA | E32: =호표!F122 -> 0 | F32: =호표!H122 -> 0 | G32: =호표!J122 -> 0 | H32: =E32+F32+G32 -> 0 | K32: _0030 | L32: T | T32: 3500000 | U32: 0 | V32: 0 | W32: 3500000 | Y32: =EXACT($H32,$W32) -> FALSE | AA32: =HYPERLINK("#일위대가_호표!A122","_0030 →") -> _0030 →
A33: No.31 시스템 고정창호 | B33: 395*1395 AL, T24 로이투명 | C33: 1 | D33: EA | E33: =호표!F125 -> 0 | F33: =호표!H125 -> 0 | G33: =호표!J125 -> 0 | H33: =E33+F33+G33 -> 0 | I33: WW-01 | K33: _0031 | L33: T | T33: 1269138 | U33: 204916 | V33: 2530 | W33: 1476584 | Y33: =EXACT($H33,$W33) -> FALSE | AA33: =HYPERLINK("#일위대가_호표!A125","_0031 →") -> _0031 →
A34: No.32 시스템 고정창호 | B34: 1495*2490 AL, T24 로이투명 | C34: 1 | D34: EA | E34: =호표!F133 -> 0 | F34: =호표!H133 -> 0 | G34: =호표!J133 -> 0 | H34: =E34+F34+G34 -> 0 | I34: WW-02 | K34: _0032 | L34: T | T34: 1830916 | U34: 289758 | V34: 2530 | W34: 2123204 | Y34: =EXACT($H34,$W34) -> FALSE | AA34: =HYPERLINK("#일위대가_호표!A133","_0032 →") -> _0032 →
A35: No.33 시스템 미서기창호 | B35: 1500*2085 AL, T24 로이투명 | C35: 1 | D35: EA | E35: =호표!F141 -> 0 | F35: =호표!H141 -> 0 | G35: =호표!J141 -> 0 | H35: =E35+F35+G35 -> 0 | I35: WW-03 | K35: _0033 | L35: T | T35: 3220275 | U35: 261446 | V35: 2530 | W35: 3484251 | Y35: =EXACT($H35,$W35) -> FALSE | AA35: =HYPERLINK("#일위대가_호표!A141","_0033 →") -> _0033 →
A36: No.34 시스템 미서기창호 | B36: 1495*2085 AL, T24 로이투명 | C36: 1 | D36: EA | E36: =호표!F149 -> 0 | F36: =호표!H149 -> 0 | G36: =호표!J149 -> 0 | H36: =E36+F36+G36 -> 0 | I36: WW-04 | K36: _0034 | L36: T | T36: 3218960 | U36: 261000 | V36: 2530 | W36: 3482490 | Y36: =EXACT($H36,$W36) -> FALSE | AA36: =HYPERLINK("#일위대가_호표!A149","_0034 →") -> _0034 →
A37: No.35 시스템 미서기창호 | B37: 1485*2085 AL, T24 로이투명 | C37: 1 | D37: EA | E37: =호표!F157 -> 0 | F37: =호표!H157 -> 0 | G37: =호표!J157 -> 0 | H37: =E37+F37+G37 -> 0 | I37: WW-05 | K37: _0035 | L37: T | T37: 3216329 | U37: 260105 | V37: 2530 | W37: 3478964 | Y37: =EXACT($H37,$W37) -> FALSE | AA37: =HYPERLINK("#일위대가_호표!A157","_0035 →") -> _0035 →
A38: No.36 시스템 고정창호 | B38: 1200*2490 AL, T24 로이투명 | C38: 1 | D38: EA | E38: =호표!F165 -> 0 | F38: =호표!H165 -> 0 | G38: =호표!J165 -> 0 | H38: =E38+F38+G38 -> 0 | I38: WW-06 | K38: _0036 | L38: T | T38: 1656943 | U38: 258404 | V38: 2530 | W38: 1917877 | Y38: =EXACT($H38,$W38) -> FALSE | AA38: =HYPERLINK("#일위대가_호표!A165","_0036 →") -> _0036 →
A39: No.37 시스템 여닫이 도어 | B39: 950*2150 AL, T24 로이투명 | C39: 1 | D39: EA | E39: =호표!F173 -> 0 | F39: =호표!H173 -> 0 | G39: =호표!J173 -> 0 | H39: =E39+F39+G39 -> 0 | I39: WD-01 | K39: _0037 | L39: T | T39: 2543614 | U39: 210677 | V39: 1624 | W39: 2755915 | Y39: =EXACT($H39,$W39) -> FALSE | AA39: =HYPERLINK("#일위대가_호표!A173","_0037 →") -> _0037 →
A40: No.38 시스템 슬라이딩 도어 | B40: 1500*1495 AL, T24 로이투명 | C40: 1 | D40: EA | E40: =호표!F181 -> 0 | F40: =호표!H181 -> 0 | G40: =호표!J181 -> 0 | H40: =E40+F40+G40 -> 0 | I40: AW-01 | K40: _0038 | L40: T | T40: 3141706 | U40: 215851 | V40: 1624 | W40: 3359181 | Y40: =EXACT($H40,$W40) -> FALSE | AA40: =HYPERLINK("#일위대가_호표!A181","_0038 →") -> _0038 →
A41: No.39 시스템 고정창호 | B41: 900*890 AL, T24 로이투명 | C41: 1 | D41: EA | E41: =호표!F189 -> 0 | F41: =호표!H189 -> 0 | G41: =호표!J189 -> 0 | H41: =E41+F41+G41 -> 0 | I41: AW-02 | K41: _0039 | L41: T | T41: 366520 | U41: 142546 | V41: 1624 | W41: 510690 | Y41: =EXACT($H41,$W41) -> FALSE | AA41: =HYPERLINK("#일위대가_호표!A189","_0039 →") -> _0039 →
A42: No.40 시스템 고정창호 | B42: 785*390 AL, T24 로이투명 | C42: 1 | D42: EA | E42: =호표!F197 -> 0 | F42: =호표!H197 -> 0 | G42: =호표!J197 -> 0 | H42: =E42+F42+G42 -> 0 | I42: AW-03 | K42: _0040 | L42: T | T42: 241374 | U42: 113832 | V42: 1624 | W42: 356830 | Y42: =EXACT($H42,$W42) -> FALSE | AA42: =HYPERLINK("#일위대가_호표!A197","_0040 →") -> _0040 →
A43: No.41 시스템 프로젝트창호 | B43: 865*925 AL, T24 로이투명 | C43: 1 | D43: EA | E43: =호표!F205 -> 0 | F43: =호표!H205 -> 0 | G43: =호표!J205 -> 0 | H43: =E43+F43+G43 -> 0 | I43: AW-04 | K43: _0041 | L43: T | T43: 956520 | U43: 142546 | V43: 1624 | W43: 1100690 | Y43: =EXACT($H43,$W43) -> FALSE | AA43: =HYPERLINK("#일위대가_호표!A205","_0041 →") -> _0041 →
A44: No.42 시스템 프로젝트창호 | B44: 810*840 AL, T24 로이투명 | C44: 1 | D44: EA | E44: =호표!F213 -> 0 | F44: =호표!H213 -> 0 | G44: =호표!J213 -> 0 | H44: =E44+F44+G44 -> 0 | I44: AW-05 | K44: _0042 | L44: T | T44: 915772 | U44: 135709 | V44: 1624 | W44: 1053105 | Y44: =EXACT($H44,$W44) -> FALSE | AA44: =HYPERLINK("#일위대가_호표!A213","_0042 →") -> _0042 →
A45: No.43 프레임리스 폴딩도어 | B45: 3845*H2330 상부고정창 T24 로이투명 | C45: 1 | D45: EA | E45: =호표!F221 -> 0 | F45: =호표!H221 -> 0 | G45: =호표!J221 -> 0 | H45: =E45+F45+G45 -> 0 | K45: _0043 | L45: T | T45: 2795455 | U45: 2054030 | V45: 54842 | W45: 4904327 | Y45: =EXACT($H45,$W45) -> FALSE | AA45: =HYPERLINK("#일위대가_호표!A221","_0043 →") -> _0043 →
A46: No.44 강화유리문도어 | B46: 2475*H3280 상부고정창 T24로이투명 양개형 | C46: 1 | D46: EA | E46: =호표!F234 -> 0 | F46: =호표!H234 -> 0 | G46: =호표!J234 -> 0 | H46: =E46+F46+G46 -> 0 | K46: _0044 | L46: T | T46: 1205119 | U46: 1372781 | V46: 39829 | W46: 2617729 | Y46: =EXACT($H46,$W46) -> FALSE | AA46: =HYPERLINK("#일위대가_호표!A234","_0044 →") -> _0044 →
A47: No.45 강화유리문도어 | B47: 920*H3280 상부고정창 T24로이투명 편개형 | C47: 1 | D47: EA | E47: =호표!F252 -> 0 | F47: =호표!H252 -> 0 | G47: =호표!J252 -> 0 | H47: =E47+F47+G47 -> 0 | K47: _0045 | L47: T | T47: 530118 | U47: 511499 | V47: 12445 | W47: 1054062 | Y47: =EXACT($H47,$W47) -> FALSE | AA47: =HYPERLINK("#일위대가_호표!A252","_0045 →") -> _0045 →
A48: No.46 외부 여닫이 설치 | B48: 방부목 893*H1345(Var)+시건장치 | C48: 1 | D48: EA | E48: =호표!F265 -> 0 | F48: =호표!H265 -> 0 | G48: =호표!J265 -> 0 | H48: =E48+F48+G48 -> 0 | K48: _0046 | L48: T | T48: 800000 | U48: 88847 | V48: 2665 | W48: 891512 | Y48: =EXACT($H48,$W48) -> FALSE | AA48: =HYPERLINK("#일위대가_호표!A265","_0046 →") -> _0046 →
A49: No.47 폐기물 운반(건설폐재류) | B49: 24톤덤프, 30km | C49: 1 | D49: Ton | E49: =호표!F269 -> 0 | F49: =호표!H269 -> 0 | G49: =호표!J269 -> 16450 | H49: =E49+F49+G49 -> 16450 | K49: ZZ71 | L49: T | T49: 0 | U49: 0 | V49: 16450 | W49: 16450 | Y49: =EXACT($H49,$W49) -> TRUE | AA49: =HYPERLINK("#일위대가_호표!A269","ZZ71 →") -> ZZ71 →
A50: No.48 폐기물 운반(혼합건설폐기물) | B50: 24톤암롤, 30km | C50: 1 | D50: Ton | E50: =호표!F272 -> 0 | F50: =호표!H272 -> 0 | G50: =호표!J272 -> 61880 | H50: =E50+F50+G50 -> 61880 | K50: ZZ74 | L50: T | T50: 0 | U50: 0 | V50: 61880 | W50: 61880 | Y50: =EXACT($H50,$W50) -> TRUE | AA50: =HYPERLINK("#일위대가_호표!A272","ZZ74 →") -> ZZ74 →
A51: No.49 폐기물 처리비 | B51: 폐 콘크리트 | C51: 1 | D51: Ton | E51: =호표!F275 -> 0 | F51: =호표!H275 -> 0 | G51: =호표!J275 -> 31142 | H51: =E51+F51+G51 -> 31142 | K51: ZZ81 | L51: T | T51: 0 | U51: 0 | V51: 31142 | W51: 31142 | Y51: =EXACT($H51,$W51) -> TRUE | AA51: =HYPERLINK("#일위대가_호표!A275","ZZ81 →") -> ZZ81 →
A52: No.50 폐기물 처리비 | B52: 혼합건설폐기물(불연+가연) | C52: 1 | D52: Ton | E52: =호표!F278 -> 0 | F52: =호표!H278 -> 0 | G52: =호표!J278 -> 188715 | H52: =E52+F52+G52 -> 188715 | K52: ZZ86 | L52: T | T52: 0 | U52: 0 | V52: 188715 | W52: 188715 | Y52: =EXACT($H52,$W52) -> TRUE | AA52: =HYPERLINK("#일위대가_호표!A278","ZZ86 →") -> ZZ86 →
A53: No.51 열경화성수지천장판 철거(해체) | B53: 천정 알루미늄판 | C53: 1 | D53: M2 | E53: =호표!F281 -> 0 | F53: =호표!H281 -> 0 | G53: =호표!J281 -> 0 | H53: =E53+F53+G53 -> 0 | I53: 수장공사5-2-2 | K53: P5-2-2/110 | L53: T | T53: 0 | U53: 4557 | V53: 0 | W53: 4557 | Y53: =EXACT($H53,$W53) -> FALSE | AA53: =HYPERLINK("#일위대가_호표!A281","P5-2-2/110 →") -> P5-2-2/110 →
A54: No.52 강재창호 철거(해체) | B54: 6.0~8.0M2이하 | C54: 1 | D54: 개소 | E54: =호표!F286 -> 0 | F54: =호표!H286 -> 0 | G54: =호표!J286 -> 0 | H54: =E54+F54+G54 -> 0 | I54: 창호및유리공사10-1-2 | K54: PP10-1-2/40 | L54: T | T54: 0 | U54: 57196 | V54: 0 | W54: 57196 | Y54: =EXACT($H54,$W54) -> FALSE | AA54: =HYPERLINK("#일위대가_호표!A286","PP10-1-2/40 →") -> PP10-1-2/40 →
A55: No.53 강재창호 철거(해체) | B55: 3.0~6.0M2이하 | C55: 1 | D55: 개소 | E55: =호표!F291 -> 0 | F55: =호표!H291 -> 0 | G55: =호표!J291 -> 0 | H55: =E55+F55+G55 -> 0 | I55: 창호및유리공사10-1-2 | K55: PP10-1-2/30 | L55: T | T55: 0 | U55: 48698 | V55: 0 | W55: 48698 | Y55: =EXACT($H55,$W55) -> FALSE | AA55: =HYPERLINK("#일위대가_호표!A291","PP10-1-2/30 →") -> PP10-1-2/30 →
A56: No.54 알루미늄창호 철거 | B56: 1.0M2이하 | C56: 1 | D56: 개소 | E56: =호표!F296 -> 0 | F56: =호표!H296 -> 0 | G56: =호표!J296 -> 0 | H56: =E56+F56+G56 -> 0 | I56: 창호및유리공사10-1-3 | K56: PP10-1-3/10 | L56: T | T56: 0 | U56: 17943 | V56: 0 | W56: 17943 | Y56: =EXACT($H56,$W56) -> FALSE | AA56: =HYPERLINK("#일위대가_호표!A296","PP10-1-3/10 →") -> PP10-1-3/10 →
A57: No.55 알루미늄창호 철거 | B57: 3.0~6.0M2이하 | C57: 1 | D57: 개소 | E57: =호표!F301 -> 0 | F57: =호표!H301 -> 0 | G57: =호표!J301 -> 0 | H57: =E57+F57+G57 -> 0 | I57: 창호및유리공사10-1-3 | K57: PP10-1-3/30 | L57: T | T57: 0 | U57: 34401 | V57: 0 | W57: 34401 | Y57: =EXACT($H57,$W57) -> FALSE | AA57: =HYPERLINK("#일위대가_호표!A301","PP10-1-3/30 →") -> PP10-1-3/30 →
A58: No.56 알루미늄창호 철거 | B58: 9.0~12M2이하 | C58: 1 | D58: 개소 | E58: =호표!F306 -> 0 | F58: =호표!H306 -> 0 | G58: =호표!J306 -> 0 | H58: =E58+F58+G58 -> 0 | I58: 창호및유리공사10-1-3 | K58: PP10-1-3/50 | L58: T | T58: 0 | U58: 44186 | V58: 0 | W58: 44186 | Y58: =EXACT($H58,$W58) -> FALSE | AA58: =HYPERLINK("#일위대가_호표!A306","PP10-1-3/50 →") -> PP10-1-3/50 →
A59: No.57 알루미늄창호 철거 | B59: 1.0~3.0M2이하 | C59: 1 | D59: 개소 | E59: =호표!F311 -> 0 | F59: =호표!H311 -> 0 | G59: =호표!J311 -> 0 | H59: =E59+F59+G59 -> 0 | I59: 창호및유리공사10-1-3 | K59: PP10-1-3/20 | L59: T | T59: 0 | U59: 24365 | V59: 0 | W59: 24365 | Y59: =EXACT($H59,$W59) -> FALSE | AA59: =HYPERLINK("#일위대가_호표!A311","PP10-1-3/20 →") -> PP10-1-3/20 →
A60: No.58 목재데크 철거 | B60: 데크재 | C60: 1 | D60: M2 | E60: =호표!F316 -> 0 | F60: =호표!H316 -> 0 | G60: =호표!J316 -> 0 | H60: =E60+F60+G60 -> 0 | I60: 목공사4-3-3 | K60: P4-3-3/0 | L60: T | T60: 0 | U60: 17079 | V60: 0 | W60: 17079 | Y60: =EXACT($H60,$W60) -> FALSE | AA60: =HYPERLINK("#일위대가_호표!A316","P4-3-3/0 →") -> P4-3-3/0 →
A61: No.59 잡철물 철거 | B61: 경량철재 | C61: 1 | D61: Kg | E61: =호표!F321 -> 0 | F61: =호표!H321 -> 0 | G61: =호표!J321 -> 0 | H61: =E61+F61+G61 -> 0 | I61: 금속공사8-3-1 | K61: R2-11-29 | L61: T | T61: 0 | U61: 2106 | V61: 0 | W61: 2106 | Y61: =EXACT($H61,$W61) -> FALSE | AA61: =HYPERLINK("#일위대가_호표!A321","R2-11-29 →") -> R2-11-29 →
A62: No.60 창호유리 설치 | B62: 복층유리 24mm이하 | C62: 1 | D62: M2 | E62: =호표!F328 -> 0 | F62: =호표!H328 -> 0 | G62: =호표!J328 -> 0 | H62: =E62+F62+G62 -> 0 | I62: 창호및유리공사10-3-1 | K62: PP10-3-1/9 | L62: T | T62: 0 | U62: 35519 | V62: 0 | W62: 35519 | Y62: =EXACT($H62,$W62) -> FALSE | AA62: =HYPERLINK("#일위대가_호표!A328","PP10-3-1/9 →") -> PP10-3-1/9 →
A63: No.61 목재창호 설치 | B63: 미서기/1.0~3.0M2이하 | C63: 1 | D63: 개소 | E63: =호표!F332 -> 0 | F63: =호표!H332 -> 0 | G63: =호표!J332 -> 0 | H63: =E63+F63+G63 -> 0 | I63: 창호및유리공사10-1-1 | K63: PP10-1-1/6 | L63: T | T63: 0 | U63: 84352 | V63: 2530 | W63: 86882 | Y63: =EXACT($H63,$W63) -> FALSE | AA63: =HYPERLINK("#일위대가_호표!A332","PP10-1-1/6 →") -> PP10-1-1/6 →
A64: No.62 유리주위 코킹 | B64: 패널 수밀코킹 | C64: 1 | D64: M | E64: =호표!F337 -> 0 | F64: =호표!H337 -> 0 | G64: =호표!J337 -> 0 | H64: =E64+F64+G64 -> 0 | I64: 창호및유리공사10-4-3 | K64: PP10-4-3/1 | L64: T | T64: 400 | U64: 0 | V64: 0 | W64: 400 | Y64: =EXACT($H64,$W64) -> FALSE | AA64: =HYPERLINK("#일위대가_호표!A337","PP10-4-3/1 →") -> PP10-4-3/1 →
A65: No.63 창호주위 모르타르 충전 | C65: 1 | D65: M | E65: =호표!F340 -> 0 | F65: =호표!H340 -> 0 | G65: =호표!J340 -> 0 | H65: =E65+F65+G65 -> 0 | I65: 미장공사9-3-1 | K65: P9-3-1/1 | L65: T | T65: 6857 | U65: 4597 | V65: 0 | W65: 11454 | Y65: =EXACT($H65,$W65) -> FALSE | AA65: =HYPERLINK("#일위대가_호표!A340","P9-3-1/1 →") -> P9-3-1/1 →
A66: No.64 알루미늄창호 설치 | B66: 1.0~3.0M2이하 | C66: 1 | D66: 개소 | E66: =호표!F346 -> 0 | F66: =호표!H346 -> 0 | G66: =호표!J346 -> 0 | H66: =E66+F66+G66 -> 0 | I66: 창호및유리공사10-1-3 | K66: PP10-1-3/2 | L66: T | T66: 0 | U66: 81217 | V66: 1624 | W66: 82841 | Y66: =EXACT($H66,$W66) -> FALSE | AA66: =HYPERLINK("#일위대가_호표!A346","PP10-1-3/2 →") -> PP10-1-3/2 →
A67: No.65 잡철물 제작 및 설치 | B67: 현장제작 설치/경량철재 | C67: 1 | D67: Ton | E67: =호표!F351 -> 0 | F67: =호표!H351 -> 0 | G67: =호표!J351 -> 0 | H67: =E67+F67+G67 -> 0 | I67: 금속공사8-3-1 | K67: P8-3-1/6 | L67: T | T67: 140497 | U67: 7024855 | V67: 280994 | W67: 7446346 | Y67: =EXACT($H67,$W67) -> FALSE | AA67: =HYPERLINK("#일위대가_호표!A351","P8-3-1/6 →") -> P8-3-1/6 →
A68: No.66 강관 도색-유성페인트칠 | B68: D50mm 이하 | C68: 1 | D68: M | E68: =호표!F359 -> 0 | F68: =호표!H359 -> 0 | G68: =호표!J359 -> 0 | H68: =E68+F68+G68 -> 0 | I68: 기계설비9-2-3 | K68: S9-2-3/0 | L68: T | T68: 2652 | U68: 2317 | V68: 46 | W68: 5015 | Y68: =EXACT($H68,$W68) -> FALSE | AA68: =HYPERLINK("#일위대가_호표!A359","S9-2-3/0 →") -> S9-2-3/0 →
A69: No.67 강재창호 설치 | B69: 6.0~8.0M2이하 | C69: 1 | D69: 개소 | E69: =호표!F365 -> 0 | F69: =호표!H365 -> 0 | G69: =호표!J365 -> 0 | H69: =E69+F69+G69 -> 0 | I69: 창호및유리공사10-1-2 | K69: PP10-1-2/4 | L69: T | T69: 0 | U69: 190656 | V69: 5719 | W69: 196375 | Y69: =EXACT($H69,$W69) -> FALSE | AA69: =HYPERLINK("#일위대가_호표!A365","PP10-1-2/4 →") -> PP10-1-2/4 →
A70: No.68 강재창호 설치 | B70: 1.0M2이하 | C70: 1 | D70: 개소 | E70: =호표!F370 -> 0 | F70: =호표!H370 -> 0 | G70: =호표!J370 -> 0 | H70: =E70+F70+G70 -> 0 | I70: 창호및유리공사10-1-2 | K70: PP10-1-2/1 | L70: T | T70: 0 | U70: 113911 | V70: 3417 | W70: 117328 | Y70: =EXACT($H70,$W70) -> FALSE | AA70: =HYPERLINK("#일위대가_호표!A370","PP10-1-2/1 →") -> PP10-1-2/1 →
A71: No.69 도장면 바탕만들기 | B71: 철재면 | C71: 1 | D71: M2 | E71: =호표!F375 -> 0 | F71: =호표!H375 -> 0 | G71: =호표!J375 -> 0 | H71: =E71+F71+G71 -> 0 | I71: 칠공사11-1-3 | K71: PP11-1-3/1 | L71: T | T71: 360 | U71: 1781 | V71: 53 | W71: 2194 | Y71: =EXACT($H71,$W71) -> FALSE | AA71: =HYPERLINK("#일위대가_호표!A375","PP11-1-3/1 →") -> PP11-1-3/1 →
A72: No.70 유성페인트 칠 | B72: 철재면 3회칠 | C72: 1 | D72: M2 | E72: =호표!F381 -> 0 | F72: =호표!H381 -> 0 | G72: =호표!J381 -> 0 | H72: =E72+F72+G72 -> 0 | I72: 칠공사11-2-4 | K72: PP11-2-4/100 | L72: T | T72: 3978 | U72: 18165 | V72: 363 | W72: 22506 | Y72: =EXACT($H72,$W72) -> FALSE | AA72: =HYPERLINK("#일위대가_호표!A381","PP11-2-4/100 →") -> PP11-2-4/100 →
A73: No.71 도어록 설치 | B73: 일반도어록/강재창호 | C73: 1 | D73: 개소 | E73: =호표!F387 -> 0 | F73: =호표!H387 -> 0 | G73: =호표!J387 -> 0 | H73: =E73+F73+G73 -> 0 | I73: 창호및유리공사10-2-3 | K73: PP10-2-3/2 | L73: T | T73: 0 | U73: 5965 | V73: 119 | W73: 6084 | Y73: =EXACT($H73,$W73) -> FALSE | AA73: =HYPERLINK("#일위대가_호표!A387","PP10-2-3/2 →") -> PP10-2-3/2 →
A74: No.72 플로어힌지 설치 | C74: 1 | D74: 개소 | E74: =호표!F391 -> 0 | F74: =호표!H391 -> 0 | G74: =호표!J391 -> 0 | H74: =E74+F74+G74 -> 0 | I74: 창호및유리공사10-2-2 | K74: PP10-2-2/1 | L74: T | T74: 0 | U74: 32149 | V74: 642 | W74: 32791 | Y74: =EXACT($H74,$W74) -> FALSE | AA74: =HYPERLINK("#일위대가_호표!A391","PP10-2-2/1 →") -> PP10-2-2/1 →
A75: No.73 목재창호 설치 | B75: 여닫이/1.0~3.0M2이하 | C75: 1 | D75: 개소 | E75: =호표!F396 -> 0 | F75: =호표!H396 -> 0 | G75: =호표!J396 -> 0 | H75: =E75+F75+G75 -> 0 | I75: 창호및유리공사10-1-1 | K75: PP10-1-1/2 | L75: T | T75: 0 | U75: 88847 | V75: 2665 | W75: 91512 | Y75: =EXACT($H75,$W75) -> FALSE | AA75: =HYPERLINK("#일위대가_호표!A396","PP10-1-1/2 →") -> PP10-1-1/2 →
A76: No.74 먹매김(일반-학교,공장,사무실등) | B76: 구조부 먹매김 | C76: 1 | D76: M2 | E76: =호표!F401 -> 0 | F76: =호표!H401 -> 0 | G76: =호표!J401 -> 0 | H76: =E76+F76+G76 -> 0 | I76: 목공사4-1-1 | K76: P4-1-1/4 | L76: T | T76: 0 | U76: 1414 | V76: 0 | W76: 1414 | Y76: =EXACT($H76,$W76) -> FALSE | AA76: =HYPERLINK("#일위대가_호표!A401","P4-1-1/4 →") -> P4-1-1/4 →
A77: No.75 건축물 현장정리 | B77: 리모델링 현장(준공청소제외) | C77: 1 | D77: M2 | E77: =호표!F404 -> 0 | F77: =호표!H404 -> 0 | G77: =호표!J404 -> 0 | H77: =E77+F77+G77 -> 0 | I77: 서울형 품셈 | K77: R2-11-2/7 | L77: T | T77: 0 | U77: 6907 | V77: 0 | W77: 6907 | Y77: =EXACT($H77,$W77) -> FALSE | AA77: =HYPERLINK("#일위대가_호표!A404","R2-11-2/7 →") -> R2-11-2/7 →
A78: No.76 건축물 보양 | B78: 비닐 깔기 | C78: 1 | D78: M2 | E78: =호표!F407 -> 0 | F78: =호표!H407 -> 0 | G78: =호표!J407 -> 0 | H78: =E78+F78+G78 -> 0 | I78: 가설2-11-1 | K78: R2-11-1/0 | L78: T | T78: 740 | U78: 518 | V78: 0 | W78: 1258 | Y78: =EXACT($H78,$W78) -> FALSE | AA78: =HYPERLINK("#일위대가_호표!A407","R2-11-1/0 →") -> R2-11-1/0 →
A79: No.77 준공청소 | B79: 오염제거,준공청소, 뒷정리 | C79: 1 | D79: M2 | E79: =호표!F411 -> 0 | F79: =호표!H411 -> 0 | G79: =호표!J411 -> 0 | H79: =E79+F79+G79 -> 0 | I79: 공통2-11-3 | K79: R2-11-3/1 | L79: T | T79: 0 | U79: 3453 | V79: 0 | W79: 3453 | Y79: =EXACT($H79,$W79) -> FALSE | AA79: =HYPERLINK("#일위대가_호표!A411","R2-11-3/1 →") -> R2-11-3/1 →
A80: No.78 강관 조립말비계(이동식)설치 및 해체 | B80: 높이2미터(3개월이내) | C80: 1 | D80: 대 | E80: =호표!F414 -> 0 | F80: =호표!H414 -> 0 | G80: =호표!J414 -> 0 | H80: =E80+F80+G80 -> 0 | I80: 가설2-7-4 | K80: R2-11-23 | L80: T | T80: 27900 | U80: 95287 | V80: 0 | W80: 123187 | Y80: =EXACT($H80,$W80) -> FALSE | AA80: =HYPERLINK("#일위대가_호표!A414","R2-11-23 →") -> R2-11-23 →
A81: No.79 콘크리트 절단 | B81: 콘크리트 | C81: 1 | D81: M | E81: =호표!F425 -> 0 | F81: =호표!H425 -> 0 | G81: =호표!J425 -> 0 | H81: =E81+F81+G81 -> 0 | I81: 서울형품셈 토목-39 | K81: SE0039-4 | L81: T | T81: 472 | U81: 2952 | V81: 91 | W81: 3515 | Y81: =EXACT($H81,$W81) -> FALSE | AA81: =HYPERLINK("#일위대가_호표!A425","SE0039-4 →") -> SE0039-4 →
A82: No.80 콘크리트구조물 헐기/깨기(인력) | B82: 철근콘크리트 | C82: 1 | D82: M3 | E82: =호표!F433 -> 0 | F82: =호표!H433 -> 0 | G82: =호표!J433 -> 0 | H82: =E82+F82+G82 -> 0 | I82: 유지보수공사3-1-1 | K82: PP12-1-1-2 | L82: T | T82: 2693 | U82: 269347 | V82: 2386 | W82: 274426 | Y82: =EXACT($H82,$W82) -> FALSE | AA82: =HYPERLINK("#일위대가_호표!A433","PP12-1-1-2 →") -> PP12-1-1-2 →
A83: No.81 석고판 철거 | B83: 벽체 | C83: 1 | D83: M2 | E83: =호표!F439 -> 0 | F83: =호표!H439 -> 0 | G83: =호표!J439 -> 0 | H83: =E83+F83+G83 -> 0 | I83: 유지보수공사12-2-6 | K83: PP12-2-6/1 | L83: T | T83: 0 | U83: 5350 | V83: 107 | W83: 5457 | Y83: =EXACT($H83,$W83) -> FALSE | AA83: =HYPERLINK("#일위대가_호표!A439","PP12-2-6/1 →") -> PP12-2-6/1 →
A84: No.82 경량벽체철골틀 철거 | C84: 1 | D84: M2 | E84: =호표!F444 -> 0 | F84: =호표!H444 -> 0 | G84: =호표!J444 -> 0 | H84: =E84+F84+G84 -> 0 | I84: 유지보수공사12-2-5 | K84: PP12-2-5/1 | L84: T | T84: 0 | U84: 6041 | V84: 120 | W84: 6161 | Y84: =EXACT($H84,$W84) -> FALSE | AA84: =HYPERLINK("#일위대가_호표!A444","PP12-2-5/1 →") -> PP12-2-5/1 →
A85: No.83 내부집기 등 기타 철거 | B85: 철거공 품 적용 | C85: 1 | D85: 인 | E85: =호표!F449 -> 0 | F85: =호표!H449 -> 0 | G85: =호표!J449 -> 0 | H85: =E85+F85+G85 -> 0 | K85: R2-11-26 | L85: T | T85: 0 | U85: 261108 | V85: 0 | W85: 261108 | Y85: =EXACT($H85,$W85) -> FALSE | AA85: =HYPERLINK("#일위대가_호표!A449","R2-11-26 →") -> R2-11-26 →
A86: No.84 내부집기 등 기타 철거 | B86: 보통인부 품 적용 | C86: 1 | D86: 인 | E86: =호표!F452 -> 0 | F86: =호표!H452 -> 0 | G86: =호표!J452 -> 0 | H86: =E86+F86+G86 -> 0 | K86: R2-11-25 | L86: T | T86: 0 | U86: 172698 | V86: 0 | W86: 172698 | Y86: =EXACT($H86,$W86) -> FALSE | AA86: =HYPERLINK("#일위대가_호표!A452","R2-11-25 →") -> R2-11-25 →
A87: No.85 재도장시 바탕처리 | B87: 콘크리트,모르타르면 | C87: 1 | D87: M2 | E87: =호표!F455 -> 0 | F87: =호표!H455 -> 0 | G87: =호표!J455 -> 0 | H87: =E87+F87+G87 -> 0 | I87: 유지보수공사12-3-1 | K87: PP12-3-1/1 | L87: T | T87: 0 | U87: 3075 | V87: 92 | W87: 3167 | Y87: =EXACT($H87,$W87) -> FALSE | AA87: =HYPERLINK("#일위대가_호표!A455","PP12-3-1/1 →") -> PP12-3-1/1 →
A88: No.86 지정색 스터코 칠 | B88: 벽, 무늬코트 칠 | C88: 1 | D88: M2 | E88: =호표!F460 -> 0 | F88: =호표!H460 -> 0 | G88: =호표!J460 -> 0 | H88: =E88+F88+G88 -> 0 | I88: 칠공사11-3-1 | K88: PP11-3-1/1 | L88: T | T88: 11500 | U88: 16919 | V88: 338 | W88: 28757 | Y88: =EXACT($H88,$W88) -> FALSE | AA88: =HYPERLINK("#일위대가_호표!A460","PP11-3-1/1 →") -> PP11-3-1/1 →
A89: No.87 비닐 페인트 칠 | B89: 벽면, 2회칠,롤러칠 | C89: 1 | D89: M2 | E89: =호표!F466 -> 0 | F89: =호표!H466 -> 0 | G89: =호표!J466 -> 0 | H89: =E89+F89+G89 -> 0 | I89: 칠공사11-2-2 | K89: PP11-2-2/1 | L89: T | T89: 1660 | U89: 7127 | V89: 142 | W89: 8929 | Y89: =EXACT($H89,$W89) -> FALSE | AA89: =HYPERLINK("#일위대가_호표!A466","PP11-2-2/1 →") -> PP11-2-2/1 →
A90: No.88 무광 투명 코팅 칠 | B90: 벽2회,메페플로어 | C90: 1 | D90: M2 | E90: =호표!F472 -> 0 | F90: =호표!H472 -> 0 | G90: =호표!J472 -> 0 | H90: =E90+F90+G90 -> 0 | I90: 칠공사11-2-8 | K90: PP11-2-8/1 | L90: T | T90: 5120 | U90: 11841 | V90: 236 | W90: 17197 | Y90: =EXACT($H90,$W90) -> FALSE | AA90: =HYPERLINK("#일위대가_호표!A472","PP11-2-8/1 →") -> PP11-2-8/1 →
A91: No.89 벽 타일붙임 | B91: 45*195 버건디 TL-01 | C91: 1 | D91: M2 | E91: =호표!F479 -> 0 | F91: =호표!H479 -> 0 | G91: =호표!J479 -> 0 | H91: =E91+F91+G91 -> 0 | K91: _0051 | L91: T | T91: 36007 | U91: 79526 | V91: 2079 | W91: 117612 | Y91: =EXACT($H91,$W91) -> FALSE | AA91: =HYPERLINK("#일위대가_호표!A479","_0051 →") -> _0051 →
A92: No.90 벽 타일붙임 | B92: 100*100 옐로우 TL-02 | C92: 1 | D92: M2 | E92: =호표!F485 -> 0 | F92: =호표!H485 -> 0 | G92: =호표!J485 -> 0 | H92: =E92+F92+G92 -> 0 | K92: _0052 | L92: T | T92: 36007 | U92: 79526 | V92: 2079 | W92: 117612 | Y92: =EXACT($H92,$W92) -> FALSE | AA92: =HYPERLINK("#일위대가_호표!A485","_0052 →") -> _0052 →
A93: No.91 커튼박스 설치 | B93: 지정 커튼박스 | C93: 1 | D93: M | E93: =호표!F491 -> 0 | F93: =호표!H491 -> 0 | G93: =호표!J491 -> 0 | H93: =E93+F93+G93 -> 0 | I93: 목공사4-2-5 | K93: P4-2-5/1 | L93: T | T93: 80000 | U93: 11160 | V93: 223 | W93: 91383 | Y93: =EXACT($H93,$W93) -> FALSE | AA93: =HYPERLINK("#일위대가_호표!A491","P4-2-5/1 →") -> P4-2-5/1 →
A94: No.92 미닫이 도어 | B94: 820*H2070 ABS 필름 | C94: 1 | D94: EA | E94: =호표!F497 -> 0 | F94: =호표!H497 -> 0 | G94: =호표!J497 -> 0 | H94: =E94+F94+G94 -> 0 | K94: _0061 | L94: T | T94: 544400 | U94: 96551 | V94: 2973 | W94: 643924 | Y94: =EXACT($H94,$W94) -> FALSE | AA94: =HYPERLINK("#일위대가_호표!A497","_0061 →") -> _0061 →
A95: No.93 여닫이 도어 | B95: 690*H1795 ABS 필름 | C95: 1 | D95: EA | E95: =호표!F504 -> 0 | F95: =호표!H504 -> 0 | G95: =호표!J504 -> 0 | H95: =E95+F95+G95 -> 0 | K95: _0062 | L95: T | T95: 729400 | U95: 96551 | V95: 2973 | W95: 828924 | Y95: =EXACT($H95,$W95) -> FALSE | AA95: =HYPERLINK("#일위대가_호표!A504","_0062 →") -> _0062 →
A96: No.94 여닫이 도어 | B96: 695*H1795 ABS 필름 | C96: 1 | D96: EA | E96: =호표!F511 -> 0 | F96: =호표!H511 -> 0 | G96: =호표!J511 -> 0 | H96: =E96+F96+G96 -> 0 | K96: _0063 | L96: T | T96: 549400 | U96: 96551 | V96: 2973 | W96: 648924 | Y96: =EXACT($H96,$W96) -> FALSE | AA96: =HYPERLINK("#일위대가_호표!A511","_0063 →") -> _0063 →
A97: No.95 여닫이 도어 | B97: 700*H1420 ABS 필름 | C97: 1 | D97: EA | E97: =호표!F518 -> 0 | F97: =호표!H518 -> 0 | G97: =호표!J518 -> 0 | H97: =E97+F97+G97 -> 0 | K97: _0064 | L97: T | T97: 599400 | U97: 96551 | V97: 2973 | W97: 698924 | Y97: =EXACT($H97,$W97) -> FALSE | AA97: =HYPERLINK("#일위대가_호표!A518","_0064 →") -> _0064 →
A98: No.96 벽체 보강 | B98: 1500*H2000 | C98: 1 | D98: 개소 | E98: =호표!F525 -> 0 | F98: =호표!H525 -> 0 | G98: =호표!J525 -> 0 | H98: =E98+F98+G98 -> 0 | K98: _0071 | L98: T | T98: 59322 | U98: 245869 | V98: 9834 | W98: 315025 | Y98: =EXACT($H98,$W98) -> FALSE | AA98: =HYPERLINK("#일위대가_호표!A525","_0071 →") -> _0071 →
A99: No.97 벽체 보강 | B99: 6375*H535 | C99: 1 | D99: 개소 | E99: =호표!F529 -> 0 | F99: =호표!H529 -> 0 | G99: =호표!J529 -> 0 | H99: =E99+F99+G99 -> 0 | K99: _0072 | L99: T | T99: 67479 | U99: 280994 | V99: 11239 | W99: 359712 | Y99: =EXACT($H99,$W99) -> FALSE | AA99: =HYPERLINK("#일위대가_호표!A529","_0072 →") -> _0072 →
A100: No.98 벽체 보강 | B100: 1190*H2300 | C100: 1 | D100: 개소 | E100: =호표!F533 -> 0 | F100: =호표!H533 -> 0 | G100: =호표!J533 -> 0 | H100: =E100+F100+G100 -> 0 | K100: _0073 | L100: T | T100: 54144 | U100: 224795 | V100: 8991 | W100: 287930 | Y100: =EXACT($H100,$W100) -> FALSE | AA100: =HYPERLINK("#일위대가_호표!A533","_0073 →") -> _0073 →
...

Sheet 5
B4: =갑!D15 -> [ 김제시 죽산면 죽산로126(구 새마을 금고)내·외부공사 ]
J18: 일 위 대 가 호 표

Sheet 호표
A1: 일위대가_호표
A2: 공 종 명 | B2: 규 격 | C2: 수량 | D2: 단위 | E2: 재 료 비 | G2: 노 무 비 | I2: 경 비 | K2: 합 계 | M2: 비 고
E3: 단 가 | F3: 금 액 | G3: 단 가 | H3: 금 액 | I3: 단 가 | J3: 금 액 | K3: 단 가 | L3: 금 액 | S3: 할 증 | T3: 화폐변환 | U3: OP값 | V3: EQ | W3: LA | X3: MA | Y3: 금액계상
A4: No.1 보 탄소섬유 보강 | B4: Type1 - G1 300*500 (측면,하부2P All) | C4: 1 | D4: M | F4: =TRUNC(F5,0) -> 0 | H4: =TRUNC(H5,0) -> 0 | J4: =TRUNC(J5,0) -> 0 | L4: =F4+H4+J4 -> 0 | O4: _0001
A5: 탄소섬유 시트 보강 | B5: 탄소섬유시트 300g | C5: 2.6 | D5: M2 | E5: =자재조서!E62 -> 0 | F5: =TRUNC(E5*C5,0) -> 0 | G5: 0 | I5: 0 | K5: =E5+G5+I5 -> 0 | L5: =F5+H5+J5 -> 0 | P5: 10 | R5: MZZ2000004 | BI5: =HYPERLINK("#자재조서!A62","MZZ2000004 →") -> MZZ2000004 →
A7: No.2 보 철판 보강 | B7: Type2 - G2 300*500 (T9.0 측면,하부 All) | C7: 1 | D7: M | F7: =TRUNC(F8+F9+F10+F11+F12+F13+F14,0) -> 0 | H7: =TRUNC(H8+H9+H10+H11+H12+H13+H14,0) -> 0 | J7: =TRUNC(J8+J9+J10+J11+J12+J13+J14,0) -> 0 | L7: =F7+H7+J7 -> 0 | O7: _0002
A8: 콘크리트면 바탕정리 | B8: 바닥 연마기 면정리 3.6m이하 | C8: 1.3 | D8: M2 | E8: =일위목록!E7 -> 0 | F8: =TRUNC(E8*C8,0) -> 0 | G8: =일위목록!F7 -> 0 | H8: =TRUNC(G8*C8,0) -> 0 | I8: =일위목록!G7 -> 0 | J8: =TRUNC(I8*C8,0) -> 0 | K8: =E8+G8+I8 -> 0 | L8: =F8+H8+J8 -> 0 | M8: 미장공사9-2-1 | P8: 10 | R8: P9-2-1/1 | T8: T | BI8: =HYPERLINK("#일위대가목록!A7","P9-2-1/1 →") -> P9-2-1/1 →
A9: 열연후판 | B9: 8.0 ＜T≤ 9.0 2438x6096mm SS275 | C9: 0.2 | D9: M/T | E9: =자재조서!E4 -> 0 | F9: =TRUNC(E9*C9,0) -> 0 | G9: 0 | I9: 0 | K9: =E9+G9+I9 -> 0 | L9: =F9+H9+J9 -> 0 | P9: 20 | R9: M0063057 | BI9: =HYPERLINK("#자재조서!A4","M0063057 →") -> M0063057 →
A10: 강판 구멍뚫기(펀치뚫기) | B10: D21mm 타공 | C10: 5 | D10: 개소 | E10: =일위목록!E8 -> 0 | F10: =TRUNC(E10*C10,0) -> 0 | G10: =일위목록!F8 -> 0 | H10: =TRUNC(G10*C10,0) -> 0 | I10: =일위목록!G8 -> 0 | J10: =TRUNC(I10*C10,0) -> 0 | K10: =E10+G10+I10 -> 0 | L10: =F10+H10+J10 -> 0 | M10: 기계설비13-4-2 | P10: 30 | R10: S913-4-2/1 | T10: T | BI10: =HYPERLINK("#일위대가목록!A8","S913-4-2/1 →") -> S913-4-2/1 →
A11: 잡철물 제작 및 설치 | B11: 제품설치/일반철재 | C11: 0.18 | D11: Ton | E11: =일위목록!E9 -> 0 | F11: =TRUNC(E11*C11,0) -> 0 | G11: =일위목록!F9 -> 0 | H11: =TRUNC(G11*C11,0) -> 0 | I11: =일위목록!G9 -> 0 | J11: =TRUNC(I11*C11,0) -> 0 | K11: =E11+G11+I11 -> 0 | L11: =F11+H11+J11 -> 0 | M11: 금속공사8-3-1 | P11: 40 | R11: P8-3-1/1 | T11: T | BI11: =HYPERLINK("#일위대가목록!A9","P8-3-1/1 →") -> P8-3-1/1 →
A12: 앵커볼트 | B12: HSA-M16×137 | C12: 5 | D12: EA | E12: =자재조서!E41 -> 0 | F12: =TRUNC(E12*C12,0) -> 0 | G12: 0 | I12: 0 | K12: =E12+G12+I12 -> 0 | L12: =F12+H12+J12 -> 0 | P12: 60 | R12: MZZ1002683 | BI12: =HYPERLINK("#자재조서!A41","MZZ1002683 →") -> MZZ1002683 →
A13: 앵커 볼트 설치 | B13: ø16이하 | C13: 5 | D13: 개 | E13: =일위목록!E10 -> 0 | F13: =TRUNC(E13*C13,0) -> 0 | G13: =일위목록!F10 -> 0 | H13: =TRUNC(G13*C13,0) -> 0 | I13: =일위목록!G10 -> 0 | J13: =TRUNC(I13*C13,0) -> 0 | K13: =E13+G13+I13 -> 0 | L13: =F13+H13+J13 -> 0 | M13: 철골공사1-2-6 | P13: 70 | R13: P1-2-5/1 | T13: T | BI13: =HYPERLINK("#일위대가목록!A10","P1-2-5/1 →") -> P1-2-5/1 →
A14: 에폭시 충진 | C14: 4 | D14: M | E14: =일위목록!E11 -> 0 | F14: =TRUNC(E14*C14,0) -> 0 | G14: =일위목록!F11 -> 0 | H14: =TRUNC(G14*C14,0) -> 0 | I14: =일위목록!G11 -> 0 | J14: =TRUNC(I14*C14,0) -> 0 | K14: =E14+G14+I14 -> 0 | L14: =F14+H14+J14 -> 0 | M14: 유지보수공사1-3-3 | P14: 80 | R14: PPU1-3-4 | T14: T | BI14: =HYPERLINK("#일위대가목록!A11","PPU1-3-4 →") -> PPU1-3-4 →
A16: No.3 보 탄소섬유 보강 | B16: Type3 - G1 300*500 (하부2P All) | C16: 1 | D16: M | F16: =TRUNC(F17,0) -> 0 | H16: =TRUNC(H17,0) -> 0 | J16: =TRUNC(J17,0) -> 0 | L16: =F16+H16+J16 -> 0 | O16: _0003
A17: 탄소섬유 시트 보강 | B17: 탄소섬유시트 300g | C17: 0.6 | D17: M2 | E17: =자재조서!E62 -> 0 | F17: =TRUNC(E17*C17,0) -> 0 | G17: 0 | I17: 0 | K17: =E17+G17+I17 -> 0 | L17: =F17+H17+J17 -> 0 | P17: 10 | R17: MZZ2000004 | BI17: =HYPERLINK("#자재조서!A62","MZZ2000004 →") -> MZZ2000004 →
A19: No.4 보 탄소섬유 보강 | B19: Type4 - B1 300*500 (단면복원 및 탄소섬유보강 2P All) | C19: 1 | D19: M | F19: =TRUNC(F20+F21,0) -> 0 | H19: =TRUNC(H20+H21,0) -> 0 | J19: =TRUNC(J20+J21,0) -> 0 | L19: =F19+H19+J19 -> 0 | O19: _0004
A20: 콘크리트 단면복구 | B20: 균열폭 10mm 이하 | C20: 1 | D20: M | E20: =일위목록!E12 -> 0 | F20: =TRUNC(E20*C20,0) -> 0 | G20: =일위목록!F12 -> 0 | H20: =TRUNC(G20*C20,0) -> 0 | I20: =일위목록!G12 -> 0 | J20: =TRUNC(I20*C20,0) -> 0 | K20: =E20+G20+I20 -> 0 | L20: =F20+H20+J20 -> 0 | M20: 유지보수공사1-3-2 | P20: 10 | R20: PPU1-3-2 | T20: T | BI20: =HYPERLINK("#일위대가목록!A12","PPU1-3-2 →") -> PPU1-3-2 →
A21: 탄소섬유 시트 보강 | B21: 탄소섬유시트 300g | C21: 2.6 | D21: M2 | E21: =자재조서!E62 -> 0 | F21: =TRUNC(E21*C21,0) -> 0 | G21: 0 | I21: 0 | K21: =E21+G21+I21 -> 0 | L21: =F21+H21+J21 -> 0 | P21: 30 | R21: MZZ2000004 | BI21: =HYPERLINK("#자재조서!A62","MZZ2000004 →") -> MZZ2000004 →
A23: No.5 콘크리트면 바탕정리 | B23: 바닥 연마기 면정리 3.6m이하 | C23: 1 | D23: M2 | F23: =TRUNC(F24+F25,0) -> 0 | H23: =TRUNC(H24+H25,0) -> 0 | J23: =TRUNC(J24+J25,0) -> 0 | L23: =F23+H23+J23 -> 0 | M23: 미장공사9-2-1 | O23: P9-2-1/1
A24: 견출공 | B24: 일반공사 직종 | C24: 0.011 | D24: 인 | E24: 0 | G24: =노임!D11 -> 0 | H24: =TRUNC(G24*C24,0) -> 0 | I24: 0 | K24: =E24+G24+I24 -> 0 | L24: =F24+H24+J24 -> 0 | P24: 10 | R24: L001010101000022 | AA24: MA+ = | AB24: =호표!H24*0.03 -> 0 | AC24: MA = | AD24: =$AB24 -> 0 | BI24: =HYPERLINK("#노임!A11","L001010101000022 →") -> L001010101000022 →
A25: 공구손료 | B25: 인력품의 3% | C25: 3 | D25: % | F25: =TRUNC((H24*0.03),0) -> 0 | H25: 0 | J25: 0 | K25: =E25+G25+I25 -> 0 | L25: =F25+H25+J25 -> 0 | P25: 20 | R25: F | X25: MA=LA(10)*0.03
A27: No.6 강판 구멍뚫기(펀치뚫기) | B27: D21mm 타공 | C27: 1 | D27: 개소 | F27: =TRUNC(F28+F29,0) -> 0 | H27: =TRUNC(H28+H29,0) -> 0 | J27: =TRUNC(J28+J29,0) -> 0 | L27: =F27+H27+J27 -> 0 | M27: 기계설비13-4-2 | O27: S913-4-2/1
A28: 철골공 | B28: 일반공사 직종 | C28: 0.008 | D28: 인 | E28: 0 | G28: =노임!D7 -> 0 | H28: =TRUNC(G28*C28,0) -> 0 | I28: 0 | K28: =E28+G28+I28 -> 0 | L28: =F28+H28+J28 -> 0 | P28: 10 | R28: L001010101000011 | AA28: EQ+ = | AB28: =호표!H28*0.02 -> 0 | AC28: EQ = | AD28: =$AB28 -> 0 | BI28: =HYPERLINK("#노임!A7","L001010101000011 →") -> L001010101000011 →
A29: 공구손료 및 기계경비 | B29: 인력품의 2% | C29: 2 | D29: % | F29: 0 | H29: 0 | J29: =TRUNC((H28*0.02),0) -> 0 | K29: =E29+G29+I29 -> 0 | L29: =F29+H29+J29 -> 0 | P29: 30 | R29: F | X29: eq=LA(10)*0.02
A31: No.7 잡철물 제작 및 설치 | B31: 제품설치/일반철재 | C31: 1 | D31: Ton | F31: =TRUNC(F32+F33+F34+F35+F36+F37,0) -> 0 | H31: =TRUNC(H32+H33+H34+H35+H36+H37,0) -> 0 | J31: =TRUNC(J32+J33+J34+J35+J36+J37,0) -> 0 | L31: =F31+H31+J31 -> 0 | M31: 금속공사8-3-1 | O31: P8-3-1/1
A32: 철공 | B32: 일반공사 직종 | C32: 2.85 | D32: 인 | E32: 0 | G32: =노임!D6 -> 0 | H32: =TRUNC(G32*C32,0) -> 0 | I32: 0 | K32: =E32+G32+I32 -> 0 | L32: =F32+H32+J32 -> 0 | P32: 10 | R32: L001010101000009 | BI32: =HYPERLINK("#노임!A6","L001010101000009 →") -> L001010101000009 →
A33: 용접공 | B33: 일반공사 직종 | C33: 1.04 | D33: 인 | E33: 0 | G33: =노임!D8 -> 0 | H33: =TRUNC(G33*C33,0) -> 0 | I33: 0 | K33: =E33+G33+I33 -> 0 | L33: =F33+H33+J33 -> 0 | P33: 20 | R33: L001010101000012 | BI33: =HYPERLINK("#노임!A8","L001010101000012 →") -> L001010101000012 →
A34: 특별인부 | B34: 일반공사 직종 | C34: 0.78 | D34: 인 | E34: 0 | G34: =노임!D4 -> 0 | H34: =TRUNC(G34*C34,0) -> 0 | I34: 0 | K34: =E34+G34+I34 -> 0 | L34: =F34+H34+J34 -> 0 | P34: 30 | R34: L001010101000003 | BI34: =HYPERLINK("#노임!A4","L001010101000003 →") -> L001010101000003 →
A35: 보통인부 | B35: 일반공사 직종 | C35: 0.52 | D35: 인 | E35: 0 | G35: =노임!D3 -> 0 | H35: =TRUNC(G35*C35,0) -> 0 | I35: 0 | K35: =E35+G35+I35 -> 0 | L35: =F35+H35+J35 -> 0 | P35: 40 | R35: L001010101000002 | AA35: EQ+ = | AB35: =(호표!H32+호표!H33+호표!H34+호표!H35)*0.05 -> 0 | AC35: EQ = | AD35: =$AB35 -> 0 | BI35: =HYPERLINK("#노임!A3","L001010101000002 →") -> L001010101000002 →
A36: 공구손료 | B36: 인력품의 5% | C36: 5 | D36: % | F36: 0 | H36: 0 | J36: =TRUNC(((H32+H33+H34+H35)*0.05),0) -> 0 | K36: =E36+G36+I36 -> 0 | L36: =F36+H36+J36 -> 0 | P36: 50 | R36: F | X36: eq=LA(10,20,30,40)*0.05 | AA36: MA+ = | AB36: =(호표!H32+호표!H33+호표!H34+호표!H35)*0.03 -> 0 | AC36: MA = | AD36: =$AB36 -> 0
A37: 잡재료비 | B37: 인력품의 3% | C37: 3 | D37: % | F37: =TRUNC(((H32+H33+H34+H35)*0.03),0) -> 0 | H37: 0 | J37: 0 | K37: =E37+G37+I37 -> 0 | L37: =F37+H37+J37 -> 0 | P37: 60 | R37: F | X37: MA=LA(10,20,30,40)*0.03
A39: No.8 앵커 볼트 설치 | B39: ø16이하 | C39: 1 | D39: 개 | F39: =TRUNC(F40+F41+F42,0) -> 0 | H39: =TRUNC(H40+H41+H42,0) -> 0 | J39: =TRUNC(J40+J41+J42,0) -> 0 | L39: =F39+H39+J39 -> 0 | M39: 철골공사1-2-6 | O39: P1-2-5/1
A40: 철골공 | B40: 일반공사 직종 | C40: 0.05 | D40: 인 | E40: 0 | G40: =노임!D7 -> 0 | H40: =TRUNC(G40*C40,0) -> 0 | I40: 0 | K40: =E40+G40+I40 -> 0 | L40: =F40+H40+J40 -> 0 | P40: 10 | R40: L001010101000011 | BI40: =HYPERLINK("#노임!A7","L001010101000011 →") -> L001010101000011 →
A41: 특별인부 | B41: 일반공사 직종 | C41: 0.02 | D41: 인 | E41: 0 | G41: =노임!D4 -> 0 | H41: =TRUNC(G41*C41,0) -> 0 | I41: 0 | K41: =E41+G41+I41 -> 0 | L41: =F41+H41+J41 -> 0 | P41: 20 | R41: L001010101000003 | AA41: EQ+ = | AB41: =(호표!H40+호표!H41)*0.02 -> 0 | AC41: EQ = | AD41: =$AB41 -> 0 | BI41: =HYPERLINK("#노임!A4","L001010101000003 →") -> L001010101000003 →
A42: 공구손료 및 경장비 | B42: 인력품의 2% | C42: 2 | D42: % | F42: 0 | H42: 0 | J42: =TRUNC(((H40+H41)*0.02),0) -> 0 | K42: =E42+G42+I42 -> 0 | L42: =F42+H42+J42 -> 0 | P42: 30 | R42: F | X42: eq=LA(10,20)*0.02
A44: No.9 에폭시 충진 | C44: 1 | D44: M | F44: =TRUNC(F45+F46+F47+F48,0) -> 0 | H44: =TRUNC(H45+H46+H47+H48,0) -> 0 | J44: =TRUNC(J45+J46+J47+J48,0) -> 0 | L44: =F44+H44+J44 -> 0 | M44: 유지보수공사1-3-3 | O44: PPU1-3-4
A45: 주입용 에폭시 | B45: G7 | C45: 1 | D45: kg | E45: =자재조서!E17 -> 0 | F45: =TRUNC(E45*C45,0) -> 0 | G45: 0 | I45: 0 | K45: =E45+G45+I45 -> 0 | L45: =F45+H45+J45 -> 0 | P45: 10 | R45: M3121003 | BI45: =HYPERLINK("#자재조서!A17","M3121003 →") -> M3121003 →
A46: 특별인부 | B46: 일반공사 직종 | C46: 0.0434 | D46: 인 | E46: 0 | G46: =노임!D4 -> 0 | H46: =TRUNC(G46*C46,0) -> 0 | I46: 0 | K46: =E46+G46+I46 -> 0 | L46: =F46+H46+J46 -> 0 | P46: 20 | R46: L001010101000003 | BI46: =HYPERLINK("#노임!A4","L001010101000003 →") -> L001010101000003 →
A47: 보통인부 | B47: 일반공사 직종 | C47: 0.0434 | D47: 인 | E47: 0 | G47: =노임!D3 -> 0 | H47: =TRUNC(G47*C47,0) -> 0 | I47: 0 | K47: =E47+G47+I47 -> 0 | L47: =F47+H47+J47 -> 0 | P47: 30 | R47: L001010101000002 | AA47: EQ+ = | AB47: =(호표!H46+호표!H47)*0.03 -> 0 | AC47: EQ = | AD47: =$AB47 -> 0 | BI47: =HYPERLINK("#노임!A3","L001010101000002 →") -> L001010101000002 →
A48: 공구손료 | B48: 인력품의 3% | C48: 3 | D48: % | F48: 0 | H48: 0 | J48: =TRUNC(((H46+H47)*0.03),0) -> 0 | K48: =E48+G48+I48 -> 0 | L48: =F48+H48+J48 -> 0 | P48: 40 | R48: F | X48: eq=LA(20,30)*0.03_x000D_
A50: No.10 콘크리트 단면복구 | B50: 균열폭 10mm 이하 | C50: 1 | D50: M | F50: =TRUNC(F51+F52+F53+F54,0) -> 0 | H50: =TRUNC(H51+H52+H53+H54,0) -> 0 | J50: =TRUNC(J51+J52+J53+J54,0) -> 0 | L50: =F50+H50+J50 -> 0 | M50: 유지보수공사1-3-2 | O50: PPU1-3-2
A51: 단면복구용 몰탈 | B51: LDS-Mortar | C51: 5 | D51: kg | E51: =자재조서!E12 -> 0 | F51: =TRUNC(E51*C51,0) -> 0 | G51: 0 | I51: 0 | K51: =E51+G51+I51 -> 0 | L51: =F51+H51+J51 -> 0 | P51: 10 | R51: M0801011 | BI51: =HYPERLINK("#자재조서!A12","M0801011 →") -> M0801011 →
A52: 특별인부 | B52: 일반공사 직종 | C52: 0.0714 | D52: 인 | E52: 0 | G52: =노임!D4 -> 0 | H52: =TRUNC(G52*C52,0) -> 0 | I52: 0 | K52: =E52+G52+I52 -> 0 | L52: =F52+H52+J52 -> 0 | P52: 20 | R52: L001010101000003 | BI52: =HYPERLINK("#노임!A4","L001010101000003 →") -> L001010101000003 →
A53: 보통인부 | B53: 일반공사 직종 | C53: 0.0357 | D53: 인 | E53: 0 | G53: =노임!D3 -> 0 | H53: =TRUNC(G53*C53,0) -> 0 | I53: 0 | K53: =E53+G53+I53 -> 0 | L53: =F53+H53+J53 -> 0 | P53: 30 | R53: L001010101000002 | AA53: EQ+ = | AB53: =(호표!H52+호표!H53)*0.02 -> 0 | AC53: EQ = | AD53: =$AB53 -> 0 | BI53: =HYPERLINK("#노임!A3","L001010101000002 →") -> L001010101000002 →
A54: 공구손료 | B54: 인력품의 2% | C54: 2 | D54: % | F54: 0 | H54: 0 | J54: =TRUNC(((H52+H53)*0.02),0) -> 0 | K54: =E54+G54+I54 -> 0 | L54: =F54+H54+J54 -> 0 | P54: 40 | R54: F | X54: eq=LA(20,30)*0.02
A56: No.11 교통통제 및 안전처리 | B56: 안전시설물 설치 | C56: 1 | D56: 식 | F56: =TRUNC(F57,0) -> 0 | H56: =TRUNC(H57,0) -> 0 | J56: =TRUNC(J57,0) -> 0 | L56: =F56+H56+J56 -> 0 | M56: 도로포장공사1-1-1 | O56: T1-1-1/1
A57: 특별인부 | B57: 일반공사 직종 | C57: 2 | D57: 인 | E57: 0 | G57: =노임!D4 -> 0 | H57: =TRUNC(G57*C57,0) -> 0 | I57: 0 | K57: =E57+G57+I57 -> 0 | L57: =F57+H57+J57 -> 0 | P57: 10 | R57: L001010101000003 | BI57: =HYPERLINK("#노임!A4","L001010101000003 →") -> L001010101000003 →
A59: No.12 금속 천정판 철거 | B59: 금속 처마 W400 | C59: 1 | D59: M2 | F59: =TRUNC(F60,0) -> 0 | H59: =TRUNC(H60,0) -> 0 | J59: =TRUNC(J60,0) -> 0 | L59: =F59+H59+J59 -> 0 | O59: _0011
A60: 열경화성수지천장판 철거(해체) | B60: 천정 알루미늄판 | C60: 0.4 | D60: M2 | E60: =일위목록!E53 -> 0 | F60: =TRUNC(E60*C60,0) -> 0 | G60: =일위목록!F53 -> 0 | H60: =TRUNC(G60*C60,0) -> 0 | I60: =일위목록!G53 -> 0 | J60: =TRUNC(I60*C60,0) -> 0 | K60: =E60+G60+I60 -> 0 | L60: =F60+H60+J60 -> 0 | M60: 수장공사5-2-2 | P60: 10 | R60: P5-2-2/110 | T60: T | BI60: =HYPERLINK("#일위대가목록!A53","P5-2-2/110 →") -> P5-2-2/110 →
A62: No.13 강재창호 철거 | B62: 유리문 2475*3280 | C62: 1 | D62: 개소 | F62: =TRUNC(F63,0) -> 0 | H62: =TRUNC(H63,0) -> 0 | J62: =TRUNC(J63,0) -> 0 | L62: =F62+H62+J62 -> 0 | O62: _0012
A63: 강재창호 철거(해체) | B63: 6.0~8.0M2이하 | C63: 1 | D63: 개소 | E63: =일위목록!E54 -> 0 | F63: =TRUNC(E63*C63,0) -> 0 | G63: =일위목록!F54 -> 0 | H63: =TRUNC(G63*C63,0) -> 0 | I63: =일위목록!G54 -> 0 | J63: =TRUNC(I63*C63,0) -> 0 | K63: =E63+G63+I63 -> 0 | L63: =F63+H63+J63 -> 0 | P63: 10 | R63: PP10-1-2/40 | T63: T | BI63: =HYPERLINK("#일위대가목록!A54","PP10-1-2/40 →") -> PP10-1-2/40 →
A65: No.14 강재창호 철거 | B65: 유리문 920*3280 | C65: 1 | D65: 개소 | F65: =TRUNC(F66,0) -> 0 | H65: =TRUNC(H66,0) -> 0 | J65: =TRUNC(J66,0) -> 0 | L65: =F65+H65+J65 -> 0 | O65: _0013
A66: 강재창호 철거(해체) | B66: 3.0~6.0M2이하 | C66: 1 | D66: 개소 | E66: =일위목록!E55 -> 0 | F66: =TRUNC(E66*C66,0) -> 0 | G66: =일위목록!F55 -> 0 | H66: =TRUNC(G66*C66,0) -> 0 | I66: =일위목록!G55 -> 0 | J66: =TRUNC(I66*C66,0) -> 0 | K66: =E66+G66+I66 -> 0 | L66: =F66+H66+J66 -> 0 | P66: 10 | R66: PP10-1-2/30 | T66: T | BI66: =HYPERLINK("#일위대가목록!A55","PP10-1-2/30 →") -> PP10-1-2/30 →
A68: No.15 화장실 상부창 철거 | B68: 800*400 | C68: 1 | D68: 개소 | F68: =TRUNC(F69,0) -> 0 | H68: =TRUNC(H69,0) -> 0 | J68: =TRUNC(J69,0) -> 0 | L68: =F68+H68+J68 -> 0 | O68: _0014
A69: 알루미늄창호 철거 | B69: 1.0M2이하 | C69: 1 | D69: 개소 | E69: =일위목록!E56 -> 0 | F69: =TRUNC(E69*C69,0) -> 0 | G69: =일위목록!F56 -> 0 | H69: =TRUNC(G69*C69,0) -> 0 | I69: =일위목록!G56 -> 0 | J69: =TRUNC(I69*C69,0) -> 0 | K69: =E69+G69+I69 -> 0 | L69: =F69+H69+J69 -> 0 | P69: 10 | R69: PP10-1-3/10 | T69: T | BI69: =HYPERLINK("#일위대가목록!A56","PP10-1-3/10 →") -> PP10-1-3/10 →
A71: No.16 알루미늄 창호철거(정면) | B71: 1485*2175 | C71: 1 | D71: 개소 | F71: =TRUNC(F72,0) -> 0 | H71: =TRUNC(H72,0) -> 0 | J71: =TRUNC(J72,0) -> 0 | L71: =F71+H71+J71 -> 0 | O71: _0015
A72: 알루미늄창호 철거 | B72: 3.0~6.0M2이하 | C72: 1 | D72: 개소 | E72: =일위목록!E57 -> 0 | F72: =TRUNC(E72*C72,0) -> 0 | G72: =일위목록!F57 -> 0 | H72: =TRUNC(G72*C72,0) -> 0 | I72: =일위목록!G57 -> 0 | J72: =TRUNC(I72*C72,0) -> 0 | K72: =E72+G72+I72 -> 0 | L72: =F72+H72+J72 -> 0 | P72: 10 | R72: PP10-1-3/30 | T72: T | BI72: =HYPERLINK("#일위대가목록!A57","PP10-1-3/30 →") -> PP10-1-3/30 →
A74: No.17 알루미늄 창호철거(정면) | B74: 3845*2345 | C74: 1 | D74: 개소 | F74: =TRUNC(F75,0) -> 0 | H74: =TRUNC(H75,0) -> 0 | J74: =TRUNC(J75,0) -> 0 | L74: =F74+H74+J74 -> 0 | O74: _0016
A75: 알루미늄창호 철거 | B75: 9.0~12M2이하 | C75: 1 | D75: 개소 | E75: =일위목록!E58 -> 0 | F75: =TRUNC(E75*C75,0) -> 0 | G75: =일위목록!F58 -> 0 | H75: =TRUNC(G75*C75,0) -> 0 | I75: =일위목록!G58 -> 0 | J75: =TRUNC(I75*C75,0) -> 0 | K75: =E75+G75+I75 -> 0 | L75: =F75+H75+J75 -> 0 | P75: 10 | R75: PP10-1-3/50 | T75: T | BI75: =HYPERLINK("#일위대가목록!A58","PP10-1-3/50 →") -> PP10-1-3/50 →
A77: No.18 알루미늄 창호철거(좌측면) | B77: 830*920 | C77: 1 | D77: 개소 | F77: =TRUNC(F78,0) -> 0 | H77: =TRUNC(H78,0) -> 0 | J77: =TRUNC(J78,0) -> 0 | L77: =F77+H77+J77 -> 0 | O77: _0017
A78: 알루미늄창호 철거 | B78: 1.0M2이하 | C78: 1 | D78: 개소 | E78: =일위목록!E56 -> 0 | F78: =TRUNC(E78*C78,0) -> 0 | G78: =일위목록!F56 -> 0 | H78: =TRUNC(G78*C78,0) -> 0 | I78: =일위목록!G56 -> 0 | J78: =TRUNC(I78*C78,0) -> 0 | K78: =E78+G78+I78 -> 0 | L78: =F78+H78+J78 -> 0 | P78: 10 | R78: PP10-1-3/10 | T78: T | BI78: =HYPERLINK("#일위대가목록!A56","PP10-1-3/10 →") -> PP10-1-3/10 →
A80: No.19 알루미늄 창호철거(좌측면) | B80: 900*900 | C80: 1 | D80: 개소 | F80: =TRUNC(F81,0) -> 0 | H80: =TRUNC(H81,0) -> 0 | J80: =TRUNC(J81,0) -> 0 | L80: =F80+H80+J80 -> 0 | O80: _0018
A81: 알루미늄창호 철거 | B81: 1.0M2이하 | C81: 1 | D81: 개소 | E81: =일위목록!E56 -> 0 | F81: =TRUNC(E81*C81,0) -> 0 | G81: =일위목록!F56 -> 0 | H81: =TRUNC(G81*C81,0) -> 0 | I81: =일위목록!G56 -> 0 | J81: =TRUNC(I81*C81,0) -> 0 | K81: =E81+G81+I81 -> 0 | L81: =F81+H81+J81 -> 0 | P81: 10 | R81: PP10-1-3/10 | T81: T | BI81: =HYPERLINK("#일위대가목록!A56","PP10-1-3/10 →") -> PP10-1-3/10 →
A83: No.20 알루미늄 창호철거(좌측면) | B83: 1200*2490 | C83: 1 | D83: 개소 | F83: =TRUNC(F84,0) -> 0 | H83: =TRUNC(H84,0) -> 0 | J83: =TRUNC(J84,0) -> 0 | L83: =F83+H83+J83 -> 0 | O83: _0019
A84: 알루미늄창호 철거 | B84: 1.0~3.0M2이하 | C84: 1 | D84: 개소 | E84: =일위목록!E59 -> 0 | F84: =TRUNC(E84*C84,0) -> 0 | G84: =일위목록!F59 -> 0 | H84: =TRUNC(G84*C84,0) -> 0 | I84: =일위목록!G59 -> 0 | J84: =TRUNC(I84*C84,0) -> 0 | K84: =E84+G84+I84 -> 0 | L84: =F84+H84+J84 -> 0 | P84: 10 | R84: PP10-1-3/20 | T84: T | BI84: =HYPERLINK("#일위대가목록!A59","PP10-1-3/20 →") -> PP10-1-3/20 →
A86: No.21 알루미늄 창호철거(우측면) | B86: 1495*2470 | C86: 1 | D86: 개소 | F86: =TRUNC(F87,0) -> 0 | H86: =TRUNC(H87,0) -> 0 | J86: =TRUNC(J87,0) -> 0 | L86: =F86+H86+J86 -> 0 | O86: _0020
A87: 알루미늄창호 철거 | B87: 3.0~6.0M2이하 | C87: 1 | D87: 개소 | E87: =일위목록!E57 -> 0 | F87: =TRUNC(E87*C87,0) -> 0 | G87: =일위목록!F57 -> 0 | H87: =TRUNC(G87*C87,0) -> 0 | I87: =일위목록!G57 -> 0 | J87: =TRUNC(I87*C87,0) -> 0 | K87: =E87+G87+I87 -> 0 | L87: =F87+H87+J87 -> 0 | P87: 10 | R87: PP10-1-3/30 | T87: T | BI87: =HYPERLINK("#일위대가목록!A57","PP10-1-3/30 →") -> PP10-1-3/30 →
A89: No.22 알루미늄 창호철거(우측면) | B89: 1395*1395 | C89: 1 | D89: 개소 | F89: =TRUNC(F90,0) -> 0 | H89: =TRUNC(H90,0) -> 0 | J89: =TRUNC(J90,0) -> 0 | L89: =F89+H89+J89 -> 0 | O89: _0021
A90: 알루미늄창호 철거 | B90: 1.0~3.0M2이하 | C90: 1 | D90: 개소 | E90: =일위목록!E59 -> 0 | F90: =TRUNC(E90*C90,0) -> 0 | G90: =일위목록!F59 -> 0 | H90: =TRUNC(G90*C90,0) -> 0 | I90: =일위목록!G59 -> 0 | J90: =TRUNC(I90*C90,0) -> 0 | K90: =E90+G90+I90 -> 0 | L90: =F90+H90+J90 -> 0 | P90: 10 | R90: PP10-1-3/20 | T90: T | BI90: =HYPERLINK("#일위대가목록!A59","PP10-1-3/20 →") -> PP10-1-3/20 →
A92: No.23 벽면 목재철거 | B92: 데크재 철거 | C92: 1 | D92: M2 | F92: =TRUNC(F93,0) -> 0 | H92: =TRUNC(H93,0) -> 0 | J92: =TRUNC(J93,0) -> 0 | L92: =F92+H92+J92 -> 0 | O92: _0022
A93: 목재데크 철거 | B93: 데크재 | C93: 1 | D93: M2 | E93: =일위목록!E60 -> 0 | F93: =TRUNC(E93*C93,0) -> 0 | G93: =일위목록!F60 -> 0 | H93: =TRUNC(G93*C93,0) -> 0 | I93: =일위목록!G60 -> 0 | J93: =TRUNC(I93*C93,0) -> 0 | K93: =E93+G93+I93 -> 0 | L93: =F93+H93+J93 -> 0 | M93: 목공사4-3-3 | P93: 10 | R93: P4-3-3/0 | T93: T | BI93: =HYPERLINK("#일위대가목록!A60","P4-3-3/0 →") -> P4-3-3/0 →
A95: No.24 목재 구조틀 철거 | B95: 평구조 각관 목재틀 | C95: 1 | D95: Ton | F95: =TRUNC(F96,0) -> 0 | H95: =TRUNC(H96,0) -> 0 | J95: =TRUNC(J96,0) -> 0 | L95: =F95+H95+J95 -> 0 | O95: _0023
A96: 잡철물 철거 | B96: 경량철재 | C96: 1000 | D96: Kg | E96: =일위목록!E61 -> 0 | F96: =TRUNC(E96*C96,0) -> 0 | G96: =일위목록!F61 -> 0 | H96: =TRUNC(G96*C96,0) -> 0 | I96: =일위목록!G61 -> 0 | J96: =TRUNC(I96*C96,0) -> 0 | K96: =E96+G96+I96 -> 0 | L96: =F96+H96+J96 -> 0 | M96: 금속공사8-3-1 | P96: 10 | R96: R2-11-29 | T96: T | BI96: =HYPERLINK("#일위대가목록!A61","R2-11-29 →") -> R2-11-29 →
A98: No.25 타일 철거 | B98: 벽타일 철거 | C98: 1 | D98: M2 | F98: =TRUNC(F99+F100+F101,0) -> 0 | H98: =TRUNC(H99+H100+H101,0) -> 0 | J98: =TRUNC(J99+J100+J101,0) -> 0 | L98: =F98+H98+J98 -> 0 | M98: 유지보수공사12-2-9 | O98: _0024
A99: 타일공 | B99: 일반공사 직종 | C99: 0.037 | D99: 인 | E99: 0 | G99: =노임!D16 -> 0 | H99: =TRUNC(G99*C99,0) -> 0 | I99: 0 | K99: =E99+G99+I99 -> 0 | L99: =F99+H99+J99 -> 0 | P99: 10 | R99: L001010101000028 | BI99: =HYPERLINK("#노임!A16","L001010101000028 →") -> L001010101000028 →
A100: 보통인부 | B100: 일반공사 직종 | C100: 0.024 | D100: 인 | E100: 0 | G100: =노임!D3 -> 0 | H100: =TRUNC(G100*C100,0) -> 0 | I100: 0 | K100: =E100+G100+I100 -> 0 | L100: =F100+H100+J100 -> 0 | P100: 20 | R100: L001010101000002 | AA100: EQ+ = | AB100: =(호표!H99+호표!H100)*0.06 -> 0 | AC100: EQ = | AD100: =$AB100 -> 0 | BI100: =HYPERLINK("#노임!A3","L001010101000002 →") -> L001010101000002 →
A101: 공구손료 | B101: 인력품의 6% | C101: 6 | D101: % | F101: 0 | H101: 0 | J101: =TRUNC(((H99+H100)*0.06),0) -> 0 | K101: =E101+G101+I101 -> 0 | L101: =F101+H101+J101 -> 0 | P101: 30 | R101: F | X101: eq=LA(10,20)*0.06
A103: No.26 조적벽 철거/헐기 | B103: 벽체 | C103: 1 | D103: M3 | F103: =TRUNC(F104+F105+F106,0) -> 0 | H103: =TRUNC(H104+H105+H106,0) -> 0 | J103: =TRUNC(J104+J105+J106,0) -> 0 | L103: =F103+H103+J103 -> 0 | M103: 유지보수공사12-2-4 | O103: _0025
A104: 조적공 | B104: 일반공사 직종 | C104: 0.38 | D104: 인 | E104: 0 | G104: =노임!D10 -> 0 | H104: =TRUNC(G104*C104,0) -> 0 | I104: 0 | K104: =E104+G104+I104 -> 0 | L104: =F104+H104+J104 -> 0 | P104: 10 | R104: L001010101000021 | BI104: =HYPERLINK("#노임!A10","L001010101000021 →") -> L001010101000021 →
A105: 보통인부 | B105: 일반공사 직종 | C105: 0.252 | D105: 인 | E105: 0 | G105: =노임!D3 -> 0 | H105: =TRUNC(G105*C105,0) -> 0 | I105: 0 | K105: =E105+G105+I105 -> 0 | L105: =F105+H105+J105 -> 0 | P105: 20 | R105: L001010101000002 | AA105: EQ+ = | AB105: =(호표!H104+호표!H105)*0.02 -> 0 | AC105: EQ = | AD105: =$AB105 -> 0 | BI105: =HYPERLINK("#노임!A3","L001010101000002 →") -> L001010101000002 →
A106: 공구손료 | B106: 인력품의 2% | C106: 2 | D106: % | F106: 0 | H106: 0 | J106: =TRUNC(((H104+H105)*0.02),0) -> 0 | K106: =E106+G106+I106 -> 0 | L106: =F106+H106+J106 -> 0 | P106: 30 | R106: F | X106: eq=LA(10,20)*0.02
A108: No.27 폐기물상차(혼합건설폐기물) | B108: 24톤암롤, 30km | C108: 1 | D108: Ton | F108: =TRUNC(F109,0) -> 0 | H108: =TRUNC(H109,0) -> 0 | J108: =TRUNC(J109,0) -> 6420 | L108: =F108+H108+J108 -> 6420 | O108: ZZ64
A109: 폐기물상차(혼합건설폐기물) | B109: 24톤암롤, 30km | C109: 1 | D109: M3 | E109: =TRUNC(X109,0) -> 0 | F109: =TRUNC(E109*C109,0) -> 0 | G109: =TRUNC(W109,0) -> 0 | H109: =TRUNC(G109*C109,0) -> 0 | I109: =TRUNC(V109,0) -> 6420 | J109: =TRUNC(I109*C109,0) -> 6420 | K109: =E109+G109+I109 -> 6420 | L109: =F109+H109+J109 -> 6420 | P109: 10 | R109: G | V109: 6420 | W109: 0 | X109: 0
A111: No.28 콘크리트 면정리 | B111: 바탕 연마기정리 | C111: 1 | D111: M2 | F111: =TRUNC(F112+F113+F114,0) -> 0 | H111: =TRUNC(H112+H113+H114,0) -> 0 | J111: =TRUNC(J112+J113+J114,0) -> 0 | L111: =F111+H111+J111 -> 0 | M111: 미장공사9-2-1 | O111: _0026
A112: 연마지 | B112: 150-800#230x280㎜ (공연마용) | C112: 1 | D112: 매 | E112: =자재조서!E29 -> 0 | F112: =TRUNC(E112*C112,0) -> 0 | G112: 0 | I112: 0 | K112: =E112+G112+I112 -> 0 | L112: =F112+H112+J112 -> 0 | P112: 10 | R112: M8916015 | BI112: =HYPERLINK("#자재조서!A29","M8916015 →") -> M8916015 →
A113: 견출공 | B113: 일반공사 직종 | C113: 0.011 | D113: 인 | E113: 0 | G113: =노임!D11 -> 0 | H113: =TRUNC(G113*C113,0) -> 0 | I113: 0 | K113: =E113+G113+I113 -> 0 | L113: =F113+H113+J113 -> 0 | P113: 20 | R113: L001010101000022 | AA113: MA+ = | AB113: =호표!H113*0.03 -> 0 | AC113: MA = | AD113: =$AB113 -> 0 | BI113: =HYPERLINK("#노임!A11","L001010101000022 →") -> L001010101000022 →
A114: 공구손료 | B114: 인력품의 3% | C114: 3 | D114: % | F114: =TRUNC((H113*0.03),0) -> 0 | H114: 0 | J114: 0 | K114: =E114+G114+I114 -> 0 | L114: =F114+H114+J114 -> 0 | P114: 30 | R114: F | X114: MA=LA(20)*0.03_x000D_
A116: No.29 목재도어 설치 | B116: 방부목 900*2100 | C116: 1 | D116: 개소 | F116: =TRUNC(F117+F118+F119+F120,0) -> 0 | H116: =TRUNC(H117+H118+H119+H120,0) -> 0 | J116: =TRUNC(J117+J118+J119+J120,0) -> 0 | L116: =F116+H116+J116 -> 0 | M116: 창호및유리공사10-1-1 | O116: _0027
A117: 방부목 목재도어 | B117: 900*2100 틀,하드웨어 포함 | C117: 1 | D117: Set | E117: =자재조서!E61 -> 0 | F117: =TRUNC(E117*C117,0) -> 0 | G117: 0 | I117: 0 | K117: =E117+G117+I117 -> 0 | L117: =F117+H117+J117 -> 0 | P117: 10 | R117: MZZ2000001 | BI117: =HYPERLINK("#자재조서!A61","MZZ2000001 →") -> MZZ2000001 →
A118: 창호공 | B118: 일반공사 직종 | C118: 0.313 | D118: 인 | E118: 0 | G118: =노임!D13 -> 0 | H118: =TRUNC(G118*C118,0) -> 0 | I118: 0 | K118: =E118+G118+I118 -> 0 | L118: =F118+H118+J118 -> 0 | P118: 70 | R118: L001010101000024 | BI118: =HYPERLINK("#노임!A13","L001010101000024 →") -> L001010101000024 →
A119: 보통인부 | B119: 일반공사 직종 | C119: 0.064 | D119: 인 | E119: 0 | G119: =노임!D3 -> 0 | H119: =TRUNC(G119*C119,0) -> 0 | I119: 0 | K119: =E119+G119+I119 -> 0 | L119: =F119+H119+J119 -> 0 | P119: 80 | R119: L001010101000002 | AA119: MA+ = | AB119: =(호표!H118+호표!H119)*0.03 -> 0 | AC119: MA = | AD119: =$AB119 -> 0 | BI119: =HYPERLINK("#노임!A3","L001010101000002 →") -> L001010101000002 →
A120: 공구손료 | B120: 인력품의 3% | C120: 3 | D120: % | F120: =TRUNC(((H118+H119)*0.03),0) -> 0 | H120: 0 | J120: 0 | K120: =E120+G120+I120 -> 0 | L120: =F120+H120+J120 -> 0 | P120: 90 | R120: F | X120: MA=LA(70,80)*0.03_x000D_
A122: No.30 금속 어닝 설치 | B122: L3845*510*H1030 | C122: 1 | D122: EA | F122: =TRUNC(F123,0) -> 0 | H122: =TRUNC(H123,0) -> 0 | J122: =TRUNC(J123,0) -> 0 | L122: =F122+H122+J122 -> 0 | O122: _0030
A123: 금속 어닝설치 | B123: L3845*510*H1030 | C123: 1 | D123: EA | E123: =자재!D62 -> 0 | F123: =TRUNC(E123*C123,0) -> 0 | G123: 0 | I123: 0 | K123: =E123+G123+I123 -> 0 | L123: =F123+H123+J123 -> 0 | P123: 10 | R123: MZZ2000005 | BI123: =HYPERLINK("#자재!A62","MZZ2000005 →") -> MZZ2000005 →
A125: No.31 시스템 고정창호 | B125: 395*1395 AL, T24 로이투명 | C125: 1 | D125: EA | F125: =TRUNC(F126+F127+F128+F129+F130+F131,0) -> 0 | H125: =TRUNC(H126+H127+H128+H129+H130+H131,0) -> 0 | J125: =TRUNC(J126+J127+J128+J129+J130+J131,0) -> 0 | L125: =F125+H125+J125 -> 0 | M125: WW-01 | O125: _0031
A126: 시스템 고정창호 | B126: 395*1395 AL, T24 로이투명 | C126: 1 | D126: EA | E126: =자재조서!E64 -> 0 | F126: =TRUNC(E126*C126,0) -> 0 | G126: 0 | I126: 0 | K126: =E126+G126+I126 -> 0 | L126: =F126+H126+J126 -> 0 | P126: 10 | R126: MZZ9000001 | BI126: =HYPERLINK("#자재조서!A64","MZZ9000001 →") -> MZZ9000001 →
A127: 로이 복층유리 | B127: T24(5+14+5) 저철분 | C127: 1.95 | D127: M2 | E127: =자재조서!E76 -> 0 | F127: =TRUNC(E127*C127,0) -> 0 | G127: 0 | I127: 0 | K127: =E127+G127+I127 -> 0 | L127: =F127+H127+J127 -> 0 | P127: 20 | R127: MZZ9000013 | BI127: =HYPERLINK("#자재조서!A76","MZZ9000013 →") -> MZZ9000013 →
A128: 창호유리 설치 | B128: 복층유리 24mm이하 | C128: 1.95 | D128: M2 | E128: =일위목록!E62 -> 0 | F128: =TRUNC(E128*C128,0) -> 0 | G128: =일위목록!F62 -> 0 | H128: =TRUNC(G128*C128,0) -> 0 | I128: =일위목록!G62 -> 0 | J128: =TRUNC(I128*C128,0) -> 0 | K128: =E128+G128+I128 -> 0 | L128: =F128+H128+J128 -> 0 | P128: 30 | R128: PP10-3-1/9 | T128: T | BI128: =HYPERLINK("#일위대가목록!A62","PP10-3-1/9 →") -> PP10-3-1/9 →
A129: 목재창호 설치 | B129: 미서기/1.0~3.0M2이하 | C129: 1 | D129: 개소 | E129: =일위목록!E63 -> 0 | F129: =TRUNC(E129*C129,0) -> 0 | G129: =일위목록!F63 -> 0 | H129: =TRUNC(G129*C129,0) -> 0 | I129: =일위목록!G63 -> 0 | J129: =TRUNC(I129*C129,0) -> 0 | K129: =E129+G129+I129 -> 0 | L129: =F129+H129+J129 -> 0 | P129: 40 | R129: PP10-1-1/6 | T129: T | BI129: =HYPERLINK("#일위대가목록!A63","PP10-1-1/6 →") -> PP10-1-1/6 →
A130: 유리주위 코킹 | B130: 패널 수밀코킹 | C130: 11.16 | D130: M | E130: =일위목록!E64 -> 0 | F130: =TRUNC(E130*C130,0) -> 0 | G130: =일위목록!F64 -> 0 | H130: =TRUNC(G130*C130,0) -> 0 | I130: =일위목록!G64 -> 0 | J130: =TRUNC(I130*C130,0) -> 0 | K130: =E130+G130+I130 -> 0 | L130: =F130+H130+J130 -> 0 | M130: 창호및유리공사10-4-3 | P130: 50 | R130: PP10-4-3/1 | T130: T | BI130: =HYPERLINK("#일위대가목록!A64","PP10-4-3/1 →") -> PP10-4-3/1 →
...

Sheet 6
B4: =갑!D15 -> [ 김제시 죽산면 죽산로126(구 새마을 금고)내·외부공사 ]
J18: 중 기 목 록 표

Sheet 중기목록
A1: 중기사용료목록
A2: 공 종 명 | B2: 규 격 | C2: 수 량 | D2: 단 위 | E2: 재 료 비 | F2: 노 무 비 | G2: 경 비 | H2: 합 계 | I2: 비 고
A3: 덤프트럭 | B3: 2.5 ton | C3: 1 | D3: HR | E3: =중기사용료!G10 -> 0 | F3: =중기사용료!G12 -> 0 | G3: =중기사용료!G7 -> 0 | H3: =E3+F3+G3 -> 0 | K3: E00000602002500000 | O3: =HYPERLINK("#중기사용료!A3","E00000602002500000 →") -> E00000602002500000 →
A4: 운반트럭 | B4: 2.5 ton | C4: 1 | D4: HR | E4: =중기사용료!G22 -> 0 | F4: =중기사용료!G24 -> 0 | G4: =중기사용료!G19 -> 0 | H4: =E4+F4+G4 -> 0 | K4: E000006020025000001 | O4: =HYPERLINK("#중기사용료!A15","E000006020025000001 →") -> E000006020025000001 →
A5: 고소작업차 | B5: 5 ton | C5: 1 | D5: HR | E5: =중기사용료!G34 -> 0 | F5: =중기사용료!G36 -> 0 | G5: =중기사용료!G31 -> 0 | H5: =E5+F5+G5 -> 0 | K5: E00002106000500000 | O5: =HYPERLINK("#중기사용료!A27","E00002106000500000 →") -> E00002106000500000 →
A6: 커터(콘크리트및아스팔트용) | B6: 320-400 mm | C6: 1 | D6: HR | E6: =중기사용료!G46 -> 0 | F6: =중기사용료!G48 -> 0 | G6: =중기사용료!G43 -> 0 | H6: =E6+F6+G6 -> 0 | K6: E00004430040000000 | O6: =HYPERLINK("#중기사용료!A39","E00004430040000000 →") -> E00004430040000000 →
A7: 소형브레이커(전기식) | B7: 1.5kW | C7: 1 | D7: HR | E7: 0 | F7: 0 | G7: =중기사용료!G55 -> 0 | H7: =E7+F7+G7 -> 0 | K7: E00005220001500000 | O7: =HYPERLINK("#중기사용료!A51","E00005220001500000 →") -> E00005220001500000 →
A8: 동력분무기 | B8: 4.85Kw | C8: 1 | D8: HR | E8: =중기사용료!G69 -> 0 | F8: 0 | G8: =중기사용료!G66 -> 0 | H8: =E8+F8+G8 -> 0 | K8: E00007210048500000 | O8: =HYPERLINK("#중기사용료!A62","E00007210048500000 →") -> E00007210048500000 →

Sheet 7
B4: =갑!D15 -> [ 김제시 죽산면 죽산로126(구 새마을 금고)내·외부공사 ]
J18: 중 기 사 용 료

Sheet 중기사용료
A1: 중기사용료
A3: 중 기 명 | B3: 덤프트럭2.5 ton | J3: E00000602002500000
A4: 중기가격 | B4: 21,982 천원
A5: 명 칭 | C5: 규 격 | D5: 수 량 | E5: 단 위 | F5: 단 가 | G5: 금 액 | H5: 비 고
A6: 경 비 | B6: 덤프트럭 | C6: 2.5 톤 | D6: =(1200 + 1067 + 700)*10^-4 -> 0.2967 | E6: 천원 | F6: =중기기초!F3 -> 0 | G6: =TRUNC(F6*D6, 0) -> 0 | K6: 10 | M6: G0000060200250000 | N6: .sang=1200, jung=1067,kwan=700 | AG6: =HYPERLINK("#중기기초자료!A3","G0000060200250000 →") -> G0000060200250000 →
B7: 소계 | G7: =TRUNC(G6, 0) -> 0
A8: 재 료 비 | B8: 경 유 | D8: 2.9 | E8: L | F8: =중기기초!D11 -> 0 | G8: =TRUNC(F8*D8, 2) -> 0 | K8: 40 | M8: M9366005 | AG8: =HYPERLINK("#중기기초자료!A11","M9366005 →") -> M9366005 →
B9: 잡 품 | D9: 38 | E9: % | F9: 0 | G9: =TRUNC((G8) * D9/100, 2) -> 0 | K9: 50 | M9: F/M1
B10: 소계 | G10: =TRUNC(G8+G9, 2) -> 0
A11: 노 무 비 | B11: 화물차운전사 | D11: 1 | E11: 인 | F11: =TRUNC(중기기초!E8 * 중기변수!C18, 0) -> 0 | G11: =TRUNC(F11*D11, 0) -> 0 | I11: 56900017059 | K11: 15 | M11: L001010101000049 | AG11: =HYPERLINK("#중기기초자료!A8","L001010101000049 →") -> L001010101000049 →
B12: 소계 | G12: =TRUNC(G11, 0) -> 0
B13: 총계 | G13: =TRUNC(G7+G10+G12, 2) -> 0
A15: 중 기 명 | B15: 운반트럭2.5 ton | J15: E000006020025000001
A16: 중기가격 | B16: 21,982 천원
A17: 명 칭 | C17: 규 격 | D17: 수 량 | E17: 단 위 | F17: 단 가 | G17: 금 액 | H17: 비 고
A18: 경 비 | B18: 덤프트럭 | C18: 2.5 톤 | D18: =(1200 + 1067 + 700)*10^-4 -> 0.2967 | E18: 천원 | F18: =중기기초!F3 -> 0 | G18: =TRUNC(F18*D18, 0) -> 0 | K18: 10 | M18: G0000060200250000 | N18: .sang=1200, jung=1067,kwan=700 | AG18: =HYPERLINK("#중기기초자료!A3","G0000060200250000 →") -> G0000060200250000 →
B19: 소계 | G19: =TRUNC(G18, 0) -> 0
A20: 재 료 비 | B20: 경 유 | D20: 2.9 | E20: L | F20: =중기기초!D11 -> 0 | G20: =TRUNC(F20*D20, 2) -> 0 | K20: 40 | M20: M9366005 | AG20: =HYPERLINK("#중기기초자료!A11","M9366005 →") -> M9366005 →
B21: 잡 품 | D21: 38 | E21: % | F21: 0 | G21: =TRUNC((G20) * D21/100, 2) -> 0 | K21: 50 | M21: F/M1
B22: 소계 | G22: =TRUNC(G20+G21, 2) -> 0
A23: 노 무 비 | B23: 화물차운전사 | D23: 1 | E23: 인 | F23: =TRUNC(중기기초!E8 * 중기변수!C18, 0) -> 0 | G23: =TRUNC(F23*D23, 0) -> 0 | I23: 56900017059 | K23: 15 | M23: L001010101000049 | AG23: =HYPERLINK("#중기기초자료!A8","L001010101000049 →") -> L001010101000049 →
B24: 소계 | G24: =TRUNC(G23, 0) -> 0
B25: 총계 | G25: =TRUNC(G19+G22+G24, 2) -> 0
A27: 중 기 명 | B27: 고소작업차5 ton | J27: E00002106000500000
A28: 중기가격 | B28: 140,857 천원
A29: 명 칭 | C29: 규 격 | D29: 수 량 | E29: 단 위 | F29: 단 가 | G29: 금 액 | H29: 비 고
A30: 경 비 | B30: 고소작업차 | C30: 5 ton | D30: =(1286 + 357 + 955)*10^-4 -> 0.2598 | E30: 천원 | F30: =중기기초!F4 -> 0 | G30: =TRUNC(F30*D30, 0) -> 0 | K30: 10 | M30: G0000210600050000 | N30: .sang=1286,jung=357,kwan=955 | AG30: =HYPERLINK("#중기기초자료!A4","G0000210600050000 →") -> G0000210600050000 →
B31: 소계 | G31: =TRUNC(G30, 0) -> 0
A32: 재 료 비 | B32: 경 유 | D32: 5.1 | E32: L | F32: =중기기초!D11 -> 0 | G32: =TRUNC(F32*D32, 2) -> 0 | K32: 40 | M32: M9366005 | AG32: =HYPERLINK("#중기기초자료!A11","M9366005 →") -> M9366005 →
B33: 잡 품 | D33: 20 | E33: % | F33: 0 | G33: =TRUNC((G32) * D33/100, 2) -> 0 | K33: 50 | M33: F/M1
B34: 소계 | G34: =TRUNC(G32+G33, 2) -> 0
A35: 노 무 비 | B35: 화물차운전사 | D35: 1 | E35: 인 | F35: =TRUNC(중기기초!E8 * 중기변수!C18, 0) -> 0 | G35: =TRUNC(F35*D35, 0) -> 0 | I35: 56900017059 | K35: 15 | M35: L001010101000049 | AG35: =HYPERLINK("#중기기초자료!A8","L001010101000049 →") -> L001010101000049 →
B36: 소계 | G36: =TRUNC(G35, 0) -> 0
B37: 총계 | G37: =TRUNC(G31+G34+G36, 2) -> 0
A39: 중 기 명 | B39: 커터(콘크리트및아스팔트용)320-400 mm | J39: E00004430040000000
A40: 중기가격 | B40: 3,249 천원
A41: 명 칭 | C41: 규 격 | D41: 수 량 | E41: 단 위 | F41: 단 가 | G41: 금 액 | H41: 비 고
A42: 경 비 | B42: 커터(콘크리트및아스팔트용) | C42: 320-400 mm | D42: =(4000 + 1333 + 1021)*10^-4 -> 0.6354 | E42: 천원 | F42: =중기기초!F5 -> 0 | G42: =TRUNC(F42*D42, 0) -> 0 | K42: 10 | M42: G0000443004000000 | N42: .sang=4000, jung=1333, kwan=1021 | AG42: =HYPERLINK("#중기기초자료!A5","G0000443004000000 →") -> G0000443004000000 →
B43: 소계 | G43: =TRUNC(G42, 0) -> 0
A44: 재 료 비 | B44: 휘 발 유 | D44: 5.6 | E44: L | F44: =중기기초!D10 -> 0 | G44: =TRUNC(F44*D44, 2) -> 0 | K44: 40 | M44: M1510150620282203 | AG44: =HYPERLINK("#중기기초자료!A10","M1510150620282203 →") -> M1510150620282203 →
B45: 잡 품 | D45: 20 | E45: % | F45: 0 | G45: =TRUNC((G44) * D45/100, 2) -> 0 | K45: 50 | M45: F/M1
B46: 소계 | G46: =TRUNC(G44+G45, 2) -> 0
A47: 노 무 비 | B47: 일반기계운전사 | D47: 1 | E47: 인 | F47: =TRUNC(중기기초!E9 * 중기변수!C18, 0) -> 0 | G47: =TRUNC(F47*D47, 0) -> 0 | I47: 56900017058 | K47: 15 | M47: L001010101000050 | AG47: =HYPERLINK("#중기기초자료!A9","L001010101000050 →") -> L001010101000050 →
B48: 소계 | G48: =TRUNC(G47, 0) -> 0
B49: 총계 | G49: =TRUNC(G43+G46+G48, 2) -> 0
A51: 중 기 명 | B51: 소형브레이커(전기식)1.5kW | J51: E00005220001500000
A52: 중기가격 | B52: 1,375 천원
A53: 명 칭 | C53: 규 격 | D53: 수 량 | E53: 단 위 | F53: 단 가 | G53: 금 액 | H53: 비 고
A54: 경 비 | B54: 소형브레이커(전기식) | C54: 1.5kW | D54: =(2500 + 0 + 0)*10^-4 -> 0.25 | E54: 천원 | F54: =중기기초!F6 -> 0 | G54: =TRUNC(F54*D54, 0) -> 0 | K54: 10 | M54: G0000522000150000 | N54: .sang=2500,jung=0 , kwan=0 | AG54: =HYPERLINK("#중기기초자료!A6","G0000522000150000 →") -> G0000522000150000 →
B55: 소계 | G55: =TRUNC(G54, 0) -> 0
A56: 재 료 비
B57: 소계
A58: 노 무 비
B59: 소계
B60: 총계 | G60: =TRUNC(G55+G57+G59, 2) -> 0
A62: 중 기 명 | B62: 동력분무기4.85Kw | J62: E00007210048500000
A63: 중기가격 | B63: 922 천원
A64: 명 칭 | C64: 규 격 | D64: 수 량 | E64: 단 위 | F64: 단 가 | G64: 금 액 | H64: 비 고
A65: 경 비 | B65: 동력분무기 | C65: 4.85Kw | D65: =(1125 + 1000 + 674)*10^-4 -> 0.2799 | E65: 천원 | F65: =중기기초!F7 -> 0 | G65: =TRUNC(F65*D65, 0) -> 0 | K65: 10 | M65: G0000721004850000 | N65: .sang=1125 ,jung=1000 ,kwan=674 | AG65: =HYPERLINK("#중기기초자료!A7","G0000721004850000 →") -> G0000721004850000 →
B66: 소계 | G66: =TRUNC(G65, 0) -> 0
A67: 재 료 비 | B67: 휘 발 유 | D67: 1.3 | E67: L | F67: =중기기초!D10 -> 0 | G67: =TRUNC(F67*D67, 2) -> 0 | K67: 20 | M67: M1510150620282203 | AG67: =HYPERLINK("#중기기초자료!A10","M1510150620282203 →") -> M1510150620282203 →
B68: 잡 품 | D68: 20 | E68: % | F68: 0 | G68: =TRUNC((G67) * D68/100, 2) -> 0 | K68: 30 | M68: F/M1
B69: 소계 | G69: =TRUNC(G67+G68, 2) -> 0
A70: 노 무 비
B71: 소계
B72: 총계 | G72: =TRUNC(G66+G69+G71, 2) -> 0

Sheet 8
B4: =갑!D15 -> [ 김제시 죽산면 죽산로126(구 새마을 금고)내·외부공사 ]
J18: 중기사용 기초자료

Sheet 중기기초
A1: 중기기초자료
A2: 명 칭 | B2: 규 격 | C2: 단 위 | D2: 재 료 비 | E2: 노 무 비 | F2: 경 비 | G2: 합 계 | H2: 비 고
A3: 덤프트럭 | B3: 2.5 톤 | C3: 천원 | J3: G0000060200250000
A4: 고소작업차 | B4: 5 ton | C4: 천원 | J4: G0000210600050000
A5: 커터(콘크리트및아스팔트용) | B5: 320-400 mm | C5: 천원 | J5: G0000443004000000
A6: 소형브레이커(전기식) | B6: 1.5kW | C6: 천원 | J6: G0000522000150000
A7: 동력분무기 | B7: 4.85Kw | C7: 천원 | J7: G0000721004850000
A8: 화물차운전사 | B8: 일반공사 직종 | C8: 인 | H8: 2026.09.10 | I8: 56900017059 | J8: L001010101000049
A9: 일반기계운전사 | B9: 일반공사 직종 | C9: 인 | H9: 2026.09.10 | I9: 56900017058 | J9: L001010101000050
A10: 휘 발 유 | C10: L | H10: 2026.09.01 | J10: M1510150620282203
A11: 경 유 | C11: L | H11: 2026.09.01 | J11: M9366005

Sheet 9
B4: =갑!D15 -> [ 김제시 죽산면 죽산로126(구 새마을 금고)내·외부공사 ]
J18: 자 재 목 록 표

Sheet 자재
A1: 자재
A2: 명 칭 | B2: 규 격 | C2: 단 위 | D2: 단 가 | E2: 비 고
A3: 열연후판 | B3: 8.0 ＜T≤ 9.0 2438x6096mm SS275 | C3: M/T | E3: 거가/62(2609)/ | G3: M0063057 | H3: M0063057
A4: 아연도강판 | B4: 1.60x914x1829M/M (3'x6') | C4: M2 | E4: 물자/1-16(2609)/ | G4: M0078032 | H4: M0078032
A5: 구조용각관(백관,아연도) | B5: 30 × 30×1.6mm 1.38KG/M | C5: ｍ | E5: 거가/70(2609)/ | G5: M0131009 | H5: M0131009
A6: 구조용각관(백관,아연도) | B6: 40 × 40×2.3mm 2.62KG/M | C6: ｍ | E6: 거가/70(2609)/ | G6: M0131019 | H6: M0131019
A7: 스테인리스판(STS304) | B7: 1.0M/M | C7: M/T | E7: 물정/1-26(2609)/ | F7: 95150167022 | G7: M0195015 | H7: M0195015
A8: 스테인리스판(STS304) | B8: 2.0M/M | C8: M/T | E8: 물정/1-26(2609)/ | F8: 95150167031 | G8: M0195024 | H8: M0195024
A9: 강모래(광주) | B9: 세사 (시내도착도) | C9: ㎥ | E9: 물자/1-62(2609)/ | G9: M07170A3 | H9: M07170A3
A10: 보통시멘트 | B10: 40kg/대 (포장품) | C10: KG | E10: 물정/1-58(2609)/ | F10: 56100087101 | G10: M0747003 | H10: M0747003
A11: 단면복구용 몰탈 | B11: LDS-Mortar | C11: kg | E11: 물자/1-85(2609)/ | G11: M0801011 | H11: M0801011
A12: 미송각재 | B12: 3.6ｍ x 3.0cm x 3.0cm (상품) | C12: M3 | E12: 유물/73(2609)/ | G12: M0882021 | H12: M0882021
A13: 미송대패가공목재(㎥) | B13: 3600×200×200mm미만 | C13: ㎥ | E13: 물자/1-102(2609)/ | G13: M0980005 | H13: M0980005
A14: 스파이럴심 덕트관 | B14: T0.6x200㎜ | C14: ｍ | E14: 물정/1-121(2609)/ | G14: M1775021 | H14: M1775021
A15: 코킹재 | C15: ㎏ | E15: 물자/1-252(2609)/ | G15: M2061815 | H15: M2061815
A16: 주입용 에폭시 | B16: G7 | C16: kg | E16: 물정/1-461(2609)/ | G16: M3121003 | H16: M3121003
A17: 골함석(아연도강판) | B17: 0.50x914x1829 (가공비포함) | C17: M2 | E17: 물자/1-501(2609)/ | G17: M3144012 | H17: M3144012
A18: 천정점검구 | B18: 300x300 (일반용) | C18: EA | E18: 물정/(2609)/ | F18: 56802387001 | G18: M3429506 | H18: M3429506
A19: 스텐경첩 | B19: 2.0T×102× 89mm | C19: EA | E19: 물자/1-576(2609)/ | F19: 53400357001 | G19: M3894003 | H19: M3894003
A20: 투명로이복층유리(5+14+5) | B20: 24mm,(투명+건조공기+투명로이) | C20: ㎡ | E20: 물자/1-585(2609)/ | G20: M4036023 | H20: M4036023
A21: 에나멜페인트(알키드수지) | B21: KSM6020 1급 백색 18ℓ | C21: L | E21: 물자/1-588(2609)/ | F21: 80100507061 | G21: M4080003 | H21: M4080003
A22: 보통합판 | B22: 4.8x 910x1820㎜ (1급T-II) | C22: M2 | E22: 유물/407(2609)/ | G22: M4329005 | H22: M4329005
A23: 보통합판 | B23: 12 x 910x1820㎜ (1급T-II) | C23: M2 | E23: 유물/407(2609)/ | G23: M4329011 | H23: M4329011
A24: 보통합판 | B24: 18 x 910x1820㎜ (1급T-II) | C24: M2 | E24: 거가/667(2609)/ | G24: M4329015 | H24: M4329015
A25: 동관(L) | B25: 19.05 x 1.07㎜ | C25: ｍ | E25: 물정/1-714(2609)/ | G25: M5103009 | H25: M5103009
A26: 엘보(동관이음쇠) | B26: 19A (5/8")19.05㎜ | C26: EA | E26: 거가/786(2609)/ | G26: M5106011 | H26: M5106011
A27: 소켓(동관이음쇠) | B27: 19A (5/8")19.05㎜ | C27: EA | E27: 거가/786(2609)/ | G27: M5115011 | H27: M5115011
A28: 연마지 | B28: 150-800#230x280㎜ (공연마용) | C28: 매 | E28: 물자/1-1412(2609)/ | G28: M8916015 | H28: M8916015
A29: PE필름(저밀도) | B29: 0.1㎜ x 90cmx 91m | C29: ㎡ | E29: 거가/1460(2609)/ | G29: M9247008 | H29: M9247008
A30: 복층유리 | B30: 복층유리, 로이, 양면반강화, 24mm | C30: ㎡ | E30: 견단/조달청가격정/ | G30: MJD07918
A31: 수성페인트 | B31: 수성페인트, KSM6010-1종1급, 백색 | C31: L | E31: 견단/조달청가격정/ | G31: MJD12358
A32: 강판 가공(금속) | B32: 치수절단,절곡,면처리 | C32: M2 | E32: 견단// | G32: MVP1003
A33: 오일스테인 | B33: 침투성,노빌레 | C33: L | E33: 거가/627/ | G33: MVP2021
A34: 스타코 마감코트 | B34: 스타고 마감재 | C34: kg | E34: 거가/1523/ | G34: MVP2122
A35: 비계안정장치 | B35: 비계안정장치, 가새, 1.2*1.9m | C35: 개 | E35: 거가/166/ | G35: MVP3102
A36: 비계안정장치 | B36: 비계안정장치, 수평띠장, 1829mm | C36: 개 | E36: 거가/166/ | G36: MVP3103
A37: 비계안정장치 | B37: 비계안정장치, 바퀴 | C37: 개 | E37: 거가/166/ | G37: MVP3104
A38: 비계안정장치 | B38: 비계안정장치, 비계기본틀, 기둥, 1.2*1.7m | C38: 개 | E38: 거가/167/ | G38: MVP3105
A39: 비계안정장치 | B39: 비계안정장치, 발판, 500*1829 | C39: 장 | E39: 거가/167/ | G39: MVP3107
A40: 앵커볼트 | B40: HSA-M16×137 | C40: EA | E40: 물자/54(26.7)/ | G40: MZZ1002683
A41: PVC파이프(일반관),광주 | B41: D=50mm(VG2) | C41: M | E41: 물자/754(26.7)/ | G41: MZZ1002902
A42: 후막형 에폭시계 도료 | C42: ℓ | E42: 물자/649(22.4)/ | G42: MZZ1003409
A43: 에폭시계 프라이머 | C43: ℓ | E43: 물자/649(22.4)/ | G43: MZZ1003411
A44: 블레이드 | B44: 7"×2.3mm(마른날) | C44: EA | E44: 물자/1414(26.7)/ | G44: MZZ1005631
A45: 경량철골천정틀 | B45: 인서트,Φ6mm Φ9mm | C45: 개 | E45: 물자/505(26.3)/ | G45: MZZ1007925
A46: 경량철골천정틀 | B46: 달대볼트,Φ6×1000mm | C46: 개 | E46: 물자/505(26.3)/ | G46: MZZ1007926
A47: 경량철골천정틀 | B47: 캐링찬넬, 1.2t×38×12 | C47: M | E47: 물자/505(26.3)/ | G47: MZZ1007928
A48: 경량철골천정틀 | B48: 행거및핀, L100mm | C48: 조 | E48: 물자/505(26.3)/ | G48: MZZ1007930
A49: 경량철골천정틀 | B49: M-BAR, 0.5t×50×25 | C49: M | E49: 물자/505(26.3)/ | G49: MZZ1007932
A50: 경량철골천정틀 | B50: 찬넬클립 | C50: 조 | E50: 유물/415(13.3)/ | G50: MZZ1007940
A51: 경량철골천정틀 | B51: 캐링조인트 | C51: 조 | E51: 물정/656(22.8)/ | G51: MZZ1007941
A52: 경량철골천정틀 | B52: M-BAR 클립 | C52: 개 | E52: 물정/656(22.8)/ | G52: MZZ1007942
A53: PVC 파이프 (수도용) | B53: D25mm | C53: M | E53: 물자/754(26.7)/ | G53: MZZ1011427
A54: PVC 소켓 | B54: D25mm | C54: 개 | E54: 거가/794(26.7)/ | G54: MZZ1011442
A55: PVC 소켓 | B55: D50mm | C55: 개 | E55: 거가/794(26.7)/ | G55: MZZ1011446
... A80: 벽 타일 | B80: 61.5*188.5 스카이블루 TL-03 | C80: M2 | E80: 견단// | G80: MZZ90000171
A81: 커튼박스 설치 | C81: M | E81: 견단// | G81: MZZ9000018
A82: 여닫이 도어 | B82: 820*H2070 ABS 필름 | C82: EA | E82: 견단// | G82: MZZ9000019
A83: 미닫이 도어 | B83: 690*H1795 ABS 필름 | C83: EA | E83: 견단// | G83: MZZ9000020
A84: 여닫이 도어 | B84: 695*H1795 ABS 필름 | C84: EA | E84: 견단// | G84: MZZ9000021
A85: 여닫이 도어 | B85: 685*H1880 ABS 필름 | C85: EA | E85: 견단// | G85: MZZ9000023
A86: 창고 출입문 | B86: 777*2050 금속,문틀포함 | C86: EA | E86: 견단// | G86: MZZ9000024
A87: 원목기둥 설치 | B87: D90*H3000 | C87: EA | E87: 견단// | G87: MZZ9000025
A88: 원목기둥 설치 | B88: D160*H3000 | C88: EA | E88: 견단// | G88: MZZ9000026
A89: 바닥 가공합판 붙임 | B89: T18.0 CNC가공합판 | C89: M | E89: 견단// | G89: MZZ9000027
A90: 냉난방기 4Way(천정형) | B90: 30평형, 무풍 | C90: 대 | E90: 견단// | G90: MZZ9000030
A91: 냉난방기 4Way(천정형) | B91: 25평형 무풍 | C91: 대 | E91: 견단// | G91: MZZ9000031
A92: 냉난방기(벽걸이) | B92: 무풍 AI 콤보 | C92: 대 | E92: 견단// | G92: MZZ9000032
A93: 냉난방기 4Way(천정형) | B93: 40평형, 무풍 | C93: 대 | E93: 견단// | G93: MZZ9000033
... A159: 화장실선반 | B159: L500 삼각형 코너형 | C159: EA | E159: 견단// | G159: MZZ9000133

Sheet 10
B4: =갑!D15 -> [ 김제시 죽산면 죽산로126(구 새마을 금고)내·외부공사 ]
J18: 자 재 조 서

Sheet 자재조서
A1: 자재조서
A2: 코 드 | B2: 명 칭 | C2: 규 격 | D2: 단위 | E2: 적용단가 | F2: 물가정보 | H2: 거래가격 | J2: 물가자료 | L2: 유통물가 | N2: 견적단가 | P2: 적용방법 | Q2: 적용일시
F3: 단가 | G3: Page | H3: 단가 | I3: Page | J3: 단가 | K3: Page | L3: 단가 | M3: Page | N3: 단가 | O3: Page
A4: M0063057 | B4: 열연후판 | C4: 8.0 ＜T≤ 9.0 2438x6096mm SS275 | D4: M/T | G4: 1-14(2609) | I4: 62(2609) | K4: 1-14(2609) | M4: 26(2609) | P4: 최저단가 | Q4: 2026-09-12 09:13:41
A5: M0078032 | B5: 아연도강판 | C5: 1.60x914x1829M/M (3'x6') | D5: M2 | I5: 66(2609) | K5: 1-16(2609) | P5: 최저단가 | Q5: 2026-09-12 09:13:42
A6: M0131009 | B6: 구조용각관(백관,아연도) | C6: 30 × 30×1.6mm 1.38KG/M | D6: ｍ | I6: 70(2609) | K6: 1-26(2609) | P6: 최저단가 | Q6: 2026-09-12 09:13:47
A7: M0131019 | B7: 구조용각관(백관,아연도) | C7: 40 × 40×2.3mm 2.62KG/M | D7: ｍ | I7: 70(2609) | P7: 최저단가 | Q7: 2026-09-12 09:13:47
A8: M0195015 | B8: 스테인리스판(STS304) | C8: 1.0M/M | D8: M/T | G8: 1-26(2609) | I8: 73(2609) | K8: 1-30(2609) | M8: 36(2609) | P8: 최저단가 | Q8: 2026-09-12 09:13:50
A9: M0195024 | B9: 스테인리스판(STS304) | C9: 2.0M/M | D9: M/T | G9: 1-26(2609) | I9: 73(2609) | K9: 1-30(2609) | M9: 36(2609) | P9: 최저단가 | Q9: 2026-09-12 09:13:50
A10: M07170A3 | B10: 강모래(광주) | C10: 세사 (시내도착도) | D10: ㎥ | G10: 1-55(2609) | K10: 1-62(2609) | M10: 61(2609) | P10: 최저단가 | Q10: 2026-09-12 09:14:20
A11: M0747003 | B11: 보통시멘트 | C11: 40kg/대 (포장품) | D11: KG | G11: 1-58(2609) | I11: 102(2609) | K11: 1-65(2609) | M11: 62(2609) | P11: 최저단가 | Q11: 2026-09-12 09:14:38
A12: M0801011 | B12: 단면복구용 몰탈 | C12: LDS-Mortar | D12: kg | K12: 1-85(2609) | P12: 최저단가 | Q12: 2026-09-12 09:15:04
A13: M0882021 | B13: 미송각재 | C13: 3.6ｍ x 3.0cm x 3.0cm (상품) | D13: M3 | I13: 147(2609) | K13: 1-98(2609) | M13: 73(2609) | P13: 최저단가 | Q13: 2026-09-12 09:15:05
A14: M0980005 | B14: 미송대패가공목재(㎥) | C14: 3600×200×200mm미만 | D14: ㎥ | I14: 152(2609) | K14: 1-102(2609) | P14: 최저단가 | Q14: 2026-09-12 09:15:06
A15: M1775021 | B15: 스파이럴심 덕트관 | C15: T0.6x200㎜ | D15: ｍ | G15: 1-121(2609) | M15: 108(2609) | P15: 최저단가 | Q15: 2026-09-12 09:16:48
A16: M2061815 | B16: 코킹재 | D16: ㎏ | K16: 1-252(2609) | P16: 최저단가 | Q16: 2026-09-12 09:17:06
A17: M3121003 | B17: 주입용 에폭시 | C17: G7 | D17: kg | G17: 1-461(2609) | P17: 최저단가 | Q17: 2026-09-12 09:17:32
A18: M3144012 | B18: 골함석(아연도강판) | C18: 0.50x914x1829 (가공비포함) | D18: M2 | K18: 1-501(2609) | M18: 425(2609)\ | P18: 최저단가 | Q18: 2026-09-27 21:39:50
A19: M3429506 | B19: 천정점검구 | C19: 300x300 (일반용) | D19: EA | G19: (2609) | I19: (2609) | K19: 1-505(2609) | M19: (2609) | P19: 최저단가 | Q19: 2026-09-12 09:17:35
A20: M3894003 | B20: 스텐경첩 | C20: 2.0T×102× 89mm | D20: EA | I20: 658(2609) | K20: 1-576(2609) | M20: 451(2609) | P20: 최저단가 | Q20: 2026-09-12 09:17:36
A21: M4036023 | B21: 투명로이복층유리(5+14+5) | C21: 24mm,(투명+건조공기+투명로이) | D21: ㎡ | K21: 1-585(2609) | P21: 최저단가 | Q21: 2026-09-12 09:17:39
A22: M4080003 | B22: 에나멜페인트(알키드수지) | C22: KSM6020 1급 백색 18ℓ | D22: L | K22: 1-588(2609) | P22: 최저단가 | Q22: 2026-09-12 09:17:39
A23: M4329005 | B23: 보통합판 | C23: 4.8x 910x1820㎜ (1급T-II) | D23: M2 | G23: 1-587(2609) | I23: 667(2609) | K23: 1-670(2609) | M23: 407(2609) | P23: 최저단가 | Q23: 2026-09-12 09:17:43
A24: M4329011 | B24: 보통합판 | C24: 12 x 910x1820㎜ (1급T-II) | D24: M2 | G24: 1-587(2609) | I24: 667(2609) | K24: 1-670(2609) | M24: 407(2609) | P24: 최저단가 | Q24: 2026-09-12 09:17:43
A25: M4329015 | B25: 보통합판 | C25: 18 x 910x1820㎜ (1급T-II) | D25: M2 | G25: 1-587(2609) | I25: 667(2609) | P25: 최저단가 | Q25: 2026-09-12 09:17:43
A26: M5103009 | B26: 동관(L) | C26: 19.05 x 1.07㎜ | D26: ｍ | G26: 1-714(2609) | I26: 785(2609) | K26: 1-734(2609) | M26: 546(2609) | P26: 최저단가 | Q26: 2026-09-12 09:18:26
A27: M5106011 | B27: 엘보(동관이음쇠) | C27: 19A (5/8") 19.05㎜ | D27: EA | G27: 1-715(2609) | I27: 786(2609) | P27: 최저단가 | Q27: 2026-09-12 09:18:26
A28: M5115011 | B28: 소켓(동관이음쇠) | C28: 19A (5/8") 19.05㎜ | D28: EA | G28: 1-715(2609) | I28: 786(2609) | P28: 최저단가 | Q28: 2026-09-12 09:18:27
A29: M8916015 | B29: 연마지 | C29: 150-800# 230x280㎜ (공연마용) | D29: 매 | G29: 1-1078(2609) | I29: 1337(2609) | K29: 1-1412(2609) | M29: 1168(2609) | P29: 최저단가 | Q29: 2026-09-12 09:23:00
A30: M9247008 | B30: PE필름(저밀도) | C30: 0.1㎜ x 90cmx 91m | D30: ㎡ | I30: 1460(2609) | K30: 2-18(2609) | M30: 1182(2609) | P30: 최저단가 | Q30: 2026-09-12 09:23:04
A31: MJD07918 | B31: 복층유리 | C31: 복층유리, 로이, 양면반강화, 24mm | D31: ㎡ | O31: 조달청가격정보
A32: MJD12358 | B32: 수성페인트 | C32: 수성페인트, KSM6010-1종1급, 백색 | D32: L | O32: 조달청가격정보
A33: MVP1003 | B33: 강판 가공(금속) | C33: 치수절단,절곡,면처리 | D33: M2 | P33: 최저단가 | Q33: 2026-08-07 12:39:33
A34: MVP2021 | B34: 오일스테인 | C34: 침투성,노빌레 | D34: L | I34: 627
A35: MVP2122 | B35: 스타코 마감코트 | C35: 스타고 마감재 | D35: kg | I35: 1523
A36: MVP3102 | B36: 비계안정장치 | C36: 비계안정장치, 가새, 1.2*1.9m | D36: 개 | I36: 166 | M36: 82 | P36: 최저단가 | Q36: 2026-07-29 16:16:10
A37: MVP3103 | B37: 비계안정장치 | C37: 비계안정장치, 수평띠장, 1829mm | D37: 개 | I37: 166 | M37: 82 | P37: 최저단가 | Q37: 2026-07-29 16:16:10
A38: MVP3104 | B38: 비계안정장치 | C38: 비계안정장치, 바퀴 | D38: 개 | I38: 166 | P38: 최저단가 | Q38: 2026-07-29 16:16:10
A39: MVP3105 | B39: 비계안정장치 | C39: 비계안정장치, 비계기본틀, 기둥, 1.2*1.7m | D39: 개 | I39: 167 | M39: 82 | P39: 최저단가 | Q39: 2026-07-29 16:16:10
A40: MVP3107 | B40: 비계안정장치 | C40: 비계안정장치, 발판, 500*1829 | D40: 장 | I40: 167 | P40: 최저단가 | Q40: 2026-07-29 16:16:10
A41: MZZ1002683 | B41: 앵커볼트 | C41: HSA-M16×137 | D41: EA | K41: 54(26.7) | P41: 최저단가 | Q41: 2026-07-06 19:07:50
A42: MZZ1002902 | B42: PVC파이프(일반관),광주 | C42: D=50mm(VG2) | D42: M | G42: 720(26.7) | I42: 793(26.7) | K42: 754(26.7) | M42: 554(26.7) | P42: 최저단가 | Q42: 2026-07-06 19:07:50
A43: MZZ1003409 | B43: 후막형 에폭시계 도료 | D43: ℓ | I43: 624(22.7) | K43: 649(22.4) | P43: 최저단가 | Q43: 2026-07-06 19:07:51
A44: MZZ1003411 | B44: 에폭시계 프라이머 | D44: ℓ | I44: 624(22.7) | K44: 649(22.4) | P44: 최저단가 | Q44: 2026-07-06 19:07:51
A45: MZZ1005631 | B45: 블레이드 | C45: 7"×2.3mm(마른날) | D45: EA | G45: 1080(26.7) | K45: 1414(26.7) | P45: 최저단가 | Q45: 2026-07-06 19:07:52
A46: MZZ1007925 | B46: 경량철골천정틀 | C46: 인서트,Φ6mm Φ9mm | D46: 개 | G46: 641(26.3) | I46: 673(26.5) | K46: 505(26.3) | M46: 420(26.4) | P46: 최저단가 | Q46: 2026-07-06 19:07:54
A47: MZZ1007926 | B47: 경량철골천정틀 | C47: 달대볼트,Φ6×1000mm | D47: 개 | G47: 641(26.3) | I47: 673(26.5) | K47: 505(26.3) | M47: 420(26.4) | P47: 최저단가 | Q47: 2026-07-06 19:07:54
A48: MZZ1007928 | B48: 경량철골천정틀 | C48: 캐링찬넬, 1.2t×38×12 | D48: M | G48: 641(26.3) | I48: 673(26.5) | K48: 505(26.3) | M48: 420(26.4) | P48: 최저단가 | Q48: 2026-07-06 19:07:54
A49: MZZ1007930 | B49: 경량철골천정틀 | C49: 행거및핀, L100mm | D49: 조 | G49: 641(26.3) | I49: 673(26.5) | K49: 505(26.3) | M49: 420(26.4) | P49: 최저단가 | Q49: 2026-07-06 19:07:54
A50: MZZ1007932 | B50: 경량철골천정틀 | C50: M-BAR, 0.5t×50×25 | D50: M | G50: 641(26.3) | I50: 673(26.5) | K50: 505(26.3) | M50: 420(26.4) | P50: 최저단가 | Q50: 2026-07-06 19:07:54
A51: MZZ1007940 | B51: 경량철골천정틀 | C51: 찬넬클립 | D51: 조 | M51: 415(13.3) | P51: 최저단가 | Q51: 2026-07-06 19:07:54
A52: MZZ1007941 | B52: 경량철골천정틀 | C52: 캐링조인트 | D52: 조 | G52: 656(22.8) | P52: 최저단가 | Q52: 2026-07-06 19:07:54
A53: MZZ1007942 | B53: 경량철골천정틀 | C53: M-BAR 클립 | D53: 개 | G53: 656(22.8) | P53: 최저단가 | Q53: 2026-07-06 19:07:54
A54: MZZ1011427 | B54: PVC 파이프 (수도용) | C54: D25mm | D54: M | G54: 720(26.7) | I54: 793(26.7) | K54: 754(26.7) | M54: 554(26.7) | P54: 최저단가 | Q54: 2026-07-06 19:07:56
A55: MZZ1011442 | B55: PVC 소켓 | C55: D25mm | D55: 개 | G55: 721(26.7) | I55: 794(26.7) | K55: 755(26.7) | M55: 554(26.7) | P55: 최저단가 | Q55: 2026-07-06 19:07:56
A56: MZZ1011446 | B56: PVC 소켓 | C56: D50mm | D56: 개 | G56: 721(26.7) | I56: 794(26.7) | K56: 755(26.7) | M56: 554(26.7) | P56: 최저단가 | Q56: 2026-07-06 19:07:56
A57: MZZ1011473 | B57: PVC 티이 | C57: D25mm | D57: 개 | G57: 721(26.7) | I57: 794(26.7) | K57: 755(26.7) | M57: 554(26.7) | P57: 최저단가 | Q57: 2026-07-06 19:07:56
A58: MZZ1011476 | B58: PVC 티이 | C58: D50mm | D58: 개 | G58: 721(26.7) | I58: 794(26.7) | K58: 755(26.7) | M58: 554(26.7) | P58: 최저단가 | Q58: 2026-07-06 19:07:56
A59: MZZ1011523 | B59: PVC 엘보 | C59: D25mm | D59: 개 | G59: 721(26.7) | I59: 794(26.7) | K59: 755(26.7) | M59: 554(26.7) | P59: 최저단가 | Q59: 2026-07-06 19:07:56
A60: MZZ1011527 | B60: PVC 엘보 | C60: D50mm | D60: 개 | G60: 721(26.7) | I60: 794(26.7) | K60: 755(26.7) | M60: 554(26.7) | P60: 최저단가 | Q60: 2026-07-06 19:07:56
A61: MZZ2000001 | B61: 방부목 목재도어 | C61: 900*2100 틀,하드웨어 포함 | D61: Set | P61: 최저단가 | Q61: 2026-09-27 22:11:51
A62: MZZ2000004 | B62: 탄소섬유 시트 보강 | C62: 탄소섬유시트 300g | D62: M2 | I62: 121 | P62: 최저단가 | Q62: 2026-09-26 11:10:54
A63: MZZ2000005 | B63: 금속 어닝설치 | C63: L3845*510*H1030 | D63: EA | P63: 입력단가 | Q63: 2026-09-26 11:58:51
A64: MZZ9000001 | B64: 시스템 고정창호 | C64: 395*1395 AL, T24 로이투명 | D64: EA
A65: MZZ9000002 | B65: 시스템 고정창호 | C65: 1495*2490 AL, T24 로이투명 | D65: EA
A66: MZZ9000003 | B66: 시스템 미서기창호 | C66: 1500*2085 AL, T24 로이투명 | D66: EA
A67: MZZ9000004 | B67: 시스템 미서기창호 | C67: 1495*2085 AL, T24 로이투명 | D67: EA
A68: MZZ9000005 | B68: 시스템 미서기창호 | C68: 1485*2085 AL, T24 로이투명 | D68: EA
A69: MZZ9000006 | B69: 시스템 고정창호 | C69: 1200*2490 AL, T24 로이투명 | D69: EA
A70: MZZ9000007 | B70: 시스템 여닫이 도어 | C70: 950*2150 AL, T24 로이투명 | D70: EA
A71: MZZ9000008 | B71: 시스템 슬라이딩 도어 | C71: 1500*1495 AL, T24 로이투명 | D71: EA
A72: MZZ9000009 | B72: 시스템 고정창호 | C72: 900*890 AL, T24 로이투명 | D72: EA
A73: MZZ9000010 | B73: 시스템 고정창호 | C73: 785*390 AL, T24 로이투명 | D73: EA
A74: MZZ9000011 | B74: 시스템 프로젝트창호 | C74: 865*925 AL, T24 로이투명 | D74: EA
A75: MZZ9000012 | B75: 시스템 프로젝트창호 | C75: 810*840 AL, T24 로이투명 | D75: EA
A76: MZZ9000013 | B76: 로이 복층유리 | C76: T24(5+14+5) 저철분 | D76: M2 | P76: 최저단가 | Q76: 2026-09-27 08:14:04
A77: MZZ9000014 | B77: 폴딩도어 레일 | C77: 금속레일 | D77: M | P77: 입력단가 | Q77: 2026-09-27 09:22:00
A78: MZZ9000015 | B78: 유리 브라켓 | C78: L470 | D78: EA | P78: 입력단가 | Q78: 2026-09-27 09:22:02
A79: MZZ9000016 | B79: 벽 타일 | C79: 45*195 버건디 TL-01 | D79: M2 | P79: 입력단가 | Q79: 2026-09-27 19:36:35
A80: MZZ9000017 | B80: 벽 타일 | C80: 100*100 옐로우 TL-02 | D80: M2 | P80: 입력단가 | Q80: 2026-09-27 19:36:40
A81: MZZ90000171 | B81: 벽 타일 | C81: 61.5*188.5 스카이블루 TL-03 | D81: M2 | P81: 입력단가 | Q81: 2026-09-27 19:36:40
A82: MZZ9000018 | B82: 커튼박스 설치 | D82: M | P82: 입력단가 | Q82: 2026-09-27 19:39:05
A83: MZZ9000019 | B83: 여닫이 도어 | C83: 820*H2070 ABS 필름 | D83: EA | P83: 입력단가 | Q83: 2026-09-27 19:42:16
A84: MZZ9000020 | B84: 미닫이 도어 | C84: 690*H1795 ABS 필름 | D84: EA | P84: 입력단가 | Q84: 2026-09-27 19:42:18
A85: MZZ9000021 | B85: 여닫이 도어 | C85: 695*H1795 ABS 필름 | D85: EA | P85: 입력단가 | Q85: 2026-09-27 19:42:20
A86: MZZ9000023 | B86: 여닫이 도어 | C86: 685*H1880 ABS 필름 | D86: EA | P86: 입력단가 | Q86: 2026-09-27 21:29:14
A87: MZZ9000024 | B87: 창고 출입문 | C87: 777*2050 금속,문틀포함 | D87: EA | P87: 입력단가 | Q87: 2026-09-27 21:31:42
A88: MZZ9000025 | B88: 원목기둥 설치 | C88: D90*H3000 | D88: EA | P88: 입력단가 | Q88: 2026-09-27 21:42:15
A89: MZZ9000026 | B89: 원목기둥 설치 | C89: D160*H3000 | D89: EA | P89: 입력단가 | Q89: 2026-09-27 21:42:18
A90: MZZ9000027 | B90: 바닥 가공합판 붙임 | C90: T18.0 CNC가공합판 | D90: M | P90: 입력단가 | Q90: 2026-09-27 21:45:13
A91: MZZ9000030 | B91: 냉난방기 4Way(천정형) | C91: 30평형, 무풍 | D91: 대 | P91: 입력단가 | Q91: 2026-09-27 21:14:02
A92: MZZ9000031 | B92: 냉난방기 4Way(천정형) | C92: 25평형 무풍 | D92: 대 | P92: 입력단가 | Q92: 2026-09-27 20:18:56
A93: MZZ9000032 | B93: 냉난방기(벽걸이) | C93: 무풍 AI 콤보 | D93: 대 | P93: 입력단가 | Q93: 2026-09-27 21:14:25
A94: MZZ9000033 | B94: 냉난방기 4Way(천정형) | C94: 40평형, 무풍 | D94: 대 | P94: 입력단가 | Q94: 2026-09-27 21:14:47
A95: MZZ9000041 | B95: 빔프로젝터 | C95: LG전자 시네빔 HU915QE 사은제공 NT | D95: 대
A96: MZZ9000042 | B96: 프로젝터 스크린 | C96: 윤씨네 CLR-PEH 초단초점 전동 포터블 텐션 빔스크린 가정용 홈시어터 256.4cm(100), | D96: EA
A97: MZZ9000044 | B97: 순간 온수기 | C97: 스테인리스 온수기 벽걸이형 15L (REW-SM15W) | D97: EA
A98: MZZ9000045 | B98: 순간온수기 | C98: 프리미엄 스테인레스 온수기 벽걸이형 100L (REW-SA100W) | D98: EA
A99: MZZ9000050 | B99: 편집기 | C99: Mac mini pro M4 M4 pro / 12코어 cpu, 16코어 gpu 24gb / 512gb / 기가비트 이더넷 | D99: EA
A100: MZZ9000051 | B100: 허브 | C100: 벨킨 connect USB C 7in1 멀티 포트 허브 어댑터 AVC009fqSGY V2 | D100: EA
...

Sheet 11
B4: =갑!D15 -> [ 김제시 죽산면 죽산로126(구 새마을 금고)내·외부공사 ]
J18: 시 중 노 임

Sheet 노임
A1: 노임
A2: 명 칭 | B2: 규 격 | C2: 단 위 | D2: 단 가 | E2: 비 고
A3: 보통인부 | B3: 일반공사 직종 | C3: 인 | G3: L001010101000002
A4: 특별인부 | B4: 일반공사 직종 | C4: 인 | G4: L001010101000003
A5: 비계공 | B5: 일반공사 직종 | C5: 인 | G5: L001010101000006
A6: 철공 | B6: 일반공사 직종 | C6: 인 | G6: L001010101000009
A7: 철골공 | B7: 일반공사 직종 | C7: 인 | G7: L001010101000011
A8: 용접공 | B8: 일반공사 직종 | C8: 인 | G8: L001010101000012
A9: 착암공 | B9: 일반공사 직종 | C9: 인 | G9: L001010101000015
A10: 조적공 | B10: 일반공사 직종 | C10: 인 | G10: L001010101000021
A11: 견출공 | B11: 일반공사 직종 | C11: 인 | G11: L001010101000022
A12: 건축목공 | B12: 일반공사 직종 | C12: 인 | G12: L001010101000023
A13: 창호공 | B13: 일반공사 직종 | C13: 인 | G13: L001010101000024
A14: 유리공 | B14: 일반공사 직종 | C14: 인 | G14: L001010101000025
... A28: 철거공 | B28: 일반공사 직종 | C28: 인 | G28: L001010501000124

Sheet 12
B4: =갑!D15 -> [ 김제시 죽산면 죽산로126(구 새마을 금고)내·외부공사 ]
J18: 수 량 산 출 서

Sheet 수량(구조보강)
A1: 수량 집계표 (구조보강공사 산출서) | G1: =갑!B10 -> 김제시 죽산면 죽산로126(구 새마을 금고)내·외부공사
A2: No. | B2: 공종명 | C2: 규격 | D2: 단위 | E2: 수량 | F2: 산출근거 | G2: 비 고
A3: 1 | B3: 구조 보강공사
B4: 보 탄소섬유 보강 | C4: Type1 - G1 300*500 (측면,하부2P All) | D4: M | E4: =4.725 -> 4.725 | F4: 창고 클린룸 세로 보 4.725 | G4: 1층
B5: 보 철판 보강 | C5: Type2 - G2 300*500 (T9.0 측면,하부 All) | D5: M | E5: =7.36 -> 7.36 | F5: 메인홀 가로보 7.36 | G5: 1층
B6: 보 탄소섬유 보강 | C6: Type3 - G1 300*500 (하부2P All) | D6: M | E6: =7.09 -> 7.09 | F6: 스튜디오 가로보 7.09 | G6: 2층
B7: 보 탄소섬유 보강 | C7: Type4 - B1 300*500 (단면복원 및 탄소섬유보강 2P All) | D7: M | E7: =2.8 -> 2.8 | F7: 스튜디오 세로보 2.80 | G7: 2층

Sheet 수량(외부)
A1: 수량 집계표 (외부 수량 산출서) | G1: =갑!B10 -> 김제시 죽산면 죽산로126(구 새마을 금고)내·외부공사
A2: No. | B2: 공종명 | C2: 규격 | D2: 단위 | E2: 수량 | F2: 산출근거 | G2: 비 고
A3: 1 | B3: 가설공사
B4: 교통통제 및 안전처리 | C4: 통행 안전시설물 설치 | D4: 회 | E4: 1 | F4: 철거시 안전처리
A19: =A3+1 -> 2 | B19: 철거공사
B20: 금속 천정판 철거 | C20: 금속 처마 W400 | D20: M2 | E20: =9.13*0.4 -> 3.652 | F20: 캐드 길이 9.13*0.4폭 | G20: 입구천정
B21: 강재창호 철거 | C21: 유리문 2475*3280 | D21: 개소 | E21: 1 | F21: 외부 입면 전면 출입문 | G21: =2.475*3.28 -> 8.118
B22: 강재창호 철거 | C22: 유리문 920*3280 | D22: 개소 | E22: 1 | F22: 외부 입면 전면 출입문 | G22: =0.92*3.28 -> 3.0176
B23: 화장실 상부창철거 | C23: 800*400 | D23: 개소 | E23: 1 | F23: 화장실 외부 나가는 출입문 상부
B24: 알루미늄 창호철거(정면) | C24: 1485*2175 | D24: 개소 | E24: 4 | F24: 외부 입면 전면 창호 | G24: =1.485*2.175 -> 3.229875
B25: 알루미늄 창호철거(정면) | C25: 3845*2345 | D25: 개소 | E25: 1 | F25: 외부 입면 유리창호 | G25: =3.845*2.345 -> 9.016525
B26: 알루미늄 창호철거(좌측면) | C26: 830*920 | D26: 개소 | E26: 1 | F26: 외부 좌측면 창호 | G26: =0.83*0.92 -> 0.7636
B27: 알루미늄 창호철거(좌측면) | C27: 900*900 | D27: 개소 | E27: 2 | F27: 외부 좌측면 창호 | G27: =0.9*0.9 -> 0.81
B28: 알루미늄 창호철거(좌측면) | C28: 1200*2490 | D28: 개소 | E28: 1 | F28: 외부 좌측면 창호 | G28: =1.2*2.49 -> 2.988
B29: 알루미늄 창호철거(우측면) | C29: 1495*2470 | D29: 개소 | E29: 1 | F29: 외부 우측면 창호 | G29: =1.495*2.47 -> 3.69265
B30: 알루미늄 창호철거(우측면) | C30: 1395*1395 | D30: 개소 | E30: 1 | F30: 외부 우측면 창호 | G30: =1.395*1.395 -> 1.946025
B31: 벽면 목재철거 | C31: 데크재 철거 | D31: M2 | E31: =(9.13*3.4)-(0.92*3.4+2.475*3.4+3.845*2.345)+0.6*3.4*8 -> 26.802475 | F31: (9.13*3.4)-(0.92*3.4+2.475*3.4+3.845*2.345)+0.6*3.4*8
B32: 목재 구조틀 철거 | C32: 평구조 각관 목재틀 | D32: Ton | E32: =(4.5*3.34*26.8)/1000 -> 0.402804 | F32: 1M2 당 4.5미터 * 3.34Kg 단위중량* 총면적 26.8 / 1000
B33: 타일 철거 | C33: 벽 타일 | D33: M2 | E33: =(9.13*3.4)-(0.92*3.4+2.475*3.4+3.845*2.345)+0.6*3.4*8 -> 26.802475 | F33: (9.13*3.4)-(0.92*3.4+2.475*3.4+3.845*2.345)+0.6*3.4*8
B34: 조적벽체 철거 | C34: 화단부분철거 | D34: M3 | E34: =1.5*0.3*0.3 -> 0.135 | F34: 1.5*0.3*0.3
B35: 폐기물 상차 | C35: 혼합폐기물 | D35: Ton | E35: =G107 -> 1.9499173 | F35: 폐기물 총 중량 계
A36: =A19+1 -> 3 | B36: 외부시설및마감공사
B37: 콘크리트 면정리 | C37: 바탕 연마기면정리3.6m이하 | D37: M2 | E37: =(9.13*3.4)-(0.92*3.4+2.475*3.4+3.845*2.345)+0.6*3.4*8+3.65 -> 30.452475 | F37: (9.13*3.4)-(0.92*3.4+2.475*3.4+3.845*2.345)+0.6*3.4*8+3.65 | G37: 타일철거부위+입구천정
B38: 목재도어 설치 | C38: 방부목 900*2100 | D38: EA | E38: 1 | F38: 좌측 통로 출입문1개 설치
B39: 금속 어닝 설치 | C39: L3845*510*H1030 | D39: EA | E39: 1 | F39: 1개설치
A52: =A36+1 -> 4 | B52: 창호공사
A53: WW-01 | B53: 시스템 고정창호 | C53: 1395*1395 AL, T24 로이투명 | D53: EA | E53: 1 | F53: 창호 설치 수량 | G53: =I53/1000*J53/1000 -> 1.946025 | H53: =I53*2/1000+J53*2/1000 -> 5.58 | I53: 1395 | J53: 1395 | K53: AL, | L53: T24 | M53: 로이투명
A54: WW-02 | B54: 시스템 고정창호 | C54: 1495*2490 AL, T24 로이투명 | D54: EA | E54: 1 | F54: 창호 설치 수량 | G54: =I54/1000*J54/1000 -> 3.72255 | H54: =I54*2/1000+J54*2/1000 -> 7.97 | I54: 1495 | J54: 2490 | K54: AL, | L54: T24 | M54: 로이투명
A55: WW-03 | B55: 시스템 미서기창호 | C55: 1500*2085 AL, T24 로이투명 | D55: EA | E55: 1 | F55: 창호 설치 수량 | G55: =I55/1000*J55/1000 -> 3.1275 | H55: =I55*2/1000+J55*2/1000 -> 7.17 | I55: 1500 | J55: 2085 | K55: AL, | L55: T24 | M55: 로이투명
A56: WW-04 | B56: 시스템 미서기창호 | C56: 1495*2085 AL, T24 로이투명 | D56: EA | E56: 2 | F56: 창호 설치 수량 | G56: =I56/1000*J56/1000 -> 3.117075 | H56: =I56*2/1000+J56*2/1000 -> 7.16 | I56: 1495 | J56: 2085 | K56: AL, | L56: T24 | M56: 로이투명
A57: WW-05 | B57: 시스템 미서기창호 | C57: 1485*2085 AL, T24 로이투명 | D57: EA | E57: 1 | F57: 창호 설치 수량 | G57: =I57/1000*J57/1000 -> 3.096225 | H57: =I57*2/1000+J57*2/1000 -> 7.14 | I57: 1485 | J57: 2085 | K57: AL, | L57: T24 | M57: 로이투명
A58: WW-06 | B58: 시스템 고정창호 | C58: 1200*2490 AL, T24 로이투명 | D58: EA | E58: 1 | F58: 창호 설치 수량 | G58: =I58/1000*J58/1000 -> 2.988 | H58: =I58*2/1000+J58*2/1000 -> 7.38 | I58: 1200 | J58: 2490 | K58: AL, | L58: T24 | M58: 로이투명
A59: WD-01 | B59: 시스템 여닫이 도어 | C59: 950*2150 AL, T24 로이투명 | D59: EA | E59: 1 | F59: 창호 설치 수량 | G59: =I59/1000*J59/1000 -> 2.0425 | H59: =I59*2/1000+J59*2/1000 -> 6.2 | I59: 950 | J59: 2150 | K59: AL, | L59: T24 | M59: 로이투명
A60: AW-01 | B60: 시스템 슬라이딩 도어 | C60: 1500*1495 AL, T24 로이투명 | D60: EA | E60: 1 | F60: 창호 설치 수량 | G60: =I60/1000*J60/1000 -> 2.2425 | H60: =I60*2/1000+J60*2/1000 -> 5.99 | I60: 1500 | J60: 1495 | K60: AL, | L60: T24 | M60: 로이투명
A61: AW-02 | B61: 시스템 고정창호 | C61: 900*890 AL, T24 로이투명 | D61: EA | E61: 2 | F61: 창호 설치 수량 | G61: =I61/1000*J61/1000 -> 0.801 | H61: =I61*2/1000+J61*2/1000 -> 3.58 | I61: 900 | J61: 890 | K61: AL, | L61: T24 | M61: 로이투명
A62: AW-03 | B62: 시스템 고정창호 | C62: 785*390 AL, T24 로이투명 | D62: EA | E62: 1 | F62: 창호 설치 수량 | G62: =I62/1000*J62/1000 -> 0.30615 | H62: =I62*2/1000+J62*2/1000 -> 2.35 | I62: 785 | J62: 390 | K62: AL, | L62: T24 | M62: 로이투명
A63: AW-04 | B63: 시스템 프로젝트창호 | C63: 865*925 AL, T24 로이투명 | D63: EA | E63: 1 | F63: 창호 설치 수량 | G63: =I63/1000*J63/1000 -> 0.800125 | H63: =I63*2/1000+J63*2/1000 -> 3.58 | I63: 865 | J63: 925 | K63: AL, | L63: T24 | M63: 로이투명
A64: AW-05 | B64: 시스템 프로젝트창호 | C64: 810*840 AL, T24 로이투명 | D64: EA | E64: 1 | F64: 창호 설치 수량 | G64: =I64/1000*J64/1000 -> 0.6804 | H64: =I64*2/1000+J64*2/1000 -> 3.3 | I64: 810 | J64: 840 | K64: AL, | L64: T24 | M64: 로이투명
... A67: SWD-02 | B67: 강화유리문도어 | C67: 920*H3280 상부고정창 T24로이투명 편개형 | D67: EA | E67: 1 | F67: 창호 설치 수량 | G67: =I67/1000*J67/1000 -> 3.0176 | H67: =I67*2/1000+J67*2/1000 -> 8.4 | I67: 920 | J67: 3280 | K67: 상부고정창 | L67: T24로이투명 | M67: 계단실 보조출입문
A68: - | B68: 외부 여닫이 설치 | C68: 방부목 893*H1345(Var)+시건장치 | D68: EA | E68: 1 | F68: 좌측 통로 출입문1개 설치 | G68: =0.893*1.345 -> 1.201085 | H68: =I68*2/1000+J68*2/1000 -> 0
A84: =A52+1 -> 5 | B84: 폐기물 처리비
B85: 폐기물 운반 | C85: 건설폐재류 | D85: Ton | E85: =G105 -> 0.3105 | F85: 철거 중량 계
B86: 폐기물 운반 | C86: 혼합폐기물 | D86: Ton | E86: =G107-E85 -> 1.6394173 | F86: 철거 중량 계
B87: 폐기물 처리비 | C87: 콘크리트 류 | D87: Ton | E87: =E85 -> 0.3105 | F87: 철거 중량 계
B88: 폐기물 처리비 | C88: 기타+가연 혼합폐기물 | D88: Ton | E88: =E86 -> 1.6394173 | F88: 철거 중량 계
B90: 품명 | C90: 규격 | D90: 단위 | E90: 철거수량 | F90: 단위중량 Kg | G90: 총중량(Ton)
B91: 금속 천정판 철거 | C91: 금속 처마 W400 | D91: M2 | E91: 3.652 | F91: 30 | G91: =E91*F91/1000 -> 0.10956
B92: 강재창호 철거 | C92: 유리문 2475*3280 | D92: 개소 | E92: 1 | F92: =K92*8 -> 64.944 | G92: =E92*F92/1000 -> 0.064944 | I92: 2475 | J92: 3280 | K92: =I92/1000*J92/1000 -> 8.118
B93: 강재창호 철거 | C93: 유리문 920*3280 | D93: 개소 | E93: 1 | F93: =K93*8 -> 24.1408 | G93: =E93*F93/1000 -> 0.0241408 | I93: 920 | J93: 3280 | K93: =I93/1000*J93/1000 -> 3.0176
B94: 화장실 상부창철거 | C94: 800*400 | D94: 개소 | E94: 1 | F94: =K94*8 -> 2.56 | G94: =E94*F94/1000 -> 0.00256 | I94: 800 | J94: 400 | K94: =I94/1000*J94/1000 -> 0.32
B95: 알루미늄 창호철거(정면) | C95: 1485*2175 | D95: 개소 | E95: 4 | F95: =K95*8 -> 25.839 | G95: =E95*F95/1000 -> 0.103356 | I95: 1485 | J95: 2175 | K95: =I95/1000*J95/1000 -> 3.229875
B96: 알루미늄 창호철거(정면) | C96: 3845*2345 | D96: 개소 | E96: 1 | F96: =K96*8 -> 72.1322 | G96: =E96*F96/1000 -> 0.0721322 | I96: 3845 | J96: 2345 | K96: =I96/1000*J96/1000 -> 9.016525
B97: 알루미늄 창호철거(좌측면) | C97: 830*920 | D97: 개소 | E97: 1 | F97: =K97*8 -> 6.1088 | G97: =E97*F97/1000 -> 0.0061088 | I97: 830 | J97: 920 | K97: =I97/1000*J97/1000 -> 0.7636
B98: 알루미늄 창호철거(좌측면) | C98: 900*900 | D98: 개소 | E98: 2 | F98: =K98*8 -> 6.48 | G98: =E98*F98/1000 -> 0.01296 | I98: 900 | J98: 900 | K98: =I98/1000*J98/1000 -> 0.81
B99: 알루미늄 창호철거(좌측면) | C99: 1200*2490 | D99: 개소 | E99: 1 | F99: =K99*8 -> 23.904 | G99: =E99*F99/1000 -> 0.023904 | I99: 1200 | J99: 2490 | K99: =I99/1000*J99/1000 -> 2.988
B100: 알루미늄 창호철거(우측면) | C100: 1495*2470 | D100: 개소 | E100: 1 | F100: =K100*8 -> 29.5412 | G100: =E100*F100/1000 -> 0.0295412 | I100: 1495 | J100: 2470 | K100: =I100/1000*J100/1000 -> 3.69265
B101: 알루미늄 창호철거(우측면) | C101: 1395*1395 | D101: 개소 | E101: 1 | F101: =K101*8 -> 15.5682 | G101: =E101*F101/1000 -> 0.0155682 | I101: 1395 | J101: 1395 | K101: =I101/1000*J101/1000 -> 1.946025
B102: 벽면 목재철거 | C102: 데크재 철거 | D102: M2 | E102: 26.802475 | F102: =0.02*800 -> 16 | G102: =E102*F102/1000 -> 0.4288396
B103: 목재 구조틀 철거 | C103: 평구조 각관 목재틀 | D103: Ton | E103: 0.402804 | F103: =3.34*4.5 -> 15.03 | G103: =E103*F103/1000 -> 0.0060541441
B104: 타일 철거 | C104: 벽 타일 | D104: M2 | E104: 26.802475 | F104: =0.012*2300 -> 27.6 | G104: =E104*F104/1000 -> 0.73974831
B105: 조적벽체 철거 | C105: 화단부분철거 | D105: M3 | E105: 0.135 | F105: 2300 | G105: =E105*F105/1000 -> 0.3105
F107: 폐기물 총 계 | G107: =SUM(G91:G106) -> 1.9499173

Sheet 수량(내부1층)
A1: 수량 집계표 (내부 수량 산출서 - 1층) | G1: =갑!B10 -> 김제시 죽산면 죽산로126(구 새마을 금고)내·외부공사
A2: No. | B2: 공종명 | C2: 규격 | D2: 단위 | E2: 수량 | F2: 산출근거 | G2: 비 고
A3: 1 | B3: 공통가설공사
B4: 먹매김 | C4: 구조부,일반 | D4: M2 | E4: 118 | F4: 전체 시공대상지 바닥면적 118
B5: 건축물 현장정리 | C5: 철근 콘크리트조 | D5: M2 | E5: 118 | F5: 전체 시공대상지 바닥면적 118
B6: 건축물 보양 | C6: 비닐 보양 | D6: M2 | E6: 118 | F6: 전체 시공대상지 바닥면적 118
B7: 준공청소 | C7: 오염제거,준공청소 | D7: M2 | E7: 118 | F7: 전체 시공대상지 바닥면적 118
B8: 조립말비계 (강관) | C8: 3개월 이하 1단,2m | D8: 대 | E8: 1 | F8: 총 1대 사용 적용
A19: =A3+1 -> 2 | B19: 철거공사
B20: 콘크리트 절단 | C20: 벽체 T300 | D20: M | E20: =-1.25*2+3.3*2 -> 4.1 | F20: 출입문 신설부위 철거 1.25*2+3.3*2
B21: 콘크리트 절단 | C21: 벽체 T200 | D21: M | E21: =1.2*2 -> 2.4 | F21: 화단 옆 벽체 1.2*2
B22: 콘크리트 절단 | C22: 벽체 T200 | D22: M | E22: =2.5*2+1.68 -> 6.68 | F22: 금고출입문 옆 출입문 주변 확장 2.5*2+1.68
B23: 콘크리트 절단 | C23: 벽체 T200 | D23: M | E23: =1.05*2+1*2 -> 4.1 | F23: 남 화장실 통로전 1.05*2+1*2
B24: 콘크리트 절단 | C24: 벽체 T200 | D24: M | E24: =0.8+1.2*2 -> 3.2 | F24: 로스팅룸 하부 0.8+1.2*2
B25: 콘크리트 절단 | C25: 바닥 T400 | D25: M | E25: =9.276 -> 9.276 | F25: 로스팅룸 바닥 9.276 | G25: =SUM(E20:E25) -> 29.756
B26: 콘크리트 구조물깨기 | C26: 인력 | D26: M3 | E26: =1.25*3.3*0.3 -> 1.2375 | F26: 출입문 신설부위 철거 1.25*3.3*0.3
B27: 콘크리트 구조물깨기 | C27: 인력 | D27: M3 | E27: =1.2*1*0.2 -> 0.24 | F27: 화단 옆 벽체 철거 1.2*1*0.2
B28: 콘크리트 구조물깨기 | C28: 인력 | D28: M3 | E28: =(1.68*0.5+2.5*1)*0.3 -> 1.002 | F28: 금고출입문 옆 출입문 주변 확장 (1.68*0.5+2.5*1)*0.3
B29: 콘크리트 구조물깨기 | C29: 인력 | D29: M3 | E29: =(0.6*1.05+0.3*1.05)*0.3 -> 0.2835 | F29: 남 화장실 통로전 (0.6*1.05+0.3*1.05)*0.3
B30: 콘크리트 구조물깨기 | C30: 인력 | D30: M3 | E30: =0.8*1.2*0.3 -> 0.288 | F30: 로스팅룸 하부 0.8*1.2*0.3
B31: 콘크리트 구조물깨기 | C31: 인력 | D31: M3 | E31: =5.147*0.4 -> 2.0588 | F31: 로스팅룸 바닥 5.147*0.4 | G31: =SUM(E26:E31) -> 5.1098
B32: 석고판 철거 | C32: 벽 T9.5, 2P | D32: M2 | E32: =4.175*2.5*2 -> 20.875 | F32: 4.175*2.5*2
B33: 경량벽체 철골틀 철거 | C33: 벽 Stud 65 | D33: M2 | E33: =4.175*2.5 -> 10.4375 | F33: 4.175*2.5*1
B34: 1층 내부 집기 등 기타시설철거 | C34: 철거공 | D34: 인 | E34: 1 | F34: 철거공 철거 투입인력
B35: 1층 내부 집기 등 기타시설철거 | C35: 보통인부 | D35: 인 | E35: 1 | F35: 보통인부 철거 투입인력
B36: 폐기물 상차 | C36: 혼합폐기물 | D36: Ton | E36: =G190 -> 13.190915 | F36: 폐기물 총 중량 계
A51: =A19+1 -> 3 | B51: 인테리어 공사
B52: 3-1. 벽체공사
B53: ** 벽체 도장
B54: 콘크리트면 바탕정리 | C54: 바탕 면갈기 3.6M 이하 | D54: M2 | E54: =E56+E57+E58 -> 207.3734 | F54: 도장면적 계
B55: 재도장면 바탕만들기 | C55: 콘크리트면 | D55: M2 | E55: =E54 -> 207.3734 | F55: 도장면적 계 | I55: 공제부위
B56: 지정색 스터코칠 | C56: 벽,무늬코트 PA01 | D56: M2 | E56: =(9.835*2.5)+(24.72*2.5)+(5.81*2.5)+(4.83*2.5)-(20.61) -> 92.3775 | F56: (9.835*2.5)+(24.72*2.5)+(5.81*2.5)+(4.83*2.5)-(20.61) | I56: 금고문 | J56: 슬라이딩도어 | K56: 주방통로 | L56: 전면창상부 | M56: 작은출입문 | N56: 계단바닥 | O56: 총 계
B57: 비닐 페인트 칠 | C57: 벽,2회 롤러칠 | D57: M2 | E57: =(26.07*2.5+0.8*0.4)-(1.51*0.91) -> 64.1209 | F57: (26.07*2.5+0.8*0.4)-(1.51*0.91) | I57: =1.08*2.5*2 -> 5.4 | J57: =0.8*2.1 -> 1.68 | K57: =0.9*2.1 -> 1.89 | L57: =3.84*1.24 -> 4.7616 | M57: =0.92*2.1 -> 1.932 | N57: =(1.55+2.41)*2.5/2 -> 4.95 | O57: =SUM(I57:N57) -> 20.6136
B58: 무광 투명코팅칠 | C58: 벽,2회 마페플로어 | D58: M2 | E58: =(14.9*2.5)+(4.13*2.5)+(1.32*2.5) -> 50.875 | F58: (14.9*2.5)+(4.13*2.5)+(1.32*2.5)
B59: 도장면 바탕만들기 | C59: 철재면 | D59: M2 | E59: =1.2*2.1+10 -> 12.52 | F59: 방화문 외 1.2*2.1+10
B60: 유성페인트 칠 | C60: 벽,3회 붓칠 | D60: M2 | E60: =1.2*2.1+10 -> 12.52 | F60: 방화문 외 1.2*2.1+10
B62: ** 벽체 타일
B63: 벽 타일붙임 | C63: 45*195 버건디 TL-01 | D63: M2 | E63: =7.845*2.5+2.886*2.5 -> 26.8275 | F63: 7.545*2.5+2.886*2.5
B64: 벽 타일붙임 | C64: 100*100 옐로우 TL-02 | D64: M2 | E64: =4.513*2.5 -> 11.2825 | F64: 4.513*2.5
B66: ** 커튼박스
B67: 커튼박스 설치 | D67: M | E67: =(1.395+1.5) -> 2.895 | F67: (1.395+1.5)
B69: ** 출입문
A70: WD-01 | B70: 미닫이 도어 | C70: 820*H2070 ABS 필름 | D70: EA | E70: 2 | F70: 창호 설치 수량 | G70: =I70/1000*J70/1000 -> 1.6974 | H70: 창고,로스팅룸 | I70: 820 | J70: 2070 | K70: ABS | L70: 필름 | M70: =I70*J70*0.4 -> 678960
A71: WD-02 | B71: 여닫이 도어 | C71: 690*H1795 ABS 필름 | D71: EA | E71: 1 | F71: 창호 설치 수량 | G71: =I71/1000*J71/1000 -> 1.23855 | H71: 1층 여 화장실 | I71: 690 | J71: 1795 | K71: ABS | L71: 필름 | M71: =I71*J71*0.4 -> 495420
A72: WD-03 | B72: 여닫이 도어 | C72: 695*H1795 ABS 필름 | D72: EA | E72: 1 | F72: 창호 설치 수량 | G72: =I72/1000*J72/1000 -> 1.247525 | H72: 1층 남 화장실 | I72: 695 | J72: 1795 | K72: ABS | L72: 필름 | M72: =I72*J72*0.4 -> 499010
A73: WD-04 | B73: 여닫이 도어 | C73: 700*H1420 ABS 필름 | D73: EA | E73: 1 | F73: 창호 설치 수량 | G73: =I73/1000*J73/1000 -> 0.994 | H73: 1층 화장실복도 | I73: 700 | J73: 1420 | K73: ABS | L73: 필름 | M73: =I73*J73*0.4 -> 397600
B75: ** 벽체 보강
B76: 벽체 보강 | C76: 1500*H2000 | D76: 개소 | E76: 1 | F76: 1개소 | G76: 메인홀금고옆 | H76: 벽체 보강은 선반 설치를 위해 바탕을 보강하는 작업? | K76: =1.5*2 -> 3 | L76: =K76*4.5 -> 13.5 | M76: =L76*2.62 -> 35.37
B77: 벽체 보강 | C77: 6375*H535 | D77: 개소 | E77: 1 | F77: 1개소 | G77: 메인홀주방 | H77: 벽체 보강은 선반 설치를 위해 바탕을 보강하는 작업? | K77: =6.375*0.535 -> 3.410625 | L77: =K77*4.5 -> 15.347812 | M77: =L77*2.62 -> 40.211269
B78: 벽체 보강 | C78: 1190*H2300 | D78: 개소 | E78: 2 | F78: 2개소 | G78: MD DP룸 | H78: 벽체 보강은 선반 설치를 위해 바탕을 보강하는 작업? | K78: =1.19*2.3 -> 2.737 | L78: =K78*4.5 -> 12.3165 | M78: =L78*2.62 -> 32.26923
B80: ** 벽체 금속마감
B81: 화구 벽체 금속마감 | C81: 1750*1890 SST T2.0 | D81: EA | E81: 1 | F81: 화구 벽면 금속 마감 | I81: =1.75*1.89 -> 3.3075 | J81: =1*1*2*7.93 -> 15.86 | K81: =I81*J81 -> 52.45695
B82: 씽크대 벽체 금속마감 | C82: 2900*600 SST T2.0 | D82: EA | E82: 1 | F82: 씽크대 벽면 금속 마감 | I82: =2.9*0.6 -> 1.74 | J82: =1*1*2*7.93 -> 15.86 | K82: =I82*J82 -> 27.5964
B83: 3-2. 천정공사
B84: 재도장면 바탕만들기 | C84: 천정, 콘크리트면 | D84: M2 | E84: =118-52 -> 66 | F84: 전체 시공대상지 바닥면적 118-메인홀52
B85: 비닐 페인트 칠 | C85: 벽,2회 롤러칠 | D85: M2 | E85: =118-52 -> 66 | F85: 전체 시공대상지 바닥면적 118-메인홀52
B86: 경량철골 천정틀 설치 | C86: M-Bar @600 | D86: M2 | E86: =52 -> 52 | F86: 메인홀 부분 52M2
B87: 석고판 설치 | C87: 천정 T9.5, 2P 붙임 | D87: M2 | E87: =52 -> 52 | F87: 메인홀 부분 52M2
B88: 천정 합판 설치 | C88: T5.0 목재합판 | D88: M2 | E88: =52 -> 52 | F88: 메인홀 부분 52M2
B89: 도장면 바탕만들기 | C89: 목재면 | D89: M2 | E89: =52 -> 52 | F89: 메인홀 부분 52M2
B90: 목재 전용도료 칠 | C90: 천정, 2회 투명칠 | D90: M2 | E90: =52 -> 52 | F90: 메인홀 부분 52M2
B91: 천정 원목메지 | C91: 93*60 2단 | D91: M | E91: =6.335+9.175+5.511+2.713+6.375 -> 30.109 | F91: 6.335+9.175+5.511+2.713+6.375 | I91: =0.093*0.06 -> 0.00558 | J91: =0.093*2+0.06*2 -> 0.306
B92: 천정 원목메지 | C92: 30*60 1단 | D92: M | E92: =6.375*2+9.175+6.38*2+2.665+2.72+1.25 -> 41.32 | F92: 6.375*2+9.175+6.38*2+2.665+2.72+1.25 | I92: =0.03*0.06 -> 0.0018 | J92: =0.03*2+0.06*2 -> 0.18
B93: 천정 점검구 설치 | C93: 300*300 금속(갈바) | D93: 개소 | E93: 3 | F93: 3개소 설치
B99: 3-3. 바닥공사 | L99: 각관길이 | M99: 중량 | N99: 합판
B100: 입구 바닥계단 | C100: 2314*1530*H792 / 3단 각관+합판 | D100: 개소 | E100: 1 | F100: 1개소 설치 | I100: =20*1.53 -> 30.6 | J100: =2.041*3*2*2 -> 24.492 | K100: =0.2*10*3 -> 6 | L100: =SUM(I100:K100) -> 61.092 | M100: =L100*1.41 -> 86.13972 | N100: =2.314*1.53+0.6*2.314 -> 4.92882
A115: =A51+1 -> 4 | B115: 냉난방 공사
B116: 천정형 에어컨 | C116: 30평형, 4Way | D116: 대 | E116: 2 | F116: 메인 홀 2대 설치
B117: 천정형 에어컨 | C117: 25평형, 4Way | D117: 대 | E117: 1 | F117: 창고 클린룸 1대 설치
B118: 벽걸이형 에어컨 | C118: 24.4m2 벽걸이형 | D118: 대 | E118: 1 | F118: 화장실 통로 1대 설치
B119: 냉난방기 실외기 | C119: 멀티 실외기 | D119: 대 | E119: 1 | F119: 설치 수량
B120: 동관 | C120: L - Type 19.5mm | D120: M | E120: =15*4 -> 60 | F120: 설치 수량
B121: 엘보 | C121: 19.05mm | D121: EA | E121: =4*4 -> 16 | F121: 설치 수량
B122: 소켓 | C122: 19.05mm | D122: EA | E122: =4*4 -> 16 | F122: 설치 수량
B123: 동관 용접 접합 | C123: D20 | D123: 개소 | E123: =E120/4 -> 15 | F123: 설치 수량
A131: =A115+1 -> 5 | B131: 설비공사
A132: 05-01 | B132: 환풍기 설치 | C132: 485*334*149 휴젠트 | D132: 대 | E132: 1 | F132: 여자화장실 1대 설치
A133: 05-02 | B133: 환풍기 설치 | C133: 205*205*H165 싸이클론 | D133: 대 | E133: 1 | F133: 남자화장실 1대설치
A134: 05-03 | B134: PVC 파이프 | C134: D25 | D134: M | E134: =12+4+10 -> 26 | F134: 12+4+10
A135: 05-04 | B135: 엘보 | C135: D25 | D135: EA | E135: 4 | F135: 설치수량
A136: 05-05 | B136: 티이 | C136: D25 | D136: EA | E136: 2 | F136: 설치수량
A137: 05-06 | B137: 소켓 | C137: D25 | D137: EA | E137: =ROUNDUP(E134/4,0) -> 7 | F137: (12+4+10)/4
A138: 05-07 | B138: 소켓 접착제 접합 및 배관 | C138: 경질관 D25 | D138: M | E138: =E134 -> 26 | F138: 급수 배관 설치 길이
A139: 05-08 | B139: PVC 파이프 | C139: D50 | D139: M | E139: =7+10+5+10 -> 32 | F139: 7+5+10+10
A140: 05-09 | B140: 엘보 | C140: D50 | D140: EA | E140: 6 | F140: 설치수량
A141: 05-10 | B141: 티이 | C141: D50 | D141: EA | E141: 4 | F141: 설치수량
A142: 05-11 | B142: 소켓 | C142: D50 | D142: EA | E142: =ROUNDUP(E139/4,0) -> 8 | F142: (12+4+10)/4
A143: 05-12 | B143: 소켓 접착제 접합 및 배관 | C143: 경질관 D50 | D143: M | E143: =E139 -> 32 | F143: 배수, 오수 배관 설치 길이
A144: 05-13 | B144: 전기온수기 설치 | C144: 15L 벽부형 | D144: 대 | E144: 1 | F144: 설치 수량
A145: 05-14 | B145: 전기온수기 설치 | C145: 100L 벽부형 | D145: 대 | E145: 1 | F145: 설치 수량
A146: 05-15 | B146: 씽크대 설치 | C146: 카운터형 W800 | D146: EA | E146: 1 | F146: 1층 메인홀 1개 설치
A147: 05-16 | B147: 씽크수전 설치 | C147: 거위목 | D147: EA | E147: 1 | F147: 1층 메인홀 1개 설치
A148: 05-17 | B148: 세면대 설치 | C148: 스테인리스 | D148: EA | E148: 1 | F148: 화장실 통로 1개
A149: 05-18 | B149: 세면대 수전설치 | C149: 니켈 원홀 | D149: EA | E149: 1 | F149: 화장실 통로 1개
A150: 05-19 | B150: 세면대 설치 | C150: 도기형 | D150: EA | E150: 1 | F150: 여자화장실 1대 설치
A151: 05-20 | B151: 세면대 수전설치 | C151: 니켈 탑볼 수전 | D151: EA | E151: 1 | F151: 여자화장실 1대 설치
A152: 05-21 | B152: 청소수전 설치 | C152: 스프레이건,미니건 | D152: EA | E152: 2 | F152: 남여화장실 각1개씩
A153: 05-22 | B153: 바닥 배수구 설치 | C153: 육가 150*150 실버 | D153: EA | E153: 2 | F153: 여자화장실 및 통로 각1개
A154: 05-23 | B154: 양변기 설치 | C154: 비데일체형 | D154: EA | E154: 2 | F154: 남여화장실 각1개씩
A155: 05-24 | B155: 휴지걸이 | C155: 스테인리스 | D155: EA | E155: 2 | F155: 남여화장실 각1개씩
...

Sheet 수량(내부2층)
A1: 수량 집계표 (내부 수량 산출서 - 2층) | G1: =갑!B10 -> 김제시 죽산면 죽산로126(구 새마을 금고)내·외부공사
A2: No. | B2: 공종명 | C2: 규격 | D2: 단위 | E2: 수량 | F2: 산출근거 | G2: 비 고
A3: 1 | B3: 공통가설공사
B4: 먹매김 | C4: 구조부,일반 | D4: M2 | E4: 85 | F4: 전체 시공대상지 바닥면적 85
B5: 건축물 현장정리 | C5: 철근 콘크리트조 | D5: M2 | E5: 85 | F5: 전체 시공대상지 바닥면적 85
B6: 건축물 보양 | C6: 비닐 보양 | D6: M2 | E6: 85 | F6: 전체 시공대상지 바닥면적 85
B7: 준공청소 | C7: 오염제거,준공청소 | D7: M2 | E7: 85 | F7: 전체 시공대상지 바닥면적 85
B8: 조립말비계 (강관) | C8: 3개월 이하 1단,2m | D8: 대 | E8: 1 | F8: 총 1대 사용 적용
A19: =A3+1 -> 2 | B19: 철거공사
B20: 콘크리트 절단 | C20: 벽체 T300 | D20: M | E20: =(1.495*2+2.49*2) -> 7.97 | F20: 입면 좌측 창 확장부위 (1.495*2+2.49*2)
B21: 콘크리트 절단 | C21: 벽체 T200 | D21: M | E21: =(1.2*2+2.49*2) -> 7.38 | F21: 입면 우측 창 확장부위 (1.2*2+2.49*2)
B22: 콘크리트 절단 | C22: 벽체 T200 | D22: M | E22: =(3*2+1.075*2) -> 8.15 | F22: 계단실 바닥턱 및 상부 (3*2+1.075*2)
B23: 콘크리트 절단 | C23: 벽체 T200 | D23: M | E23: =(3*2+1.35*2) -> 8.7 | F23: 화장실 벽체 (3*2+1.35*2)
B24: 콘크리트 절단 | C24: 벽체 T200 | D24: M | E24: =(2.1*2+1*2) -> 6.2 | F24: 배란다 출입문 벽체 (2.1*2+1*2) | G24: =SUM(E20:E24) -> 38.4
B25: 콘크리트 구조물깨기 | C25: 인력 | D25: M3 | E25: =(0.2*2.49*2+1.495*1.2)*0.3 -> 0.837 | F25: 입면 좌측 창 확장부위 (0.2*2.49*2+1.495*1.2)*0.3
B26: 콘크리트 구조물깨기 | C26: 인력 | D26: M3 | E26: =(0.2*2.49*2+1.2*1.2)*0.3 -> 0.7308 | F26: 입면 좌측 창 확장부위 (0.2*2.49*2+1.2*1.2)*0.3
B27: 콘크리트 구조물깨기 | C27: 인력 | D27: M3 | E27: =(0.2*1.075+0.2+1.075*0.6*0.2) -> 0.544 | F27: 계단실 바닥턱 및 상부 (0.2*1.075+0.2+1.075*0.6*0.2)
B28: 콘크리트 구조물깨기 | C28: 인력 | D28: M3 | E28: =(3*1.35*0.15)-(0.9*2.1*0.15) -> 0.324 | F28: 화장실 벽체 (3*1.35*0.15)-(0.9*2.1*0.15)
B29: 콘크리트 구조물깨기 | C29: 인력 | D29: M3 | E29: =1*0.3*0.3 -> 0.09 | F29: 배란다 출입문 벽체 (1*0.3*0.3) | G29: =SUM(E25:E29) -> 2.5258
B30: 여닫이문 철거 | C30: 900*2100 | D30: EA | E30: 1 | F30: 화장실 도어 1개 철거
B31: 폐기물 상차 | C31: 혼합폐기물 | D31: Ton | E31: =G168 -> 0.207 | F31: 폐기물 총 중량 계
A35: =A19+1 -> 3 | B35: 인테리어 공사
B36: 3-1. 벽체공사
B37: ** 벽체 도장
B38: 콘크리트면 바탕정리 | C38: 바탕 면갈기 3.6M 이하 | D38: M2 | E38: =E40+E41+E42 -> 103.645 | F38: 도장면적 계
B39: 재도장면 바탕만들기 | C39: 콘크리트면 | D39: M2 | E39: =E38 -> 103.645 | F39: 도장면적 계 | I39: 공제부위
B40: 지정색 스터코칠 | C40: 벽,무늬코트 PA01 | D40: M2 | E40: =(41.865*3)+(0.12*8*3)-(24.83) -> 103.645 | F40: (41.865*3)+(0.12*8*3)-(24.83) | I40: 좌우측창 | J40: 전면창호4 | K40: 출입문3 | O40: 총 계
I41: =1.495*2.45*2 -> 7.3255 | J41: =1.495*1.98*4 -> 11.8404 | K41: =0.9*2.1*3 -> 5.67 | O41: =SUM(I41:N41) -> 24.8359
B42: ** 벽체 가벽
B43: 원목 기둥설치 | C43: D90*H3000 | D43: EA | E43: 4 | F43: 라운드 가벽 내 4개
B44: 칸막이 벽체틀 설치 | C44: 90*90 각재 틀 | D44: M2 | E44: =6*2.4*1 -> 14.4 | F44: (6*2.4*1) | G44: 6.95 | I44: =0.09*0.09*1*4 -> 0.0324
B45: 벽체 합판 설치 | C45: T4.5 오징어합판 | D45: M2 | E45: =6*2.4*2*2 -> 57.6 | F45: (6*2.4*2)*2겹
B46: 바닥 가공합판 붙임 | C46: T18.0 CNC가공합판 | D46: M | E46: 6 | F46: 바닥 지지부 6미터
B47: 금속 판넬 설치 | C47: 골강판 T0.5 무광 지정색 | D47: M2 | E47: =6*2.4*1 -> 14.4 | F47: (6*2.4*1)
B48: 원목 기둥설치 | C48: D160*H3000 | D48: EA | E48: 1 | F48: 스튜디오 내 1개
B50: ** 벽체 타일
B51: 벽 타일붙임 | C51: 61.5*188.5 스카이블루 TL-03 | D51: M2 | E51: =7.142*3-0.9*2.1 -> 19.536 | F51: 화장실 벽체 7.142*3-0.9*2.1
B53: ** 커튼박스
B54: 커튼박스 설치 | D54: M | E54: =0.95+0.81+0.865+1.2+1.485+1.495+1.495+1.5+1.495 -> 11.295 | F54: 0.95+0.81+0.865+1.2+1.485+1.495+1.495+1.5+1.495
B56: ** 출입문
A57: WD-05 | B57: 여닫이 도어 | C57: 685*H1880 ABS 필름 | D57: EA | E57: 1 | F57: 창호 설치 수량 | G57: =I57/1000*J57/1000 -> 1.2878 | H57: 2층 화장실도어 | I57: 685 | J57: 1880 | K57: ABS | L57: 필름 | M57: =I57*J57*0.4 -> 515120
B58: 창고 출입문 | C58: 777*2050 금속,문틀포함 | D58: EA | E58: 1 | F58: 1개 설치
B65: 3-2. 천정공사
B66: 재도장면 바탕만들기 | C66: 천정, 콘크리트면 | D66: M2 | E66: =118-67.96 -> 50.04 | F66: 전체 시공대상지 바닥면적 118-메인홀67.96
B67: 비닐 페인트 칠 | C67: 벽,2회 롤러칠 | D67: M2 | E67: =118-67.96 -> 50.04 | F67: 전체 시공대상지 바닥면적 118-메인홀67.96
B68: 경량철골 천정틀 설치 | C68: M-Bar @450 | D68: M2 | E68: =67.96 -> 67.96 | F68: 메인홀 부분 67.96M2
B69: 석고판 설치 | C69: 천정 T9.5, 2P 붙임 | D69: M2 | E69: =67.96 -> 67.96 | F69: 메인홀 부분 67.96M2
B70: 천정 합판 설치 | C70: T5.0 목재합판 | D70: M2 | E70: =67.96 -> 67.96 | F70: 메인홀 부분 67.96M2
B71: 도장면 바탕만들기 | C71: 목재면 | D71: M2 | E71: =67.96 -> 67.96 | F71: 메인홀 부분 67.96M2
B72: 목재 전용도료 칠 | C72: 천정, 2회 투명칠 | D72: M2 | E72: =67.96 -> 67.96 | F72: 메인홀 부분 67.96M2
B73: 천정 원목메지 | C73: 93*60 2단 | D73: M | E73: =2.8*2+9.19+9.135*3 -> 42.195 | F73: 2.8*2+9.19+9.135*3
B74: 천정 원목메지 | C74: 30*60 1단 | D74: M | E74: =2.8*1+7.68*2+9.135*5 -> 63.835 | F74: 2.8*1+7.68*2+9.135*5
B75: 천정 점검구 설치 | C75: 300*300 금속(갈바) | D75: 개소 | E75: 2 | F75: 2개소 설치
B76: 빔 프로젝터 설치 | C76: 3000Ansi 포터블 | D76: 대 | E76: 1 | F76: 1대 설치
B77: 프로젝터 스크린 | C77: 100인치 포터블 | D77: EA | E77: 1 | F77: 전동 스크린 1개 설치
B81: 3-3. 바닥공사
B82: 바닥 마루틀 설치 | C82: 미송각재 30*30 | D82: M2 | E82: =2.86*8.735*2+1.915*2.86+1.465*2.86 -> 59.631 | F82: 2.86*8.735*2단+1.915*2.86+1.465*2.86
B83: 마루바탕 설치 | C83: 목재합판 T12.5 | D83: M2 | E83: =(2.86*8.735+2.86*0.15*2+8.735*0.15+1.915*0.3)*2 -> 55.4497 | F83: (2.86*8.735+2.86*0.15*2+8.735*0.15+1.915*0.3)*2겹
A97: =A35+1 -> 4 | B97: 냉난방 공사
B98: 천정형 에어컨 | C98: 40평형, 4Way | D98: 대 | E98: 1 | F98: 스튜디오 내 1대 설치
B99: 동관 | C99: L - Type 19.5mm | D99: M | E99: =15*1 -> 15 | F99: 설치 수량
B100: 엘보 | C100: 19.05mm | D100: EA | E100: =4*1 -> 4 | F100: 설치 수량
B101: 소켓 | C101: 19.05mm | D101: EA | E101: =4*1 -> 4 | F101: 설치 수량
B102: 동관 용접 접합 | C102: D20 | D102: 개소 | E102: 4 | F102: 설치 수량
A113: =A97+1 -> 5 | B113: 설비공사
A114: 05-01 | B114: 환풍기 설치 | C114: 205*205*H165 싸이클론 | D114: 대 | E114: 1 | F114: 화장실 1대설치
A115: 05-02 | B115: PVC 파이프 | C115: D25 | D115: M | E115: =5+10 -> 15 | F115: 5+10
A116: 05-03 | B116: 엘보 | C116: D25 | D116: EA | E116: 2 | F116: 설치수량
A117: 05-04 | B117: 티이 | C117: D25 | D117: EA | E117: 1 | F117: 설치수량
A118: 05-05 | B118: 소켓 | C118: D25 | D118: EA | E118: 2 | F118: (12+4+10)/4
A119: 05-06 | B119: 소켓 접착제 접합 및 배관 | C119: 경질관 D25 | D119: M | E119: =E115 -> 15 | F119: 급수 배관 설치 길이
A120: 05-07 | B120: PVC 파이프 | C120: D50 | D120: M | E120: =5+10 -> 15 | F120: 5+10
A121: 05-08 | B121: 엘보 | C121: D50 | D121: EA | E121: 2 | F121: 설치수량
A122: 05-09 | B122: 티이 | C122: D50 | D122: EA | E122: 1 | F122: 설치수량
A123: 05-10 | B123: 소켓 | C123: D50 | D123: EA | E123: 2 | F123: (12+4+10)/4
A124: 05-11 | B124: 소켓 접착제 접합 및 배관 | C124: 경질관 D50 | D124: M | E124: =E120 -> 15 | F124: 배수, 오수 배관 설치 길이
A125: 05-12 | B125: 전기온수기 설치 | C125: 15L 벽부형 | D125: 대 | E125: 1 | F125: 설치 수량
A126: 05-13 | B126: 세면대 설치 | C126: 원형 도기형,데보라 | D126: EA | E126: 1 | F126: 여자화장실 1대 설치
A127: 05-14 | B127: 세면대 수전설치 | C127: 니켈 탑볼 수전 | D127: EA | E127: 1 | F127: 여자화장실 1대 설치
A128: 05-15 | B128: 청소수전 설치 | C128: 스프레이건,미니건 | D128: EA | E128: 1 | F128: 화장실 1개
A129: 05-16 | B129: 바닥 배수구 설치 | C129: 육가 150*150 실버 | D129: EA | E129: 1 | F129: 화장실 1개
A130: 05-17 | B130: 양변기 설치 | C130: 비데일체형 | D130: EA | E130: 1 | F130: 화장실 1개
A131: 05-18 | B131: 휴지걸이 | C131: 스테인리스 | D131: EA | E131: 1 | F131: 화장실 1개
A145: =A113+1 -> 6 | B145: 가구공사
B146: 스튜디오 아트월 | C146: 3745*T200*H3000 | D146: EA | E146: 1 | F146: 스튜디오 벽체 1개
B147: 세면대장 | C147: 1220*450*H300 인조대리석상판 T12 | D147: EA | E147: 1 | F147: 화장실 세면대장1개
B148: 화장실선반 | C148: L500 삼각형 코너형 | D148: EA | E148: 1 | F148: 화장실 선반1개
A161: =A145+1 -> 7 | B161: 폐기물 처리비
B162: 폐기물 운반 | C162: 건설폐재류 | D162: Ton | E162: =G168 -> 0.207 | F162: 철거 중량 계
B163: 폐기물 운반 | C163: 혼합폐기물 | D163: Ton | E163: =G169 -> 0.02 | F163: 철거 중량 계
B164: 폐기물 처리비 | C164: 콘크리트 류 | D164: Ton | E164: =E162 -> 0.207 | F164: 철거 중량 계
B165: 폐기물 처리비 | C165: 기타+가연 혼합폐기물 | D165: Ton | E165: =E163 -> 0.02 | F165: 철거 중량 계
B167: 품명 | C167: 규격 | D167: 단위 | E167: 철거수량 | F167: 단위중량 Kg | G167: 총중량(Ton)
B168: 콘크리트 구조물깨기 | C168: 인력 | D168: M3 | E168: 0.09 | F168: 2300 | G168: =E168*F168/1000 -> 0.207
B169: 여닫이문 철거 | C169: 900*2100 | D169: EA | E169: 1 | F169: 20 | G169: =E169*F169/1000 -> 0.02
F170: 폐기물 총 계 | G170: =SUM(G168:G169) -> 0.227

Sheet 수량(구매품)
A1: 수량 집계표 (구매물품 산출서) | G1: =갑!B10 -> 김제시 죽산면 죽산로126(구 새마을 금고)내·외부공사
A2: No. | B2: 공종명 | C2: 규격 | D2: 단위 | E2: 수량 | F2: 산출근거 | G2: 비 고
A3: 1 | B3: 가구류
A4: FU-01 | B4: 렉선반 | C4: 1500x400x750 | D4: EA | E4: 1 | F4: 설치 수량
A5: FU-02 | B5: 렉선반 | C5: 1200x400x1950 | D5: EA | E5: 1 | F5: 설치 수량
A6: FU-03 | B6: 렉선반 | C6: 1500x400x1950 | D6: EA | E6: 1 | F6: 설치 수량
A7: FU-04 | B7: 렉선반 | C7: 1200x500x1950 | D7: EA | E7: 1 | F7: 설치 수량
A8: FU-05 | B8: 사무용의자 | C8: 690x580x1205 | D8: EA | E8: 2 | F8: 설치 수량
A9: FU-06 | B9: 모션데스크 | C9: 1600x700x683~1133 | D9: EA | E9: 2 | F9: 설치 수량
A19: 2 | B19: 주방용품
A20: KT-01 | B20: 커피 그라인더 | C20: 245*430*645 | D20: EA | E20: 2 | F20: 설치 수량
A21: KT-02 | B21: 커피 포트 | C21: 269*142*194 | D21: EA | E21: 3 | F21: 설치 수량
A22: KT-03 | B22: 온수 디스펜서 | C22: 240*300*555 | D22: EA | E22: 1 | F22: 설치 수량
A23: KT-04 | B23: 제빙기 | C23: 448*400*798 | D23: EA | E23: 1 | F23: 설치 수량
A24: KT-05 | B24: 2도어 냉장고 | C24: 1500*700*800 | D24: EA | E24: 1 | F24: 설치 수량
A25: KT-06 | B25: 반찬냉장고 | C25: 900*700*800 | D25: EA | E25: 1 | F25: 설치 수량
A26: KT-07 | B26: 1구 인덕션 | C26: 350*480*140 | D26: EA | E26: 3 | F26: 설치 수량
A27: KT-08 | B27: 스탠바이미 | C27: 623x398x1265 | D27: EA | E27: 2 | F27: 설치 수량
A28: KT-09 | B28: 쇼케이스 냉장고 | C28: 1500x760x1900 | D28: EA | E28: 1 | F28: 설치 수량
A29: KT-10 | B29: 간택기 | C29: 900*600*800(h) | D29: EA | E29: 1 | F29: 설치 수량
A30: KT-11 | B30: 식기세척기 | C30: 650*650*1350 (오픈시1800) | D30: EA | E30: 1 | F30: 설치 수량
A31: KT-12 | B31: 싱크대 | C31: 1200*600*800 | D31: EA | E31: 1 | F31: 설치 수량
... A34: KT-15 | B34: 4도어 냉장고 | C34: 1260*800*1910 | D34: EA | E34: 1 | F34: 설치 수량
A35: 3 | B35: 기타구매품
A36: ET-10 | B36: 편집기 | C36: Mac mini pro M4 M4 pro / 12코어 cpu, 16코어 gpu 24gb / 512gb / 기가비트 이더넷 | D36: EA | E36: 2 | F36: 설치 수량
A37: ET-11 | B37: 허브 | C37: 벨킨 connect USB C 7in1 멀티 포트 허브 어댑터 AVC009fqSGY V2 | D37: EA | E37: 2 | F37: 설치 수량
A38: ET-12 | B38: 마우스 | C38: 에이티케이 블루투스 게이밍 유무선 마우스 VXE R1 SE+ | D38: EA | E38: 2 | F38: 설치 수량
A39: ET-13 | B39: 키보드 | C39: 한성컴퓨터 OfficeMaster 유무선 저소음 멤브레인 키보드 | D39: EA | E39: 2 | F39: 설치 수량
A40: ET-14 | B40: 마우스패드 | C40: 요이치 게이밍 마우스 장패드 800 x 300 x 5 mm | D40: EA | E40: 2 | F40: 설치 수량
A41: ET-15 | B41: 모니터 | C41: 27MS500 | D41: EA | E41: 4 | F41: 설치 수량
A42: ET-16 | B42: 데이터 서버 | C42: DS925+ NAS 4bay | D42: EA | E42: 1 | F42: 설치 수량

Sheet 세부산출서
A1: ■현장명: | B1: =갑!B10 -> 김제시 죽산면 죽산로126(구 새마을 금고)내·외부공사
A2: No. | B2: 공 종 | C2: 규 격 | D2: 산 출 근 거 | E2: 단위 | F2: 수량 | G2: 비고
A3: 1 | B3: ='수량(구조보강)'!B4 -> 보 탄소섬유 보강 | C3: ='수량(구조보강)'!C4 -> Type1 - G1 300*500 (측면,하부2P All) | E3: ='수량(구조보강)'!D4 -> M | F3: 1
A5: 1 | B5: 보 탄소섬유 시트보강 | C5: 300G | D5: S=(0.5*2+0.3)*2 | E5: M2 | F5: =D6 -> 2.6
D6: =(0.5*2+0.3)*2 -> 2.6
A8: =A3+1 -> 2 | B8: ='수량(구조보강)'!B5 -> 보 철판 보강 | C8: ='수량(구조보강)'!C5 -> Type2 - G2 300*500 (T9.0 측면,하부 All) | E8: ='수량(구조보강)'!D5 -> M | F8: 1
A10: 1 | B10: 콘크리트면 바탕정리 | D10: S=0.5*2+0.3 | E10: M2 | F10: =D11 -> 1.3
D11: =0.5*2+0.3 -> 1.3
A12: =A10+1 -> 2 | B12: 열연강판 | C12: T9.0 후판 | D12: S=(0.5*2+0.3)*2 | E12: Ton | F12: =D17/1000 -> 0.202059 | G12: =1*1*9*7.85 -> 70.65 | I12: =1*1*1*7.85 -> 7.85
D13: =(0.5*2+0.3)*2 -> 2.6
D14: S'=S*1.1 강판할증
D15: =D13*1.1 -> 2.86
D16: W=S'*70.65Kg
D17: =D15*70.65 -> 202.059
A18: =A12+1 -> 3 | B18: 강판 타공 | C18: 펀치타공 | D18: N=5 | E18: 개소 | F18: =D19 -> 5
D19: =5 -> 5
A20: =A18+1 -> 4 | B20: 잡철물 제작 및 설치 | C20: 일반철재 | D20: W=열연강판 중량 정미량 | E20: Ton | F20: =D21/1000 -> 0.18369
D21: =D17/1.1 -> 183.69
A22: =A20+1 -> 5 | B22: 앵커볼트 | C22: M16 | D22: N=5 | E22: EA | F22: =D23 -> 5
D23: =5 -> 5
A24: =A22+1 -> 6 | B24: 앵커볼트 설치 | C24: D16이하 | D24: N=5 | E24: 개소 | F24: =D25 -> 5
D25: =5 -> 5
A26: =A24+1 -> 7 | B26: 에폭시 충진 | D26: L=4 | E26: M | F26: =D27 -> 4
D27: 4
A29: =A8+1 -> 3 | B29: ='수량(구조보강)'!B6 -> 보 탄소섬유 보강 | C29: ='수량(구조보강)'!C6 -> Type3 - G1 300*500 (하부2P All) | E29: ='수량(구조보강)'!D6 -> M | F29: 1
A31: 1 | B31: 보 탄소섬유 시트보강 | C31: 300G | D31: S=(0.3)*2 | E31: M2 | F31: =D32 -> 0.6
D32: =(0.3)*2 -> 0.6
A34: =A29+1 -> 4 | B34: ='수량(구조보강)'!B7 -> 보 탄소섬유 보강 | C34: ='수량(구조보강)'!C7 -> Type4 - B1 300*500 (단면복원 및 탄소섬유보강 2P All) | E34: ='수량(구조보강)'!D7 -> M | F34: 1
A36: 1 | B36: 보 탄소섬유 시트보강 | C36: 300G | D36: S=(0.5*2+0.3)*2 | E36: M2 | F36: =D37 -> 2.6
D37: =(0.5*2+0.3)*2 -> 2.6
A39: =A34+1 -> 5 | B39: ='수량(외부)'!B53 -> 시스템 고정창호 | C39: ='수량(외부)'!C53 -> 1395*1395 AL, T24 로이투명 | E39: ='수량(외부)'!D53 -> EA | F39: 1 | G39: ='수량(외부)'!G53 -> 1.946025
A41: 1 | B41: =B39 -> 시스템 고정창호 | C41: =C39 -> 1395*1395 AL, T24 로이투명 | D41: N=1 | E41: EA | F41: =D42 -> 1
D42: 1
A43: 2 | B43: 창호유리 | C43: 로이복층유리 저철분 T24(5+14+5) | D43: S=창호면적 | E43: M2 | F43: =D44 -> 1.946025
D44: =G39 -> 1.946025
A45: 3 | B45: 창호유리 설치 | C45: 복층유리 T24이하 | D45: S=창호면적 | E45: M2 | F45: =D46 -> 1.946025
D46: =D44 -> 1.946025
A47: 4 | B47: 목재창호 설치 | C47: 1M2 이하 | D47: N=1 | E47: EA | F47: =D48 -> 1
D48: 1
A49: 5 | B49: 창호주위 코킹 | C49: 실링마감 | D49: L=창호 둘레길이*2양쪽 | E49: M | F49: =D50 -> 11.16
D50: ='수량(외부)'!$H$53*2 -> 11.16
A51: =A49+1 -> 6 | B51: 창호주위 충전 | D51: L=창호 둘레길이*2양쪽 | E51: M | F51: =D52 -> 11.16
D52: =D50 -> 11.16
A54: =A39+1 -> 6 | B54: ='수량(외부)'!B54 -> 시스템 고정창호 | C54: ='수량(외부)'!C54 -> 1495*2490 AL, T24 로이투명 | E54: ='수량(외부)'!D54 -> EA | F54: 1 | G54: ='수량(외부)'!G54 -> 3.72255
A56: 1 | B56: =B54 -> 시스템 고정창호 | C56: =C54 -> 1495*2490 AL, T24 로이투명 | D56: N=1 | E56: EA | F56: =D57 -> 1
D57: 1
A58: 2 | B58: 창호유리 | C58: 로이복층유리 저철분 T24(5+14+5) | D58: S=창호면적 | E58: M2 | F58: =D59 -> 3.72255
D59: =G54 -> 3.72255
A60: 3 | B60: 창호유리 설치 | C60: 복층유리 T24이하 | D60: S=창호면적 | E60: M2 | F60: =D61 -> 3.72255
D61: =D59 -> 3.72255
A62: 4 | B62: 목재창호 설치 | C62: 3~6M2 이하 | D62: N=1 | E62: EA | F62: =D63 -> 1
D63: 1
A64: 5 | B64: 창호주위 코킹 | C64: 실링마감 | D64: L=창호 둘레길이*2양쪽 | E64: M | F64: =D65 -> 15.94
D65: ='수량(외부)'!$H$54*2 -> 15.94
A66: =A64+1 -> 6 | B66: 창호주위 충전 | D66: L=창호 둘레길이*2양쪽 | E66: M | F66: =D67 -> 15.94
D67: =D65 -> 15.94
A69: =A54+1 -> 7 | B69: ='수량(외부)'!B55 -> 시스템 미서기창호 | C69: ='수량(외부)'!C55 -> 1500*2085 AL, T24 로이투명 | E69: ='수량(외부)'!D55 -> EA | F69: 1 | G69: ='수량(외부)'!G55 -> 3.1275
A71: 1 | B71: =B69 -> 시스템 미서기창호 | C71: =C69 -> 1500*2085 AL, T24 로이투명 | D71: N=1 | E71: EA | F71: =D72 -> 1
D72: 1
A73: 2 | B73: 창호유리 | C73: 로이복층유리 저철분 T24(5+14+5) | D73: S=창호면적 | E73: M2 | F73: =D74 -> 3.1275
D74: =G69 -> 3.1275
A75: 3 | B75: 창호유리 설치 | C75: 복층유리 T24이하 | D75: S=창호면적 | E75: M2 | F75: =D76 -> 3.1275
D76: =D74 -> 3.1275
A77: 4 | B77: 목재창호 설치 | C77: 3~6M2 이하 | D77: N=1 | E77: EA | F77: =D78 -> 1
D78: 1
A79: 5 | B79: 창호주위 코킹 | C79: 실링마감 | D79: L=창호 둘레길이*2양쪽 | E79: M | F79: =D80 -> 14.34
D80: ='수량(외부)'!$H$55*2 -> 14.34
A81: =A79+1 -> 6 | B81: 창호주위 충전 | D81: L=창호 둘레길이*2양쪽 | E81: M | F81: =D82 -> 14.34
D82: =D80 -> 14.34
A84: =A69+1 -> 8 | B84: ='수량(외부)'!B56 -> 시스템 미서기창호 | C84: ='수량(외부)'!C56 -> 1495*2085 AL, T24 로이투명 | E84: ='수량(외부)'!D56 -> EA | F84: 1 | G84: ='수량(외부)'!G56 -> 3.117075
A86: 1 | B86: =B84 -> 시스템 미서기창호 | C86: =C84 -> 1495*2085 AL, T24 로이투명 | D86: N=1 | E86: EA | F86: =D87 -> 1
D87: 1
A88: 2 | B88: 창호유리 | C88: 로이복층유리 저철분 T24(5+14+5) | D88: S=창호면적 | E88: M2 | F88: =D89 -> 3.117075
D89: =G84 -> 3.117075
A90: 3 | B90: 창호유리 설치 | C90: 복층유리 T24이하 | D90: S=창호면적 | E90: M2 | F90: =D91 -> 3.117075
D91: =D89 -> 3.117075
A92: 4 | B92: 목재창호 설치 | C92: 3~6M2 이하 | D92: N=1 | E92: EA | F92: =D93 -> 1
D93: 1
A94: 5 | B94: 창호주위 코킹 | C94: 실링마감 | D94: L=창호 둘레길이*2양쪽 | E94: M | F94: =D95 -> 14.32
D95: ='수량(외부)'!$H$56*2 -> 14.32
A96: =A94+1 -> 6 | B96: 창호주위 충전 | D96: L=창호 둘레길이*2양쪽 | E96: M | F96: =D97 -> 14.32
D97: =D95 -> 14.32
A99: =A84+1 -> 9 | B99: ='수량(외부)'!B57 -> 시스템 미서기창호 | C99: ='수량(외부)'!C57 -> 1485*2085 AL, T24 로이투명 | E99: ='수량(외부)'!D57 -> EA | F99: 1 | G99: ='수량(외부)'!G57 -> 3.096225
A101: 1 | B101: =B99 -> 시스템 미서기창호 | C101: =C99 -> 1485*2085 AL, T24 로이투명 | D101: N=1 | E101: EA | F101: =D102 -> 1
D102: 1
A103: 2 | B103: 창호유리 | C103: 로이복층유리 저철분 T24(5+14+5) | D103: S=창호면적 | E103: M2 | F103: =D104 -> 3.096225
D104: =G99 -> 3.096225
A105: 3 | B105: 창호유리 설치 | C105: 복층유리 T24이하 | D105: S=창호면적 | E105: M2 | F105: =D106 -> 3.096225
D106: =D104 -> 3.096225
A107: 4 | B107: 목재창호 설치 | C107: 3~6M2 이하 | D107: N=1 | E107: EA | F107: =D108 -> 1
D108: 1
A109: 5 | B109: 창호주위 코킹 | C109: 실링마감 | D109: L=창호 둘레길이*2양쪽 | E109: M | F109: =D110 -> 14.28
D110: ='수량(외부)'!$H$57*2 -> 14.28
A111: =A109+1 -> 6 | B111: 창호주위 충전 | D111: L=창호 둘레길이*2양쪽 | E111: M | F111: =D112 -> 14.28
D112: =D110 -> 14.28
A114: =A99+1 -> 10 | B114: ='수량(외부)'!B58 -> 시스템 고정창호 | C114: ='수량(외부)'!C58 -> 1200*2490 AL, T24 로이투명 | E114: ='수량(외부)'!D58 -> EA | F114: 1 | G114: ='수량(외부)'!G58 -> 2.988
A116: 1 | B116: =B114 -> 시스템 고정창호 | C116: =C114 -> 1200*2490 AL, T24 로이투명 | D116: N=1 | E116: EA | F116: =D117 -> 1
D117: 1
A118: 2 | B118: 창호유리 | C118: 로이복층유리 저철분 T24(5+14+5) | D118: S=창호면적 | E118: M2 | F118: =D119 -> 2.988
D119: =G114 -> 2.988
...

Sheet 제비율
B2: ※ 적용시기 : 2026. 04. 13. 입찰공고분부터 | AL2: 2026년 건축∙산업환경설비공사 원가계산 간접공사비(제비율) 적용기준 (참고: 간접노무비율, 기타경비율, 일반관리비율, 이윤율, 공사이행보증수수료율은 조달청 분석요율임)
AC3: [간접노무비] | AL3: [기타경비] | BE3: [일반관리비] | BR3: [이윤] | BY3: [건설기계대여대금 지급보증액 발급금액] | DJ3: [산업안전보건관리비]
B7: 공사규모 | M7: 공사기간 | AC7: (직노) x 율 | AL7: (재+노) x 율 | AU7: 공사규모 | BE7: (재+노+경) x 율 | BR7: (노+경+일) x 율 | BY7: (직접공사비) x 율 | DJ7: □ 도급자관급 미포함 공사 | EA7: (재+직노) x 율 + 기초액
B9: (직접공사비) | AC9: 건축 | AH9: 산업 설비 (건축) | AL9: 건축 | AQ9: 산업 설비 (건축) | AU9: (추정가격) | BE9: 건축, 산업설비(건축) | BK9: 전문· 전기·통신· 소방·기타
BY11: 종합건설업 | CM11: 전문건설업 | DJ11: □ 도급자관급 포함 공사 | EA11: (재+직노+도급자관급) x 요율주2) + 기초액과
EA13: [(재+직노) x 요율주3) + 기초액] x 1.2 중에 작은 금액
B15: 10억 미만 | M15: 6개월 이하 (183일) | AC15: 17.5 | AH15: =AC15 -> 17.5 | AL15: 5 | AQ15: =AL15 -> 5 | AU15: 5억 미만 | BE15: 8 | BK15: 8 | BR15: 15 | BY15: 구분 | CH15: 요율 | CM15: 구분 | DD15: 요율 | DJ15: 산업안전보건관리비 대상액주1) | EA15: 구분 | ER15: 요율 | EZ15: 기초액(천원)
M17: 7~12개월 (365일) | AC17: 17.9 | AH17: =AC17 -> 17.9 | AL17: 5.2 | AQ17: =AL17 -> 5.2
M19: 13~36개월 (1095일) | AC19: 18.2 | AH19: =AC19 -> 18.2 | AL19: 5.5 | AQ19: =AL19 -> 5.5 | BY19: 건축공사 | CH19: 0.07 | CM19: 비계·구조물해체공사 | DD19: 0.68 | DJ19: 5억 미만 | EA19: 건축공사 | ER19: 3.11
M21: 36개월 초과 (1096일) | AC21: 19.4 | AH21: =AC21 -> 19.4 | AL21: 6.1 | AQ21: =AL21 -> 6.1 | AU21: 5억 - 30억 미만 | BK21: 6.5 | EA21: 토목공사 | ER21: 3.15
B23: 10억 - 50억 미만 | M23: 6개월 이하 (183일) | AC23: 17.4 | AH23: =AC23 -> 17.4 | AL23: 5.2 | AQ23: =AL23 -> 5.2 | EA23: 중건설공사 | ER23: 3.64
M25: 7~12개월 (365일) | AC25: 17.8 | AH25: =AC25 -> 17.8 | AL25: 5.4 | AQ25: =AL25 -> 5.4 | BY25: 산업∙설비공사 | CH25: 0.16 | CM25: 석공사, 철근콘크리트공사, 가스시설공사(1종) | DD25: 0.32 | EA25: 특수건설공사 | ER25: 2.07
M27: 13~36개월 (1095일) | AC27: 18.1 | AH27: =AC27 -> 18.1 | AL27: 5.7 | AQ27: =AL27 -> 5.7 | AU27: 30억 - 50억 미만 | BK27: 5 | DJ27: 5억 ~ 50억 미만 | EA27: 건축공사 | ER27: 2.28 | EZ27: 4325
M29: 36개월 초과 (1096일) | AC29: 19.2 | AH29: =AC29 -> 19.2 | AL29: 6.4 | AQ29: =AL29 -> 6.4 | EA29: 토목공사 | ER29: 2.53 | EZ29: 3300
B31: 50억 - 300억 미만 | M31: 6개월 이하 (183일) | AC31: 17.5 | AH31: =AC31 -> 17.5 | AL31: 5.9 | AQ31: =AL31 -> 5.9 | AU31: 50억 - 100억 미만 | BE31: 6.5 | BR31: 12 | CM31: 도장공사, 철강재설치공사 | DD31: 0.16 | EA31: 중건설공사 | ER31: 3.05 | EZ31: 2975
M33: 7~12개월 (365일) | AC33: 17.9 | AH33: =AC33 -> 17.9 | AL33: 6 | AQ33: =AL33 -> 6 | EA33: 특수건설공사 | ER33: 1.59 | EZ33: 2450
M35: 13~36개월 (1095일) | AC35: 18.2 | AH35: =AC35 -> 18.2 | AL35: 6.4 | AQ35: =AL35 -> 6.4 | AU35: 100억 - 300억 미만 | BK35: 4.5 | DJ35: 50억 이상 | DQ35: 추정금액 800억 미만 건설공사 | EA35: 건축공사 | ER35: 2.37
CM36: 기계설비공사업 및 그 외 | DD36: 0.1
M37: 36개월 초과 (1096일) | AC37: 19.4 | AH37: =AC37 -> 19.4 | AL37: 7 | AQ37: =AL37 -> 7 | EA37: 토목공사 | ER37: 2.6
B39: 300억 - 1000억 미만 | M39: 6개월 이하 (183일) | AC39: 17.5 | AH39: =AC39 -> 17.5 | AL39: 6.1 | AQ39: =AL39 -> 6.1 | AU39: 300억 - 1000억 미만 | BE39: 5 | BR39: 10 | EA39: 중건설공사 | ER39: 3.11
M41: 7~12개월 (365일) | AC41: 17.9 | AH41: =AC41 -> 17.9 | AL41: 6.3 | AQ41: =AL41 -> 6.3 | BY41: * 적용제외: 국가유산수리공사, 전기, 정보통신, 소방시설 | EA41: 특수건설공사 | ER41: 1.64
M43: 13~36개월 (1095일) | AC43: 18.2 | AH43: =AC43 -> 18.2 | AL43: 6.6 | AQ43: =AL43 -> 6.6 | AU43: 1000억 이상 | BE43: 4.5 | BR43: 9 | BY43: ※ 건설기계대여대금 지급보증서 발급금액 및 업종별 건설기계 | DQ43: 추정금액 800억 이상 건설공사 | EA43: 건축공사 | ER43: 2.64
M45: 36개월 초과 (1096일) | AC45: 19.4 | AH45: =AC45 -> 19.4 | AL45: 7.2 | AQ45: =AL45 -> 7.2 | BY45: 투입비율 산정기준(국토부 고시 제2019-286호, 2019.6.19.) | EA45: 토목공사 | ER45: 2.73
B47: 1000억 이상 | M47: 6개월 이하 (183일) | AC47: 17.4 | AH47: =AC47 -> 17.4 | AL47: 6.4 | AQ47: =AL47 -> 6.4 | AU47: [건강보험료] | BC47: [노인장기요양보험료] | BQ47: [연금보험료] | BY47: [산재보험료] | EA47: 중건설공사 | ER47: 3.39
M49: 7~12개월 (365일) | AC49: 17.8 | AH49: =AC49 -> 17.8 | AL49: 6.5 | AQ49: =AL49 -> 6.5 | EA49: 특수건설공사 | ER49: 1.78
M51: 13~36개월 (1095일) | AC51: 18.1 | AH51: =AC51 -> 18.1 | AL51: 6.9 | AQ51: =AL51 -> 6.9 | AU51: (직노) x 3.595 | BC51: (건강보험료) x 13.14 | BQ51: (직노) x 4.75 | BY51: (노) x 3.56 | DJ51: * 총 공사금액(도급금액+도급자설치 관급금액) 2천만원 이상 건설공사
M53: 36개월 초과 (1096일) | AC53: 19.3 | AH53: =AC53 -> 19.3 | AL53: 7.5 | AQ53: =AL53 -> 7.5 | AU53: * 공사기간 1개월(30일) 이상인 모든 건설공사 | BY53: * 모든 건설공사 적용. 노동부 고시 제2024-77호(2024. 12. 30.), 산업재해보상보험법시행령 | DJ53: 주1) 산업안전보건관리비 대상액
B55: * 기타경비항목: 수도광열비, 복리후생비, 소모품비 및 사무용품비, 여비∙교통∙통신비, 세금과공과, 도서인쇄비 | AU55: (노인장기요양보험료는 소수점 다섯째자리에서 반올림)
DJ56: - 재료비+직접노무비+도급자설치 관급금액
B57: □ 산업설비(건축) 해당공종 : 지열공사, 소각시설 등 | AU57: ※ 사회보험의 보험료 적용기준 (국토부 고시 제2021-905호, 2021.7.1.) | BY57: ※ 사회보험의 보험료 적용기준 (국토부 고시 제2021-905호, 2021.7.1.)
B59: [고용보험료] | AU59: [환경보전비] | BY59: [건설하도급대금지급보증서발급수수료] | DJ59: 주2) 대상액이 재료비, 직접노무비, 도급자관급의 합계금액인 요율
DJ62: 주3) 대상액이 재료비, 직접노무비의 합계금액인 요율
B63: (노) x 율 | AU63: (직접공사비) x 율 | BY63: (직접공사비) x 율
B65: 공사배정규모(추정금액) | AH65: 요율 | AU65: 구분 | BT65: 요율 | BY65: 공사규모(추정가격) | DB65: 요율 | DJ65: * 산업안전보건관리비 산출 건설공사의 종류
B67: [1등급] 1200억 이상 | AH67: 1.57
AU68: 도로(예시: 교량, 터널, 활주로 등) | BT68: 0.9 | BY68: 50억 미만 | DB68: 0.081 | DJ68: - [건축공사] 「건설산업기본법 시행령」 (별표 1) 제1호 '나'목 / 제2호의 전문공사로서 건축물과
B69: [2등급] 800억 ~ 1200억 미만 | AH69: 1.30
AU70: 플랜트(예시: 발전소, 쓰레기소각장 등) | BT70: 0.4
B71: [3등급] 520억 ~ 800억 미만 | AH71: 1.13 | BY71: 50억 이상 - 100억 미만 | DB71: 0.08 | DJ71: 관련하여 분리하여 발주되었고 시간적·장소적으로도 독립하여 행하는 공사
AU72: 지하철 | BT72: 0.5
B73: [4등급] 340억 ~ 520억 미만 | AH73: 1.06
AU74: 철도 | BT74: 1.5 | BY74: 100억 이상 - 300억 미만 | DB74: 0.075 | DJ74: - [토목공사] 「건설산업기본법 시행령」 (별표 1) 제1호 '가'목, '라'목 / 제2호의 전문공사로서
B75: [5등급] 210억 ~ 340억 미만 | AH75: 1.03
AU76: 상하수도(예시: 폐수, 하수처리장, 정수장 등) | BT76: 0.5
B77: [6등급] 130억 ~ 210억 미만 | AH77: 1.02 | BY77: 300억 이상 종심∙종평제(토목 및 산업설비) | DB77: 0.071 | DJ77: 건축공사 외의 시설물과 관련하여 분리하여 발주되었고 시간적·장소적으로도 독립하여 행하는 공사
AU78: 항만(간척, 준설): 오탁 또는 준설토 방지막 설치 | BT78: 1.8
B79: [7등급] 고시금액 ~ 130억 미만 | AH79: 1.01
AU80: 항만(간척, 준설): 오탁 또는 준설토 방지막 미설치 | BT80: 0.8 | BY80: 300억 이상 종심∙종평제(건축) | DB80: 0.068 | DJ80: - [중건설공사] 「건설산업기본법 시행령」 (별표 1) 제1호 '가'목, '라'목 해당공사 중
B81: 7등급 미만 | AH81: #REF!
AU82: 댐 | BT82: 1.1
B83: * 모든 건설공사에 적용, 국토부 고시 제2021-905호(2021.7.1.), 고용보험법 시행령 | BY83: 턴키∙대안공사 | DB83: 0.084 | DJ83: 다음과 같은 공사 및 이와 함께 부대하여 현장 내에서 행하는 공사
AU84: 택지개발 | BT84: 0.6
B85: * 총공사금액[(도급금액+관급금액)에서 부가세 제외] 2천만원 미만의 건설공사를 건설업자가 아닌 자가 시공 시 미적용
AU86: 기타 토목(하천 등) | BT86: 0.8 | BY86: * 적용제외: 전문공사, 국가유산수리공사 | DJ86: · 고제방 댐 공사 등 - 댐 신설공사, 제방신설공사와 관련한 제반시설공사
B87: ※ 등급기준: 조달청 등급별 유자격자 명부 등록 및 운용기준(조달청 공고 제2023-235호, 2023.7.6.)
AU88: 주택(재개발, 재건축) | BT88: 0.7 | BY88: ※ 하도급대금 지급보증서 발급금액 적용기준
B89: ※ 사회보험의 보험료 적용기준 (국토부 고시 제2021-905호, 2021.7.1.) | DJ89: · 화력, 수력, 원자력, 열병합 발전시설 등 설치공사 - 화력, 수력, 원자력, 열병합 발전시설과 관련된 신설공사 및 제반시설공사
AU90: 주택(신축) | BT90: 0.3 | BY90: (국토부 고시 제2016-921호, 2016.12.19.)
B91: [공사이행보증수수료]
AU92: 주택 외 건축 | BT92: 0.5 | BY92: [법정부담금] | DJ92: · 터널신설공사 등 - 도로, 철도, 지하철 공사로서 터널, 교량, 토공사 등이 포함된 복합시설물로 구성된 공사에 있어
AU94: 조경, 기타(전문, 개보수 공사) | BT94: 0.3
B95: 공사규모(직접공사비) | P95: 수수료 | DJ95: 터널공사비 비중이 가장 큰 비중을 차지하는 건설공사
AU96: * 환경관리비의 산출기준 및 관리에 관한 지침 | BY96: [석면분담금] | CR96: [임금채권부담금]
B98: 70억 미만 | P98: [직공비x0.0108%]x공기(년) | DJ98: - [특수건설공사] 「건설산업기본법 시행령」(별표1) 제1호 '마'목로서 시행규칙(별표3)에서 구분한 조경공사
AU99: (국토부 고시 제2018-528호, 2018.8.30.) | BY99: (노) x 0.006 | CR99: (노) x 0.09
B101: 70억이상~120억미만 | P101: [79만원+(직공비-75억원)x0.0070%]x공기(년) | AU101: ※ 적용제외: 전기공사, 정보통신공사, 소방시설공사, | DJ101: /아래 각목에 따른 건설공사 중 다른 공사와 분리하여 발주되었고 시간적·장소적으로도 독립하여 행하는 공사
BY102: * 모든 건설공사 적용.
B104: 120억이상~250억미만 | P104: [116만원+(직공비-130억원)x0.0059%]x공기(년) | AU104: 국가유산 수리공사 | BY104: 환경부 고시 제2025-25호(2025. 12. 22.), 2026년도 석면피해구제분담금률 | DJ104: · 「전기공사업법」, 「정보통신공사업법」, 「소방공사업법」, 「문화재수리공사업법」에 의한 공사
AU106: [퇴직공제부금비] | BY106: 노동부 고시 제2025-100호(2025.12.31.), 임금채권보장법 사업주 부담금비율 고시
B107: 250억이상~500억미만 | P107: [186만원+(직공비-250억원)x0.0048%]x공기(년) | DJ107: 비고 1 건축물과 관련하여 공사가 수행된다 하더라도 독립하여 행하는 공사가 토목공사, 중건설공사가 명백한 경우 해당 공사 종류로 분류
B110: 500억이상 | P110: [306만원+(직공비-500억원)x0.0040%]x공기(년) | AU110: (직노) x 2.3 | DJ110: 2 건축공사, 토목공사 및 중건설공사와 함께 부대하여 현장 내에서 이루어지는 공사는 개별 법령에 따라 수행되는 공사를 포함
B113: * 「지방계약법 시행령」 제51조제1항에 따른 적용 의무 대상 | AU113: * 추정금액이 1억 이상인 건설공사 | DJ113: ※ 건설업 산업안전보건관리비 계상 및 사용기준 (고용노동부 고시 제2025-11호, 2025.2.12.)
B115: - (시행령 제42조 제1항) 추정가격 300억 이상인 공사의 계약 | AU115: ※ 국토부 고시 제2015-610호(2015.8.20.) 요율 적용
B117: - (시행령 제6장) 대형공사계약(대안입찰, 일괄입찰), 특정공사의 계약 | BY117: □ 전기∙통신∙소방∙전문 및 기타공사의 경우 일반관리비요율을 제외한 각종 요율은 토목, 건축 등 관련 공사업종에 따라 적용
B119: - (시행령 제9장) 기술제안 입찰에 의한 계약 | BY119: (단. 공사규모 및 기간은 해당공종<전기∙통신∙소방∙전문 및 기타공사>을 기준으로 함)
B121: 위 적용기준은 조달청 발주공사에 적용하는 기준이므로 참고자료로 활용하시기 바랍니다.

Sheet 중기변수
A1: 중기전역변수
A2: 변 수 명 | B2: 형 식 | C2: 값 | D2: 비 고
A3: QCODE | B3: 문자 | C3: 100000000001
A4: QUS2WON | B4: 숫자 | C4: 1180 | D4: 환율(장비가격10만불이하)
A5: QUS2WON1 | B5: 숫자 | C5: 1180 | D5: 환율(장비가격10만불이상)
A6: QYEN2WON | B6: 숫자 | C6: 13.2 | D6: 환율(엔화)
A7: QDM2WON | B7: 숫자 | C7: 724.05 | D7: 환율(마르크화)
A8: QSDR2WON | B8: 숫자 | C8: 1000 | D8: 환율(IMF특별인출권)
A9: QECU2WON | B9: 숫자 | C9: 1580 | D9: 환율(유로화)
A10: QEQTY1 | B10: 문자 | C10: (SANG + JUNG + KWAN)*10^-4 | D10: 중기주간경비산출계수
A11: QEQTY2 | B11: 문자 | C11: (SANG + JUNG + KWAN)*10^-4 | D11: 중기야간경비산출계수
A12: QEQTY3 | B12: 문자 | C12: (SANG + JUNG + int(KWAN/3))*10^-4 | D12: 중기주야간경비산출계수
A13: QEINC2 | B13: 숫자 | C13: 1.25 | D13: 중기야간할증계수
A14: QEINC3 | B14: 숫자 | C14: 1.071 | D14: 중기주야간할증계수
A15: QDECPEQ | B15: 문자 | C15: 0 | D15: 경비단가소숫점
A16: QDECCEQ | B16: 문자 | C16: 0 | D16: 경비금액소숫점
A17: QDECEQ | B17: 문자 | C17: 0 | D17: 경비계금액소숫점
A18: QH1 | B18: 문자 | C18: =25/20 * 16/12 * 1/8 -> 0.20833333 | D18: 시간당노임산출계수(일반구간)
A19: QH2 | B19: 문자 | C19: =25/20 * 16/12 * 1/8 -> 0.20833333 | D19: 시간당노임산출계수(터널구간)
A20: QH21 | B20: 문자 | C20: =25/20 * 16/12 * 1/8 -> 0.20833333 | D20: 시간당노임산출계수(장대터널)
A21: QH31 | B21: 문자 | C21: =25/20 * 16/12 * 1/8 -> 0.20833333 | D21: 시간당노임산출계수(해상장비:펌프준설선)
A22: QH32 | B22: 문자 | C22: =25/20 * 16/12 * 1/8 -> 0.20833333 | D22: 시간당노임산출계수(해상장비:GRAB준설선)
A23: QH33 | B23: 문자 | C23: =25/20 * 16/12 * 1/8 -> 0.20833333 | D23: 시간당노임산출계수(해상장비:버켓준설선)
A24: QLINC1 | B24: 숫자 | C24: 1 | D24: 노임할증계수(일반구간:주간)
A25: QLINC2 | B25: 숫자 | C25: 1.5 | D25: 노임할증계수(일반구간:야간)
A26: QLINC3 | B26: 숫자 | C26: 1.16 | D26: 노임할증계수(일반구간:주야간)
A27: QLINCA | B27: 숫자 | C27: 1.6 | D27: 노임할증계수(터널구간:주간)
A28: QLINCB | B28: 숫자 | C28: 1.6 | D28: 노임할증계수(터널구간:야간)
A29: QLINCC | B29: 숫자 | C29: 1.6 | D29: 노임할증계수(터널구간:주야간)
A30: QLINCD | B30: 숫자 | C30: 1.94 | D30: 노임할증계수(장대터널:주간)
A31: QLINCE | B31: 숫자 | C31: 1.94 | D31: 노임할증계수(장대터널:야간)
A32: QLINCF | B32: 숫자 | C32: 1.94 | D32: 노임할증계수(장대터널:주야간)
A33: QLINCX | B33: 숫자 | C33: 1 | D33: 노임할증계수(해상장비:주간)
A34: QLINCY | B34: 숫자 | C34: 1 | D34: 노임할증계수(해상장비:야간)
A35: QLINCZ | B35: 숫자 | C35: 1 | D35: 노임할증계수(해상장비:주야간)
A36: QDECPLA | B36: 문자 | C36: 0 | D36: 노임단가소숫점
A37: QDECCLA | B37: 문자 | C37: 0 | D37: 노임금액소숫점
A38: QDECLA | B38: 문자 | C38: 0 | D38: 노임계금액소숫점
A39: QMINC2 | B39: 숫자 | C39: 1.11 | D39: 재료비할증계수(야간)
A40: QMINC3 | B40: 숫자 | C40: 1.12 | D40: 재료비할증계수(주야간)
A41: QDECPMA | B41: 문자 | C41: 2 | D41: 재료비단가소숫점
A42: QDECCMA | B42: 문자 | C42: 2 | D42: 재료비금액소숫점
A43: QDECMA | B43: 문자 | C43: 2 | D43: 재료비계금액소숫점
A44: QVER | B44: 문자 | C44: 0
A45: QSABUN | B45: 문자
A46: QDATE | B46: 문자
A47: QUS2WON2 | B47: 숫자 | C47: 1180 | D47: 환율(사용자 환율1)
A48: QUS2WON3 | B48: 숫자 | C48: 1180 | D48: 환율(사용자 환율2)
A49: QOPtimeDecCnt | B49: 문자 | C49: 7
A50: QOPtimeDecOp | B50: 문자 | C50: 0
