Workbook

Sheet 전체 통계
A1: (붙임2)
B2: 2026년 하반기 과학실험실 폐수, 폐시약, 액침표본, 공병 처리 신청 현황
B5: 교육(지원)청 | C5: 학교급 | D5: 신청 학교 수(교) | E5: 폐시약(g) | F5: 액침표본(g) | G5: 공병(g) | H5: 폐수(g) | I5: 합계(g)
B6: 동부 | C6: 초 | D6: =COUNTIFS('폐시약,공병, 폐수 현황'!$D$9:$D$239,$C6, '폐시약,공병, 폐수 현황'!$C$9:$C$239,B6) -> 38 | E6: =SUMIFS('폐시약,공병, 폐수 현황'!G$9:G$239,'폐시약,공병, 폐수 현황'!$C$9:$C$239,$B6, '폐시약,공병, 폐수 현황'!$D$9:$D$239,$C6) -> 143082 | F6: =SUMIFS('폐시약,공병, 폐수 현황'!H$9:H$239,'폐시약,공병, 폐수 현황'!$C$9:$C$239,$B6, '폐시약,공병, 폐수 현황'!$D$9:$D$239,$C6) -> 0 | G6: =SUMIFS('폐시약,공병, 폐수 현황'!I$9:I$239,'폐시약,공병, 폐수 현황'!$C$9:$C$239,$B6, '폐시약,공병, 폐수 현황'!$D$9:$D$239,$C6) -> 32254 | H6: =SUMIFS('폐시약,공병, 폐수 현황'!J$9:J$239,'폐시약,공병, 폐수 현황'!$C$9:$C$239,$B6, '폐시약,공병, 폐수 현황'!$D$9:$D$239,$C6) -> 446595 | I6: =SUM(E6:H6) -> 621931
C7: 중 | D7: =COUNTIFS('폐시약,공병, 폐수 현황'!$D$9:$D$239,$C7, '폐시약,공병, 폐수 현황'!$C$9:$C$239,B6) -> 24 | E7: =SUMIFS('폐시약,공병, 폐수 현황'!G$9:G$239,'폐시약,공병, 폐수 현황'!$C$9:$C$239,$B6, '폐시약,공병, 폐수 현황'!$D$9:$D$239,$C7) -> 209263 | F7: =SUMIFS('폐시약,공병, 폐수 현황'!H$9:H$239,'폐시약,공병, 폐수 현황'!$C$9:$C$239,$B6, '폐시약,공병, 폐수 현황'!$D$9:$D$239,$C7) -> 0 | G7: =SUMIFS('폐시약,공병, 폐수 현황'!I$9:I$239,'폐시약,공병, 폐수 현황'!$C$9:$C$239,$B6, '폐시약,공병, 폐수 현황'!$D$9:$D$239,$C7) -> 29223 | H7: =SUMIFS('폐시약,공병, 폐수 현황'!J$9:J$239,'폐시약,공병, 폐수 현황'!$C$9:$C$239,$B6, '폐시약,공병, 폐수 현황'!$D$9:$D$239,$C7) -> 553396 | I7: =SUM(E7:H7) -> 791882
C8: 소계 | D8: =SUBTOTAL(9,D6:D7) -> 62 | E8: =SUBTOTAL(9,E6:E7) -> 352345 | F8: =SUBTOTAL(9,F6:F7) -> 0 | G8: =SUBTOTAL(9,G6:G7) -> 61477 | H8: =SUBTOTAL(9,H6:H7) -> 999991 | I8: =SUBTOTAL(9,I6:I7) -> 1413813
B9: 서부 | C9: 초 | D9: =COUNTIFS('폐시약,공병, 폐수 현황'!$D$9:$D$239,$C9, '폐시약,공병, 폐수 현황'!$C$9:$C$239,B9) -> 28 | E9: =SUMIFS('폐시약,공병, 폐수 현황'!G$9:G$239,'폐시약,공병, 폐수 현황'!$C$9:$C$239,$B9, '폐시약,공병, 폐수 현황'!$D$9:$D$239,$C9) -> 122564 | F9: =SUMIFS('폐시약,공병, 폐수 현황'!H$9:H$239,'폐시약,공병, 폐수 현황'!$C$9:$C$239,$B9, '폐시약,공병, 폐수 현황'!$D$9:$D$239,$C9) -> 0 | G9: =SUMIFS('폐시약,공병, 폐수 현황'!I$9:I$239,'폐시약,공병, 폐수 현황'!$C$9:$C$239,$B9, '폐시약,공병, 폐수 현황'!$D$9:$D$239,$C9) -> 33850 | H9: =SUMIFS('폐시약,공병, 폐수 현황'!J$9:J$239,'폐시약,공병, 폐수 현황'!$C$9:$C$239,$B9, '폐시약,공병, 폐수 현황'!$D$9:$D$239,$C9) -> 306280 | I9: =SUM(E9:H9) -> 462694
C10: 중 | D10: =COUNTIFS('폐시약,공병, 폐수 현황'!$D$9:$D$239,$C10, '폐시약,공병, 폐수 현황'!$C$9:$C$239,B9) -> 16 | E10: =SUMIFS('폐시약,공병, 폐수 현황'!G$9:G$239,'폐시약,공병, 폐수 현황'!$C$9:$C$239,$B9, '폐시약,공병, 폐수 현황'!$D$9:$D$239,$C10) -> 164867 | F10: =SUMIFS('폐시약,공병, 폐수 현황'!H$9:H$239,'폐시약,공병, 폐수 현황'!$C$9:$C$239,$B9, '폐시약,공병, 폐수 현황'!$D$9:$D$239,$C10) -> 0 | G10: =SUMIFS('폐시약,공병, 폐수 현황'!I$9:I$239,'폐시약,공병, 폐수 현황'!$C$9:$C$239,$B9, '폐시약,공병, 폐수 현황'!$D$9:$D$239,$C10) -> 11877 | H10: =SUMIFS('폐시약,공병, 폐수 현황'!J$9:J$239,'폐시약,공병, 폐수 현황'!$C$9:$C$239,$B9, '폐시약,공병, 폐수 현황'!$D$9:$D$239,$C10) -> 211150 | I10: =SUM(E10:H10) -> 387894
C11: 소계 | D11: =SUBTOTAL(9,D9:D10) -> 44 | E11: =SUBTOTAL(9,E9:E10) -> 287431 | F11: =SUBTOTAL(9,F9:F10) -> 0 | G11: =SUBTOTAL(9,G9:G10) -> 45727 | H11: =SUBTOTAL(9,H9:H10) -> 517430 | I11: =SUBTOTAL(9,I9:I10) -> 850588
B12: 남부 | C12: 초 | D12: =COUNTIFS('폐시약,공병, 폐수 현황'!$D$9:$D$239,$C12, '폐시약,공병, 폐수 현황'!$C$9:$C$239,B12) -> 25 | E12: =SUMIFS('폐시약,공병, 폐수 현황'!G$9:G$239,'폐시약,공병, 폐수 현황'!$C$9:$C$239,$B12, '폐시약,공병, 폐수 현황'!$D$9:$D$239,$C12) -> 106533 | F12: =SUMIFS('폐시약,공병, 폐수 현황'!H$9:H$239,'폐시약,공병, 폐수 현황'!$C$9:$C$239,$B12, '폐시약,공병, 폐수 현황'!$D$9:$D$239,$C12) -> 0 | G12: =SUMIFS('폐시약,공병, 폐수 현황'!I$9:I$239,'폐시약,공병, 폐수 현황'!$C$9:$C$239,$B12, '폐시약,공병, 폐수 현황'!$D$9:$D$239,$C12) -> 26561 | H12: =SUMIFS('폐시약,공병, 폐수 현황'!J$9:J$239,'폐시약,공병, 폐수 현황'!$C$9:$C$239,$B12, '폐시약,공병, 폐수 현황'!$D$9:$D$239,$C12) -> 297380 | I12: =SUM(E12:H12) -> 430474
C13: 중 | D13: =COUNTIFS('폐시약,공병, 폐수 현황'!$D$9:$D$239,$C13, '폐시약,공병, 폐수 현황'!$C$9:$C$239,B12) -> 16 | E13: =SUMIFS('폐시약,공병, 폐수 현황'!G$9:G$239,'폐시약,공병, 폐수 현황'!$C$9:$C$239,$B12, '폐시약,공병, 폐수 현황'!$D$9:$D$239,$C13) -> 192425 | F13: =SUMIFS('폐시약,공병, 폐수 현황'!H$9:H$239,'폐시약,공병, 폐수 현황'!$C$9:$C$239,$B12, '폐시약,공병, 폐수 현황'!$D$9:$D$239,$C13) -> 0 | G13: =SUMIFS('폐시약,공병, 폐수 현황'!I$9:I$239,'폐시약,공병, 폐수 현황'!$C$9:$C$239,$B12, '폐시약,공병, 폐수 현황'!$D$9:$D$239,$C13) -> 22913 | H13: =SUMIFS('폐시약,공병, 폐수 현황'!J$9:J$239,'폐시약,공병, 폐수 현황'!$C$9:$C$239,$B12, '폐시약,공병, 폐수 현황'!$D$9:$D$239,$C13) -> 221300 | I13: =SUM(E13:H13) -> 436638
C14: 소계 | D14: =SUBTOTAL(9,D12:D13) -> 41 | E14: =SUBTOTAL(9,E12:E13) -> 298958 | F14: =SUBTOTAL(9,F12:F13) -> 0 | G14: =SUBTOTAL(9,G12:G13) -> 49474 | H14: =SUBTOTAL(9,H12:H13) -> 518680 | I14: =SUBTOTAL(9,I12:I13) -> 867112
B15: 달성 | C15: 초 | D15: =COUNTIFS('폐시약,공병, 폐수 현황'!$D$9:$D$239,$C15, '폐시약,공병, 폐수 현황'!$C$9:$C$239,B15) -> 13 | E15: =SUMIFS('폐시약,공병, 폐수 현황'!G$9:G$239,'폐시약,공병, 폐수 현황'!$C$9:$C$239,$B15, '폐시약,공병, 폐수 현황'!$D$9:$D$239,$C15) -> 28815 | F15: =SUMIFS('폐시약,공병, 폐수 현황'!H$9:H$239,'폐시약,공병, 폐수 현황'!$C$9:$C$239,$B15, '폐시약,공병, 폐수 현황'!$D$9:$D$239,$C15) -> 0 | G15: =SUMIFS('폐시약,공병, 폐수 현황'!I$9:I$239,'폐시약,공병, 폐수 현황'!$C$9:$C$239,$B15, '폐시약,공병, 폐수 현황'!$D$9:$D$239,$C15) -> 15092 | H15: =SUMIFS('폐시약,공병, 폐수 현황'!J$9:J$239,'폐시약,공병, 폐수 현황'!$C$9:$C$239,$B15, '폐시약,공병, 폐수 현황'!$D$9:$D$239,$C15) -> 204500 | I15: =SUM(E15:H15) -> 248407
C16: 중 | D16: =COUNTIFS('폐시약,공병, 폐수 현황'!$D$9:$D$239,$C16, '폐시약,공병, 폐수 현황'!$C$9:$C$239,B15) -> 6 | E16: =SUMIFS('폐시약,공병, 폐수 현황'!G$9:G$239,'폐시약,공병, 폐수 현황'!$C$9:$C$239,$B15, '폐시약,공병, 폐수 현황'!$D$9:$D$239,$C16) -> 31500 | F16: =SUMIFS('폐시약,공병, 폐수 현황'!H$9:H$239,'폐시약,공병, 폐수 현황'!$C$9:$C$239,$B15, '폐시약,공병, 폐수 현황'!$D$9:$D$239,$C16) -> 0 | G16: =SUMIFS('폐시약,공병, 폐수 현황'!I$9:I$239,'폐시약,공병, 폐수 현황'!$C$9:$C$239,$B15, '폐시약,공병, 폐수 현황'!$D$9:$D$239,$C16) -> 4836 | H16: =SUMIFS('폐시약,공병, 폐수 현황'!J$9:J$239,'폐시약,공병, 폐수 현황'!$C$9:$C$239,$B15, '폐시약,공병, 폐수 현황'!$D$9:$D$239,$C16) -> 65550 | I16: =SUM(E16:H16) -> 101886
C17: 소계 | D17: =SUBTOTAL(9,D15:D16) -> 19 | E17: =SUBTOTAL(9,E15:E16) -> 60315 | F17: =SUBTOTAL(9,F15:F16) -> 0 | G17: =SUBTOTAL(9,G15:G16) -> 19928 | H17: =SUBTOTAL(9,H15:H16) -> 270050 | I17: =SUBTOTAL(9,I15:I16) -> 350293
B18: 군위 | C18: 초 | D18: =COUNTIFS('폐시약,공병, 폐수 현황'!$D$9:$D$239,$C18, '폐시약,공병, 폐수 현황'!$C$9:$C$239,B18) -> 1 | E18: =SUMIFS('폐시약,공병, 폐수 현황'!G$9:G$239,'폐시약,공병, 폐수 현황'!$C$9:$C$239,$B18, '폐시약,공병, 폐수 현황'!$D$9:$D$239,$C18) -> 0 | F18: =SUMIFS('폐시약,공병, 폐수 현황'!H$9:H$239,'폐시약,공병, 폐수 현황'!$C$9:$C$239,$B18, '폐시약,공병, 폐수 현황'!$D$9:$D$239,$C18) -> 21400 | G18: =SUMIFS('폐시약,공병, 폐수 현황'!I$9:I$239,'폐시약,공병, 폐수 현황'!$C$9:$C$239,$B18, '폐시약,공병, 폐수 현황'!$D$9:$D$239,$C18) -> 0 | H18: =SUMIFS('폐시약,공병, 폐수 현황'!J$9:J$239,'폐시약,공병, 폐수 현황'!$C$9:$C$239,$B18, '폐시약,공병, 폐수 현황'!$D$9:$D$239,$C18) -> 0 | I18: =SUM(E18:H18) -> 21400
C19: 중 | D19: =COUNTIFS('폐시약,공병, 폐수 현황'!$D$9:$D$239,$C19, '폐시약,공병, 폐수 현황'!$C$9:$C$239,B18) -> 0 | E19: =SUMIFS('폐시약,공병, 폐수 현황'!G$9:G$239,'폐시약,공병, 폐수 현황'!$C$9:$C$239,$B18, '폐시약,공병, 폐수 현황'!$D$9:$D$239,$C19) -> 0 | F19: =SUMIFS('폐시약,공병, 폐수 현황'!H$9:H$239,'폐시약,공병, 폐수 현황'!$C$9:$C$239,$B18, '폐시약,공병, 폐수 현황'!$D$9:$D$239,$C19) -> 0 | G19: =SUMIFS('폐시약,공병, 폐수 현황'!I$9:I$239,'폐시약,공병, 폐수 현황'!$C$9:$C$239,$B18, '폐시약,공병, 폐수 현황'!$D$9:$D$239,$C19) -> 0 | H19: =SUMIFS('폐시약,공병, 폐수 현황'!J$9:J$239,'폐시약,공병, 폐수 현황'!$C$9:$C$239,$B18, '폐시약,공병, 폐수 현황'!$D$9:$D$239,$C19) -> 0 | I19: =SUM(E19:H19) -> 0
C20: 소계 | D20: =SUBTOTAL(9,D18:D19) -> 1 | E20: =SUBTOTAL(9,E18:E19) -> 0 | F20: =SUBTOTAL(9,F18:F19) -> 21400 | G20: =SUBTOTAL(9,G18:G19) -> 0 | H20: =SUBTOTAL(9,H18:H19) -> 0 | I20: =SUBTOTAL(9,I18:I19) -> 21400
B21: 본청 | C21: 고 | D21: =COUNTIFS('폐시약,공병, 폐수 현황'!$D$9:$D$239,$C21, '폐시약,공병, 폐수 현황'!$C$9:$C$239,B21) -> 62 | E21: =SUMIFS('폐시약,공병, 폐수 현황'!G$9:G$239,'폐시약,공병, 폐수 현황'!$C$9:$C$239,$B21, '폐시약,공병, 폐수 현황'!$D$9:$D$239,$C21) -> 692890 | F21: =SUMIFS('폐시약,공병, 폐수 현황'!H$9:H$239,'폐시약,공병, 폐수 현황'!$C$9:$C$239,$B21, '폐시약,공병, 폐수 현황'!$D$9:$D$239,$C21) -> 0 | G21: =SUMIFS('폐시약,공병, 폐수 현황'!I$9:I$239,'폐시약,공병, 폐수 현황'!$C$9:$C$239,$B21, '폐시약,공병, 폐수 현황'!$D$9:$D$239,$C21) -> 160396 | H21: =SUMIFS('폐시약,공병, 폐수 현황'!J$9:J$239,'폐시약,공병, 폐수 현황'!$C$9:$C$239,$B21, '폐시약,공병, 폐수 현황'!$D$9:$D$239,$C21) -> 2427000 | I21: =SUM(E21:H21) -> 3280286
C22: 특수 | D22: =COUNTIFS('폐시약,공병, 폐수 현황'!$D$9:$D$239,$C22, '폐시약,공병, 폐수 현황'!$C$9:$C$239,B21) -> 1 | E22: =SUMIFS('폐시약,공병, 폐수 현황'!G$9:G$239,'폐시약,공병, 폐수 현황'!$C$9:$C$239,$B21, '폐시약,공병, 폐수 현황'!$D$9:$D$239,$C22) -> 207 | F22: =SUMIFS('폐시약,공병, 폐수 현황'!H$9:H$239,'폐시약,공병, 폐수 현황'!$C$9:$C$239,$B21, '폐시약,공병, 폐수 현황'!$D$9:$D$239,$C22) -> 0 | G22: =SUMIFS('폐시약,공병, 폐수 현황'!I$9:I$239,'폐시약,공병, 폐수 현황'!$C$9:$C$239,$B21, '폐시약,공병, 폐수 현황'!$D$9:$D$239,$C22) -> 0 | H22: =SUMIFS('폐시약,공병, 폐수 현황'!J$9:J$239,'폐시약,공병, 폐수 현황'!$C$9:$C$239,$B21, '폐시약,공병, 폐수 현황'!$D$9:$D$239,$C22) -> 0 | I22: =SUM(E22:H22) -> 207
C23: 직속 | D23: =COUNTIFS('폐시약,공병, 폐수 현황'!$D$9:$D$239,$C23, '폐시약,공병, 폐수 현황'!$C$9:$C$239,B21) -> 1 | E23: =SUMIFS('폐시약,공병, 폐수 현황'!G$9:G$239,'폐시약,공병, 폐수 현황'!$C$9:$C$239,$B21, '폐시약,공병, 폐수 현황'!$D$9:$D$239,$C23) -> 3930 | F23: =SUMIFS('폐시약,공병, 폐수 현황'!H$9:H$239,'폐시약,공병, 폐수 현황'!$C$9:$C$239,$B21, '폐시약,공병, 폐수 현황'!$D$9:$D$239,$C23) -> 0 | G23: =SUMIFS('폐시약,공병, 폐수 현황'!I$9:I$239,'폐시약,공병, 폐수 현황'!$C$9:$C$239,$B21, '폐시약,공병, 폐수 현황'!$D$9:$D$239,$C23) -> 23200 | H23: =SUMIFS('폐시약,공병, 폐수 현황'!J$9:J$239,'폐시약,공병, 폐수 현황'!$C$9:$C$239,$B21, '폐시약,공병, 폐수 현황'!$D$9:$D$239,$C23) -> 50000 | I23: =SUM(E23:H23) -> 77130
C24: 소계 | D24: =SUBTOTAL(9,D21:D23) -> 64 | E24: =SUBTOTAL(9,E21:E23) -> 697027 | F24: =SUBTOTAL(9,F21:F23) -> 0 | G24: =SUBTOTAL(9,G21:G23) -> 183596 | H24: =SUBTOTAL(9,H21:H23) -> 2477000 | I24: =SUBTOTAL(9,I21:I23) -> 3357623
B25: 합계 | D25: =SUBTOTAL(9,D6:D24) -> 231 | E25: =SUBTOTAL(9,E6:E24) -> 1696076 | F25: =SUBTOTAL(9,F6:F24) -> 21400 | G25: =SUBTOTAL(9,G6:G24) -> 360202 | H25: =SUBTOTAL(9,H6:H24) -> 4783151 | I25: =SUBTOTAL(9,I6:I24) -> 6860829
B28: 구분 | D28: 신청 학교 수 (교) | E28: 폐시약(g) | F28: 액침표본(g) | G28: 공병(g) | H28: 폐수(g) | I28: 합계(g)
B29: 초 | D29: =COUNTIFS('폐시약,공병, 폐수 현황'!$D$9:$D$239,$B29) -> 105 | E29: =SUMIFS('폐시약,공병, 폐수 현황'!G$9:G$239,'폐시약,공병, 폐수 현황'!$D$9:$D$239,$B29) -> 400994 | F29: =SUMIFS('폐시약,공병, 폐수 현황'!H$9:H$239,'폐시약,공병, 폐수 현황'!$D$9:$D$239,$B29) -> 21400 | G29: =SUMIFS('폐시약,공병, 폐수 현황'!I$9:I$239,'폐시약,공병, 폐수 현황'!$D$9:$D$239,$B29) -> 107757 | H29: =SUMIFS('폐시약,공병, 폐수 현황'!J$9:J$239,'폐시약,공병, 폐수 현황'!$D$9:$D$239,$B29) -> 1254755 | I29: =SUM(E29:H29) -> 1784906
B30: 중 | D30: =COUNTIFS('폐시약,공병, 폐수 현황'!$D$9:$D$239,$B30) -> 62 | E30: =SUMIFS('폐시약,공병, 폐수 현황'!G$9:G$239,'폐시약,공병, 폐수 현황'!$D$9:$D$239,$B30) -> 598055 | F30: =SUMIFS('폐시약,공병, 폐수 현황'!H$9:H$239,'폐시약,공병, 폐수 현황'!$D$9:$D$239,$B30) -> 0 | G30: =SUMIFS('폐시약,공병, 폐수 현황'!I$9:I$239,'폐시약,공병, 폐수 현황'!$D$9:$D$239,$B30) -> 68849 | H30: =SUMIFS('폐시약,공병, 폐수 현황'!J$9:J$239,'폐시약,공병, 폐수 현황'!$D$9:$D$239,$B30) -> 1051396 | I30: =SUM(E30:H30) -> 1718300
B31: 고 | D31: =COUNTIFS('폐시약,공병, 폐수 현황'!$D$9:$D$239,$B31) -> 62 | E31: =SUMIFS('폐시약,공병, 폐수 현황'!G$9:G$239,'폐시약,공병, 폐수 현황'!$D$9:$D$239,$B31) -> 692890 | F31: =SUMIFS('폐시약,공병, 폐수 현황'!H$9:H$239,'폐시약,공병, 폐수 현황'!$D$9:$D$239,$B31) -> 0 | G31: =SUMIFS('폐시약,공병, 폐수 현황'!I$9:I$239,'폐시약,공병, 폐수 현황'!$D$9:$D$239,$B31) -> 160396 | H31: =SUMIFS('폐시약,공병, 폐수 현황'!J$9:J$239,'폐시약,공병, 폐수 현황'!$D$9:$D$239,$B31) -> 2427000 | I31: =SUM(E31:H31) -> 3280286
B32: 특수 | D32: =COUNTIFS('폐시약,공병, 폐수 현황'!$D$9:$D$239,$B32) -> 1 | E32: =SUMIFS('폐시약,공병, 폐수 현황'!G$9:G$239,'폐시약,공병, 폐수 현황'!$D$9:$D$239,$B32) -> 207 | F32: =SUMIFS('폐시약,공병, 폐수 현황'!H$9:H$239,'폐시약,공병, 폐수 현황'!$D$9:$D$239,$B32) -> 0 | G32: =SUMIFS('폐시약,공병, 폐수 현황'!I$9:I$239,'폐시약,공병, 폐수 현황'!$D$9:$D$239,$B32) -> 0 | H32: =SUMIFS('폐시약,공병, 폐수 현황'!J$9:J$239,'폐시약,공병, 폐수 현황'!$D$9:$D$239,$B32) -> 0 | I32: =SUM(E32:H32) -> 207
B33: 직속 | D33: =COUNTIFS('폐시약,공병, 폐수 현황'!$D$9:$D$239,$B33) -> 1 | E33: =SUMIFS('폐시약,공병, 폐수 현황'!G$9:G$239,'폐시약,공병, 폐수 현황'!$D$9:$D$239,$B33) -> 3930 | F33: =SUMIFS('폐시약,공병, 폐수 현황'!H$9:H$239,'폐시약,공병, 폐수 현황'!$D$9:$D$239,$B33) -> 0 | G33: =SUMIFS('폐시약,공병, 폐수 현황'!I$9:I$239,'폐시약,공병, 폐수 현황'!$D$9:$D$239,$B33) -> 23200 | H33: =SUMIFS('폐시약,공병, 폐수 현황'!J$9:J$239,'폐시약,공병, 폐수 현황'!$D$9:$D$239,$B33) -> 50000 | I33: =SUM(E33:H33) -> 77130
B34: 합계 | D34: =SUM(D29:D33) -> 231 | E34: =SUM(E29:E33) -> 1696076 | F34: =SUM(F29:F33) -> 21400 | G34: =SUM(G29:G33) -> 360202 | H34: =SUM(H29:H33) -> 4783151 | I34: =SUM(I29:I33) -> 6860829

Sheet 폐시약,공병, 폐수 현황
B2: 2026년도 하반기 폐수·폐시약 수거 신청 현황
K3: (단위: g)
F4: 통계 | G4: 폐시약 무게 (a) | H4: 액침표본 무게 (b) | I4: 공병 무게 (c) | J4: 폐수 무게 (d) | K4: 계 (a+b+c+d)
F5: 총량 (g) | G5: =G6 -> 1696076 | H5: =H6 -> 21400 | I5: =I6 -> 360202 | J5: =J6 -> 4783151 | K5: =K6 -> 6860829
C6: =COUNTA(E9:E239) -> 231 | G6: =SUM(G9:G239) -> 1696076 | H6: =SUM(H9:H239) -> 21400 | I6: =SUM(I9:I239) -> 360202 | J6: =SUM(J9:J239) -> 4783151 | K6: =SUM(K9:K239) -> 6860829 | M6: (단위: g)
B7: 연번 | C7: 소속 | D7: 학교급 | E7: 학교명 | F7: 학급수 | G7: 폐시약 무게 (a) | H7: 액침표본 무게 (b) | I7: 공병 무게 (c) | J7: 폐수 무게 (d) | K7: 계 (a+b+c+d) | L7: 주소 | N7: 담당자
A8: 일련번호 | L8: 구/군 | M8: 상세주소(도로명 주소) | N8: 성명 | O8: 내선번호
B9: 1 | C9: 본청 | D9: 직속 | E9: 대구창의융합교육원 | F9: - | G9: 3930 | H9: 0 | I9: 23200 | J9: 50000 | K9: =SUM(G9:J9) -> 77130 | L9: =VLOOKUP($E9,'학교 주소'!$B$3:$D$500,2,FALSE()) -> 수성구 | M9: =VLOOKUP($E9,'학교 주소'!$B$3:$D$500,3,FALSE()) -> 대두광역시 수성구 동대구로 172 (황금동626-1, 대구창의융합교육원) | N9: 황경희 | O9: 231-1195
B10: 2 | C10: 본청 | D10: 고 | E10: 강동고등학교 | F10: 31 | G10: 0 | H10: 0 | I10: 5000 | J10: 35000 | K10: =SUM(G10:J10) -> 40000 | L10: =VLOOKUP($E10,'학교 주소'!$B$3:$D$500,2,FALSE()) -> 동구 | M10: =VLOOKUP($E10,'학교 주소'!$B$3:$D$500,3,FALSE()) -> 대구광역시 동구 금강로 65 (신서동, 강동고등학교) | N10: 박미영 | O10: 231-6377
B11: 3 | C11: 본청 | D11: 고 | E11: 강북고등학교 | F11: 30 | G11: 65521 | H11: 0 | I11: 8000 | J11: 73000 | K11: =SUM(G11:J11) -> 146521 | L11: =VLOOKUP($E11,'학교 주소'!$B$3:$D$500,2,FALSE()) -> 북구 | M11: =VLOOKUP($E11,'학교 주소'!$B$3:$D$500,3,FALSE()) -> 대구광역시 북구 태전로 100 (태전동) | N11: 정민주 | O11: 235-5857
B12: 4 | C12: 본청 | D12: 고 | E12: 경덕여자고등학교 | F12: 18 | G12: 2820 | H12: 0 | I12: 950 | J12: 60000 | K12: =SUM(G12:J12) -> 63770 | L12: =VLOOKUP($E12,'학교 주소'!$B$3:$D$500,2,FALSE()) -> 서구 | M12: =VLOOKUP($E12,'학교 주소'!$B$3:$D$500,3,FALSE()) -> 대구광역시 서구 국채보상로34길 50 (중리동, 경덕여자고등학교) | N12: 도규림 | O12: 231-7450
B13: 5 | C13: 본청 | D13: 고 | E13: 경명여자고등학교 | F13: 27 | G13: 1750 | H13: 0 | I13: 1000 | J13: 80000 | K13: =SUM(G13:J13) -> 82750 | L13: =VLOOKUP($E13,'학교 주소'!$B$3:$D$500,2,FALSE()) -> 북구 | M13: =VLOOKUP($E13,'학교 주소'!$B$3:$D$500,3,FALSE()) -> 대구광역시 북구 칠성로17길 18 (칠성동2가,경명여자중고등학교) | N13: 나민지 | O13: 235-7211
B14: 6 | C14: 본청 | D14: 고 | E14: 경북고등학교 | F14: 32 | G14: 3724 | H14: 0 | I14: 2000 | J14: 30000 | K14: =SUM(G14:J14) -> 35724 | L14: =VLOOKUP($E14,'학교 주소'!$B$3:$D$500,2,FALSE()) -> 수성구 | M14: =VLOOKUP($E14,'학교 주소'!$B$3:$D$500,3,FALSE()) -> 대구광역시 수성구 청호로 300 (황금동,경북고등학교) | N14: 김동진 | O14: 231-4099
B15: 7 | C15: 본청 | D15: 고 | E15: 경북대학교사범대학부설고등학교 | F15: 31 | G15: 0 | H15: 0 | I15: 4770 | J15: 0 | K15: =SUM(G15:J15) -> 4770 | L15: =VLOOKUP($E15,'학교 주소'!$B$3:$D$500,2,FALSE()) -> 중구 | M15: =VLOOKUP($E15,'학교 주소'!$B$3:$D$500,3,FALSE()) -> 대구광역시 중구 달구벌대로 2178 (대봉동, 경북대학교사범대학부설중.고등학교) | N15: 최분남 | O15: 231-9499
B16: 8 | C16: 본청 | D16: 고 | E16: 경북여자고등학교 | F16: 28 | G16: 3100 | H16: 0 | I16: 5000 | J16: 60000 | K16: =SUM(G16:J16) -> 68100 | L16: =VLOOKUP($E16,'학교 주소'!$B$3:$D$500,2,FALSE()) -> 중구 | M16: =VLOOKUP($E16,'학교 주소'!$B$3:$D$500,3,FALSE()) -> 대구광역시 중구 중앙대로 288 (남산동, 경북여자고등학교) | N16: 배현숙 | O16: 231-7213
B17: 9 | C17: 본청 | D17: 고 | E17: 경상고등학교 | F17: 27 | G17: 63343 | H17: 0 | I17: 154 | J17: 21000 | K17: =SUM(G17:J17) -> 84497 | L17: =VLOOKUP($E17,'학교 주소'!$B$3:$D$500,2,FALSE()) -> 북구 | M17: =VLOOKUP($E17,'학교 주소'!$B$3:$D$500,3,FALSE()) -> 대구광역시 북구 공항로15길 24 (복현동, 경상고등학교) | N17: 조민지 | O17: 235-6076
B18: 10 | C18: 본청 | D18: 고 | E18: 경상여자고등학교 | F18: 29 | G18: 600 | H18: 0 | I18: 220 | J18: 10000 | K18: =SUM(G18:J18) -> 10820 | L18: =VLOOKUP($E18,'학교 주소'!$B$3:$D$500,2,FALSE()) -> 북구 | M18: =VLOOKUP($E18,'학교 주소'!$B$3:$D$500,3,FALSE()) -> 대구광역시 북구 침산남로9길 164 (침산동, 경상여자고등학교) | N18: 강지혜 | O18: 235-8093
B19: 11 | C19: 본청 | D19: 고 | E19: 경원고등학교 | F19: 34 | G19: 15000 | H19: 0 | I19: 0 | J19: 21000 | K19: =SUM(G19:J19) -> 36000 | L19: =VLOOKUP($E19,'학교 주소'!$B$3:$D$500,2,FALSE()) -> 달서구 | M19: =VLOOKUP($E19,'학교 주소'!$B$3:$D$500,3,FALSE()) -> 대구광역시 달서구 새방로 77 (용산동) | N19: 전윤서 | O19: 235-5617
B20: 12 | C20: 본청 | D20: 고 | E20: 경화여자고등학교 | F20: 24 | G20: 0 | H20: 0 | I20: 1000 | J20: 41000 | K20: =SUM(G20:J20) -> 42000 | L20: =VLOOKUP($E20,'학교 주소'!$B$3:$D$500,2,FALSE()) -> 달서구 | M20: =VLOOKUP($E20,'학교 주소'!$B$3:$D$500,3,FALSE()) -> 대구광역시 달서구 당산로30길 20 (성당동, 경화여자고등학교, 경암중학교) | N20: 이진우 | O20: 235-7659
B21: 13 | C21: 본청 | D21: 고 | E21: 계성고등학교 | F21: 30 | G21: 0 | H21: 0 | I21: 15000 | J21: 45000 | K21: =SUM(G21:J21) -> 60000 | L21: =VLOOKUP($E21,'학교 주소'!$B$3:$D$500,2,FALSE()) -> 서구 | M21: =VLOOKUP($E21,'학교 주소'!$B$3:$D$500,3,FALSE()) -> 대구광역시 서구 새방로 171 (상리동) | N21: 정혜경 | O21: 235-4223
... B72: 64 | C72: 본청 | D72: 특수 | E72: 대구남양학교 | F72: 44 | G72: 207 | H72: 0 | I72: 0 | J72: 0 | K72: =SUM(G72:J72) -> 207 | L72: =VLOOKUP($E72,'학교 주소'!$B$3:$D$500,2,FALSE()) -> 수성구 | M72: =VLOOKUP($E72,'학교 주소'!$B$3:$D$500,3,FALSE()) -> 대구광역시 수성구 무학로37안길 6 (지산동, 남양학교) | N72: 김윤정 | O72: 231-3064
A73: 66 | B73: 65 | C73: 동부 | D73: 초 | E73: 계성초등학교 | F73: 24 | G73: 0 | H73: 0 | I73: 1500 | J73: 8000 | K73: =SUM(G73:J73) -> 9500 | L73: =VLOOKUP($E73,'학교 주소'!$B$3:$D$500,2,FALSE()) -> 중구 | M73: =VLOOKUP($E73,'학교 주소'!$B$3:$D$500,3,FALSE()) -> 대구광역시 중구 달성로 15 (대신동,계성초등학교) | N73: 곽혜원 | O73: 253-4192
A74: 67 | B74: 66 | C74: 동부 | D74: 초 | E74: 대구경동초등학교 | F74: 58 | G74: 20000 | H74: 0 | I74: 5000 | J74: 15000 | K74: =SUM(G74:J74) -> 40000 | L74: =VLOOKUP($E74,'학교 주소'!$B$3:$D$500,2,FALSE()) -> 수성구 | M74: =VLOOKUP($E74,'학교 주소'!$B$3:$D$500,3,FALSE()) -> 대구광역시 수성구 청호로76길 12 (범어동,경동초등학교) | N74: 이유정 | O74: 232-2977
A75: 68 | B75: 67 | C75: 동부 | D75: 초 | E75: 대구고산초등학교 | F75: 29 | G75: 0 | H75: 0 | I75: 4000 | J75: 35000 | K75: =SUM(G75:J75) -> 39000 | L75: =VLOOKUP($E75,'학교 주소'!$B$3:$D$500,2,FALSE()) -> 수성구 | M75: =VLOOKUP($E75,'학교 주소'!$B$3:$D$500,3,FALSE()) -> 대구광역시 수성구 달구벌대로 3067 (시지동,고산초등학교) | N75: 김민지 | O75: 232-2697
A76: 69 | B76: 68 | C76: 동부 | D76: 초 | E76: 대구남산초등학교 | F76: 53 | G76: 0 | H76: 0 | I76: 0 | J76: 4000 | K76: =SUM(G76:J76) -> 4000 | L76: =VLOOKUP($E76,'학교 주소'!$B$3:$D$500,2,FALSE()) -> 중구 | M76: =VLOOKUP($E76,'학교 주소'!$B$3:$D$500,3,FALSE()) -> 대구광역시 중구 남산로 70 , 남산초등학교 (남산동) | N76: 이경아 | O76: 232-0405
A77: 70 | B77: 69 | C77: 동부 | D77: 초 | E77: 대구노변초등학교 | F77: 32 | G77: 0 | H77: 0 | I77: 2000 | J77: 40000 | K77: =SUM(G77:J77) -> 42000 | L77: =VLOOKUP($E77,'학교 주소'!$B$3:$D$500,2,FALSE()) -> 수성구 | M77: =VLOOKUP($E77,'학교 주소'!$B$3:$D$500,3,FALSE()) -> 대구광역시 수성구 노변공원로 52 (시지동, 대구노변초등학교) | N77: 염은주 | O77: 232-4544
A78: 71 | B78: 70 | C78: 동부 | D78: 초 | E78: 대구덕성초등학교 | F78: 13 | G78: 0 | H78: 0 | I78: 0 | J78: 10000 | K78: =SUM(G78:J78) -> 10000 | L78: =VLOOKUP($E78,'학교 주소'!$B$3:$D$500,2,FALSE()) -> 동구 | M78: =VLOOKUP($E78,'학교 주소'!$B$3:$D$500,3,FALSE()) -> 대구광역시 동구 아양로34길 50 , 대구덕성초등학교 (신암동) | N78: 김현아 | O78: 232-3376
A79: 72 | B79: 71 | C79: 동부 | D79: 초 | E79: 대구동원초등학교 | F79: 19 | G79: 360 | H79: 0 | I79: 283 | J79: 20000 | K79: =SUM(G79:J79) -> 20643 | L79: =VLOOKUP($E79,'학교 주소'!$B$3:$D$500,2,FALSE()) -> 수성구 | M79: =VLOOKUP($E79,'학교 주소'!$B$3:$D$500,3,FALSE()) -> 대구광역시 수성구 국채보상로 1000 , 대구동원초등학교 (만촌동) | N79: 이선희 | O79: 232-2137
A80: 73 | B80: 72 | C80: 동부 | D80: 초 | E80: 대구동인초등학교 | F80: 14 | G80: 0 | H80: 0 | I80: 200 | J80: 15000 | K80: =SUM(G80:J80) -> 15200 | L80: =VLOOKUP($E80,'학교 주소'!$B$3:$D$500,2,FALSE()) -> 중구 | M80: =VLOOKUP($E80,'학교 주소'!$B$3:$D$500,3,FALSE()) -> 대구광역시 중구 국채보상로 728 (동인동4가) | N80: 허소영 | O80: 234-5961
A81: 74 | B81: 73 | C81: 동부 | D81: 초 | E81: 대구동일초등학교 | F81: 21 | G81: 1000 | H81: 0 | I81: 3000 | J81: 10000 | K81: =SUM(G81:J81) -> 14000 | L81: =VLOOKUP($E81,'학교 주소'!$B$3:$D$500,2,FALSE()) -> 수성구 | M81: =VLOOKUP($E81,'학교 주소'!$B$3:$D$500,3,FALSE()) -> 대구광역시 수성구 들안로 311 (수성동2가, 동일초등학교) | N81: 조애경 | O81: 232-3175
A82: 75 | B82: 74 | C82: 동부 | D82: 초 | E82: 대구동촌초등학교 | F82: 19 | G82: 0 | H82: 0 | I82: 0 | J82: 5500 | K82: =SUM(G82:J82) -> 5500 | L82: =VLOOKUP($E82,'학교 주소'!$B$3:$D$500,2,FALSE()) -> 동구 | M82: =VLOOKUP($E82,'학교 주소'!$B$3:$D$500,3,FALSE()) -> 대구광역시 동구 동촌로 168 (방촌동, 대구동촌초등학교) | N82: 류임하 | O82: 232-1018
A83: 76 | B83: 75 | C83: 동부 | D83: 초 | E83: 대구동호초등학교 | F83: 16 | G83: 560 | H83: 0 | I83: 0 | J83: 18000 | K83: =SUM(G83:J83) -> 18560 | L83: =VLOOKUP($E83,'학교 주소'!$B$3:$D$500,2,FALSE()) -> 동구 | M83: =VLOOKUP($E83,'학교 주소'!$B$3:$D$500,3,FALSE()) -> 대구광역시 동구 동호로 25 (동호동,대구동호초등학교) | N83: 김민정 | O83: 232-4965
A84: 77 | B84: 76 | C84: 동부 | D84: 초 | E84: 대구두산초등학교 | F84: 13 | G84: 6150 | H84: 0 | I84: 1200 | J84: 6600 | K84: =SUM(G84:J84) -> 13950 | L84: =VLOOKUP($E84,'학교 주소'!$B$3:$D$500,2,FALSE()) -> 수성구 | M84: =VLOOKUP($E84,'학교 주소'!$B$3:$D$500,3,FALSE()) -> 대구광역시 수성구 동대구로6길 31 , 대구두산초등학교 (지산동) | N84: 김소희 | O84: 232-3661
... A239: 235 | B239: 231 | C239: 군위 | D239: 초 | E239: 대구부계초등학교 효령캠퍼스 | F239: 휴교 | G239: 0 | H239: 21400 | I239: 0 | J239: 0 | K239: =SUM(G239:J239) -> 21400 | L239: =VLOOKUP($E239,'학교 주소'!$B$3:$D$500,2,FALSE()) -> 군위군 | M239: =VLOOKUP($E239,'학교 주소'!$B$3:$D$500,3,FALSE()) -> 대구광역시 군위군 효령면 치산효령로 2386 (대구부계초등학교 효령캠퍼스) | N239: 최재훈 | O239: 054-380-4257
G240: =COUNTIF(G37:G239,">0") -> 118 | H240: =COUNTIF(H37:H239,">0") -> 1 | I240: =COUNTIF(I37:I239,">0") -> 130 | J240: =COUNTIF(J37:J239,">0") -> 181

Sheet 폐시약 세부내역
A2: 2026년도 하반기 폐시약 세부내역
F3: 합계(g) | G3: =SUM(G5:G1845) -> 230 | H3: =SUM(F5:F1845) -> 1696076
A4: 관할청 | B4: 학교급 | C4: 학교명 | D4: 순 | E4: 폐기 대상 시약명 | F4: 무게(용기 포함)(g) | G4: 처리제외(g) | H4: 합계 (g)
A5: 본청 | B5: 직속 | C5: 대구창의융합교육원 | D5: 1 | E5: n-헥산 | F5: 800 | H5: =SUMIF(C:C,"대구창의융합교육원",F:F) -> 3930
A6: 본청 | B6: 직속 | C6: =C5 -> 대구창의융합교육원 | D6: 2 | E6: 과산화수소수 | F6: 1200
A7: 본청 | B7: 직속 | C7: =C6 -> 대구창의융합교육원 | D7: 3 | E7: 올리브오일 | F7: 700
A8: 본청 | B8: 직속 | C8: =C7 -> 대구창의융합교육원 | D8: 4 | E8: 아쿠아슬러쉬 | F8: 200
A9: 본청 | B9: 직속 | C9: =C8 -> 대구창의융합교육원 | D9: 5 | E9: 젖산칼륨 | F9: 20
A10: 본청 | B10: 직속 | C10: =C9 -> 대구창의융합교육원 | D10: 6 | E10: 알긴산나트륨 | F10: 10
A11: 본청 | B11: 직속 | C11: =C10 -> 대구창의융합교육원 | D11: 7 | E11: 탄산바륨 | F11: 100
A12: 본청 | B12: 직속 | C12: =C11 -> 대구창의융합교육원 | D12: 8 | E12: 질산구리 | F12: 100
A13: 본청 | B13: 직속 | C13: =C12 -> 대구창의융합교육원 | D13: 9 | E13: 질산칼륨 | F13: 100
A14: 본청 | B14: 직속 | C14: =C13 -> 대구창의융합교육원 | D14: 10 | E14: 질산나트륨 | F14: 100
A15: 본청 | B15: 직속 | C15: =C14 -> 대구창의융합교육원 | D15: 11 | E15: 질산스트론튬 | F15: 100
A16: 본청 | B16: 직속 | C16: =C15 -> 대구창의융합교육원 | D16: 12 | E16: 염화구리 | F16: 100
A17: 본청 | B17: 직속 | C17: =C16 -> 대구창의융합교육원 | D17: 13 | E17: 염화칼슘 | F17: 100
... A20: 본청 | B20: 직속 | C20: =C19 -> 대구창의융합교육원 | D20: 16 | E20: 염화바륨 | F20: 100
A21: 본청 | B21: 고 | C21: 강북고등학교 | D21: 1 | E21: 요오드화칼륨 | F21: 101 | H21: =SUMIF(C:C,"강북고등학교",F:F) -> 65521
A22: 본청 | B22: 고 | C22: =C21 -> 강북고등학교 | D22: 2 | E22: 질산구리용액 | F22: 462
A23: 본청 | B23: 고 | C23: =C22 -> 강북고등학교 | D23: 3 | E23: 황산나트륨 | F23: 197
A24: 본청 | B24: 고 | C24: =C23 -> 강북고등학교 | D24: 4 | E24: 묽은염산 | F24: 358
A25: 본청 | B25: 고 | C25: =C24 -> 강북고등학교 | D25: 5 | E25: 살리실산 | F25: 532
A26: 본청 | B26: 고 | C26: =C25 -> 강북고등학교 | D26: 6 | E26: 표백분 | F26: 324
A27: 본청 | B27: 고 | C27: =C26 -> 강북고등학교 | D27: 7 | E27: 탄산칼슘 | F27: 206
A28: 본청 | B28: 고 | C28: =C27 -> 강북고등학교 | D28: 8 | E28: 페놀프탈레인 | F28: 125
A29: 본청 | B29: 고 | C29: =C28 -> 강북고등학교 | D29: 9 | E29: 황 | F29: 185
A30: 본청 | B30: 고 | C30: =C29 -> 강북고등학교 | D30: 10 | E30: 브롬티몰블루 | F30: 122
A31: 본청 | B31: 고 | C31: =C30 -> 강북고등학교 | D31: 11 | E31: 황 | F31: 195
A32: 본청 | B32: 고 | C32: =C31 -> 강북고등학교 | D32: 12 | E32: 메틸오렌지 | F32: 127
A33: 본청 | B33: 고 | C33: =C32 -> 강북고등학교 | D33: 13 | E33: 젤라틴용액 | F33: 506
... A141: 본청 | B141: 고 | C141: =C140 -> 강북고등학교 | D141: 121 | E141: 옥살산 | F141: 739
A142: 본청 | B142: 고 | C142: 경덕여자고등학교 | D142: 1 | E142: 타르타르산 나트륨 칼륨 | F142: 570 | H142: =SUMIF(C:C,"경덕여자고등학교",F:F) -> 2820
A143: 본청 | B143: 고 | C143: =C142 -> 경덕여자고등학교 | D143: 2 | E143: 5% 묽은염산 | F143: 420
A144: 본청 | B144: 고 | C144: =C143 -> 경덕여자고등학교 | D144: 3 | E144: 플리비닐피로리돈 | F144: 620
A145: 본청 | B145: 고 | C145: =C144 -> 경덕여자고등학교 | D145: 4 | E145: 질산은 | F145: 90
A146: 본청 | B146: 고 | C146: =C145 -> 경덕여자고등학교 | D146: 5 | E146: 질산은 | F146: 90
A147: 본청 | B147: 고 | C147: =C146 -> 경덕여자고등학교 | D147: 6 | E147: 질산은 | F147: 90
A148: 본청 | B148: 고 | C148: =C147 -> 경덕여자고등학교 | D148: 7 | E148: 질산은 | F148: 90
A149: 본청 | B149: 고 | C149: =C148 -> 경덕여자고등학교 | D149: 8 | E149: 질산은 | F149: 90
A150: 본청 | B150: 고 | C150: =C149 -> 경덕여자고등학교 | D150: 9 | E150: 질산은 | F150: 90
...

Sheet 학교 주소
B2: 학교 | C2: 자치구 | D2: 학교도로명주소
B3: 경북대학교사범대학부설고등학교 | C3: 중구 | D3: 대구광역시 중구 달구벌대로 2178 (대봉동, 경북대학교사범대학부설중.고등학교)
B4: 강동고등학교 | C4: 동구 | D4: 대구광역시 동구 금강로 65 (신서동, 강동고등학교)
B5: 경덕여자고등학교 | C5: 서구 | D5: 대구광역시 서구 국채보상로34길 50 (중리동, 경덕여자고등학교)
B6: 경북고등학교 | C6: 수성구 | D6: 대구광역시 수성구 청호로 300 (황금동,경북고등학교)
B7: 경북기계공업고등학교 | C7: 달서구 | D7: 대구광역시 달서구 월배로 275 (상인동)
B8: 경북여자고등학교 | C8: 중구 | D8: 대구광역시 중구 중앙대로 288 (남산동, 경북여자고등학교)
B9: 구암고등학교 | C9: 북구 | D9: 대구광역시 북구 태암남로11길 7 (구암동, 구암고등학교)
B10: 군위고등학교 | C10: 군위군 | D10: 대구광역시 군위군 군위읍 군청로 254-6 군위고등학교
B11: 다사고등학교 | C11: 달성군 | D11: 대구광역시 달성군 다사읍 달구벌대로 839 (다사고등학교)
B12: 달성고등학교 | C12: 서구 | D12: 대구광역시 서구 달구벌대로 1725 , 달성고등학교 (내당동)
B13: 대곡고등학교 | C13: 달서구 | D13: 대구광역시 달서구 도원남로 80 (도원동, 대곡고등학교)
... B490: 대구창의융합교육원 | C490: 수성구 | D490: 대두광역시 수성구 동대구로 172 (황금동626-1, 대구창의융합교육원)
