Workbook
Name _______B2: '[2]단면 (2)'!$K$55
Name _______JJ21: [3]중기일위대가!$J$25
Name _______JK21: [3]중기일위대가!$K$25
Name _______JN21: [3]중기일위대가!$I$25
Name _______L1024869: [4]토목변경!$L$4869
Name _______sh2: [5]SG!$A$1:$G$961
Name _______tt1: "tt1"
Name ______B2: '[2]단면 (2)'!$K$55
Name ______CAD15: [6]일위대가표!#REF!
Name ______CAD25: [6]일위대가표!#REF!
Name ______JJ21: [3]중기일위대가!$J$25
Name ______JK21: [3]중기일위대가!$K$25
Name ______JN21: [3]중기일위대가!$I$25
Name ______L1024869: [4]토목변경!$L$4869
Name ______p7: [7]!BlankMacro1
Name ______p7: [7]!BlankMacro1
Name ______P77: [7]!BlankMacro1
Name ______P77: [7]!BlankMacro1
Name ______PVC200: [6]일위대가표!#REF!
Name ______PVC250: [6]일위대가표!#REF!
Name ______PVC28: [6]일위대가표!#REF!
Name ______PVC36: [6]일위대가표!#REF!
Name ______sh2: [5]SG!$A$1:$G$961
Name ______STL150: [6]일위대가표!#REF!
Name ______tt1: "tt1"
Name _____B2: '[2]단면 (2)'!$K$55
Name _____box01: #REF!
Name _____CAD15: [6]일위대가표!#REF!
Name _____CAD25: [6]일위대가표!#REF!
Name _____HPP1: [8]건축2!$B$79
Name _____jj100: '[9]내역서(기성청구)'!#REF!
Name _____JJ21: [3]중기일위대가!$J$25
Name _____JK21: [3]중기일위대가!$K$25
Name _____JN21: [3]중기일위대가!$I$25
Name _____L1024869: [4]토목변경!$L$4869
Name _____p7: [7]!BlankMacro1
Name _____p7: [7]!BlankMacro1
Name _____P77: [7]!BlankMacro1
Name _____P77: [7]!BlankMacro1
Name _____PVC200: [6]일위대가표!#REF!
Name _____PVC250: [6]일위대가표!#REF!
Name _____PVC28: [6]일위대가표!#REF!
Name _____PVC36: [6]일위대가표!#REF!
Name _____RO110: #REF!
Name _____sh2: [5]SG!$A$1:$G$961
Name _____STL150: [6]일위대가표!#REF!
Name _____TON1: #REF!
Name _____tt1: "tt1"
Name _____WW2: #REF!
Name _____WW3: #REF!
Name ____a1: '[10]1호맨홀토공'!$R$12
Name ____aab42: #REF!
Name ____AE1: BlankMacro1
Name ____AE2: BlankMacro1
Name ____AE3: BlankMacro1
Name ____B2: '[2]단면 (2)'!$K$55
Name ____box01: #REF!
Name ____dia300: [11]대로근거!#REF!
Name ____dia350: [11]대로근거!#REF!
Name ____DOG1: #REF!

Sheet 갑지
C3: 설 계 자 | F3: 심 사 자 | I3: 팀 장 | K3: 과 장 | N3: 2026년 10월 설계
C7: (2026년)
C9: 석수배수지 통합재건설 사업 재해영향성검토 및 소규모 재해영향평가 용역
C10: 설 계 내 역 서
C12: ○ | D12: 위 치 : 안양시 만안구 석수동 산169번지 일원 (A=17,000 ㎡)
C13: ○ | D13: 용 역 개 요
D14: • 재해영향성검토 | H14: : 1식
D15: • 소규모 재해영향평가 | H15: : 1식
C17: ○ | D17: 용 역 기 간 : 착수일로부터 12개월(365일)
C19: ○ | D19: 총 용 역 비 : | G19: 금 | H19: =산출내역서!F14 -> 0 | J19: 원 | K19: (금 | L19: =H19 -> 0
C21: ○ | D21: 공 급 가 액 | G21: : | H21: 금 | I21: =산출내역서!F10 -> 0 | K21: 원 | L21: (금 | M21: =I21 -> 0
C23: ○ | D23: 부 가 가 치 세 | G23: : | H23: 금 | I23: =산출내역서!F13 -> 0 | K23: 원 | L23: (금 | M23: =I23 -> 0

Sheet 산출내역서
A1: 총 괄 내 역 서
A2: 공 종 명 | C2: 수량 | D2: 단위 | E2: 합 계 | G2: 노 무 비 | I2: 재 료 비 | K2: 경 비 | M2: 비 고
E3: 단 가 | F3: 금 액 | G3: 단 가 | H3: 금 액 | I3: 단 가 | J3: 금 액 | K3: 단 가 | L3: 금 액
A4: ■ 석수배수지 통합재건설 사업 재해영향성검토 및 소규모 재해영향평가 용역
A5: 1. 재해영향성검토 | C5: 1 | D5: 식 | M5: 제1호표
A6: 2. 소규모 재해영향평가 | C6: 1 | D6: 식 | M6: 제2호표
A7: 3. 인쇄비 | C7: 1 | D7: 식 | M7: 제3호표
A8: 순용역비 | C8: 1 | D8: 식
A9: 4. 손해배상공제료 | C9: 1 | D9: 식 | M9: 산근4
A10: 소 계
A11: 단수조정
A12: 공급가액
A13: 부가가치세 | C13: 10 | D13: %
A14: 총 용역비

Sheet 산근1_1. 기본 및 실시설계비
B1: ■ 기본 및 실시설계 (공사비 비율방식)
C3: ○ 예정공사비 : 총예정금액 - 부가가치세
C4: ='산근1_2. 개략공사비'!G14 -> 18544000000 | H4: ÷ 1.1 = | I4: =C4/1.1 -> 1.6858182e+10
C5: ○ 개략공사비 | H5: =I4 -> 1.6858182e+10 | I5: 원 적용
E6: ※ 엔지니어링사업대가의 기준(산업통상자원부) - 별표1. 건설부문 _ 실시설계 상하수도 적용
C23: ○ 요율산출
D24: 구 분 | H24: 업무별 | I24: 공사비 | Q24: 비 고
I25: 10000000000 | N25: 20000000000
D26: 건설부문 | H26: 실시설계 | I26: 5.41 | N26: 4.76
E27: ※직선보간법 : | H27: Y = y1 - | I27: (x-x2) (y1-y2) | M27: = | N27: =ROUND((I26-(I4-I25)*(I26-N26)/(N25-I25)),3) -> 4.964
I28: x1-x2
G29: Y | H29: : 당해공사비요율 | M29: x | N29: : 당해금액
G30: y1 | H30: : 작은금액요율 | M30: x1 | N30: : 큰금액
G31: y2 | H31: : 큰금액요율 | M31: x2 | N31: : 작은금액
C33: ○ 적용요율 = | H33: =N27 -> 4.964
C35: ○ 기본설계와 실시설계를 동시에 발주하는 경우( 건설부분)는 실시설계요율의 1.45배
H36: =H33 -> 4.964 | J36: × | K36: 1.45 | M36: 배 | O36: = | P36: =ROUND(H36*K36,3) -> 7.198
C37: ○ 기본 및 실시설계비
H38: =I4 -> 1.6858182e+10 | J38: × | K38: =P36% -> 0.07198 | M38: = | N38: =TRUNC(H38*K38,0) -> 1213451927 | R38: 원

Sheet 산근1_2. 개략공사비
B1: ■ 개략공사비
C4: 1. 개량공사비
D5: 구 분 | E5: 규격 | H5: 단가(원) | K5: 수량 | M5: 공사비(백만원) | P5: 비고
D6: 배수지 | E6: V=20,000㎥ | H6: =N22 -> 1.3220581e+10 | K6: 1 | L6: 식 | M6: =ROUND(H6*K6,-6) -> 13221000000 | O6: 원
D7: 송수관로 | E7: D700, L=1.8km | H7: =N25 -> 1448370 | K7: 1800 | L7: m | M7: =ROUND(H7*K7,-6) -> 2607000000 | O7: 원
D8: 배수관로 | E8: D700, L=1.0km | H8: =N28 -> 1448370 | K8: 1000 | L8: m | M8: =ROUND(H8*K8,-6) -> 1448000000 | O8: 원
D9: 배수관로 | E9: D600, L=1.0km | H9: =N30 -> 1268143.5 | K9: 1000 | L9: m | M9: =ROUND(H9*K9,-6) -> 1268000000 | O9: 원
D10: 계 | M10: =SUM(M6:N9) -> 18544000000 | O10: 원 | V10: =ROUND(24725/26887,4)-0.02885 -> 0.89075
D11: 주) 1. 단가산출근거 : 수도시설 운영비 및 개략공사비 산정기준 수립(2023, 환경부, K-water)
D14: ▶ | E14: 공사비 | F14: : | G14: =M10 -> 18544000000 | M14: 원
F15: : | G15: =ROUND(G14/1.1,0) -> 16858181818 | M15: 원 (부가세 제외)
C18: 2. 산출근거 | E18: (수도시설 운영비 및 개략공사비 산정기준 수립(2023, 환경부, K-water))
D19: ※ 배수지 설계와 관로공사는 같은 토목공사로 중복되는 설계임을 고려하여 75%만 반영하고자 함.
D21: 가. 배수지
D22: V = 20,000㎥ | F22: = | G22: =19789436719*V10 -> 1.7627441e+10 | J22: × | K22: 0.75 | M22: = | N22: =G22*K22 -> 1.3220581e+10
D24: 나. 송수관로
D25: D700, L=1.8km | F25: = | G25: 1931160 | J25: × | K25: =K22 -> 0.75 | M25: = | N25: =G25*K25 -> 1448370
D27: 다. 배수관로
D28: D700, L=1.0km | F28: = | G28: 1931160 | J28: × | K28: =K22 -> 0.75 | M28: = | N28: =G28*K28 -> 1448370
D30: D600, L=1.0km | F30: = | G30: 1690858 | J30: × | K30: =K22 -> 0.75 | M30: = | N30: =G30*K30 -> 1268143.5

Sheet 산근3_2. 개발제한구역변경
A1: ■ 개발제한구역 도시관리계획 변경
A2: ▣ 사업개요 | P2: 안양시 만안구 | Q2: 585-19 | R2: 도 | S2: 33.9
A3: 사업면적 : | B3: =#REF! -> #REF! | C3: 만㎡ | D3: (발주시 지형현황측량 면적) | P3: 안양시 만안구 | Q3: 585-7 | R3: 답 | S3: 308
A4: 계획면적 : | B4: 15 | C4: 만㎡ | D4: (계획면적 15만㎡ 미만 시 15만㎡ 적용) | P4: 안양시 만안구 | Q4: 산170-3 | R4: 임 | S4: 11997.7
A5: 기준면적 : | B5: 15 | C5: 만㎡ | P5: 안양시 만안구 | Q5: 산177-1 | R5: 임 | S5: 5766.9
A6: 환산계수 : | B6: =ROUNDUP((B4/B5)^(0.6),2) -> 1 | D6: ※ 환산계수 = (계획면적/기준면적)^0.6 | P6: 안양시 만안구 | Q6: 산169 | R6: 임 | S6: 1116.1
P7: 계 | S7: =SUM(S2:S6) -> 19222.6
A9: ▣ 적용근거
A10: 국토계획 표준품셈(2024.01, 산업통산자원부), 3-5 개발제한구역관리계획
A12: 구 분 | C12: 기준인원수 (인 · 일/단위) | H12: 환산 계수 | I12: 적용 계수 | J12: 실제 기준인원수 (인 · 일/단위)
C13: 기술사 | D13: 특 급 | E13: 고 급 | F13: 중 급 | G13: 초 급 | J13: 기술사 | K13: 특 급 | L13: 고 급 | M13: 중 급 | N13: 초 급
A14: □ 직접인건비 | C14: =C15+C18+C27+C34+C37 -> 54.4 | D14: =D15+D18+D27+D34+D37 -> 71.4 | E14: =E15+E18+E27+E34+E37 -> 111 | F14: =F15+F18+F27+F34+F37 -> 150.5 | G14: =G15+G18+G27+G34+G37 -> 240.1 | J14: =J15+J18+J27+J34+J37 -> 9.27 | K14: =K15+K18+K27+K34+K37 -> 13.91 | L14: =L15+L18+L27+L34+L37 -> 25.24 | M14: =M15+M18+M27+M34+M37 -> 32.1 | N14: =N15+N18+N27+N34+N37 -> 57.84
A15: 1. 조사 및 분석 | C15: =SUM(C16:C17) -> 4.5 | D15: =SUM(D16:D17) -> 9.1 | E15: =SUM(E16:E17) -> 14.6 | F15: =SUM(F16:F17) -> 19.5 | G15: =SUM(G16:G17) -> 30.9 | J15: =SUM(J16:J17) -> 0.9 | K15: =SUM(K16:K17) -> 1.82 | L15: =SUM(L16:L17) -> 2.92 | M15: =SUM(M16:M17) -> 3.9 | N15: =SUM(N16:N17) -> 6.18
A16: 1.1 관련법규 및 계획검토 | C16: 2.5 | D16: 5.1 | E16: 7.9 | F16: 10.5 | G16: 20.6 | H16: =B6 -> 1 | I16: 0.2 | J16: =ROUND(C16*$H16*$I16,2) -> 0.5 | K16: =ROUND(D16*$H16*$I16,2) -> 1.02 | L16: =ROUND(E16*$H16*$I16,2) -> 1.58 | M16: =ROUND(F16*$H16*$I16,2) -> 2.1 | N16: =ROUND(G16*$H16*$I16,2) -> 4.12
A17: 1.2 주변 지역과의 상관성 검토 | C17: 2 | D17: 4 | E17: 6.7 | F17: 9 | G17: 10.3 | H17: =H16 -> 1 | I17: 0.2 | J17: =ROUND(C17*$H17*$I17,2) -> 0.4 | K17: =ROUND(D17*$H17*$I17,2) -> 0.8 | L17: =ROUND(E17*$H17*$I17,2) -> 1.34 | M17: =ROUND(F17*$H17*$I17,2) -> 1.8 | N17: =ROUND(G17*$H17*$I17,2) -> 2.06
A18: 2. 도시관리계획 변경 | C18: =SUM(C19:C26) -> 16.9 | D18: =SUM(D19:D26) -> 26.1 | E18: =SUM(E19:E26) -> 51.8 | F18: =SUM(F19:F26) -> 62.9 | G18: =SUM(G19:G26) -> 120.3 | J18: =SUM(J19:J26) -> 5.07 | K18: =SUM(K19:K26) -> 7.83 | L18: =SUM(L19:L26) -> 15.54 | M18: =SUM(M19:M26) -> 18.87 | N18: =SUM(N19:N26) -> 36.09
A19: 2.1 도시ㆍ군관리계획(변경) 결정 조서 및 도면 | C19: 2.3 | D19: 3.6 | E19: 6.5 | F19: 7.8 | G19: 15 | H19: =H17 -> 1 | I19: 0.3 | J19: =ROUND(C19*$H19*$I19,2) -> 0.69 | K19: =ROUND(D19*$H19*$I19,2) -> 1.08 | L19: =ROUND(E19*$H19*$I19,2) -> 1.95 | M19: =ROUND(F19*$H19*$I19,2) -> 2.34 | N19: =ROUND(G19*$H19*$I19,2) -> 4.5
A20: 2.2 도시ㆍ군관리계획(변경) 결정 사유서 및개발(사업)계획서 | C20: 3.3 | D20: 4.4 | E20: 13.9 | F20: 16.1 | G20: 32.9 | H20: =H19 -> 1 | I20: =I19 -> 0.3 | J20: =ROUND(C20*$H20*$I20,2) -> 0.99 | K20: =ROUND(D20*$H20*$I20,2) -> 1.32 | L20: =ROUND(E20*$H20*$I20,2) -> 4.17 | M20: =ROUND(F20*$H20*$I20,2) -> 4.83 | N20: =ROUND(G20*$H20*$I20,2) -> 9.87
A21: 2.3 각종 영향 검토 | C21: 2.3 | D21: 3.6 | E21: 6.5 | F21: 7.8 | G21: 15 | H21: =H20 -> 1 | I21: =I19 -> 0.3 | J21: =ROUND(C21*$H21*$I21,2) -> 0.69 | K21: =ROUND(D21*$H21*$I21,2) -> 1.08 | L21: =ROUND(E21*$H21*$I21,2) -> 1.95 | M21: =ROUND(F21*$H21*$I21,2) -> 2.34 | N21: =ROUND(G21*$H21*$I21,2) -> 4.5
A22: 2.4 공고에 따른 의견내용 및 조치결과 작성 | C22: 1.9 | D22: 2.1 | E22: 3.4 | F22: 4.9 | G22: 7.6 | H22: =H21 -> 1 | I22: =I19 -> 0.3 | J22: =ROUND(C22*$H22*$I22,2) -> 0.57 | K22: =ROUND(D22*$H22*$I22,2) -> 0.63 | L22: =ROUND(E22*$H22*$I22,2) -> 1.02 | M22: =ROUND(F22*$H22*$I22,2) -> 1.47 | N22: =ROUND(G22*$H22*$I22,2) -> 2.28
A23: 2.5 용도지역ㆍ지구 변경에 관한 계획 | C23: 2.3 | D23: 3.6 | E23: 6.5 | F23: 7.8 | G23: 15 | H23: =H22 -> 1 | I23: =I19 -> 0.3 | J23: =ROUND(C23*$H23*$I23,2) -> 0.69 | K23: =ROUND(D23*$H23*$I23,2) -> 1.08 | L23: =ROUND(E23*$H23*$I23,2) -> 1.95 | M23: =ROUND(F23*$H23*$I23,2) -> 2.34 | N23: =ROUND(G23*$H23*$I23,2) -> 4.5
A24: 2.6 개발제한구역 해제를 위한 지구단위계획 | C24: 2.3 | D24: 3.6 | E24: 6.5 | F24: 7.8 | G24: 15 | H24: =H23 -> 1 | I24: =I19 -> 0.3 | J24: =ROUND(C24*$H24*$I24,2) -> 0.69 | K24: =ROUND(D24*$H24*$I24,2) -> 1.08 | L24: =ROUND(E24*$H24*$I24,2) -> 1.95 | M24: =ROUND(F24*$H24*$I24,2) -> 2.34 | N24: =ROUND(G24*$H24*$I24,2) -> 4.5
A25: 2.7 지적도 및 토지 조서, 권리 조서 등 작성 | C25: 1.6 | D25: 4 | E25: 6.5 | F25: 7.8 | G25: 15 | H25: =H24 -> 1 | I25: =I19 -> 0.3 | J25: =ROUND(C25*$H25*$I25,2) -> 0.48 | K25: =ROUND(D25*$H25*$I25,2) -> 1.2 | L25: =ROUND(E25*$H25*$I25,2) -> 1.95 | M25: =ROUND(F25*$H25*$I25,2) -> 2.34 | N25: =ROUND(G25*$H25*$I25,2) -> 4.5
A26: 2.8 도시ㆍ군계획시설 재검토서 | C26: 0.9 | D26: 1.2 | E26: 2 | F26: 2.9 | G26: 4.8 | H26: =H25 -> 1 | I26: =I19 -> 0.3 | J26: =ROUND(C26*$H26*$I26,2) -> 0.27 | K26: =ROUND(D26*$H26*$I26,2) -> 0.36 | L26: =ROUND(E26*$H26*$I26,2) -> 0.6 | M26: =ROUND(F26*$H26*$I26,2) -> 0.87 | N26: =ROUND(G26*$H26*$I26,2) -> 1.44
A27: 3. 개발제한구역 해제를 위한 검토 | C27: =SUM(C28:C33) -> 5.9 | D27: =SUM(D28:D33) -> 8.8 | E27: =SUM(E28:E33) -> 16.3 | F27: =SUM(F28:F33) -> 19.7 | G27: =SUM(G28:G33) -> 34.6 | J27: =SUM(J28:J33) -> 1.77 | K27: =SUM(K28:K33) -> 2.64 | L27: =SUM(L28:L33) -> 4.89 | M27: =SUM(M28:M33) -> 5.91 | N27: =SUM(N28:N33) -> 10.38
A28: 3.1 공공기여 방안 | C28: 0.5 | D28: 0.7 | E28: 1.2 | F28: 1.6 | G28: 2.7 | H28: =H26 -> 1 | I28: 0.3 | J28: =ROUND(C28*$H28*$I28,2) -> 0.15 | K28: =ROUND(D28*$H28*$I28,2) -> 0.21 | L28: =ROUND(E28*$H28*$I28,2) -> 0.36 | M28: =ROUND(F28*$H28*$I28,2) -> 0.48 | N28: =ROUND(G28*$H28*$I28,2) -> 0.81
A29: 3.2 난개발확산방지, 투기행위 방지 | C29: 0.5 | D29: 0.7 | E29: 1.2 | F29: 1.6 | G29: 2.7 | H29: =H28 -> 1 | I29: =I28 -> 0.3 | J29: =ROUND(C29*$H29*$I29,2) -> 0.15 | K29: =ROUND(D29*$H29*$I29,2) -> 0.21 | L29: =ROUND(E29*$H29*$I29,2) -> 0.36 | M29: =ROUND(F29*$H29*$I29,2) -> 0.48 | N29: =ROUND(G29*$H29*$I29,2) -> 0.81
A30: 3.3 훼손지 복구계획 | C30: 1.8 | D30: 2 | E30: 3.2 | F30: 4.3 | G30: 6.2 | H30: =H29 -> 1 | I30: =I28 -> 0.3 | J30: =ROUND(C30*$H30*$I30,2) -> 0.54 | K30: =ROUND(D30*$H30*$I30,2) -> 0.6 | L30: =ROUND(E30*$H30*$I30,2) -> 0.96 | M30: =ROUND(F30*$H30*$I30,2) -> 1.29 | N30: =ROUND(G30*$H30*$I30,2) -> 1.86
A31: 3.4 부담금산정 | C31: 0.9 | D31: 2.2 | E31: 3.6 | F31: 4.4 | G31: 8.3 | H31: =H30 -> 1 | I31: =I28 -> 0.3 | J31: =ROUND(C31*$H31*$I31,2) -> 0.27 | K31: =ROUND(D31*$H31*$I31,2) -> 0.66 | L31: =ROUND(E31*$H31*$I31,2) -> 1.08 | M31: =ROUND(F31*$H31*$I31,2) -> 1.32 | N31: =ROUND(G31*$H31*$I31,2) -> 2.49
A32: 3.5 개발수요 검토 | C32: 1.3 | D32: 2 | E32: 3.6 | F32: 4.4 | G32: 8.3 | H32: =H31 -> 1 | I32: =I28 -> 0.3 | J32: =ROUND(C32*$H32*$I32,2) -> 0.39 | K32: =ROUND(D32*$H32*$I32,2) -> 0.6 | L32: =ROUND(E32*$H32*$I32,2) -> 1.08 | M32: =ROUND(F32*$H32*$I32,2) -> 1.32 | N32: =ROUND(G32*$H32*$I32,2) -> 2.49
A33: 3.6 재원조달계획 | C33: 0.9 | D33: 1.2 | E33: 3.5 | F33: 3.4 | G33: 6.4 | H33: =H31 -> 1 | I33: =I28 -> 0.3 | J33: =ROUND(C33*$H33*$I33,2) -> 0.27 | K33: =ROUND(D33*$H33*$I33,2) -> 0.36 | L33: =ROUND(E33*$H33*$I33,2) -> 1.05 | M33: =ROUND(F33*$H33*$I33,2) -> 1.02 | N33: =ROUND(G33*$H33*$I33,2) -> 1.92
A34: 4. 성과품 작성 | C34: =SUM(C35:C36) -> 1.1 | D34: =SUM(D35:D36) -> 1.4 | E34: =SUM(E35:E36) -> 2.3 | F34: =SUM(F35:F36) -> 3.4 | G34: =SUM(G35:G36) -> 9.3 | J34: =SUM(J35:J36) -> 0.33 | K34: =SUM(K35:K36) -> 0.42 | L34: =SUM(L35:L36) -> 0.69 | M34: =SUM(M35:M36) -> 1.02 | N34: =SUM(N35:N36) -> 2.79
A35: 4.1 보고서 작성 및 편집 | C35: 0.7 | D35: 0.9 | E35: 1.5 | F35: 2.3 | G35: 6.2 | H35: =H26 -> 1 | I35: 0.3 | J35: =ROUND(C35*$H35*$I35,2) -> 0.21 | K35: =ROUND(D35*$H35*$I35,2) -> 0.27 | L35: =ROUND(E35*$H35*$I35,2) -> 0.45 | M35: =ROUND(F35*$H35*$I35,2) -> 0.69 | N35: =ROUND(G35*$H35*$I35,2) -> 1.86
A36: 4.2 관련 도서 작성 | C36: 0.4 | D36: 0.5 | E36: 0.8 | F36: 1.1 | G36: 3.1 | H36: =H35 -> 1 | I36: =I35 -> 0.3 | J36: =ROUND(C36*$H36*$I36,2) -> 0.12 | K36: =ROUND(D36*$H36*$I36,2) -> 0.15 | L36: =ROUND(E36*$H36*$I36,2) -> 0.24 | M36: =ROUND(F36*$H36*$I36,2) -> 0.33 | N36: =ROUND(G36*$H36*$I36,2) -> 0.93
A37: 5. 기술협의 | C37: =SUM(C38:C43) -> 26 | D37: =SUM(D38:D43) -> 26 | E37: =SUM(E38:E43) -> 26 | F37: =SUM(F38:F43) -> 45 | G37: =SUM(G38:G43) -> 45 | J37: =SUM(J38:J43) -> 1.2 | K37: =SUM(K38:K43) -> 1.2 | L37: =SUM(L38:L43) -> 1.2 | M37: =SUM(M38:M43) -> 2.4 | N37: =SUM(N38:N43) -> 2.4
A38: 5.1 주민의견청취(주민공람) | C38: 3 | D38: 3 | E38: 3 | F38: 6 | G38: 6 | H38: =H36 -> 1 | I38: 0 | J38: =ROUND(C38*$H38*$I38,2) -> 0 | K38: =ROUND(D38*$H38*$I38,2) -> 0 | L38: =ROUND(E38*$H38*$I38,2) -> 0 | M38: =ROUND(F38*$H38*$I38,2) -> 0 | N38: =ROUND(G38*$H38*$I38,2) -> 0
A39: 5.2 주민설명회ㆍ공청회 | C39: 3 | D39: 3 | E39: 3 | F39: 6 | G39: 6 | H39: =H38 -> 1 | I39: 0 | J39: =ROUND(C39*$H39*$I39,2) -> 0 | K39: =ROUND(D39*$H39*$I39,2) -> 0 | L39: =ROUND(E39*$H39*$I39,2) -> 0 | M39: =ROUND(F39*$H39*$I39,2) -> 0 | N39: =ROUND(G39*$H39*$I39,2) -> 0
A40: 5.3 관계기관 협의(입안권자, 승인권자) | C40: 4 | D40: 4 | E40: 4 | F40: 8 | G40: 8 | H40: =H39 -> 1 | I40: 0.3 | J40: =ROUND(C40*$H40*$I40,2) -> 1.2 | K40: =ROUND(D40*$H40*$I40,2) -> 1.2 | L40: =ROUND(E40*$H40*$I40,2) -> 1.2 | M40: =ROUND(F40*$H40*$I40,2) -> 2.4 | N40: =ROUND(G40*$H40*$I40,2) -> 2.4
A41: 5.4 의회 의견청취 | C41: 10 | D41: 10 | E41: 10 | F41: 13 | G41: 13 | H41: =H40 -> 1 | I41: 0 | J41: =ROUND(C41*$H41*$I41,2) -> 0 | K41: =ROUND(D41*$H41*$I41,2) -> 0 | L41: =ROUND(E41*$H41*$I41,2) -> 0 | M41: =ROUND(F41*$H41*$I41,2) -> 0 | N41: =ROUND(G41*$H41*$I41,2) -> 0
A42: 5.5 위원회 자문지원 | C42: 2 | D42: 2 | E42: 2 | F42: 4 | G42: 4 | H42: =H41 -> 1 | I42: 0 | J42: =ROUND(C42*$H42*$I42,2) -> 0 | K42: =ROUND(D42*$H42*$I42,2) -> 0 | L42: =ROUND(E42*$H42*$I42,2) -> 0 | M42: =ROUND(F42*$H42*$I42,2) -> 0 | N42: =ROUND(G42*$H42*$I42,2) -> 0
A43: 5.6 위원회 심의지원 | C43: 4 | D43: 4 | E43: 4 | F43: 8 | G43: 8 | H43: =H42 -> 1 | I43: 0 | J43: =ROUND(C43*$H43*$I43,2) -> 0 | K43: =ROUND(D43*$H43*$I43,2) -> 0 | L43: =ROUND(E43*$H43*$I43,2) -> 0 | M43: =ROUND(F43*$H43*$I43,2) -> 0 | N43: =ROUND(G43*$H43*$I43,2) -> 0

Sheet 산근3_7. 조감도
A1: ■ 조감도
C4: 1. 견적서
C35: 2. 적용금액 | M35: = | N35: 5000000 | Q35: 원

Sheet 산근5_2. 손해배상요율

Sheet 공사기간(표준공사기간)
B1: 표준공사기간
B3: 공사비에 의한 공사기간 산출
B5: · 사업비 계 | H5: : | I5: ='산근1_2. 개략공사비'!M10/1000000 -> 18544 | K5: 백만원
H6: : | I6: =ROUND(I5/1.1,0) -> 16858 | K6: 백만원 | L6: (VAT 제외)
B8: · 평균건설사업관리기간 | C8: : | D8: 200 | E8: 억원까지 | F8: 37 | G8: 개월
D9: 300 | E9: 억원까지 | F9: 38 | G9: 개월
B11: · 실시설계 적용요율 | C11: : | D11: =F8 -> 37 | E11: 개월 - | F11: ="("&ROUND(I6/100,2)&" 억원 - "&D8&" 억원) X ("&F8&" 개월 - "&F9&" 개월)" -> (168.58 억원 - 200 억원) X (37 개월 - 38 개월)
F12: ="("&D9&" 억원 - "&D8&" 억원)" -> (300 억원 - 200 억원)
C13: ＝ | D13: =ROUNDDOWN(D11-(I6/100-D8)*(F8-F9)/(D9-D8),3) -> 36.685 | E13: 개월
B14: · 적용(기본설계포함) | C14: : | D14: =D13 -> 36.685 | E14: 개월 × | F14: 1 | G14: 배 | J14: ＝ | K14: =ROUNDDOWN(D14*F14,3) -> 36.685 | L14: 개월
B16: 주) 「건설엔지니어링 대가 등에 관한 기준」 별표2 - 건설사업관리기술인 배치기준
