Workbook

Sheet 갑지
A1: 설 계 년월일 | B1: 2026년 9월 | D1: 설계 | F1: 검산 | H1: 심사 | J1: 팀장 | L1: 과장
A8: 설 계 내 역 서
A10: 송우IC 신설 타당성조사 용역(고속국도 400호선)
B18: 구 분 | F18: 금 액 | L18: 비 고
B19: 총 용 역 비 | F19: ="금"&NUMBERSTRING(J19,1)&"원정" -> 금영원정 | J19: ='1. 원가계산서'!G6 -> 0

Sheet 1. 원가계산서
A1: 원 가 계 산 서
A3: 가. 예산내역 총괄표
H4: (단위 : 원)
A5: 구분 | E5: 수량 | F5: 단위 | G5: 금액 | H5: 비고 (구성비, %)
A6: 총계 | G6: =G7+G16 -> 0
B7: Ⅰ. 학술부문 | G7: =G8+G9+G14+G15 -> 0 | I7: =G7/$G$6 -> #DIV/0!
C8: 1. 인건비 | G8: ='2. 설계내역서'!F6 -> 0
C9: 2. 직접경비 | G9: ='2. 설계내역서'!F39 -> 0
D10: 가. 여비 | E10: 1 | F10: 식 | G10: ='2. 설계내역서'!F40 -> 0
D11: 나. 유인물비 | E11: 1 | F11: 식 | G11: ='2. 설계내역서'!F46 -> 0
D12: 다. 전산처리비 | E12: 1 | F12: 식 | G12: ='2. 설계내역서'!F47 -> 0
D13: 라. 회의비 | E13: 1 | F13: 식 | G13: ='2. 설계내역서'!F48 -> 0
C14: 3. 일반관리비 | G14: ='2. 설계내역서'!F49 -> 0
C15: 4. 부가가치세 | E15: 1 | F15: 식 | G15: ='2. 설계내역서'!F51 -> 0
B16: Ⅱ. 기술부문 | G16: =G17+G18+G19+G20+G25 -> 0 | I16: =G16/$G$6 -> #DIV/0!
C17: 1. 인건비 | E17: 1 | F17: 식 | G17: ='2. 설계내역서'!F53 -> 0
C18: 2. 제경비 | E18: 1 | F18: 식 | G18: ='2. 설계내역서'!F102 -> 0
C19: 3. 기술료 | E19: 1 | F19: 식 | G19: ='2. 설계내역서'!F104 -> 0
C20: 4. 직접경비 | E20: 1 | F20: 식 | G20: ='2. 설계내역서'!F106 -> 0
D21: 가. 여비 | E21: 1 | F21: 식 | G21: ='2. 설계내역서'!F107 -> 0
D22: 나. 유인물비 | E22: 1 | F22: 식 | G22: ='2. 설계내역서'!F115 -> 0
D23: 다. 전산처리비 | E23: 1 | F23: 식 | G23: ='2. 설계내역서'!F116 -> 0
D24: 라. 회의비 | E24: 1 | F24: 식 | G24: ='2. 설계내역서'!F117 -> 0
C25: 5. 부가가치세 | E25: 1 | F25: 식 | G25: ='2. 설계내역서'!F119 -> 0

Sheet 2. 설계내역서
A1: 나. 세부내역서
A3: 품 명 | B3: 규격 | C3: 단위 | D3: 수량 | E3: 단가 | F3: 금 액(원)
A4: 총 계 | F4: =F5+F52 -> 0
A5: Ⅰ. 학술부문 | G5: =I6 -> 66000000 | H5: =+F5-G5 -> -66000000 | I5: 120000000
A6: 1. 인 건 비 | I6: =0.55*I5 -> 66000000 | J6: =I6/I5 -> 0.55
B7: 책임연구원 | C7: 인*월 | D7: =D12+D16+D20+D24+D28+D32+D36 -> 3 | I7: =I5-I6 -> 54000000 | J7: =1-J6 -> 0.45
B8: 연 구 원 | C8: 인*월 | D8: =D13+D17+D21+D25+D29+D33+D37 -> 6
B9: 연구보조원 | C9: 인*월 | D9: =D14+D18+D22+D26+D30+D34+D38 -> 6
A11: 가. 기초자료 조사 및 분석 (현장조사, 사회경제지표, 관련계획 조사 등)
B12: 책임연구원 | C12: 인*월 | D12: 0
B13: 연 구 원 | C13: 인*월 | D13: 1
B14: 연구보조원 | C14: 인*월 | D14: 1
A15: 나. 교통수요영향분석 및 평가
B16: 책임연구원 | C16: 인*월 | D16: 1
B17: 연 구 원 | C17: 인*월 | D17: 2
B18: 연구보조원 | C18: 인*월 | D18: 2
A19: 다. 노선대안 기술적검토 및 비용산정
B20: 책임연구원 | C20: 인*월 | D20: 0
B21: 연 구 원 | C21: 인*월 | D21: 0
B22: 연구보조원 | C22: 인*월 | D22: 0
A23: 라. 장래 교통수요예측
B24: 책임연구원 | C24: 인*월 | D24: 1
B25: 연 구 원 | C25: 인*월 | D25: 2
B26: 연구보조원 | C26: 인*월 | D26: 2
A27: 마. 경제성분석 및 민감도 분석
B28: 책임연구원 | C28: 인*월 | D28: 1
B29: 연 구 원 | C29: 인*월 | D29: 1
B30: 연구보조원 | C30: 인*월 | D30: 1
A39: 2. 직접경비
A40: 가. 여 비
A41: 1) 국내여비
B42: 책임연구원 | C42: 인*회 | D42: 5
B43: 연 구 원 | C43: 인*회 | D43: 3
B44: 연구보조원 | C44: 인*회 | D44: 3
A46: 나. 유인물비 | C46: 식 | D46: 1
A47: 다. 전산처리비 | C47: 식 | D47: 1
A48: 라. 회의비 | C48: 인*회 | D48: 5
A49: 3. 일반관리비 | B49: (1+2의 6%)
A51: 4 부가가치세 | B51: (1+2+3의 10%) | C51: 식 | D51: 1
A52: Ⅱ. 기술부문 | G52: =I7 -> 54000000
...
