Workbook
Name \a: #N/A
Name A: #REF!
Name A: #REF!
Name A: #REF!
Name A: #REF!
Name A0: #REF!
Name database2: #REF!
Name ddd: #REF!
Name HH: [1]정부노임단가!$A$5:$F$215
Name JH: [2]정부노임단가!$A$5:$F$215
Name JJ: [3]정부노임단가!$A$5:$F$215
Name KK: [2]정부노임단가!$A$5:$F$215
Name Pr: #REF!
Name Pr: #REF!
Name Pr: #REF!
Name Pr: #REF!
Name PRINT_AREA_MI: #REF!
Name print_title: #REF!
Name printer: #REF!
Name PRINTER_AREA: #REF!
Name printer_Titles: #REF!
Name printer_ttitle: #REF!
Name ss: #REF!
Name xx: #REF!
Name ㄱ: #REF!
Name ㄱ: #REF!
Name ㄱ: #REF!
Name ㄱ: #REF!
Name 가: #REF!
Name 가: #REF!
Name 가: #REF!
Name 가: #REF!
Name 건축목공: #REF!
Name 계장공: #REF!
Name 고압케이블전공: #REF!
Name 기계공: #REF!
Name 기계설치공: #REF!
Name 김유정: #REF!
Name ㄴ: #REF!
Name ㄴ: #REF!
Name ㄴ: #REF!
Name ㄴ: #REF!
Name 나: #REF!
Name 나: #REF!
Name 나: #REF!
Name 나: #REF!
Name 내선전공: #REF!
Name 내역_: #REF!
Name ㄷ: #REF!
Name ㄷ: #REF!
Name ㄷ: #REF!
Name ㄷ: #REF!
Name ㄷㄹ1: #REF!
Name ㄷㄹ1: #REF!
Name ㄷㄹ1: #REF!
Name ㄷㄹ1: #REF!
Name 다: #REF!
Name 다: #REF!
Name 다: #REF!
Name 다: #REF!

Sheet 표지
A1: 공 사 비 내 역 서
A7: 공사명 : 동작고등학교 옥상 방수공사
A10: (건 축)
F18: 2026. 09 .
A25: 서울특별시동작관악교육지원청

Sheet 설계서
A2: 설 계 서
A5: 공 사 명 : | B5: 동작고등학교 옥상 방수공사
A6: 총공사비 : | B6: ="일금"&NUMBERSTRING(I18,1)&"원정" -> 일금일원정 | H6: ( | I6: =I18 -> 1
A7: 도급금액 : | B7: ="일금"&NUMBERSTRING(D18,1)&"원정" -> 일금일원정 | H7: ( | I7: =D18 -> 1
A8: 도급자관급금액 : | B8: ="일금"&NUMBERSTRING(E18,1)&"원정" -> 일금영원정 | H8: ( | I8: =E18 -> 0
A9: 관급자관급금액 : | B9: ="일금"&NUMBERSTRING(F18,1)&"원정" -> 일금영원정 | H9: ( | I9: =F18 -> 0
A10: 시설분담금 : | B10: ="일금"&NUMBERSTRING(G19,1)&"원정" -> 일금영원정 | H10: ( | I10: =G18 -> 0
A11: 공사 내역 : | B11: 옥상방수공사 1식
A14: 공 종 명 | B14: 수량 | C14: 단위 | D14: 도급금액 | E14: 도급자관급액 | F14: 관급자관금액 | G14: 시설분담금 | I14: 합 계 | J14: 비고
A15: 1. 건 축 공 사 | B15: 1 | C15: 식 | D15: =SUM(D16:D17)+1 -> 1 | E15: 0 | F15: 0 | I15: =D15+E15+F15 -> 1
A16: 본관동 | D16: ='원가 (건축)'!D36 -> 0
A17: 중관동 | D17: ='원가 (건축)'!E36 -> 0
A18: 합 계 | D18: =SUM(D16:D17)+1 -> 1 | E18: =SUM(E15:E17) -> 0 | F18: =SUM(F15:F17) -> 0 | G18: =SUM(G15:H17) -> 0 | I18: =SUM(I15:I17) -> 1

Sheet 원가  (건축)
A1: 공 사 원 가 계 산 서
A3: 공 사 명 : | C3: 동작고등학교 옥상 방수공사(건축)
A4: 비 목 | D4: 옥상방수공사 | F4: 총 금 액 | G4: 구 성 비 | H4: 비 고
D5: 본관동 | E5: 중관동
A6: 순 공 사 원 가 | B6: 재료비 | C6: 직 접 재 료 비 | D6: =공종별집계표!E7 -> 0 | E6: =공종별집계표!E16 -> 0 | F6: =SUM(D6:E6) -> 0
C7: 간 접 재 료 비
C8: [ 소 계 ] | D8: =D6+D7 -> 0
B9: 노무비 | C9: 직 접 노 무 비 | D9: =공종별집계표!G7 -> 0
C10: 간 접 노 무 비 | D10: =D9*0.175 -> 0
C11: [ 소 계 ] | D11: =SUM(D9:D10) -> 0
B12: 경 비 | C12: 운 반 비 | D12: 0
C13: 기 계 경 비 | D13: =공종별집계표!I7 -> 0
C14: 산 재 보 험 료 | D14: =D11*0.0356 -> 0
C15: 고 용 보 험 료 | D15: =D11*0.0101 -> 0
C16: 건 강 보 험 료 | D16: =D9*0.03595 * 0 -> 0
C17: 연 금 보 험 료 | D17: =D9*0.0475 * 0 -> 0
C18: 퇴 직 공 제 부금비 | D18: =D9*2.3% -> 0
C19: 산업안전보건관리비 | D19: =(D8+D9+D37/1.1)*0.0311 -> 0
C20: 기 타 경 비 | D20: =(D8+D11)*0.05 -> 0
C21: 환 경 보 전 비 | D21: =(D8+D9+D13)*0.3% -> 0
C22: 노인장기요양보험료 | D22: =D16*13.14% -> 0
C23: 석면분담금 | D23: =D11*0.006% -> 0
C24: 임금채권부담금 | D24: =D11*0.09% -> 0
C25: 건설하도급대금지급보증서발급수수료 | D25: =(D8+D9+D13)*0.081% -> 0
C26: 건설기계대여대금 지급보증서발급수수료 | D26: =(D8+D9+D13)*0.1% -> 0
C27: [ 소 계 ] | D27: =(D12+D13+D14+D15+D16+D17+D18+D19+D20+D21+D22+D23+D24+D25+D26) -> 0
A28: 계 | D28: =(D8+D11+D27) -> 0
A29: 일 반 관 리 비
A30: 이 윤
A31: 작업부산물
A32: 폐기물처리비
A33: 특허(신기술)사용료
A34: 공 급 가 액
A35: 부 가 가 치 세
A36: 도 급 액
A37: 도급자관급자재비
A38: 관급자관급자재비
A39: 총 공 사 비

Sheet 공종별집계표
A1: 공 종 별 집 계 표
A2: [ 동작고등학교 옥상 방수공사(건축) ]
A3: 품 명 | B3: 규 격 | C3: 단위 | D3: 수량 | E3: 재 료 비 | G3: 노 무 비 | I3: 경 비 | K3: 합 계 | M3: 비 고 | N3: 공종코드 | O3: 변수 | P3: 상위공종 | Q3: 공종구분 | R3: 공종레벨 | S3: 공종소계 | T3: 원가계산서 연결금액
E4: 단 가 | F4: 금 액 | G4: 단 가 | H4: 금 액 | I4: 단 가 | J4: 금 액 | K4: 단 가 | L4: 금 액
A5: 01 동작고등학교 옥상 방수공사(건축) | D5: 1 | E5: =F6 -> 0 | F5: =E5*D5 -> 0 | G5: =H6 -> 0 | H5: =G5*D5 -> 0 | I5: =J6 -> 0 | J5: =I5*D5 -> 0 | K5: =E5+G5+I5 -> 0 | L5: =F5+H5+J5 -> 0 | N5: 01 | R5: 1
A6: 0101 ■ 건 축 공 사 | D6: 1 | E6: =F7+F16 -> 0 | F6: =E6*D6 -> 0 | G6: =H7+H16 -> 0 | H6: =G6*D6 -> 0 | I6: =J7+J16 -> 0 | J6: =I6*D6 -> 0 | K6: =E6+G6+I6 -> 0 | L6: =F6+H6+J6 -> 0 | N6: 0101 | P6: 01 | R6: 2
A7: 010101 ▶ 본관동 | D7: 1 | E7: =F8+F9+F10+F11+F12+F13 -> 0 | F7: =E7*D7 -> 0 | G7: =H8+H9+H10+H11+H12+H13 -> 0 | H7: =G7*D7 -> 0 | I7: =J8+J9+J10+J11+J12+J13 -> 0 | J7: =I7*D7 -> 0 | K7: =E7+G7+I7 -> 0 | L7: =F7+H7+J7 -> 0 | N7: 010101 | P7: 0101 | R7: 3
A8: 01010101 가 설 공 사 | D8: 1 | E8: =공종별내역서!F27 -> 0 | F8: =E8*D8 -> 0 | G8: =공종별내역서!H27 -> 0 | H8: =G8*D8 -> 0 | I8: =공종별내역서!J27 -> 0 | J8: =I8*D8 -> 0 | K8: =E8+G8+I8 -> 0 | L8: =F8+H8+J8 -> 0 | N8: 01010101 | P8: 010101 | R8: 4
A9: 01010102 방 수 공 사 | D9: 1 | E9: =공종별내역서!F51 -> 0 | F9: =E9*D9 -> 0 | G9: =공종별내역서!H51 -> 0 | H9: =G9*D9 -> 0 | I9: =공종별내역서!J51 -> 0 | J9: =I9*D9 -> 0 | K9: =E9+G9+I9 -> 0 | L9: =F9+H9+J9 -> 0 | N9: 01010102 | P9: 010101 | R9: 4
A10: 01010103 미 장 공 사 | D10: 1 | E10: =공종별내역서!F75 -> 0 | F10: =E10*D10 -> 0 | G10: =공종별내역서!H75 -> 0 | H10: =G10*D10 -> 0 | I10: =공종별내역서!J75 -> 0 | J10: =I10*D10 -> 0 | K10: =E10+G10+I10 -> 0 | L10: =F10+H10+J10 -> 0 | N10: 01010103 | P10: 010101 | R10: 4
A11: 01010104 기 타 공 사 | D11: 1 | E11: =공종별내역서!F99 -> 0 | F11: =E11*D11 -> 0 | G11: =공종별내역서!H99 -> 0 | H11: =G11*D11 -> 0 | I11: =공종별내역서!J99 -> 0 | J11: =I11*D11 -> 0 | K11: =E11+G11+I11 -> 0 | L11: =F11+H11+J11 -> 0 | N11: 01010104 | P11: 010101 | R11: 4
A12: 01010105 철 거 공 사 | D12: 1 | E12: =공종별내역서!F123 -> 0 | F12: =E12*D12 -> 0 | G12: =공종별내역서!H123 -> 0 | H12: =G12*D12 -> 0 | I12: =공종별내역서!J123 -> 0 | J12: =I12*D12 -> 0 | K12: =E12+G12+I12 -> 0 | L12: =F12+H12+J12 -> 0 | N12: 01010105 | P12: 010101 | R12: 4
A13: 01010106 골 재 비 | D13: 1 | E13: =공종별내역서!F147 -> 0 | F13: =E13*D13 -> 0 | G13: =공종별내역서!H147 -> 0 | H13: =G13*D13 -> 0 | I13: =공종별내역서!J147 -> 0 | J13: =I13*D13 -> 0 | K13: =E13+G13+I13 -> 0 | L13: =F13+H13+J13 -> 0 | N13: 01010106 | P13: 010101 | R13: 4
A14: 01010107 ◈ 작 업 부 산 물 | D14: 1 | E14: =공종별내역서!F171 -> 0 | F14: =E14*D14 -> 0 | G14: =공종별내역서!H171 -> 0 | H14: =G14*D14 -> 0 | I14: =공종별내역서!J171 -> 0 | J14: =I14*D14 -> 0 | K14: =E14+G14+I14 -> 0 | L14: =F14+H14+J14 -> 0 | N14: 01010107 | Q14: 1 | R14: 4 | T14: =L14*1 -> 0
A15: 01010108 ◈ 폐기물 처리비 | D15: 1 | E15: =공종별내역서!F195 -> 0 | F15: =E15*D15 -> 0 | G15: =공종별내역서!H195 -> 0 | H15: =G15*D15 -> 0 | I15: =공종별내역서!J195 -> 0 | J15: =I15*D15 -> 0 | K15: =E15+G15+I15 -> 0 | L15: =F15+H15+J15 -> 0 | N15: 01010109 | Q15: 6 | R15: 4 | T15: =L15*1 -> 0
A16: 010102 ▶ 중관동 | D16: 1 | E16: =F17+F18+F19+F20+F21+F22 -> 0 | F16: =E16*D16 -> 0 | G16: =H17+H18+H19+H20+H21+H22 -> 0 | H16: =G16*D16 -> 0 | I16: =J17+J18+J19+J20+J21+J22 -> 0 | J16: =I16*D16 -> 0 | K16: =E16+G16+I16 -> 0 | L16: =F16+H16+J16 -> 0 | N16: 010102 | P16: 0101 | R16: 3
A17: 01010201 가 설 공 사 | D17: 1 | E17: =공종별내역서!F219 -> 0 | F17: =E17*D17 -> 0 | G17: =공종별내역서!H219 -> 0 | H17: =G17*D17 -> 0 | I17: =공종별내역서!J219 -> 0 | J17: =I17*D17 -> 0 | K17: =E17+G17+I17 -> 0 | L17: =F17+H17+J17 -> 0 | N17: 01010201 | P17: 010102 | R17: 4
A18: 01010202 방 수 공 사 | D18: 1 | E18: =공종별내역서!F243 -> 0 | F18: =E18*D18 -> 0 | G18: =공종별내역서!H243 -> 0 | H18: =G18*D18 -> 0 | I18: =공종별내역서!J243 -> 0 | J18: =I18*D18 -> 0 | K18: =E18+G18+I18 -> 0 | L18: =F18+H18+J18 -> 0 | N18: 01010202 | P18: 010102 | R18: 4
A19: 01010203 미 장 공 사 | D19: 1 | E19: =공종별내역서!F267 -> 0 | F19: =E19*D19 -> 0 | G19: =공종별내역서!H267 -> 0 | H19: =G19*D19 -> 0 | I19: =공종별내역서!J267 -> 0 | J19: =I19*D19 -> 0 | K19: =E19+G19+I19 -> 0 | L19: =F19+H19+J19 -> 0 | N19: 01010203 | P19: 010102 | R19: 4
A20: 01010204 기 타 공 사 | D20: 1 | E20: =공종별내역서!F291 -> 0 | F20: =E20*D20 -> 0 | G20: =공종별내역서!H291 -> 0 | H20: =G20*D20 -> 0 | I20: =공종별내역서!J291 -> 0 | J20: =I20*D20 -> 0 | K20: =E20+G20+I20 -> 0 | L20: =F20+H20+J20 -> 0 | N20: 01010204 | P20: 010102 | R20: 4
A21: 01010205 철 거 공 사 | D21: 1 | E21: =공종별내역서!F315 -> 0 | F21: =E21*D21 -> 0 | G21: =공종별내역서!H315 -> 0 | H21: =G21*D21 -> 0 | I21: =공종별내역서!J315 -> 0 | J21: =I21*D21 -> 0 | K21: =E21+G21+I21 -> 0 | L21: =F21+H21+J21 -> 0 | N21: 01010205 | P21: 010102 | R21: 4
A22: 01010206 골 재 비 | D22: 1 | E22: =공종별내역서!F339 -> 0 | F22: =E22*D22 -> 0 | G22: =공종별내역서!H339 -> 0 | H22: =G22*D22 -> 0 | I22: =공종별내역서!J339 -> 0 | J22: =I22*D22 -> 0 | K22: =E22+G22+I22 -> 0 | L22: =F22+H22+J22 -> 0 | N22: 01010206 | P22: 010102 | R22: 4
A23: 01010207 ◈ 폐기물 처리비 | D23: 1 | E23: =공종별내역서!F363 -> 0 | F23: =E23*D23 -> 0 | G23: =공종별내역서!H363 -> 0 | H23: =G23*D23 -> 0 | I23: =공종별내역서!J363 -> 0 | J23: =I23*D23 -> 0 | K23: =E23+G23+I23 -> 0 | L23: =F23+H23+J23 -> 0 | N23: 01010208 | Q23: 6 | R23: 4 | T23: =L23*1 -> 0
A25: [ 합 계 ] | F25: =F5 -> 0 | H25: =H5 -> 0 | J25: =J5 -> 0 | L25: =L5 -> 0

Sheet 공종별내역서
A1: [ 동작고등학교 옥상 방수공사(건축) ]
A2: 품 명 | B2: 규 격 | C2: 단위 | D2: 수량 | E2: 재 료 비 | G2: 노 무 비 | I2: 경 비 | K2: 합 계 | M2: 비 고 | N2: 품목코드 | O2: 변수 | P2: 설정 | Q2: 공종코드 | R2: 일위 | S2: 단산 | T2: 자재 | U2: 손료적용 | V2: 손료저장 | W2: 적용율 | X2: JUK1 | Y2: JUK2 | Z2: JUK3 | AA2: JUK4 | AB2: JUK5 | AC2: JUK6 | AD2: JUK7 | AE2: JUK8 | AF2: JUK9 | AG2: JUK10 | AH2: JUK11 | AI2: JUK12 | AJ2: JUK13 | AK2: JUK14 | AL2: JUK15 | AM2: JUK16 | AN2: JUK17 | AO2: JUK18 | AP2: JUK19 | AQ2: JUK20 | AR2: 자재구분 | AS2: 공종구분 | AT2: 공종레벨 | AU2: 공종+자재 | AV2: 고유번호
E3: 단 가 | F3: 금 액 | G3: 단 가 | H3: 금 액 | I3: 단 가 | J3: 금 액 | K3: 단 가 | L3: 금 액
A4: 01010101 가 설 공 사 | B4: ■ 건 축 공 사 ▶ 본관동
A5: 강관 조립말비계(이동식)설치 및 해체 | B5: 높이 2m, 3개월 | C5: 대 | D5: 1
A6: 건축물 현장정리 | B6: 공사중 옥내외 청소 + 정리 | C6: M2 | D6: 760
A7: 준공 청소 | B7: 준공시 시공으로 인한 오염물질 제거 / (마감재,창호,유리 등) | C7: M2 | D7: 760
A8: 크레인 | B8: 20ton | C8: HR | D8: 16
A27: [ 합 계 ]
A28: 01010102 방 수 공 사 | B28: ■ 건 축 공 사 ▶ 본관동
A29: 복합 방수 | B29: 바닥, 노출 | C29: M2 | D29: 760
A30: 복합 방수 | B30: 벽체, 노출 | C30: M2 | D30: 174
A31: 탈기 장치 | C31: SET | D31: 8
A32: 우레탄도막바름 - 프라이머 포함 | B32: 고점도우레탄 | C32: M2 | D32: 2
A51: [ 합 계 ]
A52: 01010103 미 장 공 사 | B52: ■ 건 축 공 사 ▶ 본관동
A53: 모르타르 바름 | B53: 바닥, 60mm | C53: M2 | D53: 76
A54: 와이어메시 바닥깔기 | B54: #8-150*150 | C54: M2 | D54: 76
A55: 모르타르 기계바름 | B55: 기계마감 | C55: M2 | D55: 76
A56: 바탕면갈기 및 면처리 | B56: 바닥 | C56: M2 | D56: 684
A57: 바탕면갈기 및 면처리 | B57: 기존콘크리트(벽) | C57: M2 | D57: 174
A75: [ 합 계 ]
A76: 01010104 기 타 공 사 | B76: ■ 건 축 공 사 ▶ 본관동
A77: 실외기 인양, 재설치 | B77: (시험 가동 포함) | C77: 대 | D77: 7
A78: 트레이 인양, 재설치 | C78: M | D78: 211
A79: 전선 정리비 | B79: 지장물 등 공사에 간섭되는 모든 것) | C79: 인 | D79: 3
A80: 드레인 보수 | C80: 개소 | D80: 6
A81: 드레인 캡 설치 | B81: Ø100, 주변 코킹 포함 | C81: EA | D81: 6
A82: 수밀코킹(실리콘) | B82: 10㎜*10㎜ | C82: M | D82: 17
A83: 바탕만들기+수성페인트 롤러칠 | B83: 내천장 2회, con'c·mortar면, 친환경(4층 복도 및 계단실천정) | C83: M2 | D83: 48
A99: [ 합 계 ]
A100: 01010105 철 거 공 사 | B100: ■ 건 축 공 사 ▶ 본관동
A101: 모르타르 철거 | B101: 바닥 (t=60mm) | C101: M2 | D101: 76
A102: 기존방수층 제거 및 바탕처리 | B102: 바닥 | C102: M2 | D102: 760
A103: 기존방수층 제거 및 바탕처리 | B103: 수직부 | C103: M2 | D103: 174
A104: 코킹 철거 | C104: M | D104: 17
A105: 철재 거치대 설치 | B105: H50 | C105: 개소 | D105: 10
A106: 건설폐기물·상차비 | B106: 24톤덤프, 30km | C106: TON | D106: 11
A107: 건설폐기물·상차비 | B107: 24톤암롤트럭, 30km | C107: TON | D107: 4
A123: [ 합 계 ]
A124: 01010106 골 재 비 | B124: ■ 건 축 공 사 ▶ 본관동
A125: 모래 | B125: 모래, 서울, 도착도 | C125: M3 | D125: 5
A126: 시멘트 | B126: 건재상 | C126: 포 | D126: 52
A147: [ 합 계 ]
A148: 01010107 ◈ 작 업 부 산 물 | B148: ■ 건 축 공 사 ▶ 본관동
A149: 철강설 | B149: 철강설, 고철, 작업설부산물 | C149: kg | D149: -60
A171: [ 합 계 ]
A172: 01010108 ◈ 폐기물 처리비 | B172: ■ 건 축 공 사 ▶ 본관동
A173: 건설폐재류 | B173: 가연성이 제거된 재활용이 가능한 혼합물 | C173: TON | D173: 11
A174: 혼합건설폐기물 | B174: 그 밖의 건설폐기물에 가연성 5% 이하 혼합 | C174: TON | D174: 4
A175: 건설폐기물·운반비 | B175: 24톤덤프, 30km | C175: TON | D175: 11
A176: 건설폐기물·운반비 | B176: 24톤암롤트럭, 30km | C176: TON | D176: 4
A195: [ 합 계 ]
A196: 01010201 가 설 공 사 | B196: ■ 건 축 공 사 ▶ 중관동
A197: 강관 조립말비계(이동식)설치 및 해체 | B197: 높이 2m, 3개월 | C197: 대 | D197: 1
A198: 건축물 현장정리 | B198: 공사중 옥내외 청소 + 정리 | C198: M2 | D198: 512
A199: 준공 청소 | B199: 준공시 시공으로 인한 오염물질 제거 / (마감재,창호,유리 등) | C199: M2 | D199: 512
A200: 크레인 | B200: 20ton | C200: HR | D200: 16
A219: [ 합 계 ]
A220: 01010202 방 수 공 사 | B220: ■ 건 축 공 사 ▶ 중관동
A221: 복합 방수 | B221: 바닥, 노출 | C221: M2 | D221: 512
A222: 복합 방수 | B222: 벽체, 노출 | C222: M2 | D222: 107
A223: 탈기 장치 | C223: SET | D223: 6
A224: 우레탄도막바름 - 프라이머 포함 | B224: 고점도우레탄 | C224: M2 | D224: 2
A243: [ 합 계 ]
A244: 01010203 미 장 공 사 | B244: ■ 건 축 공 사 ▶ 중관동
A245: 모르타르 바름 | B245: 바닥, 60mm | C245: M2 | D245: 52
A246: 와이어메시 바닥깔기 | B246: #8-150*150 | C246: M2 | D246: 52
A247: 모르타르 기계바름 | B247: 기계마감 | C247: M2 | D247: 52
A248: 바탕면갈기 및 면처리 | B248: 바닥 | C248: M2 | D248: 461
A249: 바탕면갈기 및 면처리 | B249: 기존콘크리트(벽) | C249: M2 | D249: 107
A267: [ 합 계 ]
A268: 01010204 기 타 공 사 | B268: ■ 건 축 공 사 ▶ 중관동
A269: 실외기 인양, 재설치 | B269: (시험 가동 포함) | C269: 대 | D269: 7
A270: 트레이 인양, 재설치 | C270: M | D270: 109
A271: 전선 정리비 | B271: 지장물 등 공사에 간섭되는 모든 것) | C271: 인 | D271: 2
A272: 드레인 보수 | C272: 개소 | D272: 5
A273: 드레인 캡 설치 | B273: Ø100, 주변 코킹 포함 | C273: EA | D273: 5
A274: 수밀코킹(실리콘) | B274: 10㎜*10㎜ | C274: M | D274: 12
A275: 바탕만들기+수성페인트 롤러칠 | B275: 내천장 2회, con'c·mortar면, 친환경(5층 복도 및 계단실 천정) | C275: M2 | D275: 24
A291: [ 합 계 ]
A292: 01010205 철 거 공 사 | B292: ■ 건 축 공 사 ▶ 중관동
A293: 모르타르 철거 | B293: 바닥 (t=60mm) | C293: M2 | D293: 52
A294: 기존방수층 제거 및 바탕처리 | B294: 바닥 | C294: M2 | D294: 512
A295: 기존방수층 제거 및 바탕처리 | B295: 수직부 | C295: M2 | D295: 106
A296: 코킹 철거 | C296: M | D296: 12
A297: 건설폐기물·상차비 | B297: 24톤덤프, 30km | C297: TON | D297: 8
A298: 건설폐기물·상차비 | B298: 24톤암롤트럭, 30km | C298: TON | D298: 3
A315: [ 합 계 ]
A316: 01010206 골 재 비 | B316: ■ 건 축 공 사 ▶ 중관동
A317: 모래 | B317: 모래, 서울, 도착도 | C317: M3 | D317: 4
A318: 시멘트 | B318: 건재상 | C318: 포 | D318: 43
A339: [ 합 계 ]
A340: 01010207 ◈ 폐기물 처리비비 | B340: ■ 건 축 공 사 ▶ 중관동
A341: 건설폐재류 | B341: 가연성이 제거된 재활용이 가능한 혼합물 | C341: TON | D341: 8
A342: 혼합건설폐기물 | B342: 그 밖의 건설폐기물에 가연성 5% 이하 혼합 | C342: TON | D342: 3
A343: 건설폐기물·운반비 | B343: 24톤덤프, 30km | C343: TON | D343: 8
A344: 건설폐기물·운반비 | B344: 24톤암롤트럭, 30km | C344: TON | D344: 3
A363: [ 합 계 ]

Sheet  공사설정 
A1: 이 Sheet는 수정하지 마십시요
A2: 공사구분 | B2: A | C2: 타이틀
A3: 확정내역 | B3: 원내역
A4: 자재단가적용 | B4: 5
A5: 경비단가적용 | B5: 5
A6: 품목코드형식 | B6: XXXX-XXXXXXXXXXXXX
A7: 내역금액소수점처리 | B7: C | C7: 1
A8: 일위대가내역소수점처리 | B8: C | C8: 2
A9: 단가명 | B9: 조달청가격 | C9: 거래가격 | D9: 유통물가 | E9: 조사가격1 | F9: 조사가격2 | G9: TTTTT
A10: 환율 | B10: 0 | C10: 0 | D10: 0
A11: 시간당작업량 | B11: R | C11: 4
A12: 1회 사이클시간 | B12: R | C12: 4
A13: 시간당 작업사이클 | B13: R | C13: 3
A14: 일반변수 | B14: C | C14: 5
A15: 시간당 노임산출 계수 | B15: A | C15: 1/8*16/12*25/20 | D15: 1/8*16/12*25/20 | E15: 1/8*16/12*25/20 | F15: 1
A16: 재료비 할증 계수 | B16: 0 | C16: 0
A17: 노무비 할증 계수 | B17: 0 | C17: 0 | D17: 0 | E17: 0 | F17: 0 | G17: 0 | H17: 0 | I17: 0 | J17: 0 | K17: 0 | L17: 0 | M17: 0
A18: 경비 할증 계수 | B18: 0 | C18: 0
A19: 내역,일위대가 품명,규격,단위 따로적용
A20: 내역단가 소수점처리 | C20: 1
A21: 코드 | B21: 공종구분명 | C21: 원가비목코드
A22: 1 | B22: 작 업 부 산 물 | C22: A3
A23: 2 | B23: 운 반 비 | C23: C1
A24: 3 | B24: 관 급 자 재 비 | C24: DJ
A25: 4 | B25: 사 급 자 재 비 | C25: D3
A26: 5 | B26: 외 자 재
A27: 6 | B27: 폐기물처리비
A28: 7 | B28: ...
A29: 8 | B29: ...
A30: 9 | B30: ...
A31: A | B31: ....
A32: B | B32: .....
A33: C | B33: ....
A34: D | B34: ....
A35: E | B35: ....
A36: F | B36: ....
A37: G | B37: ....
A38: H | B38: ....
A39: I | B39: ....
A40: J | B40: ....
A43: 단가 순서 | B43: 1234
