Workbook
Name _ENG3: VLOOKUP(#REF!,[0]!DBHAN,3)
Name _ENG3: VLOOKUP(#REF!,[0]!DBHAN,3)
Name _ENG3: VLOOKUP(#REF!,[0]!DBHAN,3)
Name _HAN3: VLOOKUP(#REF!,[0]!DBHAN,2)
Name _HAN3: VLOOKUP(#REF!,[0]!DBHAN,2)
Name _HAN3: VLOOKUP(#REF!,[0]!DBHAN,2)
Name _MM1: [1]외자배분!$E$6
Name _MM2: [1]외자배분!$F$6
Name _TT1: [1]외자배분!$G$6
Name _TT2: [1]외자배분!$H$6
Name BB: [2]내역서!$I$49
Name danga: [3]danga!$A$1:$M$235
Name datab: '[4]1.우편집중내역서'!$A$3:$D$566
Name del: [5]제직재!$B$2:$B$8,[5]제직재!$B$11:$G$14
Name g_sort: '원가내역서(원본)'!g_sort
Name g_sort: '원가내역서(을)'!g_sort
Name g_sort: [0]!g_sort
Name HIT: '[6]2F 회의실견적(5_14 일대)'!$J$31
Name ilch: [3]ilch!$A$3:$M$25
Name Line132_Click: [7]!Line132_Click
Name list: [8]총괄!$M$7:$S$43
Name LTG_1: [9]조명율!$E$25:$V$36
Name L옹벽: [10]기본일위!$1:$1048576
Name m: [11]을!$M$1:$M$65536
Name M1.더하기: #N/A
Name M1.빼기: #N/A
Name module1.bupo_index: [12]!module1.bupo_index
Name module1.dekak: [12]!module1.dekak
Name module1.jiju: [12]!module1.jiju
Name module1.JohapbuhoKaroIndex: [12]!module1.JohapbuhoKaroIndex
Name module1.JohapbuhoSeroIndex: [12]!module1.JohapbuhoSeroIndex
Name module1.m_karo: [12]!module1.m_karo
Name module1.t_karo: [12]!module1.t_karo
Name module1.t_sero: [12]!module1.t_sero
Name module2.Bo_h: [12]!module2.Bo_h
Name module2.Bo_w: [12]!module2.Bo_w
Name module2.Bobachimde_karoHindex: [12]!module2.Bobachimde_karoHindex
Name module2.Bobachimde_karoWindex: [12]!module2.Bobachimde_karoWindex
Name module2.Bobachimde_seroindex: [12]!module2.Bobachimde_seroindex
Name module2.danka: [12]!module2.danka
Name module2.Dekak_n: [12]!module2.Dekak_n
Name module2.Haljeindex: [12]!module2.Haljeindex
Name module2.lotindex: [12]!module2.lotindex
Name module2.pack_karoindex: [12]!module2.pack_karoindex
Name module2.pack_munja: [12]!module2.pack_munja
Name module2.package_tf: [12]!module2.package_tf
Name N: [13]환율적용표!$J$6
Name nameeng: IF([0]!rowclm=0,VLOOKUP('[14]회로내역(승인)'!$B1,[0]!_DBB1,3),VLOOKUP('[14]회로내역(승인)'!$B1048576,[0]!_DBB1,4))
Name nameeng: IF([0]!rowclm=0,VLOOKUP('[14]회로내역(승인)'!$B1,[0]!_DBB1,3),VLOOKUP('[14]회로내역(승인)'!$B1048576,[0]!_DBB1,4))
Name nameeng: IF([0]!rowclm=0,VLOOKUP('[14]회로내역(승인)'!$B1,[0]!_DBB1,3),VLOOKUP('[14]회로내역(승인)'!$B1048576,[0]!_DBB1,4))
Name NBVCV: '[15]20관리비율'!$A$1:$D$25
Name NG0: [16]환율!$I$18
Name NK0: [16]환율!$I$12
Name NN: [17]양식!$C$7
Name NUM: VLOOKUP(#REF!,[0]!DBHAN,1)
Name NUM: VLOOKUP(#REF!,[0]!DBHAN,1)
Name NUM: VLOOKUP(#REF!,[0]!DBHAN,1)
Name numb: IF([0]!rowclm=0,VLOOKUP('[14]회로내역(승인)'!$B1,[0]!_DBB1,2),"")
Name numb: IF([0]!rowclm=0,VLOOKUP('[14]회로내역(승인)'!$B1,[0]!_DBB1,2),"")
Name numb: IF([0]!rowclm=0,VLOOKUP('[14]회로내역(승인)'!$B1,[0]!_DBB1,2),"")

Sheet 공종별집계표
A1: 공 종 별 집 계 표
A2: [ 한국보훈복지의료공단 ]
A3: 품 명 | B3: 규 격 | C3: 단위 | D3: 수량 | E3: 재 료 비 | G3: 노 무 비 | I3: 경 비 | K3: 합 계 | M3: 비 고 | N3: 공종코드 | O3: 변수 | P3: 상위공종 | Q3: 공종구분 | R3: 공종레벨 | S3: 공종소계 | T3: 원가계산서 연결금액
E4: 단 가 | F4: 금 액 | G4: 단 가 | H4: 금 액 | I4: 단 가 | J4: 금 액 | K4: 단 가 | L4: 금 액
A5: 01 한국보훈복지의료공단 | D5: 1 | E5: =F6+F7+F8+F9+F10+F11+F12+F13+F14+F15+F16+F17+F18+F19+F20+F21+F22+F23+F24+F25+F26+F27+F28+F29+F30+F31+F32+F33+F34+F35+F36+F37+F38+F39+F40+F41+F42+F43+F44+F45+F46+F47 -> #REF! | F5: =E5*D5 -> #REF! | G5: =H6+H7+H8+H9+H10+H11+H12+H13+H14+H15+H16+H17+H18+H19+H20+H21+H22+H23+H24+H25+H26+H27+H28+H29+H30+H31+H32+H33+H34+H35+H36+H37+H38+H39+H40+H41+H42+H43+H44+H45+H46+H47 -> #REF! | H5: =G5*D5 -> #REF! | I5: =J6+J7+J8+J9+J10+J11+J12+J13+J14+J15+J16+J17+J18+J19+J20+J21+J22+J23+J24+J25+J26+J27+J28+J29+J30+J31+J32+J33+J34+J35+J36+J37+J38+J39+J40+J41+J42+J43+J44+J45+J46+J47 -> #REF! | J5: =I5*D5 -> #REF! | K5: =E5+G5+I5 -> #REF! | L5: =F5+H5+J5 -> #REF! | N5: 01 | R5: 1
A6: 0101 1~10 | D6: 1 | E6: =공종별내역서!#REF! -> #REF! | F6: =E6*D6 -> #REF! | G6: =공종별내역서!#REF! -> #REF! | H6: =G6*D6 -> #REF! | I6: =공종별내역서!#REF! -> #REF! | J6: =I6*D6 -> #REF! | K6: =E6+G6+I6 -> #REF! | L6: =F6+H6+J6 -> #REF! | N6: 0101 | P6: 01 | R6: 2
A7: 0102 11~20 | D7: 1 | E7: =공종별내역서!#REF! -> #REF! | F7: =E7*D7 -> #REF! | G7: =공종별내역서!#REF! -> #REF! | H7: =G7*D7 -> #REF! | I7: =공종별내역서!#REF! -> #REF! | J7: =I7*D7 -> #REF! | K7: =E7+G7+I7 -> #REF! | L7: =F7+H7+J7 -> #REF! | N7: 0102 | P7: 01 | R7: 2
A8: 0103 21~30 | D8: 1 | E8: =공종별내역서!F89 -> 0 | F8: =E8*D8 -> 0 | G8: =공종별내역서!H89 -> 0 | H8: =G8*D8 -> 0 | I8: =공종별내역서!J89 -> 0 | J8: =I8*D8 -> 0 | K8: =E8+G8+I8 -> 0 | L8: =F8+H8+J8 -> 0 | N8: 0103 | P8: 01 | R8: 2
A9: 0104 31~40 | D9: 1 | E9: =공종별내역서!#REF! -> #REF! | F9: =E9*D9 -> #REF! | G9: =공종별내역서!#REF! -> #REF! | H9: =G9*D9 -> #REF! | I9: =공종별내역서!#REF! -> #REF! | J9: =I9*D9 -> #REF! | K9: =E9+G9+I9 -> #REF! | L9: =F9+H9+J9 -> #REF! | N9: 0104 | P9: 01 | R9: 2
A10: 0105 41~50 | D10: 1 | E10: =공종별내역서!#REF! -> #REF! | F10: =E10*D10 -> #REF! | G10: =공종별내역서!#REF! -> #REF! | H10: =G10*D10 -> #REF! | I10: =공종별내역서!#REF! -> #REF! | J10: =I10*D10 -> #REF! | K10: =E10+G10+I10 -> #REF! | L10: =F10+H10+J10 -> #REF! | N10: 0105 | P10: 01 | R10: 2
A11: 0106 51~60 | D11: 1 | E11: =공종별내역서!#REF! -> #REF! | F11: =E11*D11 -> #REF! | G11: =공종별내역서!#REF! -> #REF! | H11: =G11*D11 -> #REF! | I11: =공종별내역서!#REF! -> #REF! | J11: =I11*D11 -> #REF! | K11: =E11+G11+I11 -> #REF! | L11: =F11+H11+J11 -> #REF! | N11: 0106 | P11: 01 | R11: 2
A12: 0107 61~70 | D12: 1 | E12: =공종별내역서!#REF! -> #REF! | F12: =E12*D12 -> #REF! | G12: =공종별내역서!#REF! -> #REF! | H12: =G12*D12 -> #REF! | I12: =공종별내역서!#REF! -> #REF! | J12: =I12*D12 -> #REF! | K12: =E12+G12+I12 -> #REF! | L12: =F12+H12+J12 -> #REF! | N12: 0107 | P12: 01 | R12: 2
A13: 0108 71~80 | D13: 1 | E13: =공종별내역서!#REF! -> #REF! | F13: =E13*D13 -> #REF! | G13: =공종별내역서!#REF! -> #REF! | H13: =G13*D13 -> #REF! | I13: =공종별내역서!#REF! -> #REF! | J13: =I13*D13 -> #REF! | K13: =E13+G13+I13 -> #REF! | L13: =F13+H13+J13 -> #REF! | N13: 0108 | P13: 01 | R13: 2
A14: 0109 81~90 | D14: 1 | E14: =공종별내역서!#REF! -> #REF! | F14: =E14*D14 -> #REF! | G14: =공종별내역서!#REF! -> #REF! | H14: =G14*D14 -> #REF! | I14: =공종별내역서!#REF! -> #REF! | J14: =I14*D14 -> #REF! | K14: =E14+G14+I14 -> #REF! | L14: =F14+H14+J14 -> #REF! | N14: 0109 | P14: 01 | R14: 2
A15: 0110 91~100 | D15: 1 | E15: =공종별내역서!#REF! -> #REF! | F15: =E15*D15 -> #REF! | G15: =공종별내역서!#REF! -> #REF! | H15: =G15*D15 -> #REF! | I15: =공종별내역서!#REF! -> #REF! | J15: =I15*D15 -> #REF! | K15: =E15+G15+I15 -> #REF! | L15: =F15+H15+J15 -> #REF! | N15: 0110 | P15: 01 | R15: 2
A16: 0111 101~110 | D16: 1 | E16: =공종별내역서!#REF! -> #REF! | F16: =E16*D16 -> #REF! | G16: =공종별내역서!#REF! -> #REF! | H16: =G16*D16 -> #REF! | I16: =공종별내역서!#REF! -> #REF! | J16: =I16*D16 -> #REF! | K16: =E16+G16+I16 -> #REF! | L16: =F16+H16+J16 -> #REF! | N16: 0111 | P16: 01 | R16: 2
A17: 0112 111~120 | D17: 1 | E17: =공종별내역서!#REF! -> #REF! | F17: =E17*D17 -> #REF! | G17: =공종별내역서!#REF! -> #REF! | H17: =G17*D17 -> #REF! | I17: =공종별내역서!#REF! -> #REF! | J17: =I17*D17 -> #REF! | K17: =E17+G17+I17 -> #REF! | L17: =F17+H17+J17 -> #REF! | N17: 0112 | P17: 01 | R17: 2
A18: 0113 121~130 | D18: 1 | E18: =공종별내역서!#REF! -> #REF! | F18: =E18*D18 -> #REF! | G18: =공종별내역서!#REF! -> #REF! | H18: =G18*D18 -> #REF! | I18: =공종별내역서!#REF! -> #REF! | J18: =I18*D18 -> #REF! | K18: =E18+G18+I18 -> #REF! | L18: =F18+H18+J18 -> #REF! | N18: 0113 | P18: 01 | R18: 2
A19: 0114 131~140 | D19: 1 | E19: =공종별내역서!#REF! -> #REF! | F19: =E19*D19 -> #REF! | G19: =공종별내역서!#REF! -> #REF! | H19: =G19*D19 -> #REF! | I19: =공종별내역서!#REF! -> #REF! | J19: =I19*D19 -> #REF! | K19: =E19+G19+I19 -> #REF! | L19: =F19+H19+J19 -> #REF! | N19: 0114 | P19: 01 | R19: 2
A20: 0115 141~150 | D20: 1 | E20: =공종별내역서!#REF! -> #REF! | F20: =E20*D20 -> #REF! | G20: =공종별내역서!#REF! -> #REF! | H20: =G20*D20 -> #REF! | I20: =공종별내역서!#REF! -> #REF! | J20: =I20*D20 -> #REF! | K20: =E20+G20+I20 -> #REF! | L20: =F20+H20+J20 -> #REF! | N20: 0115 | P20: 01 | R20: 2
... A46: 0141 401~410 | D46: 1 | E46: =공종별내역서!#REF! -> #REF! | F46: =E46*D46 -> #REF! | G46: =공종별내역서!#REF! -> #REF! | H46: =G46*D46 -> #REF! | I46: =공종별내역서!#REF! -> #REF! | J46: =I46*D46 -> #REF! | K46: =E46+G46+I46 -> #REF! | L46: =F46+H46+J46 -> #REF! | N46: 0141 | P46: 01 | R46: 2
A47: 0142 411~413 | D47: 1 | E47: =공종별내역서!F1071 -> 0 | F47: =E47*D47 -> 0 | G47: =공종별내역서!H1071 -> 0 | H47: =G47*D47 -> 0 | I47: =공종별내역서!J1071 -> 0 | J47: =I47*D47 -> 0 | K47: =E47+G47+I47 -> 0 | L47: =F47+H47+J47 -> 0 | N47: 0142 | P47: 01 | R47: 2
A52: [ 합 계 ] | F52: =F5 -> #REF! | H52: =H5 -> #REF! | J52: =J5 -> #REF! | L52: =L5 -> #REF!

Sheet 원가내역서(갑)
A1: 공 사 원 가 계 산 서
A2: 2026 하반기 주거환경개선공사 | D2: 인천
A3: 비 목 | D3: 금 액 | E3: 구 성 비 | F3: 비 고
A4: 순 공 사 원 가 | B4: 재 료 비 | C4: 직 접 재 료 비 | D4: =+'원가내역서(을)'!D7 -> 0
C5: 간 접 재 료 비
C6: 작업설, 부산물(△)
C7: [ 소 계 ] | D7: =SUM(D4:D6) -> 0
B8: 노 무 비 | C8: 직 접 노 무 비 | D8: =+'원가내역서(을)'!F7 -> 0
C9: 간 접 노 무 비 | D9: =D8*17.5% -> 0 | E9: 직접노무비 * 17.5%
C10: [ 소 계 ] | D10: =SUM(D8:D9) -> 0
B11: 경 비 | C11: 기 계 경 비 | D11: =+'원가내역서(을)'!I7 -> 0
C12: 산 재 보 험 료 | D12: =D10*3.56% -> 0 | E12: 노무비 * 3.56%
C13: 고 용 보 험 료 | D13: =D10*1.01% -> 0 | E13: 노무비 * 1.01%
C14: 국민 건강 보험료 | F14: 1개월 이상
C15: 국민 연금 보험료 | F15: 1개월 이상
C16: 노인장기요양보험료 | F16: 1개월 이상
C17: 산업안전보건관리비 | D17: =(D7+D8)*3.11% -> 0 | E17: (재료비+직노) * 3.11% | F17: 2천만원 이상
C18: 환 경 보 전 비 | D18: =(D7+D8+D11)*0.3% -> 0 | E18: (재료비+직노+기계경비) * 0.3%
C19: 석면분담금 | D19: =D10*0.006% -> 0 | E19: 노무비 * 0.006%
C20: 임금채권부담금 | D20: =D10*0.09% -> 0 | E20: 노무비 * 0.09%
C21: 기 타 경 비 | D21: =(D7+D10)*5% -> 0 | E21: (재료비+노무비) * 5.0%
C22: [ 소 계 ] | D22: =SUM(D11:D21) -> 0
A23: 계 | D23: =D22+D10+D7 -> 0
A24: 일 반 관 리 비 | D24: =(D7+D10+D22)*8% -> 0 | E24: 계 * 8%
A25: 총원가 | D25: =D24+D23 -> 0
A26: 이 윤 | D26: =(D10+D22+D24)*15% -> 0 | E26: (노무비+경비+일반관리비) * 15%
A27: 공 급 가 액 | D27: =D26+D25 -> 0
A28: 부 가 가 치 세 | D28: =D27*10% -> 0 | E28: 공급가액 * 10%
A29: 도 급 액 | D29: =D27+D28 -> 0
A30: 총 공 사 비 | D30: =D27+D28 -> 0

Sheet 원가내역서(을)
A1: 관리번호 | B1: 성명 | C1: 주소 | D1: 재료비합계 | E1: 노무비 합계 | F1: 직접 노무비 | G1: 간접 노무비 | H1: 경비 합계_x0000_ | I1: 직접경비 | J1: 기타경비 | K1: 산재보험료 | L1: 고용보험료 | M1: 건강보험료 | N1: 연금보험료 | O1: 산업안전보건관리비 | P1: 환경보전비 | Q1: 노인장기요양보험료 | R1: 일반관리비 | S1: 석면부담금 | T1: 임금채권부담금 | U1: 총원가 | V1: 이윤 | W1: 공급가액 | X1: 부가가치세 | Y1: 총공사비
A2: 73 | B2: 김OO | C2: 인천광역시 부평구 경원대로
A3: 75 | B3: 이OO | C3: 인천광역시 계양구 박촌로
A4: 76 | B4: 김OO | C4: 인천광역시 미추홀구 미추홀대로646번길
A5: 77 | B5: 류OO | C5: 인천광역시 남동구 호구포로
A6: 78 | B6: 홍OO | C6: 인천광역시 중구 축항대로86번길
A7: 계

Sheet 원가내역서(원본)
B1: 공사품목 | C1: 유형 | D1: 사 양 | E1: 공사위치 | F1: 단위 | G1: 수 량 | H1: 재료비 | J1: 노무비 | L1: 경비 | N1: 합계
H2: 단가 | I2: 합계 | J2: 단가 | K2: 합계 | L2: 단가 | M2: 합계 | N2: 단가 | O2: 합계
B3: ★복사입력☆ | C3: 수식 | D3: 수식 | E3: ★'직접입력 | F3: 수식 | G3: ★직접입력 | I3: 수식 | K3: 수식 | M3: 수식 | N3: 수식 | O3: 수식
B4: 73
B5: 도배철거(천장) | D5: 천장 | E5: 방 1 | F5: ㎡ | G5: 8.7
B6: 도배(실크, 천정면) / 합판·석고보드면 | D6: 실크벽지(초배유) | E6: 방 1 | F6: ㎡ | G6: 8.7
B7: 도배철거(벽) | D7: 벽 | E7: 방 1 | F7: ㎡ | G7: 28.5
B8: 도배(실크, 벽면) / 콘크리트·모르타르면 | D8: 실크벽지(초배유) | E8: 방 1 | F8: ㎡ | G8: 28.5
B9: 도배철거(천장) | D9: 천장 | E9: 방 2 | F9: ㎡ | G9: 16.1
B10: 도배(실크, 천정면) / 합판·석고보드면 | D10: 실크벽지(초배유) | E10: 방 2 | F10: ㎡ | G10: 16.1
B11: 도배철거(벽) | D11: 벽 | E11: 방 2 | F11: ㎡ | G11: 38.5
B12: 도배(실크, 벽면) / 콘크리트·모르타르면 | D12: 실크벽지(초배유) | E12: 방 2 | F12: ㎡ | G12: 38.5
B13: 도배철거(천장) | D13: 천장 | E13: 방 3 | F13: ㎡ | G13: 10.695
B14: 도배(실크, 천정면) / 합판·석고보드면 | D14: 실크벽지(초배유) | E14: 방 3 | F14: ㎡ | G14: 10.695
B15: 도배철거(벽) | D15: 벽 | E15: 방 3 | F15: ㎡ | G15: 30.75
B16: 도배(실크, 벽면) / 콘크리트·모르타르면 | D16: 실크벽지(초배유) | E16: 방 3 | F16: ㎡ | G16: 30.75
... B29: 자동확산소화기 | D29: 퓨즈볼링크, 3kg | E29: 주방 | F29: 개 | G29: 1
B30: 혼합건설폐기물 | D30: 건설폐재류에 가연성 5% 이하 혼합 | F30: 식 | G30: 3
A31: 73합계 | B31: 합계
B32: 75
B33: 단창철거 | D33: 단창(공구손료포함) | E33: 창호 ① | F33: ㎡ | G33: 2.86
B34: PVC단창 / 자재 | D34: 22mm 페어글라스, 소운반, 연결철물, 마무리작업 포함(실리콘 쏘기) | E34: 창호 ① | F34: ㎡ | G34: 2.86
B35: PVC단창 / 시공비(창호면적 ㎡, 1.0 - 3.0 미만) | D35: 22mm 페어글라스, 소운반, 연결철물, 마무리작업 포함(실리콘 쏘기) | E35: 창호 ① | F35: 개소 | G35: 1
B36: 우레탄폼충전 | D36: 창문틀주위 (좌측,우측,상부) | E36: 창호 ① | F36: m | G36: 7.4
B37: 방충망 | D37: 창문형, 설치비 포함 | E37: 창호 ① | F37: ㎡ | G37: 1.43
B38: PVC 고정핸들 | D38: 손잡이 / 고정형 | E38: 창호 ① | F38: 개 | G38: 2
B39: 이중창철거 | D39: 이중창(공구손료포함) | E39: 창호 ② | F39: ㎡ | G39: 2.64
B40: pvc이중창 / 자재 | D40: 22mm 페어글라스, 소운반, 연결철물, 마무리작업 포함(실리콘 쏘기) | E40: 창호 ② | F40: ㎡ | G40: 2.64
B41: PVC이중창 / 시공비(창호면적 ㎡, 1.0 - 3.0 미만) | D41: 22mm 페어글라스, 소운반, 연결철물, 마무리작업 포함(실리콘 쏘기) | E41: 창호 ② | F41: 개소 | G41: 1
B42: 우레탄폼충전 | D42: 창문틀주위 (좌측,우측,상부) | E42: 창호 ② | F42: m | G42: 7
B43: 방충망 | D43: 창문형, 설치비 포함 | E43: 창호 ② | F43: ㎡ | G43: 1.32
B44: PVC 고정핸들 | D44: 손잡이 / 고정형 | E44: 창호 ② | F44: 개 | G44: 8
... B78: 도배(합지,벽면) / 콘크리트·모르타르면 | D78: 초배지 시공(합지, 폭90Cm이상, 180g/㎡ 이상) | E78: 주방 | F78: ㎡ | G78: 11.9
B79: 고소작업대(16m) | D79: 1톤 | F79: 일 | G79: 1
B80: 가구 및 집기 이전비 | D80: 가구 이동 및 재배치비 | F80: 식 | G80: 2
B81: 혼합건설폐기물 | D81: 건설폐재류에 가연성 5% 이하 혼합 | F81: 식 | G81: 2
A82: 75합계 | B82: 합계
B83: 76
B84: 도배철거(천장) | D84: 천장 | E84: 방 1 | F84: ㎡ | G84: 9.6
B85: 도배(합지, 천정면) / 합판·석고보드면 | D85: 초배지 시공(합지, 폭90Cm이상, 180g/㎡ 이상) | E85: 방 1 | F85: ㎡ | G85: 9.6
...

Sheet 공종별내역서
A1: [ 원가 분석용 자료 ]
A2: 품 명 | B2: 규 격 | C2: 단위 | D2: 수량 | E2: 재 료 비 | G2: 노 무 비 | I2: 경 비 | K2: 합 계 | M2: 비 고 | N2: 품목코드 | O2: 변수 | P2: 설정 | Q2: 공종코드 | R2: 일위 | S2: 단산 | T2: 자재 | U2: 손료적용 | V2: 손료저장 | W2: 적용율 | X2: JUK1 | Y2: JUK2 | Z2: JUK3 | AA2: JUK4 | AB2: JUK5 | AC2: JUK6 | AD2: JUK7 | AE2: JUK8 | AF2: JUK9 | AG2: JUK10 | AH2: JUK11 | AI2: JUK12 | AJ2: JUK13 | AK2: JUK14 | AL2: JUK15 | AM2: JUK16 | AN2: JUK17 | AO2: JUK18 | AP2: JUK19 | AQ2: JUK20 | AR2: 자재구분 | AS2: 공종구분 | AT2: 공종레벨 | AU2: 공종+자재 | AV2: 고유번호 | AX2: 상승률
E3: 단 가 | F3: 금 액 | G3: 단 가 | H3: 금 액 | I3: 단 가 | J3: 금 액 | K3: 단 가 | L3: 금 액 | AX3: 재료비 | AY3: 노무비 | AZ3: 경비 | BA3: 합계
A4: 0101 1~10 | Q4: 0101
A5: 01-01 도배(합지,벽면) / 합판·석고보드면 | B5: 초배지 시공(합지, 폭90Cm이상, 180g/m2 이상) | C5: M2 | E5: =TRUNC(일위대가목록!E4,0) -> 2128 | F5: =TRUNC(E5*D5, 0) -> 0 | G5: =TRUNC(일위대가목록!F4,0) -> 4860 | H5: =TRUNC(G5*D5, 0) -> 0 | I5: 0 | J5: =TRUNC(I5*D5, 0) -> 0 | K5: =TRUNC(E5+G5+I5, 0) -> 6988 | L5: =TRUNC(F5+H5+J5, 0) -> 0 | M5: 호표 1 | N5: 5062818DDD53DE257977CAC19BEFE2 | Q5: 0101 | R5: T | S5: F | T5: F | AU5: 01015062818DDD53DE257977CAC19BEFE2 | AV5: 3
E6: 1404 | G6: 4445 | I6: 0 | K6: =E6+G6+I6 -> 5849 | M6: 2022 | AX6: =E5/E6 -> 1.5156695 | AY6: =G5/G6 -> 1.0933633 | BA6: =K5/K6 -> 1.1947341
A7: 01-02 도배(합지,벽면) / 콘크리트·모르타르면 | B7: 초배지 시공(합지, 폭90Cm이상, 180g/m2 이상) | C7: M2 | E7: =TRUNC(일위대가목록!E5,0) -> 2229 | F7: =TRUNC(E7*D7, 0) -> 0 | G7: =TRUNC(일위대가목록!F5,0) -> 4399 | H7: =TRUNC(G7*D7, 0) -> 0 | I7: =TRUNC(일위대가목록!G5,0) -> 0 | J7: =TRUNC(I7*D7, 0) -> 0 | K7: =TRUNC(E7+G7+I7, 0) -> 6628 | L7: =TRUNC(F7+H7+J7, 0) -> 0 | M7: 호표 2 | N7: 5062818DDD53DE227C39D8C16133F0 | Q7: 0101 | R7: T | S7: F | T7: F | AU7: 01015062818DDD53DE227C39D8C16133F0 | AV7: 4
E8: 1404 | G8: 4445 | K8: =E8+G8+I8 -> 5849 | M8: 2022 | AX8: =E7/E8 -> 1.5876068 | AY8: =G7/G8 -> 0.98965129 | BA8: =K7/K8 -> 1.1331852
A9: 02-01 도배(합지, 천정면) / 합판·석고보드면 | B9: 초배지 시공(합지, 폭90Cm이상, 180g/m2 이상) | C9: M2 | E9: =TRUNC(일위대가목록!E6,0) -> 2128 | F9: =TRUNC(E9*D9, 0) -> 0 | G9: =TRUNC(일위대가목록!F6,0) -> 6319 | H9: =TRUNC(G9*D9, 0) -> 0 | I9: =TRUNC(일위대가목록!G6,0) -> 0 | J9: =TRUNC(I9*D9, 0) -> 0 | K9: =TRUNC(E9+G9+I9, 0) -> 8447 | L9: =TRUNC(F9+H9+J9, 0) -> 0 | M9: 호표 3 | N9: 5062818DDD53DE237EAA756199BD98 | Q9: 0101 | R9: T | S9: F | T9: F | AU9: 01015062818DDD53DE237EAA756199BD98 | AV9: 5
E10: 1575 | G10: 5925 | K10: =E10+G10+I10 -> 7500 | M10: 2022 | AX10: =E9/E10 -> 1.3511111 | AY10: =G9/G10 -> 1.0664979 | BA10: =K9/K10 -> 1.1262667
A11: 02-02 도배(합지, 천정면) / 콘크리트·모르타르면 | B11: 초배지 시공(합지, 폭90Cm이상, 180g/m2 이상) | C11: M2 | E11: =TRUNC(일위대가목록!E7,0) -> 2229 | F11: =TRUNC(E11*D11, 0) -> 0 | G11: =TRUNC(일위대가목록!F7,0) -> 5718 | H11: =TRUNC(G11*D11, 0) -> 0 | I11: =TRUNC(일위대가목록!G7,0) -> 0 | J11: =TRUNC(I11*D11, 0) -> 0 | K11: =TRUNC(E11+G11+I11, 0) -> 7947 | L11: =TRUNC(F11+H11+J11, 0) -> 0 | M11: 호표 4 | N11: 5062818DDD53DE2071609EC1CEE9E5 | Q11: 0101 | R11: T | S11: F | T11: F | AU11: 01015062818DDD53DE2071609EC1CEE9E5 | AV11: 6
E12: 1575 | G12: 5925 | K12: =E12+G12+I12 -> 7500 | M12: 2022 | AX12: =E11/E12 -> 1.4152381 | AY12: =G11/G12 -> 0.96506329 | BA12: =K11/K12 -> 1.0596
A13: 03-01 도배(실크, 벽면) / 합판·석고보드면 | B13: 실크벽지(초배유) | C13: M2 | E13: =TRUNC(일위대가목록!E8,0) -> 3324 | F13: =TRUNC(E13*D13, 0) -> 0 | G13: =TRUNC(일위대가목록!F8,0) -> 3888 | H13: =TRUNC(G13*D13, 0) -> 0 | I13: =TRUNC(일위대가목록!G8,0) -> 0 | J13: =TRUNC(I13*D13, 0) -> 0 | K13: =TRUNC(E13+G13+I13, 0) -> 7212 | L13: =TRUNC(F13+H13+J13, 0) -> 0 | M13: 호표 5 | N13: 5062818DDD53DE257977CAC19BE815 | Q13: 0101 | R13: T | S13: F | T13: F | AU13: 01015062818DDD53DE257977CAC19BE815 | AV13: 7
E14: 3456 | G14: 2944 | K14: =E14+G14+I14 -> 6400 | M14: 2022 | AX14: =E13/E14 -> 0.96180556 | AY14: =G13/G14 -> 1.3206522 | BA14: =K13/K14 -> 1.126875
A15: 03-02 도배(실크, 벽면) / 콘크리트·모르타르면 | B15: 실크벽지(초배유) | C15: M2 | E15: =TRUNC(일위대가목록!E9,0) -> 3426 | F15: =TRUNC(E15*D15, 0) -> 0 | G15: =TRUNC(일위대가목록!F9,0) -> 3519 | H15: =TRUNC(G15*D15, 0) -> 0 | I15: =TRUNC(일위대가목록!G9,0) -> 0 | J15: =TRUNC(I15*D15, 0) -> 0 | K15: =TRUNC(E15+G15+I15, 0) -> 6945 | L15: =TRUNC(F15+H15+J15, 0) -> 0 | M15: 호표 6 | N15: 5062818DDD53DE227C39D8C16134D9 | Q15: 0101 | R15: T | S15: F | T15: F | AU15: 01015062818DDD53DE227C39D8C16134D9 | AV15: 8
E16: 3456 | G16: 2944 | K16: =E16+G16+I16 -> 6400 | M16: 2022 | AX16: =E15/E16 -> 0.99131944 | AY16: =G15/G16 -> 1.1953125 | BA16: =K15/K16 -> 1.0851563
A17: 04-01 도배(실크, 천정면) / 합판·석고보드면 | B17: 실크벽지(초배유) | C17: M2 | E17: =TRUNC(일위대가목록!E10,0) -> 3324 | F17: =TRUNC(E17*D17, 0) -> 0 | G17: =TRUNC(일위대가목록!F10,0) -> 7583 | H17: =TRUNC(G17*D17, 0) -> 0 | I17: =TRUNC(일위대가목록!G10,0) -> 0 | J17: =TRUNC(I17*D17, 0) -> 0 | K17: =TRUNC(E17+G17+I17, 0) -> 10907 | L17: =TRUNC(F17+H17+J17, 0) -> 0 | M17: 호표 7 | N17: 5062818DDD53DE237EAA756199BA64 | Q17: 0101 | R17: T | S17: F | T17: F | AU17: 01015062818DDD53DE237EAA756199BA64 | AV17: 9
E18: 4535 | G18: 5114 | K18: =E18+G18+I18 -> 9649 | M18: 2022 | AX18: =E17/E18 -> 0.73296582 | AY18: =G17/G18 -> 1.4827923 | BA18: =K17/K18 -> 1.1303762
A19: 04-02 도배(실크, 천정면) / 콘크리트·모르타르면 | B19: 실크벽지(초배유) | C19: M2 | E19: =TRUNC(일위대가목록!E11,0) -> 3426 | F19: =TRUNC(E19*D19, 0) -> 0 | G19: =TRUNC(일위대가목록!F11,0) -> 7625 | H19: =TRUNC(G19*D19, 0) -> 0 | I19: =TRUNC(일위대가목록!G11,0) -> 0 | J19: =TRUNC(I19*D19, 0) -> 0 | K19: =TRUNC(E19+G19+I19, 0) -> 11051 | L19: =TRUNC(F19+H19+J19, 0) -> 0 | M19: 호표 8 | N19: 5062818DDD53DE2071609EC1CEEE67 | Q19: 0101 | R19: T | S19: F | T19: F | AU19: 01015062818DDD53DE2071609EC1CEEE67 | AV19: 10
E20: 4535 | G20: 5114 | K20: =E20+G20+I20 -> 9649 | M20: 2022 | AX20: =E19/E20 -> 0.75545755 | AY20: =G19/G20 -> 1.4910051 | BA20: =K19/K20 -> 1.1453
A21: 05 도배(본드) | B21: 페인트위(본드,바인드,부직포) | C21: M2 | E21: =TRUNC(일위대가목록!E12,0) -> 3324 | F21: =TRUNC(E21*D21, 0) -> 0 | G21: =TRUNC(일위대가목록!F12,0) -> 3564 | H21: =TRUNC(G21*D21, 0) -> 0 | I21: =TRUNC(일위대가목록!G12,0) -> 0 | J21: =TRUNC(I21*D21, 0) -> 0 | K21: =TRUNC(E21+G21+I21, 0) -> 6888 | L21: =TRUNC(F21+H21+J21, 0) -> 0 | M21: 호표 9 | N21: 5062818DDD53DE257977CAC19BE816 | Q21: 0101 | R21: T | S21: F | T21: F | AU21: 01015062818DDD53DE257977CAC19BE816 | AV21: 395
E22: 3307 | G22: 2817 | K22: =E22+G22+I22 -> 6124 | M22: 2022 | AX22: =E21/E22 -> 1.0051406 | AY22: =G21/G22 -> 1.2651757 | BA22: =K21/K22 -> 1.1247551
A23: 06 장판(2T) | B23: T=2mm(경보행용) | C23: M2 | E23: =TRUNC(일위대가목록!E13,0) -> 10096 | F23: =TRUNC(E23*D23, 0) -> 0 | G23: =TRUNC(일위대가목록!F13,0) -> 1844 | H23: =TRUNC(G23*D23, 0) -> 0 | I23: =TRUNC(일위대가목록!G13,0) -> 0 | J23: =TRUNC(I23*D23, 0) -> 0 | K23: =TRUNC(E23+G23+I23, 0) -> 11940 | L23: =TRUNC(F23+H23+J23, 0) -> 0 | M23: 호표 10 | N23: 5062818DEFA19B2770806FB179BFC2 | Q23: 0101 | R23: T | S23: F | T23: F | AU23: 01015062818DEFA19B2770806FB179BFC2 | AV23: 11
E24: 8628 | G24: 1767 | K24: =E24+G24+I24 -> 10395 | M24: 2022 | AX24: =E23/E24 -> 1.1701437 | AY24: =G23/G24 -> 1.0435767 | BA24: =K23/K24 -> 1.1486291
A25: 07 장판(2.3T) | B25: T=2.3mm(중보행용) | C25: M2 | E25: =TRUNC(일위대가목록!E14,0) -> 15148 | F25: =TRUNC(E25*D25, 0) -> 0 | G25: =TRUNC(일위대가목록!F14,0) -> 2459 | H25: =TRUNC(G25*D25, 0) -> 0 | I25: =TRUNC(일위대가목록!G14,0) -> 0 | J25: =TRUNC(I25*D25, 0) -> 0 | K25: =TRUNC(E25+G25+I25, 0) -> 17607 | L25: =TRUNC(F25+H25+J25, 0) -> 0 | M25: 호표 11 | N25: 5062818DEFA19B2770806FB17A42DB | Q25: 0101 | R25: T | S25: F | T25: F | AU25: 01015062818DEFA19B2770806FB17A42DB | AV25: 12
E26: 13037 | G26: 1948 | K26: =E26+G26+I26 -> 14985 | M26: 2022 | AX26: =E25/E26 -> 1.1619238 | AY26: =G25/G26 -> 1.2623203 | BA26: =K25/K26 -> 1.174975
A27: 08 강화마루 설치 (제거+설치) | B27: (제거+붙이기)보양포함 | C27: M2 | E27: =TRUNC(일위대가목록!E15,0) -> 21105 | F27: =TRUNC(E27*D27, 0) -> 0 | G27: =TRUNC(일위대가목록!F15,0) -> 17610 | H27: =TRUNC(G27*D27, 0) -> 0 | I27: =TRUNC(일위대가목록!G15,0) -> 351 | J27: =TRUNC(I27*D27, 0) -> 0 | K27: =TRUNC(E27+G27+I27, 0) -> 39066 | L27: =TRUNC(F27+H27+J27, 0) -> 0 | M27: 호표 12 | N27: 5062E18466D98C25760D822135FB88 | Q27: 0101 | R27: T | S27: F | T27: F | AU27: 01015062E18466D98C25760D822135FB88 | AV27: 52
E28: 22829 | G28: 36697 | I28: 916 | K28: =E28+G28+I28 -> 60442 | M28: 2022 | AX28: =E27/E28 -> 0.92448202 | AY28: =G27/G28 -> 0.47987574 | AZ28: =I27/I28 -> 0.38318777 | BA28: =K27/K28 -> 0.64633864
A29: 09 비닐타일붙임 (왁스 무) | B29: 2.0T, 300*300, 왁스 무 | C29: M2 | E29: =TRUNC(일위대가목록!E16,0) -> 4935 | F29: =TRUNC(E29*D29, 0) -> 0 | G29: =TRUNC(일위대가목록!F16,0) -> 10200 | H29: =TRUNC(G29*D29, 0) -> 0 | I29: =TRUNC(일위대가목록!G16,0) -> 0 | J29: =TRUNC(I29*D29, 0) -> 0 | K29: =TRUNC(E29+G29+I29, 0) -> 15135 | L29: =TRUNC(F29+H29+J29, 0) -> 0 | M29: 호표 13 | N29: 5062818DEFA19B26763497E177350F | Q29: 0101 | R29: T | S29: F | T29: F | AU29: 01015062818DEFA19B26763497E177350F | AV29: 13
E30: 4365 | G30: 9717 | I30: 0 | K30: =E30+G30+I30 -> 14082 | M30: 2022 | AX30: =E29/E30 -> 1.1305842 | AY30: =G29/G30 -> 1.0497067 | BA30: =K29/K30 -> 1.0747763
A31: 10 비닐타일붙임 (왁스 유) | B31: 2.0T, 300*300, 왁스 유 | C31: M2 | E31: =TRUNC(일위대가목록!E17,0) -> 5121 | F31: =TRUNC(E31*D31, 0) -> 0 | G31: =TRUNC(일위대가목록!F17,0) -> 12157 | H31: =TRUNC(G31*D31, 0) -> 0 | I31: =TRUNC(일위대가목록!G17,0) -> 0 | J31: =TRUNC(I31*D31, 0) -> 0 | K31: =TRUNC(E31+G31+I31, 0) -> 17278 | L31: =TRUNC(F31+H31+J31, 0) -> 0 | M31: 호표 14 | N31: 5062818DEFA19B26763497E177350C | Q31: 0101 | R31: T | S31: F | T31: F | AU31: 01015062818DEFA19B26763497E177350C | AV31: 14
E32: 4455 | G32: 12046 | I32: 0 | K32: =E32+G32+I32 -> 16501 | M32: 2022 | AX32: =E31/E32 -> 1.1494949 | AY32: =G31/G32 -> 1.0092147 | BA32: =K31/K32 -> 1.0470881
A33: 0102 11~20 | Q33: 0102
A34: 11-01 단열도배(5mm) / 합판·석고보드면, 벽 | B34: 두께 5㎜ | C34: M2 | E34: =TRUNC(일위대가목록!E18,0) -> 3432 | F34: =TRUNC(E34*D34, 0) -> 0 | G34: =TRUNC(일위대가목록!F18,0) -> 5184 | H34: =TRUNC(G34*D34, 0) -> 0 | I34: =TRUNC(일위대가목록!G18,0) -> 0 | J34: =TRUNC(I34*D34, 0) -> 0 | K34: =TRUNC(E34+G34+I34, 0) -> 8616 | L34: =TRUNC(F34+H34+J34, 0) -> 0 | M34: 호표 15 | N34: 5062818DDD53DE267BE05CF107C6E8 | Q34: 0102 | R34: T | S34: F | T34: F | AU34: 01025062818DDD53DE267BE05CF107C6E8 | AV34: 53
E35: 2995 | G35: 4445 | I35: 0 | K35: =E35+G35+I35 -> 7440 | M35: 2022 | AX35: =E34/E35 -> 1.1459098 | AY35: =G34/G35 -> 1.1662542 | BA35: =K34/K35 -> 1.1580645
A36: 11-02 단열도배(5mm) / 콘크리트·모르타르면, 벽 | B36: 두께 5㎜ | C36: M2 | E36: =TRUNC(일위대가목록!E19,0) -> 3646 | F36: =TRUNC(E36*D36, 0) -> 0 | G36: =TRUNC(일위대가목록!F19,0) -> 4692 | H36: =TRUNC(G36*D36, 0) -> 0 | I36: =TRUNC(일위대가목록!G19,0) -> 0 | J36: =TRUNC(I36*D36, 0) -> 0 | K36: =TRUNC(E36+G36+I36, 0) -> 8338 | L36: =TRUNC(F36+H36+J36, 0) -> 0 | M36: 호표 16 | N36: 5062818DDD53DE267BE05CF107C583 | Q36: 0102 | R36: T | S36: F | T36: F | AU36: 01025062818DDD53DE267BE05CF107C583 | AV36: 55
E37: 2995 | G37: 4445 | I37: 0 | K37: =E37+G37+I37 -> 7440 | M37: 2022 | AX37: =E36/E37 -> 1.2173623 | AY37: =G36/G37 -> 1.0555681 | BA37: =K36/K37 -> 1.1206989
A38: 12-01 단열도배(10mm) / 합판·석고보드면, 벽 | B38: 두께 10㎜ | C38: M2 | E38: =TRUNC(일위대가목록!E20,0) -> 6083 | F38: =TRUNC(E38*D38, 0) -> 0 | G38: =TRUNC(일위대가목록!F20,0) -> 5184 | H38: =TRUNC(G38*D38, 0) -> 0 | I38: =TRUNC(일위대가목록!G20,0) -> 0 | J38: =TRUNC(I38*D38, 0) -> 0 | K38: =TRUNC(E38+G38+I38, 0) -> 11267 | L38: =TRUNC(F38+H38+J38, 0) -> 0 | M38: 호표 17 | N38: 5062818DDD53DE267BE05CF107C6EB | Q38: 0102 | R38: T | S38: F | T38: F | AU38: 01025062818DDD53DE267BE05CF107C6EB | AV38: 54
E39: 5530 | G39: 4445 | I39: 0 | K39: =E39+G39+I39 -> 9975 | M39: 2022 | AX39: =E38/E39 -> 1.1 | AY39: =G38/G39 -> 1.1662542 | BA39: =K38/K39 -> 1.1295238
A40: 12-02 단열도배(10mm) / 콘크리트·모르타르면, 벽 | B40: 두께 10㎜ | C40: M2 | E40: =TRUNC(일위대가목록!E21,0) -> 6636 | F40: =TRUNC(E40*D40, 0) -> 0 | G40: =TRUNC(일위대가목록!F21,0) -> 4692 | H40: =TRUNC(G40*D40, 0) -> 0 | I40: =TRUNC(일위대가목록!G21,0) -> 0 | J40: =TRUNC(I40*D40, 0) -> 0 | K40: =TRUNC(E40+G40+I40, 0) -> 11328 | L40: =TRUNC(F40+H40+J40, 0) -> 0 | M40: 호표 18 | N40: 5062818DDD53DE267BE05CF107C580 | Q40: 0102 | R40: T | S40: F | T40: F | AU40: 01025062818DDD53DE267BE05CF107C580 | AV40: 56
...

Sheet 일위대가목록
A1: 일 위 대 가 목 록
A2: [ 한국보훈복지의료공단 ] | P2: 자재비 | S2: 노무비 | V2: 경비 | Y2: 합계
A3: 코 드 | B3: 품 명 | C3: 규 격 | D3: 단위 | E3: 재 료 비 | F3: 노 무 비 | G3: 경 비 | H3: 합 계 | I3: 번 호 | J3: 비 고 | K3: 노임계수 | L3: 할증 | M3: 품셈개요 | N3: 장비일위 | P3: 1안 | Q3: 2안 | R3: 비교 | S3: 1안 | T3: 2안 | U3: 비교 | V3: 1안 | W3: 2안 | X3: 비교 | Y3: 1안 | Z3: 2안 | AA3: 비교
A4: 5062818DDD53DE257977CAC19BEFE2 | B4: 01-01 도배(합지,벽면) / 합판·석고보드면 | C4: 초배지 시공(합지, 폭90Cm이상, 180g/m2 이상) | D4: M2 | E4: =일위대가!F7 -> 2128 | F4: =일위대가!H7 -> 4860 | G4: =일위대가!J7 -> 0 | H4: =E4+F4+G4 -> 6988 | I4: 호표 1 | P4: 2128 | Q4: =E4 -> 2128 | R4: =Q4-P4 -> 0 | S4: 6481 | T4: =F4 -> 4860 | U4: =T4-S4 -> -1621 | V4: 0 | W4: =G4 -> 0 | X4: =W4-V4 -> 0 | Y4: 8609 | Z4: =H4 -> 6988 | AA4: =Z4-Y4 -> -1621
A5: 5062818DDD53DE227C39D8C16133F0 | B5: 01-02 도배(합지,벽면) / 콘크리트·모르타르면 | C5: 초배지 시공(합지, 폭90Cm이상, 180g/m2 이상) | D5: M2 | E5: =일위대가!F12 -> 2229 | F5: =일위대가!H12 -> 4399 | G5: =일위대가!J12 -> 0 | H5: =E5+F5+G5 -> 6628 | I5: 호표 2 | P5: 2229 | Q5: =E5 -> 2229 | R5: =Q5-P5 -> 0 | S5: 5866 | T5: =F5 -> 4399 | U5: =T5-S5 -> -1467 | V5: 0 | W5: =G5 -> 0 | X5: =W5-V5 -> 0 | Y5: 8095 | Z5: =H5 -> 6628 | AA5: =Z5-Y5 -> -1467
A6: 5062818DDD53DE237EAA756199BD98 | B6: 02-01 도배(합지, 천정면) / 합판·석고보드면 | C6: 초배지 시공(합지, 폭90Cm이상, 180g/m2 이상) | D6: M2 | E6: =일위대가!F17 -> 2128 | F6: =일위대가!H17 -> 6319 | G6: =일위대가!J17 -> 0 | H6: =E6+F6+G6 -> 8447 | I6: 호표 3 | P6: 2128 | Q6: =E6 -> 2128 | R6: =Q6-P6 -> 0 | S6: 8426 | T6: =F6 -> 6319 | U6: =T6-S6 -> -2107 | V6: 0 | W6: =G6 -> 0 | X6: =W6-V6 -> 0 | Y6: 10554 | Z6: =H6 -> 8447 | AA6: =Z6-Y6 -> -2107
A7: 5062818DDD53DE2071609EC1CEE9E5 | B7: 02-02 도배(합지, 천정면) / 콘크리트·모르타르면 | C7: 초배지 시공(합지, 폭90Cm이상, 180g/m2 이상) | D7: M2 | E7: =일위대가!F22 -> 2229 | F7: =일위대가!H22 -> 5718 | G7: =일위대가!J22 -> 0 | H7: =E7+F7+G7 -> 7947 | I7: 호표 4 | P7: 2229 | Q7: =E7 -> 2229 | R7: =Q7-P7 -> 0 | S7: 7625 | T7: =F7 -> 5718 | U7: =T7-S7 -> -1907 | V7: 0 | W7: =G7 -> 0 | X7: =W7-V7 -> 0 | Y7: 9854 | Z7: =H7 -> 7947 | AA7: =Z7-Y7 -> -1907
A8: 5062818DDD53DE257977CAC19BE815 | B8: 03-01 도배(실크, 벽면) / 합판·석고보드면 | C8: 실크벽지(초배유) | D8: M2 | E8: =일위대가!F27 -> 3324 | F8: =일위대가!H27 -> 3888 | G8: =일위대가!J27 -> 0 | H8: =E8+F8+G8 -> 7212 | I8: 호표 5 | P8: 3324 | Q8: =E8 -> 3324 | R8: =Q8-P8 -> 0 | S8: 6481 | T8: =F8 -> 3888 | U8: =T8-S8 -> -2593 | V8: 0 | W8: =G8 -> 0 | X8: =W8-V8 -> 0 | Y8: 9805 | Z8: =H8 -> 7212 | AA8: =Z8-Y8 -> -2593
A9: 5062818DDD53DE227C39D8C16134D9 | B9: 03-02 도배(실크, 벽면) / 콘크리트·모르타르면 | C9: 실크벽지(초배유) | D9: M2 | E9: =일위대가!F32 -> 3426 | F9: =일위대가!H32 -> 3519 | G9: =일위대가!J32 -> 0 | H9: =E9+F9+G9 -> 6945 | I9: 호표 6 | P9: 3425 | Q9: =E9 -> 3426 | R9: =Q9-P9 -> 1 | S9: 5866 | T9: =F9 -> 3519 | U9: =T9-S9 -> -2347 | V9: 0 | W9: =G9 -> 0 | X9: =W9-V9 -> 0 | Y9: 9291 | Z9: =H9 -> 6945 | AA9: =Z9-Y9 -> -2346
A10: 5062818DDD53DE237EAA756199BA64 | B10: 04-01 도배(실크, 천정면) / 합판·석고보드면 | C10: 실크벽지(초배유) | D10: M2 | E10: =일위대가!F37 -> 3324 | F10: =일위대가!H37 -> 7583 | G10: =일위대가!J37 -> 0 | H10: =E10+F10+G10 -> 10907 | I10: 호표 7 | P10: 3324 | Q10: =E10 -> 3324 | R10: =Q10-P10 -> 0 | S10: 8426 | T10: =F10 -> 7583 | U10: =T10-S10 -> -843 | V10: 0 | W10: =G10 -> 0 | X10: =W10-V10 -> 0 | Y10: 11750 | Z10: =H10 -> 10907 | AA10: =Z10-Y10 -> -843
A11: 5062818DDD53DE2071609EC1CEEE67 | B11: 04-02 도배(실크, 천정면) / 콘크리트·모르타르면 | C11: 실크벽지(초배유) | D11: M2 | E11: =일위대가!F42 -> 3426 | F11: =일위대가!H42 -> 7625 | G11: =일위대가!J42 -> 0 | H11: =E11+F11+G11 -> 11051 | I11: 호표 8 | P11: 3425 | Q11: =E11 -> 3426 | R11: =Q11-P11 -> 1 | S11: 7625 | T11: =F11 -> 7625 | U11: =T11-S11 -> 0 | V11: 0 | W11: =G11 -> 0 | X11: =W11-V11 -> 0 | Y11: 11050 | Z11: =H11 -> 11051 | AA11: =Z11-Y11 -> 1
A12: 5062818DDD53DE257977CAC19BE816 | B12: 05 도배(본드) | C12: 페인트위(본드,바인드,부직포) | D12: M2 | E12: =일위대가!F47 -> 3324 | F12: =일위대가!H47 -> 3564 | G12: =일위대가!J47 -> 0 | H12: =E12+F12+G12 -> 6888 | I12: 호표 9 | P12: 3324 | Q12: =E12 -> 3324 | R12: =Q12-P12 -> 0 | S12: 6481 | T12: =F12 -> 3564 | U12: =T12-S12 -> -2917 | V12: 0 | W12: =G12 -> 0 | X12: =W12-V12 -> 0 | Y12: 9805 | Z12: =H12 -> 6888 | AA12: =Z12-Y12 -> -2917
A13: 5062818DEFA19B2770806FB179BFC2 | B13: 06 장판(2T) | C13: T=2mm(경보행용) | D13: M2 | E13: =일위대가!F52 -> 10096 | F13: =일위대가!H52 -> 1844 | G13: =일위대가!J52 -> 0 | H13: =E13+F13+G13 -> 11940 | I13: 호표 10 | O13: 사양 변경 | P13: 13930 | Q13: =E13 -> 10096 | R13: =Q13-P13 -> -3834 | S13: 6148 | T13: =F13 -> 1844 | U13: =T13-S13 -> -4304 | V13: 0 | W13: =G13 -> 0 | X13: =W13-V13 -> 0 | Y13: 20078 | Z13: =H13 -> 11940 | AA13: =Z13-Y13 -> -8138
A14: 5062818DEFA19B2770806FB17A42DB | B14: 07 장판(2.3T) | C14: T=2.3mm(중보행용) | D14: M2 | E14: =일위대가!F57 -> 15148 | F14: =일위대가!H57 -> 2459 | G14: =일위대가!J57 -> 0 | H14: =E14+F14+G14 -> 17607 | I14: 호표 11 | P14: 23170 | Q14: =E14 -> 15148 | R14: =Q14-P14 -> -8022 | S14: 6148 | T14: =F14 -> 2459 | U14: =T14-S14 -> -3689 | V14: 0 | W14: =G14 -> 0 | X14: =W14-V14 -> 0 | Y14: 29318 | Z14: =H14 -> 17607 | AA14: =Z14-Y14 -> -11711
A15: 5062E18466D98C25760D822135FB88 | B15: 08 강화마루 설치 (제거+설치) | C15: (제거+붙이기)보양포함 | D15: M2 | E15: =일위대가!F63 -> 21105 | F15: =일위대가!H63 -> 17610 | G15: =일위대가!J63 -> 351 | H15: =E15+F15+G15 -> 39066 | I15: 호표 12 | P15: 21105 | Q15: =E15 -> 21105 | R15: =Q15-P15 -> 0 | S15: 17610 | T15: =F15 -> 17610 | U15: =T15-S15 -> 0 | V15: 351 | W15: =G15 -> 351 | X15: =W15-V15 -> 0 | Y15: 39066 | Z15: =H15 -> 39066 | AA15: =Z15-Y15 -> 0
A16: 5062818DEFA19B26763497E177350F | B16: 09 비닐타일붙임 (왁스 무) | C16: 2.0T, 300*300, 왁스 무 | D16: M2 | E16: =일위대가!F68 -> 4935 | F16: =일위대가!H68 -> 10200 | G16: =일위대가!J68 -> 0 | H16: =E16+F16+G16 -> 15135 | I16: 호표 13 | P16: 4935 | Q16: =E16 -> 4935 | R16: =Q16-P16 -> 0 | S16: 5100 | T16: =F16 -> 10200 | U16: =T16-S16 -> 5100 | V16: 0 | W16: =G16 -> 0 | X16: =W16-V16 -> 0 | Y16: 10035 | Z16: =H16 -> 15135 | AA16: =Z16-Y16 -> 5100
A17: 5062818DEFA19B26763497E177350C | B17: 10 비닐타일붙임 (왁스 유) | C17: 2.0T, 300*300, 왁스 유 | D17: M2 | E17: =일위대가!F75 -> 5121 | F17: =일위대가!H75 -> 12157 | G17: =일위대가!J75 -> 0 | H17: =E17+F17+G17 -> 17278 | I17: 호표 14 | P17: 5121 | Q17: =E17 -> 5121 | R17: =Q17-P17 -> 0 | S17: 7057 | T17: =F17 -> 12157 | U17: =T17-S17 -> 5100 | V17: 0 | W17: =G17 -> 0 | X17: =W17-V17 -> 0 | Y17: 12178 | Z17: =H17 -> 17278 | AA17: =Z17-Y17 -> 5100
A18: 5062818DDD53DE267BE05CF107C6E8 | B18: 11-01 단열도배(5mm) / 합판·석고보드면, 벽 | C18: 두께 5㎜ | D18: M2 | E18: =일위대가!F80 -> 3432 | F18: =일위대가!H80 -> 5184 | G18: =일위대가!J80 -> 0 | H18: =E18+F18+G18 -> 8616 | I18: 호표 15 | P18: 5148 | Q18: =E18 -> 3432 | R18: =Q18-P18 -> -1716 | S18: 6481 | T18: =F18 -> 5184 | U18: =T18-S18 -> -1297 | V18: 0 | W18: =G18 -> 0 | X18: =W18-V18 -> 0 | Y18: 11629 | Z18: =H18 -> 8616 | AA18: =Z18-Y18 -> -3013
A19: 5062818DDD53DE267BE05CF107C583 | B19: 11-02 단열도배(5mm) / 콘크리트·모르타르면, 벽 | C19: 두께 5㎜ | D19: M2 | E19: =일위대가!F85 -> 3646 | F19: =일위대가!H85 -> 4692 | G19: =일위대가!J85 -> 0 | H19: =E19+F19+G19 -> 8338 | I19: 호표 16 | P19: 5148 | Q19: =E19 -> 3646 | R19: =Q19-P19 -> -1502 | S19: 5866 | T19: =F19 -> 4692 | U19: =T19-S19 -> -1174 | V19: 0 | W19: =G19 -> 0 | X19: =W19-V19 -> 0 | Y19: 11014 | Z19: =H19 -> 8338 | AA19: =Z19-Y19 -> -2676
A20: 5062818DDD53DE267BE05CF107C6EB | B20: 12-01 단열도배(10mm) / 합판·석고보드면, 벽 | C20: 두께 10㎜ | D20: M2 | E20: =일위대가!F90 -> 6083 | F20: =일위대가!H90 -> 5184 | G20: =일위대가!J90 -> 0 | H20: =E20+F20+G20 -> 11267 | I20: 호표 17 | P20: 6636 | Q20: =E20 -> 6083 | R20: =Q20-P20 -> -553 | S20: 6481 | T20: =F20 -> 5184 | U20: =T20-S20 -> -1297 | V20: 0 | W20: =G20 -> 0 | X20: =W20-V20 -> 0 | Y20: 13117 | Z20: =H20 -> 11267 | AA20: =Z20-Y20 -> -1850
A21: 5062818DDD53DE267BE05CF107C580 | B21: 12-02 단열도배(10mm) / 콘크리트·모르타르면, 벽 | C21: 두께 10㎜ | D21: M2 | E21: =일위대가!F95 -> 6636 | F21: =일위대가!H95 -> 4692 | G21: =일위대가!J95 -> 0 | H21: =E21+F21+G21 -> 11328 | I21: 호표 18 | P21: 6636 | Q21: =E21 -> 6636 | R21: =Q21-P21 -> 0 | S21: 5866 | T21: =F21 -> 4692 | U21: =T21-S21 -> -1174 | V21: 0 | W21: =G21 -> 0 | X21: =W21-V21 -> 0 | Y21: 12502 | Z21: =H21 -> 11328 | AA21: =Z21-Y21 -> -1174
A22: 5062018289A0552370481AB1522435 | B22: 13-01 모르타르바름(6mm) / 바닥 | C22: 6mm, 1회 | D22: M2 | E22: =일위대가!F101 -> 604 | F22: =일위대가!H101 -> 1498 | G22: =일위대가!J101 -> 13 | H22: =E22+F22+G22 -> 2115 | I22: 호표 19 | P22: 604 | Q22: =E22 -> 604 | R22: =Q22-P22 -> 0 | S22: 1498 | T22: =F22 -> 1498 | U22: =T22-S22 -> 0 | V22: 13 | W22: =G22 -> 13 | X22: =W22-V22 -> 0 | Y22: 2115 | Z22: =H22 -> 2115 | AA22: =Z22-Y22 -> 0
A23: 5062018289A0712C712BFF016C7AEF | B23: 13-02 모르타르바름(6mm) / 내벽, 3.6m 이하 | C23: 6mm, 1회 | D23: M2 | E23: =일위대가!F106 -> 602 | F23: =일위대가!H106 -> 16361 | G23: =일위대가!J106 -> 314 | H23: =E23+F23+G23 -> 17277 | I23: 호표 20 | P23: 602 | Q23: =E23 -> 602 | R23: =Q23-P23 -> 0 | S23: 16361 | T23: =F23 -> 16361 | U23: =T23-S23 -> 0 | V23: 314 | W23: =G23 -> 314 | X23: =W23-V23 -> 0 | Y23: 17277 | Z23: =H23 -> 17277 | AA23: =Z23-Y23 -> 0
A24: 5062018289A0712C710F17D191BE25 | B24: 13-03 모르타르바름(6mm) / 내벽, 3.6m 초과 | C24: 6mm, 1회 | D24: M2 | E24: =일위대가!F111 -> 602 | F24: =일위대가!H111 -> 16266 | G24: =일위대가!J111 -> 312 | H24: =E24+F24+G24 -> 17180 | I24: 호표 21 | P24: 602 | Q24: =E24 -> 602 | R24: =Q24-P24 -> 0 | S24: 22971 | T24: =F24 -> 16266 | U24: =T24-S24 -> -6705 | V24: 447 | W24: =G24 -> 312 | X24: =W24-V24 -> -135 | Y24: 24020 | Z24: =H24 -> 17180 | AA24: =Z24-Y24 -> -6840
A25: 5062018289A0552370481AB1511B64 | B25: 14-01 모르타르바름(30mm) / 바닥 | C25: 30mm, 1회 | D25: M2 | E25: =일위대가!F117 -> 3020 | F25: =일위대가!H117 -> 4474 | G25: =일위대가!J117 -> 67 | H25: =E25+F25+G25 -> 7561 | I25: 호표 22 | P25: 3020 | Q25: =E25 -> 3020 | R25: =Q25-P25 -> 0 | S25: 4474 | T25: =F25 -> 4474 | U25: =T25-S25 -> 0 | V25: 67 | W25: =G25 -> 67 | X25: =W25-V25 -> 0 | Y25: 7561 | Z25: =H25 -> 7561 | AA25: =Z25-Y25 -> 0
A26: 5062018289A0712C712BFF313E2BF4 | B26: 14-02 모르타르바름(30mm) / 내벽, 3.6m 이하 | C26: 30mm, 1회 | D26: M2 | E26: =일위대가!F122 -> 3013 | F26: =일위대가!H122 -> 17982 | G26: =일위대가!J122 -> 297 | H26: =E26+F26+G26 -> 21292 | I26: 호표 23 | P26: 3013 | Q26: =E26 -> 3013 | R26: =Q26-P26 -> 0 | S26: 36160 | T26: =F26 -> 17982 | U26: =T26-S26 -> -18178 | V26: 661 | W26: =G26 -> 297 | X26: =W26-V26 -> -364 | Y26: 39834 | Z26: =H26 -> 21292 | AA26: =Z26-Y26 -> -18542
A27: 5062018289A0712C710F17E1BED0B3 | B27: 14-03 모르타르바름(30mm) / 내벽, 3.6m 초과 | C27: 30mm, 1회 | D27: M2 | E27: =일위대가!F127 -> 3013 | F27: =일위대가!H127 -> 17872 | G27: =일위대가!J127 -> 295 | H27: =E27+F27+G27 -> 21180 | I27: 호표 24 | P27: 3013 | Q27: =E27 -> 3013 | R27: =Q27-P27 -> 0 | S27: 45289 | T27: =F27 -> 17872 | U27: =T27-S27 -> -27417 | V27: 843 | W27: =G27 -> 295 | X27: =W27-V27 -> -548 | Y27: 49145 | Z27: =H27 -> 21180 | AA27: =Z27-Y27 -> -27965
A28: 5062F18AC396202C73DEF0D186A41B | B28: 15 시트방수(벽) | C28: 접착식 | D28: M2 | E28: =일위대가!F134 -> 12600 | F28: =일위대가!H134 -> 13100 | G28: =일위대가!J134 -> 262 | H28: =E28+F28+G28 -> 25962 | I28: 호표 25 | P28: 12600 | Q28: =E28 -> 12600 | R28: =Q28-P28 -> 0 | S28: 13100 | T28: =F28 -> 13100 | U28: =T28-S28 -> 0 | V28: 262 | W28: =G28 -> 262 | X28: =W28-V28 -> 0 | Y28: 25962 | Z28: =H28 -> 25962 | AA28: =Z28-Y28 -> 0
A29: 5062F18AC3A09F2676D07EE19AD18A | B29: 16 시트방수(바닥) | C29: 접착식 | D29: M2 | E29: =일위대가!F141 -> 12600 | F29: =일위대가!H141 -> 9921 | G29: =일위대가!J141 -> 198 | H29: =E29+F29+G29 -> 22719 | I29: 호표 26 | P29: 12600 | Q29: =E29 -> 12600 | R29: =Q29-P29 -> 0 | S29: 9921 | T29: =F29 -> 9921 | U29: =T29-S29 -> 0 | V29: 198 | W29: =G29 -> 198 | X29: =W29-V29 -> 0 | Y29: 22719 | Z29: =H29 -> 22719 | AA29: =Z29-Y29 -> 0
A30: 5062818D6A7746287AE555A1CCB441 | B30: 17 몰딩 (반자돌림) | C30: PVC, 20x20(mm), 몰딩 고정대 포함 | D30: M | E30: =일위대가!F147 -> 688 | F30: =일위대가!H147 -> 2059 | G30: =일위대가!J147 -> 81 | H30: =E30+F30+G30 -> 2828 | I30: 호표 27 | O30: 노무비↓:시중노임단가 상승분 적용/표준품셈 무시 | P30: 1683 | Q30: =E30 -> 688 | R30: =Q30-P30 -> -995 | S30: 2288 | T30: =F30 -> 2059 | U30: =T30-S30 -> -229 | V30: 91 | W30: =G30 -> 81 | X30: =W30-V30 -> -10 | Y30: 4062 | Z30: =H30 -> 2828 | AA30: =Z30-Y30 -> -1234
A31: 5062818D6A7746287AE555A1CCB442 | B31: 18 몰딩 (반자돌림) | C31: 40x12(mm)(합성수지위비닐시트) | D31: M | E31: =일위대가!F153 -> 1225 | F31: =일위대가!H153 -> 1372 | G31: =일위대가!J153 -> 54 | H31: =E31+F31+G31 -> 2651 | I31: 호표 28 | O31: 노무비↓:시중노임단가 상승분 적용/표준품셈 무시 | P31: 1925 | Q31: =E31 -> 1225 | R31: =Q31-P31 -> -700 | S31: 2288 | T31: =F31 -> 1372 | U31: =T31-S31 -> -916 | V31: 91 | W31: =G31 -> 54 | X31: =W31-V31 -> -37 | Y31: 4304 | Z31: =H31 -> 2651 | AA31: =Z31-Y31 -> -1653
A32: 5062818DEFEF172372C986D124B408 | B32: 19-01 걸레받이 설치(철거포함) / 합성수지류 | C32: 75mm,철거포함 | D32: M | E32: =일위대가!F160 -> 1240 | F32: =일위대가!H160 -> 4590 | G32: =일위대가!J160 -> 91 | H32: =E32+F32+G32 -> 5921 | I32: 호표 29 | P32: 1240 | Q32: =E32 -> 1240 | R32: =Q32-P32 -> 0 | S32: 4590 | T32: =F32 -> 4590 | U32: =T32-S32 -> 0 | V32: 91 | W32: =G32 -> 91 | X32: =W32-V32 -> 0 | Y32: 5921 | Z32: =H32 -> 5921 | AA32: =Z32-Y32 -> 0
A33: 5062818DEFEF062875F71321F43AC5 | B33: 19-02 걸레받이 설치(철거포함) / 중밀도섬유판 | C33: 75mm,철거포함 | D33: M | E33: =일위대가!F167 -> 564 | F33: =일위대가!H167 -> 5512 | G33: =일위대가!J167 -> 109 | H33: =E33+F33+G33 -> 6185 | I33: 호표 30 | P33: 564 | Q33: =E33 -> 564 | R33: =Q33-P33 -> 0 | S33: 5512 | T33: =F33 -> 5512 | U33: =T33-S33 -> 0 | V33: 109 | W33: =G33 -> 109 | X33: =W33-V33 -> 0 | Y33: 6185 | Z33: =H33 -> 6185 | AA33: =Z33-Y33 -> 0
A34: 5062818DCC949B24793BB1B1FC8964 | B34: 20 벽체합판설치(4.8T) | C34: 띠장, 절단 및 설치작업 포함 | D34: M2 | E34: =일위대가!F173 -> 5467 | F34: =일위대가!H173 -> 16988 | G34: =일위대가!J173 -> 339 | H34: =E34+F34+G34 -> 22794 | I34: 호표 31 | P34: 5467 | Q34: =E34 -> 5467 | R34: =Q34-P34 -> 0 | S34: 25101 | T34: =F34 -> 16988 | U34: =T34-S34 -> -8113 | V34: 501 | W34: =G34 -> 339 | X34: =W34-V34 -> -162 | Y34: 31069 | Z34: =H34 -> 22794 | AA34: =Z34-Y34 -> -8275
A35: 5062818DCC949B24793BB1B1FC8967 | B35: 21 벽체합판설치(12T) | C35: 띠장, 절단 및 설치작업 포함 | D35: M2 | E35: =일위대가!F179 -> 11194 | F35: =일위대가!H179 -> 16988 | G35: =일위대가!J179 -> 339 | H35: =E35+F35+G35 -> 28521 | I35: 호표 32 | P35: 11194 | Q35: =E35 -> 11194 | R35: =Q35-P35 -> 0 | S35: 25101 | T35: =F35 -> 16988 | U35: =T35-S35 -> -8113 | V35: 501 | W35: =G35 -> 339 | X35: =W35-V35 -> -162 | Y35: 36796 | Z35: =H35 -> 28521 | AA35: =Z35-Y35 -> -8275
A36: 5062818DCCFD3426740203F162E83E | B36: 22 석고판 본드붙임(벽, 방화9.5mm) | C36: 벽, 바탕, 방화 9.5T | D36: M2 | E36: =일위대가!F184 -> 3546 | F36: =일위대가!H184 -> 7571 | G36: =일위대가!J184 -> 75 | H36: =E36+F36+G36 -> 11192 | I36: 호표 33 | P36: 3699 | Q36: =E36 -> 3546 | R36: =Q36-P36 -> -153 | S36: 8908 | T36: =F36 -> 7571 | U36: =T36-S36 -> -1337 | V36: 89 | W36: =G36 -> 75 | X36: =W36-V36 -> -14 | Y36: 12696 | Z36: =H36 -> 11192 | AA36: =Z36-Y36 -> -1504
A37: 5062818DCCFD3426740203F162E83D | B37: 23 석고판 본드붙임(천장, 방화9.5mm) | C37: 천장, 바탕, 방화 9.5T | D37: M2 | E37: =일위대가!F189 -> 3546 | F37: =일위대가!H189 -> 9843 | G37: =일위대가!J189 -> 75 | H37: =E37+F37+G37 -> 13464 | I37: 호표 34 | P37: 3699 | Q37: =E37 -> 3546 | R37: =Q37-P37 -> -153 | S37: 11580 | T37: =F37 -> 9843 | U37: =T37-S37 -> -1737 | V37: 89 | W37: =G37 -> 75 | X37: =W37-V37 -> -14 | Y37: 15368 | Z37: =H37 -> 13464 | AA37: =Z37-Y37 -> -1904
A38: 5062818DCCFD0F22701D94D11B9BFF | B38: 24 석고판 못붙임(벽, 방화9.5mm) | C38: 벽, 바탕, 방화 9.5T | D38: M2 | E38: =일위대가!F194 -> 2605 | F38: =일위대가!H194 -> 10066 | G38: =일위대가!J194 -> 100 | H38: =E38+F38+G38 -> 12771 | I38: 호표 35 | P38: 2605 | Q38: =E38 -> 2605 | R38: =Q38-P38 -> 0 | S38: 10066 | T38: =F38 -> 10066 | U38: =T38-S38 -> 0 | V38: 100 | W38: =G38 -> 100 | X38: =W38-V38 -> 0 | Y38: 12771 | Z38: =H38 -> 12771 | AA38: =Z38-Y38 -> 0
A39: 5062818DCCFD0F2177A06081D6B777 | B39: 25 석고판 못붙임(천장, 방화9.5mm) | C39: 천장, 바탕, 방화 9.5T | D39: M2 | E39: =일위대가!F199 -> 2605 | F39: =일위대가!H199 -> 13140 | G39: =일위대가!J199 -> 131 | H39: =E39+F39+G39 -> 15876 | I39: 호표 36 | P39: 2605 | Q39: =E39 -> 2605 | R39: =Q39-P39 -> 0 | S39: 13140 | T39: =F39 -> 13140 | U39: =T39-S39 -> 0 | V39: 131 | W39: =G39 -> 131 | X39: =W39-V39 -> 0 | Y39: 15876 | Z39: =H39 -> 15876 | AA39: =Z39-Y39 -> 0
A40: 5062818DCCFD3426740203F162E83C | B40: 26 석고판 본드붙임(벽, 방수9.5mm) | C40: 벽, 바탕, 방수 9.5T | D40: M2 | E40: =일위대가!F204 -> 4256 | F40: =일위대가!H204 -> 7571 | G40: =일위대가!J204 -> 75 | H40: =E40+F40+G40 -> 11902 | I40: 호표 37 | P40: 4409 | Q40: =E40 -> 4256 | R40: =Q40-P40 -> -153 | S40: 8908 | T40: =F40 -> 7571 | U40: =T40-S40 -> -1337 | V40: 89 | W40: =G40 -> 75 | X40: =W40-V40 -> -14 | Y40: 13406 | Z40: =H40 -> 11902 | AA40: =Z40-Y40 -> -1504
...

Sheet 일위대가
A1: [ 한국보훈복지의료공단 ]
A2: 품 명 | B2: 규 격 | C2: 단위 | D2: 수량 | E2: 재 료 비 | G2: 노 무 비 | I2: 경 비 | K2: 합 계 | M2: 비 고 | N2: 일위대가 | O2: 품목코드 | P2: 일위 | Q2: 단산 | R2: 자재 | S2: 손료적용 | T2: 손료저장 | U2: 적용율 | V2: JUK1 | W2: JUK2 | X2: JUK3 | Y2: JUK4 | Z2: JUK5 | AA2: JUK6 | AB2: JUK7 | AC2: JUK8 | AD2: JUK9 | AE2: JUK10 | AF2: JUK11 | AG2: JUK12 | AH2: JUK13 | AI2: JUK14 | AJ2: JUK15 | AK2: JUK16 | AL2: JUK17 | AM2: JUK18 | AN2: JUK19 | AO2: JUK20 | AP2: 할증적용 | AQ2: 할증저장 | AR2: 할증율 | AS2: HAL1 | AT2: HAL2 | AU2: HAL3 | AV2: 자재구분 | AW2: 일위대가+자재 | AX2: 장비일위 | AY2: 설정 | BA2: 비 고 (2)
E3: 단 가 | F3: 금 액 | G3: 단 가 | H3: 금 액 | I3: 단 가 | J3: 금 액 | K3: 단 가 | L3: 금 액 | BB3: 수량 변경 | BC3: 설명
A4: 01-01 도배(합지,벽면) / 합판·석고보드면 초배지 시공(합지, 폭90Cm이상, 180g/m2 이상) M2 ( 호표 1 ) | N4: 5062818DDD53DE257977CAC19BEFE2
A5: 도배바름(합판·석고보드면) | B5: 재료비, 합지벽지 | C5: M2 | D5: 1 | E5: =일위대가목록!E485 -> 2128 | F5: =TRUNC(E5*D5,1) -> 2128 | G5: =일위대가목록!F485 -> 0 | H5: =TRUNC(G5*D5,1) -> 0 | I5: =일위대가목록!G485 -> 0 | J5: =TRUNC(I5*D5,1) -> 0 | K5: =TRUNC(E5+G5+I5,1) -> 2128 | L5: =TRUNC(F5+H5+J5,1) -> 2128 | M5: 호표 468 | N5: 5062818DDD53DE257977CAC19BEFE2 | O5: 5062818DDD53DE27745D76D10312F1 | P5: T | Q5: F | R5: F | AW5: 5062818DDD53DE257977CAC19BEFE25062818DDD53DE27745D76D10312F1 | BA5: 호표 468
A6: 도배바름 | B6: 합판·석고보드면, 벽 | C6: M2 | D6: 0.75 | E6: =일위대가목록!E486 -> 0 | F6: =TRUNC(E6*D6,1) -> 0 | G6: =일위대가목록!F486 -> 6481 | H6: =TRUNC(G6*D6,1) -> 4860.7 | I6: =일위대가목록!G486 -> 0 | J6: =TRUNC(I6*D6,1) -> 0 | K6: =TRUNC(E6+G6+I6,1) -> 6481 | L6: =TRUNC(F6+H6+J6,1) -> 4860.7 | M6: 호표 469 | N6: 5062818DDD53DE257977CAC19BEFE2 | O6: 5062818DDD53DE267BE05CF107C699 | P6: T | Q6: F | R6: F | AW6: 5062818DDD53DE257977CAC19BEFE25062818DDD53DE267BE05CF107C699 | BA6: 호표 469 | BB6: 1
A7: [ 합 계 ] | F7: =TRUNC(SUMIF(N5:N6, N4, F5:F6),0) -> 2128 | H7: =TRUNC(SUMIF(N5:N6, N4, H5:H6),0) -> 4860 | J7: =TRUNC(SUMIF(N5:N6, N4, J5:J6),0) -> 0 | L7: =F7+H7+J7 -> 6988 | N7: TOTAL | O7: TOTAL
A9: 01-02 도배(합지,벽면) / 콘크리트·모르타르면 초배지 시공(합지, 폭90Cm이상, 180g/m2 이상) M2 ( 호표 2 ) | N9: 5062818DDD53DE227C39D8C16133F0
A10: 도배바름(콘크리트·모르타르면) | B10: 재료비, 합지벽지 | C10: M2 | D10: 1 | E10: =일위대가목록!E487 -> 2229 | F10: =TRUNC(E10*D10,1) -> 2229 | G10: =일위대가목록!F487 -> 0 | H10: =TRUNC(G10*D10,1) -> 0 | I10: =일위대가목록!G487 -> 0 | J10: =TRUNC(I10*D10,1) -> 0 | K10: =TRUNC(E10+G10+I10,1) -> 2229 | L10: =TRUNC(F10+H10+J10,1) -> 2229 | M10: 호표 470 | N10: 5062818DDD53DE227C39D8C16133F0 | O10: 5062818DDD53DE247F1980613A11B9 | P10: T | Q10: F | R10: F | AW10: 5062818DDD53DE227C39D8C16133F05062818DDD53DE247F1980613A11B9 | BA10: 호표 470
A11: 도배바름 | B11: 콘크리트·모르타르면, 벽 | C11: M2 | D11: 0.75 | E11: =일위대가목록!E488 -> 0 | F11: =TRUNC(E11*D11,1) -> 0 | G11: =일위대가목록!F488 -> 5866 | H11: =TRUNC(G11*D11,1) -> 4399.5 | I11: =일위대가목록!G488 -> 0 | J11: =TRUNC(I11*D11,1) -> 0 | K11: =TRUNC(E11+G11+I11,1) -> 5866 | L11: =TRUNC(F11+H11+J11,1) -> 4399.5 | M11: 호표 471 | N11: 5062818DDD53DE227C39D8C16133F0 | O11: 5062818DDD53DE267BE05CF107C5F2 | P11: T | Q11: F | R11: F | AW11: 5062818DDD53DE227C39D8C16133F05062818DDD53DE267BE05CF107C5F2 | BA11: 호표 471 | BB11: 1
A12: [ 합 계 ] | F12: =TRUNC(SUMIF(N10:N11, N9, F10:F11),0) -> 2229 | H12: =TRUNC(SUMIF(N10:N11, N9, H10:H11),0) -> 4399 | J12: =TRUNC(SUMIF(N10:N11, N9, J10:J11),0) -> 0 | L12: =F12+H12+J12 -> 6628 | N12: TOTAL | O12: TOTAL
A14: 02-01 도배(합지, 천정면) / 합판·석고보드면 초배지 시공(합지, 폭90Cm이상, 180g/m2 이상) M2 ( 호표 3 ) | N14: 5062818DDD53DE237EAA756199BD98
A15: 도배바름(합판·석고보드면) | B15: 재료비, 합지벽지 | C15: M2 | D15: 1 | E15: =일위대가목록!E485 -> 2128 | F15: =TRUNC(E15*D15,1) -> 2128 | G15: =일위대가목록!F485 -> 0 | H15: =TRUNC(G15*D15,1) -> 0 | I15: =일위대가목록!G485 -> 0 | J15: =TRUNC(I15*D15,1) -> 0 | K15: =TRUNC(E15+G15+I15,1) -> 2128 | L15: =TRUNC(F15+H15+J15,1) -> 2128 | M15: 호표 468 | N15: 5062818DDD53DE237EAA756199BD98 | O15: 5062818DDD53DE27745D76D10312F1 | P15: T | Q15: F | R15: F | AW15: 5062818DDD53DE237EAA756199BD985062818DDD53DE27745D76D10312F1 | BA15: 호표 468
A16: 도배바름 | B16: 합판·석고보드면, 천장 | C16: M2 | D16: 0.75 | E16: =일위대가목록!E489 -> 0 | F16: =TRUNC(E16*D16,1) -> 0 | G16: =일위대가목록!F489 -> 8426 | H16: =TRUNC(G16*D16,1) -> 6319.5 | I16: =일위대가목록!G489 -> 0 | J16: =TRUNC(I16*D16,1) -> 0 | K16: =TRUNC(E16+G16+I16,1) -> 8426 | L16: =TRUNC(F16+H16+J16,1) -> 6319.5 | M16: 호표 472 | N16: 5062818DDD53DE237EAA756199BD98 | O16: 5062818DDD53DE267BE05CE16165A8 | P16: T | Q16: F | R16: F | AW16: 5062818DDD53DE237EAA756199BD985062818DDD53DE267BE05CE16165A8 | BA16: 호표 472 | BB16: 1
A17: [ 합 계 ] | F17: =TRUNC(SUMIF(N15:N16, N14, F15:F16),0) -> 2128 | H17: =TRUNC(SUMIF(N15:N16, N14, H15:H16),0) -> 6319 | J17: =TRUNC(SUMIF(N15:N16, N14, J15:J16),0) -> 0 | L17: =F17+H17+J17 -> 8447 | N17: TOTAL | O17: TOTAL
A19: 02-02 도배(합지, 천정면) / 콘크리트·모르타르면 초배지 시공(합지, 폭90Cm이상, 180g/m2 이상) M2 ( 호표 4 ) | N19: 5062818DDD53DE2071609EC1CEE9E5
A20: 도배바름(콘크리트·모르타르면) | B20: 재료비, 합지벽지 | C20: M2 | D20: 1 | E20: =일위대가목록!E487 -> 2229 | F20: =TRUNC(E20*D20,1) -> 2229 | G20: =일위대가목록!F487 -> 0 | H20: =TRUNC(G20*D20,1) -> 0 | I20: =일위대가목록!G487 -> 0 | J20: =TRUNC(I20*D20,1) -> 0 | K20: =TRUNC(E20+G20+I20,1) -> 2229 | L20: =TRUNC(F20+H20+J20,1) -> 2229 | M20: 호표 470 | N20: 5062818DDD53DE2071609EC1CEE9E5 | O20: 5062818DDD53DE247F1980613A11B9 | P20: T | Q20: F | R20: F | AW20: 5062818DDD53DE2071609EC1CEE9E55062818DDD53DE247F1980613A11B9 | BA20: 호표 470
A21: 도배바름 | B21: 콘크리트·모르타르면, 천장 | C21: M2 | D21: 0.75 | E21: =일위대가목록!E490 -> 0 | F21: =TRUNC(E21*D21,1) -> 0 | G21: =일위대가목록!F490 -> 7625 | H21: =TRUNC(G21*D21,1) -> 5718.7 | I21: =일위대가목록!G490 -> 0 | J21: =TRUNC(I21*D21,1) -> 0 | K21: =TRUNC(E21+G21+I21,1) -> 7625 | L21: =TRUNC(F21+H21+J21,1) -> 5718.7 | M21: 호표 473 | N21: 5062818DDD53DE2071609EC1CEE9E5 | O21: 5062818DDD53DE267BE05CE161664E | P21: T | Q21: F | R21: F | AW21: 5062818DDD53DE2071609EC1CEE9E55062818DDD53DE267BE05CE161664E | BA21: 호표 473
A22: [ 합 계 ] | F22: =TRUNC(SUMIF(N20:N21, N19, F20:F21),0) -> 2229 | H22: =TRUNC(SUMIF(N20:N21, N19, H20:H21),0) -> 5718 | J22: =TRUNC(SUMIF(N20:N21, N19, J20:J21),0) -> 0 | L22: =F22+H22+J22 -> 7947 | N22: TOTAL | O22: TOTAL
A24: 03-01 도배(실크, 벽면) / 합판·석고보드면 실크벽지(초배유) M2 ( 호표 5 ) | N24: 5062818DDD53DE257977CAC19BE815
A25: 도배바름(합판·석고보드면) | B25: 재료비, 비닐벽지, 실크형, A급 | C25: M2 | D25: 1 | E25: =일위대가목록!E491 -> 3324 | F25: =TRUNC(E25*D25,1) -> 3324 | G25: =일위대가목록!F491 -> 0 | H25: =TRUNC(G25*D25,1) -> 0 | I25: =일위대가목록!G491 -> 0 | J25: =TRUNC(I25*D25,1) -> 0 | K25: =TRUNC(E25+G25+I25,1) -> 3324 | L25: =TRUNC(F25+H25+J25,1) -> 3324 | M25: 호표 474 | N25: 5062818DDD53DE257977CAC19BE815 | O25: 5062818DDD53DE27745D76D1031554 | P25: T | Q25: F | R25: F | AW25: 5062818DDD53DE257977CAC19BE8155062818DDD53DE27745D76D1031554 | BA25: 호표 474
A26: 도배바름 | B26: 합판·석고보드면, 벽 | C26: M2 | D26: 0.6 | E26: =일위대가목록!E486 -> 0 | F26: =TRUNC(E26*D26,1) -> 0 | G26: =일위대가목록!F486 -> 6481 | H26: =TRUNC(G26*D26,1) -> 3888.6 | I26: =일위대가목록!G486 -> 0 | J26: =TRUNC(I26*D26,1) -> 0 | K26: =TRUNC(E26+G26+I26,1) -> 6481 | L26: =TRUNC(F26+H26+J26,1) -> 3888.6 | M26: 호표 469 | N26: 5062818DDD53DE257977CAC19BE815 | O26: 5062818DDD53DE267BE05CF107C699 | P26: T | Q26: F | R26: F | AW26: 5062818DDD53DE257977CAC19BE8155062818DDD53DE267BE05CF107C699 | BA26: 호표 469
A27: [ 합 계 ] | F27: =TRUNC(SUMIF(N25:N26, N24, F25:F26),0) -> 3324 | H27: =TRUNC(SUMIF(N25:N26, N24, H25:H26),0) -> 3888 | J27: =TRUNC(SUMIF(N25:N26, N24, J25:J26),0) -> 0 | L27: =F27+H27+J27 -> 7212 | N27: TOTAL | O27: TOTAL
A29: 03-02 도배(실크, 벽면) / 콘크리트·모르타르면 실크벽지(초배유) M2 ( 호표 6 ) | N29: 5062818DDD53DE227C39D8C16134D9
A30: 도배바름(콘크리트·모르타르면) | B30: 재료비, 비닐벽지, 실크형, A급 | C30: M2 | D30: 1 | E30: =일위대가목록!E492 -> 3426 | F30: =TRUNC(E30*D30,1) -> 3426 | G30: =일위대가목록!F492 -> 0 | H30: =TRUNC(G30*D30,1) -> 0 | I30: =일위대가목록!G492 -> 0 | J30: =TRUNC(I30*D30,1) -> 0 | K30: =TRUNC(E30+G30+I30,1) -> 3426 | L30: =TRUNC(F30+H30+J30,1) -> 3426 | M30: 호표 475 | N30: 5062818DDD53DE227C39D8C16134D9 | O30: 5062818DDD53DE247F1980613A1649 | P30: T | Q30: F | R30: F | AW30: 5062818DDD53DE227C39D8C16134D95062818DDD53DE247F1980613A1649 | BA30: 호표 475
A31: 도배바름 | B31: 콘크리트·모르타르면, 벽 | C31: M2 | D31: 0.6 | E31: =일위대가목록!E488 -> 0 | F31: =TRUNC(E31*D31,1) -> 0 | G31: =일위대가목록!F488 -> 5866 | H31: =TRUNC(G31*D31,1) -> 3519.6 | I31: =일위대가목록!G488 -> 0 | J31: =TRUNC(I31*D31,1) -> 0 | K31: =TRUNC(E31+G31+I31,1) -> 5866 | L31: =TRUNC(F31+H31+J31,1) -> 3519.6 | M31: 호표 471 | N31: 5062818DDD53DE227C39D8C16134D9 | O31: 5062818DDD53DE267BE05CF107C5F2 | P31: T | Q31: F | R31: F | AW31: 5062818DDD53DE227C39D8C16134D95062818DDD53DE267BE05CF107C5F2 | BA31: 호표 471
A32: [ 합 계 ] | F32: =TRUNC(SUMIF(N30:N31, N29, F30:F31),0) -> 3426 | H32: =TRUNC(SUMIF(N30:N31, N29, H30:H31),0) -> 3519 | J32: =TRUNC(SUMIF(N30:N31, N29, J30:J31),0) -> 0 | L32: =F32+H32+J32 -> 6945 | N32: TOTAL | O32: TOTAL
A34: 04-01 도배(실크, 천정면) / 합판·석고보드면 실크벽지(초배유) M2 ( 호표 7 ) | N34: 5062818DDD53DE237EAA756199BA64
A35: 도배바름(합판·석고보드면) | B35: 재료비, 비닐벽지, 실크형, A급 | C35: M2 | D35: 1 | E35: =일위대가목록!E491 -> 3324 | F35: =TRUNC(E35*D35,1) -> 3324 | G35: =일위대가목록!F491 -> 0 | H35: =TRUNC(G35*D35,1) -> 0 | I35: =일위대가목록!G491 -> 0 | J35: =TRUNC(I35*D35,1) -> 0 | K35: =TRUNC(E35+G35+I35,1) -> 3324 | L35: =TRUNC(F35+H35+J35,1) -> 3324 | M35: 호표 474 | N35: 5062818DDD53DE237EAA756199BA64 | O35: 5062818DDD53DE27745D76D1031554 | P35: T | Q35: F | R35: F | AW35: 5062818DDD53DE237EAA756199BA645062818DDD53DE27745D76D1031554 | BA35: 호표 474
A36: 도배바름 | B36: 합판·석고보드면, 천장 | C36: M2 | D36: 0.9 | E36: =일위대가목록!E489 -> 0 | F36: =TRUNC(E36*D36,1) -> 0 | G36: =일위대가목록!F489 -> 8426 | H36: =TRUNC(G36*D36,1) -> 7583.4 | I36: =일위대가목록!G489 -> 0 | J36: =TRUNC(I36*D36,1) -> 0 | K36: =TRUNC(E36+G36+I36,1) -> 8426 | L36: =TRUNC(F36+H36+J36,1) -> 7583.4 | M36: 호표 472 | N36: 5062818DDD53DE237EAA756199BA64 | O36: 5062818DDD53DE267BE05CE16165A8 | P36: T | Q36: F | R36: F | AW36: 5062818DDD53DE237EAA756199BA645062818DDD53DE267BE05CE16165A8 | BA36: 호표 472
A37: [ 합 계 ] | F37: =TRUNC(SUMIF(N35:N36, N34, F35:F36),0) -> 3324 | H37: =TRUNC(SUMIF(N35:N36, N34, H35:H36),0) -> 7583 | J37: =TRUNC(SUMIF(N35:N36, N34, J35:J36),0) -> 0 | L37: =F37+H37+J37 -> 10907 | N37: TOTAL | O37: TOTAL
A39: 04-02 도배(실크, 천정면) / 콘크리트·모르타르면 실크벽지(초배유) M2 ( 호표 8 ) | N39: 5062818DDD53DE2071609EC1CEEE67
A40: 도배바름(콘크리트·모르타르면) | B40: 재료비, 비닐벽지, 실크형, A급 | C40: M2 | D40: 1 | E40: =일위대가목록!E492 -> 3426 | F40: =TRUNC(E40*D40,1) -> 3426 | G40: =일위대가목록!F492 -> 0 | H40: =TRUNC(G40*D40,1) -> 0 | I40: =일위대가목록!G492 -> 0 | J40: =TRUNC(I40*D40,1) -> 0 | K40: =TRUNC(E40+G40+I40,1) -> 3426 | L40: =TRUNC(F40+H40+J40,1) -> 3426 | M40: 호표 475 | N40: 5062818DDD53DE2071609EC1CEEE67 | O40: 5062818DDD53DE247F1980613A1649 | P40: T | Q40: F | R40: F | AW40: 5062818DDD53DE2071609EC1CEEE675062818DDD53DE247F1980613A1649 | BA40: 호표 475
A41: 도배바름 | B41: 콘크리트·모르타르면, 천장 | C41: M2 | D41: 1 | E41: =일위대가목록!E490 -> 0 | F41: =TRUNC(E41*D41,1) -> 0 | G41: =일위대가목록!F490 -> 7625 | H41: =TRUNC(G41*D41,1) -> 7625 | I41: =일위대가목록!G490 -> 0 | J41: =TRUNC(I41*D41,1) -> 0 | K41: =TRUNC(E41+G41+I41,1) -> 7625 | L41: =TRUNC(F41+H41+J41,1) -> 7625 | M41: 호표 473 | N41: 5062818DDD53DE2071609EC1CEEE67 | O41: 5062818DDD53DE267BE05CE161664E | P41: T | Q41: F | R41: F | AW41: 5062818DDD53DE2071609EC1CEEE675062818DDD53DE267BE05CE161664E | BA41: 호표 473
A42: [ 합 계 ] | F42: =TRUNC(SUMIF(N40:N41, N39, F40:F41),0) -> 3426 | H42: =TRUNC(SUMIF(N40:N41, N39, H40:H41),0) -> 7625 | J42: =TRUNC(SUMIF(N40:N41, N39, J40:J41),0) -> 0 | L42: =F42+H42+J42 -> 11051 | N42: TOTAL | O42: TOTAL
A44: 05 도배(본드) 페인트위(본드,바인드,부직포) M2 ( 호표 9 ) | N44: 5062818DDD53DE257977CAC19BE816
A45: 도배바름(합판·석고보드면) | B45: 재료비, 비닐벽지, 실크형, A급 | C45: M2 | D45: 1 | E45: =일위대가목록!E491 -> 3324 | F45: =TRUNC(E45*D45,1) -> 3324 | G45: =일위대가목록!F491 -> 0 | H45: =TRUNC(G45*D45,1) -> 0 | I45: =일위대가목록!G491 -> 0 | J45: =TRUNC(I45*D45,1) -> 0 | K45: =TRUNC(E45+G45+I45,1) -> 3324 | L45: =TRUNC(F45+H45+J45,1) -> 3324 | M45: 호표 474 | N45: 5062818DDD53DE257977CAC19BE816 | O45: 5062818DDD53DE27745D76D1031554 | P45: T | Q45: F | R45: F | AW45: 5062818DDD53DE257977CAC19BE8165062818DDD53DE27745D76D1031554 | BA45: 호표 474
A46: 도배바름 | B46: 합판·석고보드면, 벽 | C46: M2 | D46: 0.55 | E46: =일위대가목록!E486 -> 0 | F46: =TRUNC(E46*D46,1) -> 0 | G46: =일위대가목록!F486 -> 6481 | H46: =TRUNC(G46*D46,1) -> 3564.5 | I46: =일위대가목록!G486 -> 0 | J46: =TRUNC(I46*D46,1) -> 0 | K46: =TRUNC(E46+G46+I46,1) -> 6481 | L46: =TRUNC(F46+H46+J46,1) -> 3564.5 | M46: 호표 469 | N46: 5062818DDD53DE257977CAC19BE816 | O46: 5062818DDD53DE267BE05CF107C699 | P46: T | Q46: F | R46: F | AW46: 5062818DDD53DE257977CAC19BE8165062818DDD53DE267BE05CF107C699 | BA46: 호표 469
A47: [ 합 계 ] | F47: =TRUNC(SUMIF(N45:N46, N44, F45:F46),0) -> 3324 | H47: =TRUNC(SUMIF(N45:N46, N44, H45:H46),0) -> 3564 | J47: =TRUNC(SUMIF(N45:N46, N44, J45:J46),0) -> 0 | L47: =F47+H47+J47 -> 6888 | N47: TOTAL | O47: TOTAL
A49: 06 장판(2T) T=2mm(경보행용) M2 ( 호표 10 ) | N49: 5062818DEFA19B2770806FB179BFC2
...

Sheet 중기단가목록
A1: 중 기 단 가 목 록
A2: [ 한국보훈복지의료공단 ]
A3: 코 드 | B3: 품 명 | C3: 규 격 | D3: 단위 | E3: 재 료 비 | F3: 노 무 비 | G3: 경 비 | H3: 합 계 | I3: 번 호 | J3: 비 고 | K3: START
A4: 504DE186E2642E2673D86DF137D34F | B4: 368 되메우기및다짐(인력) | C4: 토사,인력,다짐두께 30cm | D4: M3 | E4: 0 | F4: 17283 | G4: 0 | H4: 17283 | I4: 산근 1 | K4: 504DE186E2642E2673D86DF137D34F
A5: 504DE186E2642E2673D86DF137D2A8 | B5: 369 되메우기및다짐(대형) | C5: 포설, 고르기, 다짐, 살수 작업(기계료 별도) | D5: M3 | E5: 352 | F5: 4326 | G5: 0 | H5: 4678 | I5: 산근 2 | K5: 504DE186E2642E2673D86DF137D2A8
A6: 504DE186E2642E2673D86DF136345C | B6: 370 되메우기및다짐(소형) | C6: 포설, 고르기, 다짐, 살수 작업(기계료 별도) | D6: M3 | E6: 373 | F6: 13056 | G6: 0 | H6: 13429 | I6: 산근 3 | K6: 504DE186E2642E2673D86DF136345C
A7: 504DE18631DCC02372AEE561499054 | B7: 터파기/토사 | C7: 보통, 굴삭기 0.7m3 | D7: M3 | E7: 311 | F7: 859 | G7: 379 | H7: 1549 | I7: 산근 4 | K7: 504DE18631DCC02372AEE561499054
A8: 504DE186E2642E26747E0941C6349A | B8: 되메우기/토사, 두께 15cm | C8: 보통, 굴삭기 0.7m3+래머 80kg | D8: M3 | E8: 477 | F8: 8025 | G8: 384 | H8: 8886 | I8: 산근 5 | K8: 504DE186E2642E26747E0941C6349A
A9: 504DE18604B1A9297B31324192B954 | B9: 토사 운반/단지외 10km | C9: 보통, 덤프 15ton+굴삭기 0.7m3(고르기 별도) | D9: M3 | E9: 2832 | F9: 5046 | G9: 1928 | H9: 9806 | I9: 산근 6 | K9: 504DE18604B1A9297B31324192B954
A10: 5063318C8660982F76559AA1977DF3 | B10: 운반비(트레일러 20ton+크레인 10ton) | C10: 철골, L:20km | D10: TON | E10: 0 | F10: 0 | G10: 11968 | H10: 11968 | I10: 산근 7 | K10: 5063318C8660982F76559AA1977DF3
A11: 50623185BDA83828790B9871BA42A6 | B11: 콘크리트 펌프차 타설(무근, 진동기無) | C11: 100m3 미만, 슬럼프 8~12cm, 보통(매트기초 등) | D11: M3 | E11: 1286 | F11: 10862 | G11: 3204 | H11: 15352 | I11: 산근 8 | K11: 50623185BDA83828790B9871BA42A6

Sheet 중기단가산출서
A1: 중 기 단 가 산 출 서
A2: [ 한국보훈복지의료공단 ]
A3: 산 출 내 역 | B3: 재 료 비 | C3: 노 무 비 | D3: 경 비 | E3: 합 계 | F3: 비 고 | G3: START | H3: 코드 | I3: 품명 | J3: 규격 | K3: 단위 | L3: 수량
A4: 368 되메우기및다짐(인력) 토사,인력,다짐두께 30cm M3 ( 산근 1 ) | G4: 504DE186E2642E2673D86DF137D34F | I4: 368 되메우기및다짐(인력) | J4: 토사,인력,다짐두께 30cm | K4: M3
G5: 504DE186E2642E2673D86DF137D34F | H5: C | K5: M3 | L5: 1
A6: 1.굴삭기 (무한궤도)0.7㎥M3 | B6: 0 | C6: 0 | D6: 0 | E6: 0 | G6: 504DE186E2642E2673D86DF137D34F | H6: C! | I6: '1.굴삭기 (무한궤도)0.7㎥M3 '
A7: Q1 바켓용량(M3) = 0 | B7: 0 | C7: 0 | D7: 0 | E7: 0 | G7: 504DE186E2642E2673D86DF137D34F | H7: C! | I7: q1 '바켓용량(M3)'= 0
A8: k 바켓계수 = 0 | B8: 0 | C8: 0 | D8: 0 | E8: 0 | G8: 504DE186E2642E2673D86DF137D34F | H8: C! | I8: k '바켓계수'= 0
A9: L1 흐트러진상태 =0 | B9: 0 | C9: 0 | D9: 0 | E9: 0 | G9: 504DE186E2642E2673D86DF137D34F | H9: C! | I9: L1 '흐트러진상태' =0
A10: C 다져진상태 =0 | B10: 0 | C10: 0 | D10: 0 | E10: 0 | G10: 504DE186E2642E2673D86DF137D34F | H10: C! | I10: C '다져진상태'=0
A11: F 토량환산계(C/L) =C/L1= 0 | B11: 0 | C11: 0 | D11: 0 | E11: 0 | G11: 504DE186E2642E2673D86DF137D34F | H11: C! | I11: f '토량환산계(C/L)'=C/L1=?
A12: E 작업효율(양호0.9,보통0.75,불량0.6) = 0 | B12: 0 | C12: 0 | D12: 0 | E12: 0 | G12: 504DE186E2642E2673D86DF137D34F | H12: C! | I12: E '작업효율(양호0.9,보통0.75,불량0.6)'= 0
A13: CM 1회 싸이클시간(90˚SEC) =18 | B13: 0 | C13: 0 | D13: 0 | E13: 0 | G13: 504DE186E2642E2673D86DF137D34F | H13: C! | I13: Cm '1회 싸이클시간(90˚sec)'=18
A14: Q 시간당 작업량 (M3/HR) = 3600*Q1*K*F*E/CM/0.7= 0 | B14: 0 | C14: 0 | D14: 0 | E14: 0 | G14: 504DE186E2642E2673D86DF137D34F | H14: C! | I14: Q '시간당 작업량 (M3/Hr)'= 3600*q1*k*f*E/Cm/0.7=?
A15: 재료비: 18345 / 0 = 0 | B15: 0 | C15: 0 | D15: 0 | E15: 0 | G15: 504DE186E2642E2673D86DF137D34F | H15: C! | I15: '재료비:' ~00000201007000000.M~ / {Q} =?MA+
A16: 노무비: 50686 / 0 = 0 | B16: 0 | C16: 0 | D16: 0 | E16: 0 | G16: 504DE186E2642E2673D86DF137D34F | H16: C! | I16: '노무비:' ~00000201007000000.L~ / {Q} =?LA+
A17: 경 비: 22383 / 0 = 0 | B17: 0 | C17: 0 | D17: 0 | E17: 0 | G17: 504DE186E2642E2673D86DF137D34F | H17: C! | I17: '경 비:' ~00000201007000000.E~ / {Q} =?EQ+
A18: 소 계 | B18: 0 | C18: 0 | D18: 0 | E18: 0 | G18: 504DE186E2642E2673D86DF137D34F | H18: C! | I18: >'소 계'
B19: 0 | C19: 0 | D19: 0 | E19: 0 | G19: 504DE186E2642E2673D86DF137D34F | H19: C!
A20: 2.(인력 흙 다지기): 0.11인*100% | B20: 0 | C20: 0 | D20: 0 | E20: 0 | G20: 504DE186E2642E2673D86DF137D34F | H20: C! | I20: '2.(인력 흙 다지기): 0.11인*100%'
A21: Q 시간당 작업량 (M3/HR) = 1/8/0.11/1= 1.136 | B21: 0 | C21: 0 | D21: 0 | E21: 0 | G21: 504DE186E2642E2673D86DF137D34F | H21: C! | I21: Q '시간당 작업량 (M3/Hr)'= 1/8/0.11/1=?
B22: 0 | C22: 0 | D22: 0 | E22: 0 | G22: 504DE186E2642E2673D86DF137D34F | H22: C!
A23: 보통인부 1인/8HR*작업시간 | B23: 0 | C23: 0 | D23: 0 | E23: 0 | G23: 504DE186E2642E2673D86DF137D34F | H23: C! | I23: '보통인부 1인/8HR*작업시간
A24: 노무비: 157068*1/8/1.136 = 17283 | B24: 0 | C24: 17283 | D24: 0 | E24: 17283 | G24: 504DE186E2642E2673D86DF137D34F | H24: C! | I24: '노무비:' ~L001010101000002.L~*1/8/{Q} =?LA+
A25: 소 계 | B25: 0 | C25: 17283 | D25: 0 | E25: 17283 | G25: 504DE186E2642E2673D86DF137D34F | H25: C! | I25: >'소 계'
B26: 0 | C26: 0 | D26: 0 | E26: 0 | G26: 504DE186E2642E2673D86DF137D34F | H26: C!
A27: 3.래머,80kg | B27: 0 | C27: 0 | D27: 0 | E27: 0 | G27: 504DE186E2642E2673D86DF137D34F | H27: C! | I27: '3.래머,80kg'
A28: A 1회당 유호 다짐면적(M2) =0.28*0.33= 0.0924 | B28: 0 | C28: 0 | D28: 0 | E28: 0 | G28: 504DE186E2642E2673D86DF137D34F | H28: C! | I28: A '1회당 유호 다짐면적(M2)' =0.28*0.33=?
A29: N 1시간당 타격회수(회/HR) = | B29: 0 | C29: 0 | D29: 0 | E29: 0 | G29: 504DE186E2642E2673D86DF137D34F | H29: C! | I29: N '1시간당 타격회수(회/HR)' =
A30: H 다짐두께(M) =0 | B30: 0 | C30: 0 | D30: 0 | E30: 0 | G30: 504DE186E2642E2673D86DF137D34F | H30: C! | I30: H '다짐두께(M)' =0
A31: L1 흐트러진상태 =0 | B31: 0 | C31: 0 | D31: 0 | E31: 0 | G31: 504DE186E2642E2673D86DF137D34F | H31: C! | I31: L1 '흐트러진상태' =0
A32: F 토량환산계(L1/L1) =L1/L1= 0 | B32: 0 | C32: 0 | D32: 0 | E32: 0 | G32: 504DE186E2642E2673D86DF137D34F | H32: C! | I32: f '토량환산계(L1/L1)'=L1/L1=?
A33: E 작업효율(양호0.7,보통0.5,불량0.3) = 0 | B33: 0 | C33: 0 | D33: 0 | E33: 0 | G33: 504DE186E2642E2673D86DF137D34F | H33: C! | I33: E '작업효율(양호0.7,보통0.5,불량0.3)'= 0
A34: P 중복 다짐회수(회) =0 | B34: 0 | C34: 0 | D34: 0 | E34: 0 | G34: 504DE186E2642E2673D86DF137D34F | H34: C! | I34: P '중복 다짐회수(회)' =0
A35: Q 시간당 작업량(M3/HR) =A*N*H*F*E/P/0.7= 0 | B35: 0 | C35: 0 | D35: 0 | E35: 0 | G35: 504DE186E2642E2673D86DF137D34F | H35: C! | I35: Q '시간당 작업량(M3/HR)' =A*N*H*f*E/P/0.7=?
A36: 재료비: 1096 / 0 = 0 | B36: 0 | C36: 0 | D36: 0 | E36: 0 | G36: 504DE186E2642E2673D86DF137D34F | H36: C! | I36: '재료비:' ~00001630008000000.M~ / {Q} =?MA+
A37: 노무비: 32384 / 0 = 0 | B37: 0 | C37: 0 | D37: 0 | E37: 0 | G37: 504DE186E2642E2673D86DF137D34F | H37: C! | I37: '노무비:' ~00001630008000000.L~ / {Q} =?LA+
