Workbook
Name _ENG3: VLOOKUP(#REF!,[0]!DBHAN,3)
Name _ENG3: VLOOKUP(#REF!,[0]!DBHAN,3)
Name _ENG3: VLOOKUP(#REF!,[0]!DBHAN,3)
Name _HAN3: VLOOKUP(#REF!,[0]!DBHAN,2)
Name _HAN3: VLOOKUP(#REF!,[0]!DBHAN,2)
Name _HAN3: VLOOKUP(#REF!,[0]!DBHAN,2)
Name _MM1: [1]외자배분!$E$6
Name _MM2: [1]외자배분!$F$6
Name _TT1: [1]외자배분!$G$6
Name _TT2: [1]외자배분!$H$6
Name BB: [2]내역서!$I$49
Name danga: [3]danga!$A$1:$M$235
Name datab: '[4]1.우편집중내역서'!$A$3:$D$566
Name del: [5]제직재!$B$2:$B$8,[5]제직재!$B$11:$G$14
Name g_sort: '원가내역서(원본)'!g_sort
Name g_sort: '원가내역서(을)'!g_sort
Name g_sort: [0]!g_sort
Name HIT: '[6]2F 회의실견적(5_14 일대)'!$J$31
Name ilch: [3]ilch!$A$3:$M$25
Name Line132_Click: [7]!Line132_Click
Name list: [8]총괄!$M$7:$S$43
Name LTG_1: [9]조명율!$E$25:$V$36
Name L옹벽: [10]기본일위!$1:$1048576
Name m: [11]을!$M$1:$M$65536
Name M1.더하기: #N/A
Name M1.빼기: #N/A
Name module1.bupo_index: [12]!module1.bupo_index
Name module1.dekak: [12]!module1.dekak
Name module1.jiju: [12]!module1.jiju
Name module1.JohapbuhoKaroIndex: [12]!module1.JohapbuhoKaroIndex
Name module1.JohapbuhoSeroIndex: [12]!module1.JohapbuhoSeroIndex
Name module1.m_karo: [12]!module1.m_karo
Name module1.t_karo: [12]!module1.t_karo
Name module1.t_sero: [12]!module1.t_sero
Name module2.Bo_h: [12]!module2.Bo_h
Name module2.Bo_w: [12]!module2.Bo_w
Name module2.Bobachimde_karoHindex: [12]!module2.Bobachimde_karoHindex
Name module2.Bobachimde_karoWindex: [12]!module2.Bobachimde_karoWindex
Name module2.Bobachimde_seroindex: [12]!module2.Bobachimde_seroindex
Name module2.danka: [12]!module2.danka
Name module2.Dekak_n: [12]!module2.Dekak_n
Name module2.Haljeindex: [12]!module2.Haljeindex
Name module2.lotindex: [12]!module2.lotindex
Name module2.pack_karoindex: [12]!module2.pack_karoindex
Name module2.pack_munja: [12]!module2.pack_munja
Name module2.package_tf: [12]!module2.package_tf
Name N: [13]환율적용표!$J$6
Name nameeng: IF([0]!rowclm=0,VLOOKUP('[14]회로내역(승인)'!$B1,[0]!_DBB1,3),VLOOKUP('[14]회로내역(승인)'!$B1048576,[0]!_DBB1,4))
Name nameeng: IF([0]!rowclm=0,VLOOKUP('[14]회로내역(승인)'!$B1,[0]!_DBB1,3),VLOOKUP('[14]회로내역(승인)'!$B1048576,[0]!_DBB1,4))
Name nameeng: IF([0]!rowclm=0,VLOOKUP('[14]회로내역(승인)'!$B1,[0]!_DBB1,3),VLOOKUP('[14]회로내역(승인)'!$B1048576,[0]!_DBB1,4))
Name NBVCV: '[15]20관리비율'!$A$1:$D$25
Name NG0: [16]환율!$I$18
Name NK0: [16]환율!$I$12
Name NN: [17]양식!$C$7
Name NUM: VLOOKUP(#REF!,[0]!DBHAN,1)
Name NUM: VLOOKUP(#REF!,[0]!DBHAN,1)
Name NUM: VLOOKUP(#REF!,[0]!DBHAN,1)
Name numb: IF([0]!rowclm=0,VLOOKUP('[14]회로내역(승인)'!$B1,[0]!_DBB1,2),"")
Name numb: IF([0]!rowclm=0,VLOOKUP('[14]회로내역(승인)'!$B1,[0]!_DBB1,2),"")
Name numb: IF([0]!rowclm=0,VLOOKUP('[14]회로내역(승인)'!$B1,[0]!_DBB1,2),"")

Sheet 공종별집계표
A1: 공 종 별 집 계 표
A2: [ 한국보훈복지의료공단 ]
A3: 품 명 | B3: 규 격 | C3: 단위 | D3: 수량 | E3: 재 료 비 | G3: 노 무 비 | I3: 경 비 | K3: 합 계 | M3: 비 고 | N3: 공종코드 | O3: 변수 | P3: 상위공종 | Q3: 공종구분 | R3: 공종레벨 | S3: 공종소계 | T3: 원가계산서 연결금액
E4: 단 가 | F4: 금 액 | G4: 단 가 | H4: 금 액 | I4: 단 가 | J4: 금 액 | K4: 단 가 | L4: 금 액
A5: 01 한국보훈복지의료공단 | D5: 1 | E5: =F6+F7+F8+F9+F10+F11+F12+F13+F14+F15+F16+F17+F18+F19+F20+F21+F22+F23+F24+F25+F26+F27+F28+F29+F30+F31+F32+F33+F34+F35+F36+F37+F38+F39+F40+F41+F42+F43+F44+F45+F46+F47 -> #REF! | F5: =E5*D5 -> #REF! | G5: =H6+H7+H8+H9+H10+H11+H12+H13+H14+H15+H16+H17+H18+H19+H20+H21+H22+H23+H24+H25+H26+H27+H28+H29+H30+H31+H32+H33+H34+H35+H36+H37+H38+H39+H40+H41+H42+H43+H44+H45+H46+H47 -> #REF! | H5: =G5*D5 -> #REF! | I5: =J6+J7+J8+J9+J10+J11+J12+J13+J14+J15+J16+J17+J18+J19+J20+J21+J22+J23+J24+J25+J26+J27+J28+J29+J30+J31+J32+J33+J34+J35+J36+J37+J38+J39+J40+J41+J42+J43+J44+J45+J46+J47 -> #REF! | J5: =I5*D5 -> #REF! | K5: =E5+G5+I5 -> #REF! | L5: =F5+H5+J5 -> #REF! | N5: 01 | R5: 1
A6: 0101 1~10 | D6: 1 | E6: =공종별내역서!#REF! -> #REF! | F6: =E6*D6 -> #REF! | G6: =공종별내역서!#REF! -> #REF! | H6: =G6*D6 -> #REF! | I6: =공종별내역서!#REF! -> #REF! | J6: =I6*D6 -> #REF! | K6: =E6+G6+I6 -> #REF! | L6: =F6+H6+J6 -> #REF! | N6: 0101 | P6: 01 | R6: 2
A7: 0102 11~20 | D7: 1 | E7: =공종별내역서!#REF! -> #REF! | F7: =E7*D7 -> #REF! | G7: =공종별내역서!#REF! -> #REF! | H7: =G7*D7 -> #REF! | I7: =공종별내역서!#REF! -> #REF! | J7: =I7*D7 -> #REF! | K7: =E7+G7+I7 -> #REF! | L7: =F7+H7+J7 -> #REF! | N7: 0102 | P7: 01 | R7: 2
A8: 0103 21~30 | D8: 1 | E8: =공종별내역서!F89 -> 0 | F8: =E8*D8 -> 0 | G8: =공종별내역서!H89 -> 0 | H8: =G8*D8 -> 0 | I8: =공종별내역서!J89 -> 0 | J8: =I8*D8 -> 0 | K8: =E8+G8+I8 -> 0 | L8: =F8+H8+J8 -> 0 | N8: 0103 | P8: 01 | R8: 2
A9: 0104 31~40 | D9: 1 | E9: =공종별내역서!#REF! -> #REF! | F9: =E9*D9 -> #REF! | G9: =공종별내역서!#REF! -> #REF! | H9: =G9*D9 -> #REF! | I9: =공종별내역서!#REF! -> #REF! | J9: =I9*D9 -> #REF! | K9: =E9+G9+I9 -> #REF! | L9: =F9+H9+J9 -> #REF! | N9: 0104 | P9: 01 | R9: 2
A10: 0105 41~50 | D10: 1 | E10: =공종별내역서!#REF! -> #REF! | F10: =E10*D10 -> #REF! | G10: =공종별내역서!#REF! -> #REF! | H10: =G10*D10 -> #REF! | I10: =공종별내역서!#REF! -> #REF! | J10: =I10*D10 -> #REF! | K10: =E10+G10+I10 -> #REF! | L10: =F10+H10+J10 -> #REF! | N10: 0105 | P10: 01 | R10: 2
A11: 0106 51~60 | D11: 1 | E11: =공종별내역서!#REF! -> #REF! | F11: =E11*D11 -> #REF! | G11: =공종별내역서!#REF! -> #REF! | H11: =G11*D11 -> #REF! | I11: =공종별내역서!#REF! -> #REF! | J11: =I11*D11 -> #REF! | K11: =E11+G11+I11 -> #REF! | L11: =F11+H11+J11 -> #REF! | N11: 0106 | P11: 01 | R11: 2
A12: 0107 61~70 | D12: 1 | E12: =공종별내역서!#REF! -> #REF! | F12: =E12*D12 -> #REF! | G12: =공종별내역서!#REF! -> #REF! | H12: =G12*D12 -> #REF! | I12: =공종별내역서!#REF! -> #REF! | J12: =I12*D12 -> #REF! | K12: =E12+G12+I12 -> #REF! | L12: =F12+H12+J12 -> #REF! | N12: 0107 | P12: 01 | R12: 2
A13: 0108 71~80 | D13: 1 | E13: =공종별내역서!#REF! -> #REF! | F13: =E13*D13 -> #REF! | G13: =공종별내역서!#REF! -> #REF! | H13: =G13*D13 -> #REF! | I13: =공종별내역서!#REF! -> #REF! | J13: =I13*D13 -> #REF! | K13: =E13+G13+I13 -> #REF! | L13: =F13+H13+J13 -> #REF! | N13: 0108 | P13: 01 | R13: 2
A14: 0109 81~90 | D14: 1 | E14: =공종별내역서!#REF! -> #REF! | F14: =E14*D14 -> #REF! | G14: =공종별내역서!#REF! -> #REF! | H14: =G14*D14 -> #REF! | I14: =공종별내역서!#REF! -> #REF! | J14: =I14*D14 -> #REF! | K14: =E14+G14+I14 -> #REF! | L14: =F14+H14+J14 -> #REF! | N14: 0109 | P14: 01 | R14: 2
A15: 0110 91~100 | D15: 1 | E15: =공종별내역서!#REF! -> #REF! | F15: =E15*D15 -> #REF! | G15: =공종별내역서!#REF! -> #REF! | H15: =G15*D15 -> #REF! | I15: =공종별내역서!#REF! -> #REF! | J15: =I15*D15 -> #REF! | K15: =E15+G15+I15 -> #REF! | L15: =F15+H15+J15 -> #REF! | N15: 0110 | P15: 01 | R15: 2
A16: 0111 101~110 | D16: 1 | E16: =공종별내역서!#REF! -> #REF! | F16: =E16*D16 -> #REF! | G16: =공종별내역서!#REF! -> #REF! | H16: =G16*D16 -> #REF! | I16: =공종별내역서!#REF! -> #REF! | J16: =I16*D16 -> #REF! | K16: =E16+G16+I16 -> #REF! | L16: =F16+H16+J16 -> #REF! | N16: 0111 | P16: 01 | R16: 2
A17: 0112 111~120 | D17: 1 | E17: =공종별내역서!#REF! -> #REF! | F17: =E17*D17 -> #REF! | G17: =공종별내역서!#REF! -> #REF! | H17: =G17*D17 -> #REF! | I17: =공종별내역서!#REF! -> #REF! | J17: =I17*D17 -> #REF! | K17: =E17+G17+I17 -> #REF! | L17: =F17+H17+J17 -> #REF! | N17: 0112 | P17: 01 | R17: 2
A18: 0113 121~130 | D18: 1 | E18: =공종별내역서!#REF! -> #REF! | F18: =E18*D18 -> #REF! | G18: =공종별내역서!#REF! -> #REF! | H18: =G18*D18 -> #REF! | I18: =공종별내역서!#REF! -> #REF! | J18: =I18*D18 -> #REF! | K18: =E18+G18+I18 -> #REF! | L18: =F18+H18+J18 -> #REF! | N18: 0113 | P18: 01 | R18: 2
A19: 0114 131~140 | D19: 1 | E19: =공종별내역서!#REF! -> #REF! | F19: =E19*D19 -> #REF! | G19: =공종별내역서!#REF! -> #REF! | H19: =G19*D19 -> #REF! | I19: =공종별내역서!#REF! -> #REF! | J19: =I19*D19 -> #REF! | K19: =E19+G19+I19 -> #REF! | L19: =F19+H19+J19 -> #REF! | N19: 0114 | P19: 01 | R19: 2
A20: 0115 141~150 | D20: 1 | E20: =공종별내역서!#REF! -> #REF! | F20: =E20*D20 -> #REF! | G20: =공종별내역서!#REF! -> #REF! | H20: =G20*D20 -> #REF! | I20: =공종별내역서!#REF! -> #REF! | J20: =I20*D20 -> #REF! | K20: =E20+G20+I20 -> #REF! | L20: =F20+H20+J20 -> #REF! | N20: 0115 | P20: 01 | R20: 2
... A46: 0141 401~410 | D46: 1 | E46: =공종별내역서!#REF! -> #REF! | F46: =E46*D46 -> #REF! | G46: =공종별내역서!#REF! -> #REF! | H46: =G46*D46 -> #REF! | I46: =공종별내역서!#REF! -> #REF! | J46: =I46*D46 -> #REF! | K46: =E46+G46+I46 -> #REF! | L46: =F46+H46+J46 -> #REF! | N46: 0141 | P46: 01 | R46: 2
A47: 0142 411~413 | D47: 1 | E47: =공종별내역서!F1071 -> 0 | F47: =E47*D47 -> 0 | G47: =공종별내역서!H1071 -> 0 | H47: =G47*D47 -> 0 | I47: =공종별내역서!J1071 -> 0 | J47: =I47*D47 -> 0 | K47: =E47+G47+I47 -> 0 | L47: =F47+H47+J47 -> 0 | N47: 0142 | P47: 01 | R47: 2
A52: [ 합 계 ] | F52: =F5 -> #REF! | H52: =H5 -> #REF! | J52: =J5 -> #REF! | L52: =L5 -> #REF!

Sheet 원가내역서(갑)
A1: 공 사 원 가 계 산 서
A2: 2026 하반기 주거환경개선공사 | D2: 인천
A3: 비 목 | D3: 금 액 | E3: 구 성 비 | F3: 비 고
A4: 순 공 사 원 가 | B4: 재 료 비 | C4: 직 접 재 료 비 | D4: =+'원가내역서(을)'!D7 -> 0
C5: 간 접 재 료 비
C6: 작업설, 부산물(△)
C7: [ 소 계 ] | D7: =SUM(D4:D6) -> 0
B8: 노 무 비 | C8: 직 접 노 무 비 | D8: =+'원가내역서(을)'!F7 -> 0
C9: 간 접 노 무 비 | D9: =D8*17.5% -> 0 | E9: 직접노무비 * 17.5%
C10: [ 소 계 ] | D10: =SUM(D8:D9) -> 0
B11: 경 비 | C11: 기 계 경 비 | D11: =+'원가내역서(을)'!I7 -> 0
C12: 산 재 보 험 료 | D12: =D10*3.56% -> 0 | E12: 노무비 * 3.56%
C13: 고 용 보 험 료 | D13: =D10*1.01% -> 0 | E13: 노무비 * 1.01%
C14: 국민 건강 보험료 | F14: 1개월 이상
C15: 국민 연금 보험료 | F15: 1개월 이상
C16: 노인장기요양보험료 | F16: 1개월 이상
C17: 산업안전보건관리비 | D17: =(D7+D8)*3.11% -> 0 | E17: (재료비+직노) * 3.11% | F17: 2천만원 이상
C18: 환 경 보 전 비 | D18: =(D7+D8+D11)*0.3% -> 0 | E18: (재료비+직노+기계경비) * 0.3%
C19: 석면분담금 | D19: =D10*0.006% -> 0 | E19: 노무비 * 0.006%
C20: 임금채권부담금 | D20: =D10*0.09% -> 0 | E20: 노무비 * 0.09%
C21: 기 타 경 비 | D21: =(D7+D10)*5% -> 0 | E21: (재료비+노무비) * 5.0%
C22: [ 소 계 ] | D22: =SUM(D11:D21) -> 0
A23: 계 | D23: =D22+D10+D7 -> 0
A24: 일 반 관 리 비 | D24: =(D7+D10+D22)*8% -> 0 | E24: 계 * 8%
A25: 총원가 | D25: =D24+D23 -> 0
A26: 이 윤 | D26: =(D10+D22+D24)*15% -> 0 | E26: (노무비+경비+일반관리비) * 15%
A27: 공 급 가 액 | D27: =D26+D25 -> 0
A28: 부 가 가 치 세 | D28: =D27*10% -> 0 | E28: 공급가액 * 10%
A29: 도 급 액 | D29: =D27+D28 -> 0
A30: 총 공 사 비 | D30: =D27+D28 -> 0

Sheet 원가내역서(을)
A1: 관리번호 | B1: 성명 | C1: 주소 | D1: 재료비합계 | E1: 노무비 합계 | F1: 직접 노무비 | G1: 간접 노무비 | H1: 경비 합계_x0000_ | I1: 직접경비 | J1: 기타경비 | K1: 산재보험료 | L1: 고용보험료 | M1: 건강보험료 | N1: 연금보험료 | O1: 산업안전보건관리비 | P1: 환경보전비 | Q1: 노인장기요양보험료 | R1: 일반관리비 | S1: 석면부담금 | T1: 임금채권부담금 | U1: 총원가 | V1: 이윤 | W1: 공급가액 | X1: 부가가치세 | Y1: 총공사비
A2: 73 | B2: 김OO | C2: 인천광역시 부평구 경원대로
A3: 75 | B3: 이OO | C3: 인천광역시 계양구 박촌로
A4: 76 | B4: 김OO | C4: 인천광역시 미추홀구 미추홀대로646번길
A5: 77 | B5: 류OO | C5: 인천광역시 남동구 호구포로
A6: 78 | B6: 홍OO | C6: 인천광역시 중구 축항대로86번길
A7: 계

Sheet 원가내역서(원본)
B1: 공사품목 | C1: 유형 | D1: 사 양 | E1: 공사위치 | F1: 단위 | G1: 수 량 | H1: 재료비 | J1: 노무비 | L1: 경비 | N1: 합계
H2: 단가 | I2: 합계 | J2: 단가 | K2: 합계 | L2: 단가 | M2: 합계 | N2: 단가 | O2: 합계
B3: ★복사입력☆ | C3: 수식 | D3: 수식 | E3: ★'직접입력 | F3: 수식 | G3: ★직접입력 | I3: 수식 | K3: 수식 | M3: 수식 | N3: 수식 | O3: 수식
B4: 73
B5: 도배철거(천장) | D5: 천장 | E5: 방 1 | F5: ㎡ | G5: 8.7
B6: 도배(실크, 천정면) / 합판·석고보드면 | D6: 실크벽지(초배유) | E6: 방 1 | F6: ㎡ | G6: 8.7
B7: 도배철거(벽) | D7: 벽 | E7: 방 1 | F7: ㎡ | G7: 28.5
B8: 도배(실크, 벽면) / 콘크리트·모르타르면 | D8: 실크벽지(초배유) | E8: 방 1 | F8: ㎡ | G8: 28.5
B9: 도배철거(천장) | D9: 천장 | E9: 방 2 | F9: ㎡ | G9: 16.1
B10: 도배(실크, 천정면) / 합판·석고보드면 | D10: 실크벽지(초배유) | E10: 방 2 | F10: ㎡ | G10: 16.1
B11: 도배철거(벽) | D11: 벽 | E11: 방 2 | F11: ㎡ | G11: 38.5
B12: 도배(실크, 벽면) / 콘크리트·모르타르면 | D12: 실크벽지(초배유) | E12: 방 2 | F12: ㎡ | G12: 38.5
B13: 도배철거(천장) | D13: 천장 | E13: 방 3 | F13: ㎡ | G13: 10.695
B14: 도배(실크, 천정면) / 합판·석고보드면 | D14: 실크벽지(초배유) | E14: 방 3 | F14: ㎡ | G14: 10.695
B15: 도배철거(벽) | D15: 벽 | E15: 방 3 | F15: ㎡ | G15: 30.75
B16: 도배(실크, 벽면) / 콘크리트·모르타르면 | D16: 실크벽지(초배유) | E16: 방 3 | F16: ㎡ | G16: 30.75
... B29: 자동확산소화기 | D29: 퓨즈볼링크, 3kg | E29: 주방 | F29: 개 | G29: 1
B30: 혼합건설폐기물 | D30: 건설폐재류에 가연성 5% 이하 혼합 | F30: 식 | G30: 3
A31: 73합계 | B31: 합계
B32: 75
B33: 단창철거 | D33: 단창(공구손료포함) | E33: 창호 ① | F33: ㎡ | G33: 2.86
B34: PVC단창 / 자재 | D34: 22mm 페어글라스, 소운반, 연결철물, 마무리작업 포함(실리콘 쏘기) | E34: 창호 ① | F34: ㎡ | G34: 2.86
B35: PVC단창 / 시공비(창호면적 ㎡, 1.0 - 3.0 미만) | D35: 22mm 페어글라스, 소운반, 연결철물, 마무리작업 포함(실리콘 쏘기) | E35: 창호 ① | F35: 개소 | G35: 1
B36: 우레탄폼충전 | D36: 창문틀주위 (좌측,우측,상부) | E36: 창호 ① | F36: m | G36: 7.4
B37: 방충망 | D37: 창문형, 설치비 포함 | E37: 창호 ① | F37: ㎡ | G37: 1.43
B38: PVC 고정핸들 | D38: 손잡이 / 고정형 | E38: 창호 ① | F38: 개 | G38: 2
B39: 이중창철거 | D39: 이중창(공구손료포함) | E39: 창호 ② | F39: ㎡ | G39: 2.64
B40: pvc이중창 / 자재 | D40: 22mm 페어글라스, 소운반, 연결철물, 마무리작업 포함(실리콘 쏘기) | E40: 창호 ② | F40: ㎡ | G40: 2.64
B41: PVC이중창 / 시공비(창호면적 ㎡, 1.0 - 3.0 미만) | D41: 22mm 페어글라스, 소운반, 연결철물, 마무리작업 포함(실리콘 쏘기) | E41: 창호 ② | F41: 개소 | G41: 1
B42: 우레탄폼충전 | D42: 창문틀주위 (좌측,우측,상부) | E42: 창호 ② | F42: m | G42: 7
B43: 방충망 | D43: 창문형, 설치비 포함 | E43: 창호 ② | F43: ㎡ | G43: 1.32
B44: PVC 고정핸들 | D44: 손잡이 / 고정형 | E44: 창호 ② | F44: 개 | G44: 8
... B78: 도배(합지,벽면) / 콘크리트·모르타르면 | D78: 초배지 시공(합지, 폭90Cm이상, 180g/㎡ 이상) | E78: 주방 | F78: ㎡ | G78: 11.9
B79: 고소작업대(16m) | D79: 1톤 | F79: 일 | G79: 1
B80: 가구 및 집기 이전비 | D80: 가구 이동 및 재배치비 | F80: 식 | G80: 2
B81: 혼합건설폐기물 | D81: 건설폐재류에 가연성 5% 이하 혼합 | F81: 식 | G81: 2
A82: 75합계 | B82: 합계
B83: 76
B84: 도배철거(천장) | D84: 천장 | E84: 방 1 | F84: ㎡ | G84: 9.6
B85: 도배(합지, 천정면) / 합판·석고보드면 | D85: 초배지 시공(합지, 폭90Cm이상, 180g/㎡ 이상) | E85: 방 1 | F85: ㎡ | G85: 9.6
B86: 도배철거(벽) | D86: 벽 | E86: 방 1 | F86: ㎡ | G86: 27.28
B87: 도배(합지,벽면) / 콘크리트·모르타르면 | D87: 초배지 시공(합지, 폭90Cm이상, 180g/㎡ 이상) | E87: 방 1 | F87: ㎡ | G87: 27.28
B88: 장판철거 | E88: 방 1 | F88: ㎡ | G88: 9.6
B89: 장판(2T) | D89: T=2mm(경보행용) | E89: 방 1 | F89: ㎡ | G89: 9.6
B90: 도배철거(천장) | D90: 천장 | E90: 방 2 | F90: ㎡ | G90: 10.24
B91: 도배(합지, 천정면) / 합판·석고보드면 | D91: 초배지 시공(합지, 폭90Cm이상, 180g/㎡ 이상) | E91: 방 2 | F91: ㎡ | G91: 10.24
B92: 도배철거(벽) | D92: 벽 | E92: 방 2 | F92: ㎡ | G92: 28.16
B93: 이보드 13T(도배, 타일용) / 벽 | D93: 900×2400 단열재(압출) : 13T, (도배, 타일용) | E93: 방 2 벽면 일부 (도면참조) | F93: ㎡ | G93: 14.08
B94: 도배(합지,벽면) / 콘크리트·모르타르면 | D94: 초배지 시공(합지, 폭90Cm이상, 180g/㎡ 이상) | E94: 방 2 | F94: ㎡ | G94: 28.16
B95: 장판철거 | E95: 방 2 | F95: ㎡ | G95: 10.24
B96: 장판(2T) | D96: T=2mm(경보행용) | E96: 방 2 | F96: ㎡ | G96: 10.24
B97: 도배철거(천장) | D97: 천장 | E97: 방 3 | F97: ㎡ | G97: 9.28
B98: 도배(합지, 천정면) / 합판·석고보드면 | D98: 초배지 시공(합지, 폭90Cm이상, 180g/㎡ 이상) | E98: 방 3 | F98: ㎡ | G98: 9.28
B99: 도배철거(벽) | D99: 벽 | E99: 방 3 | F99: ㎡ | G99: 26.84
B100: 도배(합지,벽면) / 콘크리트·모르타르면 | D100: 초배지 시공(합지, 폭90Cm이상, 180g/㎡ 이상) | E100: 방 3 | F100: ㎡ | G100: 26.84
B101: 장판철거 | E101: 방 3 | F101: ㎡ | G101: 9.28
B102: 장판(2T) | D102: T=2mm(경보행용) | E102: 방 3 | F102: ㎡ | G102: 9.28
B103: 장판철거 | E103: 주방 | F103: ㎡ | G103: 6
B104: 장판(2T) | D104: T=2mm(경보행용) | E104: 주방 | F104: ㎡ | G104: 6
B105: 모르타르바름(30mm) / 바닥 | D105: 30mm, 1회 | E105: 주방 바닥 | F105: ㎡ | G105: 12
B106: 싱크대철거 (상부장) | D106: 상부장 철거 | E106: 주방 | F106: m | G106: 1
B107: 싱크대철거 (하부장) | D107: 하부장 철거 | E107: 주방 | F107: m | G107: 2.5
B108: 싱크대상부장 | D108: UV하이그로시마감, 2단선반포함 | E108: 주방 | F108: m | G108: 1
B109: 싱크대하부장 | D109: 인조대리석 상판, UV하이그로시마감, 칼꽂이포함 | E109: 주방 | F109: m | G109: 2.5
B110: 싱크대수전(벽붙이) | D110: 벽붙이, 혼합수전 | E110: 싱크대 | F110: 대 | G110: 1
B111: 자동확산소화기 | D111: 퓨즈볼링크, 3kg | E111: 주방 천장 | F111: 개 | G111: 1
B112: 수납장(2) | D112: 800*420*1880, 5단(3단오픈) | E112: 키큰장 | F112: 개 | G112: 1
B113: 수납장(2) | D113: 800*420*1880, 5단(3단오픈) | E113: 하부 수납장 | F113: 개 | G113: 0.8
B114: 이중창철거 | D114: 이중창(공구손료포함) | E114: 창호 ① | F114: ㎡ | G114: 1.95
B115: PVC이중창 / 자재 | D115: 22mm 페어글라스, 소운반, 연결철물, 마무리작업 포함(실리콘 쏘기) | E115: 창호 ① | F115: ㎡ | G115: 1.95
... B149: 옥상방수(바닥) | D149: 3mm, 노출(우레탄방수), 바탕정리, 방수층 보호재 포함 | E149: 옥상면 | F149: ㎡ | G149: 42.32
B150: LED등(50W) | E150: 도면참조 | F150: 세트 | G150: 4
B151: 배수관(50mm) / 소켓접합 | D151: 50mm(PVC) | E151: 싱크대 배수관 | F151: m | G151: 3
B152: 가구 및 집기 이전비 | D152: 가구 이동 및 재배치비 | F152: 식 | G152: 3.5
B153: 혼합건설폐기물 | D153: 건설폐재류에 가연성 5% 이하 혼합 | F153: 식 | G153: 8
A154: 76합계 | B154: 합계
B155: 77
B156: 도배철거(천장) | D156: 천장 | E156: 방 1 | F156: ㎡ | G156: 14.8
B157: 도배(합지, 천정면) / 합판·석고보드면 | D157: 초배지 시공(합지, 폭90Cm이상, 180g/㎡ 이상) | E157: 방 1 | F157: ㎡ | G157: 14.8
B158: 도배철거(벽) | D158: 벽 | E158: 방 1 | F158: ㎡ | G158: 26.325
B159: 도배(합지,벽면) / 콘크리트·모르타르면 | D159: 초배지 시공(합지, 폭90Cm이상, 180g/㎡ 이상) | E159: 방 1 | F159: ㎡ | G159: 26.325
B160: 도배철거(천장) | D160: 천장 | E160: 방 2 | F160: ㎡ | G160: 5.67
B161: 도배(합지, 천정면) / 합판·석고보드면 | D161: 초배지 시공(합지, 폭90Cm이상, 180g/㎡ 이상) | E161: 방 2 | F161: ㎡ | G161: 5.67
B162: 도배철거(벽) | D162: 벽 | E162: 방 2 | F162: ㎡ | G162: 21.6
B163: 도배(합지,벽면) / 콘크리트·모르타르면 | D163: 초배지 시공(합지, 폭90Cm이상, 180g/㎡ 이상) | E163: 방 2 | F163: ㎡ | G163: 21.6
B164: 도배철거(천장) | D164: 천장 | E164: 방 3 | F164: ㎡ | G164: 5.2
B165: 도배(합지, 천정면) / 합판·석고보드면 | D165: 초배지 시공(합지, 폭90Cm이상, 180g/㎡ 이상) | E165: 방 3 | F165: ㎡ | G165: 5.2
B166: 도배철거(벽) | D166: 벽 | E166: 방 3 | F166: ㎡ | G166: 20.7
B167: 도배(합지,벽면) / 콘크리트·모르타르면 | D167: 초배지 시공(합지, 폭90Cm이상, 180g/㎡ 이상) | E167: 방 3 | F167: ㎡ | G167: 20.7
... B190: 3연동중문 | D190: 연동 슬라이딩도어 [3연동] / 설치비 포함 | E190: 도어 ⓑ | F190: ㎡ | G190: 2.5
B191: LED등(30W) | E191: 화장실 | F191: 세트 | G191: 1
B192: 천장합판설치(2.7t) | D192: 2.7t | E192: 거실 천장 일부 | F192: ㎡ | G192: 3
B193: 세면기(배관연결포함) | D193: 하부일체형, ㉿L610 | E193: 화장실 | F193: 개 | G193: 1
B194: 혼합수전(샤워기일체형) | D194: 온냉수 | E194: 화장실 | F194: 개 | G194: 1
B195: 가구 및 집기 이전비 | D195: 가구 이동 및 재배치비 | F195: 식 | G195: 1.5
B196: 혼합건설폐기물 | D196: 건설폐재류에 가연성 5% 이하 혼합 | F196: 식 | G196: 3
A197: 77합계 | B197: 합계
B198: 78
B199: 도배철거(천장) | D199: 천장 | E199: 방 1 | F199: ㎡ | G199: 13.02
B200: 도배(실크, 천정면) / 합판·석고보드면 | D200: 실크벽지(초배유) | E200: 방 1 | F200: ㎡ | G200: 13.02
...

Sheet 공종별내역서
A1: [ 원가 분석용 자료 ]
A2: 품 명 | B2: 규 격 | C2: 단위 | D2: 수량 | E2: 재 료 비 | G2: 노 무 비 | I2: 경 비 | K2: 합 계 | M2: 비 고 | N2: 품목코드 | O2: 변수 | P2: 설정 | Q2: 공종코드 | R2: 일위 | S2: 단산 | T2: 자재 | U2: 손료적용 | V2: 손료저장 | W2: 적용율 | X2: JUK1 | Y2: JUK2 | Z2: JUK3 | AA2: JUK4 | AB2: JUK5 | AC2: JUK6 | AD2: JUK7 | AE2: JUK8 | AF2: JUK9 | AG2: JUK10 | AH2: JUK11 | AI2: JUK12 | AJ2: JUK13 | AK2: JUK14 | AL2: JUK15 | AM2: JUK16 | AN2: JUK17 | AO2: JUK18 | AP2: JUK19 | AQ2: JUK20 | AR2: 자재구분 | AS2: 공종구분 | AT2: 공종레벨 | AU2: 공종+자재 | AV2: 고유번호 | AX2: 상승률
E3: 단 가 | F3: 금 액 | G3: 단 가 | H3: 금 액 | I3: 단 가 | J3: 금 액 | K3: 단 가 | L3: 금 액 | AX3: 재료비 | AY3: 노무비 | AZ3: 경비 | BA3: 합계
A4: 0101 1~10 | Q4: 0101
A5: 01-01 도배(합지,벽면) / 합판·석고보드면 | B5: 초배지 시공(합지, 폭90Cm이상, 180g/m2 이상) | C5: M2 | E5: =TRUNC(일위대가목록!E4,0) -> 2128 | F5: =TRUNC(E5*D5, 0) -> 0 | G5: =TRUNC(일위대가목록!F4,0) -> 4860 | H5: =TRUNC(G5*D5, 0) -> 0 | I5: 0 | J5: =TRUNC(I5*D5, 0) -> 0 | K5: =TRUNC(E5+G5+I5, 0) -> 6988 | L5: =TRUNC(F5+H5+J5, 0) -> 0 | M5: 호표 1 | N5: 5062818DDD53DE257977CAC19BEFE2 | Q5: 0101 | R5: T | S5: F | T5: F | AU5: 01015062818DDD53DE257977CAC19BEFE2 | AV5: 3
E6: 1404 | G6: 4445 | I6: 0 | K6: =E6+G6+I6 -> 5849 | M6: 2022 | AX6: =E5/E6 -> 1.5156695 | AY6: =G5/G6 -> 1.0933633 | BA6: =K5/K6 -> 1.1947341
A7: 01-02 도배(합지,벽면) / 콘크리트·모르타르면 | B7: 초배지 시공(합지, 폭90Cm이상, 180g/m2 이상) | C7: M2 | E7: =TRUNC(일위대가목록!E5,0) -> 2229 | F7: =TRUNC(E7*D7, 0) -> 0 | G7: =TRUNC(일위대가목록!F5,0) -> 4399 | H7: =TRUNC(G7*D7, 0) -> 0 | I7: =TRUNC(일위대가목록!G5,0) -> 0 | J7: =TRUNC(I7*D7, 0) -> 0 | K7: =TRUNC(E7+G7+I7, 0) -> 6628 | L7: =TRUNC(F7+H7+J7, 0) -> 0 | M7: 호표 2 | N7: 5062818DDD53DE227C39D8C16133F0 | Q7: 0101 | R7: T | S7: F | T7: F | AU7: 01015062818DDD53DE227C39D8C16133F0 | AV7: 4
E8: 1404 | G8: 4445 | K8: =E8+G8+I8 -> 5849 | M8: 2022 | AX8: =E7/E8 -> 1.5876068 | AY8: =G7/G8 -> 0.98965129 | BA8: =K7/K8 -> 1.1331852
A9: 02-01 도배(합지, 천정면) / 합판·석고보드면 | B9: 초배지 시공(합지, 폭90Cm이상, 180g/m2 이상) | C9: M2 | E9: =TRUNC(일위대가목록!E6,0) -> 2128 | F9: =TRUNC(E9*D9, 0) -> 0 | G9: =TRUNC(일위대가목록!F6,0) -> 6319 | H9: =TRUNC(G9*D9, 0) -> 0 | I9: =TRUNC(일위대가목록!G6,0) -> 0 | J9: =TRUNC(I9*D9, 0) -> 0 | K9: =TRUNC(E9+G9+I9, 0) -> 8447 | L9: =TRUNC(F9+H9+J9, 0) -> 0 | M9: 호표 3 | N9: 5062818DDD53DE237EAA756199BD98 | Q9: 0101 | R9: T | S9: F | T9: F | AU9: 01015062818DDD53DE237EAA756199BD98 | AV9: 5
E10: 1575 | G10: 5925 | K10: =E10+G10+I10 -> 7500 | M10: 2022 | AX10: =E9/E10 -> 1.3511111 | AY10: =G9/G10 -> 1.0664979 | BA10: =K9/K10 -> 1.1262667
A11: 02-02 도배(합지, 천정면) / 콘크리트·모르타르면 | B11: 초배지 시공(합지, 폭90Cm이상, 180g/m2 이상) | C11: M2 | E11: =TRUNC(일위대가목록!E7,0) -> 2229 | F11: =TRUNC(E11*D11, 0) -> 0 | G11: =TRUNC(일위대가목록!F7,0) -> 5718 | H11: =TRUNC(G11*D11, 0) -> 0 | I11: =TRUNC(일위대가목록!G7,0) -> 0 | J11: =TRUNC(I11*D11, 0) -> 0 | K11: =TRUNC(E11+G11+I11, 0) -> 7947 | L11: =TRUNC(F11+H11+J11, 0) -> 0 | M11: 호표 4 | N11: 5062818DDD53DE2071609EC1CEE9E5 | Q11: 0101 | R11: T | S11: F | T11: F | AU11: 01015062818DDD53DE2071609EC1CEE9E5 | AV11: 6
E12: 1575 | G12: 5925 | K12: =E12+G12+I12 -> 7500 | M12: 2022 | AX12: =E11/E12 -> 1.4152381 | AY12: =G11/G12 -> 0.96506329 | BA12: =K11/K12 -> 1.0596
A13: 03-01 도배(실크, 벽면) / 합판·석고보드면 | B13: 실크벽지(초배유) | C13: M2 | E13: =TRUNC(일위대가목록!E8,0) -> 3324 | F13: =TRUNC(E13*D13, 0) -> 0 | G13: =TRUNC(일위대가목록!F8,0) -> 3888 | H13: =TRUNC(G13*D13, 0) -> 0 | I13: =TRUNC(일위대가목록!G8,0) -> 0 | J13: =TRUNC(I13*D13, 0) -> 0 | K13: =TRUNC(E13+G13+I13, 0) -> 7212 | L13: =TRUNC(F13+H13+J13, 0) -> 0 | M13: 호표 5 | N13: 5062818DDD53DE257977CAC19BE815 | Q13: 0101 | R13: T | S13: F | T13: F | AU13: 01015062818DDD53DE257977CAC19BE815 | AV13: 7
E14: 3456 | G14: 2944 | K14: =E14+G14+I14 -> 6400 | M14: 2022 | AX14: =E13/E14 -> 0.96180556 | AY14: =G13/G14 -> 1.3206522 | BA14: =K13/K14 -> 1.126875
A15: 03-02 도배(실크, 벽면) / 콘크리트·모르타르면 | B15: 실크벽지(초배유) | C15: M2 | E15: =TRUNC(일위대가목록!E9,0) -> 3426 | F15: =TRUNC(E15*D15, 0) -> 0 | G15: =TRUNC(일위대가목록!F9,0) -> 3519 | H15: =TRUNC(G15*D15, 0) -> 0 | I15: =TRUNC(일위대가목록!G9,0) -> 0 | J15: =TRUNC(I15*D15, 0) -> 0 | K15: =TRUNC(E15+G15+I15, 0) -> 6945 | L15: =TRUNC(F15+H15+J15, 0) -> 0 | M15: 호표 6 | N15: 5062818DDD53DE227C39D8C16134D9 | Q15: 0101 | R15: T | S15: F | T15: F | AU15: 01015062818DDD53DE227C39D8C16134D9 | AV15: 8
E16: 3456 | G16: 2944 | K16: =E16+G16+I16 -> 6400 | M16: 2022 | AX16: =E15/E16 -> 0.99131944 | AY16: =G15/G16 -> 1.1953125 | BA16: =K15/K16 -> 1.0851563
A17: 04-01 도배(실크, 천정면) / 합판·석고보드면 | B17: 실크벽지(초배유) | C17: M2 | E17: =TRUNC(일위대가목록!E10,0) -> 3324 | F17: =TRUNC(E17*D17, 0) -> 0 | G17: =TRUNC(일위대가목록!F10,0) -> 7583 | H17: =TRUNC(G17*D17, 0) -> 0 | I17: =TRUNC(일위대가목록!G10,0) -> 0 | J17: =TRUNC(I17*D17, 0) -> 0 | K17: =TRUNC(E17+G17+I17, 0) -> 10907 | L17: =TRUNC(F17+H17+J17, 0) -> 0 | M17: 호표 7 | N17: 5062818DDD53DE237EAA756199BA64 | Q17: 0101 | R17: T | S17: F | T17: F | AU17: 01015062818DDD53DE237EAA756199BA64 | AV17: 9
E18: 4535 | G18: 5114 | K18: =E18+G18+I18 -> 9649 | M18: 2022 | AX18: =E17/E18 -> 0.73296582 | AY18: =G17/G18 -> 1.4827923 | BA18: =K17/K18 -> 1.1303762
A19: 04-02 도배(실크, 천정면) / 콘크리트·모르타르면 | B19: 실크벽지(초배유) | C19: M2 | E19: =TRUNC(일위대가목록!E11,0) -> 3426 | F19: =TRUNC(E19*D19, 0) -> 0 | G19: =TRUNC(일위대가목록!F11,0) -> 7625 | H19: =TRUNC(G19*D19, 0) -> 0 | I19: =TRUNC(일위대가목록!G11,0) -> 0 | J19: =TRUNC(I19*D19, 0) -> 0 | K19: =TRUNC(E19+G19+I19, 0) -> 11051 | L19: =TRUNC(F19+H19+J19, 0) -> 0 | M19: 호표 8 | N19: 5062818DDD53DE2071609EC1CEEE67 | Q19: 0101 | R19: T | S19: F | T19: F | AU19: 01015062818DDD53DE2071609EC1CEEE67 | AV19: 10
E20: 4535 | G20: 5114 | K20: =E20+G20+I20 -> 9649 | M20: 2022 | AX20: =E19/E20 -> 0.75545755 | AY20: =G19/G20 -> 1.4910051 | BA20: =K19/K20 -> 1.1453
A21: 05 도배(본드) | B21: 페인트위(본드,바인드,부직포) | C21: M2 | E21: =TRUNC(일위대가목록!E12,0) -> 3324 | F21: =TRUNC(E21*D21, 0) -> 0 | G21: =TRUNC(일위대가목록!F12,0) -> 3564 | H21: =TRUNC(G21*D21, 0) -> 0 | I21: =TRUNC(일위대가목록!G12,0) -> 0 | J21: =TRUNC(I21*D21, 0) -> 0 | K21: =TRUNC(E21+G21+I21, 0) -> 6888 | L21: =TRUNC(F21+H21+J21, 0) -> 0 | M21: 호표 9 | N21: 5062818DDD53DE257977CAC19BE816 | Q21: 0101 | R21: T | S21: F | T21: F | AU21: 01015062818DDD53DE257977CAC19BE816 | AV21: 395
E22: 3307 | G22: 2817 | K22: =E22+G22+I22 -> 6124 | M22: 2022 | AX22: =E21/E22 -> 1.0051406 | AY22: =G21/G22 -> 1.2651757 | BA22: =K21/K22 -> 1.1247551
A23: 06 장판(2T) | B23: T=2mm(경보행용) | C23: M2 | E23: =TRUNC(일위대가목록!E13,0) -> 10096 | F23: =TRUNC(E23*D23, 0) -> 0 | G23: =TRUNC(일위대가목록!F13,0) -> 1844 | H23: =TRUNC(G23*D23, 0) -> 0 | I23: =TRUNC(일위대가목록!G13,0) -> 0 | J23: =TRUNC(I23*D23, 0) -> 0 | K23: =TRUNC(E23+G23+I23, 0) -> 11940 | L23: =TRUNC(F23+H23+J23, 0) -> 0 | M23: 호표 10 | N23: 5062818DEFA19B2770806FB179BFC2 | Q23: 0101 | R23: T | S23: F | T23: F | AU23: 01015062818DEFA19B2770806FB179BFC2 | AV23: 11
E24: 8628 | G24: 1767 | K24: =E24+G24+I24 -> 10395 | M24: 2022 | AX24: =E23/E24 -> 1.1701437 | AY24: =G23/G24 -> 1.0435767 | BA24: =K23/K24 -> 1.1486291
A25: 07 장판(2.3T) | B25: T=2.3mm(중보행용) | C25: M2 | E25: =TRUNC(일위대가목록!E14,0) -> 15148 | F25: =TRUNC(E25*D25, 0) -> 0 | G25: =TRUNC(일위대가목록!F14,0) -> 2459 | H25: =TRUNC(G25*D25, 0) -> 0 | I25: =TRUNC(일위대가목록!G14,0) -> 0 | J25: =TRUNC(I25*D25, 0) -> 0 | K25: =TRUNC(E25+G25+I25, 0) -> 17607 | L25: =TRUNC(F25+H25+J25, 0) -> 0 | M25: 호표 11 | N25: 5062818DEFA19B2770806FB17A42DB | Q25: 0101 | R25: T | S25: F | T25: F | AU25: 01015062818DEFA19B2770806FB17A42DB | AV25: 12
E26: 13037 | G26: 1948 | K26: =E26+G26+I26 -> 14985 | M26: 2022 | AX26: =E25/E26 -> 1.1619238 | AY26: =G25/G26 -> 1.2623203 | BA26: =K25/K26 -> 1.174975
A27: 08 강화마루 설치 (제거+설치) | B27: (제거+붙이기)보양포함 | C27: M2 | E27: =TRUNC(일위대가목록!E15,0) -> 21105 | F27: =TRUNC(E27*D27, 0) -> 0 | G27: =TRUNC(일위대가목록!F15,0) -> 17610 | H27: =TRUNC(G27*D27, 0) -> 0 | I27: =TRUNC(일위대가목록!G15,0) -> 351 | J27: =TRUNC(I27*D27, 0) -> 0 | K27: =TRUNC(E27+G27+I27, 0) -> 39066 | L27: =TRUNC(F27+H27+J27, 0) -> 0 | M27: 호표 12 | N27: 5062E18466D98C25760D822135FB88 | Q27: 0101 | R27: T | S27: F | T27: F | AU27: 01015062E18466D98C25760D822135FB88 | AV27: 52
E28: 22829 | G28: 36697 | I28: 916 | K28: =E28+G28+I28 -> 60442 | M28: 2022 | AX28: =E27/E28 -> 0.92448202 | AY28: =G27/G28 -> 0.47987574 | AZ28: =I27/I28 -> 0.38318777 | BA28: =K27/K28 -> 0.64633864
A29: 09 비닐타일붙임 (왁스 무) | B29: 2.0T, 300*300, 왁스 무 | C29: M2 | E29: =TRUNC(일위대가목록!E16,0) -> 4935 | F29: =TRUNC(E29*D29, 0) -> 0 | G29: =TRUNC(일위대가목록!F16,0) -> 10200 | H29: =TRUNC(G29*D29, 0) -> 0 | I29: =TRUNC(일위대가목록!G16,0) -> 0 | J29: =TRUNC(I29*D29, 0) -> 0 | K29: =TRUNC(E29+G29+I29, 0) -> 15135 | L29: =TRUNC(F29+H29+J29, 0) -> 0 | M29: 호표 13 | N29: 5062818DEFA19B26763497E177350F | Q29: 0101 | R29: T | S29: F | T29: F | AU29: 01015062818DEFA19B26763497E177350F | AV29: 13
E30: 4365 | G30: 9717 | I30: 0 | K30: =E30+G30+I30 -> 14082 | M30: 2022 | AX30: =E29/E30 -> 1.1305842 | AY30: =G29/G30 -> 1.0497067 | BA30: =K29/K30 -> 1.0747763
A31: 10 비닐타일붙임 (왁스 유) | B31: 2.0T, 300*300, 왁스 유 | C31: M2 | E31: =TRUNC(일위대가목록!E17,0) -> 5121 | F31: =TRUNC(E31*D31, 0) -> 0 | G31: =TRUNC(일위대가목록!F17,0) -> 12157 | H31: =TRUNC(G31*D31, 0) -> 0 | I31: =TRUNC(일위대가목록!G17,0) -> 0 | J31: =TRUNC(I31*D31, 0) -> 0 | K31: =TRUNC(E31+G31+I31, 0) -> 17278 | L31: =TRUNC(F31+H31+J31, 0) -> 0 | M31: 호표 14 | N31: 5062818DEFA19B26763497E177350C | Q31: 0101 | R31: T | S31: F | T31: F | AU31: 01015062818DEFA19B26763497E177350C | AV31: 14
E32: 4455 | G32: 12046 | I32: 0 | K32: =E32+G32+I32 -> 16501 | M32: 2022 | AX32: =E31/E32 -> 1.1494949 | AY32: =G31/G32 -> 1.0092147 | BA32: =K31/K32 -> 1.0470881
A33: 0102 11~20 | Q33: 0102
A34: 11-01 단열도배(5mm) / 합판·석고보드면, 벽 | B34: 두께 5㎜ | C34: M2 | E34: =TRUNC(일위대가목록!E18,0) -> 3432 | F34: =TRUNC(E34*D34, 0) -> 0 | G34: =TRUNC(일위대가목록!F18,0) -> 5184 | H34: =TRUNC(G34*D34, 0) -> 0 | I34: =TRUNC(일위대가목록!G18,0) -> 0 | J34: =TRUNC(I34*D34, 0) -> 0 | K34: =TRUNC(E34+G34+I34, 0) -> 8616 | L34: =TRUNC(F34+H34+J34, 0) -> 0 | M34: 호표 15 | N34: 5062818DDD53DE267BE05CF107C6E8 | Q34: 0102 | R34: T | S34: F | T34: F | AU34: 01025062818DDD53DE267BE05CF107C6E8 | AV34: 53
E35: 2995 | G35: 4445 | I35: 0 | K35: =E35+G35+I35 -> 7440 | M35: 2022 | AX35: =E34/E35 -> 1.1459098 | AY35: =G34/G35 -> 1.1662542 | BA35: =K34/K35 -> 1.1580645
A36: 11-02 단열도배(5mm) / 콘크리트·모르타르면, 벽 | B36: 두께 5㎜ | C36: M2 | E36: =TRUNC(일위대가목록!E19,0) -> 3646 | F36: =TRUNC(E36*D36, 0) -> 0 | G36: =TRUNC(일위대가목록!F19,0) -> 4692 | H36: =TRUNC(G36*D36, 0) -> 0 | I36: =TRUNC(일위대가목록!G19,0) -> 0 | J36: =TRUNC(I36*D36, 0) -> 0 | K36: =TRUNC(E36+G36+I36, 0) -> 8338 | L36: =TRUNC(F36+H36+J36, 0) -> 0 | M36: 호표 16 | N36: 5062818DDD53DE267BE05CF107C583 | Q36: 0102 | R36: T | S36: F | T36: F | AU36: 01025062818DDD53DE267BE05CF107C583 | AV36: 55
E37: 2995 | G37: 4445 | I37: 0 | K37: =E37+G37+I37 -> 7440 | M37: 2022 | AX37: =E36/E37 -> 1.2173623 | AY37: =G36/G37 -> 1.0555681 | BA37: =K36/K37 -> 1.1206989
A38: 12-01 단열도배(10mm) / 합판·석고보드면, 벽 | B38: 두께 10㎜ | C38: M2 | E38: =TRUNC(일위대가목록!E20,0) -> 6083 | F38: =TRUNC(E38*D38, 0) -> 0 | G38: =TRUNC(일위대가목록!F20,0) -> 5184 | H38: =TRUNC(G38*D38, 0) -> 0 | I38: =TRUNC(일위대가목록!G20,0) -> 0 | J38: =TRUNC(I38*D38, 0) -> 0 | K38: =TRUNC(E38+G38+I38, 0) -> 11267 | L38: =TRUNC(F38+H38+J38, 0) -> 0 | M38: 호표 17 | N38: 5062818DDD53DE267BE05CF107C6EB | Q38: 0102 | R38: T | S38: F | T38: F | AU38: 01025062818DDD53DE267BE05CF107C6EB | AV38: 54
E39: 5530 | G39: 4445 | I39: 0 | K39: =E39+G39+I39 -> 9975 | M39: 2022 | AX39: =E38/E39 -> 1.1 | AY39: =G38/G39 -> 1.1662542 | BA39: =K38/K39 -> 1.1295238
A40: 12-02 단열도배(10mm) / 콘크리트·모르타르면, 벽 | B40: 두께 10㎜ | C40: M2 | E40: =TRUNC(일위대가목록!E21,0) -> 6636 | F40: =TRUNC(E40*D40, 0) -> 0 | G40: =TRUNC(일위대가목록!F21,0) -> 4692 | H40: =TRUNC(G40*D40, 0) -> 0 | I40: =TRUNC(일위대가목록!G21,0) -> 0 | J40: =TRUNC(I40*D40, 0) -> 0 | K40: =TRUNC(E40+G40+I40, 0) -> 11328 | L40: =TRUNC(F40+H40+J40, 0) -> 0 | M40: 호표 18 | N40: 5062818DDD53DE267BE05CF107C580 | Q40: 0102 | R40: T | S40: F | T40: F | AU40: 01025062818DDD53DE267BE05CF107C580 | AV40: 56
E41: 5530 | G41: 4445 | I41: 0 | K41: =E41+G41+I41 -> 9975 | M41: 2022 | AX41: =E40/E41 -> 1.2 | AY41: =G40/G41 -> 1.0555681 | BA41: =K40/K41 -> 1.1356391
A42: 13-01 모르타르바름(6mm) / 바닥 | B42: 6mm, 1회 | C42: M2 | E42: =TRUNC(일위대가목록!E22,0) -> 604 | F42: =TRUNC(E42*D42, 0) -> 0 | G42: =TRUNC(일위대가목록!F22,0) -> 1498 | H42: =TRUNC(G42*D42, 0) -> 0 | I42: =TRUNC(일위대가목록!G22,0) -> 13 | J42: =TRUNC(I42*D42, 0) -> 0 | K42: =TRUNC(E42+G42+I42, 0) -> 2115 | L42: =TRUNC(F42+H42+J42, 0) -> 0 | M42: 호표 19 | N42: 5062018289A0552370481AB1522435 | Q42: 0102 | R42: T | S42: F | T42: F | AU42: 01025062018289A0552370481AB1522435 | AV42: 18
E43: 1046 | G43: 14616 | I43: 0 | K43: =E43+G43+I43 -> 15662 | M43: 2022 | AX43: =E42/E43 -> 0.57743786 | AY43: =G42/G43 -> 0.10249042 | BA43: =K42/K43 -> 0.13504022
A44: 13-02 모르타르바름(6mm) / 내벽, 3.6m 이하 | B44: 6mm, 1회 | C44: M2 | E44: =TRUNC(일위대가목록!E23,0) -> 602 | F44: =TRUNC(E44*D44, 0) -> 0 | G44: =TRUNC(일위대가목록!F23,0) -> 16361 | H44: =TRUNC(G44*D44, 0) -> 0 | I44: =TRUNC(일위대가목록!G23,0) -> 314 | J44: =TRUNC(I44*D44, 0) -> 0 | K44: =TRUNC(E44+G44+I44, 0) -> 17277 | L44: =TRUNC(F44+H44+J44, 0) -> 0 | M44: 호표 20 | N44: 5062018289A0712C712BFF016C7AEF | Q44: 0102 | R44: T | S44: F | T44: F | AU44: 01025062018289A0712C712BFF016C7AEF | AV44: 19
E45: 1046 | G45: 14646 | I45: 0 | K45: =E45+G45+I45 -> 15692 | M45: 2022 | AX45: =E44/E45 -> 0.57552581 | AY45: =G44/G45 -> 1.1170968 | BA45: =K44/K45 -> 1.1010069
A46: 13-03 모르타르바름(6mm) / 내벽, 3.6m 초과 | B46: 6mm, 1회 | C46: M2 | E46: =TRUNC(일위대가목록!E24,0) -> 602 | F46: =TRUNC(E46*D46, 0) -> 0 | G46: =TRUNC(일위대가목록!F24,0) -> 16266 | H46: =TRUNC(G46*D46, 0) -> 0 | I46: =TRUNC(일위대가목록!G24,0) -> 312 | J46: =TRUNC(I46*D46, 0) -> 0 | K46: =TRUNC(E46+G46+I46, 0) -> 17180 | L46: =TRUNC(F46+H46+J46, 0) -> 0 | M46: 호표 21 | N46: 5062018289A0712C710F17D191BE25 | Q46: 0102 | R46: T | S46: F | T46: F | AU46: 01025062018289A0712C710F17D191BE25 | AV46: 20
E47: 1046 | G47: 14646 | I47: 0 | K47: =E47+G47+I47 -> 15692 | M47: 2022 | AX47: =E46/E47 -> 0.57552581 | AY47: =G46/G47 -> 1.1106104 | BA47: =K46/K47 -> 1.0948254
A48: 14-01 모르타르바름(30mm) / 바닥 | B48: 30mm, 1회 | C48: M2 | E48: =TRUNC(일위대가목록!E25,0) -> 3020 | F48: =TRUNC(E48*D48, 0) -> 0 | G48: =TRUNC(일위대가목록!F25,0) -> 4474 | H48: =TRUNC(G48*D48, 0) -> 0 | I48: =TRUNC(일위대가목록!G25,0) -> 67 | J48: =TRUNC(I48*D48, 0) -> 0 | K48: =TRUNC(E48+G48+I48, 0) -> 7561 | L48: =TRUNC(F48+H48+J48, 0) -> 0 | M48: 호표 22 | N48: 5062018289A0552370481AB1511B64 | Q48: 0102 | R48: T | S48: F | T48: F | AU48: 01025062018289A0552370481AB1511B64 | AV48: 21
E49: 3974 | G49: 14616 | I49: 0 | K49: =E49+G49+I49 -> 18590 | M49: 2022 | AX49: =E48/E49 -> 0.75993961 | AY49: =G48/G49 -> 0.3061029 | BA49: =K48/K49 -> 0.40672405
A50: 14-02 모르타르바름(30mm) / 내벽, 3.6m 이하 | B50: 30mm, 1회 | C50: M2 | E50: =TRUNC(일위대가목록!E26,0) -> 3013 | F50: =TRUNC(E50*D50, 0) -> 0 | G50: =TRUNC(일위대가목록!F26,0) -> 17982 | H50: =TRUNC(G50*D50, 0) -> 0 | I50: =TRUNC(일위대가목록!G26,0) -> 297 | J50: =TRUNC(I50*D50, 0) -> 0 | K50: =TRUNC(E50+G50+I50, 0) -> 21292 | L50: =TRUNC(F50+H50+J50, 0) -> 0 | M50: 호표 23 | N50: 5062018289A0712C712BFF313E2BF4 | Q50: 0102 | R50: T | S50: F | T50: F | AU50: 01025062018289A0712C712BFF313E2BF4 | AV50: 22
E51: 3974 | G51: 14616 | I51: 0 | K51: =E51+G51+I51 -> 18590 | M51: 2022 | AX51: =E50/E51 -> 0.75817816 | AY51: =G50/G51 -> 1.2302956 | BA51: =K50/K51 -> 1.145347
A52: 14-03 모르타르바름(30mm) / 내벽, 3.6m 초과 | B52: 30mm, 1회 | C52: M2 | E52: =TRUNC(일위대가목록!E27,0) -> 3013 | F52: =TRUNC(E52*D52, 0) -> 0 | G52: =TRUNC(일위대가목록!F27,0) -> 17872 | H52: =TRUNC(G52*D52, 0) -> 0 | I52: =TRUNC(일위대가목록!G27,0) -> 295 | J52: =TRUNC(I52*D52, 0) -> 0 | K52: =TRUNC(E52+G52+I52, 0) -> 21180 | L52: =TRUNC(F52+H52+J52, 0) -> 0 | M52: 호표 24 | N52: 5062018289A0712C710F17E1BED0B3 | Q52: 0102 | R52: T | S52: F | T52: F | AU52: 01025062018289A0712C710F17E1BED0B3 | AV52: 23
E53: 3974 | G53: 14616 | I53: 0 | K53: =E53+G53+I53 -> 18590 | M53: 2022 | AX53: =E52/E53 -> 0.75817816 | AY53: =G52/G53 -> 1.2227696 | BA53: =K52/K53 -> 1.1393222
A54: 15 시트방수(벽) | B54: 접착식 | C54: M2 | E54: =TRUNC(일위대가목록!E28,0) -> 12600 | F54: =TRUNC(E54*D54, 0) -> 0 | G54: =TRUNC(일위대가목록!F28,0) -> 13100 | H54: =TRUNC(G54*D54, 0) -> 0 | I54: =TRUNC(일위대가목록!G28,0) -> 262 | J54: =TRUNC(I54*D54, 0) -> 0 | K54: =TRUNC(E54+G54+I54, 0) -> 25962 | L54: =TRUNC(F54+H54+J54, 0) -> 0 | M54: 호표 25 | N54: 5062F18AC396202C73DEF0D186A41B | Q54: 0102 | R54: T | S54: F | T54: F | AU54: 01025062F18AC396202C73DEF0D186A41B | AV54: 24
E55: 16214 | G55: 11750 | I55: 0 | K55: =E55+G55+I55 -> 27964 | M55: 2022 | AX55: =E54/E55 -> 0.7771062 | AY55: =G54/G55 -> 1.1148936 | BA55: =K54/K55 -> 0.92840795
A56: 16 시트방수(바닥) | B56: 접착식 | C56: M2 | E56: =TRUNC(일위대가목록!E29,0) -> 12600 | F56: =TRUNC(E56*D56, 0) -> 0 | G56: =TRUNC(일위대가목록!F29,0) -> 9921 | H56: =TRUNC(G56*D56, 0) -> 0 | I56: =TRUNC(일위대가목록!G29,0) -> 198 | J56: =TRUNC(I56*D56, 0) -> 0 | K56: =TRUNC(E56+G56+I56, 0) -> 22719 | L56: =TRUNC(F56+H56+J56, 0) -> 0 | M56: 호표 26 | N56: 5062F18AC3A09F2676D07EE19AD18A | Q56: 0102 | R56: T | S56: F | T56: F | AU56: 01025062F18AC3A09F2676D07EE19AD18A | AV56: 25
E57: 16153 | G57: 9083 | I57: 0 | K57: =E57+G57+I57 -> 25236 | M57: 2022 | AX57: =E56/E57 -> 0.78004086 | AY57: =G56/G57 -> 1.0922603 | BA57: =K56/K57 -> 0.90026153
A58: 17 몰딩 (반자돌림) | B58: PVC, 20x20(mm), 몰딩 고정대 포함 | C58: M | E58: =TRUNC(일위대가목록!E30,0) -> 688 | F58: =TRUNC(E58*D58, 0) -> 0 | G58: =TRUNC(일위대가목록!F30,0) -> 2059 | H58: =TRUNC(G58*D58, 0) -> 0 | I58: =TRUNC(일위대가목록!G30,0) -> 81 | J58: =TRUNC(I58*D58, 0) -> 0 | K58: =TRUNC(E58+G58+I58, 0) -> 2828 | L58: =TRUNC(F58+H58+J58, 0) -> 0 | M58: 호표 27 | N58: 5062818D6A7746287AE555A1CCB441 | Q58: 0102 | R58: T | S58: F | T58: F | AU58: 01025062818D6A7746287AE555A1CCB441 | AV58: 397
E59: 581 | G59: 1838 | I59: 0 | K59: =E59+G59+I59 -> 2419 | M59: 2022 | AX59: =E58/E59 -> 1.1841652 | AY59: =G58/G59 -> 1.1202394 | BA59: =K58/K59 -> 1.1690781
A60: 18 몰딩 (반자돌림) | B60: 40x12(mm)(합성수지위비닐시트) | C60: M | E60: =TRUNC(일위대가목록!E31,0) -> 1225 | F60: =TRUNC(E60*D60, 0) -> 0 | G60: =TRUNC(일위대가목록!F31,0) -> 1372 | H60: =TRUNC(G60*D60, 0) -> 0 | I60: =TRUNC(일위대가목록!G31,0) -> 54 | J60: =TRUNC(I60*D60, 0) -> 0 | K60: =TRUNC(E60+G60+I60, 0) -> 2651 | L60: =TRUNC(F60+H60+J60, 0) -> 0 | M60: 호표 28 | N60: 5062818D6A7746287AE555A1CCB442 | Q60: 0102 | R60: T | S60: F | T60: F | AU60: 01025062818D6A7746287AE555A1CCB442 | AV60: 396
E61: 1035 | G61: 1214 | I61: 0 | K61: =E61+G61+I61 -> 2249 | M61: 2022 | AX61: =E60/E61 -> 1.1835749 | AY61: =G60/G61 -> 1.1301483 | BA61: =K60/K61 -> 1.1787461
A62: 19-01 걸레받이 설치(철거포함) / 합성수지류 | B62: 75mm,철거포함 | C62: M | E62: =TRUNC(일위대가목록!E32,0) -> 1240 | F62: =TRUNC(E62*D62, 0) -> 0 | G62: =TRUNC(일위대가목록!F32,0) -> 4590 | H62: =TRUNC(G62*D62, 0) -> 0 | I62: =TRUNC(일위대가목록!G32,0) -> 91 | J62: =TRUNC(I62*D62, 0) -> 0 | K62: =TRUNC(E62+G62+I62, 0) -> 5921 | L62: =TRUNC(F62+H62+J62, 0) -> 0 | M62: 호표 29 | N62: 5062818DEFEF172372C986D124B408 | Q62: 0102 | R62: T | S62: F | T62: F | AU62: 01025062818DEFEF172372C986D124B408 | AV62: 57
E63: 1190 | G63: 4167 | I63: 0 | K63: =E63+G63+I63 -> 5357 | M63: 2022 | AX63: =E62/E63 -> 1.0420168 | AY63: =G62/G63 -> 1.1015119 | BA63: =K62/K63 -> 1.1052828
A64: 19-02 걸레받이 설치(철거포함) / 중밀도섬유판 | B64: 75mm,철거포함 | C64: M | E64: =TRUNC(일위대가목록!E33,0) -> 564 | F64: =TRUNC(E64*D64, 0) -> 0 | G64: =TRUNC(일위대가목록!F33,0) -> 5512 | H64: =TRUNC(G64*D64, 0) -> 0 | I64: =TRUNC(일위대가목록!G33,0) -> 109 | J64: =TRUNC(I64*D64, 0) -> 0 | K64: =TRUNC(E64+G64+I64, 0) -> 6185 | L64: =TRUNC(F64+H64+J64, 0) -> 0 | M64: 호표 30 | N64: 5062818DEFEF062875F71321F43AC5 | Q64: 0102 | R64: T | S64: F | T64: F | AU64: 01025062818DEFEF062875F71321F43AC5 | AV64: 58
E65: 1190 | G65: 4167 | I65: 0 | K65: =E65+G65+I65 -> 5357 | M65: 2022 | AX65: =E64/E65 -> 0.47394958 | AY65: =G64/G65 -> 1.3227742 | BA65: =K64/K65 -> 1.1545641
A66: 20 벽체합판설치(4.8T) | B66: 띠장, 절단 및 설치작업 포함 | C66: M2 | E66: =TRUNC(일위대가목록!E34,0) -> 5467 | F66: =TRUNC(E66*D66, 0) -> 0 | G66: =TRUNC(일위대가목록!F34,0) -> 16988 | H66: =TRUNC(G66*D66, 0) -> 0 | I66: =TRUNC(일위대가목록!G34,0) -> 339 | J66: =TRUNC(I66*D66, 0) -> 0 | K66: =TRUNC(E66+G66+I66, 0) -> 22794 | L66: =TRUNC(F66+H66+J66, 0) -> 0 | M66: 호표 31 | N66: 5062818DCC949B24793BB1B1FC8964 | Q66: 0102 | R66: T | S66: F | T66: F | AU66: 01025062818DCC949B24793BB1B1FC8964 | AV66: 26
E67: 5267 | G67: 14325 | I67: 0 | K67: =E67+G67+I67 -> 19592 | M67: 2022 | AX67: =E66/E67 -> 1.0379723 | AY67: =G66/G67 -> 1.1858988 | BA67: =K66/K67 -> 1.1634341
A68: 0103 21~30 | Q68: 0103
A69: 21 벽체합판설치(12T) | B69: 띠장, 절단 및 설치작업 포함 | C69: M2 | E69: =TRUNC(일위대가목록!E35,0) -> 11194 | F69: =TRUNC(E69*D69, 0) -> 0 | G69: =TRUNC(일위대가목록!F35,0) -> 16988 | H69: =TRUNC(G69*D69, 0) -> 0 | I69: =TRUNC(일위대가목록!G35,0) -> 339 | J69: =TRUNC(I69*D69, 0) -> 0 | K69: =TRUNC(E69+G69+I69, 0) -> 28521 | L69: =TRUNC(F69+H69+J69, 0) -> 0 | M69: 호표 32 | N69: 5062818DCC949B24793BB1B1FC8967 | Q69: 0103 | R69: T | S69: F | T69: F | AU69: 01035062818DCC949B24793BB1B1FC8967 | AV69: 27
E70: 11085 | G70: 14325 | I70: 0 | K70: =E70+G70+I70 -> 25410 | M70: 2022 | AX70: =E69/E70 -> 1.0098331 | AY70: =G69/G70 -> 1.1858988 | BA70: =K69/K70 -> 1.1224321
A71: 22 석고판 본드붙임(벽, 방화9.5mm) | B71: 벽, 바탕, 방화 9.5T | C71: M2 | E71: =TRUNC(일위대가목록!E36,0) -> 3546 | F71: =TRUNC(E71*D71, 0) -> 0 | G71: =TRUNC(일위대가목록!F36,0) -> 7571 | H71: =TRUNC(G71*D71, 0) -> 0 | I71: =TRUNC(일위대가목록!G36,0) -> 75 | J71: =TRUNC(I71*D71, 0) -> 0 | K71: =TRUNC(E71+G71+I71, 0) -> 11192 | L71: =TRUNC(F71+H71+J71, 0) -> 0 | M71: 호표 33 | N71: 5062818DCCFD3426740203F162E83E | Q71: 0103 | R71: T | S71: F | T71: F | AU71: 01035062818DCCFD3426740203F162E83E | AV71: 29
E72: 3722 | G72: 6338 | I72: 0 | K72: =E72+G72+I72 -> 10060 | M72: 2022 | AX72: =E71/E72 -> 0.95271359 | AY72: =G71/G72 -> 1.1945409 | BA72: =K71/K72 -> 1.1125249
A73: 23 석고판 본드붙임(천장, 방화9.5mm) | B73: 천장, 바탕, 방화 9.5T | C73: M2 | E73: =TRUNC(일위대가목록!E37,0) -> 3546 | F73: =TRUNC(E73*D73, 0) -> 0 | G73: =TRUNC(일위대가목록!F37,0) -> 9843 | H73: =TRUNC(G73*D73, 0) -> 0 | I73: =TRUNC(일위대가목록!G37,0) -> 75 | J73: =TRUNC(I73*D73, 0) -> 0 | K73: =TRUNC(E73+G73+I73, 0) -> 13464 | L73: =TRUNC(F73+H73+J73, 0) -> 0 | M73: 호표 34 | N73: 5062818DCCFD3426740203F162E83D | Q73: 0103 | R73: T | S73: F | T73: F | AU73: 01035062818DCCFD3426740203F162E83D | AV73: 31
E74: 3722 | G74: 8239 | I74: 0 | K74: =E74+G74+I74 -> 11961 | M74: 2022 | AX74: =E73/E74 -> 0.95271359 | AY74: =G73/G74 -> 1.1946838 | BA74: =K73/K74 -> 1.1256584
A75: 24 석고판 못붙임(벽, 방화9.5mm) | B75: 벽, 바탕, 방화 9.5T | C75: M2 | E75: =TRUNC(일위대가목록!E38,0) -> 2605 | F75: =TRUNC(E75*D75, 0) -> 0 | G75: =TRUNC(일위대가목록!F38,0) -> 10066 | H75: =TRUNC(G75*D75, 0) -> 0 | I75: =TRUNC(일위대가목록!G38,0) -> 100 | J75: =TRUNC(I75*D75, 0) -> 0 | K75: =TRUNC(E75+G75+I75, 0) -> 12771 | L75: =TRUNC(F75+H75+J75, 0) -> 0 | M75: 호표 35 | N75: 5062818DCCFD0F22701D94D11B9BFF | Q75: 0103 | R75: T | S75: F | T75: F | AU75: 01035062818DCCFD0F22701D94D11B9BFF | AV75: 32
E76: 2740 | G76: 8219 | I76: 0 | K76: =E76+G76+I76 -> 10959 | M76: 2022 | AX76: =E75/E76 -> 0.95072993 | AY76: =G75/G76 -> 1.2247232 | BA76: =K75/K76 -> 1.1653436
A77: 25 석고판 못붙임(천장, 방화9.5mm) | B77: 천장, 바탕, 방화 9.5T | C77: M2 | E77: =TRUNC(일위대가목록!E39,0) -> 2605 | F77: =TRUNC(E77*D77, 0) -> 0 | G77: =TRUNC(일위대가목록!F39,0) -> 13140 | H77: =TRUNC(G77*D77, 0) -> 0 | I77: =TRUNC(일위대가목록!G39,0) -> 131 | J77: =TRUNC(I77*D77, 0) -> 0 | K77: =TRUNC(E77+G77+I77, 0) -> 15876 | L77: =TRUNC(F77+H77+J77, 0) -> 0 | M77: 호표 36 | N77: 5062818DCCFD0F2177A06081D6B777 | Q77: 0103 | R77: T | S77: F | T77: F | AU77: 01035062818DCCFD0F2177A06081D6B777 | AV77: 33
E78: 2740 | G78: 11397 | I78: 0 | K78: =E78+G78+I78 -> 14137 | M78: 2022 | AX78: =E77/E78 -> 0.95072993 | AY78: =G77/G78 -> 1.152935 | BA78: =K77/K78 -> 1.1230105
A79: 26 석고판 본드붙임(벽, 방수9.5mm) | B79: 벽, 바탕, 방수 9.5T | C79: M2 | E79: =TRUNC(일위대가목록!E40,0) -> 4256 | F79: =TRUNC(E79*D79, 0) -> 0 | G79: =TRUNC(일위대가목록!F40,0) -> 7571 | H79: =TRUNC(G79*D79, 0) -> 0 | I79: =TRUNC(일위대가목록!G40,0) -> 75 | J79: =TRUNC(I79*D79, 0) -> 0 | K79: =TRUNC(E79+G79+I79, 0) -> 11902 | L79: =TRUNC(F79+H79+J79, 0) -> 0 | M79: 호표 37 | N79: 5062818DCCFD3426740203F162E83C | Q79: 0103 | R79: T | S79: F | T79: F | AU79: 01035062818DCCFD3426740203F162E83C | AV79: 34
E80: 2947 | G80: 7579 | I80: 0 | K80: =E80+G80+I80 -> 10526 | M80: 2022 | AX80: =E79/E80 -> 1.4441805 | AY80: =G79/G80 -> 0.99894445 | BA80: =K79/K80 -> 1.1307239
A81: 27 석고판 못붙임(천장, 방수9.5mm) | B81: 천장, 바탕, 방수 9.5T | C81: M2 | E81: =TRUNC(일위대가목록!E41,0) -> 3294 | F81: =TRUNC(E81*D81, 0) -> 0 | G81: =TRUNC(일위대가목록!F41,0) -> 11169 | H81: =TRUNC(G81*D81, 0) -> 0 | I81: =TRUNC(일위대가목록!G41,0) -> 111 | J81: =TRUNC(I81*D81, 0) -> 0 | K81: =TRUNC(E81+G81+I81, 0) -> 14574 | L81: =TRUNC(F81+H81+J81, 0) -> 0 | M81: 호표 38 | N81: 5062818DCCFD0F2177A06081D6B774 | Q81: 0103 | R81: T | S81: F | T81: F | AU81: 01035062818DCCFD0F2177A06081D6B774 | AV81: 35
E82: 3032 | G82: 10134 | I82: 0 | K82: =E82+G82+I82 -> 13166 | M82: 2022 | AX82: =E81/E82 -> 1.0864116 | AY82: =G81/G82 -> 1.1021314 | BA82: =K81/K82 -> 1.1069421
A83: 28 석고판 못붙임(벽, 방수12.5.mm) | B83: 벽, 바탕, 방수 12.5T | C83: M2 | E83: =TRUNC(일위대가목록!E42,0) -> 4972 | F83: =TRUNC(E83*D83, 0) -> 0 | G83: =TRUNC(일위대가목록!F42,0) -> 10066 | H83: =TRUNC(G83*D83, 0) -> 0 | I83: =TRUNC(일위대가목록!G42,0) -> 100 | J83: =TRUNC(I83*D83, 0) -> 0 | K83: =TRUNC(E83+G83+I83, 0) -> 15138 | L83: =TRUNC(F83+H83+J83, 0) -> 0 | M83: 호표 39 | N83: 5062818DCCFD0F22701D94D11B9BFC | Q83: 0103 | R83: T | S83: F | T83: F | AU83: 01035062818DCCFD0F22701D94D11B9BFC | AV83: 36
E84: 5755 | G84: 8437 | I84: 0 | K84: =E84+G84+I84 -> 14192 | M84: 2022 | AX84: =E83/E84 -> 0.8639444 | AY84: =G83/G84 -> 1.1930781 | BA84: =K83/K84 -> 1.0666573
A85: 29 석고판 본드붙임(천장, 방수12.5.mm) | B85: 천장, 바탕, 방수 12.5T | C85: M2 | E85: =TRUNC(일위대가목록!E43,0) -> 5981 | F85: =TRUNC(E85*D85, 0) -> 0 | G85: =TRUNC(일위대가목록!F43,0) -> 9843 | H85: =TRUNC(G85*D85, 0) -> 0 | I85: =TRUNC(일위대가목록!G43,0) -> 75 | J85: =TRUNC(I85*D85, 0) -> 0 | K85: =TRUNC(E85+G85+I85, 0) -> 15899 | L85: =TRUNC(F85+H85+J85, 0) -> 0 | M85: 호표 40 | N85: 5062818DCCFD3426740203F162E83B | Q85: 0103 | R85: T | S85: F | T85: F | AU85: 01035062818DCCFD3426740203F162E83B | AV85: 37
E86: 5755 | G86: 8437 | I86: 0 | K86: =E86+G86+I86 -> 14192 | M86: 2022 | AX86: =E85/E86 -> 1.0392702 | AY86: =G85/G86 -> 1.1666469 | BA86: =K85/K86 -> 1.120279
A87: 30 석고판 못붙임(벽, 방화12.5.mm) | B87: 벽, 방화12.5.mm | C87: M2 | E87: =TRUNC(일위대가목록!E44,0) -> 3654 | F87: =TRUNC(E87*D87, 0) -> 0 | G87: =TRUNC(일위대가목록!F44,0) -> 8556 | H87: =TRUNC(G87*D87, 0) -> 0 | I87: =TRUNC(일위대가목록!G44,0) -> 85 | J87: =TRUNC(I87*D87, 0) -> 0 | K87: =TRUNC(E87+G87+I87, 0) -> 12295 | L87: =TRUNC(F87+H87+J87, 0) -> 0 | M87: 호표 41 | N87: 5062818DCCFD0F22701D94D11B9BFD | Q87: 0103 | R87: T | S87: F | T87: F | AU87: 01035062818DCCFD0F22701D94D11B9BFD | AV87: 38
E88: 3121 | G88: 8024 | I88: 0 | K88: =E88+G88+I88 -> 11145 | M88: 2022 | AX88: =E87/E88 -> 1.1707786 | AY88: =G87/G88 -> 1.0663011 | BA88: =K87/K88 -> 1.1031853
A89: [ 합 계 ] | F89: =SUM(F69:F88) -> 0 | H89: =SUM(H69:H88) -> 0 | J89: =SUM(J69:J88) -> 0 | L89: =SUM(L69:L88) -> 0 | N89: TOTAL
A90: 0104 31~40 | Q90: 0104
A91: 31 석고판 못붙임(벽, 방수9.5mm) | B91: 벽, 방수9.5mm | C91: M2 | E91: =TRUNC(일위대가목록!E45,0) -> 3294 | F91: =TRUNC(E91*D91, 0) -> 0 | G91: =TRUNC(일위대가목록!F45,0) -> 8556 | H91: =TRUNC(G91*D91, 0) -> 0 | I91: =TRUNC(일위대가목록!G45,0) -> 85 | J91: =TRUNC(I91*D91, 0) -> 0 | K91: =TRUNC(E91+G91+I91, 0) -> 11935 | L91: =TRUNC(F91+H91+J91, 0) -> 0 | M91: 호표 42 | N91: 5062818DCCFD0F22701D94D11B9BFA | Q91: 0104 | R91: T | S91: F | T91: F | AU91: 01045062818DCCFD0F22701D94D11B9BFA | AV91: 39
E92: 3032 | G92: 7795 | I92: 0 | K92: =E92+G92+I92 -> 10827 | M92: 2022 | AX92: =E91/E92 -> 1.0864116 | AY92: =G91/G92 -> 1.0976267 | BA92: =K91/K92 -> 1.1023368
A93: 32 석고판 본드붙임(벽, 방화12.5.mm) | B93: 벽, 방화12.5.mm | C93: M2 | E93: =TRUNC(일위대가목록!E46,0) -> 4625 | F93: =TRUNC(E93*D93, 0) -> 0 | G93: =TRUNC(일위대가목록!F46,0) -> 7571 | H93: =TRUNC(G93*D93, 0) -> 0 | I93: =TRUNC(일위대가목록!G46,0) -> 75 | J93: =TRUNC(I93*D93, 0) -> 0 | K93: =TRUNC(E93+G93+I93, 0) -> 12271 | L93: =TRUNC(F93+H93+J93, 0) -> 0 | M93: 호표 43 | N93: 5062818DCCFD3426740203F162E83A | Q93: 0104 | R93: T | S93: F | T93: F | AU93: 01045062818DCCFD3426740203F162E83A | AV93: 41
E94: 4340 | G94: 6509 | I94: 0 | K94: =E94+G94+I94 -> 10849 | M94: 2022 | AX94: =E93/E94 -> 1.0656682 | AY94: =G93/G94 -> 1.1631587 | BA94: =K93/K94 -> 1.131072
A95: 33 석고판 본드붙임(벽, 방수12.5.mm) | B95: 벽, 방수12.5.mm | C95: M2 | E95: =TRUNC(일위대가목록!E47,0) -> 5981 | F95: =TRUNC(E95*D95, 0) -> 0 | G95: =TRUNC(일위대가목록!F47,0) -> 7571 | H95: =TRUNC(G95*D95, 0) -> 0 | I95: =TRUNC(일위대가목록!G47,0) -> 75 | J95: =TRUNC(I95*D95, 0) -> 0 | K95: =TRUNC(E95+G95+I95, 0) -> 13627 | L95: =TRUNC(F95+H95+J95, 0) -> 0 | M95: 호표 44 | N95: 5062818DCCFD3426740203F162E839 | Q95: 0104 | R95: T | S95: F | T95: F | AU95: 01045062818DCCFD3426740203F162E839 | AV95: 42
E96: 5755 | G96: 6490 | I96: 0 | K96: =E96+G96+I96 -> 12245 | M96: 2022 | AX96: =E95/E96 -> 1.0392702 | AY96: =G95/G96 -> 1.1665639 | BA96: =K95/K96 -> 1.1128624
A97: 34 석고판 못붙임(천장, 방화12.5.mm) | B97: 천장, 방화12.5.mm | C97: M2 | E97: =TRUNC(일위대가목록!E48,0) -> 3654 | F97: =TRUNC(E97*D97, 0) -> 0 | G97: =TRUNC(일위대가목록!F48,0) -> 11169 | H97: =TRUNC(G97*D97, 0) -> 0 | I97: =TRUNC(일위대가목록!G48,0) -> 111 | J97: =TRUNC(I97*D97, 0) -> 0 | K97: =TRUNC(E97+G97+I97, 0) -> 14934 | L97: =TRUNC(F97+H97+J97, 0) -> 0 | M97: 호표 45 | N97: 5062818DCCFD0F2177A06081D6B775 | Q97: 0104 | R97: T | S97: F | T97: F | AU97: 01045062818DCCFD0F2177A06081D6B775 | AV97: 43
E98: 3121 | G98: 10432 | I98: 0 | K98: =E98+G98+I98 -> 13553 | M98: 2022 | AX98: =E97/E98 -> 1.1707786 | AY98: =G97/G98 -> 1.070648 | BA98: =K97/K98 -> 1.1018963
A99: 35 석고판 못붙임(천장, 방수12.5.mm) | B99: 천장, 방수12.5.mm | C99: M2 | E99: =TRUNC(일위대가목록!E49,0) -> 4972 | F99: =TRUNC(E99*D99, 0) -> 0 | G99: =TRUNC(일위대가목록!F49,0) -> 11169 | H99: =TRUNC(G99*D99, 0) -> 0 | I99: =TRUNC(일위대가목록!G49,0) -> 111 | J99: =TRUNC(I99*D99, 0) -> 0 | K99: =TRUNC(E99+G99+I99, 0) -> 16252 | L99: =TRUNC(F99+H99+J99, 0) -> 0 | M99: 호표 46 | N99: 5062818DCCFD0F2177A06081D6B772 | Q99: 0104 | R99: T | S99: F | T99: F | AU99: 01045062818DCCFD0F2177A06081D6B772 | AV99: 44
E100: 4387 | G100: 10436 | I100: 0 | K100: =E100+G100+I100 -> 14823 | M100: 2022 | AX100: =E99/E100 -> 1.1333485 | AY100: =G99/G100 -> 1.0702376 | BA100: =K99/K100 -> 1.0964042
...

Sheet 일위대가목록
A1: 일 위 대 가 목 록
A2: [ 한국보훈복지의료공단 ] | P2: 자재비 | S2: 노무비 | V2: 경비 | Y2: 합계
A3: 코 드 | B3: 품 명 | C3: 규 격 | D3: 단위 | E3: 재 료 비 | F3: 노 무 비 | G3: 경 비 | H3: 합 계 | I3: 번 호 | J3: 비 고 | K3: 노임계수 | L3: 할증 | M3: 품셈개요 | N3: 장비일위 | P3: 1안 | Q3: 2안 | R3: 비교 | S3: 1안 | T3: 2안 | U3: 비교 | V3: 1안 | W3: 2안 | X3: 비교 | Y3: 1안 | Z3: 2안 | AA3: 비교
A4: 5062818DDD53DE257977CAC19BEFE2 | B4: 01-01 도배(합지,벽면) / 합판·석고보드면 | C4: 초배지 시공(합지, 폭90Cm이상, 180g/m2 이상) | D4: M2 | E4: =일위대가!F7 -> 2128 | F4: =일위대가!H7 -> 4860 | G4: =일위대가!J7 -> 0 | H4: =E4+F4+G4 -> 6988 | I4: 호표 1 | P4: 2128 | Q4: =E4 -> 2128 | R4: =Q4-P4 -> 0 | S4: 6481 | T4: =F4 -> 4860 | U4: =T4-S4 -> -1621 | V4: 0 | W4: =G4 -> 0 | X4: =W4-V4 -> 0 | Y4: 8609 | Z4: =H4 -> 6988 | AA4: =Z4-Y4 -> -1621
A5: 5062818DDD53DE227C39D8C16133F0 | B5: 01-02 도배(합지,벽면) / 콘크리트·모르타르면 | C5: 초배지 시공(합지, 폭90Cm이상, 180g/m2 이상) | D5: M2 | E5: =일위대가!F12 -> 2229 | F5: =일위대가!H12 -> 4399 | G5: =일위대가!J12 -> 0 | H5: =E5+F5+G5 -> 6628 | I5: 호표 2 | P5: 2229 | Q5: =E5 -> 2229 | R5: =Q5-P5 -> 0 | S5: 5866 | T5: =F5 -> 4399 | U5: =T5-S5 -> -1467 | V5: 0 | W5: =G5 -> 0 | X5: =W5-V5 -> 0 | Y5: 8095 | Z5: =H5 -> 6628 | AA5: =Z5-Y5 -> -1467
A6: 5062818DDD53DE237EAA756199BD98 | B6: 02-01 도배(합지, 천정면) / 합판·석고보드면 | C6: 초배지 시공(합지, 폭90Cm이상, 180g/m2 이상) | D6: M2 | E6: =일위대가!F17 -> 2128 | F6: =일위대가!H17 -> 6319 | G6: =일위대가!J17 -> 0 | H6: =E6+F6+G6 -> 8447 | I6: 호표 3 | P6: 2128 | Q6: =E6 -> 2128 | R6: =Q6-P6 -> 0 | S6: 8426 | T6: =F6 -> 6319 | U6: =T6-S6 -> -2107 | V6: 0 | W6: =G6 -> 0 | X6: =W6-V6 -> 0 | Y6: 10554 | Z6: =H6 -> 8447 | AA6: =Z6-Y6 -> -2107
A7: 5062818DDD53DE2071609EC1CEE9E5 | B7: 02-02 도배(합지, 천정면) / 콘크리트·모르타르면 | C7: 초배지 시공(합지, 폭90Cm이상, 180g/m2 이상) | D7: M2 | E7: =일위대가!F22 -> 2229 | F7: =일위대가!H22 -> 5718 | G7: =일위대가!J22 -> 0 | H7: =E7+F7+G7 -> 7947 | I7: 호표 4 | P7: 2229 | Q7: =E7 -> 2229 | R7: =Q7-P7 -> 0 | S7: 7625 | T7: =F7 -> 5718 | U7: =T7-S7 -> -1907 | V7: 0 | W7: =G7 -> 0 | X7: =W7-V7 -> 0 | Y7: 9854 | Z7: =H7 -> 7947 | AA7: =Z7-Y7 -> -1907
A8: 5062818DDD53DE257977CAC19BE815 | B8: 03-01 도배(실크, 벽면) / 합판·석고보드면 | C8: 실크벽지(초배유) | D8: M2 | E8: =일위대가!F27 -> 3324 | F8: =일위대가!H27 -> 3888 | G8: =일위대가!J27 -> 0 | H8: =E8+F8+G8 -> 7212 | I8: 호표 5 | P8: 3324 | Q8: =E8 -> 3324 | R8: =Q8-P8 -> 0 | S8: 6481 | T8: =F8 -> 3888 | U8: =T8-S8 -> -2593 | V8: 0 | W8: =G8 -> 0 | X8: =W8-V8 -> 0 | Y8: 9805 | Z8: =H8 -> 7212 | AA8: =Z8-Y8 -> -2593
A9: 5062818DDD53DE227C39D8C16134D9 | B9: 03-02 도배(실크, 벽면) / 콘크리트·모르타르면 | C9: 실크벽지(초배유) | D9: M2 | E9: =일위대가!F32 -> 3426 | F9: =일위대가!H32 -> 3519 | G9: =일위대가!J32 -> 0 | H9: =E9+F9+G9 -> 6945 | I9: 호표 6 | P9: 3425 | Q9: =E9 -> 3426 | R9: =Q9-P9 -> 1 | S9: 5866 | T9: =F9 -> 3519 | U9: =T9-S9 -> -2347 | V9: 0 | W9: =G9 -> 0 | X9: =W9-V9 -> 0 | Y9: 9291 | Z9: =H9 -> 6945 | AA9: =Z9-Y9 -> -2346
A10: 5062818DDD53DE237EAA756199BA64 | B10: 04-01 도배(실크, 천정면) / 합판·석고보드면 | C10: 실크벽지(초배유) | D10: M2 | E10: =일위대가!F37 -> 3324 | F10: =일위대가!H37 -> 7583 | G10: =일위대가!J37 -> 0 | H10: =E10+F10+G10 -> 10907 | I10: 호표 7 | P10: 3324 | Q10: =E10 -> 3324 | R10: =Q10-P10 -> 0 | S10: 8426 | T10: =F10 -> 7583 | U10: =T10-S10 -> -843 | V10: 0 | W10: =G10 -> 0 | X10: =W10-V10 -> 0 | Y10: 11750 | Z10: =H10 -> 10907 | AA10: =Z10-Y10 -> -843
A11: 5062818DDD53DE2071609EC1CEEE67 | B11: 04-02 도배(실크, 천정면) / 콘크리트·모르타르면 | C11: 실크벽지(초배유) | D11: M2 | E11: =일위대가!F42 -> 3426 | F11: =일위대가!H42 -> 7625 | G11: =일위대가!J42 -> 0 | H11: =E11+F11+G11 -> 11051 | I11: 호표 8 | P11: 3425 | Q11: =E11 -> 3426 | R11: =Q11-P11 -> 1 | S11: 7625 | T11: =F11 -> 7625 | U11: =T11-S11 -> 0 | V11: 0 | W11: =G11 -> 0 | X11: =W11-V11 -> 0 | Y11: 11050 | Z11: =H11 -> 11051 | AA11: =Z11-Y11 -> 1
A12: 5062818DDD53DE257977CAC19BE816 | B12: 05 도배(본드) | C12: 페인트위(본드,바인드,부직포) | D12: M2 | E12: =일위대가!F47 -> 3324 | F12: =일위대가!H47 -> 3564 | G12: =일위대가!J47 -> 0 | H12: =E12+F12+G12 -> 6888 | I12: 호표 9 | P12: 3324 | Q12: =E12 -> 3324 | R12: =Q12-P12 -> 0 | S12: 6481 | T12: =F12 -> 3564 | U12: =T12-S12 -> -2917 | V12: 0 | W12: =G12 -> 0 | X12: =W12-V12 -> 0 | Y12: 9805 | Z12: =H12 -> 6888 | AA12: =Z12-Y12 -> -2917
A13: 5062818DEFA19B2770806FB179BFC2 | B13: 06 장판(2T) | C13: T=2mm(경보행용) | D13: M2 | E13: =일위대가!F52 -> 10096 | F13: =일위대가!H52 -> 1844 | G13: =일위대가!J52 -> 0 | H13: =E13+F13+G13 -> 11940 | I13: 호표 10 | O13: 사양 변경 | P13: 13930 | Q13: =E13 -> 10096 | R13: =Q13-P13 -> -3834 | S13: 6148 | T13: =F13 -> 1844 | U13: =T13-S13 -> -4304 | V13: 0 | W13: =G13 -> 0 | X13: =W13-V13 -> 0 | Y13: 20078 | Z13: =H13 -> 11940 | AA13: =Z13-Y13 -> -8138
A14: 5062818DEFA19B2770806FB17A42DB | B14: 07 장판(2.3T) | C14: T=2.3mm(중보행용) | D14: M2 | E14: =일위대가!F57 -> 15148 | F14: =일위대가!H57 -> 2459 | G14: =일위대가!J57 -> 0 | H14: =E14+F14+G14 -> 17607 | I14: 호표 11 | P14: 23170 | Q14: =E14 -> 15148 | R14: =Q14-P14 -> -8022 | S14: 6148 | T14: =F14 -> 2459 | U14: =T14-S14 -> -3689 | V14: 0 | W14: =G14 -> 0 | X14: =W14-V14 -> 0 | Y14: 29318 | Z14: =H14 -> 17607 | AA14: =Z14-Y14 -> -11711
A15: 5062E18466D98C25760D822135FB88 | B15: 08 강화마루 설치 (제거+설치) | C15: (제거+붙이기)보양포함 | D15: M2 | E15: =일위대가!F63 -> 21105 | F15: =일위대가!H63 -> 17610 | G15: =일위대가!J63 -> 351 | H15: =E15+F15+G15 -> 39066 | I15: 호표 12 | P15: 21105 | Q15: =E15 -> 21105 | R15: =Q15-P15 -> 0 | S15: 17610 | T15: =F15 -> 17610 | U15: =T15-S15 -> 0 | V15: 351 | W15: =G15 -> 351 | X15: =W15-V15 -> 0 | Y15: 39066 | Z15: =H15 -> 39066 | AA15: =Z15-Y15 -> 0
A16: 5062818DEFA19B26763497E177350F | B16: 09 비닐타일붙임 (왁스 무) | C16: 2.0T, 300*300, 왁스 무 | D16: M2 | E16: =일위대가!F68 -> 4935 | F16: =일위대가!H68 -> 10200 | G16: =일위대가!J68 -> 0 | H16: =E16+F16+G16 -> 15135 | I16: 호표 13 | P16: 4935 | Q16: =E16 -> 4935 | R16: =Q16-P16 -> 0 | S16: 5100 | T16: =F16 -> 10200 | U16: =T16-S16 -> 5100 | V16: 0 | W16: =G16 -> 0 | X16: =W16-V16 -> 0 | Y16: 10035 | Z16: =H16 -> 15135 | AA16: =Z16-Y16 -> 5100
A17: 5062818DEFA19B26763497E177350C | B17: 10 비닐타일붙임 (왁스 유) | C17: 2.0T, 300*300, 왁스 유 | D17: M2 | E17: =일위대가!F75 -> 5121 | F17: =일위대가!H75 -> 12157 | G17: =일위대가!J75 -> 0 | H17: =E17+F17+G17 -> 17278 | I17: 호표 14 | P17: 5121 | Q17: =E17 -> 5121 | R17: =Q17-P17 -> 0 | S17: 7057 | T17: =F17 -> 12157 | U17: =T17-S17 -> 5100 | V17: 0 | W17: =G17 -> 0 | X17: =W17-V17 -> 0 | Y17: 12178 | Z17: =H17 -> 17278 | AA17: =Z17-Y17 -> 5100
A18: 5062818DDD53DE267BE05CF107C6E8 | B18: 11-01 단열도배(5mm) / 합판·석고보드면, 벽 | C18: 두께 5㎜ | D18: M2 | E18: =일위대가!F80 -> 3432 | F18: =일위대가!H80 -> 5184 | G18: =일위대가!J80 -> 0 | H18: =E18+F18+G18 -> 8616 | I18: 호표 15 | P18: 5148 | Q18: =E18 -> 3432 | R18: =Q18-P18 -> -1716 | S18: 6481 | T18: =F18 -> 5184 | U18: =T18-S18 -> -1297 | V18: 0 | W18: =G18 -> 0 | X18: =W18-V18 -> 0 | Y18: 11629 | Z18: =H18 -> 8616 | AA18: =Z18-Y18 -> -3013
A19: 5062818DDD53DE267BE05CF107C583 | B19: 11-02 단열도배(5mm) / 콘크리트·모르타르면, 벽 | C19: 두께 5㎜ | D19: M2 | E19: =일위대가!F85 -> 3646 | F19: =일위대가!H85 -> 4692 | G19: =일위대가!J85 -> 0 | H19: =E19+F19+G19 -> 8338 | I19: 호표 16 | P19: 5148 | Q19: =E19 -> 3646 | R19: =Q19-P19 -> -1502 | S19: 5866 | T19: =F19 -> 4692 | U19: =T19-S19 -> -1174 | V19: 0 | W19: =G19 -> 0 | X19: =W19-V19 -> 0 | Y19: 11014 | Z19: =H19 -> 8338 | AA19: =Z19-Y19 -> -2676
A20: 5062818DDD53DE267BE05CF107C6EB | B20: 12-01 단열도배(10mm) / 합판·석고보드면, 벽 | C20: 두께 10㎜ | D20: M2 | E20: =일위대가!F90 -> 6083 | F20: =일위대가!H90 -> 5184 | G20: =일위대가!J90 -> 0 | H20: =E20+F20+G20 -> 11267 | I20: 호표 17 | P20: 6636 | Q20: =E20 -> 6083 | R20: =Q20-P20 -> -553 | S20: 6481 | T20: =F20 -> 5184 | U20: =T20-S20 -> -1297 | V20: 0 | W20: =G20 -> 0 | X20: =W20-V20 -> 0 | Y20: 13117 | Z20: =H20 -> 11267 | AA20: =Z20-Y20 -> -1850
A21: 5062818DDD53DE267BE05CF107C580 | B21: 12-02 단열도배(10mm) / 콘크리트·모르타르면, 벽 | C21: 두께 10㎜ | D21: M2 | E21: =일위대가!F95 -> 6636 | F21: =일위대가!H95 -> 4692 | G21: =일위대가!J95 -> 0 | H21: =E21+F21+G21 -> 11328 | I21: 호표 18 | P21: 6636 | Q21: =E21 -> 6636 | R21: =Q21-P21 -> 0 | S21: 5866 | T21: =F21 -> 4692 | U21: =T21-S21 -> -1174 | V21: 0 | W21: =G21 -> 0 | X21: =W21-V21 -> 0 | Y21: 12502 | Z21: =H21 -> 11328 | AA21: =Z21-Y21 -> -1174
A22: 5062018289A0552370481AB1522435 | B22: 13-01 모르타르바름(6mm) / 바닥 | C22: 6mm, 1회 | D22: M2 | E22: =일위대가!F101 -> 604 | F22: =일위대가!H101 -> 1498 | G22: =일위대가!J101 -> 13 | H22: =E22+F22+G22 -> 2115 | I22: 호표 19 | P22: 604 | Q22: =E22 -> 604 | R22: =Q22-P22 -> 0 | S22: 1498 | T22: =F22 -> 1498 | U22: =T22-S22 -> 0 | V22: 13 | W22: =G22 -> 13 | X22: =W22-V22 -> 0 | Y22: 2115 | Z22: =H22 -> 2115 | AA22: =Z22-Y22 -> 0
A23: 5062018289A0712C712BFF016C7AEF | B23: 13-02 모르타르바름(6mm) / 내벽, 3.6m 이하 | C23: 6mm, 1회 | D23: M2 | E23: =일위대가!F106 -> 602 | F23: =일위대가!H106 -> 16361 | G23: =일위대가!J106 -> 314 | H23: =E23+F23+G23 -> 17277 | I23: 호표 20 | P23: 602 | Q23: =E23 -> 602 | R23: =Q23-P23 -> 0 | S23: 16361 | T23: =F23 -> 16361 | U23: =T23-S23 -> 0 | V23: 314 | W23: =G23 -> 314 | X23: =W23-V23 -> 0 | Y23: 17277 | Z23: =H23 -> 17277 | AA23: =Z23-Y23 -> 0
A24: 5062018289A0712C710F17D191BE25 | B24: 13-03 모르타르바름(6mm) / 내벽, 3.6m 초과 | C24: 6mm, 1회 | D24: M2 | E24: =일위대가!F111 -> 602 | F24: =일위대가!H111 -> 16266 | G24: =일위대가!J111 -> 312 | H24: =E24+F24+G24 -> 17180 | I24: 호표 21 | P24: 602 | Q24: =E24 -> 602 | R24: =Q24-P24 -> 0 | S24: 22971 | T24: =F24 -> 16266 | U24: =T24-S24 -> -6705 | V24: 447 | W24: =G24 -> 312 | X24: =W24-V24 -> -135 | Y24: 24020 | Z24: =H24 -> 17180 | AA24: =Z24-Y24 -> -6840
A25: 5062018289A0552370481AB1511B64 | B25: 14-01 모르타르바름(30mm) / 바닥 | C25: 30mm, 1회 | D25: M2 | E25: =일위대가!F117 -> 3020 | F25: =일위대가!H117 -> 4474 | G25: =일위대가!J117 -> 67 | H25: =E25+F25+G25 -> 7561 | I25: 호표 22 | P25: 3020 | Q25: =E25 -> 3020 | R25: =Q25-P25 -> 0 | S25: 4474 | T25: =F25 -> 4474 | U25: =T25-S25 -> 0 | V25: 67 | W25: =G25 -> 67 | X25: =W25-V25 -> 0 | Y25: 7561 | Z25: =H25 -> 7561 | AA25: =Z25-Y25 -> 0
A26: 5062018289A0712C712BFF313E2BF4 | B26: 14-02 모르타르바름(30mm) / 내벽, 3.6m 이하 | C26: 30mm, 1회 | D26: M2 | E26: =일위대가!F122 -> 3013 | F26: =일위대가!H122 -> 17982 | G26: =일위대가!J122 -> 297 | H26: =E26+F26+G26 -> 21292 | I26: 호표 23 | P26: 3013 | Q26: =E26 -> 3013 | R26: =Q26-P26 -> 0 | S26: 36160 | T26: =F26 -> 17982 | U26: =T26-S26 -> -18178 | V26: 661 | W26: =G26 -> 297 | X26: =W26-V26 -> -364 | Y26: 39834 | Z26: =H26 -> 21292 | AA26: =Z26-Y26 -> -18542
A27: 5062018289A0712C710F17E1BED0B3 | B27: 14-03 모르타르바름(30mm) / 내벽, 3.6m 초과 | C27: 30mm, 1회 | D27: M2 | E27: =일위대가!F127 -> 3013 | F27: =일위대가!H127 -> 17872 | G27: =일위대가!J127 -> 295 | H27: =E27+F27+G27 -> 21180 | I27: 호표 24 | P27: 3013 | Q27: =E27 -> 3013 | R27: =Q27-P27 -> 0 | S27: 45289 | T27: =F27 -> 17872 | U27: =T27-S27 -> -27417 | V27: 843 | W27: =G27 -> 295 | X27: =W27-V27 -> -548 | Y27: 49145 | Z27: =H27 -> 21180 | AA27: =Z27-Y27 -> -27965
A28: 5062F18AC396202C73DEF0D186A41B | B28: 15 시트방수(벽) | C28: 접착식 | D28: M2 | E28: =일위대가!F134 -> 12600 | F28: =일위대가!H134 -> 13100 | G28: =일위대가!J134 -> 262 | H28: =E28+F28+G28 -> 25962 | I28: 호표 25 | P28: 12600 | Q28: =E28 -> 12600 | R28: =Q28-P28 -> 0 | S28: 13100 | T28: =F28 -> 13100 | U28: =T28-S28 -> 0 | V28: 262 | W28: =G28 -> 262 | X28: =W28-V28 -> 0 | Y28: 25962 | Z28: =H28 -> 25962 | AA28: =Z28-Y28 -> 0
A29: 5062F18AC3A09F2676D07EE19AD18A | B29: 16 시트방수(바닥) | C29: 접착식 | D29: M2 | E29: =일위대가!F141 -> 12600 | F29: =일위대가!H141 -> 9921 | G29: =일위대가!J141 -> 198 | H29: =E29+F29+G29 -> 22719 | I29: 호표 26 | P29: 12600 | Q29: =E29 -> 12600 | R29: =Q29-P29 -> 0 | S29: 9921 | T29: =F29 -> 9921 | U29: =T29-S29 -> 0 | V29: 198 | W29: =G29 -> 198 | X29: =W29-V29 -> 0 | Y29: 22719 | Z29: =H29 -> 22719 | AA29: =Z29-Y29 -> 0
A30: 5062818D6A7746287AE555A1CCB441 | B30: 17 몰딩 (반자돌림) | C30: PVC, 20x20(mm), 몰딩 고정대 포함 | D30: M | E30: =일위대가!F147 -> 688 | F30: =일위대가!H147 -> 2059 | G30: =일위대가!J147 -> 81 | H30: =E30+F30+G30 -> 2828 | I30: 호표 27 | O30: 노무비↓:시중노임단가 상승분 적용/표준품셈 무시 | P30: 1683 | Q30: =E30 -> 688 | R30: =Q30-P30 -> -995 | S30: 2288 | T30: =F30 -> 2059 | U30: =T30-S30 -> -229 | V30: 91 | W30: =G30 -> 81 | X30: =W30-V30 -> -10 | Y30: 4062 | Z30: =H30 -> 2828 | AA30: =Z30-Y30 -> -1234
A31: 5062818D6A7746287AE555A1CCB442 | B31: 18 몰딩 (반자돌림) | C31: 40x12(mm)(합성수지위비닐시트) | D31: M | E31: =일위대가!F153 -> 1225 | F31: =일위대가!H153 -> 1372 | G31: =일위대가!J153 -> 54 | H31: =E31+F31+G31 -> 2651 | I31: 호표 28 | O31: 노무비↓:시중노임단가 상승분 적용/표준품셈 무시 | P31: 1925 | Q31: =E31 -> 1225 | R31: =Q31-P31 -> -700 | S31: 2288 | T31: =F31 -> 1372 | U31: =T31-S31 -> -916 | V31: 91 | W31: =G31 -> 54 | X31: =W31-V31 -> -37 | Y31: 4304 | Z31: =H31 -> 2651 | AA31: =Z31-Y31 -> -1653
A32: 5062818DEFEF172372C986D124B408 | B32: 19-01 걸레받이 설치(철거포함) / 합성수지류 | C32: 75mm,철거포함 | D32: M | E32: =일위대가!F160 -> 1240 | F32: =일위대가!H160 -> 4590 | G32: =일위대가!J160 -> 91 | H32: =E32+F32+G32 -> 5921 | I32: 호표 29 | P32: 1240 | Q32: =E32 -> 1240 | R32: =Q32-P32 -> 0 | S32: 4590 | T32: =F32 -> 4590 | U32: =T32-S32 -> 0 | V32: 91 | W32: =G32 -> 91 | X32: =W32-V32 -> 0 | Y32: 5921 | Z32: =H32 -> 5921 | AA32: =Z32-Y32 -> 0
A33: 5062818DEFEF062875F71321F43AC5 | B33: 19-02 걸레받이 설치(철거포함) / 중밀도섬유판 | C33: 75mm,철거포함 | D33: M | E33: =일위대가!F167 -> 564 | F33: =일위대가!H167 -> 5512 | G33: =일위대가!J167 -> 109 | H33: =E33+F33+G33 -> 6185 | I33: 호표 30 | P33: 564 | Q33: =E33 -> 564 | R33: =Q33-P33 -> 0 | S33: 5512 | T33: =F33 -> 5512 | U33: =T33-S33 -> 0 | V33: 109 | W33: =G33 -> 109 | X33: =W33-V33 -> 0 | Y33: 6185 | Z33: =H33 -> 6185 | AA33: =Z33-Y33 -> 0
A34: 5062818DCC949B24793BB1B1FC8964 | B34: 20 벽체합판설치(4.8T) | C34: 띠장, 절단 및 설치작업 포함 | D34: M2 | E34: =일위대가!F173 -> 5467 | F34: =일위대가!H173 -> 16988 | G34: =일위대가!J173 -> 339 | H34: =E34+F34+G34 -> 22794 | I34: 호표 31 | P34: 5467 | Q34: =E34 -> 5467 | R34: =Q34-P34 -> 0 | S34: 25101 | T34: =F34 -> 16988 | U34: =T34-S34 -> -8113 | V34: 501 | W34: =G34 -> 339 | X34: =W34-V34 -> -162 | Y34: 31069 | Z34: =H34 -> 22794 | AA34: =Z34-Y34 -> -8275
A35: 5062818DCC949B24793BB1B1FC8967 | B35: 21 벽체합판설치(12T) | C35: 띠장, 절단 및 설치작업 포함 | D35: M2 | E35: =일위대가!F179 -> 11194 | F35: =일위대가!H179 -> 16988 | G35: =일위대가!J179 -> 339 | H35: =E35+F35+G35 -> 28521 | I35: 호표 32 | P35: 11194 | Q35: =E35 -> 11194 | R35: =Q35-P35 -> 0 | S35: 25101 | T35: =F35 -> 16988 | U35: =T35-S35 -> -8113 | V35: 501 | W35: =G35 -> 339 | X35: =W35-V35 -> -162 | Y35: 36796 | Z35: =H35 -> 28521 | AA35: =Z35-Y35 -> -8275
A36: 5062818DCCFD3426740203F162E83E | B36: 22 석고판 본드붙임(벽, 방화9.5mm) | C36: 벽, 바탕, 방화 9.5T | D36: M2 | E36: =일위대가!F184 -> 3546 | F36: =일위대가!H184 -> 7571 | G36: =일위대가!J184 -> 75 | H36: =E36+F36+G36 -> 11192 | I36: 호표 33 | P36: 3699 | Q36: =E36 -> 3546 | R36: =Q36-P36 -> -153 | S36: 8908 | T36: =F36 -> 7571 | U36: =T36-S36 -> -1337 | V36: 89 | W36: =G36 -> 75 | X36: =W36-V36 -> -14 | Y36: 12696 | Z36: =H36 -> 11192 | AA36: =Z36-Y36 -> -1504
A37: 5062818DCCFD3426740203F162E83D | B37: 23 석고판 본드붙임(천장, 방화9.5mm) | C37: 천장, 바탕, 방화 9.5T | D37: M2 | E37: =일위대가!F189 -> 3546 | F37: =일위대가!H189 -> 9843 | G37: =일위대가!J189 -> 75 | H37: =E37+F37+G37 -> 13464 | I37: 호표 34 | P37: 3699 | Q37: =E37 -> 3546 | R37: =Q37-P37 -> -153 | S37: 11580 | T37: =F37 -> 9843 | U37: =T37-S37 -> -1737 | V37: 89 | W37: =G37 -> 75 | X37: =W37-V37 -> -14 | Y37: 15368 | Z37: =H37 -> 13464 | AA37: =Z37-Y37 -> -1904
A38: 5062818DCCFD0F22701D94D11B9BFF | B38: 24 석고판 못붙임(벽, 방화9.5mm) | C38: 벽, 바탕, 방화 9.5T | D38: M2 | E38: =일위대가!F194 -> 2605 | F38: =일위대가!H194 -> 10066 | G38: =일위대가!J194 -> 100 | H38: =E38+F38+G38 -> 12771 | I38: 호표 35 | P38: 2605 | Q38: =E38 -> 2605 | R38: =Q38-P38 -> 0 | S38: 10066 | T38: =F38 -> 10066 | U38: =T38-S38 -> 0 | V38: 100 | W38: =G38 -> 100 | X38: =W38-V38 -> 0 | Y38: 12771 | Z38: =H38 -> 12771 | AA38: =Z38-Y38 -> 0
A39: 5062818DCCFD0F2177A06081D6B777 | B39: 25 석고판 못붙임(천장, 방화9.5mm) | C39: 천장, 바탕, 방화 9.5T | D39: M2 | E39: =일위대가!F199 -> 2605 | F39: =일위대가!H199 -> 13140 | G39: =일위대가!J199 -> 131 | H39: =E39+F39+G39 -> 15876 | I39: 호표 36 | P39: 2605 | Q39: =E39 -> 2605 | R39: =Q39-P39 -> 0 | S39: 13140 | T39: =F39 -> 13140 | U39: =T39-S39 -> 0 | V39: 131 | W39: =G39 -> 131 | X39: =W39-V39 -> 0 | Y39: 15876 | Z39: =H39 -> 15876 | AA39: =Z39-Y39 -> 0
A40: 5062818DCCFD3426740203F162E83C | B40: 26 석고판 본드붙임(벽, 방수9.5mm) | C40: 벽, 바탕, 방수 9.5T | D40: M2 | E40: =일위대가!F204 -> 4256 | F40: =일위대가!H204 -> 7571 | G40: =일위대가!J204 -> 75 | H40: =E40+F40+G40 -> 11902 | I40: 호표 37 | P40: 4409 | Q40: =E40 -> 4256 | R40: =Q40-P40 -> -153 | S40: 8908 | T40: =F40 -> 7571 | U40: =T40-S40 -> -1337 | V40: 89 | W40: =G40 -> 75 | X40: =W40-V40 -> -14 | Y40: 13406 | Z40: =H40 -> 11902 | AA40: =Z40-Y40 -> -1504
A41: 5062818DCCFD0F2177A06081D6B774 | B41: 27 석고판 못붙임(천장, 방수9.5mm) | C41: 천장, 바탕, 방수 9.5T | D41: M2 | E41: =일위대가!F209 -> 3294 | F41: =일위대가!H209 -> 11169 | G41: =일위대가!J209 -> 111 | H41: =E41+F41+G41 -> 14574 | I41: 호표 38 | P41: 3294 | Q41: =E41 -> 3294 | R41: =Q41-P41 -> 0 | S41: 13140 | T41: =F41 -> 11169 | U41: =T41-S41 -> -1971 | V41: 131 | W41: =G41 -> 111 | X41: =W41-V41 -> -20 | Y41: 16565 | Z41: =H41 -> 14574 | AA41: =Z41-Y41 -> -1991
A42: 5062818DCCFD0F22701D94D11B9BFC | B42: 28 석고판 못붙임(벽, 방수12.5.mm) | C42: 벽, 바탕, 방수 12.5T | D42: M2 | E42: =일위대가!F214 -> 4972 | F42: =일위대가!H214 -> 10066 | G42: =일위대가!J214 -> 100 | H42: =E42+F42+G42 -> 15138 | I42: 호표 39 | P42: 4972 | Q42: =E42 -> 4972 | R42: =Q42-P42 -> 0 | S42: 10066 | T42: =F42 -> 10066 | U42: =T42-S42 -> 0 | V42: 100 | W42: =G42 -> 100 | X42: =W42-V42 -> 0 | Y42: 15138 | Z42: =H42 -> 15138 | AA42: =Z42-Y42 -> 0
A43: 5062818DCCFD3426740203F162E83B | B43: 29 석고판 본드붙임(천장, 방수12.5.mm) | C43: 천장, 바탕, 방수 12.5T | D43: M2 | E43: =일위대가!F219 -> 5981 | F43: =일위대가!H219 -> 9843 | G43: =일위대가!J219 -> 75 | H43: =E43+F43+G43 -> 15899 | I43: 호표 40 | P43: 6134 | Q43: =E43 -> 5981 | R43: =Q43-P43 -> -153 | S43: 11580 | T43: =F43 -> 9843 | U43: =T43-S43 -> -1737 | V43: 89 | W43: =G43 -> 75 | X43: =W43-V43 -> -14 | Y43: 17803 | Z43: =H43 -> 15899 | AA43: =Z43-Y43 -> -1904
A44: 5062818DCCFD0F22701D94D11B9BFD | B44: 30 석고판 못붙임(벽, 방화12.5.mm) | C44: 벽, 방화12.5.mm | D44: M2 | E44: =일위대가!F224 -> 3654 | F44: =일위대가!H224 -> 8556 | G44: =일위대가!J224 -> 85 | H44: =E44+F44+G44 -> 12295 | I44: 호표 41 | P44: 3654 | Q44: =E44 -> 3654 | R44: =Q44-P44 -> 0 | S44: 10066 | T44: =F44 -> 8556 | U44: =T44-S44 -> -1510 | V44: 100 | W44: =G44 -> 85 | X44: =W44-V44 -> -15 | Y44: 13820 | Z44: =H44 -> 12295 | AA44: =Z44-Y44 -> -1525
A45: 5062818DCCFD0F22701D94D11B9BFA | B45: 31 석고판 못붙임(벽, 방수9.5mm) | C45: 벽, 방수9.5mm | D45: M2 | E45: =일위대가!F229 -> 3294 | F45: =일위대가!H229 -> 8556 | G45: =일위대가!J229 -> 85 | H45: =E45+F45+G45 -> 11935 | I45: 호표 42 | P45: 3294 | Q45: =E45 -> 3294 | R45: =Q45-P45 -> 0 | S45: 10066 | T45: =F45 -> 8556 | U45: =T45-S45 -> -1510 | V45: 100 | W45: =G45 -> 85 | X45: =W45-V45 -> -15 | Y45: 13460 | Z45: =H45 -> 11935 | AA45: =Z45-Y45 -> -1525
A46: 5062818DCCFD3426740203F162E83A | B46: 32 석고판 본드붙임(벽, 방화12.5.mm) | C46: 벽, 방화12.5.mm | D46: M2 | E46: =일위대가!F234 -> 4625 | F46: =일위대가!H234 -> 7571 | G46: =일위대가!J234 -> 75 | H46: =E46+F46+G46 -> 12271 | I46: 호표 43 | P46: 4778 | Q46: =E46 -> 4625 | R46: =Q46-P46 -> -153 | S46: 8908 | T46: =F46 -> 7571 | U46: =T46-S46 -> -1337 | V46: 89 | W46: =G46 -> 75 | X46: =W46-V46 -> -14 | Y46: 13775 | Z46: =H46 -> 12271 | AA46: =Z46-Y46 -> -1504
A47: 5062818DCCFD3426740203F162E839 | B47: 33 석고판 본드붙임(벽, 방수12.5.mm) | C47: 벽, 방수12.5.mm | D47: M2 | E47: =일위대가!F239 -> 5981 | F47: =일위대가!H239 -> 7571 | G47: =일위대가!J239 -> 75 | H47: =E47+F47+G47 -> 13627 | I47: 호표 44 | P47: 6134 | Q47: =E47 -> 5981 | R47: =Q47-P47 -> -153 | S47: 8908 | T47: =F47 -> 7571 | U47: =T47-S47 -> -1337 | V47: 89 | W47: =G47 -> 75 | X47: =W47-V47 -> -14 | Y47: 15131 | Z47: =H47 -> 13627 | AA47: =Z47-Y47 -> -1504
A48: 5062818DCCFD0F2177A06081D6B775 | B48: 34 석고판 못붙임(천장, 방화12.5.mm) | C48: 천장, 방화12.5.mm | D48: M2 | E48: =일위대가!F244 -> 3654 | F48: =일위대가!H244 -> 11169 | G48: =일위대가!J244 -> 111 | H48: =E48+F48+G48 -> 14934 | I48: 호표 45 | P48: 3654 | Q48: =E48 -> 3654 | R48: =Q48-P48 -> 0 | S48: 13140 | T48: =F48 -> 11169 | U48: =T48-S48 -> -1971 | V48: 131 | W48: =G48 -> 111 | X48: =W48-V48 -> -20 | Y48: 16925 | Z48: =H48 -> 14934 | AA48: =Z48-Y48 -> -1991
A49: 5062818DCCFD0F2177A06081D6B772 | B49: 35 석고판 못붙임(천장, 방수12.5.mm) | C49: 천장, 방수12.5.mm | D49: M2 | E49: =일위대가!F249 -> 4972 | F49: =일위대가!H249 -> 11169 | G49: =일위대가!J249 -> 111 | H49: =E49+F49+G49 -> 16252 | I49: 호표 46 | P49: 4972 | Q49: =E49 -> 4972 | R49: =Q49-P49 -> 0 | S49: 13140 | T49: =F49 -> 11169 | U49: =T49-S49 -> -1971 | V49: 131 | W49: =G49 -> 111 | X49: =W49-V49 -> -20 | Y49: 18243 | Z49: =H49 -> 16252 | AA49: =Z49-Y49 -> -1991
A50: 5062818DCCFD3426740203F162E838 | B50: 36 석고판 본드붙임(천장, 방화12.5.mm) | C50: 천장, 방화12.5.mm | D50: M2 | E50: =일위대가!F254 -> 4625 | F50: =일위대가!H254 -> 9843 | G50: =일위대가!J254 -> 75 | H50: =E50+F50+G50 -> 14543 | I50: 호표 47 | P50: 4778 | Q50: =E50 -> 4625 | R50: =Q50-P50 -> -153 | S50: 11580 | T50: =F50 -> 9843 | U50: =T50-S50 -> -1737 | V50: 89 | W50: =G50 -> 75 | X50: =W50-V50 -> -14 | Y50: 16447 | Z50: =H50 -> 14543 | AA50: =Z50-Y50 -> -1904
A51: 5062818DCCFD3426740203F162E837 | B51: 37 석고판 본드붙임(천장, 방수9.5mm) | C51: 천장, 방수9.5mm | D51: M2 | E51: =일위대가!F259 -> 4256 | F51: =일위대가!H259 -> 9843 | G51: =일위대가!J259 -> 75 | H51: =E51+F51+G51 -> 14174 | I51: 호표 48 | P51: 4409 | Q51: =E51 -> 4256 | R51: =Q51-P51 -> -153 | S51: 11580 | T51: =F51 -> 9843 | U51: =T51-S51 -> -1737 | V51: 89 | W51: =G51 -> 75 | X51: =W51-V51 -> -14 | Y51: 16078 | Z51: =H51 -> 14174 | AA51: =Z51-Y51 -> -1904
A52: 5062E1845433FF2D784090D17C473D | B52: 38 반자틀설치 | C52: 철물 소요 비용 포함 | D52: M2 | E52: =일위대가!F266 -> 4337 | F52: =일위대가!H266 -> 12544 | G52: =일위대가!J266 -> 0 | H52: =E52+F52+G52 -> 16881 | I52: 호표 49 | O52: 노무비↓:시중노임단가 상승분 적용/표준품셈 무시 | P52: 4337 | Q52: =E52 -> 4337 | R52: =Q52-P52 -> 0 | S52: 12544 | T52: =F52 -> 12544 | U52: =T52-S52 -> 0 | V52: 0 | W52: =G52 -> 0 | X52: =W52-V52 -> 0 | Y52: 16881 | Z52: =H52 -> 16881 | AA52: =Z52-Y52 -> 0
A53: 5062E1845417312979EF09D16F48EC | B53: 39 벽체띠장 | D53: M | E53: =일위대가!F271 -> 415 | F53: =일위대가!H271 -> 266 | G53: =일위대가!J271 -> 5 | H53: =E53+F53+G53 -> 686 | I53: 호표 50 | P53: 415 | Q53: =E53 -> 415 | R53: =Q53-P53 -> 0 | S53: 266 | T53: =F53 -> 266 | U53: =T53-S53 -> 0 | V53: 5 | W53: =G53 -> 5 | X53: =W53-V53 -> 0 | Y53: 686 | Z53: =H53 -> 686 | AA53: =Z53-Y53 -> 0
A54: 5062818DCC949B24793BB1B1FC8966 | B54: 40 천장합판설치(2.7t) | C54: 2.7t | D54: M2 | E54: =일위대가!F276 -> 3287 | F54: =일위대가!H276 -> 21092 | G54: =일위대가!J276 -> 324 | H54: =E54+F54+G54 -> 24703 | I54: 호표 51 | P54: 3287 | Q54: =E54 -> 3287 | R54: =Q54-P54 -> 0 | S54: 21092 | T54: =F54 -> 21092 | U54: =T54-S54 -> 0 | V54: 324 | W54: =G54 -> 324 | X54: =W54-V54 -> 0 | Y54: 24703 | Z54: =H54 -> 24703 | AA54: =Z54-Y54 -> 0
A55: 5062818DCC949B24793BB1B1FC8961 | B55: 41 천장합판설치(4.8t) | C55: 4.8t | D55: M2 | E55: =일위대가!F281 -> 3857 | F55: =일위대가!H281 -> 21092 | G55: =일위대가!J281 -> 324 | H55: =E55+F55+G55 -> 25273 | I55: 호표 52 | P55: 3857 | Q55: =E55 -> 3857 | R55: =Q55-P55 -> 0 | S55: 21092 | T55: =F55 -> 21092 | U55: =T55-S55 -> 0 | V55: 324 | W55: =G55 -> 324 | X55: =W55-V55 -> 0 | Y55: 25273 | Z55: =H55 -> 25273 | AA55: =Z55-Y55 -> 0
A56: 5062818DCCC1E32A73F89FF1054B4E | B56: 42 욕실천장재설치(돔형) | C56: SMC욕실천장(돔형),반자틀 포함 | D56: M2 | E56: =일위대가!F288 -> 67135 | F56: =일위대가!H288 -> 23413 | G56: =일위대가!J288 -> 326 | H56: =E56+F56+G56 -> 90874 | I56: 호표 53 | P56: 67135 | Q56: =E56 -> 67135 | R56: =Q56-P56 -> 0 | S56: 23413 | T56: =F56 -> 23413 | U56: =T56-S56 -> 0 | V56: 326 | W56: =G56 -> 326 | X56: =W56-V56 -> 0 | Y56: 90874 | Z56: =H56 -> 90874 | AA56: =Z56-Y56 -> 0
A57: 5062818DCCC1E32A73F89FF1054B4C | B57: 43 욕실천장재설치(일반형) | C57: SMC욕실천장(돔형),반자틀 포함 | D57: M2 | E57: =일위대가!F295 -> 67135 | F57: =일위대가!H295 -> 23413 | G57: =일위대가!J295 -> 326 | H57: =E57+F57+G57 -> 90874 | I57: 호표 54 | P57: 67135 | Q57: =E57 -> 67135 | R57: =Q57-P57 -> 0 | S57: 23413 | T57: =F57 -> 23413 | U57: =T57-S57 -> 0 | V57: 326 | W57: =G57 -> 326 | X57: =W57-V57 -> 0 | Y57: 90874 | Z57: =H57 -> 90874 | AA57: =Z57-Y57 -> 0
A58: 5062818DCCC1E32A73F89FF1054B4B | B58: 44 천장재설치 (리빙우드 10T) | C58: 10t, 리빙우드, 반자틀 포함 | D58: M2 | E58: =일위대가!F302 -> 25468 | F58: =일위대가!H302 -> 23413 | G58: =일위대가!J302 -> 326 | H58: =E58+F58+G58 -> 49207 | I58: 호표 55 | P58: 25468 | Q58: =E58 -> 25468 | R58: =Q58-P58 -> 0 | S58: 23413 | T58: =F58 -> 23413 | U58: =T58-S58 -> 0 | V58: 326 | W58: =G58 -> 326 | X58: =W58-V58 -> 0 | Y58: 49207 | Z58: =H58 -> 49207 | AA58: =Z58-Y58 -> 0
A59: 5062F18A7B8CEC2E70B7EA21297752 | B59: 45 시멘트액체방수(바닥) | C59: 바탕청소-시멘트페이스트(1차)-방수액침투-시멘트페이스트2차-모르타르바름 | D59: M2 | E59: =일위대가!F309 -> 4738 | F59: =일위대가!H309 -> 21239 | G59: =일위대가!J309 -> 637 | H59: =E59+F59+G59 -> 26614 | I59: 호표 56 | P59: 4738 | Q59: =E59 -> 4738 | R59: =Q59-P59 -> 0 | S59: 21239 | T59: =F59 -> 21239 | U59: =T59-S59 -> 0 | V59: 637 | W59: =G59 -> 637 | X59: =W59-V59 -> 0 | Y59: 26614 | Z59: =H59 -> 26614 | AA59: =Z59-Y59 -> 0
A60: 5062F18A7BB8392B7623A46198A2A1 | B60: 46 시멘트액체방수(벽) | C60: 바탕청소-바탕접착-시멘트페이스트(1차)-모르타르바름 | D60: M2 | E60: =일위대가!F316 -> 3000 | F60: =일위대가!H316 -> 16677 | G60: =일위대가!J316 -> 500 | H60: =E60+F60+G60 -> 20177 | I60: 호표 57 | P60: 3000 | Q60: =E60 -> 3000 | R60: =Q60-P60 -> 0 | S60: 16677 | T60: =F60 -> 16677 | U60: =T60-S60 -> 0 | V60: 500 | W60: =G60 -> 500 | X60: =W60-V60 -> 0 | Y60: 20177 | Z60: =H60 -> 20177 | AA60: =Z60-Y60 -> 0
A61: 5062A182DF502A257CEF0B91800B3A | B61: 47 석재타일붙이기 | C61: 100*100, 바탕30+압착5 | D61: M2 | E61: =일위대가!F326 -> 22334 | F61: =일위대가!H326 -> 35063 | G61: =일위대가!J326 -> 786 | H61: =E61+F61+G61 -> 58183 | I61: 호표 58 | P61: 22334 | Q61: =E61 -> 22334 | R61: =Q61-P61 -> 0 | S61: 53973 | T61: =F61 -> 35063 | U61: =T61-S61 -> -18910 | V61: 1311 | W61: =G61 -> 786 | X61: =W61-V61 -> -525 | Y61: 77618 | Z61: =H61 -> 58183 | AA61: =Z61-Y61 -> -19435
A62: 5062A182DF730A2176DA564136EA2D | B62: 48 도기질 타일붙이기(벽,떠붙임) / 바탕 24mm | C62: 300*600mm ,떠붙임 | D62: M2 | E62: =일위대가!F334 -> 16658 | F62: =일위대가!H334 -> 39842 | G62: =일위대가!J334 -> 1004 | H62: =E62+F62+G62 -> 57504 | I62: 호표 59 | P62: 18561 | Q62: =E62 -> 16658 | R62: =Q62-P62 -> -1903 | S62: 51001 | T62: =F62 -> 39842 | U62: =T62-S62 -> -11159 | V62: 1339 | W62: =G62 -> 1004 | X62: =W62-V62 -> -335 | Y62: 70901 | Z62: =H62 -> 57504 | AA62: =Z62-Y62 -> -13397
A63: 5062A182DF502A247297457193CC0C | B63: 49 자기질 타일붙이기(바닥) | C63: 200*200, 바탕25+압착5 | D63: M2 | E63: =일위대가!F344 -> 12112 | F63: =일위대가!H344 -> 33921 | G63: =일위대가!J344 -> 810 | H63: =E63+F63+G63 -> 46843 | I63: 호표 60 | P63: 16270 | Q63: =E63 -> 12112 | R63: =Q63-P63 -> -4158 | S63: 53455 | T63: =F63 -> 33921 | U63: =T63-S63 -> -19534 | V63: 1311 | W63: =G63 -> 810 | X63: =W63-V63 -> -501 | Y63: 71036 | Z63: =H63 -> 46843 | AA63: =Z63-Y63 -> -24193
A64: 5062A182DF7337277F832D918D7E35 | B64: 50 도기질 타일붙이기(벽,접착식) | C64: 300*600mm, 접착식 | D64: M2 | E64: =일위대가!F350 -> 16805 | F64: =일위대가!H350 -> 23742 | G64: =일위대가!J350 -> 711 | H64: =E64+F64+G64 -> 41258 | I64: 호표 61 | P64: 18708 | Q64: =E64 -> 16805 | R64: =Q64-P64 -> -1903 | S64: 24992 | T64: =F64 -> 23742 | U64: =T64-S64 -> -1250 | V64: 749 | W64: =G64 -> 711 | X64: =W64-V64 -> -38 | Y64: 44449 | Z64: =H64 -> 41258 | AA64: =Z64-Y64 -> -3191
A65: 5062F18AF8E07E297E4E84F146B487 | B65: 51 방수바탕처리(바닥) | C65: 퍼티, 모서리, 바탕면 처리, 경장비 손료 포함 | D65: M2 | E65: =일위대가!F357 -> 1283 | F65: =일위대가!H357 -> 9535 | G65: =일위대가!J357 -> 572 | H65: =E65+F65+G65 -> 11390 | I65: 호표 62 | P65: 1283 | Q65: =E65 -> 1283 | R65: =Q65-P65 -> 0 | S65: 9535 | T65: =F65 -> 9535 | U65: =T65-S65 -> 0 | V65: 572 | W65: =G65 -> 572 | X65: =W65-V65 -> 0 | Y65: 11390 | Z65: =H65 -> 11390 | AA65: =Z65-Y65 -> 0
A66: 5062F18AF8E07E297E4EB0310D4282 | B66: 52 방수바탕처리(수직부) | C66: 퍼티, 모서리, 바탕면 처리, 경장비 손료 포함 | D66: M2 | E66: =일위대가!F364 -> 1283 | F66: =일위대가!H364 -> 10647 | G66: =일위대가!J364 -> 638 | H66: =E66+F66+G66 -> 12568 | I66: 호표 63 | P66: 1283 | Q66: =E66 -> 1283 | R66: =Q66-P66 -> 0 | S66: 10647 | T66: =F66 -> 10647 | U66: =T66-S66 -> 0 | V66: 638 | W66: =G66 -> 638 | X66: =W66-V66 -> 0 | Y66: 12568 | Z66: =H66 -> 12568 | AA66: =Z66-Y66 -> 0
A67: 50A4A180F29144297AEFDA0152CB99 | B67: 53 욕조설치(이동형) | D67: 개 | E67: =일위대가!F371 -> 134808 | F67: =일위대가!H371 -> 160272 | G67: =일위대가!J371 -> 0 | H67: =E67+F67+G67 -> 295080 | I67: 호표 64 | P67: 134808 | Q67: =E67 -> 134808 | R67: =Q67-P67 -> 0 | S67: 160272 | T67: =F67 -> 160272 | U67: =T67-S67 -> 0 | V67: 0 | W67: =G67 -> 0 | X67: =W67-V67 -> 0 | Y67: 295080 | Z67: =H67 -> 295080 | AA67: =Z67-Y67 -> 0
A68: 50A4A180F29144297AF84721313CA3 | B68: 54 욕조설치(배관연결포함) | C68: 하이그로스욕조, 1,600(L) 700(W) 500(H) | D68: 개 | E68: =일위대가!F378 -> 220808 | F68: =일위대가!H378 -> 160272 | G68: =일위대가!J378 -> 0 | H68: =E68+F68+G68 -> 381080 | I68: 호표 65 | P68: 220808 | Q68: =E68 -> 220808 | R68: =Q68-P68 -> 0 | S68: 160272 | T68: =F68 -> 160272 | U68: =T68-S68 -> 0 | V68: 0 | W68: =G68 -> 0 | X68: =W68-V68 -> 0 | Y68: 381080 | Z68: =H68 -> 381080 | AA68: =Z68-Y68 -> 0
A69: 50A4A180F2CE982C7D3D2A415831E6 | B69: 55 대변기(배관연결포함) | C69: 대변기(배관연결포함) 일체형 C1210C, CC-766(OEM) | D69: 개 | E69: =일위대가!F385 -> 179812 | F69: =일위대가!H385 -> 127084 | G69: =일위대가!J385 -> 0 | H69: =E69+F69+G69 -> 306896 | I69: 호표 66 | O69: 사양 변경 | P69: 180973 | Q69: =E69 -> 179812 | R69: =Q69-P69 -> -1161 | S69: 165789 | T69: =F69 -> 127084 | U69: =T69-S69 -> -38705 | V69: 0 | W69: =G69 -> 0 | X69: =W69-V69 -> 0 | Y69: 346762 | Z69: =H69 -> 306896 | AA69: =Z69-Y69 -> -39866
A70: 5062818D2CB9C92F72A3B331BE9B9B | B70: 56 샤워부스 | C70: 750*2000, 설치비 및 공구손료 포함 | D70: 개 | E70: =일위대가!F393 -> 161538 | F70: =일위대가!H393 -> 15168 | G70: =일위대가!J393 -> 151 | H70: =E70+F70+G70 -> 176857 | I70: 호표 67 | P70: 161538 | Q70: =E70 -> 161538 | R70: =Q70-P70 -> 0 | S70: 15168 | T70: =F70 -> 15168 | U70: =T70-S70 -> 0 | V70: 151 | W70: =G70 -> 151 | X70: =W70-V70 -> 0 | Y70: 176857 | Z70: =H70 -> 176857 | AA70: =Z70-Y70 -> 0
A71: 50A4A180F2CE982C7D3D2A415831E5 | B71: 57 비데 | D71: 개 | E71: =일위대가!F397 -> 229000 | F71: =일위대가!H397 -> 0 | G71: =일위대가!J397 -> 0 | H71: =E71+F71+G71 -> 229000 | I71: 호표 68 | P71: 229000 | Q71: =E71 -> 229000 | R71: =Q71-P71 -> 0 | S71: 0 | T71: =F71 -> 0 | U71: =T71-S71 -> 0 | V71: 0 | W71: =G71 -> 0 | X71: =W71-V71 -> 0 | Y71: 229000 | Z71: =H71 -> 229000 | AA71: =Z71-Y71 -> 0
A72: 50A4A180F29144297ADD3C11035175 | B72: 58 세면기(배관연결포함) | C72: 하부일체형, ㉿L610 | D72: 개 | E72: =일위대가!F404 -> 135976 | F72: =일위대가!H404 -> 65898 | G72: =일위대가!J404 -> 0 | H72: =E72+F72+G72 -> 201874 | I72: 호표 69 | P72: 135976 | Q72: =E72 -> 135976 | R72: =Q72-P72 -> 0 | S72: 65898 | T72: =F72 -> 65898 | U72: =T72-S72 -> 0 | V72: 0 | W72: =G72 -> 0 | X72: =W72-V72 -> 0 | Y72: 201874 | Z72: =H72 -> 201874 | AA72: =Z72-Y72 -> 0
A73: 50A4A180F29144297ADD3C11035176 | B73: 59 높이조절세면기(배관연결포함) | C73: UND101(팝업, 트랩포함, 수전, 앵글 밸브 제외) | D73: 개 | E73: =일위대가!F412 -> 435626 | F73: =일위대가!H412 -> 65898 | G73: =일위대가!J412 -> 0 | H73: =E73+F73+G73 -> 501524 | I73: 호표 70 | P73: 621476 | Q73: =E73 -> 435626 | R73: =Q73-P73 -> -185850 | S73: 65898 | T73: =F73 -> 65898 | U73: =T73-S73 -> 0 | V73: 0 | W73: =G73 -> 0 | X73: =W73-V73 -> 0 | Y73: 687374 | Z73: =H73 -> 501524 | AA73: =Z73-Y73 -> -185850
A74: 50A4A180AA98542D76D06781A30F98 | B74: 60 혼합수전(샤워기일체형) | C74: 온냉수 | D74: 개 | E74: =일위대가!F419 -> 140431 | F74: =일위대가!H419 -> 35429 | G74: =일위대가!J419 -> 0 | H74: =E74+F74+G74 -> 175860 | I74: 호표 71 | P74: 140431 | Q74: =E74 -> 140431 | R74: =Q74-P74 -> 0 | S74: 35429 | T74: =F74 -> 35429 | U74: =T74-S74 -> 0 | V74: 0 | W74: =G74 -> 0 | X74: =W74-V74 -> 0 | Y74: 175860 | Z74: =H74 -> 175860 | AA74: =Z74-Y74 -> 0
A75: 50A4A180AA984A297B31FF712E9AC5 | B75: 61 혼합수전 | C75: 온냉수 | D75: 개 | E75: =일위대가!F426 -> 80976 | F75: =일위대가!H426 -> 32545 | G75: =일위대가!J426 -> 0 | H75: =E75+F75+G75 -> 113521 | I75: 호표 72 | P75: 80976 | Q75: =E75 -> 80976 | R75: =Q75-P75 -> 0 | S75: 32545 | T75: =F75 -> 32545 | U75: =T75-S75 -> 0 | V75: 0 | W75: =G75 -> 0 | X75: =W75-V75 -> 0 | Y75: 113521 | Z75: =H75 -> 113521 | AA75: =Z75-Y75 -> 0
A76: 50A4A180AAAAC5287D9641913B6724 | B76: 62 수도꼭지 | C76: 1구 | D76: 개 | E76: =일위대가!F433 -> 14608 | F76: =일위대가!H433 -> 20287 | G76: =일위대가!J433 -> 0 | H76: =E76+F76+G76 -> 34895 | I76: 호표 73 | P76: 14608 | Q76: =E76 -> 14608 | R76: =Q76-P76 -> 0 | S76: 20287 | T76: =F76 -> 20287 | U76: =T76-S76 -> 0 | V76: 0 | W76: =G76 -> 0 | X76: =W76-V76 -> 0 | Y76: 34895 | Z76: =H76 -> 34895 | AA76: =Z76-Y76 -> 0
A77: 50A4A180AA98542D76D06781A30F9B | B77: 63 샤워기 | C77: P205540-1(싱글레버) ,해바라기레인샤워 | D77: 개 | E77: =일위대가!F439 -> 170431 | F77: =일위대가!H439 -> 14377 | G77: =일위대가!J439 -> 0 | H77: =E77+F77+G77 -> 184808 | I77: 호표 74 | P77: 170431 | Q77: =E77 -> 170431 | R77: =Q77-P77 -> 0 | S77: 14377 | T77: =F77 -> 14377 | U77: =T77-S77 -> 0 | V77: 0 | W77: =G77 -> 0 | X77: =W77-V77 -> 0 | Y77: 184808 | Z77: =H77 -> 184808 | AA77: =Z77-Y77 -> 0
A78: 50A4518FDE44062275C0C841FD3707 | B78: 64 샤워기 높이조절바 | C78: 밸브류-슬라이드바 / KS550 | D78: 개 | E78: =일위대가!F445 -> 30900 | F78: =일위대가!H445 -> 20047 | G78: =일위대가!J445 -> 0 | H78: =E78+F78+G78 -> 50947 | I78: 호표 75 | P78: 30900 | Q78: =E78 -> 30900 | R78: =Q78-P78 -> 0 | S78: 20047 | T78: =F78 -> 20047 | U78: =T78-S78 -> 0 | V78: 0 | W78: =G78 -> 0 | X78: =W78-V78 -> 0 | Y78: 50947 | Z78: =H78 -> 50947 | AA78: =Z78-Y78 -> 0
A79: 50A4B187C2C9DE217B5609B17B2640 | B79: 65 순간온수기 (전기식,50리터) | C79: 전기식, 50리터, 부속포함 | D79: 개 | E79: =일위대가!F452 -> 205777 | F79: =일위대가!H452 -> 28899 | G79: =일위대가!J452 -> 0 | H79: =E79+F79+G79 -> 234676 | I79: 호표 76 | P79: 343250 | Q79: =E79 -> 205777 | R79: =Q79-P79 -> -137473 | S79: 62543 | T79: =F79 -> 28899 | U79: =T79-S79 -> -33644 | V79: 0 | W79: =G79 -> 0 | X79: =W79-V79 -> 0 | Y79: 405793 | Z79: =H79 -> 234676 | AA79: =Z79-Y79 -> -171117
A80: 50A4A187E1AC54267BF2B52160E974 | B80: 66 순간온수기 (가스식,18000k) | C80: 가스, 18,000k | D80: 개 | E80: =일위대가!F457 -> 504000 | F80: =일위대가!H457 -> 86664 | G80: =일위대가!J457 -> 0 | H80: =E80+F80+G80 -> 590664 | I80: 호표 77 | P80: 720000 | Q80: =E80 -> 504000 | R80: =Q80-P80 -> -216000 | S80: 247614 | T80: =F80 -> 86664 | U80: =T80-S80 -> -160950 | V80: 0 | W80: =G80 -> 0 | X80: =W80-V80 -> 0 | Y80: 967614 | Z80: =H80 -> 590664 | AA80: =Z80-Y80 -> -376950
A81: 5062B181A5CD1520750A1B21300643 | B81: 67 거울 600*900 | C81: 600*900 | D81: EA | E81: =일위대가!F461 -> 23879 | F81: =일위대가!H461 -> 31849 | G81: =일위대가!J461 -> 185 | H81: =E81+F81+G81 -> 55913 | I81: 호표 78 | P81: 23879 | Q81: =E81 -> 23879 | R81: =Q81-P81 -> 0 | S81: 31849 | T81: =F81 -> 31849 | U81: =T81-S81 -> 0 | V81: 185 | W81: =G81 -> 185 | X81: =W81-V81 -> 0 | Y81: 55913 | Z81: =H81 -> 55913 | AA81: =Z81-Y81 -> 0
A82: 50A4A180C5CE5B2F77E0F701ABF2D9 | B82: 68 수건걸이(BAR형) | D82: 개 | E82: =일위대가!F467 -> 10101 | F82: =일위대가!H467 -> 20047 | G82: =일위대가!J467 -> 0 | H82: =E82+F82+G82 -> 30148 | I82: 호표 79 | P82: 10101 | Q82: =E82 -> 10101 | R82: =Q82-P82 -> 0 | S82: 20047 | T82: =F82 -> 20047 | U82: =T82-S82 -> 0 | V82: 0 | W82: =G82 -> 0 | X82: =W82-V82 -> 0 | Y82: 30148 | Z82: =H82 -> 30148 | AA82: =Z82-Y82 -> 0
A83: 50A4A180C5CE64257283D2E19332F1 | B83: 69 휴지걸이 | D83: 개 | E83: =일위대가!F473 -> 7931 | F83: =일위대가!H473 -> 14377 | G83: =일위대가!J473 -> 0 | H83: =E83+F83+G83 -> 22308 | I83: 호표 80 | P83: 7931 | Q83: =E83 -> 7931 | R83: =Q83-P83 -> 0 | S83: 14377 | T83: =F83 -> 14377 | U83: =T83-S83 -> 0 | V83: 0 | W83: =G83 -> 0 | X83: =W83-V83 -> 0 | Y83: 22308 | Z83: =H83 -> 22308 | AA83: =Z83-Y83 -> 0
A84: 50A4A180C5CE032D765EBBD17CB648 | B84: 70 비누및컵대 | D84: 식 | E84: =일위대가!F478 -> 18430 | F84: =일위대가!H478 -> 14376 | G84: =일위대가!J478 -> 0 | H84: =E84+F84+G84 -> 32806 | I84: 호표 81 | O84: 노무비↓:비누 및 컵대 각 설치비를 1품으로 적용/표준품셈 무시 | P84: 18430 | Q84: =E84 -> 18430 | R84: =Q84-P84 -> 0 | S84: 14376 | T84: =F84 -> 14376 | U84: =T84-S84 -> 0 | V84: 0 | W84: =G84 -> 0 | X84: =W84-V84 -> 0 | Y84: 32806 | Z84: =H84 -> 32806 | AA84: =Z84-Y84 -> 0
A85: 50A4518FDE5670287C2057B109D03F | B85: 71 옷걸이 | D85: 개 | E85: =일위대가!F484 -> 6931 | F85: =일위대가!H484 -> 14377 | G85: =일위대가!J484 -> 0 | H85: =E85+F85+G85 -> 21308 | I85: 호표 82 | P85: 6931 | Q85: =E85 -> 6931 | R85: =Q85-P85 -> 0 | S85: 14377 | T85: =F85 -> 14377 | U85: =T85-S85 -> 0 | V85: 0 | W85: =G85 -> 0 | X85: =W85-V85 -> 0 | Y85: 21308 | Z85: =H85 -> 21308 | AA85: =Z85-Y85 -> 0
A86: 50A4518FDE5670287C2057B109D03C | B86: 72 욕실수납장 600*800 | C86: 600*800 | D86: 개 | E86: =일위대가!F491 -> 78845 | F86: =일위대가!H491 -> 14377 | G86: =일위대가!J491 -> 0 | H86: =E86+F86+G86 -> 93222 | I86: 호표 83 | P86: 78845 | Q86: =E86 -> 78845 | R86: =Q86-P86 -> 0 | S86: 14377 | T86: =F86 -> 14377 | U86: =T86-S86 -> 0 | V86: 0 | W86: =G86 -> 0 | X86: =W86-V86 -> 0 | Y86: 93222 | Z86: =H86 -> 93222 | AA86: =Z86-Y86 -> 0
A87: 50A4518FDE5670287C2057B109D03D | B87: 73 욕실수납장 800*800 | C87: 800*800 | D87: 개 | E87: =일위대가!F498 -> 104982 | F87: =일위대가!H498 -> 14377 | G87: =일위대가!J498 -> 0 | H87: =E87+F87+G87 -> 119359 | I87: 호표 84 | P87: 104982 | Q87: =E87 -> 104982 | R87: =Q87-P87 -> 0 | S87: 14377 | T87: =F87 -> 14377 | U87: =T87-S87 -> 0 | V87: 0 | W87: =G87 -> 0 | X87: =W87-V87 -> 0 | Y87: 119359 | Z87: =H87 -> 119359 | AA87: =Z87-Y87 -> 0
A88: 50A4518FDE5670287C2057B109D03A | B88: 74 욕실수납장 1200*800 | C88: 1200*800, 양문슬라이드형 | D88: 개 | E88: =일위대가!F505 -> 125948 | F88: =일위대가!H505 -> 14377 | G88: =일위대가!J505 -> 0 | H88: =E88+F88+G88 -> 140325 | I88: 호표 85 | P88: 125948 | Q88: =E88 -> 125948 | R88: =Q88-P88 -> 0 | S88: 14377 | T88: =F88 -> 14377 | U88: =T88-S88 -> 0 | V88: 0 | W88: =G88 -> 0 | X88: =W88-V88 -> 0 | Y88: 140325 | Z88: =H88 -> 140325 | AA88: =Z88-Y88 -> 0
A89: 50A46188393F012B7FD41BE12BC500 | B89: 75 환풍기(자동개폐형) 250*250 | C89: 250*250 | D89: 개 | E89: =일위대가!F510 -> 31140 | F89: =일위대가!H510 -> 32476 | G89: =일위대가!J510 -> 0 | H89: =E89+F89+G89 -> 63616 | I89: 호표 86 | O89: 표준품셈, 4-2-3 욕실배기팬 설치 | P89: 31140 | Q89: =E89 -> 31140 | R89: =Q89-P89 -> 0 | S89: 32476 | T89: =F89 -> 32476 | U89: =T89-S89 -> 0 | V89: 0 | W89: =G89 -> 0 | X89: =W89-V89 -> 0 | Y89: 63616 | Z89: =H89 -> 63616 | AA89: =Z89-Y89 -> 0
A90: 50A46188393F012B7FD41BE12BC503 | B90: 76 환풍기(자동개폐형) 300*300 | C90: 300*300 | D90: 개 | E90: =일위대가!F515 -> 31900 | F90: =일위대가!H515 -> 32476 | G90: =일위대가!J515 -> 0 | H90: =E90+F90+G90 -> 64376 | I90: 호표 87 | O90: 표준품셈, 4-2-3 욕실배기팬 설치 | P90: 31900 | Q90: =E90 -> 31900 | R90: =Q90-P90 -> 0 | S90: 32476 | T90: =F90 -> 32476 | U90: =T90-S90 -> 0 | V90: 0 | W90: =G90 -> 0 | X90: =W90-V90 -> 0 | Y90: 64376 | Z90: =H90 -> 64376 | AA90: =Z90-Y90 -> 0
A91: 50A46188393F012B7FD41BE12BC502 | B91: 77 환풍기(자동개폐형) 350*350 | C91: 350*350 | D91: 개 | E91: =일위대가!F520 -> 31900 | F91: =일위대가!H520 -> 32476 | G91: =일위대가!J520 -> 0 | H91: =E91+F91+G91 -> 64376 | I91: 호표 88 | O91: 표준품셈, 4-2-3 욕실배기팬 설치 | P91: 31900 | Q91: =E91 -> 31900 | R91: =Q91-P91 -> 0 | S91: 32476 | T91: =F91 -> 32476 | U91: =T91-S91 -> 0 | V91: 0 | W91: =G91 -> 0 | X91: =W91-V91 -> 0 | Y91: 64376 | Z91: =H91 -> 64376 | AA91: =Z91-Y91 -> 0
A92: 50A46188393F012B7FD41BE12BC504 | B92: 78 환풍기(천장용) 125*125 | C92: 125*125 | D92: 개 | E92: =일위대가!F525 -> 14400 | F92: =일위대가!H525 -> 32476 | G92: =일위대가!J525 -> 0 | H92: =E92+F92+G92 -> 46876 | I92: 호표 89 | O92: 표준품셈, 4-2-3 욕실배기팬 설치 | P92: 14400 | Q92: =E92 -> 14400 | R92: =Q92-P92 -> 0 | S92: 32476 | T92: =F92 -> 32476 | U92: =T92-S92 -> 0 | V92: 0 | W92: =G92 -> 0 | X92: =W92-V92 -> 0 | Y92: 46876 | Z92: =H92 -> 46876 | AA92: =Z92-Y92 -> 0
A93: 50A46188393F012B7FD41BE12BC507 | B93: 79 환풍기(천장용) 150*150 | C93: 150*150 | D93: 개 | E93: =일위대가!F530 -> 16640 | F93: =일위대가!H530 -> 32476 | G93: =일위대가!J530 -> 0 | H93: =E93+F93+G93 -> 49116 | I93: 호표 90 | O93: 표준품셈, 4-2-3 욕실배기팬 설치 | P93: 16640 | Q93: =E93 -> 16640 | R93: =Q93-P93 -> 0 | S93: 32476 | T93: =F93 -> 32476 | U93: =T93-S93 -> 0 | V93: 0 | W93: =G93 -> 0 | X93: =W93-V93 -> 0 | Y93: 49116 | Z93: =H93 -> 49116 | AA93: =Z93-Y93 -> 0
A94: 50A46188393F012B7FD41BE12BC506 | B94: 80 환풍기(천장용) 175*175 | C94: 175*175 | D94: 개 | E94: =일위대가!F535 -> 37440 | F94: =일위대가!H535 -> 32476 | G94: =일위대가!J535 -> 0 | H94: =E94+F94+G94 -> 69916 | I94: 호표 91 | O94: 표준품셈, 4-2-3 욕실배기팬 설치 | P94: 37440 | Q94: =E94 -> 37440 | R94: =Q94-P94 -> 0 | S94: 32476 | T94: =F94 -> 32476 | U94: =T94-S94 -> 0 | V94: 0 | W94: =G94 -> 0 | X94: =W94-V94 -> 0 | Y94: 69916 | Z94: =H94 -> 69916 | AA94: =Z94-Y94 -> 0
A95: 50A46188393F012B7FD41BE12BC501 | B95: 81 환풍기(천장용) 250*250 | C95: 250*250 | D95: 개 | E95: =일위대가!F540 -> 42240 | F95: =일위대가!H540 -> 32476 | G95: =일위대가!J540 -> 0 | H95: =E95+F95+G95 -> 74716 | I95: 호표 92 | O95: 표준품셈, 4-2-3 욕실배기팬 설치 | P95: 42240 | Q95: =E95 -> 42240 | R95: =Q95-P95 -> 0 | S95: 32476 | T95: =F95 -> 32476 | U95: =T95-S95 -> 0 | V95: 0 | W95: =G95 -> 0 | X95: =W95-V95 -> 0 | Y95: 74716 | Z95: =H95 -> 74716 | AA95: =Z95-Y95 -> 0
A96: 5062D18680DC712D77B445E1FFF282 | B96: 82 천장점검구 (450*450) | C96: 450x450 | D96: 개 | E96: =일위대가!F548 -> 7210 | F96: =일위대가!H548 -> 68799 | G96: =일위대가!J548 -> 2063 | H96: =E96+F96+G96 -> 78072 | I96: 호표 93 | P96: 7210 | Q96: =E96 -> 7210 | R96: =Q96-P96 -> 0 | S96: 79448 | T96: =F96 -> 68799 | U96: =T96-S96 -> -10649 | V96: 2383 | W96: =G96 -> 2063 | X96: =W96-V96 -> -320 | Y96: 89041 | Z96: =H96 -> 78072 | AA96: =Z96-Y96 -> -10969
A97: 50A4518FDE5670297E92FFC1E3CC56 | B97: 83 종합배수구 150*150 | C97: 150×150㎜ | D97: 세트 | E97: =일위대가!F555 -> 14700 | F97: =일위대가!H555 -> 35688 | G97: =일위대가!J555 -> 0 | H97: =E97+F97+G97 -> 50388 | I97: 호표 94 | O97: 표준품셈, 7-3-3 바닥배수구 설치/노무비↓:시간별 노무비 산정,표준품셈 무시 | P97: 14700 | Q97: =E97 -> 14700 | R97: =Q97-P97 -> 0 | S97: 25694 | T97: =F97 -> 35688 | U97: =T97-S97 -> 9994 | V97: 0 | W97: =G97 -> 0 | X97: =W97-V97 -> 0 | Y97: 40394 | Z97: =H97 -> 50388 | AA97: =Z97-Y97 -> 9994
A98: 50A4518FDE5670297E92FFC1E3CD7D | B98: 84 종합배수구 200*200 | C98: 200*200 | D98: 세트 | E98: =일위대가!F562 -> 15750 | F98: =일위대가!H562 -> 35688 | G98: =일위대가!J562 -> 0 | H98: =E98+F98+G98 -> 51438 | I98: 호표 95 | O98: 표준품셈, 7-3-3 바닥배수구 설치/노무비↓:시간별 노무비 산정,표준품셈 무시 | P98: 15750 | Q98: =E98 -> 15750 | R98: =Q98-P98 -> 0 | S98: 25694 | T98: =F98 -> 35688 | U98: =T98-S98 -> 9994 | V98: 0 | W98: =G98 -> 0 | X98: =W98-V98 -> 0 | Y98: 41444 | Z98: =H98 -> 51438 | AA98: =Z98-Y98 -> 9994
A99: 5062D18665AE852674F168912DC210 | B99: 85 오픈트렌치(한면) | C99: 한면, 아연도금, L-25*25*3T | D99: M | E99: =일위대가!F572 -> 2019 | F99: =일위대가!H572 -> 7822 | G99: =일위대가!J572 -> 382 | H99: =E99+F99+G99 -> 10223 | I99: 호표 96 | P99: 2019 | Q99: =E99 -> 2019 | R99: =Q99-P99 -> 0 | S99: 7822 | T99: =F99 -> 7822 | U99: =T99-S99 -> 0 | V99: 382 | W99: =G99 -> 382 | X99: =W99-V99 -> 0 | Y99: 10223 | Z99: =H99 -> 10223 | AA99: =Z99-Y99 -> 0
A100: 5062D18665AE852674F168912DC12B | B100: 86 오픈트렌치(양면) | C100: 양면, 아연도금, L-25*25*3T | D100: M | E100: =일위대가!F582 -> 4038 | F100: =일위대가!H582 -> 15640 | G100: =일위대가!J582 -> 765 | H100: =E100+F100+G100 -> 20443 | I100: 호표 97 | P100: 4038 | Q100: =E100 -> 4038 | R100: =Q100-P100 -> 0 | S100: 15640 | T100: =F100 -> 15640 | U100: =T100-S100 -> 0 | V100: 765 | W100: =G100 -> 765 | X100: =W100-V100 -> 0 | Y100: 20443 | Z100: =H100 -> 20443 | AA100: =Z100-Y100 -> 0
...

Sheet 일위대가
A1: [ 한국보훈복지의료공단 ]
A2: 품 명 | B2: 규 격 | C2: 단위 | D2: 수량 | E2: 재 료 비 | G2: 노 무 비 | I2: 경 비 | K2: 합 계 | M2: 비 고 | N2: 일위대가 | O2: 품목코드 | P2: 일위 | Q2: 단산 | R2: 자재 | S2: 손료적용 | T2: 손료저장 | U2: 적용율 | V2: JUK1 | W2: JUK2 | X2: JUK3 | Y2: JUK4 | Z2: JUK5 | AA2: JUK6 | AB2: JUK7 | AC2: JUK8 | AD2: JUK9 | AE2: JUK10 | AF2: JUK11 | AG2: JUK12 | AH2: JUK13 | AI2: JUK14 | AJ2: JUK15 | AK2: JUK16 | AL2: JUK17 | AM2: JUK18 | AN2: JUK19 | AO2: JUK20 | AP2: 할증적용 | AQ2: 할증저장 | AR2: 할증율 | AS2: HAL1 | AT2: HAL2 | AU2: HAL3 | AV2: 자재구분 | AW2: 일위대가+자재 | AX2: 장비일위 | AY2: 설정 | BA2: 비 고 (2)
E3: 단 가 | F3: 금 액 | G3: 단 가 | H3: 금 액 | I3: 단 가 | J3: 금 액 | K3: 단 가 | L3: 금 액 | BB3: 수량 변경 | BC3: 설명
A4: 01-01 도배(합지,벽면) / 합판·석고보드면 초배지 시공(합지, 폭90Cm이상, 180g/m2 이상) M2 ( 호표 1 ) | N4: 5062818DDD53DE257977CAC19BEFE2
A5: 도배바름(합판·석고보드면) | B5: 재료비, 합지벽지 | C5: M2 | D5: 1 | E5: =일위대가목록!E485 -> 2128 | F5: =TRUNC(E5*D5,1) -> 2128 | G5: =일위대가목록!F485 -> 0 | H5: =TRUNC(G5*D5,1) -> 0 | I5: =일위대가목록!G485 -> 0 | J5: =TRUNC(I5*D5,1) -> 0 | K5: =TRUNC(E5+G5+I5,1) -> 2128 | L5: =TRUNC(F5+H5+J5,1) -> 2128 | M5: 호표 468 | N5: 5062818DDD53DE257977CAC19BEFE2 | O5: 5062818DDD53DE27745D76D10312F1 | P5: T | Q5: F | R5: F | AW5: 5062818DDD53DE257977CAC19BEFE25062818DDD53DE27745D76D10312F1 | BA5: 호표 468
A6: 도배바름 | B6: 합판·석고보드면, 벽 | C6: M2 | D6: 0.75 | E6: =일위대가목록!E486 -> 0 | F6: =TRUNC(E6*D6,1) -> 0 | G6: =일위대가목록!F486 -> 6481 | H6: =TRUNC(G6*D6,1) -> 4860.7 | I6: =일위대가목록!G486 -> 0 | J6: =TRUNC(I6*D6,1) -> 0 | K6: =TRUNC(E6+G6+I6,1) -> 6481 | L6: =TRUNC(F6+H6+J6,1) -> 4860.7 | M6: 호표 469 | N6: 5062818DDD53DE257977CAC19BEFE2 | O6: 5062818DDD53DE267BE05CF107C699 | P6: T | Q6: F | R6: F | AW6: 5062818DDD53DE257977CAC19BEFE25062818DDD53DE267BE05CF107C699 | BA6: 호표 469 | BB6: 1
A7: [ 합 계 ] | F7: =TRUNC(SUMIF(N5:N6, N4, F5:F6),0) -> 2128 | H7: =TRUNC(SUMIF(N5:N6, N4, H5:H6),0) -> 4860 | J7: =TRUNC(SUMIF(N5:N6, N4, J5:J6),0) -> 0 | L7: =F7+H7+J7 -> 6988 | N7: TOTAL | O7: TOTAL
A9: 01-02 도배(합지,벽면) / 콘크리트·모르타르면 초배지 시공(합지, 폭90Cm이상, 180g/m2 이상) M2 ( 호표 2 ) | N9: 5062818DDD53DE227C39D8C16133F0
A10: 도배바름(콘크리트·모르타르면) | B10: 재료비, 합지벽지 | C10: M2 | D10: 1 | E10: =일위대가목록!E487 -> 2229 | F10: =TRUNC(E10*D10,1) -> 2229 | G10: =일위대가목록!F487 -> 0 | H10: =TRUNC(G10*D10,1) -> 0 | I10: =일위대가목록!G487 -> 0 | J10: =TRUNC(I10*D10,1) -> 0 | K10: =TRUNC(E10+G10+I10,1) -> 2229 | L10: =TRUNC(F10+H10+J10,1) -> 2229 | M10: 호표 470 | N10: 5062818DDD53DE227C39D8C16133F0 | O10: 5062818DDD53DE247F1980613A11B9 | P10: T | Q10: F | R10: F | AW10: 5062818DDD53DE227C39D8C16133F05062818DDD53DE247F1980613A11B9 | BA10: 호표 470
A11: 도배바름 | B11: 콘크리트·모르타르면, 벽 | C11: M2 | D11: 0.75 | E11: =일위대가목록!E488 -> 0 | F11: =TRUNC(E11*D11,1) -> 0 | G11: =일위대가목록!F488 -> 5866 | H11: =TRUNC(G11*D11,1) -> 4399.5 | I11: =일위대가목록!G488 -> 0 | J11: =TRUNC(I11*D11,1) -> 0 | K11: =TRUNC(E11+G11+I11,1) -> 5866 | L11: =TRUNC(F11+H11+J11,1) -> 4399.5 | M11: 호표 471 | N11: 5062818DDD53DE227C39D8C16133F0 | O11: 5062818DDD53DE267BE05CF107C5F2 | P11: T | Q11: F | R11: F | AW11: 5062818DDD53DE227C39D8C16133F05062818DDD53DE267BE05CF107C5F2 | BA11: 호표 471 | BB11: 1
A12: [ 합 계 ] | F12: =TRUNC(SUMIF(N10:N11, N9, F10:F11),0) -> 2229 | H12: =TRUNC(SUMIF(N10:N11, N9, H10:H11),0) -> 4399 | J12: =TRUNC(SUMIF(N10:N11, N9, J10:J11),0) -> 0 | L12: =F12+H12+J12 -> 6628 | N12: TOTAL | O12: TOTAL
A14: 02-01 도배(합지, 천정면) / 합판·석고보드면 초배지 시공(합지, 폭90Cm이상, 180g/m2 이상) M2 ( 호표 3 ) | N14: 5062818DDD53DE237EAA756199BD98
A15: 도배바름(합판·석고보드면) | B15: 재료비, 합지벽지 | C15: M2 | D15: 1 | E15: =일위대가목록!E485 -> 2128 | F15: =TRUNC(E15*D15,1) -> 2128 | G15: =일위대가목록!F485 -> 0 | H15: =TRUNC(G15*D15,1) -> 0 | I15: =일위대가목록!G485 -> 0 | J15: =TRUNC(I15*D15,1) -> 0 | K15: =TRUNC(E15+G15+I15,1) -> 2128 | L15: =TRUNC(F15+H15+J15,1) -> 2128 | M15: 호표 468 | N15: 5062818DDD53DE237EAA756199BD98 | O15: 5062818DDD53DE27745D76D10312F1 | P15: T | Q15: F | R15: F | AW15: 5062818DDD53DE237EAA756199BD985062818DDD53DE27745D76D10312F1 | BA15: 호표 468
A16: 도배바름 | B16: 합판·석고보드면, 천장 | C16: M2 | D16: 0.75 | E16: =일위대가목록!E489 -> 0 | F16: =TRUNC(E16*D16,1) -> 0 | G16: =일위대가목록!F489 -> 8426 | H16: =TRUNC(G16*D16,1) -> 6319.5 | I16: =일위대가목록!G489 -> 0 | J16: =TRUNC(I16*D16,1) -> 0 | K16: =TRUNC(E16+G16+I16,1) -> 8426 | L16: =TRUNC(F16+H16+J16,1) -> 6319.5 | M16: 호표 472 | N16: 5062818DDD53DE237EAA756199BD98 | O16: 5062818DDD53DE267BE05CE16165A8 | P16: T | Q16: F | R16: F | AW16: 5062818DDD53DE237EAA756199BD985062818DDD53DE267BE05CE16165A8 | BA16: 호표 472 | BB16: 1
A17: [ 합 계 ] | F17: =TRUNC(SUMIF(N15:N16, N14, F15:F16),0) -> 2128 | H17: =TRUNC(SUMIF(N15:N16, N14, H15:H16),0) -> 6319 | J17: =TRUNC(SUMIF(N15:N16, N14, J15:J16),0) -> 0 | L17: =F17+H17+J17 -> 8447 | N17: TOTAL | O17: TOTAL
A19: 02-02 도배(합지, 천정면) / 콘크리트·모르타르면 초배지 시공(합지, 폭90Cm이상, 180g/m2 이상) M2 ( 호표 4 ) | N19: 5062818DDD53DE2071609EC1CEE9E5
A20: 도배바름(콘크리트·모르타르면) | B20: 재료비, 합지벽지 | C20: M2 | D20: 1 | E20: =일위대가목록!E487 -> 2229 | F20: =TRUNC(E20*D20,1) -> 2229 | G20: =일위대가목록!F487 -> 0 | H20: =TRUNC(G20*D20,1) -> 0 | I20: =일위대가목록!G487 -> 0 | J20: =TRUNC(I20*D20,1) -> 0 | K20: =TRUNC(E20+G20+I20,1) -> 2229 | L20: =TRUNC(F20+H20+J20,1) -> 2229 | M20: 호표 470 | N20: 5062818DDD53DE2071609EC1CEE9E5 | O20: 5062818DDD53DE247F1980613A11B9 | P20: T | Q20: F | R20: F | AW20: 5062818DDD53DE2071609EC1CEE9E55062818DDD53DE247F1980613A11B9 | BA20: 호표 470
A21: 도배바름 | B21: 콘크리트·모르타르면, 천장 | C21: M2 | D21: 0.75 | E21: =일위대가목록!E490 -> 0 | F21: =TRUNC(E21*D21,1) -> 0 | G21: =일위대가목록!F490 -> 7625 | H21: =TRUNC(G21*D21,1) -> 5718.7 | I21: =일위대가목록!G490 -> 0 | J21: =TRUNC(I21*D21,1) -> 0 | K21: =TRUNC(E21+G21+I21,1) -> 7625 | L21: =TRUNC(F21+H21+J21,1) -> 5718.7 | M21: 호표 473 | N21: 5062818DDD53DE2071609EC1CEE9E5 | O21: 5062818DDD53DE267BE05CE161664E | P21: T | Q21: F | R21: F | AW21: 5062818DDD53DE2071609EC1CEE9E55062818DDD53DE267BE05CE161664E | BA21: 호표 473
A22: [ 합 계 ] | F22: =TRUNC(SUMIF(N20:N21, N19, F20:F21),0) -> 2229 | H22: =TRUNC(SUMIF(N20:N21, N19, H20:H21),0) -> 5718 | J22: =TRUNC(SUMIF(N20:N21, N19, J20:J21),0) -> 0 | L22: =F22+H22+J22 -> 7947 | N22: TOTAL | O22: TOTAL
A24: 03-01 도배(실크, 벽면) / 합판·석고보드면 실크벽지(초배유) M2 ( 호표 5 ) | N24: 5062818DDD53DE257977CAC19BE815
A25: 도배바름(합판·석고보드면) | B25: 재료비, 비닐벽지, 실크형, A급 | C25: M2 | D25: 1 | E25: =일위대가목록!E491 -> 3324 | F25: =TRUNC(E25*D25,1) -> 3324 | G25: =일위대가목록!F491 -> 0 | H25: =TRUNC(G25*D25,1) -> 0 | I25: =일위대가목록!G491 -> 0 | J25: =TRUNC(I25*D25,1) -> 0 | K25: =TRUNC(E25+G25+I25,1) -> 3324 | L25: =TRUNC(F25+H25+J25,1) -> 3324 | M25: 호표 474 | N25: 5062818DDD53DE257977CAC19BE815 | O25: 5062818DDD53DE27745D76D1031554 | P25: T | Q25: F | R25: F | AW25: 5062818DDD53DE257977CAC19BE8155062818DDD53DE27745D76D1031554 | BA25: 호표 474
A26: 도배바름 | B26: 합판·석고보드면, 벽 | C26: M2 | D26: 0.6 | E26: =일위대가목록!E486 -> 0 | F26: =TRUNC(E26*D26,1) -> 0 | G26: =일위대가목록!F486 -> 6481 | H26: =TRUNC(G26*D26,1) -> 3888.6 | I26: =일위대가목록!G486 -> 0 | J26: =TRUNC(I26*D26,1) -> 0 | K26: =TRUNC(E26+G26+I26,1) -> 6481 | L26: =TRUNC(F26+H26+J26,1) -> 3888.6 | M26: 호표 469 | N26: 5062818DDD53DE257977CAC19BE815 | O26: 5062818DDD53DE267BE05CF107C699 | P26: T | Q26: F | R26: F | AW26: 5062818DDD53DE257977CAC19BE8155062818DDD53DE267BE05CF107C699 | BA26: 호표 469
A27: [ 합 계 ] | F27: =TRUNC(SUMIF(N25:N26, N24, F25:F26),0) -> 3324 | H27: =TRUNC(SUMIF(N25:N26, N24, H25:H26),0) -> 3888 | J27: =TRUNC(SUMIF(N25:N26, N24, J25:J26),0) -> 0 | L27: =F27+H27+J27 -> 7212 | N27: TOTAL | O27: TOTAL
A29: 03-02 도배(실크, 벽면) / 콘크리트·모르타르면 실크벽지(초배유) M2 ( 호표 6 ) | N29: 5062818DDD53DE227C39D8C16134D9
A30: 도배바름(콘크리트·모르타르면) | B30: 재료비, 비닐벽지, 실크형, A급 | C30: M2 | D30: 1 | E30: =일위대가목록!E492 -> 3426 | F30: =TRUNC(E30*D30,1) -> 3426 | G30: =일위대가목록!F492 -> 0 | H30: =TRUNC(G30*D30,1) -> 0 | I30: =일위대가목록!G492 -> 0 | J30: =TRUNC(I30*D30,1) -> 0 | K30: =TRUNC(E30+G30+I30,1) -> 3426 | L30: =TRUNC(F30+H30+J30,1) -> 3426 | M30: 호표 475 | N30: 5062818DDD53DE227C39D8C16134D9 | O30: 5062818DDD53DE247F1980613A1649 | P30: T | Q30: F | R30: F | AW30: 5062818DDD53DE227C39D8C16134D95062818DDD53DE247F1980613A1649 | BA30: 호표 475
A31: 도배바름 | B31: 콘크리트·모르타르면, 벽 | C31: M2 | D31: 0.6 | E31: =일위대가목록!E488 -> 0 | F31: =TRUNC(E31*D31,1) -> 0 | G31: =일위대가목록!F488 -> 5866 | H31: =TRUNC(G31*D31,1) -> 3519.6 | I31: =일위대가목록!G488 -> 0 | J31: =TRUNC(I31*D31,1) -> 0 | K31: =TRUNC(E31+G31+I31,1) -> 5866 | L31: =TRUNC(F31+H31+J31,1) -> 3519.6 | M31: 호표 471 | N31: 5062818DDD53DE227C39D8C16134D9 | O31: 5062818DDD53DE267BE05CF107C5F2 | P31: T | Q31: F | R31: F | AW31: 5062818DDD53DE227C39D8C16134D95062818DDD53DE267BE05CF107C5F2 | BA31: 호표 471
A32: [ 합 계 ] | F32: =TRUNC(SUMIF(N30:N31, N29, F30:F31),0) -> 3426 | H32: =TRUNC(SUMIF(N30:N31, N29, H30:H31),0) -> 3519 | J32: =TRUNC(SUMIF(N30:N31, N29, J30:J31),0) -> 0 | L32: =F32+H32+J32 -> 6945 | N32: TOTAL | O32: TOTAL
A34: 04-01 도배(실크, 천정면) / 합판·석고보드면 실크벽지(초배유) M2 ( 호표 7 ) | N34: 5062818DDD53DE237EAA756199BA64
A35: 도배바름(합판·석고보드면) | B35: 재료비, 비닐벽지, 실크형, A급 | C35: M2 | D35: 1 | E35: =일위대가목록!E491 -> 3324 | F35: =TRUNC(E35*D35,1) -> 3324 | G35: =일위대가목록!F491 -> 0 | H35: =TRUNC(G35*D35,1) -> 0 | I35: =일위대가목록!G491 -> 0 | J35: =TRUNC(I35*D35,1) -> 0 | K35: =TRUNC(E35+G35+I35,1) -> 3324 | L35: =TRUNC(F35+H35+J35,1) -> 3324 | M35: 호표 474 | N35: 5062818DDD53DE237EAA756199BA64 | O35: 5062818DDD53DE27745D76D1031554 | P35: T | Q35: F | R35: F | AW35: 5062818DDD53DE237EAA756199BA645062818DDD53DE27745D76D1031554 | BA35: 호표 474
A36: 도배바름 | B36: 합판·석고보드면, 천장 | C36: M2 | D36: 0.9 | E36: =일위대가목록!E489 -> 0 | F36: =TRUNC(E36*D36,1) -> 0 | G36: =일위대가목록!F489 -> 8426 | H36: =TRUNC(G36*D36,1) -> 7583.4 | I36: =일위대가목록!G489 -> 0 | J36: =TRUNC(I36*D36,1) -> 0 | K36: =TRUNC(E36+G36+I36,1) -> 8426 | L36: =TRUNC(F36+H36+J36,1) -> 7583.4 | M36: 호표 472 | N36: 5062818DDD53DE237EAA756199BA64 | O36: 5062818DDD53DE267BE05CE16165A8 | P36: T | Q36: F | R36: F | AW36: 5062818DDD53DE237EAA756199BA645062818DDD53DE267BE05CE16165A8 | BA36: 호표 472
A37: [ 합 계 ] | F37: =TRUNC(SUMIF(N35:N36, N34, F35:F36),0) -> 3324 | H37: =TRUNC(SUMIF(N35:N36, N34, H35:H36),0) -> 7583 | J37: =TRUNC(SUMIF(N35:N36, N34, J35:J36),0) -> 0 | L37: =F37+H37+J37 -> 10907 | N37: TOTAL | O37: TOTAL
A39: 04-02 도배(실크, 천정면) / 콘크리트·모르타르면 실크벽지(초배유) M2 ( 호표 8 ) | N39: 5062818DDD53DE2071609EC1CEEE67
A40: 도배바름(콘크리트·모르타르면) | B40: 재료비, 비닐벽지, 실크형, A급 | C40: M2 | D40: 1 | E40: =일위대가목록!E492 -> 3426 | F40: =TRUNC(E40*D40,1) -> 3426 | G40: =일위대가목록!F492 -> 0 | H40: =TRUNC(G40*D40,1) -> 0 | I40: =일위대가목록!G492 -> 0 | J40: =TRUNC(I40*D40,1) -> 0 | K40: =TRUNC(E40+G40+I40,1) -> 3426 | L40: =TRUNC(F40+H40+J40,1) -> 3426 | M40: 호표 475 | N40: 5062818DDD53DE2071609EC1CEEE67 | O40: 5062818DDD53DE247F1980613A1649 | P40: T | Q40: F | R40: F | AW40: 5062818DDD53DE2071609EC1CEEE675062818DDD53DE247F1980613A1649 | BA40: 호표 475
A41: 도배바름 | B41: 콘크리트·모르타르면, 천장 | C41: M2 | D41: 1 | E41: =일위대가목록!E490 -> 0 | F41: =TRUNC(E41*D41,1) -> 0 | G41: =일위대가목록!F490 -> 7625 | H41: =TRUNC(G41*D41,1) -> 7625 | I41: =일위대가목록!G490 -> 0 | J41: =TRUNC(I41*D41,1) -> 0 | K41: =TRUNC(E41+G41+I41,1) -> 7625 | L41: =TRUNC(F41+H41+J41,1) -> 7625 | M41: 호표 473 | N41: 5062818DDD53DE2071609EC1CEEE67 | O41: 5062818DDD53DE267BE05CE161664E | P41: T | Q41: F | R41: F | AW41: 5062818DDD53DE2071609EC1CEEE675062818DDD53DE267BE05CE161664E | BA41: 호표 473
A42: [ 합 계 ] | F42: =TRUNC(SUMIF(N40:N41, N39, F40:F41),0) -> 3426 | H42: =TRUNC(SUMIF(N40:N41, N39, H40:H41),0) -> 7625 | J42: =TRUNC(SUMIF(N40:N41, N39, J40:J41),0) -> 0 | L42: =F42+H42+J42 -> 11051 | N42: TOTAL | O42: TOTAL
A44: 05 도배(본드) 페인트위(본드,바인드,부직포) M2 ( 호표 9 ) | N44: 5062818DDD53DE257977CAC19BE816
A45: 도배바름(합판·석고보드면) | B45: 재료비, 비닐벽지, 실크형, A급 | C45: M2 | D45: 1 | E45: =일위대가목록!E491 -> 3324 | F45: =TRUNC(E45*D45,1) -> 3324 | G45: =일위대가목록!F491 -> 0 | H45: =TRUNC(G45*D45,1) -> 0 | I45: =일위대가목록!G491 -> 0 | J45: =TRUNC(I45*D45,1) -> 0 | K45: =TRUNC(E45+G45+I45,1) -> 3324 | L45: =TRUNC(F45+H45+J45,1) -> 3324 | M45: 호표 474 | N45: 5062818DDD53DE257977CAC19BE816 | O45: 5062818DDD53DE27745D76D1031554 | P45: T | Q45: F | R45: F | AW45: 5062818DDD53DE257977CAC19BE8165062818DDD53DE27745D76D1031554 | BA45: 호표 474
A46: 도배바름 | B46: 합판·석고보드면, 벽 | C46: M2 | D46: 0.55 | E46: =일위대가목록!E486 -> 0 | F46: =TRUNC(E46*D46,1) -> 0 | G46: =일위대가목록!F486 -> 6481 | H46: =TRUNC(G46*D46,1) -> 3564.5 | I46: =일위대가목록!G486 -> 0 | J46: =TRUNC(I46*D46,1) -> 0 | K46: =TRUNC(E46+G46+I46,1) -> 6481 | L46: =TRUNC(F46+H46+J46,1) -> 3564.5 | M46: 호표 469 | N46: 5062818DDD53DE257977CAC19BE816 | O46: 5062818DDD53DE267BE05CF107C699 | P46: T | Q46: F | R46: F | AW46: 5062818DDD53DE257977CAC19BE8165062818DDD53DE267BE05CF107C699 | BA46: 호표 469
A47: [ 합 계 ] | F47: =TRUNC(SUMIF(N45:N46, N44, F45:F46),0) -> 3324 | H47: =TRUNC(SUMIF(N45:N46, N44, H45:H46),0) -> 3564 | J47: =TRUNC(SUMIF(N45:N46, N44, J45:J46),0) -> 0 | L47: =F47+H47+J47 -> 6888 | N47: TOTAL | O47: TOTAL
A49: 06 장판(2T) T=2mm(경보행용) M2 ( 호표 10 ) | N49: 5062818DEFA19B2770806FB179BFC2
A50: 비닐시트 | B50: 비닐시트, 2.0mm, 모노륨 | C50: M2 | D50: 0.8 | E50: =단가대비표!K181 -> 12200 | F50: =TRUNC(E50*D50,1) -> 9760 | G50: =단가대비표!L181 -> 0 | H50: =TRUNC(G50*D50,1) -> 0 | I50: =단가대비표!S181 -> 0 | J50: =TRUNC(I50*D50,1) -> 0 | K50: =TRUNC(E50+G50+I50,1) -> 12200 | L50: =TRUNC(F50+H50+J50,1) -> 9760 | M50: LG 명품기준 | N50: 5062818DEFA19B2770806FB179BFC2 | O50: 574BE1857D1F5E2C723C67818B40EFC895F8E0 | P50: F | Q50: F | R50: T | AW50: 5062818DEFA19B2770806FB179BFC2574BE1857D1F5E2C723C67818B40EFC895F8E0 | BA50: 자재 177 | BB50: 1.05
A51: PVC계 바닥재 설치 - 시트 | B51: 주재료 제외, 전면접합 | C51: M2 | D51: 0.3 | E51: =일위대가목록!E493 -> 1120 | F51: =TRUNC(E51*D51,1) -> 336 | G51: =일위대가목록!F493 -> 6148 | H51: =TRUNC(G51*D51,1) -> 1844.4 | I51: =일위대가목록!G493 -> 0 | J51: =TRUNC(I51*D51,1) -> 0 | K51: =TRUNC(E51+G51+I51,1) -> 7268 | L51: =TRUNC(F51+H51+J51,1) -> 2180.4 | M51: 호표 476 | N51: 5062818DEFA19B2770806FB179BFC2 | O51: 5062818DEFA19B26762A2F71DEB1C2 | P51: T | Q51: F | R51: F | AW51: 5062818DEFA19B2770806FB179BFC25062818DEFA19B26762A2F71DEB1C2 | BA51: 호표 476 | BB51: 1
A52: [ 합 계 ] | F52: =TRUNC(SUMIF(N50:N51, N49, F50:F51),0) -> 10096 | H52: =TRUNC(SUMIF(N50:N51, N49, H50:H51),0) -> 1844 | J52: =TRUNC(SUMIF(N50:N51, N49, J50:J51),0) -> 0 | L52: =F52+H52+J52 -> 11940 | N52: TOTAL | O52: TOTAL
A54: 07 장판(2.3T) T=2.3mm(중보행용) M2 ( 호표 11 ) | N54: 5062818DEFA19B2770806FB17A42DB
A55: 비닐시트 | B55: 비닐시트, 중보행, 2.3*1830 | C55: M2 | D55: 0.7 | E55: =단가대비표!K182 -> 21000 | F55: =TRUNC(E55*D55,1) -> 14700 | G55: =단가대비표!L182 -> 0 | H55: =TRUNC(G55*D55,1) -> 0 | I55: =단가대비표!S182 -> 0 | J55: =TRUNC(I55*D55,1) -> 0 | K55: =TRUNC(E55+G55+I55,1) -> 21000 | L55: =TRUNC(F55+H55+J55,1) -> 14700 | N55: 5062818DEFA19B2770806FB17A42DB | O55: 574BE1857D1F5E2C723C678189904765BC8C9F | P55: F | Q55: F | R55: T | AW55: 5062818DEFA19B2770806FB17A42DB574BE1857D1F5E2C723C678189904765BC8C9F | BA55: 자재 178 | BB55: 1.05
A56: PVC계 바닥재 설치 - 시트 | B56: 주재료 제외, 전면접합 | C56: M2 | D56: 0.4 | E56: =일위대가목록!E493 -> 1120 | F56: =TRUNC(E56*D56,1) -> 448 | G56: =일위대가목록!F493 -> 6148 | H56: =TRUNC(G56*D56,1) -> 2459.2 | I56: =일위대가목록!G493 -> 0 | J56: =TRUNC(I56*D56,1) -> 0 | K56: =TRUNC(E56+G56+I56,1) -> 7268 | L56: =TRUNC(F56+H56+J56,1) -> 2907.2 | M56: 호표 476 | N56: 5062818DEFA19B2770806FB17A42DB | O56: 5062818DEFA19B26762A2F71DEB1C2 | P56: T | Q56: F | R56: F | AW56: 5062818DEFA19B2770806FB17A42DB5062818DEFA19B26762A2F71DEB1C2 | BA56: 호표 476 | BB56: 1
A57: [ 합 계 ] | F57: =TRUNC(SUMIF(N55:N56, N54, F55:F56),0) -> 15148 | H57: =TRUNC(SUMIF(N55:N56, N54, H55:H56),0) -> 2459 | J57: =TRUNC(SUMIF(N55:N56, N54, J55:J56),0) -> 0 | L57: =F57+H57+J57 -> 17607 | N57: TOTAL | O57: TOTAL
A59: 08 강화마루 설치 (제거+설치) (제거+붙이기)보양포함 M2 ( 호표 12 ) | N59: 5062E18466D98C25760D822135FB88
A60: 강화마루 철거 | C60: M2 | D60: 1 | E60: =일위대가목록!E494 -> 0 | F60: =TRUNC(E60*D60,1) -> 0 | G60: =일위대가목록!F494 -> 5870 | H60: =TRUNC(G60*D60,1) -> 5870 | I60: =일위대가목록!G494 -> 117 | J60: =TRUNC(I60*D60,1) -> 117 | K60: =TRUNC(E60+G60+I60,1) -> 5987 | L60: =TRUNC(F60+H60+J60,1) -> 5987 | M60: 호표 477 | N60: 5062E18466D98C25760D822135FB88 | O60: 5062E18466D98C25760D826190EBA0 | P60: T | Q60: F | R60: F | AW60: 5062E18466D98C25760D822135FB885062E18466D98C25760D826190EBA0 | BA60: 호표 477 | BB60: 1
A61: 강화마루 | B61: T8 | C61: M2 | D61: 1.05 | E61: =단가대비표!K177 -> 20100 | F61: =TRUNC(E61*D61,1) -> 21105 | G61: =단가대비표!L177 -> 0 | H61: =TRUNC(G61*D61,1) -> 0 | I61: =단가대비표!S177 -> 0 | J61: =TRUNC(I61*D61,1) -> 0 | K61: =TRUNC(E61+G61+I61,1) -> 20100 | L61: =TRUNC(F61+H61+J61,1) -> 21105 | N61: 5062E18466D98C25760D822135FB88 | O61: 574BE1857D1F5E2C723C3A412C005CB0ED07BB | P61: F | Q61: F | R61: T | AW61: 5062E18466D98C25760D822135FB88574BE1857D1F5E2C723C3A412C005CB0ED07BB | BA61: 자재 173 | BB61: 1.05
A62: 플로어링 마루 설치 | C62: M2 | D62: 1 | E62: =일위대가목록!E495 -> 0 | F62: =TRUNC(E62*D62,1) -> 0 | G62: =일위대가목록!F495 -> 11740 | H62: =TRUNC(G62*D62,1) -> 11740 | I62: =일위대가목록!G495 -> 234 | J62: =TRUNC(I62*D62,1) -> 234 | K62: =TRUNC(E62+G62+I62,1) -> 11974 | L62: =TRUNC(F62+H62+J62,1) -> 11974 | M62: 호표 478 | N62: 5062E18466D98C25760D822135FB88 | O62: 5062E18466D98C25760D826190EBA1 | P62: T | Q62: F | R62: F | AW62: 5062E18466D98C25760D822135FB885062E18466D98C25760D826190EBA1 | BA62: 호표 478 | BB62: 1
A63: [ 합 계 ] | F63: =TRUNC(SUMIF(N60:N62, N59, F60:F62),0) -> 21105 | H63: =TRUNC(SUMIF(N60:N62, N59, H60:H62),0) -> 17610 | J63: =TRUNC(SUMIF(N60:N62, N59, J60:J62),0) -> 351 | L63: =F63+H63+J63 -> 39066 | N63: TOTAL | O63: TOTAL
A65: 09 비닐타일붙임 (왁스 무) 2.0T, 300*300, 왁스 무 M2 ( 호표 13 ) | N65: 5062818DEFA19B26763497E177350F
A66: 비닐타일 | B66: 비닐타일, 2.0*300*300mm | C66: M2 | D66: 1.05 | E66: =단가대비표!K178 -> 4700 | F66: =TRUNC(E66*D66,1) -> 4935 | G66: =단가대비표!L178 -> 0 | H66: =TRUNC(G66*D66,1) -> 0 | I66: =단가대비표!S178 -> 0 | J66: =TRUNC(I66*D66,1) -> 0 | K66: =TRUNC(E66+G66+I66,1) -> 4700 | L66: =TRUNC(F66+H66+J66,1) -> 4935 | N66: 5062818DEFA19B26763497E177350F | O66: 574BE1857D1F5E2C723C67818B40EFCD1F0E60 | P66: F | Q66: F | R66: T | AW66: 5062818DEFA19B26763497E177350F574BE1857D1F5E2C723C67818B40EFCD1F0E60 | BA66: 자재 174 | BB66: 1.05
A67: 수장타일 붙이기 | B67: 데코타일, 갤런트타일, 네오비아 3T, 왁스무 | C67: ㎡ | D67: 2 | E67: =단가대비표!K402 -> 0 | F67: =TRUNC(E67*D67,1) -> 0 | G67: =단가대비표!L402 -> 5100 | H67: =TRUNC(G67*D67,1) -> 10200 | I67: =단가대비표!S402 -> 0 | J67: =TRUNC(I67*D67,1) -> 0 | K67: =TRUNC(E67+G67+I67,1) -> 5100 | L67: =TRUNC(F67+H67+J67,1) -> 10200 | N67: 5062818DEFA19B26763497E177350F | O67: 5062818DEFA19B267661DDD1B13FF0 | P67: F | Q67: F | R67: T | AW67: 5062818DEFA19B26763497E177350F5062818DEFA19B267661DDD1B13FF0 | BA67: 자재 398 | BB67: 1
A68: [ 합 계 ] | F68: =TRUNC(SUMIF(N66:N67, N65, F66:F67),0) -> 4935 | H68: =TRUNC(SUMIF(N66:N67, N65, H66:H67),0) -> 10200 | J68: =TRUNC(SUMIF(N66:N67, N65, J66:J67),0) -> 0 | L68: =F68+H68+J68 -> 15135 | N68: TOTAL | O68: TOTAL
A70: 10 비닐타일붙임 (왁스 유) 2.0T, 300*300, 왁스 유 M2 ( 호표 14 ) | N70: 5062818DEFA19B26763497E177350C
A71: 비닐타일 | B71: 비닐타일, 2.0*300*300mm | C71: M2 | D71: 1.05 | E71: =단가대비표!K178 -> 4700 | F71: =TRUNC(E71*D71,1) -> 4935 | G71: =단가대비표!L178 -> 0 | H71: =TRUNC(G71*D71,1) -> 0 | I71: =단가대비표!S178 -> 0 | J71: =TRUNC(I71*D71,1) -> 0 | K71: =TRUNC(E71+G71+I71,1) -> 4700 | L71: =TRUNC(F71+H71+J71,1) -> 4935 | N71: 5062818DEFA19B26763497E177350C | O71: 574BE1857D1F5E2C723C67818B40EFCD1F0E60 | P71: F | Q71: F | R71: T | AW71: 5062818DEFA19B26763497E177350C574BE1857D1F5E2C723C67818B40EFCD1F0E60 | BA71: 자재 174 | BB71: 1.05
A72: 수장타일 붙이기 | B72: 데코타일, 갤런트타일, 네오비아 3T, 왁스무 | C72: ㎡ | D72: 2 | E72: =단가대비표!K402 -> 0 | F72: =TRUNC(E72*D72,1) -> 0 | G72: =단가대비표!L402 -> 5100 | H72: =TRUNC(G72*D72,1) -> 10200 | I72: =단가대비표!S402 -> 0 | J72: =TRUNC(I72*D72,1) -> 0 | K72: =TRUNC(E72+G72+I72,1) -> 5100 | L72: =TRUNC(F72+H72+J72,1) -> 10200 | N72: 5062818DEFA19B26763497E177350C | O72: 5062818DEFA19B267661DDD1B13FF0 | P72: F | Q72: F | R72: T | AW72: 5062818DEFA19B26763497E177350C5062818DEFA19B267661DDD1B13FF0 | BA72: 자재 398 | BB72: 1
A73: 광택제 | B73: 광택제, 유성왁스 | C73: L | D73: 0.12 | E73: =단가대비표!K325 -> 1555.55 | F73: =TRUNC(E73*D73,1) -> 186.6 | G73: =단가대비표!L325 -> 0 | H73: =TRUNC(G73*D73,1) -> 0 | I73: =단가대비표!S325 -> 0 | J73: =TRUNC(I73*D73,1) -> 0 | K73: =TRUNC(E73+G73+I73,1) -> 1555.5 | L73: =TRUNC(F73+H73+J73,1) -> 186.6 | N73: 5062818DEFA19B26763497E177350C | O73: 57390181F454EF287CF69671C91EC8042FF61F | P73: F | Q73: F | R73: T | AW73: 5062818DEFA19B26763497E177350C57390181F454EF287CF69671C91EC8042FF61F | BA73: 자재 321 | BB73: 0.12
A74: 왁스칠 | B74: 왁스 별도 | C74: ㎡ | D74: 1 | E74: =단가대비표!K403 -> 0 | F74: =TRUNC(E74*D74,1) -> 0 | G74: =단가대비표!L403 -> 1957 | H74: =TRUNC(G74*D74,1) -> 1957 | I74: =단가대비표!S403 -> 0 | J74: =TRUNC(I74*D74,1) -> 0 | K74: =TRUNC(E74+G74+I74,1) -> 1957 | L74: =TRUNC(F74+H74+J74,1) -> 1957 | N74: 5062818DEFA19B26763497E177350C | O74: 5062818DEFA19B2676B9FD71C65ECF | P74: F | Q74: F | R74: T | AW74: 5062818DEFA19B26763497E177350C5062818DEFA19B2676B9FD71C65ECF | BA74: 자재 399 | BB74: 1
A75: [ 합 계 ] | F75: =TRUNC(SUMIF(N71:N74, N70, F71:F74),0) -> 5121 | H75: =TRUNC(SUMIF(N71:N74, N70, H71:H74),0) -> 12157 | J75: =TRUNC(SUMIF(N71:N74, N70, J71:J74),0) -> 0 | L75: =F75+H75+J75 -> 17278 | N75: TOTAL | O75: TOTAL
A77: 11-01 단열도배(5mm) / 합판·석고보드면, 벽 두께 5㎜ M2 ( 호표 15 ) | N77: 5062818DDD53DE267BE05CF107C6E8
A78: 단열벽지 | B78: T5 | C78: M2 | D78: 0.8 | E78: =단가대비표!K114 -> 4290 | F78: =TRUNC(E78*D78,1) -> 3432 | G78: =단가대비표!L114 -> 0 | H78: =TRUNC(G78*D78,1) -> 0 | I78: =단가대비표!S114 -> 0 | J78: =TRUNC(I78*D78,1) -> 0 | K78: =TRUNC(E78+G78+I78,1) -> 4290 | L78: =TRUNC(F78+H78+J78,1) -> 3432 | N78: 5062818DDD53DE267BE05CF107C6E8 | O78: 574BE1857D1F5E2E7D1792D13DBB41F8D154C1 | P78: F | Q78: F | R78: T | AW78: 5062818DDD53DE267BE05CF107C6E8574BE1857D1F5E2E7D1792D13DBB41F8D154C1 | BA78: 자재 110 | BB78: 1.2
A79: 도배바름 | B79: 합판·석고보드면, 벽 | C79: M2 | D79: 0.8 | E79: =일위대가목록!E486 -> 0 | F79: =TRUNC(E79*D79,1) -> 0 | G79: =일위대가목록!F486 -> 6481 | H79: =TRUNC(G79*D79,1) -> 5184.8 | I79: =일위대가목록!G486 -> 0 | J79: =TRUNC(I79*D79,1) -> 0 | K79: =TRUNC(E79+G79+I79,1) -> 6481 | L79: =TRUNC(F79+H79+J79,1) -> 5184.8 | M79: 호표 469 | N79: 5062818DDD53DE267BE05CF107C6E8 | O79: 5062818DDD53DE267BE05CF107C699 | P79: T | Q79: F | R79: F | AW79: 5062818DDD53DE267BE05CF107C6E85062818DDD53DE267BE05CF107C699 | BA79: 호표 469 | BB79: 1
A80: [ 합 계 ] | F80: =TRUNC(SUMIF(N78:N79, N77, F78:F79),0) -> 3432 | H80: =TRUNC(SUMIF(N78:N79, N77, H78:H79),0) -> 5184 | J80: =TRUNC(SUMIF(N78:N79, N77, J78:J79),0) -> 0 | L80: =F80+H80+J80 -> 8616 | N80: TOTAL | O80: TOTAL
A82: 11-02 단열도배(5mm) / 콘크리트·모르타르면, 벽 두께 5㎜ M2 ( 호표 16 ) | N82: 5062818DDD53DE267BE05CF107C583
A83: 단열벽지 | B83: T5 | C83: M2 | D83: 0.85 | E83: =단가대비표!K114 -> 4290 | F83: =TRUNC(E83*D83,1) -> 3646.5 | G83: =단가대비표!L114 -> 0 | H83: =TRUNC(G83*D83,1) -> 0 | I83: =단가대비표!S114 -> 0 | J83: =TRUNC(I83*D83,1) -> 0 | K83: =TRUNC(E83+G83+I83,1) -> 4290 | L83: =TRUNC(F83+H83+J83,1) -> 3646.5 | N83: 5062818DDD53DE267BE05CF107C583 | O83: 574BE1857D1F5E2E7D1792D13DBB41F8D154C1 | P83: F | Q83: F | R83: T | AW83: 5062818DDD53DE267BE05CF107C583574BE1857D1F5E2E7D1792D13DBB41F8D154C1 | BA83: 자재 110 | BB83: 1.2
A84: 도배바름 | B84: 콘크리트·모르타르면, 벽 | C84: M2 | D84: 0.8 | E84: =일위대가목록!E488 -> 0 | F84: =TRUNC(E84*D84,1) -> 0 | G84: =일위대가목록!F488 -> 5866 | H84: =TRUNC(G84*D84,1) -> 4692.8 | I84: =일위대가목록!G488 -> 0 | J84: =TRUNC(I84*D84,1) -> 0 | K84: =TRUNC(E84+G84+I84,1) -> 5866 | L84: =TRUNC(F84+H84+J84,1) -> 4692.8 | M84: 호표 471 | N84: 5062818DDD53DE267BE05CF107C583 | O84: 5062818DDD53DE267BE05CF107C5F2 | P84: T | Q84: F | R84: F | AW84: 5062818DDD53DE267BE05CF107C5835062818DDD53DE267BE05CF107C5F2 | BA84: 호표 471 | BB84: 1
A85: [ 합 계 ] | F85: =TRUNC(SUMIF(N83:N84, N82, F83:F84),0) -> 3646 | H85: =TRUNC(SUMIF(N83:N84, N82, H83:H84),0) -> 4692 | J85: =TRUNC(SUMIF(N83:N84, N82, J83:J84),0) -> 0 | L85: =F85+H85+J85 -> 8338 | N85: TOTAL | O85: TOTAL
A87: 12-01 단열도배(10mm) / 합판·석고보드면, 벽 두께 10㎜ M2 ( 호표 17 ) | N87: 5062818DDD53DE267BE05CF107C6EB
A88: 단열벽지 | B88: T10 | C88: M2 | D88: 1.1 | E88: =단가대비표!K115 -> 5530 | F88: =TRUNC(E88*D88,1) -> 6083 | G88: =단가대비표!L115 -> 0 | H88: =TRUNC(G88*D88,1) -> 0 | I88: =단가대비표!S115 -> 0 | J88: =TRUNC(I88*D88,1) -> 0 | K88: =TRUNC(E88+G88+I88,1) -> 5530 | L88: =TRUNC(F88+H88+J88,1) -> 6083 | N88: 5062818DDD53DE267BE05CF107C6EB | O88: 574BE1857D1F5E2E7D1792D13DBB41F8D154C0 | P88: F | Q88: F | R88: T | AW88: 5062818DDD53DE267BE05CF107C6EB574BE1857D1F5E2E7D1792D13DBB41F8D154C0 | BA88: 자재 111 | BB88: 1.2
A89: 도배바름 | B89: 합판·석고보드면, 벽 | C89: M2 | D89: 0.8 | E89: =일위대가목록!E486 -> 0 | F89: =TRUNC(E89*D89,1) -> 0 | G89: =일위대가목록!F486 -> 6481 | H89: =TRUNC(G89*D89,1) -> 5184.8 | I89: =일위대가목록!G486 -> 0 | J89: =TRUNC(I89*D89,1) -> 0 | K89: =TRUNC(E89+G89+I89,1) -> 6481 | L89: =TRUNC(F89+H89+J89,1) -> 5184.8 | M89: 호표 469 | N89: 5062818DDD53DE267BE05CF107C6EB | O89: 5062818DDD53DE267BE05CF107C699 | P89: T | Q89: F | R89: F | AW89: 5062818DDD53DE267BE05CF107C6EB5062818DDD53DE267BE05CF107C699 | BA89: 호표 469 | BB89: 1
A90: [ 합 계 ] | F90: =TRUNC(SUMIF(N88:N89, N87, F88:F89),0) -> 6083 | H90: =TRUNC(SUMIF(N88:N89, N87, H88:H89),0) -> 5184 | J90: =TRUNC(SUMIF(N88:N89, N87, J88:J89),0) -> 0 | L90: =F90+H90+J90 -> 11267 | N90: TOTAL | O90: TOTAL
A92: 12-02 단열도배(10mm) / 콘크리트·모르타르면, 벽 두께 10㎜ M2 ( 호표 18 ) | N92: 5062818DDD53DE267BE05CF107C580
A93: 단열벽지 | B93: T10 | C93: M2 | D93: 1.2 | E93: =단가대비표!K115 -> 5530 | F93: =TRUNC(E93*D93,1) -> 6636 | G93: =단가대비표!L115 -> 0 | H93: =TRUNC(G93*D93,1) -> 0 | I93: =단가대비표!S115 -> 0 | J93: =TRUNC(I93*D93,1) -> 0 | K93: =TRUNC(E93+G93+I93,1) -> 5530 | L93: =TRUNC(F93+H93+J93,1) -> 6636 | N93: 5062818DDD53DE267BE05CF107C580 | O93: 574BE1857D1F5E2E7D1792D13DBB41F8D154C0 | P93: F | Q93: F | R93: T | AW93: 5062818DDD53DE267BE05CF107C580574BE1857D1F5E2E7D1792D13DBB41F8D154C0 | BA93: 자재 111 | BB93: 1.2
A94: 도배바름 | B94: 콘크리트·모르타르면, 벽 | C94: M2 | D94: 0.8 | E94: =일위대가목록!E488 -> 0 | F94: =TRUNC(E94*D94,1) -> 0 | G94: =일위대가목록!F488 -> 5866 | H94: =TRUNC(G94*D94,1) -> 4692.8 | I94: =일위대가목록!G488 -> 0 | J94: =TRUNC(I94*D94,1) -> 0 | K94: =TRUNC(E94+G94+I94,1) -> 5866 | L94: =TRUNC(F94+H94+J94,1) -> 4692.8 | M94: 호표 471 | N94: 5062818DDD53DE267BE05CF107C580 | O94: 5062818DDD53DE267BE05CF107C5F2 | P94: T | Q94: F | R94: F | AW94: 5062818DDD53DE267BE05CF107C5805062818DDD53DE267BE05CF107C5F2 | BA94: 호표 471 | BB94: 1
A95: [ 합 계 ] | F95: =TRUNC(SUMIF(N93:N94, N92, F93:F94),0) -> 6636 | H95: =TRUNC(SUMIF(N93:N94, N92, H93:H94),0) -> 4692 | J95: =TRUNC(SUMIF(N93:N94, N92, J93:J94),0) -> 0 | L95: =F95+H95+J95 -> 11328 | N95: TOTAL | O95: TOTAL
A97: 13-01 모르타르바름(6mm) / 바닥 6mm, 1회 M2 ( 호표 19 ) | N97: 5062018289A0552370481AB1522435
A98: 모르타르 배합(배합품 포함) | B98: 배합용적비 1:3, 시멘트, 모래 별도 | C98: M3 | D98: 0.006 | E98: =일위대가목록!E496 -> 100459 | F98: =TRUNC(E98*D98,1) -> 602.7 | G98: =일위대가목록!F496 -> 103664 | H98: =TRUNC(G98*D98,1) -> 621.9 | I98: =일위대가목록!G496 -> 0 | J98: =TRUNC(I98*D98,1) -> 0 | K98: =TRUNC(E98+G98+I98,1) -> 204123 | L98: =TRUNC(F98+H98+J98,1) -> 1224.6 | M98: 호표 479 | N98: 5062018289A0552370481AB1522435 | O98: 5062018289A0672775522D115249EF | P98: T | Q98: F | R98: F | AW98: 5062018289A0552370481AB15224355062018289A0672775522D115249EF | BA98: 호표 479
A99: 모르타르 타설 | C99: M3 | D99: 0.006 | E99: =일위대가목록!E497 -> 220 | F99: =TRUNC(E99*D99,1) -> 1.3 | G99: =일위대가목록!F497 -> 20318 | H99: =TRUNC(G99*D99,1) -> 121.9 | I99: =일위대가목록!G497 -> 2245 | J99: =TRUNC(I99*D99,1) -> 13.4 | K99: =TRUNC(E99+G99+I99,1) -> 22783 | L99: =TRUNC(F99+H99+J99,1) -> 136.6 | M99: 호표 480 | N99: 5062018289A0552370481AB1522435 | O99: 5062018289F891267A4A9031AA2827 | P99: T | Q99: F | R99: F | AW99: 5062018289A0552370481AB15224355062018289F891267A4A9031AA2827 | BA99: 호표 480
A100: 표면 마무리 | B100: 인력마감 | C100: M2 | D100: 1 | E100: =일위대가목록!E498 -> 0 | F100: =TRUNC(E100*D100,1) -> 0 | G100: =일위대가목록!F498 -> 755 | H100: =TRUNC(G100*D100,1) -> 755 | I100: =일위대가목록!G498 -> 0 | J100: =TRUNC(I100*D100,1) -> 0 | K100: =TRUNC(E100+G100+I100,1) -> 755 | L100: =TRUNC(F100+H100+J100,1) -> 755 | M100: 호표 481 | N100: 5062018289A0552370481AB1522435 | O100: 5062018289F8A32E755FD611B2902D | P100: T | Q100: F | R100: F | AW100: 5062018289A0552370481AB15224355062018289F8A32E755FD611B2902D | BA100: 호표 481
A101: [ 합 계 ] | F101: =TRUNC(SUMIF(N98:N100, N97, F98:F100),0) -> 604 | H101: =TRUNC(SUMIF(N98:N100, N97, H98:H100),0) -> 1498 | J101: =TRUNC(SUMIF(N98:N100, N97, J98:J100),0) -> 13 | L101: =F101+H101+J101 -> 2115 | N101: TOTAL | O101: TOTAL
A103: 13-02 모르타르바름(6mm) / 내벽, 3.6m 이하 6mm, 1회 M2 ( 호표 20 ) | N103: 5062018289A0712C712BFF016C7AEF
A104: 모르타르 배합(배합품 포함) | B104: 배합용적비 1:3, 시멘트, 모래 별도 | C104: M3 | D104: 0.006 | E104: =일위대가목록!E496 -> 100459 | F104: =TRUNC(E104*D104,1) -> 602.7 | G104: =일위대가목록!F496 -> 103664 | H104: =TRUNC(G104*D104,1) -> 621.9 | I104: =일위대가목록!G496 -> 0 | J104: =TRUNC(I104*D104,1) -> 0 | K104: =TRUNC(E104+G104+I104,1) -> 204123 | L104: =TRUNC(F104+H104+J104,1) -> 1224.6 | M104: 호표 479 | N104: 5062018289A0712C712BFF016C7AEF | O104: 5062018289A0672775522D115249EF | P104: T | Q104: F | R104: F | AW104: 5062018289A0712C712BFF016C7AEF5062018289A0672775522D115249EF | BA104: 호표 479
A105: 모르타르 바름 | B105: 3.6m 이하, 1회(T=24mm 이하 기준) | C105: M2 | D105: 1 | E105: =일위대가목록!E503 -> 0 | F105: =TRUNC(E105*D105,1) -> 0 | G105: =일위대가목록!F503 -> 15740 | H105: =TRUNC(G105*D105,1) -> 15740 | I105: =일위대가목록!G503 -> 314 | J105: =TRUNC(I105*D105,1) -> 314 | K105: =TRUNC(E105+G105+I105,1) -> 16054 | L105: =TRUNC(F105+H105+J105,1) -> 16054 | M105: 호표 486 | N105: 5062018289A0712C712BFF016C7AEF | O105: 5062018289A0712E7DFEA7C1586C3E | P105: T | Q105: F | R105: F | AW105: 5062018289A0712C712BFF016C7AEF5062018289A0712E7DFEA7C1586C3E | BA105: 호표 486
A106: [ 합 계 ] | F106: =TRUNC(SUMIF(N104:N105, N103, F104:F105),0) -> 602 | H106: =TRUNC(SUMIF(N104:N105, N103, H104:H105),0) -> 16361 | J106: =TRUNC(SUMIF(N104:N105, N103, J104:J105),0) -> 314 | L106: =F106+H106+J106 -> 17277 | N106: TOTAL | O106: TOTAL
A108: 13-03 모르타르바름(6mm) / 내벽, 3.6m 초과 6mm, 1회 M2 ( 호표 21 ) | N108: 5062018289A0712C710F17D191BE25
A109: 모르타르 배합(배합품 포함) | B109: 배합용적비 1:3, 시멘트, 모래 별도 | C109: M3 | D109: 0.006 | E109: =일위대가목록!E496 -> 100459 | F109: =TRUNC(E109*D109,1) -> 602.7 | G109: =일위대가목록!F496 -> 103664 | H109: =TRUNC(G109*D109,1) -> 621.9 | I109: =일위대가목록!G496 -> 0 | J109: =TRUNC(I109*D109,1) -> 0 | K109: =TRUNC(E109+G109+I109,1) -> 204123 | L109: =TRUNC(F109+H109+J109,1) -> 1224.6 | M109: 호표 479 | N109: 5062018289A0712C710F17D191BE25 | O109: 5062018289A0672775522D115249EF | P109: T | Q109: F | R109: F | AW109: 5062018289A0712C710F17D191BE255062018289A0672775522D115249EF | BA109: 호표 479
A110: 모르타르 바름 | B110: 3.6m 초과, 1회(T=24mm 이하 기준) | C110: M2 | D110: 0.7 | E110: =일위대가목록!E504 -> 0 | F110: =TRUNC(E110*D110,1) -> 0 | G110: =일위대가목록!F504 -> 22350 | H110: =TRUNC(G110*D110,1) -> 15645 | I110: =일위대가목록!G504 -> 447 | J110: =TRUNC(I110*D110,1) -> 312.9 | K110: =TRUNC(E110+G110+I110,1) -> 22797 | L110: =TRUNC(F110+H110+J110,1) -> 15957.9 | M110: 호표 487 | N110: 5062018289A0712C710F17D191BE25 | O110: 5062018289A0712E7DFEA7C1597209 | P110: T | Q110: F | R110: F | AW110: 5062018289A0712C710F17D191BE255062018289A0712E7DFEA7C1597209 | BA110: 호표 487 | BB110: 1
A111: [ 합 계 ] | F111: =TRUNC(SUMIF(N109:N110, N108, F109:F110),0) -> 602 | H111: =TRUNC(SUMIF(N109:N110, N108, H109:H110),0) -> 16266 | J111: =TRUNC(SUMIF(N109:N110, N108, J109:J110),0) -> 312 | L111: =F111+H111+J111 -> 17180 | N111: TOTAL | O111: TOTAL
A113: 14-01 모르타르바름(30mm) / 바닥 30mm, 1회 M2 ( 호표 22 ) | N113: 5062018289A0552370481AB1511B64
A114: 모르타르 배합(배합품 포함) | B114: 배합용적비 1:3, 시멘트, 모래 별도 | C114: M3 | D114: 0.03 | E114: =일위대가목록!E496 -> 100459 | F114: =TRUNC(E114*D114,1) -> 3013.7 | G114: =일위대가목록!F496 -> 103664 | H114: =TRUNC(G114*D114,1) -> 3109.9 | I114: =일위대가목록!G496 -> 0 | J114: =TRUNC(I114*D114,1) -> 0 | K114: =TRUNC(E114+G114+I114,1) -> 204123 | L114: =TRUNC(F114+H114+J114,1) -> 6123.6 | M114: 호표 479 | N114: 5062018289A0552370481AB1511B64 | O114: 5062018289A0672775522D115249EF | P114: T | Q114: F | R114: F | AW114: 5062018289A0552370481AB1511B645062018289A0672775522D115249EF | BA114: 호표 479
A115: 모르타르 타설 | C115: M3 | D115: 0.03 | E115: =일위대가목록!E497 -> 220 | F115: =TRUNC(E115*D115,1) -> 6.6 | G115: =일위대가목록!F497 -> 20318 | H115: =TRUNC(G115*D115,1) -> 609.5 | I115: =일위대가목록!G497 -> 2245 | J115: =TRUNC(I115*D115,1) -> 67.3 | K115: =TRUNC(E115+G115+I115,1) -> 22783 | L115: =TRUNC(F115+H115+J115,1) -> 683.4 | M115: 호표 480 | N115: 5062018289A0552370481AB1511B64 | O115: 5062018289F891267A4A9031AA2827 | P115: T | Q115: F | R115: F | AW115: 5062018289A0552370481AB1511B645062018289F891267A4A9031AA2827 | BA115: 호표 480
A116: 표면 마무리 | B116: 인력마감 | C116: M2 | D116: 1 | E116: =일위대가목록!E498 -> 0 | F116: =TRUNC(E116*D116,1) -> 0 | G116: =일위대가목록!F498 -> 755 | H116: =TRUNC(G116*D116,1) -> 755 | I116: =일위대가목록!G498 -> 0 | J116: =TRUNC(I116*D116,1) -> 0 | K116: =TRUNC(E116+G116+I116,1) -> 755 | L116: =TRUNC(F116+H116+J116,1) -> 755 | M116: 호표 481 | N116: 5062018289A0552370481AB1511B64 | O116: 5062018289F8A32E755FD611B2902D | P116: T | Q116: F | R116: F | AW116: 5062018289A0552370481AB1511B645062018289F8A32E755FD611B2902D | BA116: 호표 481
A117: [ 합 계 ] | F117: =TRUNC(SUMIF(N114:N116, N113, F114:F116),0) -> 3020 | H117: =TRUNC(SUMIF(N114:N116, N113, H114:H116),0) -> 4474 | J117: =TRUNC(SUMIF(N114:N116, N113, J114:J116),0) -> 67 | L117: =F117+H117+J117 -> 7561 | N117: TOTAL | O117: TOTAL
A119: 14-02 모르타르바름(30mm) / 내벽, 3.6m 이하 30mm, 1회 M2 ( 호표 23 ) | N119: 5062018289A0712C712BFF313E2BF4
A120: 모르타르 배합(배합품 포함) | B120: 배합용적비 1:3, 시멘트, 모래 별도 | C120: M3 | D120: 0.03 | E120: =일위대가목록!E496 -> 100459 | F120: =TRUNC(E120*D120,1) -> 3013.7 | G120: =일위대가목록!F496 -> 103664 | H120: =TRUNC(G120*D120,1) -> 3109.9 | I120: =일위대가목록!G496 -> 0 | J120: =TRUNC(I120*D120,1) -> 0 | K120: =TRUNC(E120+G120+I120,1) -> 204123 | L120: =TRUNC(F120+H120+J120,1) -> 6123.6 | M120: 호표 479 | N120: 5062018289A0712C712BFF313E2BF4 | O120: 5062018289A0672775522D115249EF | P120: T | Q120: F | R120: F | AW120: 5062018289A0712C712BFF313E2BF45062018289A0672775522D115249EF | BA120: 호표 479
A121: 모르타르 바름 | B121: 3.6m 이하, 3회(T=24mm 이하 기준) | C121: M2 | D121: 0.45 | E121: =일위대가목록!E505 -> 0 | F121: =TRUNC(E121*D121,1) -> 0 | G121: =일위대가목록!F505 -> 33051 | H121: =TRUNC(G121*D121,1) -> 14872.9 | I121: =일위대가목록!G505 -> 661 | J121: =TRUNC(I121*D121,1) -> 297.4 | K121: =TRUNC(E121+G121+I121,1) -> 33712 | L121: =TRUNC(F121+H121+J121,1) -> 15170.3 | M121: 호표 488 | N121: 5062018289A0712C712BFF313E2BF4 | O121: 5062018289A0712E7DFEA7C1586EEC | P121: T | Q121: F | R121: F | AW121: 5062018289A0712C712BFF313E2BF45062018289A0712E7DFEA7C1586EEC | BA121: 호표 488 | BB121: 1
A122: [ 합 계 ] | F122: =TRUNC(SUMIF(N120:N121, N119, F120:F121),0) -> 3013 | H122: =TRUNC(SUMIF(N120:N121, N119, H120:H121),0) -> 17982 | J122: =TRUNC(SUMIF(N120:N121, N119, J120:J121),0) -> 297 | L122: =F122+H122+J122 -> 21292 | N122: TOTAL | O122: TOTAL
...

Sheet 중기단가목록
A1: 중 기 단 가 목 록
A2: [ 한국보훈복지의료공단 ]
A3: 코 드 | B3: 품 명 | C3: 규 격 | D3: 단위 | E3: 재 료 비 | F3: 노 무 비 | G3: 경 비 | H3: 합 계 | I3: 번 호 | J3: 비 고 | K3: START
A4: 504DE186E2642E2673D86DF137D34F | B4: 368 되메우기및다짐(인력) | C4: 토사,인력,다짐두께 30cm | D4: M3 | E4: 0 | F4: 17283 | G4: 0 | H4: 17283 | I4: 산근 1 | K4: 504DE186E2642E2673D86DF137D34F
A5: 504DE186E2642E2673D86DF137D2A8 | B5: 369 되메우기및다짐(대형) | C5: 포설, 고르기, 다짐, 살수 작업(기계료 별도) | D5: M3 | E5: 352 | F5: 4326 | G5: 0 | H5: 4678 | I5: 산근 2 | K5: 504DE186E2642E2673D86DF137D2A8
A6: 504DE186E2642E2673D86DF136345C | B6: 370 되메우기및다짐(소형) | C6: 포설, 고르기, 다짐, 살수 작업(기계료 별도) | D6: M3 | E6: 373 | F6: 13056 | G6: 0 | H6: 13429 | I6: 산근 3 | K6: 504DE186E2642E2673D86DF136345C
A7: 504DE18631DCC02372AEE561499054 | B7: 터파기/토사 | C7: 보통, 굴삭기 0.7m3 | D7: M3 | E7: 311 | F7: 859 | G7: 379 | H7: 1549 | I7: 산근 4 | K7: 504DE18631DCC02372AEE561499054
A8: 504DE186E2642E26747E0941C6349A | B8: 되메우기/토사, 두께 15cm | C8: 보통, 굴삭기 0.7m3+래머 80kg | D8: M3 | E8: 477 | F8: 8025 | G8: 384 | H8: 8886 | I8: 산근 5 | K8: 504DE186E2642E26747E0941C6349A
A9: 504DE18604B1A9297B31324192B954 | B9: 토사 운반/단지외 10km | C9: 보통, 덤프 15ton+굴삭기 0.7m3(고르기 별도) | D9: M3 | E9: 2832 | F9: 5046 | G9: 1928 | H9: 9806 | I9: 산근 6 | K9: 504DE18604B1A9297B31324192B954
A10: 5063318C8660982F76559AA1977DF3 | B10: 운반비(트레일러 20ton+크레인 10ton) | C10: 철골, L:20km | D10: TON | E10: 0 | F10: 0 | G10: 11968 | H10: 11968 | I10: 산근 7 | K10: 5063318C8660982F76559AA1977DF3
A11: 50623185BDA83828790B9871BA42A6 | B11: 콘크리트 펌프차 타설(무근, 진동기無) | C11: 100m3 미만, 슬럼프 8~12cm, 보통(매트기초 등) | D11: M3 | E11: 1286 | F11: 10862 | G11: 3204 | H11: 15352 | I11: 산근 8 | K11: 50623185BDA83828790B9871BA42A6

Sheet 중기단가산출서
A1: 중 기 단 가 산 출 서
A2: [ 한국보훈복지의료공단 ]
A3: 산 출 내 역 | B3: 재 료 비 | C3: 노 무 비 | D3: 경 비 | E3: 합 계 | F3: 비 고 | G3: START | H3: 코드 | I3: 품명 | J3: 규격 | K3: 단위 | L3: 수량
A4: 368 되메우기및다짐(인력) 토사,인력,다짐두께 30cm M3 ( 산근 1 ) | G4: 504DE186E2642E2673D86DF137D34F | I4: 368 되메우기및다짐(인력) | J4: 토사,인력,다짐두께 30cm | K4: M3
G5: 504DE186E2642E2673D86DF137D34F | H5: C | K5: M3 | L5: 1
A6: 1.굴삭기 (무한궤도)0.7㎥M3 | B6: 0 | C6: 0 | D6: 0 | E6: 0 | G6: 504DE186E2642E2673D86DF137D34F | H6: C! | I6: '1.굴삭기 (무한궤도)0.7㎥M3 '
A7: Q1 바켓용량(M3) = 0 | B7: 0 | C7: 0 | D7: 0 | E7: 0 | G7: 504DE186E2642E2673D86DF137D34F | H7: C! | I7: q1 '바켓용량(M3)'= 0
A8: k 바켓계수 = 0 | B8: 0 | C8: 0 | D8: 0 | E8: 0 | G8: 504DE186E2642E2673D86DF137D34F | H8: C! | I8: k '바켓계수'= 0
A9: L1 흐트러진상태 =0 | B9: 0 | C9: 0 | D9: 0 | E9: 0 | G9: 504DE186E2642E2673D86DF137D34F | H9: C! | I9: L1 '흐트러진상태' =0
A10: C 다져진상태 =0 | B10: 0 | C10: 0 | D10: 0 | E10: 0 | G10: 504DE186E2642E2673D86DF137D34F | H10: C! | I10: C '다져진상태'=0
A11: F 토량환산계(C/L) =C/L1= 0 | B11: 0 | C11: 0 | D11: 0 | E11: 0 | G11: 504DE186E2642E2673D86DF137D34F | H11: C! | I11: f '토량환산계(C/L)'=C/L1=?
A12: E 작업효율(양호0.9,보통0.75,불량0.6) = 0 | B12: 0 | C12: 0 | D12: 0 | E12: 0 | G12: 504DE186E2642E2673D86DF137D34F | H12: C! | I12: E '작업효율(양호0.9,보통0.75,불량0.6)'= 0
A13: CM 1회 싸이클시간(90˚SEC) =18 | B13: 0 | C13: 0 | D13: 0 | E13: 0 | G13: 504DE186E2642E2673D86DF137D34F | H13: C! | I13: Cm '1회 싸이클시간(90˚sec)'=18
A14: Q 시간당 작업량 (M3/HR) = 3600*Q1*K*F*E/CM/0.7= 0 | B14: 0 | C14: 0 | D14: 0 | E14: 0 | G14: 504DE186E2642E2673D86DF137D34F | H14: C! | I14: Q '시간당 작업량 (M3/Hr)'= 3600*q1*k*f*E/Cm/0.7=?
A15: 재료비: 18345 / 0 = 0 | B15: 0 | C15: 0 | D15: 0 | E15: 0 | G15: 504DE186E2642E2673D86DF137D34F | H15: C! | I15: '재료비:' ~00000201007000000.M~ / {Q} =?MA+
A16: 노무비: 50686 / 0 = 0 | B16: 0 | C16: 0 | D16: 0 | E16: 0 | G16: 504DE186E2642E2673D86DF137D34F | H16: C! | I16: '노무비:' ~00000201007000000.L~ / {Q} =?LA+
A17: 경 비: 22383 / 0 = 0 | B17: 0 | C17: 0 | D17: 0 | E17: 0 | G17: 504DE186E2642E2673D86DF137D34F | H17: C! | I17: '경 비:' ~00000201007000000.E~ / {Q} =?EQ+
A18: 소 계 | B18: 0 | C18: 0 | D18: 0 | E18: 0 | G18: 504DE186E2642E2673D86DF137D34F | H18: C! | I18: >'소 계'
B19: 0 | C19: 0 | D19: 0 | E19: 0 | G19: 504DE186E2642E2673D86DF137D34F | H19: C!
A20: 2.(인력 흙 다지기): 0.11인*100% | B20: 0 | C20: 0 | D20: 0 | E20: 0 | G20: 504DE186E2642E2673D86DF137D34F | H20: C! | I20: '2.(인력 흙 다지기): 0.11인*100%'
A21: Q 시간당 작업량 (M3/HR) = 1/8/0.11/1= 1.136 | B21: 0 | C21: 0 | D21: 0 | E21: 0 | G21: 504DE186E2642E2673D86DF137D34F | H21: C! | I21: Q '시간당 작업량 (M3/Hr)'= 1/8/0.11/1=?
B22: 0 | C22: 0 | D22: 0 | E22: 0 | G22: 504DE186E2642E2673D86DF137D34F | H22: C!
A23: 보통인부 1인/8HR*작업시간 | B23: 0 | C23: 0 | D23: 0 | E23: 0 | G23: 504DE186E2642E2673D86DF137D34F | H23: C! | I23: '보통인부 1인/8HR*작업시간
A24: 노무비: 157068*1/8/1.136 = 17283 | B24: 0 | C24: 17283 | D24: 0 | E24: 17283 | G24: 504DE186E2642E2673D86DF137D34F | H24: C! | I24: '노무비:' ~L001010101000002.L~*1/8/{Q} =?LA+
A25: 소 계 | B25: 0 | C25: 17283 | D25: 0 | E25: 17283 | G25: 504DE186E2642E2673D86DF137D34F | H25: C! | I25: >'소 계'
B26: 0 | C26: 0 | D26: 0 | E26: 0 | G26: 504DE186E2642E2673D86DF137D34F | H26: C!
A27: 3.래머,80kg | B27: 0 | C27: 0 | D27: 0 | E27: 0 | G27: 504DE186E2642E2673D86DF137D34F | H27: C! | I27: '3.래머,80kg'
A28: A 1회당 유호 다짐면적(M2) =0.28*0.33= 0.0924 | B28: 0 | C28: 0 | D28: 0 | E28: 0 | G28: 504DE186E2642E2673D86DF137D34F | H28: C! | I28: A '1회당 유호 다짐면적(M2)' =0.28*0.33=?
A29: N 1시간당 타격회수(회/HR) = | B29: 0 | C29: 0 | D29: 0 | E29: 0 | G29: 504DE186E2642E2673D86DF137D34F | H29: C! | I29: N '1시간당 타격회수(회/HR)' =
A30: H 다짐두께(M) =0 | B30: 0 | C30: 0 | D30: 0 | E30: 0 | G30: 504DE186E2642E2673D86DF137D34F | H30: C! | I30: H '다짐두께(M)' =0
A31: L1 흐트러진상태 =0 | B31: 0 | C31: 0 | D31: 0 | E31: 0 | G31: 504DE186E2642E2673D86DF137D34F | H31: C! | I31: L1 '흐트러진상태' =0
A32: F 토량환산계(L1/L1) =L1/L1= 0 | B32: 0 | C32: 0 | D32: 0 | E32: 0 | G32: 504DE186E2642E2673D86DF137D34F | H32: C! | I32: f '토량환산계(L1/L1)'=L1/L1=?
A33: E 작업효율(양호0.7,보통0.5,불량0.3) = 0 | B33: 0 | C33: 0 | D33: 0 | E33: 0 | G33: 504DE186E2642E2673D86DF137D34F | H33: C! | I33: E '작업효율(양호0.7,보통0.5,불량0.3)'= 0
A34: P 중복 다짐회수(회) =0 | B34: 0 | C34: 0 | D34: 0 | E34: 0 | G34: 504DE186E2642E2673D86DF137D34F | H34: C! | I34: P '중복 다짐회수(회)' =0
A35: Q 시간당 작업량(M3/HR) =A*N*H*F*E/P/0.7= 0 | B35: 0 | C35: 0 | D35: 0 | E35: 0 | G35: 504DE186E2642E2673D86DF137D34F | H35: C! | I35: Q '시간당 작업량(M3/HR)' =A*N*H*f*E/P/0.7=?
A36: 재료비: 1096 / 0 = 0 | B36: 0 | C36: 0 | D36: 0 | E36: 0 | G36: 504DE186E2642E2673D86DF137D34F | H36: C! | I36: '재료비:' ~00001630008000000.M~ / {Q} =?MA+
A37: 노무비: 32384 / 0 = 0 | B37: 0 | C37: 0 | D37: 0 | E37: 0 | G37: 504DE186E2642E2673D86DF137D34F | H37: C! | I37: '노무비:' ~00001630008000000.L~ / {Q} =?LA+
A38: 경 비: 472 / 0 = 0 | B38: 0 | C38: 0 | D38: 0 | E38: 0 | G38: 504DE186E2642E2673D86DF137D34F | H38: C! | I38: '경 비:' ~00001630008000000.E~ / {Q} =?EQ+
A39: 소 계 | B39: 0 | C39: 0 | D39: 0 | E39: 0 | G39: 504DE186E2642E2673D86DF137D34F | H39: C! | I39: >'소 계'
A40: 총 계 | B40: 0 | C40: 17283 | D40: 0 | E40: 17283
A42: 369 되메우기및다짐(대형) 포설, 고르기, 다짐, 살수 작업(기계료 별도) M3 ( 산근 2 ) | G42: 504DE186E2642E2673D86DF137D2A8 | I42: 369 되메우기및다짐(대형) | J42: 포설, 고르기, 다짐, 살수 작업(기계료 별도) | K42: M3
G43: 504DE186E2642E2673D86DF137D2A8 | H43: C | K43: M3 | L43: 1
A44: 1.굴삭기 (무한궤도)0.7㎥M3 | B44: 0 | C44: 0 | D44: 0 | E44: 0 | G44: 504DE186E2642E2673D86DF137D2A8 | H44: C! | I44: '1.굴삭기 (무한궤도)0.7㎥M3 '
A45: Q1 바켓용량(M3) = 0.7 | B45: 0 | C45: 0 | D45: 0 | E45: 0 | G45: 504DE186E2642E2673D86DF137D2A8 | H45: C! | I45: q1 '바켓용량(M3)'= 0.7
A46: k 바켓계수 = 1.1 | B46: 0 | C46: 0 | D46: 0 | E46: 0 | G46: 504DE186E2642E2673D86DF137D2A8 | H46: C! | I46: k '바켓계수'= 1.1
A47: L1 흐트러진상태 =1.25 | B47: 0 | C47: 0 | D47: 0 | E47: 0 | G47: 504DE186E2642E2673D86DF137D2A8 | H47: C! | I47: L1 '흐트러진상태' =1.25
A48: C 다져진상태 =0.875 | B48: 0 | C48: 0 | D48: 0 | E48: 0 | G48: 504DE186E2642E2673D86DF137D2A8 | H48: C! | I48: C '다져진상태'=0.875
A49: F 토량환산계(C/L) =C/L1= 0.7 | B49: 0 | C49: 0 | D49: 0 | E49: 0 | G49: 504DE186E2642E2673D86DF137D2A8 | H49: C! | I49: f '토량환산계(C/L)'=C/L1=?
A50: E 작업효율(양호0.9,보통0.75,불량0.6) = 0.75 | B50: 0 | C50: 0 | D50: 0 | E50: 0 | G50: 504DE186E2642E2673D86DF137D2A8 | H50: C! | I50: E '작업효율(양호0.9,보통0.75,불량0.6)'= 0.75
A51: CM 1회 싸이클시간(90˚SEC) =18 | B51: 0 | C51: 0 | D51: 0 | E51: 0 | G51: 504DE186E2642E2673D86DF137D2A8 | H51: C! | I51: Cm '1회 싸이클시간(90˚sec)'=18
A52: Q 시간당 작업량 (M3/HR) = 3600*Q1*K*F*E/CM= 80.85 | B52: 0 | C52: 0 | D52: 0 | E52: 0 | G52: 504DE186E2642E2673D86DF137D2A8 | H52: C! | I52: Q '시간당 작업량 (M3/Hr)'= 3600*q1*k*f*E/Cm=?
A53: 재료비: 18345 / 80.85 = 226.9 | B53: 226.9 | C53: 0 | D53: 0 | E53: 226.9 | G53: 504DE186E2642E2673D86DF137D2A8 | H53: C! | I53: '재료비:' ~000002010070000JH.M~ / {Q} =?MA+
A54: 노무비: 50686 / 80.85 = 626.9 | B54: 0 | C54: 626.9 | D54: 0 | E54: 626.9 | G54: 504DE186E2642E2673D86DF137D2A8 | H54: C! | I54: '노무비:' ~000002010070000JH.L~ / {Q} =?LA+
A55: 경 비: 0 / 80.85 = 0 | B55: 0 | C55: 0 | D55: 0 | E55: 0 | G55: 504DE186E2642E2673D86DF137D2A8 | H55: C! | I55: '경 비:' ~000002010070000JH.E~ / {Q} =?EQ+
A56: 소 계 | B56: 226.9 | C56: 626.9 | D56: 0 | E56: 853.8 | G56: 504DE186E2642E2673D86DF137D2A8 | H56: C! | I56: >'소 계'
B57: 0 | C57: 0 | D57: 0 | E57: 0 | G57: 504DE186E2642E2673D86DF137D2A8 | H57: C!
A58: 2.래머,80kg | B58: 0 | C58: 0 | D58: 0 | E58: 0 | G58: 504DE186E2642E2673D86DF137D2A8 | H58: C! | I58: '2.래머,80kg'
A59: A 1회당 유호 다짐면적(M2) =0.28*0.33= 0.0924 | B59: 0 | C59: 0 | D59: 0 | E59: 0 | G59: 504DE186E2642E2673D86DF137D2A8 | H59: C! | I59: A '1회당 유호 다짐면적(M2)' =0.28*0.33=?
A60: N 1시간당 타격회수(회/HR) =36000 | B60: 0 | C60: 0 | D60: 0 | E60: 0 | G60: 504DE186E2642E2673D86DF137D2A8 | H60: C! | I60: N '1시간당 타격회수(회/HR)' =36000
A61: H 다짐두께(M) =0.3 | B61: 0 | C61: 0 | D61: 0 | E61: 0 | G61: 504DE186E2642E2673D86DF137D2A8 | H61: C! | I61: H '다짐두께(M)' =0.3
A62: L1 흐트러진상태 =1.25 | B62: 0 | C62: 0 | D62: 0 | E62: 0 | G62: 504DE186E2642E2673D86DF137D2A8 | H62: C! | I62: L1 '흐트러진상태' =1.25
A63: F 토량환산계(L1/L1) =L1/L1= 1 | B63: 0 | C63: 0 | D63: 0 | E63: 0 | G63: 504DE186E2642E2673D86DF137D2A8 | H63: C! | I63: f '토량환산계(L1/L1)'=L1/L1=?
A64: E 작업효율(양호0.7,보통0.5,불량0.3) = 0.5 | B64: 0 | C64: 0 | D64: 0 | E64: 0 | G64: 504DE186E2642E2673D86DF137D2A8 | H64: C! | I64: E '작업효율(양호0.7,보통0.5,불량0.3)'= 0.5
A65: P 중복 다짐회수(회) =57 | B65: 0 | C65: 0 | D65: 0 | E65: 0 | G65: 504DE186E2642E2673D86DF137D2A8 | H65: C! | I65: P '중복 다짐회수(회)' =57
A66: Q 시간당 작업량(M3/HR) =A*N*H*F*E/P= 8.754 | B66: 0 | C66: 0 | D66: 0 | E66: 0 | G66: 504DE186E2642E2673D86DF137D2A8 | H66: C! | I66: Q '시간당 작업량(M3/HR)' =A*N*H*f*E/P=?
A67: 재료비: 1096 / 8.754 = 125.1 | B67: 125.1 | C67: 0 | D67: 0 | E67: 125.1 | G67: 504DE186E2642E2673D86DF137D2A8 | H67: C! | I67: '재료비:' ~000016300080000JH.M~ / {Q} =?MA+
A68: 노무비: 32384 / 8.754 = 3699.3 | B68: 0 | C68: 3699.3 | D68: 0 | E68: 3699.3 | G68: 504DE186E2642E2673D86DF137D2A8 | H68: C! | I68: '노무비:' ~000016300080000JH.L~ / {Q} =?LA+
A69: 경 비: 0 / 8.754 = 0 | B69: 0 | C69: 0 | D69: 0 | E69: 0 | G69: 504DE186E2642E2673D86DF137D2A8 | H69: C! | I69: '경 비:' ~000016300080000JH.E~ / {Q} =?EQ+
A70: 소 계 | B70: 125.1 | C70: 3699.3 | D70: 0 | E70: 3824.4 | G70: 504DE186E2642E2673D86DF137D2A8 | H70: C! | I70: >'소 계'
B71: 0 | C71: 0 | D71: 0 | E71: 0 | G71: 504DE186E2642E2673D86DF137D2A8 | H71: C!
A72: 합 계 | B72: 352 | C72: 4326.2 | D72: 0 | E72: 4678.2 | G72: 504DE186E2642E2673D86DF137D2A8 | H72: C! | I72: >>'합 계'
A73: 총 계 | B73: 352 | C73: 4326 | D73: 0 | E73: 4678
A75: 370 되메우기및다짐(소형) 포설, 고르기, 다짐, 살수 작업(기계료 별도) M3 ( 산근 3 ) | G75: 504DE186E2642E2673D86DF136345C | I75: 370 되메우기및다짐(소형) | J75: 포설, 고르기, 다짐, 살수 작업(기계료 별도) | K75: M3
G76: 504DE186E2642E2673D86DF136345C | H76: C | K76: M3 | L76: 1
A77: 1.굴삭기 (무한궤도)0.2㎥M3 | B77: 0 | C77: 0 | D77: 0 | E77: 0 | G77: 504DE186E2642E2673D86DF136345C | H77: C! | I77: '1.굴삭기 (무한궤도)0.2㎥M3 '
A78: Q1 바켓용량(M3) = 0.2 | B78: 0 | C78: 0 | D78: 0 | E78: 0 | G78: 504DE186E2642E2673D86DF136345C | H78: C! | I78: q1 '바켓용량(M3)'= 0.2
A79: k 바켓계수 = 1.1 | B79: 0 | C79: 0 | D79: 0 | E79: 0 | G79: 504DE186E2642E2673D86DF136345C | H79: C! | I79: k '바켓계수'= 1.1
A80: L1 흐트러진상태 =1.25 | B80: 0 | C80: 0 | D80: 0 | E80: 0 | G80: 504DE186E2642E2673D86DF136345C | H80: C! | I80: L1 '흐트러진상태' =1.25
A81: C 다져진상태 =0.875 | B81: 0 | C81: 0 | D81: 0 | E81: 0 | G81: 504DE186E2642E2673D86DF136345C | H81: C! | I81: C '다져진상태'=0.875
A82: F 토량환산계(C/L) =C/L1= 0.7 | B82: 0 | C82: 0 | D82: 0 | E82: 0 | G82: 504DE186E2642E2673D86DF136345C | H82: C! | I82: f '토량환산계(C/L)'=C/L1=?
A83: E 작업효율(양호0.9,보통0.75,불량0.6) = 0.75 | B83: 0 | C83: 0 | D83: 0 | E83: 0 | G83: 504DE186E2642E2673D86DF136345C | H83: C! | I83: E '작업효율(양호0.9,보통0.75,불량0.6)'= 0.75
A84: CM 1회 싸이클시간(90˚SEC) =15 | B84: 0 | C84: 0 | D84: 0 | E84: 0 | G84: 504DE186E2642E2673D86DF136345C | H84: C! | I84: Cm '1회 싸이클시간(90˚sec)'=15
A85: Q 시간당 작업량 (M3/HR) = 3600*Q1*K*F*E/CM/0.7= 39.6 | B85: 0 | C85: 0 | D85: 0 | E85: 0 | G85: 504DE186E2642E2673D86DF136345C | H85: C! | I85: Q '시간당 작업량 (M3/Hr)'= 3600*q1*k*f*E/Cm/0.7=?
A86: 재료비: 7842 / 39.6 = 198 | B86: 198 | C86: 0 | D86: 0 | E86: 198 | G86: 504DE186E2642E2673D86DF136345C | H86: C! | I86: '재료비:' ~000002010020000JH.M~ / {Q} =?MA+
A87: 노무비: 50686 / 39.6 = 1279.9 | B87: 0 | C87: 1279.9 | D87: 0 | E87: 1279.9 | G87: 504DE186E2642E2673D86DF136345C | H87: C! | I87: '노무비:' ~000002010020000JH.L~ / {Q} =?LA+
A88: 경 비: 0 / 39.6 = 0 | B88: 0 | C88: 0 | D88: 0 | E88: 0 | G88: 504DE186E2642E2673D86DF136345C | H88: C! | I88: '경 비:' ~000002010020000JH.E~ / {Q} =?EQ+
A89: 소 계 | B89: 198 | C89: 1279.9 | D89: 0 | E89: 1477.9 | G89: 504DE186E2642E2673D86DF136345C | H89: C! | I89: >'소 계'
B90: 0 | C90: 0 | D90: 0 | E90: 0 | G90: 504DE186E2642E2673D86DF136345C | H90: C!
A91: 2.(인력 흙 다지기): 0.14인*30% | B91: 0 | C91: 0 | D91: 0 | E91: 0 | G91: 504DE186E2642E2673D86DF136345C | H91: C! | I91: '2.(인력 흙 다지기): 0.14인*30%'
A92: Q 시간당 작업량 (M3/HR) = 1/8/0.14/0.3= 2.976 | B92: 0 | C92: 0 | D92: 0 | E92: 0 | G92: 504DE186E2642E2673D86DF136345C | H92: C! | I92: Q '시간당 작업량 (M3/Hr)'= 1/8/0.14/0.3=?
B93: 0 | C93: 0 | D93: 0 | E93: 0 | G93: 504DE186E2642E2673D86DF136345C | H93: C!
A94: 보통인부 1인/8HR*작업시간 | B94: 0 | C94: 0 | D94: 0 | E94: 0 | G94: 504DE186E2642E2673D86DF136345C | H94: C! | I94: '보통인부 1인/8HR*작업시간
A95: 노무비: 157068*1/8/2.976 = 6597.2 | B95: 0 | C95: 6597.2 | D95: 0 | E95: 6597.2 | G95: 504DE186E2642E2673D86DF136345C | H95: C! | I95: '노무비:' ~L001010101000002.L~*1/8/{Q} =?LA+
A96: 소 계 | B96: 0 | C96: 6597.2 | D96: 0 | E96: 6597.2 | G96: 504DE186E2642E2673D86DF136345C | H96: C! | I96: >'소 계'
B97: 0 | C97: 0 | D97: 0 | E97: 0 | G97: 504DE186E2642E2673D86DF136345C | H97: C!
A98: 3.래머,80kg | B98: 0 | C98: 0 | D98: 0 | E98: 0 | G98: 504DE186E2642E2673D86DF136345C | H98: C! | I98: '3.래머,80kg'
A99: A 1회당 유호 다짐면적(M2) =0.28*0.33= 0.0924 | B99: 0 | C99: 0 | D99: 0 | E99: 0 | G99: 504DE186E2642E2673D86DF136345C | H99: C! | I99: A '1회당 유호 다짐면적(M2)' =0.28*0.33=?
A100: N 1시간당 타격회수(회/HR) =36000 | B100: 0 | C100: 0 | D100: 0 | E100: 0 | G100: 504DE186E2642E2673D86DF136345C | H100: C! | I100: N '1시간당 타격회수(회/HR)' =36000
A101: H 다짐두께(M) =0.15 | B101: 0 | C101: 0 | D101: 0 | E101: 0 | G101: 504DE186E2642E2673D86DF136345C | H101: C! | I101: H '다짐두께(M)' =0.15
A102: L1 흐트러진상태 =1.25 | B102: 0 | C102: 0 | D102: 0 | E102: 0 | G102: 504DE186E2642E2673D86DF136345C | H102: C! | I102: L1 '흐트러진상태' =1.25
...

Sheet  공사설정 
A1: 이 Sheet는 수정하지 마십시요
A2: 공사구분 | B2: A | C2: 타이틀
A3: 확정내역 | B3: 원내역
A4: 자재단가적용 | B4: 5
A5: 경비단가적용 | B5: 5
A6: 품목코드형식 | B6: XXXX-XXXX-XXXXXXXXX
A7: 내역금액소수점처리 | B7: C | C7: T
A8: 일위대가내역소수점처리 | B8: C | C8: 2
A9: 단가명 | B9: 조달청가격 | C9: 거래가격 | D9: 유통물가 | E9: 물가자료 | F9: 물가정보 | G9: TTTTT
A10: 환율 | B10: 1185 | C10: 0 | D10: 0
A11: 시간당작업량 | B11: R | C11: 4
A12: 1회 사이클시간 | B12: R | C12: 4
A13: 시간당 작업사이클 | B13: R | C13: 3
A14: 일반변수 | B14: R | C14: 5
A15: 시간당 노임산출 계수 | B15: A | C15: 1/8*16/12*25/20 | D15: 1/8*16/12*25/20 | E15: 1/8*16/12*25/20 | F15: 1
A16: 재료비 할증 계수 | B16: 1.11 | C16: 1.12
A17: 노무비 할증 계수 | B17: 1 | C17: 1.5 | D17: 1.16 | E17: 1.6 | F17: 1.6 | G17: 1.6 | H17: 1.94 | I17: 1.94 | J17: 1.94 | K17: 1 | L17: 1 | M17: 1
A18: 경비 할증 계수 | B18: 1.25 | C18: 1.071
A19: 내역,일위대가 품명,규격,단위 따로적용
A20: 내역단가 소수점처리 | B20: C | C20: 1
A21: 코드 | B21: 공종구분명 | C21: 원가비목코드
A22: 1 | B22: 작 업 부 산 물 | C22: A3
A23: 2 | B23: 운 반 비 | C23: C1
A24: 3 | B24: 관 급 자 재 비 | C24: DJ
A25: 4 | B25: 사 급 자 재 비 | C25: D3
A26: 5 | B26: 외 자 재
A27: 6 | B27: ...
A28: 7 | B28: ...
A29: 8 | B29: ...
A30: 9 | B30: ...

Sheet Sheet1

Sheet 단가대비표
A1: 단 가 대 비 표
A2: [ 한국보훈복지의료공단 ]
A3: 코 드 | B3: 품 명 | C3: 규격 | D3: 단위 | L3: 노 무 비 | M3: 경 비 | T3: 번 호 | U3: 비 고 | V3: 품목구분 | W3: 노임구분 | X3: 소수점처리 | Y3: 자재구분
E4: 거래가격 | F4: PAGE | G4: 물가자료 | H4: PAGE | I4: 조달청 | J4: PAGE | K4: 적용단가 | M4: 조달청가격 | N4: 거래가격 | O4: 유통물가 | P4: 물가자료 | Q4: 조사가격 | R4: 물가정보 | S4: 적용단가
A5: 57772181DDE4722B7A004D710E034B0ACB3195 | B5: 굴삭기(무한궤도) | C5: 0.2㎥ | D5: 대 | E5: 0 | G5: 0 | I5: 0 | K5: 0 | L5: 0 | M5: 0 | N5: 0 | O5: 0 | P5: 0 | Q5: 60857 | S5: =SMALL(M5:Q5,COUNTIF(M5:Q5,0)+1) -> 60857 | T5: 자재 1 | U5: 천원
A6: 57772181DDE4722B7A004D710E0726DB61883C | B6: 굴삭기(무한궤도) | C6: 0.6㎥ | D6: 대 | E6: 0 | G6: 0 | I6: 0 | K6: 0 | L6: 0 | M6: 0 | N6: 0 | O6: 0 | P6: 0 | Q6: 100243 | S6: =SMALL(M6:Q6,COUNTIF(M6:Q6,0)+1) -> 100243 | T6: 자재 2 | U6: 천원
A7: 57772181DDE4722B7A004D710E061FE9AA7569 | B7: 굴삭기(무한궤도) | C7: 0.7㎥ | D7: 대 | E7: 0 | G7: 0 | I7: 0 | K7: 0 | L7: 0 | M7: 0 | N7: 0 | O7: 0 | P7: 0 | Q7: 107355 | S7: =SMALL(M7:Q7,COUNTIF(M7:Q7,0)+1) -> 107355 | T7: 자재 3 | U7: 천원
A8: 57772181DDE4722B7A004D710F28A778598536 | B8: 굴삭기(무한궤도) | C8: 1.0㎥ | D8: 대 | E8: 0 | G8: 0 | I8: 0 | K8: 0 | L8: 0 | M8: 0 | N8: 0 | O8: 0 | P8: 0 | Q8: 129965 | S8: =SMALL(M8:Q8,COUNTIF(M8:Q8,0)+1) -> 129965 | T8: 자재 4 | U8: 천원
A9: 57772181DDE4722B7A12DAE1441BDDA7DBDFDD | B9: 굴삭기(타이어) | C9: 0.18㎥ | D9: 대 | E9: 0 | G9: 0 | I9: 0 | K9: 0 | L9: 0 | M9: 0 | N9: 0 | O9: 0 | P9: 0 | Q9: 64375 | S9: =SMALL(M9:Q9,COUNTIF(M9:Q9,0)+1) -> 64375 | T9: 자재 5 | U9: 천원
A10: 57772181DDE4722B7A12DAE1441CFB5334EB5F | B10: 굴삭기(타이어) | C10: 0.6㎥ | D10: 대 | E10: 0 | G10: 0 | I10: 0 | K10: 0 | L10: 0 | M10: 0 | N10: 0 | O10: 0 | P10: 0 | Q10: 109114 | S10: =SMALL(M10:Q10,COUNTIF(M10:Q10,0)+1) -> 109114 | T10: 자재 6 | U10: 천원
A11: 57772181DDE4722B7A3D91C1A37205C3D2B8BE | B11: 대형 브레이커 | C11: 0.7㎥용 | D11: 대 | E11: 0 | G11: 0 | I11: 0 | K11: 0 | L11: 0 | M11: 0 | N11: 0 | O11: 0 | P11: 0 | Q11: 15627 | S11: =SMALL(M11:Q11,COUNTIF(M11:Q11,0)+1) -> 15627 | T11: 자재 7 | U11: 천원
A12: 57772181DDE4722B7A3D91C1A37328724B98AD | B12: 대형 브레이커 | C12: 1.0㎥용 | D12: 대 | E12: 0 | G12: 0 | I12: 0 | K12: 0 | L12: 0 | M12: 0 | N12: 0 | O12: 0 | P12: 0 | Q12: 25934 | S12: =SMALL(M12:Q12,COUNTIF(M12:Q12,0)+1) -> 25934 | T12: 자재 8 | U12: 천원
A13: 57772181DDE4722B7A3D875139613D6CAC9AD5 | B13: 대형 브레이커용 치즐 | C13: 0.7㎥용 | D13: 본 | E13: 0 | G13: 0 | I13: 0 | K13: 0 | L13: 0 | M13: 0 | N13: 0 | O13: 0 | P13: 0 | Q13: 223000 | S13: =SMALL(M13:Q13,COUNTIF(M13:Q13,0)+1) -> 223000 | T13: 자재 9
A14: 57772181DDE4722B7A4E00D153931A79A9118F | B14: 유압식 진동 콤팩터(굴삭기부착용) | C14: 0.7㎥용 | D14: 대 | E14: 0 | G14: 0 | I14: 0 | K14: 0 | L14: 0 | M14: 0 | N14: 0 | O14: 0 | P14: 0 | Q14: 10580 | S14: =SMALL(M14:Q14,COUNTIF(M14:Q14,0)+1) -> 10580 | T14: 자재 10 | U14: 천원
A15: 57772181DDE4722B7A587F718225339558F300 | B15: 압쇄기(펄버라이저) | C15: 1.0㎥용 | D15: 대 | E15: 0 | G15: 0 | I15: 0 | K15: 0 | L15: 0 | M15: 0 | N15: 0 | O15: 0 | P15: 0 | Q15: 25820 | S15: =SMALL(M15:Q15,COUNTIF(M15:Q15,0)+1) -> 25820 | T15: 자재 11 | U15: 천원
A16: 57772181DDE4722F71B6C9917060AF8CB4611F | B16: 덤프트럭 | C16: 2.5ton | D16: 대 | E16: 0 | G16: 0 | I16: 0 | K16: 0 | L16: 0 | M16: 0 | N16: 0 | O16: 0 | P16: 0 | Q16: 20105 | S16: =SMALL(M16:Q16,COUNTIF(M16:Q16,0)+1) -> 20105 | T16: 자재 12 | U16: 천원
A17: 57772181DDE4722F71B6C991710C965609CB90 | B17: 덤프트럭 | C17: 15ton | D17: 대 | E17: 0 | G17: 0 | I17: 0 | K17: 0 | L17: 0 | M17: 0 | N17: 0 | O17: 0 | P17: 0 | Q17: 83251 | S17: =SMALL(M17:Q17,COUNTIF(M17:Q17,0)+1) -> 83251 | T17: 자재 13 | U17: 천원
A18: 57772181DDE4722F71A47BD1A37763AAABB9BA | B18: 덤프트럭 자동덮개시설 | C18: 15ton | D18: 대 | E18: 0 | G18: 0 | I18: 0 | K18: 0 | L18: 0 | M18: 0 | N18: 0 | O18: 0 | P18: 0 | Q18: 1495 | S18: =SMALL(M18:Q18,COUNTIF(M18:Q18,0)+1) -> 1495 | T18: 자재 14 | U18: 천원
A19: 57772181DDE460247948EF115FAF461C861688 | B19: 래머 | C19: 80kg | D19: 대 | E19: 0 | G19: 0 | I19: 0 | K19: 0 | L19: 0 | M19: 0 | N19: 0 | O19: 0 | P19: 0 | Q19: 1273 | S19: =SMALL(M19:Q19,COUNTIF(M19:Q19,0)+1) -> 1273 | T19: 자재 15 | U19: 천원
A20: 57772181DDE460257BE6C3910832BFC8E1194B | B20: 플레이트 콤팩터 | C20: 1.5ton | D20: 대 | E20: 0 | G20: 0 | I20: 0 | K20: 0 | L20: 0 | M20: 0 | N20: 0 | O20: 0 | P20: 0 | Q20: 1502 | S20: =SMALL(M20:Q20,COUNTIF(M20:Q20,0)+1) -> 1502 | T20: 자재 16 | U20: 천원
A21: 57772181DDE4572A770DA28165EF238F7AA9CD | B21: 크레인(타이어) | C21: 20ton | D21: 대 | E21: 0 | G21: 0 | I21: 0 | K21: 0 | L21: 0 | M21: 0 | N21: 0 | O21: 0 | P21: 0 | Q21: 214807 | S21: =SMALL(M21:Q21,COUNTIF(M21:Q21,0)+1) -> 214807 | T21: 자재 17 | U21: 천원
A22: 57772181DDE4572A770DBCF1AF46B2EC04EDD7 | B22: 트럭탑재형 크레인 | C22: 10ton | D22: 대 | E22: 0 | G22: 0 | I22: 0 | K22: 0 | L22: 0 | M22: 0 | N22: 0 | O22: 0 | P22: 0 | Q22: 79902 | S22: =SMALL(M22:Q22,COUNTIF(M22:Q22,0)+1) -> 79902 | T22: 자재 18 | U22: 천원
A23: 57772181DDE4572A770D87B1909776B56E9BD9 | B23: 고소작업대(스카이) | C23: 1.0톤 (16m급), 1일 | D23: 대 | E23: 0 | F23: 1266 | G23: 0 | I23: 0 | K23: 0 | L23: 0 | M23: 0 | N23: 400000 | O23: 0 | P23: 0 | Q23: 0 | S23: =SMALL(M23:Q23,COUNTIF(M23:Q23,0)+1) -> 400000 | T23: 자재 19 | V23: C
A24: 57772181DDE4572A770D87B1909776B56E9BDA | B24: 고소작업대(스카이) | C24: 1.0톤 (16m급), 1/2일 | D24: 대 | E24: 0 | F24: 1266 | G24: 0 | I24: 0 | K24: 0 | L24: 0 | M24: 0 | N24: 300000 | O24: 0 | P24: 0 | Q24: 0 | S24: =SMALL(M24:Q24,COUNTIF(M24:Q24,0)+1) -> 300000 | T24: 자재 20 | V24: C
A25: 57772181DDE4572A770D87B1909776B56E9BDB | B25: 고소작업대(스카이) | C25: 3.6톤 (28m급), 1일 | D25: 대 | E25: 0 | F25: 1266 | G25: 0 | I25: 0 | K25: 0 | L25: 0 | M25: 0 | N25: 450000 | O25: 0 | P25: 0 | Q25: 0 | S25: =SMALL(M25:Q25,COUNTIF(M25:Q25,0)+1) -> 450000 | T25: 자재 21 | V25: C
A26: 57772181DDE4572A770D87B1909776B56E9BDC | B26: 고소작업대(스카이) | C26: 3.6톤 (28m급), 1/2일 | D26: 대 | E26: 0 | F26: 1266 | G26: 0 | I26: 0 | K26: 0 | L26: 0 | M26: 0 | N26: 300000 | O26: 0 | P26: 0 | Q26: 0 | S26: =SMALL(M26:Q26,COUNTIF(M26:Q26,0)+1) -> 300000 | T26: 자재 22 | V26: C
A27: 57772181DDE4572A770D87B1909776B56E9BDD | B27: 고소작업대(스카이) | C27: 5.0톤 (45m급), 1일 | D27: 대 | E27: 0 | F27: 1266 | G27: 0 | I27: 0 | K27: 0 | L27: 0 | M27: 0 | N27: 550000 | O27: 0 | P27: 0 | Q27: 0 | S27: =SMALL(M27:Q27,COUNTIF(M27:Q27,0)+1) -> 550000 | T27: 자재 23 | V27: C
A28: 57772181DDE4572A770D87B1909776B56E9BDE | B28: 고소작업대(스카이) | C28: 5.0톤 (45m급), 1/2일 | D28: 대 | E28: 0 | F28: 1266 | G28: 0 | I28: 0 | K28: 0 | L28: 0 | M28: 0 | N28: 400000 | O28: 0 | P28: 0 | Q28: 0 | S28: =SMALL(M28:Q28,COUNTIF(M28:Q28,0)+1) -> 400000 | T28: 자재 24 | V28: C
A29: 57772181DDE4572A770D87B1909776B56E9BDF | B29: 고소작업대(스카이) | C29: 16.0톤 (58m급), 1일 | D29: 대 | E29: 0 | F29: 1266 | G29: 0 | I29: 0 | K29: 0 | L29: 0 | M29: 0 | N29: 800000 | O29: 0 | P29: 0 | Q29: 0 | S29: =SMALL(M29:Q29,COUNTIF(M29:Q29,0)+1) -> 800000 | T29: 자재 25 | V29: C
A30: 57772181DDE4572A770D87B1909776B56E9BD0 | B30: 고소작업대(스카이) | C30: 16.0톤 (58m급), 1/2일 | D30: 대 | E30: 0 | F30: 1266 | G30: 0 | I30: 0 | K30: 0 | L30: 0 | M30: 0 | N30: 500000 | O30: 0 | P30: 0 | Q30: 0 | S30: =SMALL(M30:Q30,COUNTIF(M30:Q30,0)+1) -> 500000 | T30: 자재 26 | V30: C
A31: 57772181DDE4572A770D87B1909776B56E9BD1 | B31: 고소작업대(스카이) | C31: 19.5톤 (75m급), 1일 | D31: 대 | E31: 0 | F31: 1266 | G31: 0 | I31: 0 | K31: 0 | L31: 0 | M31: 0 | N31: 1300000 | O31: 0 | P31: 0 | Q31: 0 | S31: =SMALL(M31:Q31,COUNTIF(M31:Q31,0)+1) -> 1300000 | T31: 자재 27 | V31: C
A32: 57772181DDE4572A770D87B1909776B56E9BD2 | B32: 고소작업대(스카이) | C32: 19.5톤 (75m급), 1/2일 | D32: 대 | E32: 0 | F32: 1266 | G32: 0 | I32: 0 | K32: 0 | L32: 0 | M32: 0 | N32: 1000000 | O32: 0 | P32: 0 | Q32: 0 | S32: =SMALL(M32:Q32,COUNTIF(M32:Q32,0)+1) -> 1000000 | T32: 자재 28 | V32: C
A33: 57772181DDE4572C73E50F0147F5F7945ED1D9 | B33: 트럭 트랙터 및 평판트레일러 | C33: 20ton | D33: 대 | E33: 0 | G33: 0 | I33: 0 | K33: 0 | L33: 0 | M33: 0 | N33: 0 | O33: 0 | P33: 0 | Q33: 60591 | S33: =SMALL(M33:Q33,COUNTIF(M33:Q33,0)+1) -> 60591 | T33: 자재 29 | U33: 천원 | V33: C
A34: 57772181DDE4342B76E571E1E3AC7C40E8148D | B34: 콘크리트 펌프차 | C34: 32m(80∼95㎥/hr) | D34: 대 | E34: 0 | G34: 0 | I34: 0 | K34: 0 | L34: 0 | M34: 0 | N34: 0 | O34: 0 | P34: 0 | Q34: 246947 | S34: =SMALL(M34:Q34,COUNTIF(M34:Q34,0)+1) -> 246947 | T34: 자재 30 | U34: 천원
A35: 57772181DDE42A2578BD1D6109A9AB121E63CE | B35: 공기압축기(이동식) | C35: 3.5㎥/min | D35: 대 | E35: 0 | G35: 0 | I35: 0 | K35: 0 | L35: 0 | M35: 0 | N35: 0 | O35: 0 | P35: 0 | Q35: 12768 | S35: =SMALL(M35:Q35,COUNTIF(M35:Q35,0)+1) -> 12768 | T35: 자재 31 | U35: 천원
A36: 57772181DDE42A2578ACDB913700FF6509CCA5 | B36: 소형브레이커(공압식) | C36: 1.3㎥/min | D36: 대 | E36: 0 | G36: 0 | I36: 0 | K36: 0 | L36: 0 | M36: 0 | N36: 0 | O36: 0 | P36: 0 | Q36: 1756 | S36: =SMALL(M36:Q36,COUNTIF(M36:Q36,0)+1) -> 1756 | T36: 자재 32 | U36: 천원
A37: 57772181DDE42A257892670165966DCFC6F427 | B37: 소형브레이커(전기식) | C37: 1.5kw | D37: 대 | E37: 0 | G37: 0 | I37: 0 | K37: 0 | L37: 0 | M37: 0 | N37: 0 | O37: 0 | P37: 0 | Q37: 1222 | S37: =SMALL(M37:Q37,COUNTIF(M37:Q37,0)+1) -> 1222 | T37: 자재 33 | U37: 천원
A38: 57772181DDE42A2E7E796F51FA13307BB7CF26 | B38: 코어드릴 | C38: 15.24cm | D38: 대 | E38: 0 | G38: 0 | I38: 0 | K38: 0 | L38: 0 | M38: 0 | N38: 0 | O38: 0 | P38: 0 | Q38: 786 | S38: =SMALL(M38:Q38,COUNTIF(M38:Q38,0)+1) -> 786 | T38: 자재 34 | U38: 천원 | V38: C
A39: 57772181DDE40F207E9A0EC1633A83D9C822D0 | B39: 모르타르펌프 | C39: 37kw | D39: 대 | E39: 0 | G39: 0 | I39: 0 | K39: 0 | L39: 0 | M39: 0 | N39: 0 | O39: 0 | P39: 0 | Q39: 36912 | S39: =SMALL(M39:Q39,COUNTIF(M39:Q39,0)+1) -> 36912 | T39: 자재 35 | U39: 천원
A40: 57772181DDE40F207E9A3A012D9C3F68A7573C | B40: 모르타르 믹서 | C40: 0.3m3 | D40: 대 | E40: 0 | G40: 0 | I40: 0 | K40: 0 | L40: 0 | M40: 0 | N40: 0 | O40: 0 | P40: 0 | Q40: 5157 | S40: =SMALL(M40:Q40,COUNTIF(M40:Q40,0)+1) -> 5157 | T40: 자재 36 | U40: 천원
A41: 57772181DDE40F207E9A29913BC7A05817FB17 | B41: 양수기 | C41: 1.49kw, 2HP | D41: 대 | E41: 0 | G41: 0 | I41: 0 | K41: 0 | L41: 0 | M41: 0 | N41: 0 | O41: 0 | P41: 0 | Q41: 34 | S41: =SMALL(M41:Q41,COUNTIF(M41:Q41,0)+1) -> 34 | T41: 자재 37 | U41: 천원
A42: 57772181DDE40F207E9A447197A883D7908BAA | B42: 배관파이프 | C42: ∮50㎜∼2.6m | D42: 대 | E42: 0 | G42: 0 | I42: 0 | K42: 0 | L42: 0 | M42: 0 | N42: 0 | O42: 0 | P42: 0 | Q42: 15 | S42: =SMALL(M42:Q42,COUNTIF(M42:Q42,0)+1) -> 15 | T42: 자재 38 | U42: 천원
A43: 5766A18047C0DD2F7FBE76414790AC1F70D119 | B43: 모래 | C43: (별도) | D43: M3 | G43: 26000 | H43: 유통물가 | I43: 34000 | J43: 물가정보 | K43: =SMALL(E43:I43,COUNTIF(E43:I43,0)+1) -> 26000 | L43: 0 | M43: 0 | N43: 0 | O43: 0 | P43: 0 | Q43: 0 | S43: 0 | T43: 자재 39 | U43: 별도 | Z43: 26000 | AA43: =K43-Z43 -> 0
A44: 5766A18047FC302B7390BE618508F0EA99AD96 | B44: 보통합판 | C44: 보통합판, 1급, 2.7*1220*2440mm | D44: M2 | E44: 3191.34 | F44: 655 | G44: 0 | I44: 3195 | K44: =SMALL(E44:I44,COUNTIF(E44:I44,0)+1) -> 3191.34 | L44: 0 | M44: 0 | N44: 0 | O44: 0 | P44: 0 | Q44: 0 | S44: 0 | T44: 자재 40 | Z44: 3191.34 | AA44: =K44-Z44 -> 0
A45: 5766A18047FC302B7390BE618508F0EA99ACF9 | B45: 보통합판 | C45: 보통합판, 1급, 4.8*1220*2440mm | D45: M2 | E45: 4736.62 | F45: 655 | I45: 3745 | K45: =SMALL(E45:I45,COUNTIF(E45:I45,0)+1) -> 3745 | L45: 0 | O45: 0 | P45: 0 | Q45: 0 | S45: 0 | T45: 자재 41 | Z45: 3745 | AA45: =K45-Z45 -> 0
A46: 5766A18047FC302B7390BE618508F0EA99ACFF | B46: 보통합판 | C46: 보통합판, 1급, 12*1220*2440mm | D46: M2 | E46: 10380.27 | F46: 655 | G46: 9305.29 | H46: 유통물가 | I46: 9418 | K46: =SMALL(E46:I46,COUNTIF(E46:I46,0)+1) -> 9305.29 | L46: 0 | M46: 0 | N46: 0 | O46: 0 | P46: 0 | Q46: 0 | S46: 0 | T46: 자재 42 | Z46: 9305.29 | AA46: =K46-Z46 -> 0
A47: 5766A18047FC302B7390BE618508F0EA99A815 | B47: 내수합판 | C47: 내수합판, 1급, 12*1220*2440mm | D47: M2 | E47: 0 | G47: 18000 | H47: 661 | I47: 13423.811 | J47: 물가정보 | K47: =SMALL(E47:I47,COUNTIF(E47:I47,0)+1) -> 13423.811 | L47: 0 | M47: 0 | N47: 0 | O47: 0 | P47: 0 | Q47: 0 | S47: 0 | T47: 자재 43 | Z47: 13423.811 | AA47: =K47-Z47 -> -0.00019645257
A48: 5766A18047FC302B739093418FC61460CE82D7 | B48: 중밀도섬유판 | C48: 중밀도섬유판, 9.0*1220*2440mm | D48: M2 | E48: 5341.3 | F48: 656 | G48: 4837 | H48: 유통물가 | I48: 4135 | K48: =SMALL(E48:I48,COUNTIF(E48:I48,0)+1) -> 4135 | L48: 0 | M48: 0 | N48: 0 | O48: 0 | P48: 0 | Q48: 0 | S48: 0 | T48: 자재 44 | Z48: 4135 | AA48: =K48-Z48 -> 0
A49: 5766A1804743792974A953E1D962FB22FA7F91 | B49: 철강설 | C49: 철강설, 고철, 작업설부산물 | D49: TON | E49: 645000 | F49: 1456 | G49: 527000 | H49: 유통물가 | I49: 340000 | K49: =SMALL(E49:I49,COUNTIF(E49:I49,0)+1) -> 340000 | L49: 0 | M49: 0 | N49: 0 | O49: 0 | P49: 0 | Q49: 0 | S49: 0 | T49: 자재 45 | U49: 수집상차도 | Z49: 340000 | AA49: =K49-Z49 -> 0
A50: 5766A1804743792974A953E1D962FB22FA7F92 | B50: 철강설 | C50: 철강설, 고철, 작업설부산물 | D50: kg | E50: 645 | F50: 1456 | G50: 527 | H50: 유통물가 | I50: 340 | K50: =SMALL(E50:I50,COUNTIF(E50:I50,0)+1) -> 340 | L50: 0 | M50: 0 | N50: 0 | O50: 0 | P50: 0 | Q50: 0 | S50: 0 | T50: 자재 46 | U50: 수집상차도 | Z50: 340 | AA50: =K50-Z50 -> 0
A51: 5766A1804743792974A953E1D962FB22FA7E8B | B51: 철강설 | C51: 철강설, 스텐레스, 작업설부산물 | D51: kg | E51: 2200 | F51: 1456 | G51: 2300 | H51: 유통물가 | I51: 1350 | K51: =SMALL(E51:I51,COUNTIF(E51:I51,0)+1) -> 1350 | L51: 0 | M51: 0 | N51: 0 | O51: 0 | P51: 0 | Q51: 0 | S51: 0 | T51: 자재 47 | U51: 수집상차도 | Z51: 1350 | AA51: =K51-Z51 -> 0
A52: 57669187F5CE5B27727F45F19C2F5CD9A8AEFE | B52: 산소가스 | C52: 기체 | D52: L | E52: 3.12 | F52: 1435 | G52: 2.5 | H52: 유통물가 | I52: 2 | K52: =SMALL(E52:I52,COUNTIF(E52:I52,0)+1) -> 2 | L52: 0 | M52: 0 | N52: 0 | O52: 0 | P52: 0 | Q52: 0 | S52: 0 | T52: 자재 48 | U52: 대기압상태기준 | Z52: 2 | AA52: =K52-Z52 -> 0
A53: 57669187F5E96E2971B163017F2F4280E9EB82 | B53: 감수제 | C53: 감수제, 혼화제 | D53: g | E53: 0 | G53: 2 | H53: 118 | I53: 0 | K53: =SMALL(E53:I53,COUNTIF(E53:I53,0)+1) -> 2 | L53: 0 | M53: 0 | N53: 0 | O53: 0 | P53: 0 | Q53: 0 | S53: 0 | T53: 자재 49 | Z53: 2 | AA53: =K53-Z53 -> 0
A54: 57669187F5E96E277671B081F6F386F5609656 | B54: 기타도막방수재 | C54: 기타도막방수재, 방수액고점도(1:50희석) | D54: L | E54: 0 | G54: 3752.5 | H54: 502 | I54: 0 | K54: =SMALL(E54:I54,COUNTIF(E54:I54,0)+1) -> 3752.5 | L54: 0 | M54: 0 | N54: 0 | O54: 0 | P54: 0 | Q54: 0 | S54: 0 | T54: 자재 50 | Z54: 3752.5 | AA54: =K54-Z54 -> 0
A55: 5766E18E1BA2822D74EE7E911129FCDAF01993 | B55: 경유 | C55: 경유, 저유황 | D55: L | E55: 1583.63 | F55: 1435 | G55: 1296 | H55: 유통물가 | K55: =SMALL(E55:I55,COUNTIF(E55:I55,0)+1) -> 1296 | L55: 0 | M55: 0 | N55: 0 | O55: 0 | P55: 0 | Q55: 0 | S55: 0 | T55: 자재 51 | Z55: 1296 | AA55: =K55-Z55 -> 0
A56: 5766E18E1BA2822D74EE4151F382E7BC2C44DF | B56: 공업용휘발유 | C56: 공업용휘발유, 무연 | D56: L | E56: 1673.63 | F56: 1435 | G56: 1424 | H56: 유통물가 | K56: =SMALL(E56:I56,COUNTIF(E56:I56,0)+1) -> 1424 | L56: 0 | M56: 0 | N56: 0 | O56: 0 | P56: 0 | Q56: 0 | S56: 0 | T56: 자재 52 | Z56: 1424 | AA56: =K56-Z56 -> 0
A57: 5766E18E1BB31C22795C70F110E733C04C8264 | B57: 아세틸렌가스 | C57: 아세틸렌가스, kg | D57: kg | E57: 25000 | F57: 1435 | G57: 18400 | H57: 유통물가 | I57: 13176 | K57: =SMALL(E57:I57,COUNTIF(E57:I57,0)+1) -> 13176 | L57: 0 | M57: 0 | N57: 0 | O57: 0 | P57: 0 | Q57: 0 | S57: 0 | T57: 자재 53 | Z57: 13176 | AA57: =K57-Z57 -> 0
A58: 575421855D5A082076E74BB1132939508C4238 | B58: 300/50OV 내열비닐절연전선 | C58: HIV, 1.78㎜ | D58: M | E58: 337 | F58: 977 | G58: 300 | H58: 유통물가 | I58: 263 | K58: =SMALL(E58:I58,COUNTIF(E58:I58,0)+1) -> 263 | L58: 0 | M58: 0 | N58: 0 | O58: 0 | P58: 0 | Q58: 0 | S58: 0 | T58: 자재 54 | Z58: 263 | AA58: =K58-Z58 -> 0
A59: 574BE1857D71CE277FCF58C13AAEB335DEFD42 | B59: ㄱ형강 | C59: ㄱ형강, 등변, 25*25*3mm | D59: kg | E59: 1210 | F59: 54 | G59: 1200 | H59: 유통물가 | I59: 1015 | K59: =SMALL(E59:I59,COUNTIF(E59:I59,0)+1) -> 1015 | L59: 0 | M59: 0 | N59: 0 | O59: 0 | P59: 0 | Q59: 0 | S59: 0 | T59: 자재 55 | Z59: 1015 | AA59: =K59-Z59 -> 0
A60: 574BE1857D71CE2472748DF1A1274A1896251B | B60: 평강 | C60: 평강, t3*19∼50mm | D60: kg | E60: 1210 | F60: 51 | G60: 1192 | H60: 유통물가 | K60: =SMALL(E60:I60,COUNTIF(E60:I60,0)+1) -> 1192 | L60: 0 | M60: 0 | N60: 0 | O60: 0 | P60: 0 | Q60: 0 | S60: 0 | T60: 자재 56 | Z60: 1192 | AA60: =K60-Z60 -> 0
A61: 574BE1857D71CE24726AC7F1301FEA92E473E8 | B61: 철근콘크리트용봉강 | C61: 철근콘크리트용봉강, 이형봉강(SD350/400), HD-13, - 별도 - | D61: TON | E61: 1070000 | F61: 49 | G61: 1077000 | H61: 유통물가 | I61: 1097000 | J61: 물가정보 | K61: =SMALL(E61:I61,COUNTIF(E61:I61,0)+1) -> 1070000 | L61: 0 | M61: 0 | N61: 0 | O61: 0 | P61: 0 | Q61: 0 | S61: 0 | T61: 자재 57 | U61: 별도 | Z61: 1070000 | AA61: =K61-Z61 -> 0
A62: 574BE1857D71CE257CEF11514052B876561559 | B62: 경량형강 | C62: 경량형강, 블랙C형강, 100*50*20, t2.3 | D62: TON | E62: 1240000 | F62: 59 | G62: 1252000 | H62: 유통물가 | I62: 1080000 | K62: =SMALL(E62:I62,COUNTIF(E62:I62,0)+1) -> 1080000 | L62: 0 | M62: 0 | N62: 0 | O62: 0 | P62: 0 | Q62: 0 | S62: 0 | T62: 자재 58 | Z62: 1080000 | AA62: =K62-Z62 -> 0
A63: 574BE1857D71FB2573288B217ADB58099D14F7 | B63: 스테인리스강판 | C63: 스테인리스강판, STS304, 1.2mm | D63: kg | E63: 4150 | F63: 72 | G63: 4282 | H63: 유통물가 | I63: 3435 | K63: =SMALL(E63:I63,COUNTIF(E63:I63,0)+1) -> 3435 | L63: 0 | M63: 0 | N63: 0 | O63: 0 | P63: 0 | Q63: 0 | S63: 0 | T63: 자재 59 | Z63: 3435 | AA63: =K63-Z63 -> 0
A64: 574BE1857D71FB2573288B217ADB58099D14F6 | B64: 스테인리스강판 | C64: 스테인리스강판, STS304, 1.5mm | D64: kg | E64: 4100 | F64: 72 | G64: 4213 | H64: 유통물가 | I64: 3384 | K64: =SMALL(E64:I64,COUNTIF(E64:I64,0)+1) -> 3384 | L64: 0 | M64: 0 | N64: 0 | O64: 0 | P64: 0 | Q64: 0 | S64: 0 | T64: 자재 60 | Z64: 3384 | AA64: =K64-Z64 -> 0
A65: 574BE1857D71FB2573284D71AA0AC6698EC1D2 | B65: 동판 | C65: 동판, C1100P, 0.50mm | D65: kg | E65: 15180 | F65: 80 | G65: 14860 | H65: 유통물가 | K65: =SMALL(E65:I65,COUNTIF(E65:I65,0)+1) -> 14860 | L65: 0 | M65: 0 | N65: 0 | O65: 0 | P65: 0 | Q65: 0 | S65: 0 | T65: 자재 61 | Z65: 14860 | AA65: =K65-Z65 -> 0
A66: 574BE1857D71FB2573284D71AA0AC6698EC1D1 | B66: 동판 | C66: 동판, C1100P, 1.0mm, 1.2*0.36m | D66: 매 | E66: 58293.04 | F66: 80 | G66: 0 | I66: 39345 | K66: =SMALL(E66:I66,COUNTIF(E66:I66,0)+1) -> 39345 | L66: 0 | M66: 0 | N66: 0 | O66: 0 | P66: 0 | Q66: 0 | S66: 0 | T66: 자재 62 | Z66: 39345 | AA66: =K66-Z66 -> 0
A67: 574BE1857D71FB25733916D1C53937BFA765FD | B67: 폴리카보네이트시트 | C67: 폴리카보네이트시트, 3.0mm, 투명 | D67: M2 | E67: 0 | G67: 40300 | H67: 유통물가 | I67: 48000 | J67: 물가정보 | K67: =SMALL(E67:I67,COUNTIF(E67:I67,0)+1) -> 40300 | L67: 0 | M67: 0 | N67: 0 | O67: 0 | P67: 0 | Q67: 0 | S67: 0 | T67: 자재 63 | Z67: 40300 | AA67: =K67-Z67 -> 0
A68: 574BE1857D71FB25733916D1C53937BE9BFAC1 | B68: 슬레이트형 중골 C-63(BR-18/63) | C68: 1.5*720*1000, FRP썬라이트 | D68: M | E68: 0 | G68: 10520 | H68: 유통물가 | I68: 0 | K68: =SMALL(E68:I68,COUNTIF(E68:I68,0)+1) -> 10520 | L68: 0 | M68: 0 | N68: 0 | O68: 0 | P68: 0 | Q68: 0 | S68: 0 | T68: 자재 64 | Z68: 10520 | AA68: =K68-Z68 -> 0
A69: 574BE1857D71FB2277EC36D1D0EB647FAD0C81 | B69: 아연도금 | D69: kg | E69: 0 | G69: 0 | I69: 0 | K69: 0 | L69: 0 | M69: 0 | N69: 0 | O69: 0 | P69: 0 | Q69: 0 | S69: 0 | T69: 자재 65 | AA69: =K69-Z69 -> 0
A70: 574BE1857D71E926777652A1B5D8F42D8E3F9E | B70: 각재 | C70: 각재, 외송 | D70: 재 | E70: 1750 | F70: 150 | G70: 1400 | H70: 물가정보 | I70: 1818 | K70: =SMALL(E70:I70,COUNTIF(E70:I70,0)+1) -> 1400 | L70: 0 | M70: 0 | N70: 0 | O70: 0 | P70: 0 | Q70: 0 | S70: 0 | T70: 자재 66 | Z70: 1400 | AA70: =K70-Z70 -> 0
A71: 574BE1857D71E926777652A1B5D8F42D8E3F91 | B71: 각재 | C71: 각재, 외송 | D71: M3 | E71: 523952.09 | F71: 150 | G71: 497005 | H71: 유통물가 | I71: 545773 | K71: =SMALL(E71:I71,COUNTIF(E71:I71,0)+1) -> 497005 | L71: 0 | M71: 0 | N71: 0 | O71: 0 | P71: 0 | Q71: 0 | S71: 0 | T71: 자재 67 | Z71: 497005.98 | AA71: =K71-Z71 -> -0.98
A72: 574BE1857D71E926777652A1B5D8F42D8E3F90 | B72: 각재 | C72: 각재, 미송 | D72: 재 | E72: 2080 | F72: 150 | G72: 2050 | H72: 유통물가 | I72: 2432 | K72: =SMALL(E72:I72,COUNTIF(E72:I72,0)+1) -> 2050 | L72: 0 | M72: 0 | N72: 0 | O72: 0 | P72: 0 | Q72: 0 | S72: 0 | T72: 자재 68 | Z72: 2050 | AA72: =K72-Z72 -> 0
A73: 574BE1857D6772237717CC51A006E53EEA87CF | B73: 레미콘 | C73: 레미콘, - 별도 -, 25-21-150 | D73: M3 | E73: 80500 | F73: 물가정보 | G73: 81260 | H73: 유통물가 | K73: =SMALL(E73:I73,COUNTIF(E73:I73,0)+1) -> 80500 | L73: 0 | M73: 0 | N73: 0 | O73: 0 | P73: 0 | Q73: 0 | S73: 0 | T73: 자재 69 | U73: 별도 | Z73: 80500 | AA73: =K73-Z73 -> 0
A74: 574BE1857D6772207BDB2671E0092713D515D7 | B74: 시멘트 | C74: 시멘트(별도) | D74: kg | E74: 140.9 | F74: 104 | G74: 143.18 | H74: 유통물가 | I74: 172.5 | J74: 물가정보 | K74: =SMALL(E74:I74,COUNTIF(E74:I74,0)+1) -> 140.9 | L74: 0 | M74: 0 | N74: 0 | O74: 0 | P74: 0 | Q74: 0 | S74: 0 | T74: 자재 70 | U74: 별도 | Z74: 140.9 | AA74: =K74-Z74 -> 0
A75: 574BE1857D67722E71B10471C91A7EFC9C6252 | B75: 용접철망 | C75: 용접철망, 와이어메시, #4-150*150 | D75: M2 | E75: 4310 | F75: 102 | G75: 0 | I75: 4910 | J75: 물가정보 | K75: =SMALL(E75:I75,COUNTIF(E75:I75,0)+1) -> 4310 | L75: 0 | M75: 0 | N75: 0 | O75: 0 | P75: 0 | Q75: 0 | S75: 0 | T75: 자재 71 | Z75: 4310 | AA75: =K75-Z75 -> 0
A76: 574BE1857D67722E71B10471C91A7EFC9C6253 | B76: 용접철망 | C76: 용접철망, 와이어메시, #6-100*100 | D76: M2 | E76: 4640 | F76: 102 | G76: 4480 | H76: 유통물가 | I76: 5510 | J76: 물가정보 | K76: =SMALL(E76:I76,COUNTIF(E76:I76,0)+1) -> 4480 | L76: 0 | M76: 0 | N76: 0 | O76: 0 | P76: 0 | Q76: 0 | S76: 0 | T76: 자재 72 | Z76: 4480 | AA76: =K76-Z76 -> 0
A77: 574BE1857D67722E71B10471C91A7EFC9C6250 | B77: 용접철망 | C77: 용접철망, 와이어메시, #6-150*150 | D77: M2 | E77: 3100 | F77: 102 | G77: 2970 | H77: 유통물가 | I77: 3780 | J77: 물가정보 | K77: =SMALL(E77:I77,COUNTIF(E77:I77,0)+1) -> 2970 | L77: 0 | M77: 0 | N77: 0 | O77: 0 | P77: 0 | Q77: 0 | S77: 0 | T77: 자재 73 | Z77: 2970 | AA77: =K77-Z77 -> 0
A78: 574BE1857D56E0217F80D2F112A1F21F73561B | B78: 원형맨홀 | C78: ø900(200T) | D78: 조 | E78: 653000 | F78: 232 | G78: 0 | I78: 0 | K78: =SMALL(E78:I78,COUNTIF(E78:I78,0)+1) -> 653000 | L78: 0 | M78: 0 | N78: 0 | O78: 0 | P78: 0 | Q78: 0 | S78: 0 | T78: 자재 74 | U78: 공장상차도 | Z78: 653000 | AA78: =K78-Z78 -> 0
A79: 574BE1857D4480217EDD5D51CE5016D2B12B91 | B79: 속빈콘크리트블록 | C79: 속빈시멘트블록, 190*190*390mm, 서울 | D79: 매 | E79: 850 | F79: 538 | G79: 900 | H79: 유통물가 | I79: 900 | J79: 물가정보 | K79: =SMALL(E79:I79,COUNTIF(E79:I79,0)+1) -> 850 | L79: 0 | M79: 0 | N79: 0 | O79: 0 | P79: 0 | Q79: 0 | S79: 0 | T79: 자재 75 | Z79: 850 | AA79: =K79-Z79 -> 0
A80: 574BE1857D4480227F4CA611C62E0C9DE25587 | B80: 콘크리트벽돌 | C80: 콘크리트벽돌, 190*57*90mm, 서울, C종2급 | D80: 매 | E80: 70 | F80: 529 | G80: 70 | H80: 유통물가 | I80: 69 | J80: 물가정보 | K80: =SMALL(E80:I80,COUNTIF(E80:I80,0)+1) -> 69 | L80: 0 | M80: 0 | N80: 0 | O80: 0 | P80: 0 | Q80: 0 | S80: 0 | T80: 자재 76 | Z80: 69 | AA80: =K80-Z80 -> 0
A81: 574BE1857D44802379BB7AA1AE36617635FBA5 | B81: 자기질타일 | C81: 자기질타일, 무유, 200*200*6.5~8mm | D81: M2 | E81: 0 | G81: 0 | I81: 12600 | K81: =SMALL(E81:I81,COUNTIF(E81:I81,0)+1) -> 12600 | L81: 0 | M81: 0 | N81: 0 | O81: 0 | P81: 0 | Q81: 0 | S81: 0 | T81: 자재 77 | Z81: 12600 | AA81: =K81-Z81 -> 0
A82: 574BE1857D44802379BB7AA1AE30DE51BD8947 | B82: 자기질타일 | C82: 자기질타일, 석재타일, 100*100*15mm | D82: M2 | E82: 20000 | F82: 551 | G82: 32000 | H82: 유통물가 | I82: 18000 | K82: =SMALL(E82:I82,COUNTIF(E82:I82,0)+1) -> 18000 | L82: 0 | M82: 0 | N82: 0 | O82: 0 | P82: 0 | Q82: 0 | S82: 0 | T82: 자재 78 | Z82: 18000 | AA82: =K82-Z82 -> 0
A83: 574BE1857D44802379BB7AA1AE3EB8F7BC270D | B83: 도기질타일 | C83: 도기질타일, 일반색, 300*600*10mm | D83: M2 | E83: 19000 | F83: 565 | G83: 15000 | H83: 유통물가 | I83: 14639 | K83: =SMALL(E83:I83,COUNTIF(E83:I83,0)+1) -> 14639 | L83: 0 | M83: 0 | N83: 0 | O83: 0 | P83: 0 | Q83: 0 | S83: 0 | T83: 자재 79 | Z83: 14639 | AA83: =K83-Z83 -> 0
A84: 574BE1857D3A34227A367F31470475C39C5511 | B84: 우레탄폼 | C84: T30 | D84: M2 | E84: 0 | G84: 9900 | H84: 690 | I84: 9600 | J84: 물가정보 | K84: =SMALL(E84:I84,COUNTIF(E84:I84,0)+1) -> 9600 | L84: 0 | M84: 0 | N84: 0 | O84: 0 | P84: 0 | Q84: 0 | S84: 0 | T84: 자재 80 | Z84: 9600 | AA84: =K84-Z84 -> 0
A85: 574BE1857D3A34227A36C711279C97C4FAED4A | B85: 섬유단열재 | C85: 섬유단열재, 밀도40kg/㎥, 40mm, 유리면보드 | D85: M2 | E85: 4368 | F85: 680 | G85: 4160 | H85: 유통물가 | I85: 8448 | J85: 물가정보 | K85: =SMALL(E85:I85,COUNTIF(E85:I85,0)+1) -> 4160 | L85: 0 | M85: 0 | N85: 0 | O85: 0 | P85: 0 | Q85: 0 | S85: 0 | T85: 자재 81 | Z85: 4160 | AA85: =K85-Z85 -> 0
A86: 574BE1857D3A34227A2595218221D191B2DA89 | B86: 발포폴리스티렌단열재 | C86: 발포폴리스티렌단열재, 0.015, 50mm, 1종 | D86: M2 | E86: 3827.16 | F86: 682 | I86: 2216 | K86: =SMALL(E86:I86,COUNTIF(E86:I86,0)+1) -> 2216 | L86: 0 | M86: 0 | N86: 0 | O86: 0 | P86: 0 | Q86: 0 | S86: 0 | T86: 자재 82 | Z86: 2216 | AA86: =K86-Z86 -> 0
A87: 574BE1857D3A34227A2595218221D191B2DA86 | B87: 발포폴리스티렌단열재 | C87: 발포폴리스티렌단열재, 0.015, 60mm, 1종 | D87: M2 | E87: 4592.59 | F87: 682 | I87: 2659 | K87: =SMALL(E87:I87,COUNTIF(E87:I87,0)+1) -> 2659 | L87: 0 | M87: 0 | N87: 0 | O87: 0 | P87: 0 | Q87: 0 | S87: 0 | T87: 자재 83 | Z87: 2659 | AA87: =K87-Z87 -> 0
A88: 574BE1857D3A34227A2595218221D191B2DA87 | B88: 발포폴리스티렌단열재 | C88: 발포폴리스티렌단열재, 0.015, 80mm, 1종 | D88: M2 | E88: 6111.11 | F88: 682 | I88: 3545 | K88: =SMALL(E88:I88,COUNTIF(E88:I88,0)+1) -> 3545 | L88: 0 | M88: 0 | N88: 0 | O88: 0 | P88: 0 | Q88: 0 | S88: 0 | T88: 자재 84 | Z88: 3545 | AA88: =K88-Z88 -> 0
A89: 574BE1857D3A34227A2595218224A08CE1C670 | B89: 발포폴리스티렌단열재 | C89: 발포폴리스티렌단열재, 0.015, 40mm, 1종 | D89: M2 | E89: 3061.72 | F89: 682 | I89: 1773 | K89: =SMALL(E89:I89,COUNTIF(E89:I89,0)+1) -> 1773 | L89: 0 | M89: 0 | N89: 0 | O89: 0 | P89: 0 | Q89: 0 | S89: 0 | T89: 자재 85 | Z89: 1773 | AA89: =K89-Z89 -> 0
A90: 574BE1857D3A34227A2595218224A08CE1C671 | B90: 발포폴리스티렌단열재 | C90: 발포폴리스티렌단열재, 0.015, 20mm, 1종 | D90: M2 | E90: 1481.48 | F90: 682 | I90: 886 | K90: =SMALL(E90:I90,COUNTIF(E90:I90,0)+1) -> 886 | L90: 0 | M90: 0 | N90: 0 | O90: 0 | P90: 0 | Q90: 0 | S90: 0 | T90: 자재 86 | Z90: 886 | AA90: =K90-Z90 -> 0
A91: 574BE1857D3A34227A2595218224A08CE1C44A | B91: 발포폴리스티렌단열재 | C91: 발포폴리스티렌단열재, 0.015, 70mm, 1종 | D91: M2 | E91: 5370.37 | F91: 682 | I91: 3102 | K91: =SMALL(E91:I91,COUNTIF(E91:I91,0)+1) -> 3102 | L91: 0 | M91: 0 | N91: 0 | O91: 0 | P91: 0 | Q91: 0 | S91: 0 | T91: 자재 87 | Z91: 3102 | AA91: =K91-Z91 -> 0
A92: 574BE1857D3A34227A259521869BD3031A44B1 | B92: 이보드 | C92: 단열재(압출) : 13T, (도배, 타일용) | D92: M2 | E92: 6944.44 | F92: 678 | G92: 0 | I92: 0 | K92: =SMALL(E92:I92,COUNTIF(E92:I92,0)+1) -> 6944.44 | L92: 0 | M92: 0 | N92: 0 | O92: 0 | P92: 0 | Q92: 0 | S92: 0 | T92: 자재 88 | Z92: 6944.44 | AA92: =K92-Z92 -> 0
A93: 574BE1857D3A34227A259521869BD3031A44B2 | B93: 이보드 | C93: 단열재(압출) : 23T, (도배, 타일용) | D93: M2 | E93: 10648.15 | F93: 678 | G93: 0 | I93: 0 | K93: =SMALL(E93:I93,COUNTIF(E93:I93,0)+1) -> 10648.15 | L93: 0 | M93: 0 | N93: 0 | O93: 0 | P93: 0 | Q93: 0 | S93: 0 | T93: 자재 89 | Z93: 10648.15 | AA93: =K93-Z93 -> 0
A94: 574BE1857D3A34227A259521869BD3031A44B3 | B94: 이보드 | C94: 단열재(압출) : 13T, (페인트용) | D94: M2 | E94: 7407.41 | F94: 678 | G94: 0 | I94: 0 | K94: =SMALL(E94:I94,COUNTIF(E94:I94,0)+1) -> 7407.41 | L94: 0 | M94: 0 | N94: 0 | O94: 0 | P94: 0 | Q94: 0 | S94: 0 | T94: 자재 90 | Z94: 7407.41 | AA94: =K94-Z94 -> 0
A95: 574BE1857D3A34227A259521869BD3031A44B4 | B95: 이보드 | C95: 단열재(압출) : 23T, (페인트용) | D95: M2 | E95: 11574.07 | F95: 678 | G95: 0 | I95: 0 | K95: =SMALL(E95:I95,COUNTIF(E95:I95,0)+1) -> 11574.07 | L95: 0 | M95: 0 | N95: 0 | O95: 0 | P95: 0 | Q95: 0 | S95: 0 | T95: 자재 91 | Z95: 11574.07 | AA95: =K95-Z95 -> 0
A96: 574BE1857D3A34227A258481DCA3B6CF420CCD | B96: 압출발포폴리스티렌단열재 | C96: 압출발포폴리스티렌단열재, 압출, 0.03, 50mm | D96: M2 | E96: 8024.69 | F96: 683 | I96: 5749 | K96: =SMALL(E96:I96,COUNTIF(E96:I96,0)+1) -> 5749 | L96: 0 | M96: 0 | N96: 0 | O96: 0 | P96: 0 | Q96: 0 | S96: 0 | T96: 자재 92 | Z96: 5749 | AA96: =K96-Z96 -> 0
A97: 574BE1857D3A34227A258481DCA60F8FD860FD | B97: 압출발포폴리스티렌단열재 | C97: 압출발포폴리스티렌단열재, 압출, 0.035, 65mm | D97: M2 | E97: 11234.57 | F97: 683 | I97: 7845.5 | K97: =SMALL(E97:I97,COUNTIF(E97:I97,0)+1) -> 7845.5 | L97: 0 | M97: 0 | N97: 0 | O97: 0 | P97: 0 | Q97: 0 | S97: 0 | T97: 자재 93 | Z97: 7845.5 | AA97: =K97-Z97 -> 0
A98: 574BE1857D3A34227A258481DCA60F8FD86733 | B98: 압출발포폴리스티렌단열재 | C98: 압출발포폴리스티렌단열재, 압출, 0.035, 80mm | D98: M2 | E98: 13827.16 | F98: 683 | I98: 9656 | K98: =SMALL(E98:I98,COUNTIF(E98:I98,0)+1) -> 9656 | L98: 0 | M98: 0 | N98: 0 | O98: 0 | P98: 0 | Q98: 0 | S98: 0 | T98: 자재 94 | Z98: 9656 | AA98: =K98-Z98 -> 0
A99: 574BE1857D3A34227A258481DCA60F8FD8674A | B99: 압출발포폴리스티렌단열재 | C99: 압출발포폴리스티렌단열재, 압출, 0.035, 35mm | D99: M2 | E99: 6049.38 | F99: 683 | I99: 422.5 | K99: =SMALL(E99:I99,COUNTIF(E99:I99,0)+1) -> 422.5 | L99: 0 | M99: 0 | N99: 0 | O99: 0 | P99: 0 | Q99: 0 | S99: 0 | T99: 자재 95 | Z99: 422.5 | AA99: =K99-Z99 -> 0
A100: 574BE1857D3A34227A258481DCA60F8FD86749 | B100: 압출발포폴리스티렌단열재 | C100: 압출발포폴리스티렌단열재, 압출, 0.035, 45mm | D100: M2 | E100: 7777.78 | F100: 683 | I100: 5431.5 | K100: =SMALL(E100:I100,COUNTIF(E100:I100,0)+1) -> 5431.5 | L100: 0 | M100: 0 | N100: 0 | O100: 0 | P100: 0 | Q100: 0 | S100: 0 | T100: 자재 96 | Z100: 5431.5 | AA100: =K100-Z100 -> 0
...

Sheet 단가대비표(추가)
A1: 단 가 대 비 표
A2: [ 한국보훈복지의료공단 ]
A3: 코 드 | B3: 품 명 | C3: 규격 | D3: 단위 | L3: 노 무 비 | M3: 경 비 | T3: 번 호 | U3: 비 고 | V3: 품목구분 | W3: 노임구분 | X3: 소수점처리 | Y3: 자재구분
E4: 거래가격 | F4: PAGE | G4: 물가자료 | H4: PAGE | I4: 물가정보 | J4: PAGE | K4: 적용단가 | M4: 조달청가격 | N4: 거래가격 | O4: 유통물가 | P4: 물가자료 | Q4: 조사가격 | R4: 물가정보 | S4: 적용단가
A5: 5766A18047FC302B7390BE618508F0EA99AD96 | B5: 일반배관용스테인리스강관 | C5: (외경)48.60㎜×(두께)1.2㎜×(단중)1.417㎏/m - 옥내 및 상수도용, STS304TPD | D5: M | I5: 9840 | J5: 781 | K5: =SMALL(E5:I5,COUNTIF(E5:I5,0)+1) -> 9840 | M5: 0 | N5: 0 | O5: 0 | P5: 0 | Q5: 0 | S5: 0
A6: 5766A18047FC302B7390BE618508F0EA99ACF9 | B6: PVC단창중연창 / 자재 | C6: T16유리 포함 (115*1000*1000) | D6: ㎡ | G6: 94340 | H6: 589 | K6: =SMALL(E6:I6,COUNTIF(E6:I6,0)+1) -> 94340 | M6: 0 | N6: 0 | O6: 0 | P6: 0 | Q6: 0 | S6: 0
A7: 5766A18047FC302B7390BE618508F0EA99ACFF | B7: PVC단창중중연창 / 자재 | C7: T16유리 포함 (115*1000*1000) | D7: ㎡ | G7: 112200 | H7: 589 | K7: =SMALL(E7:I7,COUNTIF(E7:I7,0)+1) -> 112200 | M7: 0 | N7: 0 | O7: 0 | P7: 0 | Q7: 0 | S7: 0
A8: 5766A18047FC302B7390BE618508F0EA99A815 | B8: PVC이중창중연창 / 자재 | C8: T22유리 포함 (225*1000*1000) | D8: ㎡ | G8: 178600 | H8: 589 | K8: =SMALL(E8:I8,COUNTIF(E8:I8,0)+1) -> 178600 | M8: 0 | N8: 0 | O8: 0 | P8: 0 | Q8: 0 | S8: 0
A9: 5766A18047FC302B739093418FC61460CE82D7 | B9: PVC이중중중연창 / 자재 | C9: T22유리 포함 (225*1000*1000) | D9: ㎡ | G9: 209950 | H9: 589 | K9: =SMALL(E9:I9,COUNTIF(E9:I9,0)+1) -> 209950 | M9: 0 | N9: 0 | O9: 0 | P9: 0 | Q9: 0 | S9: 0
A10: 5766A1804743792974A953E1D962FB22FA7F91 | B10: 발코니창 | C10: T16유리 포함 (141*1000*1000) | D10: ㎡ | G10: 120000 | H10: 589 | K10: =SMALL(E10:I10,COUNTIF(E10:I10,0)+1) -> 120000 | M10: 0 | N10: 0 | O10: 0 | P10: 0 | Q10: 0 | S10: 0
A11: 5766A1804743792974A953E1D962FB22FA7F92 | B11: 발코니창 (3LS) | C11: T22유리 포함 (141*1000*1000) | D11: ㎡ | G11: 154000 | H11: 589 | K11: =SMALL(E11:I11,COUNTIF(E11:I11,0)+1) -> 154000 | M11: 0 | N11: 0 | O11: 0 | P11: 0 | Q11: 0 | S11: 0
A12: 5766A1804743792974A953E1D962FB22FA7E8B | B12: 도선료 | D12: 식 | E12: 0 | G12: 0 | I12: 0 | M12: 0 | N12: 0 | O12: 0 | P12: 0 | Q12: 0 | S12: 100000
A13: 57669187F5CE5B27727F45F19C2F5CD9A8AEFE | K13: =SMALL(E13:I13,COUNTIF(E13:I13,0)+1) -> #NUM! | M13: 0 | N13: 0 | O13: 0 | P13: 0 | Q13: 0 | S13: 0
A14: 57669187F5E96E2971B163017F2F4280E9EB82 | K14: =SMALL(E14:I14,COUNTIF(E14:I14,0)+1) -> #NUM! | M14: 0 | N14: 0 | O14: 0 | P14: 0 | Q14: 0 | S14: 0
A15: 57669187F5E96E277671B081F6F386F5609656 | K15: =SMALL(E15:I15,COUNTIF(E15:I15,0)+1) -> #NUM! | M15: 0 | N15: 0 | O15: 0 | P15: 0 | Q15: 0 | S15: 0
A16: 5766E18E1BA2822D74EE7E911129FCDAF01993 | K16: =SMALL(E16:I16,COUNTIF(E16:I16,0)+1) -> #NUM! | M16: 0 | N16: 0 | O16: 0 | P16: 0 | Q16: 0 | S16: 0
A17: 5766E18E1BA2822D74EE4151F382E7BC2C44DF | K17: =SMALL(E17:I17,COUNTIF(E17:I17,0)+1) -> #NUM! | M17: 0 | N17: 0 | O17: 0 | P17: 0 | Q17: 0 | S17: 0
A18: 5766E18E1BB31C22795C70F110E733C04C8264 | K18: =SMALL(E18:I18,COUNTIF(E18:I18,0)+1) -> #NUM! | M18: 0 | N18: 0 | O18: 0 | P18: 0 | Q18: 0 | S18: 0
A19: 575421855D5A082076E74BB1132939508C4238 | K19: =SMALL(E19:I19,COUNTIF(E19:I19,0)+1) -> #NUM! | M19: 0 | N19: 0 | O19: 0 | P19: 0 | Q19: 0 | S19: 0
A20: 574BE1857D71CE277FCF58C13AAEB335DEFD42 | K20: =SMALL(E20:I20,COUNTIF(E20:I20,0)+1) -> #NUM! | M20: 0 | N20: 0 | O20: 0 | P20: 0 | Q20: 0 | S20: 0
A21: 574BE1857D71CE2472748DF1A1274A1896251B | K21: =SMALL(E21:I21,COUNTIF(E21:I21,0)+1) -> #NUM! | M21: 0 | N21: 0 | O21: 0 | P21: 0 | Q21: 0 | S21: 0
A22: 574BE1857D71CE24726AC7F1301FEA92E473E8 | K22: =SMALL(E22:I22,COUNTIF(E22:I22,0)+1) -> #NUM! | M22: 0 | N22: 0 | O22: 0 | P22: 0 | Q22: 0 | S22: 0
A23: 574BE1857D71CE257CEF11514052B876561559 | K23: =SMALL(E23:I23,COUNTIF(E23:I23,0)+1) -> #NUM! | M23: 0 | N23: 0 | O23: 0 | P23: 0 | Q23: 0 | S23: 0
A24: 574BE1857D71FB2573288B217ADB58099D14F7 | K24: =SMALL(E24:I24,COUNTIF(E24:I24,0)+1) -> #NUM! | M24: 0 | N24: 0 | O24: 0 | P24: 0 | Q24: 0 | S24: 0
... A29: 574BE1857D71FB25733916D1C53937BE9BFAC1 | K29: =SMALL(E29:I29,COUNTIF(E29:I29,0)+1) -> #NUM! | M29: 0 | N29: 0 | O29: 0 | P29: 0 | Q29: 0 | S29: 0
A30: 574BE1857D71FB2277EC36D1D0EB647FAD0C81 | K30: 0 | M30: 0 | N30: 0 | O30: 0 | P30: 0 | Q30: 0 | S30: 0
A31: 574BE1857D71E926777652A1B5D8F42D8E3F9E | K31: =SMALL(E31:I31,COUNTIF(E31:I31,0)+1) -> #NUM! | M31: 0 | N31: 0 | O31: 0 | P31: 0 | Q31: 0 | S31: 0
A32: 574BE1857D71E926777652A1B5D8F42D8E3F91 | K32: =SMALL(E32:I32,COUNTIF(E32:I32,0)+1) -> #NUM! | M32: 0 | N32: 0 | O32: 0 | P32: 0 | Q32: 0 | S32: 0
A33: 574BE1857D71E926777652A1B5D8F42D8E3F90 | K33: =SMALL(E33:I33,COUNTIF(E33:I33,0)+1) -> #NUM! | M33: 0 | N33: 0 | O33: 0 | P33: 0 | Q33: 0 | S33: 0
A34: 574BE1857D6772237717CC51A006E53EEA87CF | K34: =SMALL(E34:I34,COUNTIF(E34:I34,0)+1) -> #NUM! | M34: 0 | N34: 0 | O34: 0 | P34: 0 | Q34: 0 | S34: 0
A35: 574BE1857D6772207BDB2671E0092713D515D7 | K35: =SMALL(E35:I35,COUNTIF(E35:I35,0)+1) -> #NUM! | M35: 0 | N35: 0 | O35: 0 | P35: 0 | Q35: 0 | S35: 0
A36: 574BE1857D67722E71B10471C91A7EFC9C6252 | K36: =SMALL(E36:I36,COUNTIF(E36:I36,0)+1) -> #NUM! | M36: 0 | N36: 0 | O36: 0 | P36: 0 | Q36: 0 | S36: 0
A37: 574BE1857D67722E71B10471C91A7EFC9C6253 | K37: =SMALL(E37:I37,COUNTIF(E37:I37,0)+1) -> #NUM! | M37: 0 | N37: 0 | O37: 0 | P37: 0 | Q37: 0 | S37: 0
A38: 574BE1857D67722E71B10471C91A7EFC9C6250 | K38: =SMALL(E38:I38,COUNTIF(E38:I38,0)+1) -> #NUM! | M38: 0 | N38: 0 | O38: 0 | P38: 0 | Q38: 0 | S38: 0
A39: 574BE1857D56E0217F80D2F112A1F21F73561B | K39: =SMALL(E39:I39,COUNTIF(E39:I39,0)+1) -> #NUM! | M39: 0 | N39: 0 | O39: 0 | P39: 0 | Q39: 0 | S39: 0
A40: 574BE1857D4480217EDD5D51CE5016D2B12B91 | K40: =SMALL(E40:I40,COUNTIF(E40:I40,0)+1) -> #NUM! | M40: 0 | N40: 0 | O40: 0 | P40: 0 | Q40: 0 | S40: 0
A41: 574BE1857D4480227F4CA611C62E0C9DE25587 | K41: =SMALL(E41:I41,COUNTIF(E41:I41,0)+1) -> #NUM! | M41: 0 | N41: 0 | O41: 0 | P41: 0 | Q41: 0 | S41: 0
A42: 574BE1857D44802379BB7AA1AE36617635FBA5 | K42: =SMALL(E42:I42,COUNTIF(E42:I42,0)+1) -> #NUM! | M42: 0 | N42: 0 | O42: 0 | P42: 0 | Q42: 0 | S42: 0
... A355: 571E918B8A62DC2875FA0FD1069504420705BB | K355: =SMALL(E355:I355,COUNTIF(E355:I355,0)+1) -> #NUM! | M355: 0 | N355: 0 | O355: 0 | P355: 0 | Q355: 0 | S355: 0
A356: 5062618954BD9E2D7DF2D4D132903F | K356: 0 | M356: 0 | N356: 0 | O356: 0 | P356: 0 | Q356: 65072 | S356: =SMALL(M356:Q356,COUNTIF(M356:Q356,0)+1) -> 65072 | V356: C
A357: 5062618954BD9E2D7DF2D4A160FF30 | K357: 0 | M357: 0 | N357: 0 | O357: 0 | P357: 0 | Q357: 163035 | S357: =SMALL(M357:Q357,COUNTIF(M357:Q357,0)+1) -> 163035 | V357: C
A358: 5062618954BD9E2D7DF2D4B105BBA6 | K358: 0 | M358: 0 | N358: 0 | O358: 0 | P358: 0 | Q358: 166718 | S358: =SMALL(M358:Q358,COUNTIF(M358:Q358,0)+1) -> 166718 | V358: C
A359: 5062F18ADC34892B70EFB5E1896383 | K359: =SMALL(E359:I359,COUNTIF(E359:I359,0)+1) -> #NUM! | M359: 0 | N359: 0 | O359: 0 | P359: 0 | Q359: 0 | S359: 0 | V359: 2
A360: 5062F18ADC0F3B257BFAED01AFA32E | K360: =SMALL(E360:I360,COUNTIF(E360:I360,0)+1) -> #NUM! | M360: 0 | N360: 0 | O360: 0 | P360: 0 | Q360: 0 | S360: 0 | V360: 2
A361: 5062B18117FAD62F7AC417B19D84EB | K361: =SMALL(E361:I361,COUNTIF(E361:I361,0)+1) -> #NUM! | M361: 0 | N361: 0 | O361: 0 | P361: 0 | Q361: 0 | S361: 0 | V361: 2
A362: 5062918C42F40F227BEA40411D8ECD | K362: =SMALL(E362:I362,COUNTIF(E362:I362,0)+1) -> #NUM! | M362: 0 | N362: 0 | O362: 0 | P362: 0 | Q362: 0 | S362: 0 | V362: 2
A363: 5062818DEFA19B267661DDD1B13FF0 | K363: 0 | M363: 0 | N363: 0 | O363: 0 | P363: 0 | Q363: 0 | S363: 0 | V363: 2
A364: 5062818DEFA19B2676B9FD71C65ECF | K364: 0 | M364: 0 | N364: 0 | O364: 0 | P364: 0 | Q364: 0 | S364: 0 | V364: 2
A365: 502FC189B589B22C77ACC331FE9E7872ACB7A6 | K365: 0 | M365: 0 | N365: 0 | O365: 0 | P365: 0 | Q365: 0 | S365: 0
A366: 50BD918C688C362B7F01FAA131B8D1CFECF79C | K366: 0 | M366: 0 | N366: 0 | O366: 0 | P366: 0 | Q366: 0 | S366: 0 | V366: B
A367: 50BD918C688C362B7F01FAA131B8D1CFECF79D | K367: 0 | M367: 0 | N367: 0 | O367: 0 | P367: 0 | Q367: 0 | S367: 0 | V367: B
A368: 50BD918C688C362B7F01FAA131B8D1CFECF798 | K368: 0 | N368: 0 | O368: 0 | P368: 0 | Q368: 0 | S368: 0 | V368: B
A369: 50BD918C688C362B7F01FAA131B8D1CFECF799 | K369: 0 | M369: 0 | N369: 0 | O369: 0 | P369: 0 | Q369: 0 | S369: 0 | V369: B
A370: 50BD918C688C362B7F01FAA131B8D1CFECF796 | K370: 0 | M370: 0 | N370: 0 | O370: 0 | P370: 0 | Q370: 0 | S370: 0 | V370: B
A371: 50BD918C688C362B7F01FAA131B8D1CFECF797 | K371: 0 | M371: 0 | N371: 0 | O371: 0 | P371: 0 | Q371: 0 | S371: 0 | V371: B
A372: 50BD918C688C362B7F01FAA131B8D1CFECF6F9 | K372: 0 | M372: 0 | N372: 0 | O372: 0 | P372: 0 | Q372: 0 | S372: 0 | V372: B
A373: 50BD918C688C362B7F01FAA131B8D1CFECF6FA | K373: 0 | M373: 0 | N373: 0 | O373: 0 | P373: 0 | Q373: 0 | S373: 0 | V373: B
A374: 50BD918C688C362B7F01FAA131B8D1CFECF6FB | K374: 0 | M374: 0 | N374: 0 | O374: 0 | P374: 0 | Q374: 0 | S374: 0 | V374: B
A375: 50BD918C688C362B7F01FAA131B8D1CFECF6FD | K375: 0 | M375: 0 | N375: 0 | O375: 0 | P375: 0 | Q375: 0 | S375: 0 | V375: B
A376: 50BD918C688C362B7F01FAA131B8D1CFECF5D0 | K376: 0 | M376: 0 | N376: 0 | O376: 0 | P376: 0 | Q376: 0 | S376: 0 | V376: B
A377: 50BD918C688C362B7F01FAA131B8D1CFECF5D3 | K377: 0 | M377: 0 | N377: 0 | O377: 0 | P377: 0 | Q377: 0 | S377: 0 | V377: B
A378: 50BD918C688C362B7F01FAA131B8D1CFECF5D2 | K378: 0 | M378: 0 | N378: 0 | O378: 0 | P378: 0 | Q378: 0 | S378: 0 | V378: B
A379: 50BD918C688C362B7F01FAA131B8D1CFECF5D5 | K379: 0 | M379: 0 | N379: 0 | O379: 0 | P379: 0 | Q379: 0 | S379: 0 | V379: B
A380: 50BD918C688C362B7F01FAA131B8D1CFECF5D4 | K380: 0 | M380: 0 | N380: 0 | O380: 0 | P380: 0 | Q380: 0 | S380: 0 | V380: B
... A401: 50BD918C688C362B7F01BCF17ECB3B43F86B2D | K401: 0 | M401: 0 | N401: 0 | O401: 0 | P401: 0 | Q401: 0 | S401: 0 | V401: B
