Workbook
Name ㄷㄷ: #REF!

Sheet 표지
A7: 2026년 기상기업성장지원센터(진양빌딩) 원상복구 공사

Sheet 원가계산
A1: 공사명 : 2026년 기상기업성장지원센터(진양센터) 원상복구 공사
A2: 비 목 | D2: 금 액 | G2: 구 성 비 | L2: 비 고
B3: 재 | C3: 직 접 재 료 비 | E3: =견적서!G10 -> 0
B4: 료 | C4: 간 접 재 료 비
B5: 비 | C5: 작 업 설 , 부 산 물 등 (△)
A6: 순 | C6: [ 소 계 ] | E6: =SUM(E3:E5) -> 0
B7: 노 | C7: 직 접 노 무 비 | E7: =견적서!I10 -> 0
B8: 무 | C8: 간 접 노 무 비 | E8: =INT(E7*I8) -> 0 | G8: 직접노무비 | H8: × | I8: 0.175
A9: 공 | B9: 비 | C9: [ 소 계 ] | E9: =SUM(E7:E8) -> 0
C10: 기 계 경 비 | E10: =견적서!K10 -> 0
A11: 사 | B11: 경 | C11: 산 재 보 험 료 | E11: =INT(E9*I11) -> 0 | G11: 노무비 | H11: × | I11: 0.0356
C12: 고 용 보 험 료 | E12: =INT(E9*I12) -> 0 | G12: 노무비 | H12: × | I12: 0.0101
C13: 건 강 보 험 료 | E13: =INT(E7*I13)*0 -> 0 | G13: 직접노무비 | H13: × | I13: 0.03595
A14: 원 | C14: 연 금 보 험 료 | E14: =INT(E7*I14)*0 -> 0 | G14: 직접노무비 | H14: × | I14: 0.0475
C15: 노 인 장 기 요 양 보 험 료 | E15: =INT(E13*I15) -> 0 | G15: 건강보험료 | H15: × | I15: 0.1314
C16: 퇴 직 공 제 부 금 비 | E16: =INT(E7*I16) -> 0 | G16: 직접노무비 | H16: × | I16: 0.023
C17: 산 업 안 전 보 건 관 리 비 | E17: =INT((E6+E7)*I17) -> 0 | G17: (재+직노+관급) | H17: × | I17: 0.0311
A18: 가 | B18: 비 | C18: 기 타 경 비 | E18: =INT((E3+E7)*I18) -> 0 | G18: (재료비+노무비) | H18: × | I18: 0.05
C19: 환 경 보 전 비 | E19: =INT((E6+E7)*I19) -> 0 | G19: (재+직노+기계경비) | H19: × | I19: 0.003
C20: 건설하도급대금지급보증서발급수수료 | E20: =INT(E3+E7+E10)*I20*0 -> 0 | G20: (직재+직노+기계경비) | H20: × | I20: 0.0007
C21: 건설기계대여대금지급보증서발급수수료 | E21: =INT(E3+E7+E10)*I21*0 -> 0 | G21: (직재+직노+기계경비) | H21: × | I21: 0.00081
C22: [ 소 계 ] | E22: =SUM(E10:E21) -> 0
B23: 계 | E23: =E6+E9+E22 -> 0
A24: 일 반 관 리 비 | E24: =INT(E23*I24) -> 0 | G24: 계 | H24: × | I24: 0.07
A25: 이 윤 | E25: =INT((E9+E22+E24)*I25) -> 0 | G25: (노무비+경비+일관) | H25: × | I25: 0.1
A26: 건 설 폐 기 물 처 리 비 | E26: =견적서!K109 -> 0 | G26: 폐기물반출 | H26: x
A27: 공 급 가 액 | E27: =ROUNDDOWN((E26+E25+E24+E23),-5) -> 0
A28: 부 가 가 치 세 | E28: =E27*10% -> 0 | G28: 공급가액 | H28: × | I28: 0.1
A29: [총 공 사 비] | E29: =E28+E27 -> 0

Sheet 견적서
A1: 공사명 : 한국기상정보기술원 진양센터 원상복구공사
A2: 구분 | B2: 품 명 | C2: 규 격 | D2: 단위 | E2: 수량 | F2: 재 료 비 | H2: 노 무 비 | J2: 경 비 | L2: 합 계
F3: 단 가 | G3: 금 액 | H3: 단 가 | I3: 금 액 | J3: 단 가 | K3: 금 액 | L3: 단 가 | M3: 금 액
A4: A | B4: 건축공사
A5: 1 | B5: 1층 원상복구공사 | D5: 식 | E5: 1 | G5: =G44 -> 0 | I5: =I44 -> 0 | K5: =K44 -> 0 | L5: =L44 -> 0 | M5: =M44 -> 0
A6: 2 | B6: 3층 원상복구공사 | D6: 식 | E6: 1 | G6: =G113 -> 0 | I6: =I113 -> 0 | K6: =K113 -> 0 | M6: =M113 -> 0
B10: 합 계 | G10: =SUM(G4:G9) -> 0 | I10: =SUM(I4:I9) -> 0 | K10: =SUM(K4:K9) -> 0 | M10: =SUM(M4:M9) -> 0
A37: 1 | B37: 1층 원상복구공사
B38: 1-1.가설공사 | D38: 식 | E38: 1 | G38: =G76 -> 0 | I38: =I76 -> 0 | K38: =K76 -> 0 | L38: =L76 -> 0 | M38: =M76 -> 0
B39: 1-2.철거공사 | D39: 식 | E39: 1 | G39: =G81 -> 0 | I39: =I81 -> 0 | K39: =K81 -> 0 | L39: =L81 -> 0 | M39: =M81 -> 0
B40: 1-3.보수공사 | D40: 식 | E40: 1 | G40: =G90 -> 0 | I40: =I90 -> 0 | K40: =K90 -> 0 | L40: =L82 -> 0 | M40: =M90 -> 0
B44: 합 계 | G44: =SUM(G38:G43) -> 0 | I44: =SUM(I38:I43) -> 0 | K44: =SUM(K38:K43) -> 0 | M44: =SUM(M38:M43) -> 0
B69: 1-1.가설공사
B70: 건축물 현장정리 | C70: 목조,조적조 | D70: M2 | E70: 1 | F70: =일위목록!G5 -> 0 | G70: =TRUNC(F70*E70) -> 0 | H70: =일위목록!I5 -> 0 | I70: =TRUNC(H70*E70) -> 0 | L70: =F70+H70+J70 -> 0 | M70: =G70+I70+K70 -> 0
B71: 바닥보양 | C71: 플라스틱골판지 4T | D71: M2 | E71: 1 | F71: =일위목록!G6 -> 0 | G71: =TRUNC(F71*E71) -> 0 | H71: =일위목록!I6 -> 0 | I71: =TRUNC(H71*E71) -> 0 | L71: =F71+H71+J71 -> 0 | M71: =G71+I71+K71 -> 0
B72: 이동식 강관조립말비계 | C72: 3개월 1단(2M) | D72: 대 | E72: 1 | F72: =일위목록!G8 -> 0 | G72: =TRUNC(F72*E72) -> 0 | H72: =일위목록!I8 -> 0 | I72: =TRUNC(H72*E72) -> 0 | L72: =F72+H72+J72 -> 0 | M72: =G72+I72+K72 -> 0
B73: 자재 소운반 | D73: M2 | E73: 1 | F73: =일위목록!G9 -> 0 | G73: =TRUNC(F73*E73) -> 0 | H73: =일위목록!I9 -> 0 | I73: =TRUNC(H73*E73) -> 0 | L73: =F73+H73+J73 -> 0 | M73: =G73+I73+K73 -> 0
B74: 준공청소 | D74: M2 | E74: 1 | F74: =일위목록!G10 -> 0 | G74: =TRUNC(F74*E74) -> 0 | H74: =일위목록!I10 -> 0 | I74: =TRUNC(H74*E74) -> 0 | L74: =F74+H74+J74 -> 0 | M74: =G74+I74+K74 -> 0
B76: 소 계 | G76: =SUM(G70:G75) -> 0 | I76: =SUM(I70:I75) -> 0 | K76: =SUM(K70:K75) -> 0 | M76: =SUM(M70:M75) -> 0
B78: 1-2.철거공사
B79: =일위목록!B20 -> 흡음텍스 해체 | C79: =일위목록!C20 -> 0 | D79: =일위목록!D20 -> M2 | E79: 1 | F79: =일위목록!G20 -> 0 | G79: =TRUNC(F79*E79) -> 0 | H79: =일위목록!I20 -> 0 | I79: =TRUNC(H79*E79) -> 0 | L79: =F79+H79+J79 -> 0 | M79: =G79+I79+K79 -> 0
B81: 소 계 | G81: =SUM(G79:G80) -> 0 | I81: =SUM(I79:I80) -> 0 | K81: =SUM(K79:K80) -> 0 | M81: =SUM(M79:M80) -> 0
B83: 1-3.보수공사
B84: =일위목록!B7 -> 비닐보양 | D84: =일위목록!D7 -> M2 | E84: 1 | F84: =일위목록!G7 -> 0 | G84: =TRUNC(F84*E84) -> 0 | H84: =일위목록!I7 -> 0 | I84: =TRUNC(H84*E84) -> 0 | L84: =F84+H84+J84 -> 0 | M84: =G84+I84+K84 -> 0
B85: =일위목록!B46 -> LINE PUTTY | C85: =일위목록!C46 -> 석고보드,벽체 | D85: =일위목록!D46 -> M2 | E85: 1 | F85: =일위목록!G46 -> 0 | G85: =TRUNC(F85*E85) -> 0 | H85: =일위목록!I46 -> 0 | I85: =TRUNC(H85*E85) -> 0 | L85: =F85+H85+J85 -> 0 | M85: =G85+I85+K85 -> 0
B86: =일위목록!B50 -> 수성페인트 | C86: =일위목록!C50 -> 벽체, 2회 | D86: =일위목록!D50 -> M2 | E86: 1 | F86: =일위목록!G50 -> 0 | G86: =TRUNC(F86*E86) -> 0 | H86: =일위목록!I50 -> 0 | I86: =TRUNC(H86*E86) -> 0 | L86: =F86+H86+J86 -> 0 | M86: =G86+I86+K86 -> 0
B87: =일위목록!B30 -> 마이톤 취부 | C87: =일위목록!C28 -> 12.5T 300*600 | D87: =일위목록!D30 -> M2 | E87: 1 | F87: =일위목록!G28 -> 0 | G87: =TRUNC(F87*E87) -> 0 | H87: =일위목록!I28 -> 0 | I87: =TRUNC(H87*E87) -> 0 | L87: =F87+H87+J87 -> 0 | M87: =G87+I87+K87 -> 0
B88: =일위목록!B35 -> 인테리어필름붙이기 | C88: =일위목록!C35 -> LX Z:IN 0.42*폭1220mm RS/CW 우드 | D88: =일위목록!D35 -> M2 | E88: 1 | F88: =일위목록!G35 -> 0 | G88: =TRUNC(F88*E88) -> 0 | I88: =TRUNC(H88*E88) -> 0 | L88: =F88+H88+J88 -> 0 | M88: =G88+I88+K88 -> 0
B90: 소 계 | G90: =SUM(G84:G89) -> 0 | I90: =SUM(I84:I89) -> 0 | K90: =SUM(K84:K89) -> 0 | M90: =SUM(M84:M89) -> 0
A101: 2 | B101: 3층 원상복구공사
B102: 2-1.가설공사 | D102: 식 | E102: 1 | G102: =G141 -> 0 | I102: =I141 -> 0 | K102: =K141 -> 0 | M102: =M141 -> 0
B103: 2-2.철거공사 | D103: 식 | E103: 1 | G103: =G151 -> 0 | I103: =I151 -> 0 | K103: =K151 -> 0 | M103: =M151 -> 0
B104: 2-3.바닥공사 | D104: 식 | E104: 1 | G104: =G158 -> 0 | I104: =I158 -> 0 | K104: =K158 -> 0 | M104: =M158 -> 0
B105: 2-4.벽체공사 | D105: 식 | E105: 1 | G105: =G171 -> 0 | I105: =I171 -> 0 | K105: =K171 -> 0 | M105: =M171 -> 0
B106: 2-5.천정공사 | D106: 식 | E106: 1 | G106: =G177 -> 0 | I106: =I177 -> 0 | K106: =K177 -> 0 | M106: =M177 -> 0
B107: 2-6.전기공사 | D107: 식 | E107: 1 | G107: =G184 -> 0 | I107: =I184 -> 0 | K107: =K184 -> 0 | M107: =M184 -> 0
B108: 2-7.소방공사 | D108: 식 | E108: 1 | G108: =G192 -> 0 | I108: =I192 -> 0 | K108: =K192 -> 0 | M108: =M192 -> 0
B109: 2-8.폐기물처리비 | D109: 식 | E109: 1 | K109: =K198 -> 0 | M109: =M198 -> 0
B113: 합 계 | G113: =SUM(G101:G108) -> 0 | I113: =SUM(I101:I108) -> 0 | K113: =SUM(K101:K108) -> 0 | M113: =SUM(M101:M108) -> 0
B133: 2-1.가설공사
...

Sheet 일위목록
A1: NO | B1: 품 명 | C1: 규 격 | D1: 단위 | E1: 수량 | F1: 재 료 비 | H1: 노 무 비 | J1: 합 계
F2: 단 가 | G2: 금 액 | H2: 단 가 | I2: 금 액 | J2: 단 가 | K2: 금 액
B3: 일 위 목 록 표
B4: 가설공사
A5: 일위-1 | B5: =일위대가서!E3 -> 건축물 현장정리 | C5: =일위대가서!G3 -> 목조,조적조 | D5: =일위대가서!H3 -> M2 | E5: 1 | G5: =일위대가서!K8 -> 0 | I5: =일위대가서!M8 -> 0 | K5: =G5+I5 -> 0
A6: 일위-2 | B6: =일위대가서!E11 -> 현장보양 | C6: =일위대가서!G11 -> 플라스틱골판지 4T | D6: =일위대가서!H11 -> M2 | E6: 1 | G6: =일위대가서!K18 -> 0 | I6: =일위대가서!M18 -> 0 | K6: =G6+I6 -> 0
A7: 일위-3 | B7: 비닐보양 | D7: =일위대가서!H21 -> M2 | E7: 1 | G7: =일위대가서!K28 -> 0 | I7: =일위대가서!M28 -> 0 | K7: =G7+I7 -> 0
A8: 일위-4 | B8: 이동식 강관조립말비계 | C8: =일위대가서!G31 -> 3개월 1단(2M) | D8: 대 | E8: 1 | G8: =일위대가서!K47 -> 0 | I8: =일위대가서!M47 -> 0 | K8: =G8+I8 -> 0
A9: 일위-5 | B9: 자재 소운반 | D9: M2 | E9: 1 | G9: =일위대가서!K55 -> 0 | I9: =일위대가서!M55 -> 0 | K9: =G9+I9 -> 0
A10: 일위-6 | B10: 준공청소 | D10: M2 | E10: 1 | G10: =일위대가서!K67 -> 0 | I10: =일위대가서!M67 -> 0 | K10: =G10+I10 -> 0
B13: 철거공사
A14: 일위-11 | B14: 바닥재철거 | C14: P-TILE | D14: M2 | E14: 1 | G14: 0 | I14: =일위대가서!M76 -> 0 | K14: =G14+I14 -> 0
A15: 일위-12 | B15: =일위대가서!E79 -> SGP 칸막이 철거 | D15: M2 | E15: 1 | G15: =일위대가서!K85 -> 0 | I15: =일위대가서!M85 -> 0 | K15: =G15+I15 -> 0
A16: 일위-13 | B16: 경량벽체철골틀 해체 | D16: M2 | E16: 1 | G16: =일위대가서!K95 -> 0 | I16: =일위대가서!M95 -> 0 | K16: =G16+I16 -> 0
A17: 일위-14 | B17: 석고보드 해체 | C17: 벽체 | D17: M2 | E17: 1 | G17: =일위대가서!K105 -> 0 | I17: =일위대가서!M105 -> 0 | K17: =G17+I17 -> 0
A18: 일위-15 | B18: 창호유리철거 | D18: M2 | E18: 1 | G18: 0 | I18: =일위대가서!M114 -> 0 | K18: =G18+I18 -> 0
A19: 일위-16 | B19: 경량철골천정틀 해체 | D19: M2 | E19: 1 | G19: =일위대가서!K124 -> 0 | I19: =일위대가서!M124 -> 0 | K19: =G19+I19 -> 0
A20: 일위-17 | B20: 흡음텍스 해체 | D20: M2 | E20: 1 | G20: 0 | I20: =일위대가서!M133 -> 0 | K20: =G20+I20 -> 0
A21: 일위-18 | B21: =일위대가서!E136 -> 재도장시 바탕처리 | C21: =일위대가서!G136 -> 콘크리트면/모르타르면 | D21: M2 | E21: 1 | G21: =일위대가서!K143 -> 0 | I21: =일위대가서!M143 -> 0 | K21: =G21+I21 -> 0
A22: 일위-19 | B22: =일위대가서!E146 -> 재도장시 바탕처리 | C22: =일위대가서!G146 -> 철재면 | D22: =일위대가서!H146 -> M2 | E22: 1 | G22: =일위대가서!K153 -> 0 | I22: =일위대가서!M153 -> 0 | K22: =G22+I22 -> 0
B25: 경량공사
A26: 일위-21 | B26: 석고보드붙이기(일면) | C26: 나사고정 9.5MM, 1PLY | D26: M2 | E26: 1 | G26: =일위대가서!K165 -> 0 | I26: =일위대가서!M165 -> 0 | K26: =G26+I26 -> 0
A27: 일위-22 | B27: 석고보드붙이기(일면) | C27: 나사고정 9.5MM, 2PLY | D27: M2 | E27: 1 | G27: =일위대가서!K178 -> 0 | I27: =일위대가서!M178 -> 0 | K27: =G27+I27 -> 0
A28: 일위-23 | B28: 마이톤 취부 | C28: 12.5T 300*600 | D28: M2 | E28: 1 | G28: =일위대가서!K191 -> 0 | I28: =일위대가서!M191 -> 0 | K28: =G28+I28 -> 0
A29: 일위-24 | B29: 경량철골천정틀 | C29: TH-BAR | D29: M2 | E29: 1 | G29: =일위대가서!K211 -> 0 | I29: =일위대가서!M211 -> 0 | K29: =G29+I29 -> 0
A30: 일위-25 | B30: 마이톤 취부 | C30: =일위대가서!G214 -> 15T*300*1200, TH-BAR용 | D30: M2 | E30: 1 | G30: =일위대가서!K224 -> 0 | I30: =일위대가서!M224 -> 0 | K30: =G30+I30 -> 0
B33: 수장공사
A34: 일위-31 | B34: 디럭스타일 마감 | C34: 3.0T 450*450 | D34: M2 | E34: 1 | G34: =일위대가서!K235 -> 0 | I34: =일위대가서!M235 -> 0 | K34: =G34+I34 -> 0
A35: 일위-32 | B35: =일위대가서!E238 -> 인테리어필름붙이기 | C35: =일위대가서!G238 -> LX Z:IN 0.42*폭1220mm RS/CW 우드 | D35: =일위대가서!H238 -> M2 | E35: 1 | G35: =일위대가서!K243 -> 0 | I35: =일위대가서!M243 -> 0 | K35: =G35+I35 -> 0
A36: 일위-33 | B36: 암막 롤블라인드 | C36: 방염 | D36: M2 | E36: 1 | G36: =일위대가서!K255 -> 0 | I36: =일위대가서!M255 -> 0 | K36: =G36+I36 -> 0
B39: 창호 및 유리공사
A40: 일위-41 | B40: =일위대가서!E258 -> 알루미늄창호(프로젝트창) | C40: =일위대가서!G258 -> 1500*600,120mm | D40: =일위대가서!H258 -> 개소 | E40: 1 | G40: =일위대가서!K269 -> 0 | I40: =일위대가서!M269 -> 0 | K40: =G40+I40 -> 0
A41: 일위-42 | B41: 유리코킹 | C41: 10*10 | D41: M | E41: 1 | G41: =일위대가서!K279 -> 0 | I41: =일위대가서!M279 -> 0 | K41: =G41+I41 -> 0
A42: 일위-43 | B42: =일위대가서!E282 -> 복층유리끼우고닦기 | C42: =일위대가서!G282 -> 24MM이하 | D42: =일위대가서!H282 -> M2 | E42: 1 | G42: =일위대가서!K288 -> 0 | I42: =일위대가서!M288 -> 0 | K42: =G42+I42 -> 0
B45: 도장공사
A46: 일위-51 | B46: LINE PUTTY | C46: 석고보드,벽체 | D46: M2 | E46: 1 | G46: =일위대가서!K301 -> 0 | I46: =일위대가서!M301 -> 0 | K46: =G46+I46 -> 0
A47: 일위-52 | B47: =일위대가서!E304 -> LINE PUTTY | C47: =일위대가서!G304 -> 석고보드,천정 | D47: =일위대가서!H304 -> M2 | E47: 1 | G47: =일위대가서!K314 -> 0 | I47: =일위대가서!M314 -> 0 | K47: =G47+I47 -> 0
A48: 일위-53 | B48: 조합페인트 | C48: =일위대가서!G317 -> 철재면2회 붓칠, 벽체 | D48: M2 | E48: 1 | G48: =일위대가서!K326 -> 0 | I48: =일위대가서!M326 -> 0 | K48: =G48+I48 -> 0
A49: 일위-54 | B49: 수성페인트 | C49: 천정, 2회 | D49: M2 | E49: 1 | G49: =일위대가서!K339 -> 0 | I49: =일위대가서!M339 -> 0 | K49: =G49+I49 -> 0
A50: 일위-55 | B50: 수성페인트 | C50: 벽체, 2회 | D50: M2 | E50: 1 | G50: =일위대가서!K352 -> 0 | I50: =일위대가서!M352 -> 0 | K50: =G50+I50 -> 0
...

Sheet 일위대가서
C1: 일 위 대 가
B2: 절대지우지마세요
B3: 건축물 현장정리목조,조적조 | C3: 일위 1 호표 | E3: 건축물 현장정리 | G3: 목조,조적조 | H3: M2 | K3: =K8 -> 0 | M3: =M8 -> 0 | O3: =O8 -> 0
C4: 공종 | G4: 규격 | H4: 단위 | I4: 수량 | J4: 자재비 | L4: 노무비 | N4: 경비 | P4: 비고
J5: 단가 | K5: 금액 | L5: 단가 | M5: 금액 | N5: 단가 | O5: 금액
B6: 보통인부목조,조적조 | D6: 보통인부 | G6: 목조,조적조 | H6: 인 | I6: 0 | K6: =INT($I6*J6) -> 0 | L6: 0 | M6: =INT(I6*L6) -> 0 | O6: =ROUND($I6*N6,0) -> 0
C8: 소계 | K8: =SUM(K6:K7) -> 0 | M8: =SUM(M6:M7) -> 0 | O8: =SUM(O6:O7) -> 0
B11: 현장보양플라스틱골판지 4T | C11: 일위 2 호표 | E11: 현장보양 | G11: 플라스틱골판지 4T | H11: M2 | K11: =K18 -> 0 | M11: =M18 -> 0 | O11: =O18 -> 0
C12: 공종 | G12: 규격 | H12: 단위 | I12: 수량 | J12: 자재비 | L12: 노무비 | N12: 경비 | P12: 비고
J13: 단가 | K13: 금액 | L13: 단가 | M13: 금액 | N13: 단가 | O13: 금액
B14: 플라스틱 골판지1800*900*4T | D14: 플라스틱 골판지 | G14: 1800*900*4T | H14: M2 | I14: 0 | J14: 0 | K14: =INT($I14*J14) -> 0 | M14: 0 | O14: 0
D15: 접착테이프 | H15: M | I15: 0 | J15: 0 | K15: =INT(I15*J15) -> 0
B16: 보통인부 | D16: 보통인부 | H16: 인 | I16: 0 | K16: =ROUND($I16*J16,0) -> 0 | L16: 0 | M16: =INT(I16*L16) -> 0 | O16: 0
C18: 소계 | K18: =SUM(K14:K17) -> 0 | M18: =SUM(M14:M17) -> 0 | O18: =SUM(O16:O17) -> 0
B21: 비닐보양 | C21: 일위 3 호표 | E21: 비닐보양 | H21: M2 | K21: =K28 -> 0 | M21: =M28 -> 0 | O21: =O28 -> 0
C22: 공종 | G22: 규격 | H22: 단위 | I22: 수량 | J22: 자재비 | L22: 노무비 | N22: 경비 | P22: 비고
J23: 단가 | K23: 금액 | L23: 단가 | M23: 금액 | N23: 단가 | O23: 금액
B24: PE필름0.1*120*91 | D24: PE필름 | G24: 0.1*120*91 | H24: M2 | I24: 0 | J24: 0 | K24: =INT($I24*J24) -> 0 | M24: =ROUND($I24*L24,0) -> 0 | O24: =ROUND($I24*N24,0) -> 0
D25: 접착테이프 | H25: M | I25: 0 | J25: 0 | K25: =INT(I25*J25) -> 0
B26: 보통인부 | D26: 보통인부 | H26: 인 | I26: 0 | K26: =ROUND($I26*J26,0) -> 0 | L26: 0 | M26: =INT(I26*L26) -> 0 | O26: =ROUND($I26*N26,0) -> 0
C28: 소계 | K28: =SUM(K24:K27) -> 0 | M28: =SUM(M24:M27) -> 0 | O28: =SUM(O26:O27) -> 0
B31: 이동식 강관조립말비계3개월 1단(2M) | C31: 일위 4 호표 | E31: 이동식 강관조립말비계 | G31: 3개월 1단(2M) | H31: 대 | K31: =K47 -> 0 | M31: =M47 -> 0 | O31: =O47 -> 0
C32: 공종 | G32: 규격 | H32: 단위 | I32: 수량 | J32: 자재비 | L32: 노무비 | N32: 경비 | P32: 비고
J33: 단가 | K33: 금액 | L33: 단가 | M33: 금액 | N33: 단가 | O33: 금액
B34: 비계파이프 D48.6*2.3MML=6.0M | D34: 비계파이프 D48.6*2.3MM | G34: L=6.0M | H34: M | I34: 0 | J34: 0 | K34: =INT($I34*J34) -> 0 | M34: 0 | O34: =ROUND($I34*N34,0) -> 0
B35: 가세틀1219*1820 | D35: 가세틀 | G35: 1219*1820 | H35: 조 | I35: 0 | J35: 0 | K35: =INT($I35*J35) -> 0 | M35: 0 | O35: =ROUND($I35*N35,0) -> 0
B36: 수평틀1050*1820 | D36: 수평틀 | G36: 1050*1820 | H36: 개 | I36: 0 | J36: 0 | K36: =INT($I36*J36) -> 0 | M36: 0 | O36: =ROUND($I36*N36,0) -> 0
B37: 손잡이기둥H=1,219 | D37: 손잡이기둥 | G37: H=1,219 | H37: 개 | I37: 0 | J37: 0 | K37: =INT($I37*J37) -> 0 | M37: 0 | O37: =ROUND($I37*N37,0) -> 0
B38: 손잡이L=1,219 | D38: 손잡이 | G38: L=1,219 | H38: 개 | I38: 0 | J38: 0 | K38: =INT($I38*J38) -> 0 | M38: 0 | O38: =ROUND($I38*N38,0) -> 0
B39: 손잡이L=1,829 | D39: 손잡이 | G39: L=1,829 | H39: 개 | I39: 0 | J39: 0 | K39: =INT($I39*J39) -> 0 | M39: 0 | O39: =ROUND($I39*N39,0) -> 0
B40: 바퀴6", 중하중용 TP 6640-01 | D40: 바퀴 | G40: 6", 중하중용 TP 6640-01 | H40: 개 | I40: 0 | J40: 0 | K40: =INT($I40*J40) -> 0 | M40: 0 | O40: =ROUND($I40*N40,0) -> 0
B41: 작키베이스(받침쇠)36∮*406 | D41: 작키베이스(받침쇠) | G41: 36∮*406 | H41: 개 | I41: 0 | J41: 0 | K41: =INT($I41*J41) -> 0 | M41: 0 | O41: =ROUND($I41*N41,0) -> 0
B42: 발판(P.S.P)3*400*3000 | D42: 발판(P.S.P) | G42: 3*400*3000 | H42: 개 | I42: 0 | J42: 0 | K42: =INT($I42*J42) -> 0 | M42: 0 | O42: =ROUND($I42*N42,0) -> 0
B43: 비계공 | D43: 비계공 | H43: 인 | I43: 0 | J43: 0 | K43: =INT($I43*J43) -> 0 | L43: 0 | M43: =INT(I43*L43) -> 0 | O43: =ROUND($I43*N43,0) -> 0
D44: 보통인부 | H44: 인 | I44: 0 | K44: =INT($I44*J44) -> 0 | L44: 0 | M44: =INT(I44*L44) -> 0 | O44: =ROUND($I44*N44,0) -> 0
D45: 공구손료 | G45: 노무비의 6% | H45: 식 | I45: 0 | J45: 0 | K45: =INT($I45*J45) -> 0 | M45: =INT(I45*L45) -> 0 | O45: =ROUND($I45*N45,0) -> 0
C47: 소계 | K47: =SUM(K34:K45) -> 0 | M47: =SUM(M34:M44) -> 0 | O47: =SUM(O35:O44) -> 0
B50: 자재소운반 | C50: 일위 5 호표 | E50: 자재소운반 | H50: M2 | K50: =K55 -> 0 | M50: =M55 -> 0 | O50: =O55 -> 0
C51: 공종 | G51: 규격 | H51: 단위 | I51: 수량 | J51: 자재비 | L51: 노무비 | N51: 경비 | P51: 비고
J52: 단가 | K52: 금액 | L52: 단가 | M52: 금액 | N52: 단가 | O52: 금액
...

Sheet 단가표
B3: 품명 | C3: 규격 | E3: 단위 | F3: 물가자료 | G3: 페이지 | I3: 물가정보 | J3: 페이지 | O3: 시중조사가격 | P3: 적용단가
D4: ★★ 절대 지우지 마세요 ★★
B7: [가설재] | D7: [가설재]
B8: PE필름 | C8: 0.1*120*91 | D8: PE필름0.1*120*91 | E8: M2
B9: PVC필름 | C9: 비닐/엠보시트0.3mm*120*50 | E9: M2
B10: 마대자루 | C10: 60cm*100 | D10: 마대자루60cm*100 | E10: EA
B11: 랜드글라스크리너 | C11: 유리세척제 | D11: 랜드글라스크리너유리세척제 | E11: L
B12: 랜드101 | C12: 스테인레스광택제 | D12: 랜드101스테인레스광택제 | E12: L
B13: 왁스 | C13: 랜드샤인(아스타일용) | D13: 왁스랜드샤인(아스타일용) | E13: L
B14: 러그익스트랙션 | C14: 카페트전용세제 | D14: 러그익스트랙션카페트전용세제 | E14: L
B15: 빗자루 | C15: 일반용 | D15: 빗자루일반용 | E15: EA
B16: 마포걸레 | C16: 걸레2자,자루포함 | D16: 마포걸레걸레2자,자루포함 | E16: EA
B17: 고무장갑 | C17: 대 | D17: 고무장갑대 | E17: EA
B18: 수세미 | C18: SL-135 | D18: 수세미SL-135 | E18: 조
B19: 리스킹걸레 | C19: FM105CM | D19: 리스킹걸레FM105CM | E19: SET
B20: 비계파이프 D48.6*2.3MM | C20: L=6.0M | D20: 비계파이프 D48.6*2.3MML=6.0M | E20: M
B21: 비계파이프 D48.6*2.3MM | C21: L=3.0M | E21: M
B22: 연결핀 | C22: 48.6MM용 | D22: 연결핀48.6MM용 | E22: 개
B23: 크램프 | C23: 직경 48*48용 | D23: 크램프직경 48*48용 | E23: 개
B24: 받침철물 | C24: B.R 48*48용 | D24: 받침철물B.R 48*48용 | E24: 개
B25: 수직문형지주 | C25: W:1,219*H:1,700M | D25: 수직문형지주W:1,219*H:1,700M | E25: 개
B26: 작키베이스(받침쇠) | C26: 36∮*406 | D26: 작키베이스(받침쇠)36∮*406 | E26: 개
B27: 가세틀 | C27: 1219*1820 | D27: 가세틀1219*1820 | E27: 개
B28: 수평틀 | C28: 1050*1820 | D28: 수평틀1050*1820 | E28: 개
B29: 발판(P.S.P) | C29: 250*3000 50m/m | D29: 발판(P.S.P)250*3000 50m/m | E29: ea
B30: 손잡이기둥 | C30: H=1,219 | D30: 손잡이기둥H=1,219 | E30: 개
B31: 손잡이 | C31: L=1,219 | D31: 손잡이L=1,219 | E31: 개
B32: 손잡이 | C32: L=1,829 | D32: 손잡이L=1,829 | E32: 개
B33: 바퀴 | C33: 6", 중하중용 TP 6640 | D33: 바퀴6", 중하중용 TP 6640 | E33: 개
... B35: 플라스틱 골판지 | C35: 1800*900*4T | D35: 플라스틱 골판지1800*900*4T | E35: ㎡
B38: [유리제품] | D38: [유리제품]
B39: 투명복층유리 | C39: 24mm (5+14+5) | E39: M2
B40: 넝마 | C40: 면90%이상 상급제품 | D40: 넝마면90%이상 상급제품 | E40: KG
B41: 가루분 | D41: 가루분 | E41: KG
B43: 글라스실란트 | C43: 유리용300ml | D43: 글라스실란트유리용300ml | E43: L
B44: 글라스실란트 | C44: 복층유리용500ml | E44: L
B46: [창호제품]
B47: 프로젝트창 | C47: 85mm | E47: M2
B50: [단열제품]
B51: SGP칸막이 철거 | E51: M2
...
