Workbook
Name ㄷㄷ: #REF!

Sheet 표지
A7: 2026년 기상기업성장지원센터(진양빌딩) 원상복구 공사

Sheet 원가계산
A1: 공사명 : 2026년 기상기업성장지원센터(진양센터) 원상복구 공사
A2: 비 목 | D2: 금 액 | G2: 구 성 비 | L2: 비 고
B3: 재 | C3: 직 접 재 료 비 | E3: =견적서!G10 -> 0
B4: 료 | C4: 간 접 재 료 비
B5: 비 | C5: 작 업 설 , 부 산 물 등 (△)
A6: 순 | C6: [ 소 계 ] | E6: =SUM(E3:E5) -> 0
B7: 노 | C7: 직 접 노 무 비 | E7: =견적서!I10 -> 0
B8: 무 | C8: 간 접 노 무 비 | E8: =INT(E7*I8) -> 0 | G8: 직접노무비 | H8: × | I8: 0.175
A9: 공 | B9: 비 | C9: [ 소 계 ] | E9: =SUM(E7:E8) -> 0
C10: 기 계 경 비 | E10: =견적서!K10 -> 0
A11: 사 | B11: 경 | C11: 산 재 보 험 료 | E11: =INT(E9*I11) -> 0 | G11: 노무비 | H11: × | I11: 0.0356
C12: 고 용 보 험 료 | E12: =INT(E9*I12) -> 0 | G12: 노무비 | H12: × | I12: 0.0101
C13: 건 강 보 험 료 | E13: =INT(E7*I13)*0 -> 0 | G13: 직접노무비 | H13: × | I13: 0.03595
A14: 원 | C14: 연 금 보 험 료 | E14: =INT(E7*I14)*0 -> 0 | G14: 직접노무비 | H14: × | I14: 0.0475
C15: 노 인 장 기 요 양 보 험 료 | E15: =INT(E13*I15) -> 0 | G15: 건강보험료 | H15: × | I15: 0.1314
C16: 퇴 직 공 제 부 금 비 | E16: =INT(E7*I16) -> 0 | G16: 직접노무비 | H16: × | I16: 0.023
C17: 산 업 안 전 보 건 관 리 비 | E17: =INT((E6+E7)*I17) -> 0 | G17: (재+직노+관급) | H17: × | I17: 0.0311
A18: 가 | B18: 비 | C18: 기 타 경 비 | E18: =INT((E3+E7)*I18) -> 0 | G18: (재료비+노무비) | H18: × | I18: 0.05
C19: 환 경 보 전 비 | E19: =INT((E6+E7)*I19) -> 0 | G19: (재+직노+기계경비) | H19: × | I19: 0.003
C20: 건설하도급대금지급보증서발급수수료 | E20: =INT(E3+E7+E10)*I20*0 -> 0 | G20: (직재+직노+기계경비) | H20: × | I20: 0.0007
C21: 건설기계대여대금지급보증서발급수수료 | E21: =INT(E3+E7+E10)*I21*0 -> 0 | G21: (직재+직노+기계경비) | H21: × | I21: 0.00081
C22: [ 소 계 ] | E22: =SUM(E10:E21) -> 0
B23: 계 | E23: =E6+E9+E22 -> 0
A24: 일 반 관 리 비 | E24: =INT(E23*I24) -> 0 | G24: 계 | H24: × | I24: 0.07
A25: 이 윤 | E25: =INT((E9+E22+E24)*I25) -> 0 | G25: (노무비+경비+일관) | H25: × | I25: 0.1
A26: 건 설 폐 기 물 처 리 비 | E26: =견적서!K109 -> 0 | G26: 폐기물반출 | H26: x
A27: 공 급 가 액 | E27: =ROUNDDOWN((E26+E25+E24+E23),-5) -> 0
A28: 부 가 가 치 세 | E28: =E27*10% -> 0 | G28: 공급가액 | H28: × | I28: 0.1
A29: [총 공 사 비] | E29: =E28+E27 -> 0

Sheet 견적서
A1: 공사명 : 한국기상정보기술원 진양센터 원상복구공사
A2: 구분 | B2: 품 명 | C2: 규 격 | D2: 단위 | E2: 수량 | F2: 재 료 비 | H2: 노 무 비 | J2: 경 비 | L2: 합 계
F3: 단 가 | G3: 금 액 | H3: 단 가 | I3: 금 액 | J3: 단 가 | K3: 금 액 | L3: 단 가 | M3: 금 액
A4: A | B4: 건축공사
A5: 1 | B5: 1층 원상복구공사 | D5: 식 | E5: 1 | G5: =G44 -> 0 | I5: =I44 -> 0 | K5: =K44 -> 0 | L5: =L44 -> 0 | M5: =M44 -> 0
A6: 2 | B6: 3층 원상복구공사 | D6: 식 | E6: 1 | G6: =G113 -> 0 | I6: =I113 -> 0 | K6: =K113 -> 0 | M6: =M113 -> 0
B10: 합 계 | G10: =SUM(G4:G9) -> 0 | I10: =SUM(I4:I9) -> 0 | K10: =SUM(K4:K9) -> 0 | M10: =SUM(M4:M9) -> 0
A37: 1 | B37: 1층 원상복구공사
B38: 1-1.가설공사 | D38: 식 | E38: 1 | G38: =G76 -> 0 | I38: =I76 -> 0 | K38: =K76 -> 0 | L38: =L76 -> 0 | M38: =M76 -> 0
B39: 1-2.철거공사 | D39: 식 | E39: 1 | G39: =G81 -> 0 | I39: =I81 -> 0 | K39: =K81 -> 0 | L39: =L81 -> 0 | M39: =M81 -> 0
B40: 1-3.보수공사 | D40: 식 | E40: 1 | G40: =G90 -> 0 | I40: =I90 -> 0 | K40: =K90 -> 0 | L40: =L82 -> 0 | M40: =M90 -> 0
B44: 합 계 | G44: =SUM(G38:G43) -> 0 | I44: =SUM(I38:I43) -> 0 | K44: =SUM(K38:K43) -> 0 | M44: =SUM(M38:M43) -> 0
B69: 1-1.가설공사
B70: 건축물 현장정리 | C70: 목조,조적조 | D70: M2 | E70: 1 | F70: =일위목록!G5 -> 0 | G70: =TRUNC(F70*E70) -> 0 | H70: =일위목록!I5 -> 0 | I70: =TRUNC(H70*E70) -> 0 | L70: =F70+H70+J70 -> 0 | M70: =G70+I70+K70 -> 0
B71: 바닥보양 | C71: 플라스틱골판지 4T | D71: M2 | E71: 1 | F71: =일위목록!G6 -> 0 | G71: =TRUNC(F71*E71) -> 0 | H71: =일위목록!I6 -> 0 | I71: =TRUNC(H71*E71) -> 0 | L71: =F71+H71+J71 -> 0 | M71: =G71+I71+K71 -> 0
B72: 이동식 강관조립말비계 | C72: 3개월 1단(2M) | D72: 대 | E72: 1 | F72: =일위목록!G8 -> 0 | G72: =TRUNC(F72*E72) -> 0 | H72: =일위목록!I8 -> 0 | I72: =TRUNC(H72*E72) -> 0 | L72: =F72+H72+J72 -> 0 | M72: =G72+I72+K72 -> 0
B73: 자재 소운반 | D73: M2 | E73: 1 | F73: =일위목록!G9 -> 0 | G73: =TRUNC(F73*E73) -> 0 | H73: =일위목록!I9 -> 0 | I73: =TRUNC(H73*E73) -> 0 | L73: =F73+H73+J73 -> 0 | M73: =G73+I73+K73 -> 0
B74: 준공청소 | D74: M2 | E74: 1 | F74: =일위목록!G10 -> 0 | G74: =TRUNC(F74*E74) -> 0 | H74: =일위목록!I10 -> 0 | I74: =TRUNC(H74*E74) -> 0 | L74: =F74+H74+J74 -> 0 | M74: =G74+I74+K74 -> 0
B76: 소 계 | G76: =SUM(G70:G75) -> 0 | I76: =SUM(I70:I75) -> 0 | K76: =SUM(K70:K75) -> 0 | M76: =SUM(M70:M75) -> 0
B78: 1-2.철거공사
B79: =일위목록!B20 -> 흡음텍스 해체 | C79: =일위목록!C20 -> 0 | D79: =일위목록!D20 -> M2 | E79: 1 | F79: =일위목록!G20 -> 0 | G79: =TRUNC(F79*E79) -> 0 | H79: =일위목록!I20 -> 0 | I79: =TRUNC(H79*E79) -> 0 | L79: =F79+H79+J79 -> 0 | M79: =G79+I79+K79 -> 0
B81: 소 계 | G81: =SUM(G79:G80) -> 0 | I81: =SUM(I79:I80) -> 0 | K81: =SUM(K79:K80) -> 0 | M81: =SUM(M79:M80) -> 0
B83: 1-3.보수공사
B84: =일위목록!B7 -> 비닐보양 | D84: =일위목록!D7 -> M2 | E84: 1 | F84: =일위목록!G7 -> 0 | G84: =TRUNC(F84*E84) -> 0 | H84: =일위목록!I7 -> 0 | I84: =TRUNC(H84*E84) -> 0 | L84: =F84+H84+J84 -> 0 | M84: =G84+I84+K84 -> 0
B85: =일위목록!B46 -> LINE PUTTY | C85: =일위목록!C46 -> 석고보드,벽체 | D85: =일위목록!D46 -> M2 | E85: 1 | F85: =일위목록!G46 -> 0 | G85: =TRUNC(F85*E85) -> 0 | H85: =일위목록!I46 -> 0 | I85: =TRUNC(H85*E85) -> 0 | L85: =F85+H85+J85 -> 0 | M85: =G85+I85+K85 -> 0
B86: =일위목록!B50 -> 수성페인트 | C86: =일위목록!C50 -> 벽체, 2회 | D86: =일위목록!D50 -> M2 | E86: 1 | F86: =일위목록!G50 -> 0 | G86: =TRUNC(F86*E86) -> 0 | H86: =일위목록!I50 -> 0 | I86: =TRUNC(H86*E86) -> 0 | L86: =F86+H86+J86 -> 0 | M86: =G86+I86+K86 -> 0
B87: =일위목록!B30 -> 마이톤 취부 | C87: =일위목록!C28 -> 12.5T 300*600 | D87: =일위목록!D30 -> M2 | E87: 1 | F87: =일위목록!G28 -> 0 | G87: =TRUNC(F87*E87) -> 0 | H87: =일위목록!I28 -> 0 | I87: =TRUNC(H87*E87) -> 0 | L87: =F87+H87+J87 -> 0 | M87: =G87+I87+K87 -> 0
B88: =일위목록!B35 -> 인테리어필름붙이기 | C88: =일위목록!C35 -> LX Z:IN 0.42*폭1220mm RS/CW 우드 | D88: =일위목록!D35 -> M2 | E88: 1 | F88: =일위목록!G35 -> 0 | G88: =TRUNC(F88*E88) -> 0 | I88: =TRUNC(H88*E88) -> 0 | L88: =F88+H88+J88 -> 0 | M88: =G88+I88+K88 -> 0
B90: 소 계 | G90: =SUM(G84:G89) -> 0 | I90: =SUM(I84:I89) -> 0 | K90: =SUM(K84:K89) -> 0 | M90: =SUM(M84:M89) -> 0
A101: 2 | B101: 3층 원상복구공사
B102: 2-1.가설공사 | D102: 식 | E102: 1 | G102: =G141 -> 0 | I102: =I141 -> 0 | K102: =K141 -> 0 | M102: =M141 -> 0
B103: 2-2.철거공사 | D103: 식 | E103: 1 | G103: =G151 -> 0 | I103: =I151 -> 0 | K103: =K151 -> 0 | M103: =M151 -> 0
B104: 2-3.바닥공사 | D104: 식 | E104: 1 | G104: =G158 -> 0 | I104: =I158 -> 0 | K104: =K158 -> 0 | M104: =M158 -> 0
B105: 2-4.벽체공사 | D105: 식 | E105: 1 | G105: =G171 -> 0 | I105: =I171 -> 0 | K105: =K171 -> 0 | M105: =M171 -> 0
B106: 2-5.천정공사 | D106: 식 | E106: 1 | G106: =G177 -> 0 | I106: =I177 -> 0 | K106: =K177 -> 0 | M106: =M177 -> 0
B107: 2-6.전기공사 | D107: 식 | E107: 1 | G107: =G184 -> 0 | I107: =I184 -> 0 | K107: =K184 -> 0 | M107: =M184 -> 0
B108: 2-7.소방공사 | D108: 식 | E108: 1 | G108: =G192 -> 0 | I108: =I192 -> 0 | K108: =K192 -> 0 | M108: =M192 -> 0
B109: 2-8.폐기물처리비 | D109: 식 | E109: 1 | K109: =K198 -> 0 | M109: =M198 -> 0
B113: 합 계 | G113: =SUM(G101:G108) -> 0 | I113: =SUM(I101:I108) -> 0 | K113: =SUM(K101:K108) -> 0 | M113: =SUM(M101:M108) -> 0
B133: 2-1.가설공사
B134: =일위목록!B5 -> 건축물 현장정리 | C134: =일위목록!C5 -> 목조,조적조 | D134: =일위목록!D5 -> M2 | E134: 0 | F134: =일위목록!G5 -> 0 | G134: =TRUNC(F134*E134) -> 0 | H134: =일위목록!I5 -> 0 | I134: =TRUNC(H134*E134) -> 0 | L134: =F134+H134+J134 -> 0 | M134: =G134+I134+K134 -> 0
B135: =일위목록!B6 -> 현장보양 | C135: =일위목록!C6 -> 플라스틱골판지 4T | D135: =일위목록!D6 -> M2 | E135: 0 | F135: =일위목록!G6 -> 0 | G135: =TRUNC(F135*E135) -> 0 | H135: =일위목록!I6 -> 0 | I135: =TRUNC(H135*E135) -> 0 | L135: =F135+H135+J135 -> 0 | M135: =G135+I135+K135 -> 0
B136: =일위목록!B8 -> 이동식 강관조립말비계 | C136: =일위목록!C8 -> 3개월 1단(2M) | D136: =일위목록!D8 -> 대 | E136: 0 | F136: =일위목록!G8 -> 0 | G136: =TRUNC(F136*E136) -> 0 | H136: =일위목록!I8 -> 0 | I136: =TRUNC(H136*E136) -> 0 | L136: =F136+H136+J136 -> 0 | M136: =G136+I136+K136 -> 0
B137: =일위목록!B9 -> 자재 소운반 | C137: =일위목록!C9 -> 0 | D137: =일위목록!D9 -> M2 | E137: 0 | F137: =일위목록!G9 -> 0 | G137: =TRUNC(F137*E137) -> 0 | H137: =일위목록!I9 -> 0 | I137: =TRUNC(H137*E137) -> 0 | L137: =F137+H137+J137 -> 0 | M137: =G137+I137+K137 -> 0
B138: =단가표!B133 -> 트럭탑재형크레인 | C138: =단가표!C133 -> 10 TON | D138: =단가표!E133 -> 일 | E138: 0 | J138: =단가표!P133 -> 0 | K138: =J138*E138 -> 0 | L138: =F138+H138+J138 -> 0 | M138: =G138+I138+K138 -> 0
B139: =일위목록!B10 -> 준공청소 | C139: =일위목록!C10 -> 0 | D139: =일위목록!D10 -> M2 | E139: 0 | F139: =일위목록!G10 -> 0 | G139: =TRUNC(F139*E139) -> 0 | H139: =일위목록!I10 -> 0 | I139: =TRUNC(H139*E139) -> 0 | L139: =F139+H139+J139 -> 0 | M139: =G139+I139+K139 -> 0
B141: 소 계 | G141: =SUM(G134:G140) -> 0 | I141: =SUM(I134:I140) -> 0 | K141: =SUM(K134:K140) -> 0 | M141: =SUM(M134:M140) -> 0
B143: 2-2.철거공사
B144: =일위목록!B14 -> 바닥재철거 | C144: =일위목록!C14 -> P-TILE | D144: =일위목록!D14 -> M2 | E144: 0 | F144: =일위목록!G14 -> 0 | G144: =TRUNC(F144*E144) -> 0 | H144: =일위목록!I14 -> 0 | I144: =TRUNC(H144*E144) -> 0 | L144: =F144+H144+J144 -> 0 | M144: =G144+I144+K144 -> 0
B145: =일위목록!B15 -> SGP 칸막이 철거 | C145: =일위목록!C15 -> 0 | D145: =일위목록!D16 -> M2 | E145: 0 | F145: =일위목록!G15 -> 0 | G145: =TRUNC(F145*E145) -> 0 | H145: =일위목록!I15 -> 0 | I145: =TRUNC(H145*E145) -> 0 | L145: =F145+H145+J145 -> 0 | M145: =G145+I145+K145 -> 0
B146: =일위목록!B18 -> 창호유리철거 | C146: =일위목록!C18 -> 0 | D146: =일위목록!D17 -> M2 | E146: 0 | F146: =일위목록!G18 -> 0 | G146: =TRUNC(F146*E146) -> 0 | H146: =일위목록!I18 -> 0 | I146: =TRUNC(H146*E146) -> 0 | L146: =F146+H146+J146 -> 0 | M146: =G146+I146+K146 -> 0
B147: =일위목록!B19 -> 경량철골천정틀 해체 | D147: =일위목록!D19 -> M2 | E147: 0 | F147: =일위목록!G19 -> 0 | G147: =TRUNC(F147*E147) -> 0 | H147: =일위목록!I19 -> 0 | I147: =TRUNC(H147*E147) -> 0 | L147: =F147+H147+J147 -> 0 | M147: =G147+I147+K147 -> 0
B148: =일위목록!B20 -> 흡음텍스 해체 | D148: =일위목록!D20 -> M2 | E148: 0 | F148: =일위목록!G20 -> 0 | G148: =TRUNC(F148*E148) -> 0 | H148: =일위목록!I20 -> 0 | I148: =TRUNC(H148*E148) -> 0 | L148: =F148+H148+J148 -> 0 | M148: =G148+I148+K148 -> 0
B149: 집기 및 가구철거 | C149: 보통인부 | D149: 인 | E149: 0 | G149: =TRUNC(F149*E149) -> 0 | H149: =단가표!P172 -> 0 | I149: =TRUNC(H149*E149) -> 0 | L149: =F149+H149+J149 -> 0 | M149: =G149+I149+K149 -> 0
B151: 소 계 | G151: =SUM(G143:G150) -> 0 | I151: =SUM(I143:I150) -> 0 | K151: =SUM(K143:K150) -> 0 | M151: =SUM(M143:M150) -> 0
B153: 2-3.바닥공사
B154: =일위목록!B34 -> 디럭스타일 마감 | C154: =일위목록!C34 -> 3.0T 450*450 | D154: =일위목록!D34 -> M2 | E154: 0 | F154: =일위목록!G34 -> 0 | G154: =TRUNC(F154*E154) -> 0 | H154: =일위목록!I34 -> 0 | I154: =TRUNC(H154*E154) -> 0 | L154: =F154+H154+J154 -> 0 | M154: =G154+I154+K154 -> 0
B155: 바닥왁싱 | C155: P-TILE | D155: M2 | E155: 0 | F155: 0 | G155: =TRUNC(F155*E155) -> 0 | I155: =TRUNC(H155*E155) -> 0 | L155: =F155+H155+J155 -> 0 | M155: =G155+I155+K155 -> 0
B156: =단가표!B95 -> 재료분리대 SST철판(STS304) | C156: =단가표!C95 -> 0 | D156: =단가표!E95 -> M | E156: 0 | F156: =단가표!P95 -> 0 | G156: =TRUNC(F156*E156) -> 0 | I156: =TRUNC(H156*E156) -> 0 | L156: =F156+H156+J156 -> 0 | M156: =G156+I156+K156 -> 0
B158: 소 계 | G158: =SUM(G154:G157) -> 0 | I158: =SUM(I154:I157) -> 0 | K158: =SUM(K154:K157) -> 0 | M158: =SUM(M154:M157) -> 0
B160: 2-4.벽체공사
B161: =일위목록!B7 -> 비닐보양 | C161: =일위목록!C7 -> 0 | D161: =일위목록!D48 -> M2 | E161: 0 | F161: =일위목록!G7 -> 0 | G161: =TRUNC(F161*E161) -> 0 | H161: =일위목록!I7 -> 0 | I161: =TRUNC(H161*E161) -> 0 | L161: =F161+H161+J161 -> 0 | M161: =G161+I161+K161 -> 0
B162: =일위목록!B46 -> LINE PUTTY | C162: =일위목록!C46 -> 석고보드,벽체 | D162: =일위목록!D49 -> M2 | E162: 0 | F162: =일위목록!G46 -> 0 | G162: =TRUNC(F162*E162) -> 0 | H162: =일위목록!I46 -> 0 | I162: =TRUNC(H162*E162) -> 0 | L162: =F162+H162+J162 -> 0 | M162: =G162+I162+K162 -> 0
B163: =일위목록!B50 -> 수성페인트 | C163: =일위목록!C50 -> 벽체, 2회 | D163: =일위목록!D50 -> M2 | E163: 0 | F163: =일위목록!G50 -> 0 | G163: =TRUNC(F163*E163) -> 0 | H163: =일위목록!I50 -> 0 | I163: =TRUNC(H163*E163) -> 0 | L163: =F163+H163+J163 -> 0 | M163: =G163+I163+K163 -> 0
B164: =일위목록!B22 -> 재도장시 바탕처리 | C164: =일위목록!C22 -> 철재면 | D164: =일위목록!D22 -> M2 | E164: 0 | F164: =일위목록!G22 -> 0 | G164: =TRUNC(F164*E164) -> 0 | H164: =일위목록!I22 -> 0 | I164: =TRUNC(H164*E164) -> 0 | L164: =F164+H164+J164 -> 0 | M164: =G164+I164+K164 -> 0
B165: =일위목록!B48 -> 조합페인트 | C165: =일위목록!C48 -> 철재면2회 붓칠, 벽체 | D165: =일위목록!D48 -> M2 | E165: 0 | F165: =일위목록!G48 -> 0 | G165: =TRUNC(F165*E165) -> 0 | H165: =일위목록!I48 -> 0 | I165: =TRUNC(H165*E165) -> 0 | L165: =F165+H165+J165 -> 0 | M165: =G165+I165+K165 -> 0
B166: =일위목록!B40 -> 알루미늄창호(프로젝트창) | C166: =일위목록!C40 -> 1500*600,120mm | D166: =일위목록!D40 -> 개소 | E166: 0 | F166: =일위목록!G40 -> 0 | G166: =TRUNC(F166*E166) -> 0 | H166: =일위목록!I40 -> 0 | I166: =TRUNC(H166*E166) -> 0 | L166: =F166+H166+J166 -> 0 | M166: =G166+I166+K166 -> 0
B167: =일위목록!B21 -> 재도장시 바탕처리 | C167: =일위목록!C21 -> 콘크리트면/모르타르면 | D167: =일위목록!D21 -> M2 | E167: 0 | F167: =일위목록!G21 -> 0 | G167: =TRUNC(F167*E167) -> 0 | H167: =일위목록!I21 -> 0 | I167: =TRUNC(H167*E167) -> 0 | L167: =F167+H167+J167 -> 0 | M167: =G167+I167+K167 -> 0
B168: =일위목록!B51 -> 걸레받이용 페인트칠 | C168: =일위목록!C51 -> 2회 | D168: =일위목록!D51 -> M2 | E168: 0 | F168: =일위목록!G51 -> 0 | G168: =TRUNC(F168*E168) -> 0 | H168: =일위목록!I51 -> 0 | I168: =TRUNC(H168*E168) -> 0 | L168: =F168+H168+J168 -> 0 | M168: =G168+I168+K168 -> 0
B169: =일위목록!B36 -> 암막 롤블라인드 | C169: =일위목록!C36 -> 방염 | D169: =일위목록!D36 -> M2 | E169: 0 | F169: =일위목록!G36 -> 0 | G169: =TRUNC(F169*E169) -> 0 | H169: =일위목록!I36 -> 0 | I169: =TRUNC(H169*E169) -> 0 | L169: =F169+H169+J169 -> 0 | M169: =G169+I169+K169 -> 0
B171: 소 계 | G171: =SUM(G161:G170) -> 0 | I171: =SUM(I161:I170) -> 0 | K171: =SUM(K161:K170) -> 0 | M171: =SUM(M161:M170) -> 0
B173: 2-5.천정공사
B174: =일위목록!B29 -> 경량철골천정틀 | C174: =일위목록!C29 -> TH-BAR | D174: =일위목록!D29 -> M2 | E174: 0 | F174: =일위목록!G29 -> 0 | G174: =TRUNC(F174*E174) -> 0 | H174: =일위목록!I29 -> 0 | I174: =TRUNC(H174*E174) -> 0 | L174: =F174+H174+J174 -> 0 | M174: =G174+I174+K174 -> 0
B175: =일위목록!B30 -> 마이톤 취부 | C175: =일위목록!C30 -> 15T*300*1200, TH-BAR용 | D175: =일위목록!D30 -> M2 | E175: 0 | F175: =일위목록!G30 -> 0 | G175: =TRUNC(F175*E175) -> 0 | H175: =일위목록!I30 -> 0 | I175: =TRUNC(H175*E175) -> 0 | L175: =F175+H175+J175 -> 0 | M175: =G175+I175+K175 -> 0
B177: 소 계 | G177: =SUM(G174:G176) -> 0 | I177: =SUM(I174:I176) -> 0 | K177: =SUM(K174:K176) -> 0 | M177: =SUM(M174:M176) -> 0
B179: 2-6.전기공사
B180: LED 평판조명 취부 | C180: 35W/1280*320*85 | D180: EA | E180: 0 | F180: =일위목록!G55 -> 0 | G180: =TRUNC(F180*E180) -> 0 | H180: =일위목록!I55 -> 0 | I180: =TRUNC(H180*E180) -> 0 | J180: =단가표!P116 -> 0 | K180: =TRUNC(J180*E180) -> 0 | L180: =F180+H180+J180 -> 0 | M180: =G180+I180+K180 -> 0
B181: 매입스위치 취부 | D181: EA | E181: 0 | F181: =일위목록!G56 -> 0 | G181: =TRUNC(F181*E181) -> 0 | H181: =일위목록!I56 -> 0 | I181: =TRUNC(H181*E181) -> 0 | J181: =단가표!P132 -> 0 | K181: =TRUNC(J181*E181) -> 0 | L181: =F181+H181+J181 -> 0 | M181: =G181+I181+K181 -> 0
B182: 전기/통신/랜 선정리 | D182: M | E182: 0 | F182: =일위목록!G57 -> 0 | G182: =TRUNC(F182*E182) -> 0 | H182: =일위목록!I57 -> 0 | I182: =TRUNC(H182*E182) -> 0 | J182: =단가표!P134 -> 0 | K182: =TRUNC(J182*E182) -> 0 | L182: =F182+H182+J182 -> 0 | M182: =G182+I182+K182 -> 0
B184: 소 계 | G184: =SUM(G180:G183) -> 0 | I184: =SUM(I180:I183) -> 0 | K184: =SUM(K180:K183) -> 0 | M184: =SUM(M180:M183) -> 0
B186: 2-7.소방공사
B187: 화재감지기 | C187: 감지기(ANALOG),광전식 | D187: EA | E187: 0 | F187: =일위목록!G61 -> 0 | G187: =TRUNC(F187*E187) -> 0 | H187: =일위목록!I61 -> 0 | I187: =TRUNC(H187*E187) -> 0 | J187: 0 | K187: =TRUNC(J187*E187) -> 0 | L187: =F187+H187+J187 -> 0 | M187: =G187+I187+K187 -> 0
B188: 피난구유도등(LED) | C188: 중형벽부-60분용 | D188: EA | E188: 0 | F188: =일위목록!G62 -> 0 | G188: =TRUNC(F188*E188) -> 0 | H188: =일위목록!I62 -> 0 | I188: =TRUNC(H188*E188) -> 0 | J188: 0 | K188: =TRUNC(J188*E188) -> 0 | L188: =F188+H188+J188 -> 0 | M188: =G188+I188+K188 -> 0
B189: 스프링쿨러 | C189: 헤드형,하향식 | D189: EA | E189: 0 | F189: =일위목록!G66 -> 0 | G189: =TRUNC(F189*E189) -> 0 | H189: =일위목록!I66 -> 0 | I189: =TRUNC(H189*E189) -> 0 | J189: 0 | K189: =TRUNC(J189*E189) -> 0 | L189: =F189+H189+J189 -> 0 | M189: =G189+I189+K189 -> 0
B190: 디퓨져 | C190: 300*300,사각 | D190: EA | E190: 0 | F190: =일위목록!G67 -> 0 | G190: =TRUNC(F190*E190) -> 0 | H190: =일위목록!I67 -> 0 | I190: =TRUNC(H190*E190) -> 0 | J190: 0 | K190: =TRUNC(J190*E190) -> 0 | L190: =F190+H190+J190 -> 0 | M190: =G190+I190+K190 -> 0
B192: 소 계 | G192: =SUM(G187:G191) -> 0 | I192: =SUM(I187:I191) -> 0 | K192: =SUM(K187:K191) -> 0 | M192: =SUM(M187:M191) -> 0
B194: 2-8.폐기물처리비
B195: =단가표!B137 -> 건설폐기물 수집처리(운반비) | C195: =단가표!C137 -> 15TON덤프트럭 중간처리대상폐기물30Km(운반비) | D195: ton | E195: 0 | G195: =TRUNC(F195*E195) -> 0 | I195: =TRUNC(H195*E195) -> 0 | J195: =단가표!P137 -> 0 | K195: =TRUNC(J195*E195) -> 0 | L195: 0 | M195: =G195+I195+K195 -> 0
B196: 건설폐기물 중간처리단가 | C196: 혼합폐기물 | D196: ton | E196: 0 | G196: =TRUNC(F196*E196) -> 0 | I196: =TRUNC(H196*E196) -> 0 | J196: =단가표!P139 -> 0 | K196: =TRUNC(J196*E196) -> 0 | L196: 0 | M196: =G196+I196+K196 -> 0
B198: 소 계 | G198: =SUM(G195:G197) -> 0 | I198: =SUM(I195:I197) -> 0 | K198: =SUM(K195:K197) -> 0 | M198: =SUM(M195:M197) -> 0

Sheet 일위목록
A1: NO | B1: 품 명 | C1: 규 격 | D1: 단위 | E1: 수량 | F1: 재 료 비 | H1: 노 무 비 | J1: 합 계
F2: 단 가 | G2: 금 액 | H2: 단 가 | I2: 금 액 | J2: 단 가 | K2: 금 액
B3: 일 위 목 록 표
B4: 가설공사
A5: 일위-1 | B5: =일위대가서!E3 -> 건축물 현장정리 | C5: =일위대가서!G3 -> 목조,조적조 | D5: =일위대가서!H3 -> M2 | E5: 1 | G5: =일위대가서!K8 -> 0 | I5: =일위대가서!M8 -> 0 | K5: =G5+I5 -> 0
A6: 일위-2 | B6: =일위대가서!E11 -> 현장보양 | C6: =일위대가서!G11 -> 플라스틱골판지 4T | D6: =일위대가서!H11 -> M2 | E6: 1 | G6: =일위대가서!K18 -> 0 | I6: =일위대가서!M18 -> 0 | K6: =G6+I6 -> 0
A7: 일위-3 | B7: 비닐보양 | D7: =일위대가서!H21 -> M2 | E7: 1 | G7: =일위대가서!K28 -> 0 | I7: =일위대가서!M28 -> 0 | K7: =G7+I7 -> 0
A8: 일위-4 | B8: 이동식 강관조립말비계 | C8: =일위대가서!G31 -> 3개월 1단(2M) | D8: 대 | E8: 1 | G8: =일위대가서!K47 -> 0 | I8: =일위대가서!M47 -> 0 | K8: =G8+I8 -> 0
A9: 일위-5 | B9: 자재 소운반 | D9: M2 | E9: 1 | G9: =일위대가서!K55 -> 0 | I9: =일위대가서!M55 -> 0 | K9: =G9+I9 -> 0
A10: 일위-6 | B10: 준공청소 | D10: M2 | E10: 1 | G10: =일위대가서!K67 -> 0 | I10: =일위대가서!M67 -> 0 | K10: =G10+I10 -> 0
B13: 철거공사
A14: 일위-11 | B14: 바닥재철거 | C14: P-TILE | D14: M2 | E14: 1 | G14: 0 | I14: =일위대가서!M76 -> 0 | K14: =G14+I14 -> 0
A15: 일위-12 | B15: =일위대가서!E79 -> SGP 칸막이 철거 | D15: M2 | E15: 1 | G15: =일위대가서!K85 -> 0 | I15: =일위대가서!M85 -> 0 | K15: =G15+I15 -> 0
A16: 일위-13 | B16: 경량벽체철골틀 해체 | D16: M2 | E16: 1 | G16: =일위대가서!K95 -> 0 | I16: =일위대가서!M95 -> 0 | K16: =G16+I16 -> 0
A17: 일위-14 | B17: 석고보드 해체 | C17: 벽체 | D17: M2 | E17: 1 | G17: =일위대가서!K105 -> 0 | I17: =일위대가서!M105 -> 0 | K17: =G17+I17 -> 0
A18: 일위-15 | B18: 창호유리철거 | D18: M2 | E18: 1 | G18: 0 | I18: =일위대가서!M114 -> 0 | K18: =G18+I18 -> 0
A19: 일위-16 | B19: 경량철골천정틀 해체 | D19: M2 | E19: 1 | G19: =일위대가서!K124 -> 0 | I19: =일위대가서!M124 -> 0 | K19: =G19+I19 -> 0
A20: 일위-17 | B20: 흡음텍스 해체 | D20: M2 | E20: 1 | G20: 0 | I20: =일위대가서!M133 -> 0 | K20: =G20+I20 -> 0
A21: 일위-18 | B21: =일위대가서!E136 -> 재도장시 바탕처리 | C21: =일위대가서!G136 -> 콘크리트면/모르타르면 | D21: M2 | E21: 1 | G21: =일위대가서!K143 -> 0 | I21: =일위대가서!M143 -> 0 | K21: =G21+I21 -> 0
A22: 일위-19 | B22: =일위대가서!E146 -> 재도장시 바탕처리 | C22: =일위대가서!G146 -> 철재면 | D22: =일위대가서!H146 -> M2 | E22: 1 | G22: =일위대가서!K153 -> 0 | I22: =일위대가서!M153 -> 0 | K22: =G22+I22 -> 0
B25: 경량공사
A26: 일위-21 | B26: 석고보드붙이기(일면) | C26: 나사고정 9.5MM, 1PLY | D26: M2 | E26: 1 | G26: =일위대가서!K165 -> 0 | I26: =일위대가서!M165 -> 0 | K26: =G26+I26 -> 0
A27: 일위-22 | B27: 석고보드붙이기(일면) | C27: 나사고정 9.5MM, 2PLY | D27: M2 | E27: 1 | G27: =일위대가서!K178 -> 0 | I27: =일위대가서!M178 -> 0 | K27: =G27+I27 -> 0
A28: 일위-23 | B28: 마이톤 취부 | C28: 12.5T 300*600 | D28: M2 | E28: 1 | G28: =일위대가서!K191 -> 0 | I28: =일위대가서!M191 -> 0 | K28: =G28+I28 -> 0
A29: 일위-24 | B29: 경량철골천정틀 | C29: TH-BAR | D29: M2 | E29: 1 | G29: =일위대가서!K211 -> 0 | I29: =일위대가서!M211 -> 0 | K29: =G29+I29 -> 0
A30: 일위-25 | B30: 마이톤 취부 | C30: =일위대가서!G214 -> 15T*300*1200, TH-BAR용 | D30: M2 | E30: 1 | G30: =일위대가서!K224 -> 0 | I30: =일위대가서!M224 -> 0 | K30: =G30+I30 -> 0
B33: 수장공사
A34: 일위-31 | B34: 디럭스타일 마감 | C34: 3.0T 450*450 | D34: M2 | E34: 1 | G34: =일위대가서!K235 -> 0 | I34: =일위대가서!M235 -> 0 | K34: =G34+I34 -> 0
A35: 일위-32 | B35: =일위대가서!E238 -> 인테리어필름붙이기 | C35: =일위대가서!G238 -> LX Z:IN 0.42*폭1220mm RS/CW 우드 | D35: =일위대가서!H238 -> M2 | E35: 1 | G35: =일위대가서!K243 -> 0 | I35: =일위대가서!M243 -> 0 | K35: =G35+I35 -> 0
A36: 일위-33 | B36: 암막 롤블라인드 | C36: 방염 | D36: M2 | E36: 1 | G36: =일위대가서!K255 -> 0 | I36: =일위대가서!M255 -> 0 | K36: =G36+I36 -> 0
B39: 창호 및 유리공사
A40: 일위-41 | B40: =일위대가서!E258 -> 알루미늄창호(프로젝트창) | C40: =일위대가서!G258 -> 1500*600,120mm | D40: =일위대가서!H258 -> 개소 | E40: 1 | G40: =일위대가서!K269 -> 0 | I40: =일위대가서!M269 -> 0 | K40: =G40+I40 -> 0
A41: 일위-42 | B41: 유리코킹 | C41: 10*10 | D41: M | E41: 1 | G41: =일위대가서!K279 -> 0 | I41: =일위대가서!M279 -> 0 | K41: =G41+I41 -> 0
A42: 일위-43 | B42: =일위대가서!E282 -> 복층유리끼우고닦기 | C42: =일위대가서!G282 -> 24MM이하 | D42: =일위대가서!H282 -> M2 | E42: 1 | G42: =일위대가서!K288 -> 0 | I42: =일위대가서!M288 -> 0 | K42: =G42+I42 -> 0
B45: 도장공사
A46: 일위-51 | B46: LINE PUTTY | C46: 석고보드,벽체 | D46: M2 | E46: 1 | G46: =일위대가서!K301 -> 0 | I46: =일위대가서!M301 -> 0 | K46: =G46+I46 -> 0
A47: 일위-52 | B47: =일위대가서!E304 -> LINE PUTTY | C47: =일위대가서!G304 -> 석고보드,천정 | D47: =일위대가서!H304 -> M2 | E47: 1 | G47: =일위대가서!K314 -> 0 | I47: =일위대가서!M314 -> 0 | K47: =G47+I47 -> 0
A48: 일위-53 | B48: 조합페인트 | C48: =일위대가서!G317 -> 철재면2회 붓칠, 벽체 | D48: M2 | E48: 1 | G48: =일위대가서!K326 -> 0 | I48: =일위대가서!M326 -> 0 | K48: =G48+I48 -> 0
A49: 일위-54 | B49: 수성페인트 | C49: 천정, 2회 | D49: M2 | E49: 1 | G49: =일위대가서!K339 -> 0 | I49: =일위대가서!M339 -> 0 | K49: =G49+I49 -> 0
A50: 일위-55 | B50: 수성페인트 | C50: 벽체, 2회 | D50: M2 | E50: 1 | G50: =일위대가서!K352 -> 0 | I50: =일위대가서!M352 -> 0 | K50: =G50+I50 -> 0
A51: 일위-56 | B51: 걸레받이용 페인트칠 | C51: =일위대가서!G355 -> 2회 | D51: M2 | E51: 1 | G51: =일위대가서!K366 -> 0 | I51: =일위대가서!M366 -> 0 | K51: =G51+I51 -> 0
B54: 전기공사
A55: 일위-57 | B55: 등기구 취부 | D55: EA | E55: 1 | G55: =일위대가서!K378 -> 0 | I55: =일위대가서!M378 -> 0 | K55: =G55+I55 -> 0
A56: 일위-58 | B56: 스위치 취부 | D56: EA | E56: 1 | G56: =일위대가서!K395 -> 0 | I56: =일위대가서!M395 -> 0 | K56: =G56+I56 -> 0
A57: 일위-59 | B57: 전기/통신/랜 선정리 | D57: M | E57: 1 | G57: =일위대가서!K405 -> 0 | I57: =일위대가서!M405 -> 0 | K57: =G57+I57 -> 0
B60: 소방전기공사
A61: 일위-60 | B61: 화재감지기 | C61: 감지기(ANALOG),광전식 | D61: EA | E61: 1 | G61: =일위대가서!K415 -> 0 | I61: =일위대가서!M415 -> 0 | K61: =G61+I61 -> 0
A62: 일위-61 | B62: 피난구유도등(LED) | C62: 중형벽부-60분용 | D62: EA | E62: 1 | G62: =일위대가서!K427 -> 0 | I62: =일위대가서!M427 -> 0 | K62: =G62+I62 -> 0
B65: 소방설비공사
A66: 일위-62 | B66: 스프링쿨러 | C66: 헤드형,하향식 | D66: EA | E66: 1 | G66: =일위대가서!K438 -> 0 | I66: =일위대가서!M438 -> 0 | K66: =G66+I66 -> 0
A67: 일위-63 | B67: 디퓨져 | C67: 300*300,사각 | D67: EA | E67: 1 | G67: =일위대가서!K449 -> 0 | I67: =일위대가서!M449 -> 0 | K67: =G67+I67 -> 0

Sheet 일위대가서
C1: 일 위 대 가
B2: 절대지우지마세요
B3: 건축물 현장정리목조,조적조 | C3: 일위 1 호표 | E3: 건축물 현장정리 | G3: 목조,조적조 | H3: M2 | K3: =K8 -> 0 | M3: =M8 -> 0 | O3: =O8 -> 0
C4: 공종 | G4: 규격 | H4: 단위 | I4: 수량 | J4: 자재비 | L4: 노무비 | N4: 경비 | P4: 비고
J5: 단가 | K5: 금액 | L5: 단가 | M5: 금액 | N5: 단가 | O5: 금액
B6: 보통인부목조,조적조 | D6: 보통인부 | G6: 목조,조적조 | H6: 인 | I6: 0 | K6: =INT($I6*J6) -> 0 | L6: 0 | M6: =INT(I6*L6) -> 0 | O6: =ROUND($I6*N6,0) -> 0
C8: 소계 | K8: =SUM(K6:K7) -> 0 | M8: =SUM(M6:M7) -> 0 | O8: =SUM(O6:O7) -> 0
B11: 현장보양플라스틱골판지 4T | C11: 일위 2 호표 | E11: 현장보양 | G11: 플라스틱골판지 4T | H11: M2 | K11: =K18 -> 0 | M11: =M18 -> 0 | O11: =O18 -> 0
C12: 공종 | G12: 규격 | H12: 단위 | I12: 수량 | J12: 자재비 | L12: 노무비 | N12: 경비 | P12: 비고
J13: 단가 | K13: 금액 | L13: 단가 | M13: 금액 | N13: 단가 | O13: 금액
B14: 플라스틱 골판지1800*900*4T | D14: 플라스틱 골판지 | G14: 1800*900*4T | H14: M2 | I14: 0 | J14: 0 | K14: =INT($I14*J14) -> 0 | M14: 0 | O14: 0
D15: 접착테이프 | H15: M | I15: 0 | J15: 0 | K15: =INT(I15*J15) -> 0
B16: 보통인부 | D16: 보통인부 | H16: 인 | I16: 0 | K16: =ROUND($I16*J16,0) -> 0 | L16: 0 | M16: =INT(I16*L16) -> 0 | O16: 0
C18: 소계 | K18: =SUM(K14:K17) -> 0 | M18: =SUM(M14:M17) -> 0 | O18: =SUM(O16:O17) -> 0
B21: 비닐보양 | C21: 일위 3 호표 | E21: 비닐보양 | H21: M2 | K21: =K28 -> 0 | M21: =M28 -> 0 | O21: =O28 -> 0
C22: 공종 | G22: 규격 | H22: 단위 | I22: 수량 | J22: 자재비 | L22: 노무비 | N22: 경비 | P22: 비고
J23: 단가 | K23: 금액 | L23: 단가 | M23: 금액 | N23: 단가 | O23: 금액
B24: PE필름0.1*120*91 | D24: PE필름 | G24: 0.1*120*91 | H24: M2 | I24: 0 | J24: 0 | K24: =INT($I24*J24) -> 0 | M24: =ROUND($I24*L24,0) -> 0 | O24: =ROUND($I24*N24,0) -> 0
D25: 접착테이프 | H25: M | I25: 0 | J25: 0 | K25: =INT(I25*J25) -> 0
B26: 보통인부 | D26: 보통인부 | H26: 인 | I26: 0 | K26: =ROUND($I26*J26,0) -> 0 | L26: 0 | M26: =INT(I26*L26) -> 0 | O26: =ROUND($I26*N26,0) -> 0
C28: 소계 | K28: =SUM(K24:K27) -> 0 | M28: =SUM(M24:M27) -> 0 | O28: =SUM(O26:O27) -> 0
B31: 이동식 강관조립말비계3개월 1단(2M) | C31: 일위 4 호표 | E31: 이동식 강관조립말비계 | G31: 3개월 1단(2M) | H31: 대 | K31: =K47 -> 0 | M31: =M47 -> 0 | O31: =O47 -> 0
C32: 공종 | G32: 규격 | H32: 단위 | I32: 수량 | J32: 자재비 | L32: 노무비 | N32: 경비 | P32: 비고
J33: 단가 | K33: 금액 | L33: 단가 | M33: 금액 | N33: 단가 | O33: 금액
B34: 비계파이프 D48.6*2.3MML=6.0M | D34: 비계파이프 D48.6*2.3MM | G34: L=6.0M | H34: M | I34: 0 | J34: 0 | K34: =INT($I34*J34) -> 0 | M34: 0 | O34: =ROUND($I34*N34,0) -> 0
B35: 가세틀1219*1820 | D35: 가세틀 | G35: 1219*1820 | H35: 조 | I35: 0 | J35: 0 | K35: =INT($I35*J35) -> 0 | M35: 0 | O35: =ROUND($I35*N35,0) -> 0
B36: 수평틀1050*1820 | D36: 수평틀 | G36: 1050*1820 | H36: 개 | I36: 0 | J36: 0 | K36: =INT($I36*J36) -> 0 | M36: 0 | O36: =ROUND($I36*N36,0) -> 0
B37: 손잡이기둥H=1,219 | D37: 손잡이기둥 | G37: H=1,219 | H37: 개 | I37: 0 | J37: 0 | K37: =INT($I37*J37) -> 0 | M37: 0 | O37: =ROUND($I37*N37,0) -> 0
B38: 손잡이L=1,219 | D38: 손잡이 | G38: L=1,219 | H38: 개 | I38: 0 | J38: 0 | K38: =INT($I38*J38) -> 0 | M38: 0 | O38: =ROUND($I38*N38,0) -> 0
B39: 손잡이L=1,829 | D39: 손잡이 | G39: L=1,829 | H39: 개 | I39: 0 | J39: 0 | K39: =INT($I39*J39) -> 0 | M39: 0 | O39: =ROUND($I39*N39,0) -> 0
B40: 바퀴6", 중하중용 TP 6640-01 | D40: 바퀴 | G40: 6", 중하중용 TP 6640-01 | H40: 개 | I40: 0 | J40: 0 | K40: =INT($I40*J40) -> 0 | M40: 0 | O40: =ROUND($I40*N40,0) -> 0
B41: 작키베이스(받침쇠)36∮*406 | D41: 작키베이스(받침쇠) | G41: 36∮*406 | H41: 개 | I41: 0 | J41: 0 | K41: =INT($I41*J41) -> 0 | M41: 0 | O41: =ROUND($I41*N41,0) -> 0
B42: 발판(P.S.P)3*400*3000 | D42: 발판(P.S.P) | G42: 3*400*3000 | H42: 개 | I42: 0 | J42: 0 | K42: =INT($I42*J42) -> 0 | M42: 0 | O42: =ROUND($I42*N42,0) -> 0
B43: 비계공 | D43: 비계공 | H43: 인 | I43: 0 | J43: 0 | K43: =INT($I43*J43) -> 0 | L43: 0 | M43: =INT(I43*L43) -> 0 | O43: =ROUND($I43*N43,0) -> 0
D44: 보통인부 | H44: 인 | I44: 0 | K44: =INT($I44*J44) -> 0 | L44: 0 | M44: =INT(I44*L44) -> 0 | O44: =ROUND($I44*N44,0) -> 0
D45: 공구손료 | G45: 노무비의 6% | H45: 식 | I45: 0 | J45: 0 | K45: =INT($I45*J45) -> 0 | M45: =INT(I45*L45) -> 0 | O45: =ROUND($I45*N45,0) -> 0
C47: 소계 | K47: =SUM(K34:K45) -> 0 | M47: =SUM(M34:M44) -> 0 | O47: =SUM(O35:O44) -> 0
B50: 자재소운반 | C50: 일위 5 호표 | E50: 자재소운반 | H50: M2 | K50: =K55 -> 0 | M50: =M55 -> 0 | O50: =O55 -> 0
C51: 공종 | G51: 규격 | H51: 단위 | I51: 수량 | J51: 자재비 | L51: 노무비 | N51: 경비 | P51: 비고
J52: 단가 | K52: 금액 | L52: 단가 | M52: 금액 | N52: 단가 | O52: 금액
B53: 보통인부엘리베이터 자재운반기준 | D53: 보통인부 | G53: 엘리베이터 자재운반기준 | H53: 인 | I53: 0 | K53: =INT($I53*J53) -> 0 | L53: 0 | M53: =ROUND($I53*L53,0) -> 0 | O53: =ROUND($I53*N53,0) -> 0
C55: 소계 | K55: =SUM(K53:K54) -> 0 | M55: =SUM(M53:M54) -> 0 | O55: =SUM(O54:O54) -> 0
C58: 일위 6 호표 | E58: 준공청소 | H58: M2 | K58: =K67 -> 0 | M58: =M67 -> 0 | O58: =O67 -> 0
C59: 공종 | G59: 규격 | H59: 단위 | I59: 수량 | J59: 자재비 | L59: 노무비 | N59: 경비 | P59: 비고
J60: 단가 | K60: 금액 | L60: 단가 | M60: 금액 | N60: 단가 | O60: 금액
D61: 넝마 | H61: KG | I61: 0 | J61: 0 | K61: =TRUNC($I61*J61,0) -> 0 | L61: 0 | M61: =INT(I61*L61) -> 0
D62: 랜드글라스크리너 | G62: 유리세척제 | H62: L | I62: 0 | J62: 0 | K62: =TRUNC($I62*J62,0) -> 0
D63: 빗자루 | G63: 장수비 | H63: EA | I63: 0 | J63: 0 | K63: =TRUNC($I63*J63,0) -> 0
D64: 마포걸레 | G64: 마포자루포함 | H64: EA | I64: 0 | J64: 0 | K64: =TRUNC($I64*J64,0) -> 0
D65: 보통인부 | H65: 인 | I65: 0 | L65: 0 | M65: =INT(I65*L65) -> 0
C67: 소계 | K67: =SUM(K61:K65) -> 0 | M67: =SUM(M61:M65) -> 0 | O67: =SUM(O62:O63) -> 0
C70: 일위 11 호표 | E70: 바닥재철거 | G70: P-TILE | H70: M2 | K70: =#REF! -> #REF! | M70: =#REF! -> #REF! | O70: =#REF! -> #REF!
C71: 공종 | G71: 규격 | H71: 단위 | I71: 수량 | J71: 자재비 | L71: 노무비 | N71: 경비 | P71: 비고
J72: 단가 | K72: 금액 | L72: 단가 | M72: 금액 | N72: 단가 | O72: 금액
B73: 내장공 | D73: 내장공 | H73: 인 | I73: 0 | K73: =INT(I73*J73) -> 0 | L73: 0 | M73: =ROUND($I73*L73,0) -> 0
D74: 보통인부 | H74: 인 | I74: 0 | L74: 0 | M74: =ROUND($I74*L74,0) -> 0
C76: 소계 | K76: =SUM(K73:K75) -> 0 | M76: =SUM(M73:M75) -> 0 | O76: =SUM(O72:O73) -> 0
B79: SGP 칸막이 철거 | C79: 일위 12 호표 | E79: SGP 칸막이 철거 | H79: M2 | K79: =K85 -> 0 | M79: =M85 -> 0 | O79: =O85 -> 0
C80: 공종 | G80: 규격 | H80: 단위 | I80: 수량 | J80: 자재비 | L80: 노무비 | N80: 경비 | P80: 비고
J81: 단가 | K81: 금액 | L81: 단가 | M81: 금액 | N81: 단가 | O81: 금액
B82: SGP칸막이 철거 | D82: SGP칸막이 철거 | H82: M2 | I82: 0 | K82: =INT(I82*J82) -> 0 | L82: 0 | M82: =INT(I82*L82) -> 0
D83: 공구손료 | G83: 노무비의 2% | H83: 식 | I83: 0 | J83: 0 | K83: =INT(I83*J83) -> 0
C85: 소계 | K85: =SUM(K82:K83) -> 0 | M85: =SUM(M82:M82) -> 0 | O85: =SUM(O82:O82) -> 0
C88: 일위 13 호표 | E88: 경량벽체철골틀 해체 | G88: 벽체 | H88: M2 | K88: =K492 -> 0 | M88: =M492 -> 0 | O88: =O492 -> 0
C89: 공종 | G89: 규격 | H89: 단위 | I89: 수량 | J89: 자재비 | L89: 노무비 | N89: 경비 | P89: 비고
J90: 단가 | K90: 금액 | L90: 단가 | M90: 금액 | N90: 단가 | O90: 금액
B91: 내장공 | D91: 내장공 | H91: 인 | I91: 0 | K91: =ROUND($I91*J91,0) -> 0 | L91: 0 | M91: =ROUND($I91*L91,0) -> 0 | O91: =ROUND($I91*N91,0) -> 0
B92: 보통인부 | D92: 보통인부 | H92: 인 | I92: 0 | K92: =INT(I92*J92) -> 0 | L92: 0 | M92: =ROUND($I92*L92,0) -> 0
D93: 공구손료 | G93: 노무비의 2% | H93: 식 | I93: 0 | J93: 0 | K93: =INT(I93*J93) -> 0 | M93: =ROUND($I93*L93,0) -> 0
C95: 소계 | K95: =SUM(K91:K94) -> 0 | M95: =SUM(M91:M94) -> 0 | O95: =SUM(O90:O92) -> 0
C98: 일위 14 호표 | E98: 석고보드 해체 | G98: 벽체 | H98: M2 | K98: =K105 -> 0 | M98: =M105 -> 0 | O98: =O105 -> 0
C99: 공종 | G99: 규격 | H99: 단위 | I99: 수량 | J99: 자재비 | L99: 노무비 | N99: 경비 | P99: 비고
J100: 단가 | K100: 금액 | L100: 단가 | M100: 금액 | N100: 단가 | O100: 금액
B101: 내장공 | D101: 내장공 | H101: 인 | I101: 0 | K101: =ROUND($I101*J101,0) -> 0 | L101: 0 | M101: =ROUND($I101*L101,0) -> 0 | O101: =ROUND($I101*N101,0) -> 0
D102: 보통인부 | H102: 인 | I102: 0 | L102: 0 | M102: =ROUND($I102*L102,0) -> 0
D103: 공구손료 | G103: 노무비의 2% | H103: 식 | I103: 0 | J103: 0 | K103: =INT(I103*J103) -> 0 | M103: =ROUND($I103*L103,0) -> 0
C105: 소계 | K105: =SUM(K101:K104) -> 0 | M105: =SUM(M101:M104) -> 0 | O105: =SUM(O101:O101) -> 0
C108: 일위 15 호표 | E108: 창호유리철거 | H108: M2 | K108: =#REF! -> #REF! | M108: =#REF! -> #REF! | O108: =#REF! -> #REF!
C109: 공종 | G109: 규격 | H109: 단위 | I109: 수량 | J109: 자재비 | L109: 노무비 | N109: 경비 | P109: 비고
J110: 단가 | K110: 금액 | L110: 단가 | M110: 금액 | N110: 단가 | O110: 금액
B111: 창호공 | D111: 창호공 | H111: 인 | I111: 0 | K111: 0 | L111: 0 | M111: =ROUND($I111*L111,0) -> 0 | O111: 0
B112: 보통인부 | D112: 보통인부 | H112: 인 | I112: 0 | K112: 0 | L112: 0 | M112: =ROUND($I112*L112,0) -> 0
C114: 소계 | K114: =SUM(K111:K113) -> 0 | M114: =SUM(M111:M113) -> 0 | O114: =SUM(O110:O112) -> 0
C117: 일위 16 호표 | E117: 경량철골천정틀 해체 | H117: M2 | K117: =K124 -> 0 | M117: =M124 -> 0 | O117: =O124 -> 0
C118: 공종 | G118: 규격 | H118: 단위 | I118: 수량 | J118: 자재비 | L118: 노무비 | N118: 경비 | P118: 비고
J119: 단가 | K119: 금액 | L119: 단가 | M119: 금액 | N119: 단가 | O119: 금액
B120: 내장공 | D120: 내장공 | H120: 인 | I120: 0 | K120: =ROUND($I120*J120,0) -> 0 | L120: 0 | M120: =ROUND($I120*L120,0) -> 0 | O120: =ROUND($I120*N120,0) -> 0
D121: 보통인부 | H121: 인 | I121: 0 | L121: 0 | M121: =ROUND($I121*L121,0) -> 0
D122: 공구손료 | G122: 노무비의 2% | H122: 식 | I122: 0 | J122: 0 | K122: =INT(I122*J122) -> 0
C124: 소계 | K124: =SUM(K120:K123) -> 0 | M124: =SUM(M120:M123) -> 0 | O124: =SUM(O120:O120) -> 0
C127: 일위 17 호표 | E127: 흡음텍스 해체 | H127: M2 | K127: =K133 -> 0 | M127: =M133 -> 0 | O127: =O133 -> 0
C128: 공종 | G128: 규격 | H128: 단위 | I128: 수량 | J128: 자재비 | L128: 노무비 | N128: 경비 | P128: 비고
J129: 단가 | K129: 금액 | L129: 단가 | M129: 금액 | N129: 단가 | O129: 금액
B130: 내장공 | D130: 내장공 | H130: 인 | I130: 0 | K130: =ROUND($I130*J130,0) -> 0 | L130: 0 | M130: =ROUND($I130*L130,0) -> 0 | O130: =ROUND($I130*N130,0) -> 0
D131: 보통인부 | H131: 인 | I131: 0 | L131: 0 | M131: =ROUND($I131*L131,0) -> 0
C133: 소계 | K133: =SUM(K130:K130) -> 0 | M133: =SUM(M130:M131) -> 0 | O133: =SUM(O130:O130) -> 0
B136: 재도장시 바탕처리콘크리트면/모르타르면 | C136: 일위 18 호표 | E136: 재도장시 바탕처리 | G136: 콘크리트면/모르타르면 | H136: M2
C137: 공종 | G137: 규격 | H137: 단위 | I137: 수량 | J137: 자재비 | L137: 노무비 | N137: 경비 | P137: 비고
J138: 단가 | K138: 금액 | L138: 단가 | M138: 금액 | N138: 단가 | O138: 금액
B139: 도장공 | D139: 도장공 | H139: 인 | I139: 0 | K139: =INT(I139*J139) -> 0 | L139: 0 | M139: =ROUND($I139*L139,0) -> 0 | O139: =ROUND($I139*N139,0) -> 0
...

Sheet 단가표
B3: 품명 | C3: 규격 | E3: 단위 | F3: 물가자료 | G3: 페이지 | I3: 물가정보 | J3: 페이지 | O3: 시중조사가격 | P3: 적용단가
D4: ★★ 절대 지우지 마세요 ★★
B7: [가설재] | D7: [가설재]
B8: PE필름 | C8: 0.1*120*91 | D8: PE필름0.1*120*91 | E8: M2
B9: PVC필름 | C9: 비닐/엠보시트0.3mm*120*50 | E9: M2
B10: 마대자루 | C10: 60cm*100 | D10: 마대자루60cm*100 | E10: EA
B11: 랜드글라스크리너 | C11: 유리세척제 | D11: 랜드글라스크리너유리세척제 | E11: L
B12: 랜드101 | C12: 스테인레스광택제 | D12: 랜드101스테인레스광택제 | E12: L
B13: 왁스 | C13: 랜드샤인(아스타일용) | D13: 왁스랜드샤인(아스타일용) | E13: L
B14: 러그익스트랙션 | C14: 카페트전용세제 | D14: 러그익스트랙션카페트전용세제 | E14: L
B15: 빗자루 | C15: 일반용 | D15: 빗자루일반용 | E15: EA
B16: 마포걸레 | C16: 걸레2자,자루포함 | D16: 마포걸레걸레2자,자루포함 | E16: EA
B17: 고무장갑 | C17: 대 | D17: 고무장갑대 | E17: EA
B18: 수세미 | C18: SL-135 | D18: 수세미SL-135 | E18: 조
B19: 리스킹걸레 | C19: FM105CM | D19: 리스킹걸레FM105CM | E19: SET
B20: 비계파이프 D48.6*2.3MM | C20: L=6.0M | D20: 비계파이프 D48.6*2.3MML=6.0M | E20: M
B21: 비계파이프 D48.6*2.3MM | C21: L=3.0M | E21: M
B22: 연결핀 | C22: 48.6MM용 | D22: 연결핀48.6MM용 | E22: 개
B23: 크램프 | C23: 직경 48*48용 | D23: 크램프직경 48*48용 | E23: 개
B24: 받침철물 | C24: B.R 48*48용 | D24: 받침철물B.R 48*48용 | E24: 개
B25: 수직문형지주 | C25: W:1,219*H:1,700M | D25: 수직문형지주W:1,219*H:1,700M | E25: 개
B26: 작키베이스(받침쇠) | C26: 36∮*406 | D26: 작키베이스(받침쇠)36∮*406 | E26: 개
B27: 가세틀 | C27: 1219*1820 | D27: 가세틀1219*1820 | E27: 개
B28: 수평틀 | C28: 1050*1820 | D28: 수평틀1050*1820 | E28: 개
B29: 발판(P.S.P) | C29: 250*3000 50m/m | D29: 발판(P.S.P)250*3000 50m/m | E29: ea
B30: 손잡이기둥 | C30: H=1,219 | D30: 손잡이기둥H=1,219 | E30: 개
B31: 손잡이 | C31: L=1,219 | D31: 손잡이L=1,219 | E31: 개
B32: 손잡이 | C32: L=1,829 | D32: 손잡이L=1,829 | E32: 개
B33: 바퀴 | C33: 6", 중하중용 TP 6640 | D33: 바퀴6", 중하중용 TP 6640 | E33: 개
... B35: 플라스틱 골판지 | C35: 1800*900*4T | D35: 플라스틱 골판지1800*900*4T | E35: ㎡
B38: [유리제품] | D38: [유리제품]
B39: 투명복층유리 | C39: 24mm (5+14+5) | E39: M2
B40: 넝마 | C40: 면90%이상 상급제품 | D40: 넝마면90%이상 상급제품 | E40: KG
B41: 가루분 | D41: 가루분 | E41: KG
B43: 글라스실란트 | C43: 유리용300ml | D43: 글라스실란트유리용300ml | E43: L
B44: 글라스실란트 | C44: 복층유리용500ml | E44: L
B46: [창호제품]
B47: 프로젝트창 | C47: 85mm | E47: M2
B50: [단열제품]
B51: SGP칸막이 철거 | E51: M2
B53: [수장제품] | D53: [수장제품]
B54: 석고보드 | C54: 9.5MM*900*1800 | D54: 석고보드9.5MM*900*1800 | E54: M2
B55: 석고보드 | C55: 12.5MM*900*1800 | D55: 석고보드12.5MM*900*1800 | E55: M2
B57: 마이톤 | C57: 12T*300*600 | D57: 마이톤12T*300*600 | E57: M2
B58: 마이톤 | C58: 15T*300*600, M-BAR용 | E58: M2
B59: 마이톤 | C59: 15T*600*600, T-BAR용 | E59: M2
B60: 마이톤 | C60: 15T*300*1200, TH-BAR용 | E60: M2
B61: 디럭스타일 | C61: 3.0T 450*450 | E61: M2
B62: 디럭스타일 | C62: 3.0T 300*300 | E62: M2
B63: 바닥왁싱 | E63: M2
B64: 인테리어 필름(시공비포함) | C64: 3M, 방염 | D64: 인테리어 필름(시공비포함)3M, 방염 | E64: M2
C65: 현대 0.42MM*1220방염W일반우드 | E65: M2
C66: 현대 0.42MM*1220방염ZX프리미엄우드 | E66: M2
B67: 암막 롤스크린 | C67: 양면암막, 방염 | E67: M2
B68: 블라인드 상단레일 | E68: M
B70: [금속공사] | D70: [금속공사]
B71: 일반용철못 | C71: N 75 | D71: 일반용철못N 75 | E71: KG
B72: 일반용철못 | C72: N 50 | E72: KG
B73: 일반용철못 | C73: N 25 | D73: 일반용철못N 25 | E73: KG
B75: 인 서 트(신형) | C75: 2부 | E75: EA
B76: 달 대 볼 트 | C76: ø9*1M,아연도 | E76: M
B77: 캐 링 찬 넬 | C77: 38*12*1.2T,GALV | E77: M
B78: 마이너 찬넬 | C78: 19*10*1.2T,GALV | E78: M
B79: 행거및 핀 | C79: L:100MM | E79: SET
B80: 찬 넬 크 립 | E80: SET
B81: 캐링조인트 | C81: 0.5T 11*48 | E81: SET
B82: D-M.BAR | C82: 50*19*0.5T 19형 | E82: EA
B83: D-M.BAR 크립 | C83: 50*19 용 | E83: EA
B84: BAR 죠인트 | E84: EA
B85: 행가볼트 | C85: ø6 *1000MM | E85: EA
B86: 파이프행가 | C86: 16MM | E86: EA
B87: T-bar | C87: ST'L 1.2t 25*38*0.4 | E87: M
B88: H-bar | C88: ST'L 20*20*0.45T | E88: M
B89: T-bar 몰딩 | C89: 22*22*0.5 | E89: M
B90: CLIP-BAR | C90: 0.5T 24*35 | E90: M
B91: 집성스크류 | C91: 20MM | D91: 집성스크류20MM | E91: EA
B92: 집성스크류 | C92: 25MM | D92: 집성스크류25MM | E92: EA
B93: 집성스크류 | C93: 50MM | E93: EA
B95: 재료분리대 SST철판(STS304) | D95: 재료분리대 SST철판(STS304) | E95: M
B96: 철못(타카핀일자형) | C96: F25 (갑/5000ea) | D96: 철못(타카핀일자형)F25 (갑/5000ea) | E96: KG
B97: 철못(타카핀일자형) | C97: F50 (갑/5000ea) | D97: 철못(타카핀일자형)F50 (갑/5000ea) | E97: KG
B99: [페인트 제품] | D99: [페인트 제품]
B100: 조합페인트 | C100: KSM-6020, 백색 | D100: 조합페인트KSM-6020, 백색 | E100: L
B101: 수성페인트 | C101: 내부용수성도료 | D101: 수성페인트내부용수성도료 | E101: L
B102: 하이빌런 | C102: 비닐페인트 /고급비닐페인트 | D102: 하이빌런비닐페인트 /고급비닐페인트 | E102: L
B103: 비닐텍스 | C103: 백색,내부마감상도 | D103: 비닐텍스백색,내부마감상도 | E103: L
B104: 아크릴페인트(스레졸4종) | C104: 조광 SNB011 | D104: 아크릴페인트(스레졸4종)조광 SNB011 | E104: L
B105: 프라이머 | C105: 워시 프라이머 | D105: 프라이머워시 프라이머 | E105: L
B106: 아크론신너 | C106: 슈퍼시너 도료희석제 | D106: 아크론신너슈퍼시너 도료희석제 | E106: L
B107: 신너(조합페인트용) | C107: KSM-6060 2종 | D107: 신너(조합페인트용)KSM-6060 2종 | E107: L
B108: 수성퍼티 | C108: 내추럴퍼티/내부용 | D108: 수성퍼티내추럴퍼티/내부용 | E108: KG
B109: F-TAPE | C109: 5cm*40m | D109: F-TAPE5cm*40m | E109: M
B110: 연마지 | C110: #120 | D110: 연마지#120 | E110: 매
B112: [접착제품] | D112: [접착제품]
B113: 석고본드 | C113: 석고용 1포(25KG) | D113: 석고본드석고용 1포(25KG) | E113: kg
B114: 접착제(비닐시트) | C114: 쌍곰데코본드,PVC타일접착제 | D114: 접착제(비닐시트)쌍곰데코본드,PVC타일접착제 | E114: kg
B115: 접착테이프 | C115: OPP | D115: 접착테이프OPP | E115: M
B117: [전기제품] | D117: [접착제품]
B118: 2종금속제가요전선관 | C118: 박스커넥터, 16 mm 비방수 | E118: EA
B119: 아우트렛박스 커버 | C119: 커버, 8각, 평형 | E119: EA
...
