Workbook
Name _: #N/A
Name ________LH2: #REF!
Name ________LH3: #REF!
Name ________PH2: #REF!
Name ________s1: #REF!
Name ________ST1: '[1]cross beam'!#REF!
Name ________ST2: '[1]cross beam'!#REF!
Name ________TW1: #REF!
Name ________TW2: #REF!
Name _______Key1: #REF!
Name _______Key2: #REF!
Name _______SBB1: #REF!
Name _______SBB2: #REF!
Name _______SBB3: #REF!
Name _______SBB4: #REF!
Name _______SBB5: #REF!
Name _______SHH1: #REF!
Name _______SHH2: #REF!
Name _______SHH3: #REF!
Name ______a1: #REF!
Name ______Aaa1: #REF!
Name ______Aaa2: #REF!
Name ______Aaa3: #REF!
Name ______aab42: #REF!
Name ______Axa1: #REF!
Name ______Axa2: #REF!
Name ______Axa3: #REF!
Name ______Axx1: #REF!
Name ______Axx2: #REF!
Name ______Axx3: #REF!
Name ______Axy1: #REF!
Name ______Axy2: #REF!
Name ______Axy3: #REF!
Name ______Aya1: #REF!
Name ______Aya2: #REF!
Name ______Aya3: #REF!
Name ______Ayy1: #REF!
Name ______Ayy2: #REF!
Name ______Ayy3: #REF!
Name ______B2: #REF!
Name ______BEM1: #REF!
Name ______BEM2: #REF!
Name ______BEP1: #REF!
Name ______BEP2: #REF!
Name ______BES1: #REF!
Name ______BES2: #REF!
Name ______BMM1: #REF!
Name ______BMM2: #REF!
Name ______BMP1: #REF!
Name ______BMP2: #REF!
Name ______BMS1: #REF!
Name ______BMS2: #REF!
Name ______BVS1: #REF!
Name ______BVS2: #REF!
Name ______CEN1: #REF!
Name ______Dan1: #REF!
Name ______Dan2: #REF!
Name ______Dan3: #REF!
Name ______Dan4: #REF!
Name ______hor1: #REF!

Sheet 1.표지
A5: 2026년 가평 대성터널 제연설비 보강공사(소방) 감리용역
A15: 2026. 10.
A18: 경 기 도 건 설 본 부

Sheet 2.갑지
A1: 2026년 8월 설계 | C1: 과 | F1: 팀 | I1: 심 | M1: 담
I2: 사 | M2: 당
C3: 장 | F3: 장 | I3: 자 | M3: 자
A5: 2026년도
A7: ='1.표지'!A5:J5 -> 2026년 가평 대성터널 제연설비 보강공사(소방) 감리용역
D10: ○ 위 치 : | F10: 가평군 청평면 남가로 1954 일원
D12: ○ 용역개요 : | F12: 대성터널 소방감리용역 1식
D14: ○ 용 역 비 : | F14: ="금"&NUMBERSTRING(I14,1)&"원" -> #REF! | I14: =감리설계서!F12 -> #REF!
A18: 경 기 도 건 설 본 부

Sheet 감리설계서
B1: 『2026년 가평 대성터널 제연설비 보강공사(소방) 감리용역』 설계내역서
C3: ■ 용역개요
C4: ○ 위 치 : 가평군 청평면 남가로 1954 일원
C5: ○ 사업대상 : 국지도 98호선 대성터널
C6: ○ 소방감리 용역
C7: - 시공단계부터 사업완료(시공 후 단계)까지 사업 전 단계
C8: - 과업기간 : 착수일로부터 | F8: =#REF! -> #REF! | G8: 개월
C10: =CONCATENATE("■ 용역비 : ",TEXT(F12,"금00,000,000원"),TEXT(F12,"(금[DBNum4]G/표준"),"원)") -> #REF!
C11: 구분 | F11: 소계 | H11: 비고
C12: 총용역비 | F12: ='감리비 세부산출 내역'!G17 -> #REF! | H12: 천원미만 절사
C13: 도 급 액 | E13: 순용역비 | F13: ='감리비 세부산출 내역'!G11 -> #REF!
E14: 부가가치세 | F14: ='감리비 세부산출 내역'!G12 -> #REF!
E15: 소계 | F15: =SUM(F13:G14) -> #REF!
E16: 손해배상보험료 | F16: ='감리비 세부산출 내역'!G14+'감리비 세부산출 내역'!G15 -> #REF! | H16: 부가가치세 포함

Sheet 감리비 세부산출 내역
A1: 『2026년 가평 대성터널 제연설비 보강공사(소방) 감리용역』 감리용역비 산출내역
A2: ○ 세부산출내역
A3: 구 분 | B3: 산출근거 | G3: 금액
A4: ▶ 직접인건비 | G4: =G5+G6+G7 -> #REF!
A6: - 소방감리원(고급) | B6: =#REF! -> #REF! | C6: ⅹ | D6: =노임단가!H4 -> 301863 | E6: ⅹ | F6: =#REF! -> #REF! | G6: =TRUNC(B6*D6*F6,0) -> #REF!
A8: ▶ 제 경 비 | B8: 직접인건비의 110% 적용 | G8: =TRUNC(SUM(G4*110%),0) -> #REF!
A9: ▶ 기 술 료 | B9: (직접인건비+제경비)의 20% 적용 | G9: =TRUNC(SUM(G4+G8)*20%,0) -> #REF!
A10: ▶ 직접경비 | B10: 직접인건비의 10% 적용 | G10: =TRUNC((G4)*10%,0) -> #REF!
A11: 순 용 역 비 | G11: =ROUNDDOWN(G4+G8+G9+G10,0) -> #REF!
A12: 부가가치세 ① | B12: 순용역비의 10% | G12: =ROUNDDOWN(G11*10%,0) -> #REF!
A13: 산출금액 | B13: 순용역비+부가가치세 | G13: =G12+G11 -> #REF!
A14: 손해배상보험료 | B14: 1단계(순용역비 * 1.031%) + 2단계(순용역비 * 0.16%) | G14: =(G11*1.031%)+(G11*0.16%) -> #REF!
A15: 부가가치세 ② | B15: 손해배상보험료의 10% | G15: =ROUNDDOWN(G14*10%,0) -> #REF!
A16: 합 계 | B16: 산출금액+손해배상보험료+부가가치세 ② | G16: =G13+G14+G15 -> #REF!
A17: 도 급 예 정 액 | B17: - 천원미만 절사 | G17: =SUM(ROUNDDOWN(G16,-3)) -> #REF!
A19: ▶ 직접인건비(전기) : 전력기술관리법 운영요령 제26조(직접인건비) 감리원수에 고급감리원의 노임단가를 곱하여 산출
A20: ▶ 직접인건비(소방) : 소방시설공사업법 시행령 제9조(소방공사감리의 종류와 방법 및 대상) 감리원은 주1회 이상 공사 현장에 배치
A21: ▶ 직접경비 : 소방시설공사업법 시행령 제21조(소방기술용역의 대가 기준 산정방식) 공사 특수성에 따라 조정 적용할 수 있음
A22: ▶ 제경비 : 소방시설공사업법 시행령 제21조(소방기술용역의 대가 기준 산정방식) 직접인건비의 110 ∼ 120퍼센트로 계산
A23: ▶ 기술료 : 소방시설공사업법 시행령 제21조(소방기술용역의 대가 기준 산정방식) 직접인건비에 제경비를 합한 금액의 20∼40퍼센트로 계산

Sheet 소방공사 감리의 종류 및 방법, 배치기준
A1: [별표 3]소방시설공사업법 시행령 | F1: [별표 4] 소방시설공사업법 시행령
A2: 소방공사 감리의 종류, 방법 및 대상 (제9조 관련) | F2: 소방공사 감리원의 배치기준 (제11조 관련)
A3: 종 류 | B3: 대 상 | C3: 방 법 | F3: 감리원의 배치기준 | J3: 소방시설공사 현장의 기준
F4: 책임감리원 | H4: 보조감리원
A5: 상주공사 감 리 | B5: 1. 연면적 3만제곱미터 이상의 특정소방대상물(아파트는 제외한다)에 대한 소방시설의 공사 2. 지하층을 포함한 층수가 16층 이상으로서 500세대 이상인 아파트에 대한 소방시설의 공사 | C5: 1. 감리원은 행정안전부령으로 정하는 기간 동안 공사 현장에 상주하여 법 제16조제1항 각 호에 따른 업무를 수행하고 감리일지에 기록해야 한다. 다만, 법 제16조제1항제9호에 따른 업무는 행정안전부령으로 정하는 기간 동안 공사가 이루어지는 경우만 해당한다. | F5: 가. 행정안전부령으로 정하는 특급감리원 중 소방기술사 | H5: 행정안전부령으로 정하는 초급감리원 이상의 소방공사 감리원(기계분야 및 전기분야) | J5: 1) 연면적 20만제곱미터 이상인 특정소방대상물의 공사 현장 2) 지하층을 포함한 층수가 40층 이상인 특정소방대상물의 공사 현장
C8: 2. 감리원이 행정안전부령으로 정하는 기간 중 부득이한 사유로 1일 이상 현장을 이탈하는 경우에는 감리일지 등에 기록하여 발주청 또는 발주자의 확인을 받아야 한다. 이 경우 감리업자는 감리원의 업무를 대행할 사람을 감리현장에 배치하여 감리업무에 지장이 없도록 해야 한다. | F8: 나. 행정안전부령으로 정하는 특급감리원 이상의 소방공사 감리원(기계분야 및 전기분야) | H8: 행정안전부령으로 정하는 초급감리원 이상의 소방공사 감리원(기계분야 및 전기분야) | J8: 1) 연면적 3만제곱미터 이상 20만제곱미터 미만인 특정소방대상물(아파트는 제외한다)의 공사 현장 2) 지하층을 포함한 층수가 16층 이상 40층 미만인 특정소방대상물의 공사 현장
C11: 3. 감리업자는 감리원이 행정안전부령으로 정하는 기간 중 법에 따른 교육이나 「민방위기본법」 또는 「예비군법」에 따른 교육을 받는 경우나 「근로기준법」에 따른 유급휴가로 현장을 이탈하게 되는 경우에는 감리업무에 지장이 없도록 감리원의 업무를 대행할 사람을 감리현장에 배치해야 한다. 이 경우 감리원은 새로 배치되는 업무대행자에게 업무 인수·인계 등의 필요한 조치를 해야 한다. | F11: 다. 행정안전부령으로 정하는 고급감리원 이상의 소방공사 감리원(기계분야 및 전기분야) | H11: 행정안전부령으로 정하는 초급감리원 이상의 소방공사 감리원(기계분야 및 전기분야) | J11: 1) 물분무등소화설비(호스릴 방식의 소화설비는 제외한다) 또는 제연설비가 설치되는 특정소방대상물의 공사 현장 2) 연면적 3만제곱미터 이상 20만제곱미터 미만인 아파트의 공사 현장
A14: 일반공사 감 리 | B14: 상주 공사감리에 해당하지 않는 소방시설의 공사 | C14: 1. 감리원은 공사 현장에 배치되어 법 제16조제1항 각 호에 따른 업무를 수행한다. 다만, 법 제16조제1항제9호에 따른 업무는 행정안전부령으로 정하는 기간 동안 공사가 이루어지는 경우만 해당한다. | F14: 라. 행정안전부령으로 정하는 중급감리원 이상의 소방공사 감리원(기계분야 및 전기분야) | J14: 연면적 5천제곱미터 이상 3만제곱미터미만인 특정소방대상물의 공사 현장
C16: 2. 감리원은 행정안전부령으로 정하는 기간 중에는 주 1회 이상 공사 현장에 배치되어 제1호의 업무를 수행하고 감리일지에 기록해야 한다.
F17: 마. 행정안전부령으로 정하는 초급감리원 이상의 소방공사 감리원(기계분야 및 전기분야) | J17: 1) 연면적 5천제곱미터 미만인 특정소방대상물의 공사 현장 2) 지하구의 공사 현장
C19: 3. 감리업자는 감리원이 부득이한 사유로 14일 이내의 범위에서 제2호의 업무를 수행할 수 없는 경우에는 업무대행자를 지정하여 그 업무를 수행하게 해야 한다.
C22: 4. 제3호에 따라 지정된 업무대행자는 주 2회 이상 공사 현장에 배치되어 제1호의 업무를 수행하며, 그 업무수행 내용을 감리원에게 통보하고 감리일지에 기록해야 한다. | F22: 비고
F23: 가. "책임감리원"이란 해당 공사 전반에 관한 감리업무를 총괄하는 사람을 말한다.
F24: 나. "보조감리원"이란 책임감리원을 보좌하고 책임감리원의 지시를 받아 감리업무를 수행하는 사람을 말한다.
F25: 다. 소방시설공사 현장의 연면적 합계가 20만제곱미터 이상인 경우에는 20만제곱미터를 초과하는 연면적에 대하여 10만제곱미터(20만제곱미터를 초과하는 연면적이 10만제곱미터에 미달하는 경우에는 10만제곱미터로 본다)마다 보조감리원 1명 이상을 추가로 배치해야 한다.
F26: 라. 위 표에도 불구하고 상주 공사감리에 해당하지 않는 소방시설의 공사에는 보조감리원을 배치하지 않을 수 있다.
F27: 마. 특정 공사 현장이 2개 이상의 공사 현장 기준에 해당하는 경우에는 해당 공사 현장 기준에 따라 배치해야 하는 감리원을 각각 배치하지 않고 그 중 상위 등급 이상의 감리원을 배치할 수 있다.
F29: 2. 소방공사 감리원의 배치기간
F30: 가. 감리업자는 제1호의 기준에 따른 소방공사 감리원을 상주 공사감리 및 일반 공사감리로 구분하여 소방시설공사의 착공일부터 소방시설 완공검사증명서 발급일까지의 기간 중 행정안전부령으로 정하는 기간 동안 배치한다.
F31: 소방시설공사업법 시행규칙 [별표 3] 일반 공사감리기간(제16조 관련) ※ 비고에 따라 "위 각 호에 따른 소방시설의 일반공사 감리기간은 소방시설의 성능시험, 소방시설 완공검사증명서의 발급ㆍ인수인계 및 소방공사의 정산을 하는 기간을 포함한다."
F32: 나. 감리업자는 가목에도 불구하고 시공관리, 품질 및 안전에 지장이 없는 경우로서 다음의 어느 하나에 해당하여 발주자가 서면으로 승낙하는 경우에는 해당 공사가 중단된 기간 동안 감리원을 공사현장에 배치하지 않을 수 있다.
F33: 1) 민원 또는 계절적 요인 등으로 해당 공정의 공사가 일정 기간 중단된 경우
F34: 2) 예산의 부족 등 발주자(하도급의 경우에는 수급인을 포함한다. 이하 이 목에서 같다)의 책임 있는 사유 또는 천재지변 등 불가항력으로 공사가 일정기간 중단된 경우
F35: 3) 발주자가 공사의 중단을 요청하는 경우
... F40: 다. 감리원은 주 1회 이상 소방공사감리현장에 배치되어 감리할 것

Sheet 예정공정표
A1: 예 정 공 정 표
A4: 일 | C4: 60 | F4: 120 | I4: 180 | L4: 240 | O4: 비 고
A5: 공종
A6: 1. 착공신고 및 감리원 배치신고 자재승인 (제트팬)
A9: 2. 자재검수 및 현장설치 감리 (제트팬 및 자동환경제어설비)
A12: 4. 제트팬 성능시험 및 자동제어 연동시험
A15: 5. 소방시설 완공검사신청(소방필증) 및 감리보고서 제출
A21: 1. | B21: 토 공 | C21: 7177778
A22: 2. | B22: 배수공 | C22: 6442720
A23: 3. | C23: 97576776
A24: 4. | C24: 524562
A25: 5. | C25: 1433120
A26: 6. | B26: 포장공 | C26: 22497955
A27: 7. | B27: 부대공 | C27: 4753170
B28: 소 계 | C28: 140406081

Sheet 노임단가
A1: ○ 2026년도 감리원 임금
A2: 기술등급 | B2: 기계/설비 | C2: 전기 | D2: 정보통신 | E2: 건설 | F2: 환경 | G2: 원자력 | H2: 기타
A3: 특급기술자 | B3: 401407 | C3: 360108 | D3: 343079 | E3: 373353 | F3: 362012 | G3: 463039 | H3: 357676
A4: 고급기술자 | B4: 335379 | C4: 311965 | D4: 315288 | E4: 310884 | F4: 323993 | G4: 395526 | H4: 301863
A5: 중급기술자 | B5: 300463 | C5: 300452 | D5: 283343 | E5: 295138 | F5: 272129 | G5: 363751 | H5: 261545
A6: 초급기술자 | B6: 263602 | C6: 248432 | D6: 249574 | E6: 235459 | F6: 246584 | G6: 297437 | H6: 229278

Sheet 손해배상보험공제 요율
