Workbook

Sheet 원가계산서
B1: 공 사 원 가 계 산 서
B2: 공사명 : 아산PSD 사무실 증축공사 | F2: 금액 : 칠억사천백팔십만칠천원(￦741,807,000)
B3: 비 목 | E3: 금 액 | F3: 구 성 비 | G3: 비 고
A4: A1 | B4: 순 공 사 원 가 | C4: 재 료 비 | D4: 직 접 재 료 비 | E4: =TRUNC(공종별집계표!F5, 0) -> 257960858
A5: A2 | D5: 간 접 재 료 비 | E5: 0
A6: A3 | D6: 작업설, 부산물(△) | E6: 0
A7: AS | D7: [ 소 계 ] | E7: =TRUNC(E4+E5-E6, 0) -> 257960858
A8: B1 | C8: 노 무 비 | D8: 직 접 노 무 비 | E8: =TRUNC(공종별집계표!H5, 0) -> 202083278
A9: B2 | D9: 간 접 노 무 비 | E9: =TRUNC(E8*0.175, 0) -> 35364573 | F9: 직접노무비 * 17.5%
A10: BS | D10: [ 소 계 ] | E10: =TRUNC(E8+E9, 0) -> 237447851
A11: C2 | C11: 경 비 | D11: 경 비 | E11: =TRUNC(공종별집계표!J5, 0) -> 8744770
A12: C4 | D12: 산 재 보 험 료 | E12: =TRUNC(E10*0.0356, 0) -> 8453143 | F12: 노무비 * 3.56%
A13: C5 | D13: 고 용 보 험 료 | E13: =TRUNC(E10*0.0101, 0) -> 2398223 | F13: 노무비 * 1.01%
A14: C6 | D14: 국민 건강 보험료 | E14: =TRUNC(E8*0.03595, 0) -> 7264893 | F14: 직접노무비 * 3.595%
A15: C7 | D15: 국민 연금 보험료 | E15: =TRUNC(E8*0.0475, 0) -> 9598955 | F15: 직접노무비 * 4.75%
A16: CB | D16: 노인장기요양보험료 | E16: =TRUNC(E14*0.1314, 0) -> 954606 | F16: 건강보험료 * 13.14%
A17: C8 | D17: 퇴직 공제 부금비 | E17: =TRUNC(E8*0.023, 0) -> 4647915 | F17: 직접노무비 * 2.3%
A18: CA | D18: 산업안전보건관리비 | E18: =TRUNC((E7+E8+(0/1.1))*0.0311, 0) -> 14307372 | F18: (재료비+직노+관급자재비) * 3.11%
A19: CG | D19: 기 타 경 비 | E19: =TRUNC((E7+E10)*0.05, 0) -> 24770435 | F19: (재료비+노무비) * 5%
A20: CH | D20: 환 경 보 전 비 | E20: =TRUNC((E7+E8+E11)*0.005, 0) -> 2343944 | F20: (재료비+직노+경비) * 0.5%
A21: CL | D21: 건설기계대여금지급보증서발급수수료 | E21: =TRUNC((E7+E8+E11)*0.0007, 0) -> 328152 | F21: (재료비+직노+경비) * 0.07%
A22: CM | D22: 석 면 분 담 금 | E22: =TRUNC(E10*0.00006, 0) -> 14246 | F22: 노무비 * 0.006%
A23: CN | D23: 임 금 채 권 부 담 금 | E23: =TRUNC(E10*0.0009, 0) -> 213703 | F23: 노무비 * 0.09%
A24: CS | D24: [ 소 계 ] | E24: =TRUNC(E11+E12+E13+E14+E15+E17+E18+E16+E19+E20+E21+E22+E23, 0) -> 84040357
A25: S1 | B25: 계 | E25: =TRUNC(E7+E10+E24, 0) -> 579449066
A26: D1 | B26: 일 반 관 리 비 | E26: =TRUNC(E25*0.08, 0) -> 46355925 | F26: 계 * 8%
A27: D2 | B27: 이 윤 | E27: =TRUNC((E10+E24+E26)*0.15, 0) -> 55176619 | F27: (노무비+경비+일반관리비) * 15%
A28: D4 | B28: 작 업 부 산 물 | E28: =TRUNC(공종별집계표!T23+공종별집계표!T26, 0) -> 6607804
A29: D9 | B29: 공 급 가 액 | E29: =TRUNC(E25+E26+E27-E28, -4) -> 674370000 | G29: 천단위이하절사
A30: DB | B30: 부 가 가 치 세 | E30: =TRUNC(E29*0.1, 0) -> 67437000 | F30: 공급가액 * 10%
A31: DH | B31: 도 급 액 | E31: =TRUNC(E29+E30, 0) -> 741807000
A32: S2 | B32: 총 공 사 비 | E32: =TRUNC(E31+0, 0) -> 741807000

Sheet 공종별집계표
A1: 공 종 별 집 계 표
A2: [ 아산PSD 사무실 증축공사 ]
A3: 품 명 | B3: 규 격 | C3: 단위 | D3: 수량 | E3: 재 료 비 | G3: 노 무 비 | I3: 경 비 | K3: 합 계 | M3: 비 고 | N3: 공종코드 | O3: 변수 | P3: 상위공종 | Q3: 공종구분 | R3: 공종레벨 | S3: 공종소계 | T3: 원가계산서 연결금액
E4: 단 가 | F4: 금 액 | G4: 단 가 | H4: 금 액 | I4: 단 가 | J4: 금 액 | K4: 단 가 | L4: 금 액
A5: 01 아산PSD 사무실 증축공사 | D5: 1 | E5: =F6+F24 -> 257960858 | F5: =E5*D5 -> 257960858 | G5: =H6+H24 -> 202083278 | H5: =G5*D5 -> 202083278 | I5: =J6+J24 -> 8744770 | J5: =I5*D5 -> 8744770 | K5: =E5+G5+I5 -> 468788906 | L5: =F5+H5+J5 -> 468788906 | N5: 01 | R5: 1
A6: 1. 건축공사 | D6: 1 | E6: =F7+F8+F9+F10+F11+F12+F13+F14+F15+F16+F17+F18+F19+F20+F21+F22 -> 171032311 | F6: =E6*D6 -> 171032311 | G6: =H7+H8+H9+H10+H11+H12+H13+H14+H15+H16+H17+H18+H19+H20+H21+H22 -> 145689579 | H6: =G6*D6 -> 145689579 | I6: =J7+J8+J9+J10+J11+J12+J13+J14+J15+J16+J17+J18+J19+J20+J21+J22 -> 8744770 | J6: =I6*D6 -> 8744770 | K6: =E6+G6+I6 -> 325466660 | L6: =F6+H6+J6 -> 325466660 | N6: 0101 | P6: 01 | R6: 2
A7: 010101 가 설 공 사 | D7: 1 | E7: =공종별내역서!F27 -> 319732 | F7: =E7*D7 -> 319732 | G7: =공종별내역서!H27 -> 5359433 | H7: =G7*D7 -> 5359433 | I7: =공종별내역서!J27 -> 3846965 | J7: =I7*D7 -> 3846965 | K7: =E7+G7+I7 -> 9526130 | L7: =F7+H7+J7 -> 9526130 | N7: 010101 | P7: 0101 | R7: 3
A8: 010102 바닥 단열및무근설치 | D8: 1 | E8: =공종별내역서!F51 -> 6336251 | F8: =E8*D8 -> 6336251 | G8: =공종별내역서!H51 -> 2419605 | H8: =G8*D8 -> 2419605 | I8: =공종별내역서!J51 -> 20652 | J8: =I8*D8 -> 20652 | K8: =E8+G8+I8 -> 8776508 | L8: =F8+H8+J8 -> 8776508 | N8: 010102 | P8: 0101 | R8: 3
A9: 010103 철 골 공 사 | D9: 1 | E9: =공종별내역서!F75 -> 10647414 | F9: =E9*D9 -> 10647414 | G9: =공종별내역서!H75 -> 25706220 | H9: =G9*D9 -> 25706220 | I9: =공종별내역서!J75 -> 1135270 | J9: =I9*D9 -> 1135270 | K9: =E9+G9+I9 -> 37488904 | L9: =F9+H9+J9 -> 37488904 | N9: 010103 | P9: 0101 | R9: 3
A10: 010104 조 적 공 사 | D10: 1 | E10: =공종별내역서!F99 -> 13087563 | F10: =E10*D10 -> 13087563 | G10: =공종별내역서!H99 -> 29880240 | H10: =G10*D10 -> 29880240 | I10: =공종별내역서!J99 -> 817965 | J10: =I10*D10 -> 817965 | K10: =E10+G10+I10 -> 43785768 | L10: =F10+H10+J10 -> 43785768 | N10: 010104 | P10: 0101 | R10: 3
A11: 010105 방 수 공 사 | D11: 1 | E11: =공종별내역서!F123 -> 1790624 | F11: =E11*D11 -> 1790624 | G11: =공종별내역서!H123 -> 3108776 | H11: =G11*D11 -> 3108776 | I11: =공종별내역서!J123 -> 82568 | J11: =I11*D11 -> 82568 | K11: =E11+G11+I11 -> 4981968 | L11: =F11+H11+J11 -> 4981968 | N11: 010105 | P11: 0101 | R11: 3
A12: 010106 타일 및 석공사 | D12: 1 | E12: =공종별내역서!F147 -> 7350791 | F12: =E12*D12 -> 7350791 | G12: =공종별내역서!H147 -> 17540980 | H12: =G12*D12 -> 17540980 | I12: =공종별내역서!J147 -> 445528 | J12: =I12*D12 -> 445528 | K12: =E12+G12+I12 -> 25337299 | L12: =F12+H12+J12 -> 25337299 | N12: 010106 | P12: 0101 | R12: 3
A13: 010107 목 공 사 | D13: 1 | E13: =공종별내역서!F171 -> 475504 | F13: =E13*D13 -> 475504 | G13: =공종별내역서!H171 -> 2260832 | H13: =G13*D13 -> 2260832 | I13: =공종별내역서!J171 -> 14608 | J13: =I13*D13 -> 14608 | K13: =E13+G13+I13 -> 2750944 | L13: =F13+H13+J13 -> 2750944 | N13: 010107 | P13: 0101 | R13: 3
A14: 010108 금 속 공 사 | D14: 1 | E14: =공종별내역서!F195 -> 56729432 | F14: =E14*D14 -> 56729432 | G14: =공종별내역서!H195 -> 7189100 | H14: =G14*D14 -> 7189100 | I14: =공종별내역서!J195 -> 272298 | J14: =I14*D14 -> 272298 | K14: =E14+G14+I14 -> 64190830 | L14: =F14+H14+J14 -> 64190830 | N14: 010108 | P14: 0101 | R14: 3
A15: 010109 미 장 공 사 | D15: 1 | E15: =공종별내역서!F219 -> 109480 | F15: =E15*D15 -> 109480 | G15: =공종별내역서!H219 -> 10292575 | H15: =G15*D15 -> 10292575 | I15: =공종별내역서!J219 -> 182841 | J15: =I15*D15 -> 182841 | K15: =E15+G15+I15 -> 10584896 | L15: =F15+H15+J15 -> 10584896 | N15: 010109 | P15: 0101 | R15: 3
A16: 010110 창 호 공 사 | D16: 1 | E16: =공종별내역서!F267 -> 24293854 | F16: =E16*D16 -> 24293854 | G16: =공종별내역서!H267 -> 7621113 | H16: =G16*D16 -> 7621113 | I16: =공종별내역서!J267 -> 393049 | J16: =I16*D16 -> 393049 | K16: =E16+G16+I16 -> 32308016 | L16: =F16+H16+J16 -> 32308016 | N16: 010110 | P16: 0101 | R16: 3
A17: 010111 유 리 공 사 | D17: 1 | E17: =공종별내역서!F291 -> 18140 | F17: =E17*D17 -> 18140 | G17: =공종별내역서!H291 -> 27157 | H17: =G17*D17 -> 27157 | I17: 0 | J17: =I17*D17 -> 0 | K17: =E17+G17+I17 -> 45297 | L17: =F17+H17+J17 -> 45297 | N17: 010111 | P17: 0101 | R17: 3
A18: 010112 도 장 공 사 | D18: 1 | E18: =공종별내역서!F314 -> 669620 | F18: =E18*D18 -> 669620 | G18: =공종별내역서!H314 -> 3837000 | H18: =G18*D18 -> 3837000 | I18: =공종별내역서!J314 -> 0 | J18: =I18*D18 -> 0 | K18: =E18+G18+I18 -> 4506620 | L18: =F18+H18+J18 -> 4506620 | N18: 010112 | P18: 0101 | R18: 3
A19: 010113 수 장 공 사 | D19: 1 | E19: =공종별내역서!F338 -> 27171561 | F19: =E19*D19 -> 27171561 | G19: =공종별내역서!H338 -> 13664217 | H19: =G19*D19 -> 13664217 | I19: =공종별내역서!J338 -> 1281864 | J19: =I19*D19 -> 1281864 | K19: =E19+G19+I19 -> 42117642 | L19: =F19+H19+J19 -> 42117642 | N19: 010113 | P19: 0101 | R19: 3
A20: 010114 가 구 설 치 | D20: 1 | E20: =공종별내역서!F362 -> 13498370 | F20: =E20*D20 -> 13498370 | G20: =공종별내역서!H362 -> 0 | H20: =G20*D20 -> 0 | I20: =공종별내역서!J362 -> 0 | J20: =I20*D20 -> 0 | K20: =E20+G20+I20 -> 13498370 | L20: =F20+H20+J20 -> 13498370 | N20: 010114 | P20: 0101 | R20: 3
A21: 010115 철 거 공 사 | D21: 1 | E21: =공종별내역서!F386 -> 314819 | F21: =E21*D21 -> 314819 | G21: =공종별내역서!H386 -> 16782331 | H21: =G21*D21 -> 16782331 | I21: =공종별내역서!J386 -> 251162 | J21: =I21*D21 -> 251162 | K21: =E21+G21+I21 -> 17348312 | L21: =F21+H21+J21 -> 17348312 | N21: 010115 | P21: 0101 | R21: 3
A22: 010116 골 재 비 | D22: 1 | E22: =공종별내역서!F410 -> 8219156 | F22: =E22*D22 -> 8219156 | G22: =공종별내역서!H410 -> 0 | H22: =G22*D22 -> 0 | I22: =공종별내역서!J410 -> 0 | J22: =I22*D22 -> 0 | K22: =E22+G22+I22 -> 8219156 | L22: =F22+H22+J22 -> 8219156 | N22: 010116 | P22: 0101 | R22: 3
A23: 010117 작 업 부 산 물 | D23: 1 | E23: =공종별내역서!F434 -> 4474424 | F23: =E23*D23 -> 4474424 | G23: =공종별내역서!H434 -> 0 | H23: =G23*D23 -> 0 | I23: =공종별내역서!J434 -> 0 | J23: =I23*D23 -> 0 | K23: =E23+G23+I23 -> 4474424 | L23: =F23+H23+J23 -> 4474424 | N23: 010117 | Q23: 1 | R23: 3 | T23: =L23*1 -> 4474424
A24: 2. 기계설비공사 | D24: 1 | E24: =F25 -> 86928547 | F24: =D24*E24 -> 86928547 | G24: =H25 -> 56393699 | H24: =D24*G24 -> 56393699 | I24: =J25 -> 0 | J24: =D24*I24 -> 0 | K24: =E24+G24+I24 -> 143322246 | L24: =F24+H24+J24 -> 143322246
A25: 020101 기 계 설 비 공 사 | D25: 1 | E25: =공종별내역서!F458 -> 86928547 | F25: =E25*D25 -> 86928547 | G25: =공종별내역서!H458 -> 56393699 | H25: =G25*D25 -> 56393699 | I25: =공종별내역서!J458 -> 0 | J25: =I25*D25 -> 0 | K25: =E25+G25+I25 -> 143322246 | L25: =F25+H25+J25 -> 143322246 | N25: 010118 | P25: 0101 | R25: 3
A26: 020102 작 업 부 산 물 | D26: 1 | E26: =공종별내역서!F482 -> 2133380 | F26: =E26*D26 -> 2133380 | G26: =공종별내역서!H482 -> 0 | H26: =G26*D26 -> 0 | I26: =공종별내역서!J482 -> 0 | J26: =I26*D26 -> 0 | K26: =E26+G26+I26 -> 2133380 | L26: =F26+H26+J26 -> 2133380 | N26: 010119 | P26: 0101 | R26: 3 | T26: =L26*1 -> 2133380
A30: [ 합 계 ] | F30: =F5 -> 257960858 | H30: =H5 -> 202083278 | J30: =J5 -> 8744770 | L30: =L5 -> 468788906

Sheet 공종별내역서
A1: [ 아산PSD 사무실 증축공사 ]
A2: 품 명 | B2: 규 격 | C2: 단위 | D2: 수량 | E2: 재 료 비 | G2: 노 무 비 | I2: 경 비 | K2: 합 계 | M2: 비 고 | N2: 품목코드 | O2: 변수 | P2: 설정 | Q2: 공종코드 | R2: 일위 | S2: 단산 | T2: 자재 | U2: 손료적용 | V2: 손료저장 | W2: 적용율 | X2: JUK1 | Y2: JUK2 | Z2: JUK3 | AA2: JUK4 | AB2: JUK5 | AC2: JUK6 | AD2: JUK7 | AE2: JUK8 | AF2: JUK9 | AG2: JUK10 | AH2: JUK11 | AI2: JUK12 | AJ2: JUK13 | AK2: JUK14 | AL2: JUK15 | AM2: JUK16 | AN2: JUK17 | AO2: JUK18 | AP2: JUK19 | AQ2: JUK20 | AR2: 자재구분 | AS2: 공종구분 | AT2: 공종레벨 | AU2: 공종+자재 | AV2: 고유번호
E3: 단 가 | F3: 금 액 | G3: 단 가 | H3: 금 액 | I3: 단 가 | J3: 금 액 | K3: 단 가 | L3: 금 액
A4: 010101 가 설 공 사 | Q4: 010101
A5: 컨테이너형 가설건축물 - 사무실 | B5: 3.0*6.0*2.6m, 3개월 | C5: 개소 | D5: 1 | E5: =TRUNC([1]일위대가목록!E4,0) -> 0 | F5: =TRUNC(E5*D5, 0) -> 0 | G5: =TRUNC([1]일위대가목록!F4,0) -> 0 | H5: =TRUNC(G5*D5, 0) -> 0 | I5: =TRUNC([1]일위대가목록!G4,0) -> 1018210 | J5: =TRUNC(I5*D5, 0) -> 1018210 | K5: =TRUNC(E5+G5+I5, 0) -> 1018210 | L5: =TRUNC(F5+H5+J5, 0) -> 1018210 | N5: 50DE819E57A077746108354B12A80E | Q5: 010101 | R5: T | S5: F | T5: F | AU5: 01010150DE819E57A077746108354B12A80E | AV5: 150
A6: 가설울타리 설치 및 해체/E.G.I철판 | B6: H=3.0, 3개월 | C6: M | D6: 59 | E6: =TRUNC([1]일위대가목록!E5,0) -> 0 | F6: =TRUNC(E6*D6, 0) -> 0 | G6: =TRUNC([1]일위대가목록!F5,0) -> 0 | H6: =TRUNC(G6*D6, 0) -> 0 | I6: =TRUNC([1]일위대가목록!G5,0) -> 47945 | J6: =TRUNC(I6*D6, 0) -> 2828755 | K6: =TRUNC(E6+G6+I6, 0) -> 47945 | L6: =TRUNC(F6+H6+J6, 0) -> 2828755 | N6: 50DE819E61E3A6A4AE9893879DF8C4 | Q6: 010101 | R6: T | S6: F | T6: F | AU6: 01010150DE819E61E3A6A4AE9893879DF8C4 | AV6: 196
A7: 강관 조립말비계(이동식)설치 및 해체 | B7: 높이 2m, 3개월 | C7: 대 | D7: 2 | E7: =TRUNC([1]일위대가목록!E6,0) -> 19557 | F7: =TRUNC(E7*D7, 0) -> 39114 | G7: =TRUNC([1]일위대가목록!F6,0) -> 95287 | H7: =TRUNC(G7*D7, 0) -> 190574 | I7: =TRUNC([1]일위대가목록!G6,0) -> 0 | J7: =TRUNC(I7*D7, 0) -> 0 | K7: =TRUNC(E7+G7+I7, 0) -> 114844 | L7: =TRUNC(F7+H7+J7, 0) -> 229688 | N7: 50DE819E61C0F21421E8DBCA63D833 | Q7: 010101 | R7: T | S7: F | T7: F | AU7: 01010150DE819E61C0F21421E8DBCA63D833 | AV7: 4
A8: 강관 조립말비계(이동식)설치 및 해체 | B8: 높이 4m, 3개월 | C8: 대 | D8: 2 | E8: =TRUNC([1]일위대가목록!E7,0) -> 32374 | F8: =TRUNC(E8*D8, 0) -> 64748 | G8: =TRUNC([1]일위대가목록!F7,0) -> 158067 | H8: =TRUNC(G8*D8, 0) -> 316134 | I8: =TRUNC([1]일위대가목록!G7,0) -> 0 | J8: =TRUNC(I8*D8, 0) -> 0 | K8: =TRUNC(E8+G8+I8, 0) -> 190441 | L8: =TRUNC(F8+H8+J8, 0) -> 380882 | N8: 50DE819E61C0F21421E8DBF7BA0890 | Q8: 010101 | R8: T | S8: F | T8: F | AU8: 01010150DE819E61C0F21421E8DBF7BA0890 | AV8: 5
A9: 건축물 현장정리(청소포함) | B9: 수선 | C9: M2 | D9: 200 | E9: =TRUNC([1]일위대가목록!E8,0) -> 0 | F9: =TRUNC(E9*D9, 0) -> 0 | G9: =TRUNC([1]일위대가목록!F8,0) -> 13470 | H9: =TRUNC(G9*D9, 0) -> 2694000 | I9: =TRUNC([1]일위대가목록!G8,0) -> 0 | J9: =TRUNC(I9*D9, 0) -> 0 | K9: =TRUNC(E9+G9+I9, 0) -> 13470 | L9: =TRUNC(F9+H9+J9, 0) -> 2694000 | N9: 50DE819E34A5B48459C89726A2A8D0 | Q9: 010101 | R9: T | S9: F | T9: F | AU9: 01010150DE819E34A5B48459C89726A2A8D0 | AV9: 6
A10: 집기비품류 이동 및 제설치-보통 | B10: 관리실(70m2이하),기계경비별도 | C10: 실 | D10: 5 | E10: =TRUNC([1]일위대가목록!E9,0) -> 43174 | F10: =TRUNC(E10*D10, 0) -> 215870 | G10: =TRUNC([1]일위대가목록!F9,0) -> 431745 | H10: =TRUNC(G10*D10, 0) -> 2158725 | I10: =TRUNC([1]일위대가목록!G9,0) -> 0 | J10: =TRUNC(I10*D10, 0) -> 0 | K10: =TRUNC(E10+G10+I10, 0) -> 474919 | L10: =TRUNC(F10+H10+J10, 0) -> 2374595 | N10: 50DE819E34A5B48459C89726A298CE | Q10: 010101 | R10: T | S10: F | T10: F | AU10: 01010150DE819E34A5B48459C89726A298CE | AV10: 197
Q11: 010101
Q12: 010101
Q13: 010101
Q14: 010101
Q15: 010101
Q16: 010101
Q17: 010101
Q18: 010101
Q19: 010101
Q20: 010101
Q21: 010101
Q22: 010101
... Q26: 010101
A27: [ 합 계 ] | F27: =SUMIF(Q5:Q26,"010101",F5:F26) -> 319732 | H27: =SUMIF(Q5:Q26,"010101",H5:H26) -> 5359433 | J27: =SUMIF(Q5:Q26,"010101",J5:J26) -> 3846965 | L27: =SUMIF(Q5:Q26,"010101",L5:L26) -> 9526130 | N27: TOTAL
A28: 010102 바닥 단열및무근설치 | Q28: 010102
A29: 무근콘크리트(와이어메시포함) | B29: 바닥, T80 | C29: M2 | D29: 203 | E29: =TRUNC([1]일위대가목록!E10,0) -> 10368 | F29: =TRUNC(E29*D29, 0) -> 2104704 | G29: =TRUNC([1]일위대가목록!F10,0) -> 6041 | H29: =TRUNC(G29*D29, 0) -> 1226323 | I29: =TRUNC([1]일위대가목록!G10,0) -> 93 | J29: =TRUNC(I29*D29, 0) -> 18879 | K29: =TRUNC(E29+G29+I29, 0) -> 16502 | L29: =TRUNC(F29+H29+J29, 0) -> 3349906 | N29: 50DE31961B159DC4A3A81D0F0E18C3 | Q29: 010102 | R29: T | S29: F | T29: F | AU29: 01010250DE31961B159DC4A3A81D0F0E18C3 | AV29: 15
A30: 무근콘크리트(와이어메시포함) | B30: 외부슬로프, T120 | C30: M2 | D30: 11 | E30: =TRUNC([1]일위대가목록!E11,0) -> 14297 | F30: =TRUNC(E30*D30, 0) -> 157267 | G30: =TRUNC([1]일위대가목록!F11,0) -> 8376 | H30: =TRUNC(G30*D30, 0) -> 92136 | I30: =TRUNC([1]일위대가목록!G11,0) -> 140 | J30: =TRUNC(I30*D30, 0) -> 1540 | K30: =TRUNC(E30+G30+I30, 0) -> 22813 | L30: =TRUNC(F30+H30+J30, 0) -> 250943 | N30: 50DE31961B159DC4A3A81D0F0E18C2 | Q30: 010102 | R30: T | S30: F | T30: F | AU30: 01010250DE31961B159DC4A3A81D0F0E18C2 | AV30: 16
A31: 무근콘크리트(와이어메시포함) | B31: 온수패드, T200 | C31: M2 | D31: 1 | E31: =TRUNC([1]일위대가목록!E12,0) -> 22155 | F31: =TRUNC(E31*D31, 0) -> 22155 | G31: =TRUNC([1]일위대가목록!F12,0) -> 13045 | H31: =TRUNC(G31*D31, 0) -> 13045 | I31: =TRUNC([1]일위대가목록!G12,0) -> 233 | J31: =TRUNC(I31*D31, 0) -> 233 | K31: =TRUNC(E31+G31+I31, 0) -> 35433 | L31: =TRUNC(F31+H31+J31, 0) -> 35433 | N31: 50DE31961B159DC4A3A81D0F0E18C1 | Q31: 010102 | R31: T | S31: F | T31: F | AU31: 01010250DE31961B159DC4A3A81D0F0E18C1 | AV31: 211
A32: 단열재 바닥 깔기(비드법2종1호) | B32: 125mm, 가등급 | C32: M2 | D32: 49 | E32: =TRUNC([1]일위대가목록!E13,0) -> 18557 | F32: =TRUNC(E32*D32, 0) -> 909293 | G32: =TRUNC([1]일위대가목록!F13,0) -> 3633 | H32: =TRUNC(G32*D32, 0) -> 178017 | I32: =TRUNC([1]일위대가목록!G13,0) -> 0 | J32: =TRUNC(I32*D32, 0) -> 0 | K32: =TRUNC(E32+G32+I32, 0) -> 22190 | L32: =TRUNC(F32+H32+J32, 0) -> 1087310 | N32: 50DE6199EF630874B808700339C8BC | Q32: 010102 | R32: T | S32: F | T32: F | AU32: 01010250DE6199EF630874B808700339C8BC | AV32: 8
A33: 단열재 바닥 깔기(비드법2종1호) | B33: 110mm, 가등급 | C33: M2 | D33: 154 | E33: =TRUNC([1]일위대가목록!E14,0) -> 16330 | F33: =TRUNC(E33*D33, 0) -> 2514820 | G33: =TRUNC([1]일위대가목록!F14,0) -> 3133 | H33: =TRUNC(G33*D33, 0) -> 482482 | I33: =TRUNC([1]일위대가목록!G14,0) -> 0 | J33: =TRUNC(I33*D33, 0) -> 0 | K33: =TRUNC(E33+G33+I33, 0) -> 19463 | L33: =TRUNC(F33+H33+J33, 0) -> 2997302 | N33: 50DE6199EF630874B808700339C8BF | Q33: 010102 | R33: T | S33: F | T33: F | AU33: 01010250DE6199EF630874B808700339C8BF | AV33: 9
A34: EVA소음진동완충재 | B34: 바닥, T30 | C34: M2 | D34: 49 | E34: =TRUNC([1]일위대가목록!E15,0) -> 9900 | F34: =TRUNC(E34*D34, 0) -> 485100 | G34: =TRUNC([1]일위대가목록!F15,0) -> 2649 | H34: =TRUNC(G34*D34, 0) -> 129801 | I34: =TRUNC([1]일위대가목록!G15,0) -> 0 | J34: =TRUNC(I34*D34, 0) -> 0 | K34: =TRUNC(E34+G34+I34, 0) -> 12549 | L34: =TRUNC(F34+H34+J34, 0) -> 614901 | N34: 50DE6199EF630844E65844E74BF84F | Q34: 010102 | R34: T | S34: F | T34: F | AU34: 01010250DE6199EF630844E65844E74BF84F | AV34: 10
A35: 방습필름 설치 - 바닥 | B35: 폴리에틸렌필름, 두께, 0.1mm, 1겹 | C35: M2 | D35: 203 | E35: =TRUNC([1]일위대가목록!E16,0) -> 704 | F35: =TRUNC(E35*D35, 0) -> 142912 | G35: =TRUNC([1]일위대가목록!F16,0) -> 1467 | H35: =TRUNC(G35*D35, 0) -> 297801 | I35: =TRUNC([1]일위대가목록!G16,0) -> 0 | J35: =TRUNC(I35*D35, 0) -> 0 | K35: =TRUNC(E35+G35+I35, 0) -> 2171 | L35: =TRUNC(F35+H35+J35, 0) -> 440713 | N35: 50DE6199EF7D6294C41815381D988B | Q35: 010102 | R35: T | S35: F | T35: F | AU35: 01010250DE6199EF7D6294C41815381D988B | AV35: 151
Q36: 010102
Q37: 010102
Q38: 010102
Q39: 010102
Q40: 010102
Q41: 010102
Q42: 010102
Q43: 010102
...
