Workbook

Sheet 원가계산서
B1: 공 사 원 가 계 산 서
B2: 공사명 : 아산PSD 사무실 증축공사 | F2: 금액 : 칠억사천백팔십만칠천원(￦741,807,000)
B3: 비 목 | E3: 금 액 | F3: 구 성 비 | G3: 비 고
A4: A1 | B4: 순 공 사 원 가 | C4: 재 료 비 | D4: 직 접 재 료 비 | E4: =TRUNC(공종별집계표!F5, 0) -> 257960858
A5: A2 | D5: 간 접 재 료 비 | E5: 0
A6: A3 | D6: 작업설, 부산물(△) | E6: 0
A7: AS | D7: [ 소 계 ] | E7: =TRUNC(E4+E5-E6, 0) -> 257960858
A8: B1 | C8: 노 무 비 | D8: 직 접 노 무 비 | E8: =TRUNC(공종별집계표!H5, 0) -> 202083278
A9: B2 | D9: 간 접 노 무 비 | E9: =TRUNC(E8*0.175, 0) -> 35364573 | F9: 직접노무비 * 17.5%
A10: BS | D10: [ 소 계 ] | E10: =TRUNC(E8+E9, 0) -> 237447851
A11: C2 | C11: 경 비 | D11: 경 비 | E11: =TRUNC(공종별집계표!J5, 0) -> 8744770
A12: C4 | D12: 산 재 보 험 료 | E12: =TRUNC(E10*0.0356, 0) -> 8453143 | F12: 노무비 * 3.56%
A13: C5 | D13: 고 용 보 험 료 | E13: =TRUNC(E10*0.0101, 0) -> 2398223 | F13: 노무비 * 1.01%
A14: C6 | D14: 국민 건강 보험료 | E14: =TRUNC(E8*0.03595, 0) -> 7264893 | F14: 직접노무비 * 3.595%
A15: C7 | D15: 국민 연금 보험료 | E15: =TRUNC(E8*0.0475, 0) -> 9598955 | F15: 직접노무비 * 4.75%
A16: CB | D16: 노인장기요양보험료 | E16: =TRUNC(E14*0.1314, 0) -> 954606 | F16: 건강보험료 * 13.14%
A17: C8 | D17: 퇴직 공제 부금비 | E17: =TRUNC(E8*0.023, 0) -> 4647915 | F17: 직접노무비 * 2.3%
A18: CA | D18: 산업안전보건관리비 | E18: =TRUNC((E7+E8+(0/1.1))*0.0311, 0) -> 14307372 | F18: (재료비+직노+관급자재비) * 3.11%
A19: CG | D19: 기 타 경 비 | E19: =TRUNC((E7+E10)*0.05, 0) -> 24770435 | F19: (재료비+노무비) * 5%
A20: CH | D20: 환 경 보 전 비 | E20: =TRUNC((E7+E8+E11)*0.005, 0) -> 2343944 | F20: (재료비+직노+경비) * 0.5%
A21: CL | D21: 건설기계대여금지급보증서발급수수료 | E21: =TRUNC((E7+E8+E11)*0.0007, 0) -> 328152 | F21: (재료비+직노+경비) * 0.07%
A22: CM | D22: 석 면 분 담 금 | E22: =TRUNC(E10*0.00006, 0) -> 14246 | F22: 노무비 * 0.006%
A23: CN | D23: 임 금 채 권 부 담 금 | E23: =TRUNC(E10*0.0009, 0) -> 213703 | F23: 노무비 * 0.09%
A24: CS | D24: [ 소 계 ] | E24: =TRUNC(E11+E12+E13+E14+E15+E17+E18+E16+E19+E20+E21+E22+E23, 0) -> 84040357
A25: S1 | B25: 계 | E25: =TRUNC(E7+E10+E24, 0) -> 579449066
A26: D1 | B26: 일 반 관 리 비 | E26: =TRUNC(E25*0.08, 0) -> 46355925 | F26: 계 * 8%
A27: D2 | B27: 이 윤 | E27: =TRUNC((E10+E24+E26)*0.15, 0) -> 55176619 | F27: (노무비+경비+일반관리비) * 15%
A28: D4 | B28: 작 업 부 산 물 | E28: =TRUNC(공종별집계표!T23+공종별집계표!T26, 0) -> 6607804
A29: D9 | B29: 공 급 가 액 | E29: =TRUNC(E25+E26+E27-E28, -4) -> 674370000 | G29: 천단위이하절사
A30: DB | B30: 부 가 가 치 세 | E30: =TRUNC(E29*0.1, 0) -> 67437000 | F30: 공급가액 * 10%
A31: DH | B31: 도 급 액 | E31: =TRUNC(E29+E30, 0) -> 741807000
A32: S2 | B32: 총 공 사 비 | E32: =TRUNC(E31+0, 0) -> 741807000

Sheet 공종별집계표
A1: 공 종 별 집 계 표
A2: [ 아산PSD 사무실 증축공사 ]
A3: 품 명 | B3: 규 격 | C3: 단위 | D3: 수량 | E3: 재 료 비 | G3: 노 무 비 | I3: 경 비 | K3: 합 계 | M3: 비 고 | N3: 공종코드 | O3: 변수 | P3: 상위공종 | Q3: 공종구분 | R3: 공종레벨 | S3: 공종소계 | T3: 원가계산서 연결금액
E4: 단 가 | F4: 금 액 | G4: 단 가 | H4: 금 액 | I4: 단 가 | J4: 금 액 | K4: 단 가 | L4: 금 액
A5: 01 아산PSD 사무실 증축공사 | D5: 1 | E5: =F6+F24 -> 257960858 | F5: =E5*D5 -> 257960858 | G5: =H6+H24 -> 202083278 | H5: =G5*D5 -> 202083278 | I5: =J6+J24 -> 8744770 | J5: =I5*D5 -> 8744770 | K5: =E5+G5+I5 -> 468788906 | L5: =F5+H5+J5 -> 468788906 | N5: 01 | R5: 1
A6: 1. 건축공사 | D6: 1 | E6: =F7+F8+F9+F10+F11+F12+F13+F14+F15+F16+F17+F18+F19+F20+F21+F22 -> 171032311 | F6: =E6*D6 -> 171032311 | G6: =H7+H8+H9+H10+H11+H12+H13+H14+H15+H16+H17+H18+H19+H20+H21+H22 -> 145689579 | H6: =G6*D6 -> 145689579 | I6: =J7+J8+J9+J10+J11+J12+J13+J14+J15+J16+J17+J18+J19+J20+J21+J22 -> 8744770 | J6: =I6*D6 -> 8744770 | K6: =E6+G6+I6 -> 325466660 | L6: =F6+H6+J6 -> 325466660 | N6: 0101 | P6: 01 | R6: 2
A7: 010101 가 설 공 사 | D7: 1 | E7: =공종별내역서!F27 -> 319732 | F7: =E7*D7 -> 319732 | G7: =공종별내역서!H27 -> 5359433 | H7: =G7*D7 -> 5359433 | I7: =공종별내역서!J27 -> 3846965 | J7: =I7*D7 -> 3846965 | K7: =E7+G7+I7 -> 9526130 | L7: =F7+H7+J7 -> 9526130 | N7: 010101 | P7: 0101 | R7: 3
A8: 010102 바닥 단열및무근설치 | D8: 1 | E8: =공종별내역서!F51 -> 6336251 | F8: =E8*D8 -> 6336251 | G8: =공종별내역서!H51 -> 2419605 | H8: =G8*D8 -> 2419605 | I8: =공종별내역서!J51 -> 20652 | J8: =I8*D8 -> 20652 | K8: =E8+G8+I8 -> 8776508 | L8: =F8+H8+J8 -> 8776508 | N8: 010102 | P8: 0101 | R8: 3
A9: 010103 철 골 공 사 | D9: 1 | E9: =공종별내역서!F75 -> 10647414 | F9: =E9*D9 -> 10647414 | G9: =공종별내역서!H75 -> 25706220 | H9: =G9*D9 -> 25706220 | I9: =공종별내역서!J75 -> 1135270 | J9: =I9*D9 -> 1135270 | K9: =E9+G9+I9 -> 37488904 | L9: =F9+H9+J9 -> 37488904 | N9: 010103 | P9: 0101 | R9: 3
A10: 010104 조 적 공 사 | D10: 1 | E10: =공종별내역서!F99 -> 13087563 | F10: =E10*D10 -> 13087563 | G10: =공종별내역서!H99 -> 29880240 | H10: =G10*D10 -> 29880240 | I10: =공종별내역서!J99 -> 817965 | J10: =I10*D10 -> 817965 | K10: =E10+G10+I10 -> 43785768 | L10: =F10+H10+J10 -> 43785768 | N10: 010104 | P10: 0101 | R10: 3
A11: 010105 방 수 공 사 | D11: 1 | E11: =공종별내역서!F123 -> 1790624 | F11: =E11*D11 -> 1790624 | G11: =공종별내역서!H123 -> 3108776 | H11: =G11*D11 -> 3108776 | I11: =공종별내역서!J123 -> 82568 | J11: =I11*D11 -> 82568 | K11: =E11+G11+I11 -> 4981968 | L11: =F11+H11+J11 -> 4981968 | N11: 010105 | P11: 0101 | R11: 3
A12: 010106 타일 및 석공사 | D12: 1 | E12: =공종별내역서!F147 -> 7350791 | F12: =E12*D12 -> 7350791 | G12: =공종별내역서!H147 -> 17540980 | H12: =G12*D12 -> 17540980 | I12: =공종별내역서!J147 -> 445528 | J12: =I12*D12 -> 445528 | K12: =E12+G12+I12 -> 25337299 | L12: =F12+H12+J12 -> 25337299 | N12: 010106 | P12: 0101 | R12: 3
A13: 010107 목 공 사 | D13: 1 | E13: =공종별내역서!F171 -> 475504 | F13: =E13*D13 -> 475504 | G13: =공종별내역서!H171 -> 2260832 | H13: =G13*D13 -> 2260832 | I13: =공종별내역서!J171 -> 14608 | J13: =I13*D13 -> 14608 | K13: =E13+G13+I13 -> 2750944 | L13: =F13+H13+J13 -> 2750944 | N13: 010107 | P13: 0101 | R13: 3
A14: 010108 금 속 공 사 | D14: 1 | E14: =공종별내역서!F195 -> 56729432 | F14: =E14*D14 -> 56729432 | G14: =공종별내역서!H195 -> 7189100 | H14: =G14*D14 -> 7189100 | I14: =공종별내역서!J195 -> 272298 | J14: =I14*D14 -> 272298 | K14: =E14+G14+I14 -> 64190830 | L14: =F14+H14+J14 -> 64190830 | N14: 010108 | P14: 0101 | R14: 3
A15: 010109 미 장 공 사 | D15: 1 | E15: =공종별내역서!F219 -> 109480 | F15: =E15*D15 -> 109480 | G15: =공종별내역서!H219 -> 10292575 | H15: =G15*D15 -> 10292575 | I15: =공종별내역서!J219 -> 182841 | J15: =I15*D15 -> 182841 | K15: =E15+G15+I15 -> 10584896 | L15: =F15+H15+J15 -> 10584896 | N15: 010109 | P15: 0101 | R15: 3
A16: 010110 창 호 공 사 | D16: 1 | E16: =공종별내역서!F267 -> 24293854 | F16: =E16*D16 -> 24293854 | G16: =공종별내역서!H267 -> 7621113 | H16: =G16*D16 -> 7621113 | I16: =공종별내역서!J267 -> 393049 | J16: =I16*D16 -> 393049 | K16: =E16+G16+I16 -> 32308016 | L16: =F16+H16+J16 -> 32308016 | N16: 010110 | P16: 0101 | R16: 3
A17: 010111 유 리 공 사 | D17: 1 | E17: =공종별내역서!F291 -> 18140 | F17: =E17*D17 -> 18140 | G17: =공종별내역서!H291 -> 27157 | H17: =G17*D17 -> 27157 | I17: 0 | J17: =I17*D17 -> 0 | K17: =E17+G17+I17 -> 45297 | L17: =F17+H17+J17 -> 45297 | N17: 010111 | P17: 0101 | R17: 3
A18: 010112 도 장 공 사 | D18: 1 | E18: =공종별내역서!F314 -> 669620 | F18: =E18*D18 -> 669620 | G18: =공종별내역서!H314 -> 3837000 | H18: =G18*D18 -> 3837000 | I18: =공종별내역서!J314 -> 0 | J18: =I18*D18 -> 0 | K18: =E18+G18+I18 -> 4506620 | L18: =F18+H18+J18 -> 4506620 | N18: 010112 | P18: 0101 | R18: 3
A19: 010113 수 장 공 사 | D19: 1 | E19: =공종별내역서!F338 -> 27171561 | F19: =E19*D19 -> 27171561 | G19: =공종별내역서!H338 -> 13664217 | H19: =G19*D19 -> 13664217 | I19: =공종별내역서!J338 -> 1281864 | J19: =I19*D19 -> 1281864 | K19: =E19+G19+I19 -> 42117642 | L19: =F19+H19+J19 -> 42117642 | N19: 010113 | P19: 0101 | R19: 3
A20: 010114 가 구 설 치 | D20: 1 | E20: =공종별내역서!F362 -> 13498370 | F20: =E20*D20 -> 13498370 | G20: =공종별내역서!H362 -> 0 | H20: =G20*D20 -> 0 | I20: =공종별내역서!J362 -> 0 | J20: =I20*D20 -> 0 | K20: =E20+G20+I20 -> 13498370 | L20: =F20+H20+J20 -> 13498370 | N20: 010114 | P20: 0101 | R20: 3
A21: 010115 철 거 공 사 | D21: 1 | E21: =공종별내역서!F386 -> 314819 | F21: =E21*D21 -> 314819 | G21: =공종별내역서!H386 -> 16782331 | H21: =G21*D21 -> 16782331 | I21: =공종별내역서!J386 -> 251162 | J21: =I21*D21 -> 251162 | K21: =E21+G21+I21 -> 17348312 | L21: =F21+H21+J21 -> 17348312 | N21: 010115 | P21: 0101 | R21: 3
A22: 010116 골 재 비 | D22: 1 | E22: =공종별내역서!F410 -> 8219156 | F22: =E22*D22 -> 8219156 | G22: =공종별내역서!H410 -> 0 | H22: =G22*D22 -> 0 | I22: =공종별내역서!J410 -> 0 | J22: =I22*D22 -> 0 | K22: =E22+G22+I22 -> 8219156 | L22: =F22+H22+J22 -> 8219156 | N22: 010116 | P22: 0101 | R22: 3
A23: 010117 작 업 부 산 물 | D23: 1 | E23: =공종별내역서!F434 -> 4474424 | F23: =E23*D23 -> 4474424 | G23: =공종별내역서!H434 -> 0 | H23: =G23*D23 -> 0 | I23: =공종별내역서!J434 -> 0 | J23: =I23*D23 -> 0 | K23: =E23+G23+I23 -> 4474424 | L23: =F23+H23+J23 -> 4474424 | N23: 010117 | Q23: 1 | R23: 3 | T23: =L23*1 -> 4474424
A24: 2. 기계설비공사 | D24: 1 | E24: =F25 -> 86928547 | F24: =D24*E24 -> 86928547 | G24: =H25 -> 56393699 | H24: =D24*G24 -> 56393699 | I24: =J25 -> 0 | J24: =D24*I24 -> 0 | K24: =E24+G24+I24 -> 143322246 | L24: =F24+H24+J24 -> 143322246
A25: 020101 기 계 설 비 공 사 | D25: 1 | E25: =공종별내역서!F458 -> 86928547 | F25: =E25*D25 -> 86928547 | G25: =공종별내역서!H458 -> 56393699 | H25: =G25*D25 -> 56393699 | I25: =공종별내역서!J458 -> 0 | J25: =I25*D25 -> 0 | K25: =E25+G25+I25 -> 143322246 | L25: =F25+H25+J25 -> 143322246 | N25: 010118 | P25: 0101 | R25: 3
A26: 020102 작 업 부 산 물 | D26: 1 | E26: =공종별내역서!F482 -> 2133380 | F26: =E26*D26 -> 2133380 | G26: =공종별내역서!H482 -> 0 | H26: =G26*D26 -> 0 | I26: =공종별내역서!J482 -> 0 | J26: =I26*D26 -> 0 | K26: =E26+G26+I26 -> 2133380 | L26: =F26+H26+J26 -> 2133380 | N26: 010119 | P26: 0101 | R26: 3 | T26: =L26*1 -> 2133380
A30: [ 합 계 ] | F30: =F5 -> 257960858 | H30: =H5 -> 202083278 | J30: =J5 -> 8744770 | L30: =L5 -> 468788906

Sheet 공종별내역서
A1: [ 아산PSD 사무실 증축공사 ]
A2: 품 명 | B2: 규 격 | C2: 단위 | D2: 수량 | E2: 재 료 비 | G2: 노 무 비 | I2: 경 비 | K2: 합 계 | M2: 비 고 | N2: 품목코드 | O2: 변수 | P2: 설정 | Q2: 공종코드 | R2: 일위 | S2: 단산 | T2: 자재 | U2: 손료적용 | V2: 손료저장 | W2: 적용율 | X2: JUK1 | Y2: JUK2 | Z2: JUK3 | AA2: JUK4 | AB2: JUK5 | AC2: JUK6 | AD2: JUK7 | AE2: JUK8 | AF2: JUK9 | AG2: JUK10 | AH2: JUK11 | AI2: JUK12 | AJ2: JUK13 | AK2: JUK14 | AL2: JUK15 | AM2: JUK16 | AN2: JUK17 | AO2: JUK18 | AP2: JUK19 | AQ2: JUK20 | AR2: 자재구분 | AS2: 공종구분 | AT2: 공종레벨 | AU2: 공종+자재 | AV2: 고유번호
E3: 단 가 | F3: 금 액 | G3: 단 가 | H3: 금 액 | I3: 단 가 | J3: 금 액 | K3: 단 가 | L3: 금 액
A4: 010101 가 설 공 사 | Q4: 010101
A5: 컨테이너형 가설건축물 - 사무실 | B5: 3.0*6.0*2.6m, 3개월 | C5: 개소 | D5: 1 | E5: =TRUNC([1]일위대가목록!E4,0) -> 0 | F5: =TRUNC(E5*D5, 0) -> 0 | G5: =TRUNC([1]일위대가목록!F4,0) -> 0 | H5: =TRUNC(G5*D5, 0) -> 0 | I5: =TRUNC([1]일위대가목록!G4,0) -> 1018210 | J5: =TRUNC(I5*D5, 0) -> 1018210 | K5: =TRUNC(E5+G5+I5, 0) -> 1018210 | L5: =TRUNC(F5+H5+J5, 0) -> 1018210 | N5: 50DE819E57A077746108354B12A80E | Q5: 010101 | R5: T | S5: F | T5: F | AU5: 01010150DE819E57A077746108354B12A80E | AV5: 150
A6: 가설울타리 설치 및 해체/E.G.I철판 | B6: H=3.0, 3개월 | C6: M | D6: 59 | E6: =TRUNC([1]일위대가목록!E5,0) -> 0 | F6: =TRUNC(E6*D6, 0) -> 0 | G6: =TRUNC([1]일위대가목록!F5,0) -> 0 | H6: =TRUNC(G6*D6, 0) -> 0 | I6: =TRUNC([1]일위대가목록!G5,0) -> 47945 | J6: =TRUNC(I6*D6, 0) -> 2828755 | K6: =TRUNC(E6+G6+I6, 0) -> 47945 | L6: =TRUNC(F6+H6+J6, 0) -> 2828755 | N6: 50DE819E61E3A6A4AE9893879DF8C4 | Q6: 010101 | R6: T | S6: F | T6: F | AU6: 01010150DE819E61E3A6A4AE9893879DF8C4 | AV6: 196
A7: 강관 조립말비계(이동식)설치 및 해체 | B7: 높이 2m, 3개월 | C7: 대 | D7: 2 | E7: =TRUNC([1]일위대가목록!E6,0) -> 19557 | F7: =TRUNC(E7*D7, 0) -> 39114 | G7: =TRUNC([1]일위대가목록!F6,0) -> 95287 | H7: =TRUNC(G7*D7, 0) -> 190574 | I7: =TRUNC([1]일위대가목록!G6,0) -> 0 | J7: =TRUNC(I7*D7, 0) -> 0 | K7: =TRUNC(E7+G7+I7, 0) -> 114844 | L7: =TRUNC(F7+H7+J7, 0) -> 229688 | N7: 50DE819E61C0F21421E8DBCA63D833 | Q7: 010101 | R7: T | S7: F | T7: F | AU7: 01010150DE819E61C0F21421E8DBCA63D833 | AV7: 4
A8: 강관 조립말비계(이동식)설치 및 해체 | B8: 높이 4m, 3개월 | C8: 대 | D8: 2 | E8: =TRUNC([1]일위대가목록!E7,0) -> 32374 | F8: =TRUNC(E8*D8, 0) -> 64748 | G8: =TRUNC([1]일위대가목록!F7,0) -> 158067 | H8: =TRUNC(G8*D8, 0) -> 316134 | I8: =TRUNC([1]일위대가목록!G7,0) -> 0 | J8: =TRUNC(I8*D8, 0) -> 0 | K8: =TRUNC(E8+G8+I8, 0) -> 190441 | L8: =TRUNC(F8+H8+J8, 0) -> 380882 | N8: 50DE819E61C0F21421E8DBF7BA0890 | Q8: 010101 | R8: T | S8: F | T8: F | AU8: 01010150DE819E61C0F21421E8DBF7BA0890 | AV8: 5
A9: 건축물 현장정리(청소포함) | B9: 수선 | C9: M2 | D9: 200 | E9: =TRUNC([1]일위대가목록!E8,0) -> 0 | F9: =TRUNC(E9*D9, 0) -> 0 | G9: =TRUNC([1]일위대가목록!F8,0) -> 13470 | H9: =TRUNC(G9*D9, 0) -> 2694000 | I9: =TRUNC([1]일위대가목록!G8,0) -> 0 | J9: =TRUNC(I9*D9, 0) -> 0 | K9: =TRUNC(E9+G9+I9, 0) -> 13470 | L9: =TRUNC(F9+H9+J9, 0) -> 2694000 | N9: 50DE819E34A5B48459C89726A2A8D0 | Q9: 010101 | R9: T | S9: F | T9: F | AU9: 01010150DE819E34A5B48459C89726A2A8D0 | AV9: 6
A10: 집기비품류 이동 및 제설치-보통 | B10: 관리실(70m2이하),기계경비별도 | C10: 실 | D10: 5 | E10: =TRUNC([1]일위대가목록!E9,0) -> 43174 | F10: =TRUNC(E10*D10, 0) -> 215870 | G10: =TRUNC([1]일위대가목록!F9,0) -> 431745 | H10: =TRUNC(G10*D10, 0) -> 2158725 | I10: =TRUNC([1]일위대가목록!G9,0) -> 0 | J10: =TRUNC(I10*D10, 0) -> 0 | K10: =TRUNC(E10+G10+I10, 0) -> 474919 | L10: =TRUNC(F10+H10+J10, 0) -> 2374595 | N10: 50DE819E34A5B48459C89726A298CE | Q10: 010101 | R10: T | S10: F | T10: F | AU10: 01010150DE819E34A5B48459C89726A298CE | AV10: 197
Q11: 010101
Q12: 010101
Q13: 010101
Q14: 010101
Q15: 010101
Q16: 010101
Q17: 010101
Q18: 010101
Q19: 010101
Q20: 010101
Q21: 010101
Q22: 010101
... Q26: 010101
A27: [ 합 계 ] | F27: =SUMIF(Q5:Q26,"010101",F5:F26) -> 319732 | H27: =SUMIF(Q5:Q26,"010101",H5:H26) -> 5359433 | J27: =SUMIF(Q5:Q26,"010101",J5:J26) -> 3846965 | L27: =SUMIF(Q5:Q26,"010101",L5:L26) -> 9526130 | N27: TOTAL
A28: 010102 바닥 단열및무근설치 | Q28: 010102
A29: 무근콘크리트(와이어메시포함) | B29: 바닥, T80 | C29: M2 | D29: 203 | E29: =TRUNC([1]일위대가목록!E10,0) -> 10368 | F29: =TRUNC(E29*D29, 0) -> 2104704 | G29: =TRUNC([1]일위대가목록!F10,0) -> 6041 | H29: =TRUNC(G29*D29, 0) -> 1226323 | I29: =TRUNC([1]일위대가목록!G10,0) -> 93 | J29: =TRUNC(I29*D29, 0) -> 18879 | K29: =TRUNC(E29+G29+I29, 0) -> 16502 | L29: =TRUNC(F29+H29+J29, 0) -> 3349906 | N29: 50DE31961B159DC4A3A81D0F0E18C3 | Q29: 010102 | R29: T | S29: F | T29: F | AU29: 01010250DE31961B159DC4A3A81D0F0E18C3 | AV29: 15
A30: 무근콘크리트(와이어메시포함) | B30: 외부슬로프, T120 | C30: M2 | D30: 11 | E30: =TRUNC([1]일위대가목록!E11,0) -> 14297 | F30: =TRUNC(E30*D30, 0) -> 157267 | G30: =TRUNC([1]일위대가목록!F11,0) -> 8376 | H30: =TRUNC(G30*D30, 0) -> 92136 | I30: =TRUNC([1]일위대가목록!G11,0) -> 140 | J30: =TRUNC(I30*D30, 0) -> 1540 | K30: =TRUNC(E30+G30+I30, 0) -> 22813 | L30: =TRUNC(F30+H30+J30, 0) -> 250943 | N30: 50DE31961B159DC4A3A81D0F0E18C2 | Q30: 010102 | R30: T | S30: F | T30: F | AU30: 01010250DE31961B159DC4A3A81D0F0E18C2 | AV30: 16
A31: 무근콘크리트(와이어메시포함) | B31: 온수패드, T200 | C31: M2 | D31: 1 | E31: =TRUNC([1]일위대가목록!E12,0) -> 22155 | F31: =TRUNC(E31*D31, 0) -> 22155 | G31: =TRUNC([1]일위대가목록!F12,0) -> 13045 | H31: =TRUNC(G31*D31, 0) -> 13045 | I31: =TRUNC([1]일위대가목록!G12,0) -> 233 | J31: =TRUNC(I31*D31, 0) -> 233 | K31: =TRUNC(E31+G31+I31, 0) -> 35433 | L31: =TRUNC(F31+H31+J31, 0) -> 35433 | N31: 50DE31961B159DC4A3A81D0F0E18C1 | Q31: 010102 | R31: T | S31: F | T31: F | AU31: 01010250DE31961B159DC4A3A81D0F0E18C1 | AV31: 211
A32: 단열재 바닥 깔기(비드법2종1호) | B32: 125mm, 가등급 | C32: M2 | D32: 49 | E32: =TRUNC([1]일위대가목록!E13,0) -> 18557 | F32: =TRUNC(E32*D32, 0) -> 909293 | G32: =TRUNC([1]일위대가목록!F13,0) -> 3633 | H32: =TRUNC(G32*D32, 0) -> 178017 | I32: =TRUNC([1]일위대가목록!G13,0) -> 0 | J32: =TRUNC(I32*D32, 0) -> 0 | K32: =TRUNC(E32+G32+I32, 0) -> 22190 | L32: =TRUNC(F32+H32+J32, 0) -> 1087310 | N32: 50DE6199EF630874B808700339C8BC | Q32: 010102 | R32: T | S32: F | T32: F | AU32: 01010250DE6199EF630874B808700339C8BC | AV32: 8
A33: 단열재 바닥 깔기(비드법2종1호) | B33: 110mm, 가등급 | C33: M2 | D33: 154 | E33: =TRUNC([1]일위대가목록!E14,0) -> 16330 | F33: =TRUNC(E33*D33, 0) -> 2514820 | G33: =TRUNC([1]일위대가목록!F14,0) -> 3133 | H33: =TRUNC(G33*D33, 0) -> 482482 | I33: =TRUNC([1]일위대가목록!G14,0) -> 0 | J33: =TRUNC(I33*D33, 0) -> 0 | K33: =TRUNC(E33+G33+I33, 0) -> 19463 | L33: =TRUNC(F33+H33+J33, 0) -> 2997302 | N33: 50DE6199EF630874B808700339C8BF | Q33: 010102 | R33: T | S33: F | T33: F | AU33: 01010250DE6199EF630874B808700339C8BF | AV33: 9
A34: EVA소음진동완충재 | B34: 바닥, T30 | C34: M2 | D34: 49 | E34: =TRUNC([1]일위대가목록!E15,0) -> 9900 | F34: =TRUNC(E34*D34, 0) -> 485100 | G34: =TRUNC([1]일위대가목록!F15,0) -> 2649 | H34: =TRUNC(G34*D34, 0) -> 129801 | I34: =TRUNC([1]일위대가목록!G15,0) -> 0 | J34: =TRUNC(I34*D34, 0) -> 0 | K34: =TRUNC(E34+G34+I34, 0) -> 12549 | L34: =TRUNC(F34+H34+J34, 0) -> 614901 | N34: 50DE6199EF630844E65844E74BF84F | Q34: 010102 | R34: T | S34: F | T34: F | AU34: 01010250DE6199EF630844E65844E74BF84F | AV34: 10
A35: 방습필름 설치 - 바닥 | B35: 폴리에틸렌필름, 두께, 0.1mm, 1겹 | C35: M2 | D35: 203 | E35: =TRUNC([1]일위대가목록!E16,0) -> 704 | F35: =TRUNC(E35*D35, 0) -> 142912 | G35: =TRUNC([1]일위대가목록!F16,0) -> 1467 | H35: =TRUNC(G35*D35, 0) -> 297801 | I35: =TRUNC([1]일위대가목록!G16,0) -> 0 | J35: =TRUNC(I35*D35, 0) -> 0 | K35: =TRUNC(E35+G35+I35, 0) -> 2171 | L35: =TRUNC(F35+H35+J35, 0) -> 440713 | N35: 50DE6199EF7D6294C41815381D988B | Q35: 010102 | R35: T | S35: F | T35: F | AU35: 01010250DE6199EF7D6294C41815381D988B | AV35: 151
Q36: 010102
Q37: 010102
Q38: 010102
Q39: 010102
Q40: 010102
Q41: 010102
Q42: 010102
Q43: 010102
Q44: 010102
Q45: 010102
Q46: 010102
Q47: 010102
... Q50: 010102
A51: [ 합 계 ] | F51: =SUMIF(Q29:Q50,"010102",F29:F50) -> 6336251 | H51: =SUMIF(Q29:Q50,"010102",H29:H50) -> 2419605 | J51: =SUMIF(Q29:Q50,"010102",J29:J50) -> 20652 | L51: =SUMIF(Q29:Q50,"010102",L29:L50) -> 8776508 | N51: TOTAL
A52: 010103 철 골 공 사 | Q52: 010103
A53: 일반구조용각형강관 | B53: 150*150*4.5 | C53: M | D53: 48 | E53: =TRUNC([1]단가대비표!O221,0) -> 28940 | F53: =TRUNC(E53*D53, 0) -> 1389120 | G53: =TRUNC([1]단가대비표!P221,0) -> 0 | H53: =TRUNC(G53*D53, 0) -> 0 | I53: =TRUNC([1]단가대비표!V221,0) -> 0 | J53: =TRUNC(I53*D53, 0) -> 0 | K53: =TRUNC(E53+G53+I53, 0) -> 28940 | L53: =TRUNC(F53+H53+J53, 0) -> 1389120 | N53: 516841901C215F843B286C0207E8EDCC5FA510 | Q53: 010103 | R53: F | S53: F | T53: T | AU53: 010103516841901C215F843B286C0207E8EDCC5FA510 | AV53: 224
A54: 일반구조용각형강관 | B54: 150*150*6 | C54: M | D54: 15 | E54: =TRUNC([1]단가대비표!O222,0) -> 38950 | F54: =TRUNC(E54*D54, 0) -> 584250 | G54: =TRUNC([1]단가대비표!P222,0) -> 0 | H54: =TRUNC(G54*D54, 0) -> 0 | I54: =TRUNC([1]단가대비표!V222,0) -> 0 | J54: =TRUNC(I54*D54, 0) -> 0 | K54: =TRUNC(E54+G54+I54, 0) -> 38950 | L54: =TRUNC(F54+H54+J54, 0) -> 584250 | N54: 516841901C215F843B286C0207E8EDCC5FA511 | Q54: 010103 | R54: F | S54: F | T54: T | AU54: 010103516841901C215F843B286C0207E8EDCC5FA511 | AV54: 225
A55: 일반구조용각형강관 | B55: 125*125 | C55: M | D55: 33 | E55: =TRUNC([1]단가대비표!O223,0) -> 23680 | F55: =TRUNC(E55*D55, 0) -> 781440 | G55: =TRUNC([1]단가대비표!P223,0) -> 0 | H55: =TRUNC(G55*D55, 0) -> 0 | I55: =TRUNC([1]단가대비표!V223,0) -> 0 | J55: =TRUNC(I55*D55, 0) -> 0 | K55: =TRUNC(E55+G55+I55, 0) -> 23680 | L55: =TRUNC(F55+H55+J55, 0) -> 781440 | N55: 516841901C215F843B286C0207E8EDCC5FA471 | Q55: 010103 | R55: F | S55: F | T55: T | AU55: 010103516841901C215F843B286C0207E8EDCC5FA471 | AV55: 226
A56: 일반구조용각형강관 | B56: 일반구조용각형강관, 각형강관, 100*100*3.2mm | C56: M | D56: 392 | E56: =TRUNC([1]단가대비표!O157,0) -> 11590 | F56: =TRUNC(E56*D56, 0) -> 4543280 | G56: =TRUNC([1]단가대비표!P157,0) -> 0 | H56: =TRUNC(G56*D56, 0) -> 0 | I56: =TRUNC([1]단가대비표!V157,0) -> 0 | J56: =TRUNC(I56*D56, 0) -> 0 | K56: =TRUNC(E56+G56+I56, 0) -> 11590 | L56: =TRUNC(F56+H56+J56, 0) -> 4543280 | N56: 5782A19809D04AC47898475AA8482D09F1FE7C | Q56: 010103 | R56: F | S56: F | T56: T | AU56: 0101035782A19809D04AC47898475AA8482D09F1FE7C | AV56: 18
A57: 일반구조용각형강관 | B57: 50*50 | C57: M | D57: 175 | E57: =TRUNC([1]단가대비표!O224,0) -> 3310 | F57: =TRUNC(E57*D57, 0) -> 579250 | G57: =TRUNC([1]단가대비표!P224,0) -> 0 | H57: =TRUNC(G57*D57, 0) -> 0 | I57: =TRUNC([1]단가대비표!V224,0) -> 0 | J57: =TRUNC(I57*D57, 0) -> 0 | K57: =TRUNC(E57+G57+I57, 0) -> 3310 | L57: =TRUNC(F57+H57+J57, 0) -> 579250 | N57: 516841901C215F843B286C0207E8EDCC5FA470 | Q57: 010103 | R57: F | S57: F | T57: T | AU57: 010103516841901C215F843B286C0207E8EDCC5FA470 | AV57: 227
A58: 일반구조용압연강판 | B58: 일반구조용압연강판, 6.0mm | C58: kg | D58: 1063 | E58: =TRUNC([1]단가대비표!O26,0) -> 1090 | F58: =TRUNC(E58*D58, 0) -> 1158670 | G58: =TRUNC([1]단가대비표!P26,0) -> 0 | H58: =TRUNC(G58*D58, 0) -> 0 | I58: =TRUNC([1]단가대비표!V26,0) -> 0 | J58: =TRUNC(I58*D58, 0) -> 0 | K58: =TRUNC(E58+G58+I58, 0) -> 1090 | L58: =TRUNC(F58+H58+J58, 0) -> 1158670 | N58: 57F5A19760C2BB9438C81D9C40C88F282D118D | Q58: 010103 | R58: F | S58: F | T58: T | AU58: 01010357F5A19760C2BB9438C81D9C40C88F282D118D | AV58: 228
A59: 일반구조용압연강판 | B59: 일반구조용압연강판, 45mm | C59: kg | D59: 80 | E59: =TRUNC([1]단가대비표!O27,0) -> 1040 | F59: =TRUNC(E59*D59, 0) -> 83200 | G59: =TRUNC([1]단가대비표!P27,0) -> 0 | H59: =TRUNC(G59*D59, 0) -> 0 | I59: =TRUNC([1]단가대비표!V27,0) -> 0 | J59: =TRUNC(I59*D59, 0) -> 0 | K59: =TRUNC(E59+G59+I59, 0) -> 1040 | L59: =TRUNC(F59+H59+J59, 0) -> 83200 | N59: 57F5A19760C2BB9438C81D9C40C88F282D10E6 | Q59: 010103 | R59: F | S59: F | T59: T | AU59: 01010357F5A19760C2BB9438C81D9C40C88F282D10E6 | AV59: 229
A60: 앵커볼트 | B60: M22*400mm | C60: 개 | D60: 148 | E60: =TRUNC([1]단가대비표!O127,0) -> 2520 | F60: =TRUNC(E60*D60, 0) -> 372960 | G60: =TRUNC([1]단가대비표!P127,0) -> 0 | H60: =TRUNC(G60*D60, 0) -> 0 | I60: =TRUNC([1]단가대비표!V127,0) -> 0 | J60: =TRUNC(I60*D60, 0) -> 0 | K60: =TRUNC(E60+G60+I60, 0) -> 2520 | L60: =TRUNC(F60+H60+J60, 0) -> 372960 | N60: 57F5B191CE9DE254DC3882021908462F3E7902 | Q60: 010103 | R60: F | S60: F | T60: T | AU60: 01010357F5B191CE9DE254DC3882021908462F3E7902 | AV60: 233
A61: 녹막이페인트(뿜칠) | B61: 1회. 1종 | C61: M2 | D61: 190 | E61: =TRUNC([1]일위대가목록!E17,0) -> 1171 | F61: =TRUNC(E61*D61, 0) -> 222490 | G61: =TRUNC([1]일위대가목록!F17,0) -> 948 | H61: =TRUNC(G61*D61, 0) -> 180120 | I61: =TRUNC([1]일위대가목록!G17,0) -> 0 | J61: =TRUNC(I61*D61, 0) -> 0 | K61: =TRUNC(E61+G61+I61, 0) -> 2119 | L61: =TRUNC(F61+H61+J61, 0) -> 402610 | N61: 50DE7198153208C4F238AD7A82D8C7 | Q61: 010103 | R61: T | S61: F | T61: F | AU61: 01010350DE7198153208C4F238AD7A82D8C7 | AV61: 21
A62: 조합페인트(뿜칠) | B62: 철재면 2회. 1급 | C62: M2 | D62: 190 | E62: =TRUNC([1]일위대가목록!E18,0) -> 1572 | F62: =TRUNC(E62*D62, 0) -> 298680 | G62: =TRUNC([1]일위대가목록!F18,0) -> 1897 | H62: =TRUNC(G62*D62, 0) -> 360430 | I62: =TRUNC([1]일위대가목록!G18,0) -> 0 | J62: =TRUNC(I62*D62, 0) -> 0 | K62: =TRUNC(E62+G62+I62, 0) -> 3469 | L62: =TRUNC(F62+H62+J62, 0) -> 659110 | N62: 50DE719827BD19C427E8755BEBA8A8 | Q62: 010103 | R62: T | S62: F | T62: F | AU62: 01010350DE719827BD19C427E8755BEBA8A8 | AV62: 22
A63: 앵커 볼트 설치 | B63: ∮20 이하 | C63: 개 | D63: 144 | E63: =TRUNC([1]일위대가목록!E19,0) -> 0 | F63: =TRUNC(E63*D63, 0) -> 0 | G63: =TRUNC([1]일위대가목록!F19,0) -> 27275 | H63: =TRUNC(G63*D63, 0) -> 3927600 | I63: =TRUNC([1]일위대가목록!G19,0) -> 545 | J63: =TRUNC(I63*D63, 0) -> 78480 | K63: =TRUNC(E63+G63+I63, 0) -> 27820 | L63: =TRUNC(F63+H63+J63, 0) -> 4006080 | N63: 50DEC1900D9DAD7438C88E341A3899 | Q63: 010103 | R63: T | S63: F | T63: F | AU63: 01010350DEC1900D9DAD7438C88E341A3899 | AV63: 232
A64: 잡철물 제작 및 설치 | B64: 규격철물 설치, 일반철재 | C64: kg | D64: 6818 | E64: =TRUNC([1]일위대가목록!E20,0) -> 93 | F64: =TRUNC(E64*D64, 0) -> 634074 | G64: =TRUNC([1]일위대가목록!F20,0) -> 3115 | H64: =TRUNC(G64*D64, 0) -> 21238070 | I64: =TRUNC([1]일위대가목록!G20,0) -> 155 | J64: =TRUNC(I64*D64, 0) -> 1056790 | K64: =TRUNC(E64+G64+I64, 0) -> 3363 | L64: =TRUNC(F64+H64+J64, 0) -> 22928934 | N64: 50DE31968E2D53841B681CE2FFB8E0 | Q64: 010103 | R64: T | S64: F | T64: F | AU64: 01010350DE31968E2D53841B681CE2FFB8E0 | AV64: 231
Q65: 010103
Q66: 010103
Q67: 010103
Q68: 010103
Q69: 010103
Q70: 010103
Q71: 010103
Q72: 010103
Q73: 010103
Q74: 010103
A75: [ 합 계 ] | F75: =SUMIF(Q53:Q74,"010103",F53:F74) -> 10647414 | H75: =SUMIF(Q53:Q74,"010103",H53:H74) -> 25706220 | J75: =SUMIF(Q53:Q74,"010103",J53:J74) -> 1135270 | L75: =SUMIF(Q53:Q74,"010103",L53:L74) -> 37488904 | N75: TOTAL
A76: 010104 조 적 공 사 | Q76: 010104
A77: 0.5B 벽돌쌓기 - 레미탈 | B77: 3.6m 이하 | C77: M2 | D77: 3 | E77: =TRUNC([1]일위대가목록!E21,0) -> 0 | F77: =TRUNC(E77*D77, 0) -> 0 | G77: =TRUNC([1]일위대가목록!F21,0) -> 39695 | H77: =TRUNC(G77*D77, 0) -> 119085 | I77: =TRUNC([1]일위대가목록!G21,0) -> 793 | J77: =TRUNC(I77*D77, 0) -> 2379 | K77: =TRUNC(E77+G77+I77, 0) -> 40488 | L77: =TRUNC(F77+H77+J77, 0) -> 121464 | N77: 50DEF19B712921448C9867FDD7684E | Q77: 010104 | R77: T | S77: F | T77: F | AU77: 01010450DEF19B712921448C9867FDD7684E | AV77: 24
A78: 1.0B 벽돌쌓기 - 레미탈 | B78: 3.6m 이하 | C78: M2 | D78: 4 | E78: =TRUNC([1]일위대가목록!E22,0) -> 0 | F78: =TRUNC(E78*D78, 0) -> 0 | G78: =TRUNC([1]일위대가목록!F22,0) -> 66216 | H78: =TRUNC(G78*D78, 0) -> 264864 | I78: =TRUNC([1]일위대가목록!G22,0) -> 1324 | J78: =TRUNC(I78*D78, 0) -> 5296 | K78: =TRUNC(E78+G78+I78, 0) -> 67540 | L78: =TRUNC(F78+H78+J78, 0) -> 270160 | N78: 50DEF19B712921448C9867FDC5186A | Q78: 010104 | R78: T | S78: F | T78: F | AU78: 01010450DEF19B712921448C9867FDC5186A | AV78: 25
A79: 콘크리트벽돌 | B79: 콘크리트벽돌, 190*57*90mm, 충남, C종2급 | C79: 매 | D79: 860 | E79: =TRUNC([1]단가대비표!O57,0) -> 95 | F79: =TRUNC(E79*D79, 0) -> 81700 | G79: =TRUNC([1]단가대비표!P57,0) -> 0 | H79: =TRUNC(G79*D79, 0) -> 0 | I79: =TRUNC([1]단가대비표!V57,0) -> 0 | J79: =TRUNC(I79*D79, 0) -> 0 | K79: =TRUNC(E79+G79+I79, 0) -> 95 | L79: =TRUNC(F79+H79+J79, 0) -> 81700 | N79: 57F5A19760FFC024DE682EA591088EC7A7CB05 | Q79: 010104 | R79: F | S79: F | T79: T | AU79: 01010457F5A19760FFC024DE682EA591088EC7A7CB05 | AV79: 214
A80: 6인치 블록보강쌓기(한면마감,사춤간격800mm)-레미탈 | B80: 3.6m이하,390*190*150(블록+철망포함) | C80: M2 | D80: 84 | E80: =TRUNC([1]일위대가목록!E23,0) -> 12554 | F80: =TRUNC(E80*D80, 0) -> 1054536 | G80: =TRUNC([1]일위대가목록!F23,0) -> 44930 | H80: =TRUNC(G80*D80, 0) -> 3774120 | I80: =TRUNC([1]일위대가목록!G23,0) -> 1347 | J80: =TRUNC(I80*D80, 0) -> 113148 | K80: =TRUNC(E80+G80+I80, 0) -> 58831 | L80: =TRUNC(F80+H80+J80, 0) -> 4941804 | N80: 50DEF19B45EEEF740228BB03BBC83D | Q80: 010104 | R80: T | S80: F | T80: F | AU80: 01010450DEF19B45EEEF740228BB03BBC83D | AV80: 213
A81: 8인치 블록보강쌓기(한면마감,사춤간격800mm)-레미탈 | B81: 3.6m초과~7.2m이하,390*190*190(블록+철망포함) | C81: M2 | D81: 150 | E81: =TRUNC([1]일위대가목록!E24,0) -> 14538 | F81: =TRUNC(E81*D81, 0) -> 2180700 | G81: =TRUNC([1]일위대가목록!F24,0) -> 68466 | H81: =TRUNC(G81*D81, 0) -> 10269900 | I81: =TRUNC([1]일위대가목록!G24,0) -> 2053 | J81: =TRUNC(I81*D81, 0) -> 307950 | K81: =TRUNC(E81+G81+I81, 0) -> 85057 | L81: =TRUNC(F81+H81+J81, 0) -> 12758550 | N81: 50DEF19B45EEEF647B588CEB34B812 | Q81: 010104 | R81: T | S81: F | T81: F | AU81: 01010450DEF19B45EEEF647B588CEB34B812 | AV81: 26
A82: 8인치 블록보강쌓기(양면마감,사춤간격800mm)-레미탈 | B82: 3.6m이하,390*190*190(블록+철망포함) | C82: M2 | D82: 186 | E82: =TRUNC([1]일위대가목록!E25,0) -> 14538 | F82: =TRUNC(E82*D82, 0) -> 2704068 | G82: =TRUNC([1]일위대가목록!F25,0) -> 58277 | H82: =TRUNC(G82*D82, 0) -> 10839522 | I82: =TRUNC([1]일위대가목록!G25,0) -> 1748 | J82: =TRUNC(I82*D82, 0) -> 325128 | K82: =TRUNC(E82+G82+I82, 0) -> 74563 | L82: =TRUNC(F82+H82+J82, 0) -> 13868718 | N82: 50DEF19B45EEEF647B588CEB34B811 | Q82: 010104 | R82: T | S82: F | T82: F | AU82: 01010450DEF19B45EEEF647B588CEB34B811 | AV82: 27
A83: 블록보강근 | B83: H10 | C83: M | D83: 622 | E83: =TRUNC([1]일위대가목록!E26,0) -> 559 | F83: =TRUNC(E83*D83, 0) -> 347698 | G83: =TRUNC([1]일위대가목록!F26,0) -> 444 | H83: =TRUNC(G83*D83, 0) -> 276168 | I83: =TRUNC([1]일위대가목록!G26,0) -> 17 | J83: =TRUNC(I83*D83, 0) -> 10574 | K83: =TRUNC(E83+G83+I83, 0) -> 1020 | L83: =TRUNC(F83+H83+J83, 0) -> 634440 | N83: 50DEC19106032FF4F1682A8D015807 | Q83: 010104 | R83: T | S83: F | T83: F | AU83: 01010450DEC19106032FF4F1682A8D015807 | AV83: 153
A84: 블록보강근 | B84: H13 | C84: M | D84: 964 | E84: =TRUNC([1]일위대가목록!E27,0) -> 988 | F84: =TRUNC(E84*D84, 0) -> 952432 | G84: =TRUNC([1]일위대가목록!F27,0) -> 789 | H84: =TRUNC(G84*D84, 0) -> 760596 | I84: =TRUNC([1]일위대가목록!G27,0) -> 30 | J84: =TRUNC(I84*D84, 0) -> 28920 | K84: =TRUNC(E84+G84+I84, 0) -> 1807 | L84: =TRUNC(F84+H84+J84, 0) -> 1741948 | N84: 50DEC19106032FF4F1682A8D13C811 | Q84: 010104 | R84: T | S84: F | T84: F | AU84: 01010450DEC19106032FF4F1682A8D13C811 | AV84: 154
A85: 경량인방설치 | B85: 1.0B | C85: M | D85: 45 | E85: =TRUNC([1]일위대가목록!E28,0) -> 32141 | F85: =TRUNC(E85*D85, 0) -> 1446345 | G85: =TRUNC([1]일위대가목록!F28,0) -> 16393 | H85: =TRUNC(G85*D85, 0) -> 737685 | I85: =TRUNC([1]일위대가목록!G28,0) -> 0 | J85: =TRUNC(I85*D85, 0) -> 0 | K85: =TRUNC(E85+G85+I85, 0) -> 48534 | L85: =TRUNC(F85+H85+J85, 0) -> 2184030 | N85: 50DEF19A4323AE541B38391F71D889 | Q85: 010104 | R85: T | S85: F | T85: F | AU85: 01010450DEF19A4323AE541B38391F71D889 | AV85: 155
A86: 콘크리트방수턱 | B86: 150*200 | C86: M | D86: 90 | E86: =TRUNC([1]일위대가목록!E29,0) -> 7386 | F86: =TRUNC(E86*D86, 0) -> 664740 | G86: =TRUNC([1]일위대가목록!F29,0) -> 19891 | H86: =TRUNC(G86*D86, 0) -> 1790190 | I86: =TRUNC([1]일위대가목록!G29,0) -> 273 | J86: =TRUNC(I86*D86, 0) -> 24570 | K86: =TRUNC(E86+G86+I86, 0) -> 27550 | L86: =TRUNC(F86+H86+J86, 0) -> 2479500 | N86: 50DEF19A437BD854708858AC50B845 | Q86: 010104 | R86: T | S86: F | T86: F | AU86: 01010450DEF19A437BD854708858AC50B845 | AV86: 156
A87: 단열재 공간넣기(페놀폼보드) | B87: 벽,80mm,페놀폼보드 심재준불연단열재 | C87: M2 | D87: 138 | E87: =TRUNC([1]일위대가목록!E30,0) -> 26488 | F87: =TRUNC(E87*D87, 0) -> 3655344 | G87: =TRUNC([1]일위대가목록!F30,0) -> 7595 | H87: =TRUNC(G87*D87, 0) -> 1048110 | I87: =TRUNC([1]일위대가목록!G30,0) -> 0 | J87: =TRUNC(I87*D87, 0) -> 0 | K87: =TRUNC(E87+G87+I87, 0) -> 34083 | L87: =TRUNC(F87+H87+J87, 0) -> 4703454 | N87: 50DE6199EF52D0D47728DE746F08E7 | Q87: 010104 | R87: T | S87: F | T87: F | AU87: 01010450DE6199EF52D0D47728DE746F08E7 | AV87: 30
Q88: 010104
Q89: 010104
Q90: 010104
Q91: 010104
Q92: 010104
Q93: 010104
Q94: 010104
Q95: 010104
Q96: 010104
Q97: 010104
Q98: 010104
A99: [ 합 계 ] | F99: =SUMIF(Q77:Q98,"010104",F77:F98) -> 13087563 | H99: =SUMIF(Q77:Q98,"010104",H77:H98) -> 29880240 | J99: =SUMIF(Q77:Q98,"010104",J77:J98) -> 817965 | L99: =SUMIF(Q77:Q98,"010104",L77:L98) -> 43785768 | N99: TOTAL
A100: 010105 방 수 공 사 | Q100: 010105
A101: 방화실란트 | C101: M | D101: 44 | E101: =TRUNC([1]일위대가목록!E31,0) -> 35904 | F101: =TRUNC(E101*D101, 0) -> 1579776 | G101: =TRUNC([1]일위대가목록!F31,0) -> 5310 | H101: =TRUNC(G101*D101, 0) -> 233640 | I101: =TRUNC([1]일위대가목록!G31,0) -> 0 | J101: =TRUNC(I101*D101, 0) -> 0 | K101: =TRUNC(E101+G101+I101, 0) -> 41214 | L101: =TRUNC(F101+H101+J101, 0) -> 1813416 | N101: 50DE1191EAB24C14B8688C959438AE | Q101: 010105 | R101: T | S101: F | T101: F | AU101: 01010550DE1191EAB24C14B8688C959438AE | AV101: 32
A102: 시멘트 액체방수 | B102: 바닥 | C102: M2 | D102: 28 | E102: =TRUNC([1]일위대가목록!E32,0) -> 2030 | F102: =TRUNC(E102*D102, 0) -> 56840 | G102: =TRUNC([1]일위대가목록!F32,0) -> 25880 | H102: =TRUNC(G102*D102, 0) -> 724640 | I102: =TRUNC([1]일위대가목록!G32,0) -> 731 | J102: =TRUNC(I102*D102, 0) -> 20468 | K102: =TRUNC(E102+G102+I102, 0) -> 28641 | L102: =TRUNC(F102+H102+J102, 0) -> 801948 | N102: 50DE11911D0B9134B7889CB5397833 | Q102: 010105 | R102: T | S102: F | T102: F | AU102: 01010550DE11911D0B9134B7889CB5397833 | AV102: 33
A103: 시멘트 액체방수 | B103: 수직부 | C103: M2 | D103: 108 | E103: =TRUNC([1]일위대가목록!E33,0) -> 1426 | F103: =TRUNC(E103*D103, 0) -> 154008 | G103: =TRUNC([1]일위대가목록!F33,0) -> 19912 | H103: =TRUNC(G103*D103, 0) -> 2150496 | I103: =TRUNC([1]일위대가목록!G33,0) -> 575 | J103: =TRUNC(I103*D103, 0) -> 62100 | K103: =TRUNC(E103+G103+I103, 0) -> 21913 | L103: =TRUNC(F103+H103+J103, 0) -> 2366604 | N103: 50DE11911D0B9134B788AD1BCEF8CA | Q103: 010105 | R103: T | S103: F | T103: F | AU103: 01010550DE11911D0B9134B788AD1BCEF8CA | AV103: 34
Q104: 010105
Q105: 010105
...
