Workbook
Name _1_??1????: '[1]일위대가(계측기설치)'!#REF!
Name _2_??1????: '[1]일위대가(계측기설치)'!#REF!
Name _3_??2????: '[1]일위대가(계측기설치)'!#REF!
Name _4_??2????: '[1]일위대가(계측기설치)'!#REF!
Name _5_??3????: '[1]일위대가(계측기설치)'!#REF!
Name _6_??3????: '[1]일위대가(계측기설치)'!#REF!
Name _7_??4????: '[1]일위대가(계측기설치)'!#REF!
Name _8_??4????: '[1]일위대가(계측기설치)'!#REF!
Name _9_??5????: '[1]일위대가(계측기설치)'!#REF!
Name _10_??5????: '[1]일위대가(계측기설치)'!#REF!
Name _11_??6????: '[1]일위대가(계측기설치)'!#REF!
Name _12_??6????: '[1]일위대가(계측기설치)'!#REF!
Name _: #REF!
Name _.사급자재대: #REF!
Name _.사급자재대: #REF!
Name _.사급자재대: #REF!
Name __: #REF!
Name __: #REF!
Name ___: #REF!
Name ____: #REF!
Name ____: #REF!
Name _____: #REF!
Name ______: #REF!
Name ______: #REF!
Name _______: #REF!
Name _______: #REF!
Name __________: #REF!
Name _____________0: #REF!
Name _____________11: #REF!
Name _____________12: #REF!
Name __________0: #REF!
Name __________0: #REF!
Name __________11: #REF!
Name __________11: #REF!
Name __________12: #REF!
Name __________12: #REF!
Name _________0: #REF!
Name _________0: #REF!
Name _________10: #REF!
Name _________11: #REF!
Name _________11: #REF!
Name _________12: #REF!
Name _________12: #REF!
Name ________0: #REF!
Name ________10: #REF!
Name ________11: #REF!
Name ________12: #REF!
Name _______0: #REF!
Name ______0: #REF!
Name ______11: #REF!
Name ______12: #REF!
Name _____0: #REF!
Name _____10: #REF!
Name _____11: #REF!
Name _____12: #REF!
Name ____0: #REF!
Name ____1: #REF!
Name ____10: #REF!
Name ____11: #REF!
Name ____12: #REF!

Sheet 갑지
A1: 2026년 10월 설계 | G1: 담당자 | I1: 과 장 | K1: 소 장
A3: 2 0 2 6 년도
A4: 사업명 : 침출수 처리시설 개선공사
C7: 위 치 : 제주특별자치도 제주시 조천우회로 982-72번지 일원
C9: 과 업 개 요
D10: 가. 원수공급펌프 신설
D11: 나. 배관(밸브) 및 저장탱크 신설
D12: 다. 기존 설비와 연계설비 신설 등
C18: 총 공 사 비 : | E18: =E19+E20 -> 172060000 | G18: 원정 | H18: 금 | I18: =NUMBERSTRING(E18,1)&" 원정" -> 일억칠천이백육만 원정
C19: 도 급 공 사 비 : | E19: =원가계산!E28 -> 172060000 | G19: 원정 | H19: 금 | I19: =NUMBERSTRING(E19,1)&" 원정" -> 일억칠천이백육만 원정
C20: 관 급 자 재 대 : | E20: 0 | G20: 원정 | H20: 금 | I20: =NUMBERSTRING(E20,1)&" 원정" -> 영 원정

Sheet 원가계산
A1: 원 가 계 산 서
A2: 침출수 처리시설 개선공사 | G2: 토목 조경 산업환경설비 적용
A3: 구 분 | E3: 금 액 | F3: 비 고 | G3: 구 성 비
A4: 순 공 사 원 가 | B4: 재료비 | C4: 직 접 재 료 비 | E4: =집계표!H5 -> 113276859
C5: 간 접 재 료 비
C6: 소 계 | E6: =SUM(E4:E5) -> 113276859
B7: 노무비 | C7: 직 접 노 무 비 | E7: =집계표!J5 -> 10781093
C8: 간 접 노 무 비 | E8: =TRUNC(INT(E7*G8),0) -> 2059188 | F8: 직 접 노 무 비 의 | G8: 0.191
C9: 소 계 | E9: =SUM(E7:E8) -> 12840281
B10: 경 비 | C10: 직 접 경 비 | E10: =집계표!L5 -> 118323
C11: 산업안전보건관리비 | E11: =E34 -> 3907825 | F11: =F34 -> (재료비 + 직접노무비) * 3.15% | G11: 0.0315
C12: 산 재 보 험 료 | E12: =TRUNC(INT(E9*G12),0) -> 457114 | F12: 노 무 비 의 | G12: 0.0356
C13: 고 용 보 험 료 | E13: =TRUNC(INT(E9*G13),0) -> 129686 | F13: 노 무 비 의 | G13: 0.0101
C14: 건 강 보 험 료 | E14: =TRUNC(INT(E$7*G14),0) -> 387580 | F14: 직 접 노 무 비 의 | G14: 0.03595
C15: 연 금 보 험 료 | E15: =TRUNC(INT(E$7*G15),0) -> 512101 | F15: 직 접 노 무 비 의 | G15: 0.0475
C16: 노인장기요양보험료 | E16: =TRUNC(INT(E$14*G16),0) -> 50928 | F16: 건 강 보 험 료 의 | G16: 0.1314
C17: 퇴직공제부금비 | E17: =TRUNC(INT(E7*G17),0) -> 247965 | F17: 직 접 노 무 비 의 | G17: 0.023
C18: 환경보전비 | E18: =TRUNC(INT($E$6+$E$7+$E$10)*G18,0) -> 620881 | F18: (직접공사비) 의 | G18: 0.005
C19: 건설기계대여대금 지급보증액 발급금액 | E19: =TRUNC(INT((E6+E7+E10)*G19),0) -> 124176 | F19: (직접공사비) 의 | G19: 0.001
C20: 기 타 경 비 | E20: =TRUNC(INT($E$6+$E$9)*G20,0) -> 6936442 | F20: (재료비 + 노무비) 의 | G20: 0.055
C21: 석면분담금 | E21: =TRUNC(INT(E9*G21),0) -> 770 | F21: (노무비) 의 | G21: 6e-05
C22: 임금채권부담금 | E22: =TRUNC(INT(E9*G22),0) -> 11556 | F22: (노무비) 의 | G22: 0.0009
C23: 소 계 | E23: =SUM(E10:E22) -> 13505347
A24: 일 반 관 리 비 | E24: =TRUNC(INT(E6+E9+E23)*G24,0) -> 11169798 | F24: (재료비 + 노무비 + 경비) 의 | G24: 0.08
A25: 이 윤 | E25: =TRUNC(INT((INT(E9+E23+E24)*G25)),0)-1416 -> 5625897 | F25: (노무비 + 경비 + 일반관리비) 의 | G25: 0.15
A26: 공 급 가 액 | E26: =INT(E6+E9+E23+E24+E25) -> 156418182 | F26: 재료비+노무비+경비+일반관리비+이윤
A27: 부 가 가 치 세 | E27: =INT(E26*0.1) -> 15641818 | F27: 공 급 가 액 의 | G27: 0.1
A28: 도급예정액 | E28: =INT(E26+E27) -> 172060000
A29: 관급자재대 | E29: 0
A30: 총사업비 | E30: =SUM(E28:E29) -> 172060000
D32: 도급자 관급포함 (a,b중 작은금액) | E32: =(E4+E7+E29)*G11 -> 3907825.5 | F32: (재료비 + 직접노무비+관급자재대)*3.15% | G32: 0
E33: =(E4+E7)*G11*1.2 -> 4689390.6 | F33: (재료비 + 직접노무비) * 3.15%* 1.2
D34: 도급자 관급 미포함 | E34: =TRUNC(INT((E6+E7)*G11),0)+G32 -> 3907825 | F34: (재료비 + 직접노무비) * 3.15%

Sheet 집계표
A1: 집 계 표
A3: 공 종 | B3: 규 격 | C3: 수 량 | D3: 단위 | E3: 합 계 | G3: 재 료 비 | I3: 노 무 비 | K3: 경 비 | M3: 낙찰율(%) | N3: 비 고
E4: 단 가 | F4: 금 액 | G4: 단 가 | H4: 금 액 | I4: 단 가 | J4: 금 액 | K4: 단 가 | L4: 금 액
A5: *.순공사비 | C5: 0 | E5: =G5+I5+K5 -> 0 | F5: =H5+J5+L5 -> 124176275 | G5: 0 | H5: =H6+H7+H8+H18 -> 113276859 | I5: 0 | J5: =J6+J7+J8+J18 -> 10781093 | K5: 0 | L5: =L6+L7+L8+L18 -> 118323
A6: 가. 기자재 구입비 | C6: 0 | E6: =G6+I6+K6 -> 0 | F6: =H6+J6+L6 -> 101515000 | G6: 0 | H6: =내역서!H6 -> 101515000 | I6: 0 | J6: =내역서!J6 -> 0 | K6: 0 | L6: =내역서!L6 -> 0
A7: 나. 기자재 설치비 | C7: 0 | E7: =G7+I7+K7 -> 0 | F7: =H7+J7+L7 -> 2686764 | G7: 0 | H7: =내역서!H12 -> 0 | I7: 0 | J7: =내역서!J12 -> 2628236 | K7: 0 | L7: =내역서!L12 -> 58528
A8: 다. 배관공사비 | C8: 0 | E8: =G8+I8+K8 -> 0 | F8: =H8+J8+L8 -> 19078003 | G8: 0 | H8: =SUM(H9,H13,H17) -> 11029200 | I8: 0 | J8: =SUM(J9,J13,J17) -> 7992220 | K8: 0 | L8: =SUM(L9,L13,L17) -> 56583
A9: 1. 배관 자재비 | C9: 0 | E9: =G9+I9+K9 -> 0 | F9: =H9+J9+L9 -> 10223547 | G9: 0 | H9: =SUM(H10:H12) -> 10223547 | I9: 0 | J9: =SUM(J10:J12) -> 0 | K9: 0 | L9: =SUM(L10:L12) -> 0
A10: 1.1 STS304 스테인레스강관 | C10: 0 | E10: =G10+I10+K10 -> 0 | F10: =H10+J10+L10 -> 3297897 | G10: 0 | H10: =내역서!H19 -> 3297897 | I10: 0 | J10: =내역서!J19 -> 0 | K10: 0 | L10: =내역서!L19 -> 0
A11: 1.2 STS316L 스테인레스강관 | C11: 0 | E11: =G11+I11+K11 -> 0 | F11: =H11+J11+L11 -> 6306945 | G11: 0 | H11: =내역서!H36 -> 6306945 | I11: 0 | J11: =내역서!J36 -> 0 | K11: 0 | L11: =내역서!L36 -> 0
A12: 1.3 SILICON제 고무호스 | C12: 0 | E12: =G12+I12+K12 -> 0 | F12: =H12+J12+L12 -> 618705 | G12: 0 | H12: =내역서!H59 -> 618705 | I12: 0 | J12: =내역서!J59 -> 0 | K12: 0 | L12: =내역서!L59 -> 0
A13: 2. 배관 설치비 | C13: 0 | E13: =G13+I13+K13 -> 0 | F13: =H13+J13+L13 -> 8601129 | G13: 0 | H13: =SUM(H14:H16) -> 800712 | I13: 0 | J13: =SUM(J14:J16) -> 7743834 | K13: 0 | L13: =SUM(L14:L16) -> 56583
A14: 2.1 STS304 스테인레스강관 | C14: 0 | E14: =G14+I14+K14 -> 0 | F14: =H14+J14+L14 -> 3705428 | G14: 0 | H14: =내역서!H66 -> 282830 | I14: 0 | J14: =내역서!J66 -> 3398313 | K14: 0 | L14: =내역서!L66 -> 24285
A15: 2.2 STS316L 스테인레스강관 | C15: 0 | E15: =G15+I15+K15 -> 0 | F15: =H15+J15+L15 -> 3904844 | G15: 0 | H15: =내역서!H74 -> 508962 | I15: 0 | J15: =내역서!J74 -> 3365078 | K15: 0 | L15: =내역서!L74 -> 30804
A16: 2.3 SILICON제 고무호스 | C16: 0 | E16: =G16+I16+K16 -> 0 | F16: =H16+J16+L16 -> 990857 | G16: 0 | H16: =내역서!H85 -> 8920 | I16: 0 | J16: =내역서!J85 -> 980443 | K16: 0 | L16: =내역서!L85 -> 1494
A17: 3. 배관 철거비 | C17: 0 | E17: =G17+I17+K17 -> 0 | F17: =H17+J17+L17 -> 253327 | G17: 0 | H17: =내역서!H89 -> 4941 | I17: 0 | J17: =내역서!J89 -> 248386 | K17: 0 | L17: =내역서!L89 -> 0
A18: 라. 기계기초 | C18: 0 | E18: =G18+I18+K18 -> 0 | F18: =H18+J18+L18 -> 896508 | G18: 0 | H18: =내역서!H92 -> 732659 | I18: 0 | J18: =내역서!J92 -> 160637 | K18: 0 | L18: =내역서!L92 -> 3212

Sheet 내역서
A1: 예 산 내 역 서
A3: 공 종 | B3: 규 격 | C3: 수 량 | D3: 단위 | E3: 합 계 | G3: 재 료 비 | I3: 노 무 비 | K3: 경 비 | M3: 낙찰율(%) | N3: 비 고
E4: 단 가 | F4: 금 액 | G4: 단 가 | H4: 금 액 | I4: 단 가 | J4: 금 액 | K4: 단 가 | L4: 금 액
A5: *.순공사비 | C5: 0 | E5: =G5+I5+K5 -> 0 | F5: =H5+J5+L5 -> 124176275 | G5: 0 | H5: =H6+H12+H17+H92 -> 113276859 | I5: 0 | J5: =J6+J12+J17+J92 -> 10781093 | K5: 0 | L5: =L6+L12+L17+L92 -> 118323
A6: 가. 기자재 구입비 | C6: 0 | E6: =G6+I6+K6 -> 0 | F6: =H6+J6+L6 -> 101515000 | G6: 0 | H6: =SUM(H7:H10) -> 101515000 | I6: 0 | J6: =SUM(J7:J10) -> 0 | K6: 0 | L6: =SUM(L7:L10) -> 0
A7: RM-802 RO 고압펌프 | B7: 입형다단펌프, 25.4㎥/hr x 500mH, 15kW | C7: 2 | D7: 대 | E7: =G7+I7+K7 -> 34500000 | F7: =H7+J7+L7 -> 69000000 | G7: =자재단가!R56 -> 34500000 | H7: =TRUNC(C7*G7,0) -> 69000000 | I7: 0 | J7: =TRUNC(C7*I7,0) -> 0 | K7: 0 | L7: =TRUNC(C7*K7,0) -> 0 | DM7: MM-RM-802
A8: RM-806 3차처리수 저장탱크 | B8: PE제 원통형 탱크, 2.0㎥ | C8: 1 | D8: 대 | E8: =G8+I8+K8 -> 3250000 | F8: =H8+J8+L8 -> 3250000 | G8: =자재단가!R60 -> 3250000 | H8: =TRUNC(C8*G8,0) -> 3250000 | I8: 0 | J8: =TRUNC(C8*I8,0) -> 0 | K8: 0 | L8: =TRUNC(C8*K8,0) -> 0 | DM8: MM-RM-806
A9: RM-807 MF 공급펌프 | B9: 입형다단펌프, 5.4㎥/hr x 30mH, 1.1kW | C9: 2 | D9: 대 | E9: =G9+I9+K9 -> 5200000 | F9: =H9+J9+L9 -> 10400000 | G9: =자재단가!R61 -> 5200000 | H9: =TRUNC(C9*G9,0) -> 10400000 | I9: 0 | J9: =TRUNC(C9*I9,0) -> 0 | K9: 0 | L9: =TRUNC(C9*K9,0) -> 0 | DM9: MM-RM-807
A10: RM-808 3차처리수 절환밸브 | B10: STS316L제 전동 볼밸브, 25A x 10K, 0.4kW | C10: 7 | D10: 대 | E10: =G10+I10+K10 -> 2695000 | F10: =H10+J10+L10 -> 18865000 | G10: =자재단가!R62 -> 2695000 | H10: =TRUNC(C10*G10,0) -> 18865000 | I10: 0 | J10: =TRUNC(C10*I10,0) -> 0 | K10: 0 | L10: =TRUNC(C10*K10,0) -> 0 | DM10: MM-RM-808
C11: 0 | E11: =G11+I11+K11 -> 0 | F11: =H11+J11+L11 -> 0 | G11: 0 | H11: =TRUNC(C11*G11,0) -> 0 | I11: 0 | J11: =TRUNC(C11*I11,0) -> 0 | K11: 0 | L11: =TRUNC(C11*K11,0) -> 0
A12: 나. 기자재 설치비 | C12: 0 | E12: =G12+I12+K12 -> 0 | F12: =H12+J12+L12 -> 2686764 | G12: 0 | H12: =SUM(H13:H15) -> 0 | I12: 0 | J12: =SUM(J13:J15) -> 2628236 | K12: 0 | L12: =SUM(L13:L15) -> 58528
A13: RM-802 RO 고압펌프 | B13: 입형다단펌프, 5.4㎥/hr x 500mH, 15kW | C13: 2 | D13: 대 | E13: =G13+I13+K13 -> 702952 | F13: =H13+J13+L13 -> 1405904 | G13: =일위대가!H7 -> 0 | H13: =TRUNC(C13*G13,0) -> 0 | I13: =일위대가!J7 -> 682478 | J13: =TRUNC(C13*I13,0) -> 1364956 | K13: =일위대가!L7 -> 20474 | L13: =TRUNC(C13*K13,0) -> 40948 | N13: 제 1호표 | DM13: BM-RM-802
A14: RM-806 3차처리수 저장탱크 | B14: PE제 원통형 탱크, 2.0㎥ | C14: 1 | D14: 대 | E14: =G14+I14+K14 -> 677240 | F14: =H14+J14+L14 -> 677240 | G14: =일위대가!H11 -> 0 | H14: =TRUNC(C14*G14,0) -> 0 | I14: =일위대가!J11 -> 677240 | J14: =TRUNC(C14*I14,0) -> 677240 | K14: =일위대가!L11 -> 0 | L14: =TRUNC(C14*K14,0) -> 0 | N14: 제 2호표 | DM14: BM-RM-806
A15: RM-807 MF 공급펌프 | B15: 입형다단펌프, 5.4㎥/hr x 30mH, 1.1kW | C15: 2 | D15: 대 | E15: =G15+I15+K15 -> 301810 | F15: =H15+J15+L15 -> 603620 | G15: =일위대가!H15 -> 0 | H15: =TRUNC(C15*G15,0) -> 0 | I15: =일위대가!J15 -> 293020 | J15: =TRUNC(C15*I15,0) -> 586040 | K15: =일위대가!L15 -> 8790 | L15: =TRUNC(C15*K15,0) -> 17580 | N15: 제 3호표 | DM15: BM-RM-807
C16: 0 | E16: =G16+I16+K16 -> 0 | F16: =H16+J16+L16 -> 0 | G16: 0 | H16: =TRUNC(C16*G16,0) -> 0 | I16: 0 | J16: =TRUNC(C16*I16,0) -> 0 | K16: 0 | L16: =TRUNC(C16*K16,0) -> 0
A17: 다. 배관공사비 | C17: 0 | E17: =G17+I17+K17 -> 0 | F17: =H17+J17+L17 -> 19078003 | G17: 0 | H17: =SUM(H18,H65,H89) -> 11029200 | I17: 0 | J17: =SUM(J18,J65,J89) -> 7992220 | K17: 0 | L17: =SUM(L18,L65,L89) -> 56583
A18: 1. 배관 자재비 | C18: 0 | E18: =G18+I18+K18 -> 0 | F18: =H18+J18+L18 -> 10223547 | G18: 0 | H18: =SUM(H19,H36,H59) -> 10223547 | I18: 0 | J18: =SUM(J19,J36,J59) -> 0 | K18: 0 | L18: =SUM(L19,L36,L59) -> 0
A19: 1.1 STS304 스테인레스강관 | C19: 0 | E19: =G19+I19+K19 -> 0 | F19: =H19+J19+L19 -> 3297897 | G19: 0 | H19: =SUM(H20:H34) -> 3297897 | I19: 0 | J19: =SUM(J20:J34) -> 0 | K19: 0 | L19: =SUM(L20:L34) -> 0
A20: 공업배관용 스테인레스강관 | B20: 50A x 3.0t, STS304 | C20: 38.75 | D20: M | E20: =G20+I20+K20 -> 23610 | F20: =H20+J20+L20 -> 914887 | G20: =자재단가!R5 -> 23610 | H20: =TRUNC(C20*G20,0) -> 914887 | I20: 0 | J20: =TRUNC(C20*I20,0) -> 0 | K20: 0 | L20: =TRUNC(C20*K20,0) -> 0 | DM20: MM-PIT-050B
A21: 공업배관용 스테인레스강관 | B21: 25A x 3.0t, STS304 | C21: 3.15 | D21: M | E21: =G21+I21+K21 -> 12740 | F21: =H21+J21+L21 -> 40131 | G21: =자재단가!R6 -> 12740 | H21: =TRUNC(C21*G21,0) -> 40131 | I21: 0 | J21: =TRUNC(C21*I21,0) -> 0 | K21: 0 | L21: =TRUNC(C21*K21,0) -> 0 | DM21: MM-PIT-025B
A22: 스테인레스강관 90˚엘보 | B22: 50A x 3.0t, STS304 | C22: 6 | D22: M | E22: =G22+I22+K22 -> 8536 | F22: =H22+J22+L22 -> 51216 | G22: =자재단가!R7 -> 8536 | H22: =TRUNC(C22*G22,0) -> 51216 | I22: 0 | J22: =TRUNC(C22*I22,0) -> 0 | K22: 0 | L22: =TRUNC(C22*K22,0) -> 0 | DM22: MM-ELT-050C
A23: 스테인레스강관 45˚엘보 | B23: 50A x 3.0t, STS304 | C23: 8 | D23: M | E23: =G23+I23+K23 -> 8536 | F23: =H23+J23+L23 -> 68288 | G23: =자재단가!R8 -> 8536 | H23: =TRUNC(C23*G23,0) -> 68288 | I23: 0 | J23: =TRUNC(C23*I23,0) -> 0 | K23: 0 | L23: =TRUNC(C23*K23,0) -> 0 | DM23: MM-ELT-050D
A24: 스테인레스강관 티이 | B24: 50A x 10S, STS304 | C24: 3 | D24: EA | E24: =G24+I24+K24 -> 15378 | F24: =H24+J24+L24 -> 46134 | G24: =자재단가!R9 -> 15378 | H24: =TRUNC(C24*G24,0) -> 46134 | I24: 0 | J24: =TRUNC(C24*I24,0) -> 0 | K24: 0 | L24: =TRUNC(C24*K24,0) -> 0 | DM24: MM-TET-050A
A25: 스테인레스강관 티이 | B25: 50 x 25A x 10S, STS304 | C25: 5 | D25: EA | E25: =G25+I25+K25 -> 15378 | F25: =H25+J25+L25 -> 76890 | G25: =자재단가!R10 -> 15378 | H25: =TRUNC(C25*G25,0) -> 76890 | I25: 0 | J25: =TRUNC(C25*I25,0) -> 0 | K25: 0 | L25: =TRUNC(C25*K25,0) -> 0 | DM25: MM-TET-050D
A26: 스테인레스 플랜지 | B26: 50A x 10K, STS304 | C26: 10 | D26: EA | E26: =G26+I26+K26 -> 19206 | F26: =H26+J26+L26 -> 192060 | G26: =자재단가!R11 -> 19206 | H26: =TRUNC(C26*G26,0) -> 192060 | I26: 0 | J26: =TRUNC(C26*I26,0) -> 0 | K26: 0 | L26: =TRUNC(C26*K26,0) -> 0 | DM26: MM-FST-050B
A27: 스테인레스 플랜지 | B27: 25A x 10K, STS304 | C27: 5 | D27: EA | E27: =G27+I27+K27 -> 15576 | F27: =H27+J27+L27 -> 77880 | G27: =자재단가!R12 -> 15576 | H27: =TRUNC(C27*G27,0) -> 77880 | I27: 0 | J27: =TRUNC(C27*I27,0) -> 0 | K27: 0 | L27: =TRUNC(C27*K27,0) -> 0 | DM27: MM-FST-025B
A28: 스테인레스 맹플랜지 | B28: 50A x 10K, STS304 | C28: 3 | D28: EA | E28: =G28+I28+K28 -> 27750 | F28: =H28+J28+L28 -> 83250 | G28: =자재단가!R13 -> 27750 | H28: =TRUNC(C28*G28,0) -> 83250 | I28: 0 | J28: =TRUNC(C28*I28,0) -> 0 | K28: 0 | L28: =TRUNC(C28*K28,0) -> 0 | DM28: MM-FBT-050B
A29: 스테인레스 게이트밸브 | B29: 50A x 10K, STS304 | C29: 4 | D29: EA | E29: =G29+I29+K29 -> 31152 | F29: =H29+J29+L29 -> 124608 | G29: =자재단가!R14 -> 31152 | H29: =TRUNC(C29*G29,0) -> 124608 | I29: 0 | J29: =TRUNC(C29*I29,0) -> 0 | K29: 0 | L29: =TRUNC(C29*K29,0) -> 0 | DM29: MM-GVT-050B
A30: 스테인레스 볼밸브 | B30: 25A, FL, 10K, STS304 | C30: 5 | D30: EA | E30: =G30+I30+K30 -> 122000 | F30: =H30+J30+L30 -> 610000 | G30: =자재단가!R15 -> 122000 | H30: =TRUNC(C30*G30,0) -> 610000 | I30: 0 | J30: =TRUNC(C30*I30,0) -> 0 | K30: 0 | L30: =TRUNC(C30*K30,0) -> 0 | DM30: MM-BVT-025D
A31: 스테인레스 고무코넥터 | B31: 25A, FL, 10K, STS304 | C31: 5 | D31: EA | E31: =G31+I31+K31 -> 89000 | F31: =H31+J31+L31 -> 445000 | G31: =자재단가!R16 -> 89000 | H31: =TRUNC(C31*G31,0) -> 445000 | I31: 0 | J31: =TRUNC(C31*I31,0) -> 0 | K31: 0 | L31: =TRUNC(C31*K31,0) -> 0 | DM31: MM-RCT-025B
A32: 스테인레스 플랜지접합 | B32: 50A | C32: 11 | D32: 개소 | E32: =G32+I32+K32 -> 7321 | F32: =H32+J32+L32 -> 80531 | G32: =일위대가!H23 -> 7321 | H32: =TRUNC(C32*G32,0) -> 80531 | I32: =일위대가!J23 -> 0 | J32: =TRUNC(C32*I32,0) -> 0 | K32: =일위대가!L23 -> 0 | L32: =TRUNC(C32*K32,0) -> 0 | N32: 제 4호표 | DM32: BM-FIT-050A
A33: 스테인레스 플랜지접합 | B33: 25A | C33: 15 | D33: 개소 | E33: =G33+I33+K33 -> 7001 | F33: =H33+J33+L33 -> 105015 | G33: =일위대가!H31 -> 7001 | H33: =TRUNC(C33*G33,0) -> 105015 | I33: =일위대가!J31 -> 0 | J33: =TRUNC(C33*I33,0) -> 0 | K33: =일위대가!L31 -> 0 | L33: =TRUNC(C33*K33,0) -> 0 | N33: 제 5호표 | DM33: BM-FIT-025A
A34: 관지지철물 | B34: 파이프의 | C34: 40 | D34: % | E34: =G34+I34+K34 -> 955018 | F34: =H34+J34+L34 -> 382007 | G34: =SUM(H20:H21) -> 955018 | H34: =TRUNC(C34/100*G34,0) -> 382007 | I34: 0 | J34: =TRUNC(C34/100*I34,0) -> 0 | K34: 0 | L34: =TRUNC(C34/100*K34,0) -> 0 | DM34: %RAN*MM | DN34: 16..17
C35: 0 | E35: =G35+I35+K35 -> 0 | F35: =H35+J35+L35 -> 0 | G35: 0 | H35: =TRUNC(C35*G35,0) -> 0 | I35: 0 | J35: =TRUNC(C35*I35,0) -> 0 | K35: 0 | L35: =TRUNC(C35*K35,0) -> 0
A36: 1.2 STS316L 스테인레스강관 | C36: 0 | E36: =G36+I36+K36 -> 0 | F36: =H36+J36+L36 -> 6306945 | G36: 0 | H36: =SUM(H37:H57) -> 6306945 | I36: 0 | J36: =SUM(J37:J57) -> 0 | K36: 0 | L36: =SUM(L37:L57) -> 0
A37: 공업배관용 스테인레스강관 | B37: 40A x 3.0t, STS316L | C37: 0.32 | D37: M | E37: =G37+I37+K37 -> 37460 | F37: =H37+J37+L37 -> 11987 | G37: =자재단가!R17 -> 37460 | H37: =TRUNC(C37*G37,0) -> 11987 | I37: 0 | J37: =TRUNC(C37*I37,0) -> 0 | K37: 0 | L37: =TRUNC(C37*K37,0) -> 0 | DM37: MM-PIT-040A
A38: 공업배관용 스테인레스강관 | B38: 25A x 3.0t, STS316L | C38: 77.49 | D38: M | E38: =G38+I38+K38 -> 25480 | F38: =H38+J38+L38 -> 1974445 | G38: =자재단가!R18 -> 25480 | H38: =TRUNC(C38*G38,0) -> 1974445 | I38: 0 | J38: =TRUNC(C38*I38,0) -> 0 | K38: 0 | L38: =TRUNC(C38*K38,0) -> 0 | DM38: MM-PIT-025A
A39: 스테인레스강관 90˚엘보 | B39: 25A x 10S, STS316L | C39: 20 | D39: EA | E39: =G39+I39+K39 -> 7216 | F39: =H39+J39+L39 -> 144320 | G39: =자재단가!R20 -> 7216 | H39: =TRUNC(C39*G39,0) -> 144320 | I39: 0 | J39: =TRUNC(C39*I39,0) -> 0 | K39: 0 | L39: =TRUNC(C39*K39,0) -> 0 | DM39: MM-ELT-025A
A40: 스테인레스강관 티이 | B40: 25A x 10S, STS316L | C40: 6 | D40: EA | E40: =G40+I40+K40 -> 14026 | F40: =H40+J40+L40 -> 84156 | G40: =자재단가!R21 -> 14026 | H40: =TRUNC(C40*G40,0) -> 84156 | I40: 0 | J40: =TRUNC(C40*I40,0) -> 0 | K40: 0 | L40: =TRUNC(C40*K40,0) -> 0 | DM40: MM-TET-025A
A41: 스테인레스강관 중심레듀샤 | B41: 40 x 25A x 10S, STS316L | C41: 1 | D41: EA | E41: =G41+I41+K41 -> 9834 | F41: =H41+J41+L41 -> 9834 | G41: =자재단가!R22 -> 9834 | H41: =TRUNC(C41*G41,0) -> 9834 | I41: 0 | J41: =TRUNC(C41*I41,0) -> 0 | K41: 0 | L41: =TRUNC(C41*K41,0) -> 0 | DM41: MM-RCT-040A
...

Sheet 일위대가 목록
A1: 일 위 대 가 목 록 표
A3: 공 종 | B3: 규 격 | C3: 수 량 | D3: 단위 | E3: 합 계 | F3: 재 료 비 | G3: 노 무 비 | H3: 경 비 | I3: 비 고
A5: RM-802 RO 고압펌프 | B5: 입형다단펌프, 5.4㎥/hr x 500mH, 15kW | C5: 1 | D5: 대 | E5: =F5+G5+H5 -> 702952 | F5: =일위대가!H7 -> 0 | G5: =일위대가!J7 -> 682478 | H5: =일위대가!L7 -> 20474 | I5: 1 | DM5: BM-RM-802
A6: RM-806 3차처리수 저장탱크 | B6: PE제 원통형 탱크, 2.0㎥ | C6: 1 | D6: 대 | E6: =F6+G6+H6 -> 677240 | F6: =일위대가!H11 -> 0 | G6: =일위대가!J11 -> 677240 | H6: =일위대가!L11 -> 0 | I6: =I5+1 -> 2 | DM6: BM-RM-806
A7: RM-807 MF 공급펌프 | B7: 입형다단펌프, 5.4㎥/hr x 30mH, 1.1kW | C7: 1 | D7: 대 | E7: =F7+G7+H7 -> 301810 | F7: =일위대가!H15 -> 0 | G7: =일위대가!J15 -> 293020 | H7: =일위대가!L15 -> 8790 | I7: =I6+1 -> 3 | DM7: BM-RM-807
A8: 스테인레스 플랜지접합 | B8: 50A | C8: 1 | D8: 개소 | E8: =F8+G8+H8 -> 7321 | F8: =일위대가!H23 -> 7321 | G8: =일위대가!J23 -> 0 | H8: =일위대가!L23 -> 0 | I8: =I7+1 -> 4 | DM8: BM-FIT-050A
A9: 스테인레스 플랜지접합 | B9: 25A | C9: 1 | D9: 개소 | E9: =F9+G9+H9 -> 7001 | F9: =일위대가!H31 -> 7001 | G9: =일위대가!J31 -> 0 | H9: =일위대가!L31 -> 0 | I9: =I8+1 -> 5 | DM9: BM-FIT-025A
A10: 스테인레스 플랜지접합 | B10: 50A | C10: 1 | D10: 개소 | E10: =F10+G10+H10 -> 7171 | F10: =일위대가!H39 -> 7171 | G10: =일위대가!J39 -> 0 | H10: =일위대가!L39 -> 0 | I10: =I9+1 -> 6 | DM10: BM-FIT-040A
A11: 스테인레스강관 설치 | B11: 50A | C11: 1 | D11: M | E11: =F11+G11+H11 -> 26808 | F11: =일위대가!H47 -> 0 | G11: =일위대가!J47 -> 26283 | H11: =일위대가!L47 -> 525 | I11: =I10+1 -> 7 | DM11: BM-PIT-050A
A12: 스테인레스강관 설치 | B12: 25A | C12: 1 | D12: M | E12: =F12+G12+H12 -> 16177 | F12: =일위대가!H55 -> 0 | G12: =일위대가!J55 -> 15860 | H12: =일위대가!L55 -> 317 | I12: =I11+1 -> 8 | DM12: BM-PIT-025A
A13: 스테인레스강관 용접개소 | B13: 50A, STS304 | C13: 1 | D13: 개소 | E13: =F13+G13+H13 -> 32131 | F13: =일위대가!H63 -> 3785 | G13: =일위대가!J63 -> 28346 | H13: =일위대가!L63 -> 0 | I13: =I12+1 -> 9 | DM13: BM-WIT-050B
A14: 스테인레스강관 용접개소 | B14: 25A, STS304 | C14: 1 | D14: 개소 | E14: =F14+G14+H14 -> 20846 | F14: =일위대가!H71 -> 1949 | G14: =일위대가!J71 -> 18897 | H14: =일위대가!L71 -> 0 | I14: =I13+1 -> 10 | DM14: BM-WIT-025B
A15: 일반밸브 및 콕류설치 | B15: 50A | C15: 1 | D15: 개소 | E15: =F15+G15+H15 -> 18799 | F15: =일위대가!H77 -> 0 | G15: =일위대가!J77 -> 18431 | H15: =일위대가!L77 -> 368 | I15: =I14+1 -> 11 | DM15: BM-VALVEA-050
A16: 일반밸브 및 콕류설치 | B16: 25A | C16: 1 | D16: 개소 | E16: =F16+G16+H16 -> 12702 | F16: =일위대가!H83 -> 0 | G16: =일위대가!J83 -> 12453 | H16: =일위대가!L83 -> 249 | I16: =I15+1 -> 12 | DM16: BM-VALVEA-025
A17: 스테인레스강관 설치 | B17: 40A | C17: 1 | D17: M | E17: =F17+G17+H17 -> 20850 | F17: =일위대가!H91 -> 0 | G17: =일위대가!J91 -> 20442 | H17: =일위대가!L91 -> 408 | I17: =I16+1 -> 13 | DM17: BM-PIT-040A
A18: 스테인레스강관 용접개소 | B18: 40A, STS316L | C18: 1 | D18: 개소 | E18: =F18+G18+H18 -> 27085 | F18: =일위대가!H99 -> 3034 | G18: =일위대가!J99 -> 24051 | H18: =일위대가!L99 -> 0 | I18: =I17+1 -> 14 | DM18: BM-WIT-040A
A19: 스테인레스강관 용접개소 | B19: 25A, STS316L | C19: 1 | D19: 개소 | E19: =F19+G19+H19 -> 20925 | F19: =일위대가!H107 -> 2028 | G19: =일위대가!J107 -> 18897 | H19: =일위대가!L107 -> 0 | I19: =I18+1 -> 15 | DM19: BM-WIT-025A
A20: 스테인레스강관 용접개소 | B20: 8A, STS316L | C20: 1 | D20: 개소 | E20: =F20+G20+H20 -> 12489 | F20: =일위대가!H115 -> 1036 | G20: =일위대가!J115 -> 11453 | H20: =일위대가!L115 -> 0 | I20: =I19+1 -> 16 | DM20: BM-WIT-008A
A21: 일반밸브 및 콕류설치 | B21: 40A | C21: 1 | D21: 개소 | E21: =F21+G21+H21 -> 18799 | F21: =일위대가!H121 -> 0 | G21: =일위대가!J121 -> 18431 | H21: =일위대가!L121 -> 368 | I21: =I20+1 -> 17 | DM21: BM-VALVEA-040
A22: 일반밸브 및 콕류설치 | B22: 8A | C22: 1 | D22: 개소 | E22: =F22+G22+H22 -> 12702 | F22: =일위대가!H127 -> 0 | G22: =일위대가!J127 -> 12453 | H22: =일위대가!L127 -> 249 | I22: =I21+1 -> 18 | DM22: BM-VALVEA-008
A23: 압력계 제작설치 (STS316L) | B23: 15A | C23: 1 | D23: 개소 | E23: =F23+G23+H23 -> 70105 | F23: =일위대가!H135 -> 62992 | G23: =일위대가!J135 -> 6974 | H23: =일위대가!L135 -> 139 | I23: =I22+1 -> 19 | DM23: BM-PRA-015T
A24: 가교화 폴리에틸렌 접합 및 배관 | B24: 8A (직선보간법) | C24: 1 | D24: M | E24: =F24+G24+H24 -> 4819 | F24: =일위대가!H142 -> 47 | G24: =일위대가!J142 -> 4772 | H24: =일위대가!L142 -> 0 | I24: =I23+1 -> 20 | DM24: BM-PIP-008A
A25: 배관해체 | B25: 25A | C25: 1 | D25: M | E25: =F25+G25+H25 -> 6255 | F25: =일위대가!H149 -> 122 | G25: =일위대가!J149 -> 6133 | H25: =일위대가!L149 -> 0 | I25: =I24+1 -> 21 | DM25: BM-PIC-025A
A26: 합판거푸집 | B26: 1회 | C26: 1 | D26: ㎥ | E26: =F26+G26+H26 -> 39618 | F26: =일위대가!H156 -> 39618 | G26: =일위대가!J156 -> 0 | H26: =일위대가!L156 -> 0 | I26: =I25+1 -> 22 | DM26: BC-HPGPS-01
A27: 레미콘 타설 | B27: 무근콘크리트, 인력 | C27: 1 | D27: ㎥ | E27: =F27+G27+H27 -> 267259 | F27: =일위대가!H163 -> 207020 | G27: =일위대가!J163 -> 59058 | H27: =일위대가!L163 -> 1181 | I27: =I26+1 -> 23 | DM27: BC-RECON
A28: 수격방지기 설치 | B28: 15A | C28: 1 | D28: 개소 | E28: =F28+G28+H28 -> 7113 | F28: =일위대가!H169 -> 0 | G28: =일위대가!J169 -> 6974 | H28: =일위대가!L169 -> 139 | I28: =I27+1 -> 24 | DM28: BM-VENT-15T
A29: 일반펌프 설치 | B29: 1.5kW 이하 | C29: 1 | D29: 대 | E29: =F29+G29+H29 -> 301810 | F29: =일위대가!H176 -> 0 | G29: =일위대가!J176 -> 293020 | H29: =일위대가!L176 -> 8790 | I29: =I28+1 -> 25 | DM29: BM-PUMPA-1.5
A30: 일반펌프 설치 | B30: 15kW 이하 | C30: 1 | D30: 대 | E30: =F30+G30+H30 -> 702952 | F30: =일위대가!H183 -> 0 | G30: =일위대가!J183 -> 682478 | H30: =일위대가!L183 -> 20474 | I30: =I29+1 -> 26 | DM30: BM-PUMPA-15
A31: HEATER 및 TANK 설치 | B31: 0.5Ton 이하, 건설기계 닿는 장소 | C31: 1 | D31: 대 | E31: =F31+G31+H31 -> 677240 | F31: =일위대가!H192 -> 0 | G31: =일위대가!J192 -> 677240 | H31: =일위대가!L192 -> 0 | I31: =I30+1 -> 27 | DM31: BM-TANKA-0.5

Sheet 일위대가
A1: 일 위 대 가 표
A3: 공 종 | B3: 규 격 | C3: 수 량 | D3: 단위 | E3: 합 계 | G3: 재 료 비 | I3: 노 무 비 | K3: 경 비 | M3: 비 고
E4: 단 가 | F4: 금 액 | G4: 단 가 | H4: 금 액 | I4: 단 가 | J4: 금 액 | K4: 단 가 | L4: 금 액
A5: 제 1 호표 ：RM-802 RO 고압펌프 (입형다단펌프, 5.4㎥/hr x 500mH, 15kW) 대 당 | DM5: :BM-RM-802
A6: 일반펌프 설치 | B6: 15kW 이하 | C6: 1 | D6: 대 | E6: =G6+I6+K6 -> 702952 | F6: =H6+J6+L6 -> 702952 | G6: =H183 -> 0 | H6: =TRUNC(C6*G6,1) -> 0 | I6: =J183 -> 682478 | J6: =TRUNC(C6*I6,1) -> 682478 | K6: =L183 -> 20474 | L6: =TRUNC(C6*K6,1) -> 20474 | M6: 제 26호표 | DM6: BM-PUMPA-15
A7: 계 | F7: =H7+J7+L7 -> 702952 | H7: =ROUNDDOWN(SUM(H6:H6),0) -> 0 | J7: =ROUNDDOWN(SUM(J6:J6),0) -> 682478 | L7: =ROUNDDOWN(SUM(L6:L6),0) -> 20474
A9: 제 2 호표 ：RM-806 3차처리수 저장탱크 (PE제 원통형 탱크, 2.0㎥) 대 당 | DM9: :BM-RM-806
A10: HEATER 및 TANK 설치 | B10: 0.5Ton 이하, 건설기계 닿는 장소 | C10: 1 | D10: 대 | E10: =G10+I10+K10 -> 677240 | F10: =H10+J10+L10 -> 677240 | G10: =H192 -> 0 | H10: =TRUNC(C10*G10,1) -> 0 | I10: =J192 -> 677240 | J10: =TRUNC(C10*I10,1) -> 677240 | K10: =L192 -> 0 | L10: =TRUNC(C10*K10,1) -> 0 | M10: 제 27호표 | DM10: BM-TANKA-0.5
A11: 계 | F11: =H11+J11+L11 -> 677240 | H11: =ROUNDDOWN(SUM(H10:H10),0) -> 0 | J11: =ROUNDDOWN(SUM(J10:J10),0) -> 677240 | L11: =ROUNDDOWN(SUM(L10:L10),0) -> 0
A13: 제 3 호표 ：RM-807 MF 공급펌프 (입형다단펌프, 5.4㎥/hr x 30mH, 1.1kW) 대 당 | DM13: :BM-RM-807
A14: 일반펌프 설치 | B14: 1.5kW 이하 | C14: 1 | D14: 대 | E14: =G14+I14+K14 -> 301810 | F14: =H14+J14+L14 -> 301810 | G14: =H176 -> 0 | H14: =TRUNC(C14*G14,1) -> 0 | I14: =J176 -> 293020 | J14: =TRUNC(C14*I14,1) -> 293020 | K14: =L176 -> 8790 | L14: =TRUNC(C14*K14,1) -> 8790 | M14: 제 25호표 | DM14: BM-PUMPA-1.5
A15: 계 | F15: =H15+J15+L15 -> 301810 | H15: =ROUNDDOWN(SUM(H14:H14),0) -> 0 | J15: =ROUNDDOWN(SUM(J14:J14),0) -> 293020 | L15: =ROUNDDOWN(SUM(L14:L14),0) -> 8790
A17: 제 4 호표 ：스테인레스 플랜지접합 (50A) 개소 당 | DM17: :BM-FIT-050A
A18: 스테인레스 육각볼트 | B18: M16 x L60 | C18: 4 | D18: EA | E18: =G18+I18+K18 -> 1242 | F18: =H18+J18+L18 -> 4968 | G18: =자재단가!R43 -> 1242 | H18: =TRUNC(C18*G18,1) -> 4968 | I18: 0 | J18: =TRUNC(C18*I18,1) -> 0 | K18: 0 | L18: =TRUNC(C18*K18,1) -> 0 | DM18: MM-BLT-16-60
A19: 스테인레스 육각너트 | B19: M16 | C19: 4 | D19: EA | E19: =G19+I19+K19 -> 291.5 | F19: =H19+J19+L19 -> 1166 | G19: =자재단가!R44 -> 291.5 | H19: =TRUNC(C19*G19,1) -> 1166 | I19: 0 | J19: =TRUNC(C19*I19,1) -> 0 | K19: 0 | L19: =TRUNC(C19*K19,1) -> 0 | DM19: MM-NTT-16
A20: 스테인레스 평와셔 | B20: M16 | C20: 4 | D20: EA | E20: =G20+I20+K20 -> 101.8 | F20: =H20+J20+L20 -> 407.2 | G20: =자재단가!R45 -> 101.8 | H20: =TRUNC(C20*G20,1) -> 407.2 | I20: 0 | J20: =TRUNC(C20*I20,1) -> 0 | K20: 0 | L20: =TRUNC(C20*K20,1) -> 0 | DM20: MM-WST-16
A21: 고무가스켓 | B21: 50A | C21: 1 | D21: EA | E21: =G21+I21+K21 -> 780 | F21: =H21+J21+L21 -> 780 | G21: =자재단가!R46 -> 780 | H21: =TRUNC(C21*G21,1) -> 780 | I21: 0 | J21: =TRUNC(C21*I21,1) -> 0 | K21: 0 | L21: =TRUNC(C21*K21,1) -> 0 | DM21: MM-RGK-050
A22: 플랜트배관 포켓북 P.147 | C22: 0 | E22: 0 | F22: 0 | G22: 0 | H22: 0 | I22: 0 | J22: 0 | K22: 0 | L22: 0 | DM22: %%
A23: 계 | F23: =H23+J23+L23 -> 7321 | H23: =ROUNDDOWN(SUM(H18:H22)-(H22),0) -> 7321 | J23: =ROUNDDOWN(SUM(J18:J22)-(J22),0) -> 0 | L23: =ROUNDDOWN(SUM(L18:L22)-(L22),0) -> 0
A25: 제 5 호표 ：스테인레스 플랜지접합 (25A) 개소 당 | DM25: :BM-FIT-025A
A26: 스테인레스 육각볼트 | B26: M16 x L60 | C26: 4 | D26: EA | E26: =G26+I26+K26 -> 1242 | F26: =H26+J26+L26 -> 4968 | G26: =자재단가!R43 -> 1242 | H26: =TRUNC(C26*G26,1) -> 4968 | I26: 0 | J26: =TRUNC(C26*I26,1) -> 0 | K26: 0 | L26: =TRUNC(C26*K26,1) -> 0 | DM26: MM-BLT-16-60
A27: 스테인레스 육각너트 | B27: M16 | C27: 4 | D27: EA | E27: =G27+I27+K27 -> 291.5 | F27: =H27+J27+L27 -> 1166 | G27: =자재단가!R44 -> 291.5 | H27: =TRUNC(C27*G27,1) -> 1166 | I27: 0 | J27: =TRUNC(C27*I27,1) -> 0 | K27: 0 | L27: =TRUNC(C27*K27,1) -> 0 | DM27: MM-NTT-16
A28: 스테인레스 평와셔 | B28: M16 | C28: 4 | D28: EA | E28: =G28+I28+K28 -> 101.8 | F28: =H28+J28+L28 -> 407.2 | G28: =자재단가!R45 -> 101.8 | H28: =TRUNC(C28*G28,1) -> 407.2 | I28: 0 | J28: =TRUNC(C28*I28,1) -> 0 | K28: 0 | L28: =TRUNC(C28*K28,1) -> 0 | DM28: MM-WST-16
A29: 고무가스켓 | B29: 25A | C29: 1 | D29: EA | E29: =G29+I29+K29 -> 460 | F29: =H29+J29+L29 -> 460 | G29: =자재단가!R48 -> 460 | H29: =TRUNC(C29*G29,1) -> 460 | I29: 0 | J29: =TRUNC(C29*I29,1) -> 0 | K29: 0 | L29: =TRUNC(C29*K29,1) -> 0 | DM29: MM-RGK-025
A30: 플랜트배관 포켓북 P.147 | C30: 0 | E30: 0 | F30: 0 | G30: 0 | H30: 0 | I30: 0 | J30: 0 | K30: 0 | L30: 0 | DM30: %%
A31: 계 | F31: =H31+J31+L31 -> 7001 | H31: =ROUNDDOWN(SUM(H26:H30)-(H30),0) -> 7001 | J31: =ROUNDDOWN(SUM(J26:J30)-(J30),0) -> 0 | L31: =ROUNDDOWN(SUM(L26:L30)-(L30),0) -> 0
A33: 제 6 호표 ：스테인레스 플랜지접합 (50A) 개소 당 | DM33: :BM-FIT-040A
A34: 스테인레스 육각볼트 | B34: M16 x L60 | C34: 4 | D34: EA | E34: =G34+I34+K34 -> 1242 | F34: =H34+J34+L34 -> 4968 | G34: =자재단가!R43 -> 1242 | H34: =TRUNC(C34*G34,1) -> 4968 | I34: 0 | J34: =TRUNC(C34*I34,1) -> 0 | K34: 0 | L34: =TRUNC(C34*K34,1) -> 0 | DM34: MM-BLT-16-60
A35: 스테인레스 육각너트 | B35: M16 | C35: 4 | D35: EA | E35: =G35+I35+K35 -> 291.5 | F35: =H35+J35+L35 -> 1166 | G35: =자재단가!R44 -> 291.5 | H35: =TRUNC(C35*G35,1) -> 1166 | I35: 0 | J35: =TRUNC(C35*I35,1) -> 0 | K35: 0 | L35: =TRUNC(C35*K35,1) -> 0 | DM35: MM-NTT-16
A36: 스테인레스 평와셔 | B36: M16 | C36: 4 | D36: EA | E36: =G36+I36+K36 -> 101.8 | F36: =H36+J36+L36 -> 407.2 | G36: =자재단가!R45 -> 101.8 | H36: =TRUNC(C36*G36,1) -> 407.2 | I36: 0 | J36: =TRUNC(C36*I36,1) -> 0 | K36: 0 | L36: =TRUNC(C36*K36,1) -> 0 | DM36: MM-WST-16
A37: 고무가스켓 | B37: 40A | C37: 1 | D37: EA | E37: =G37+I37+K37 -> 630 | F37: =H37+J37+L37 -> 630 | G37: =자재단가!R47 -> 630 | H37: =TRUNC(C37*G37,1) -> 630 | I37: 0 | J37: =TRUNC(C37*I37,1) -> 0 | K37: 0 | L37: =TRUNC(C37*K37,1) -> 0 | DM37: MM-RGK-040
A38: 플랜트배관 포켓북 P.147 | C38: 0 | E38: 0 | F38: 0 | G38: 0 | H38: 0 | I38: 0 | J38: 0 | K38: 0 | L38: 0 | DM38: %%
A39: 계 | F39: =H39+J39+L39 -> 7171 | H39: =ROUNDDOWN(SUM(H34:H38)-(H38),0) -> 7171 | J39: =ROUNDDOWN(SUM(J34:J38)-(J38),0) -> 0 | L39: =ROUNDDOWN(SUM(L34:L38)-(L38),0) -> 0
A41: 제 7 호표 ：스테인레스강관 설치 (50A) M 당 | DM41: :BM-PIT-050A
A42: 배관공 | C42: 3 | D42: 인 | E42: =G42+I42+K42 -> 249073 | F42: =H42+J42+L42 -> 747219 | G42: 0 | H42: =TRUNC(C42*G42,1) -> 0 | I42: =노임단가!K11 -> 249073 | J42: =TRUNC(C42*I42,1) -> 747219 | K42: 0 | L42: =TRUNC(C42*K42,1) -> 0 | DM42: W1039
A43: 보통인부 | C43: 1 | D43: 인 | E43: =G43+I43+K43 -> 172698 | F43: =H43+J43+L43 -> 172698 | G43: 0 | H43: =TRUNC(C43*G43,1) -> 0 | I43: =노임단가!K5 -> 172698 | J43: =TRUNC(C43*I43,1) -> 172698 | K43: 0 | L43: =TRUNC(C43*K43,1) -> 0 | DM43: W1002
A44: 공구손료 | B44: 노무비의 | C44: 2 | D44: % | E44: =G44+I44+K44 -> 919917 | F44: =H44+J44+L44 -> 18398.3 | G44: 0 | H44: =TRUNC(C44/100*G44,1) -> 0 | I44: 0 | J44: =TRUNC(C44/100*I44,1) -> 0 | K44: =SUM(J42:J43) -> 919917 | L44: =TRUNC(C44/100*K44,1) -> 18398.3 | DM44: %RAN*LE | DN44: 1..2
A45: 계 ÷ 35 | B45: 1일 시공량 35M | C45: 0 | E45: =G45+I45+K45 -> 0 | F45: =H45+J45+L45 -> 26809.009 | G45: 0 | H45: =SUM(H42:H44)/35 -> 0 | I45: 0 | J45: =SUM(J42:J44)/35 -> 26283.343 | K45: 0 | L45: =SUM(L42:L44)/35 -> 525.66571 | DM45: %GYE/?? | DN45: 35
A46: 기계품셈 1-3-2 | C46: 0 | E46: 0 | F46: 0 | G46: 0 | H46: 0 | I46: 0 | J46: 0 | K46: 0 | L46: 0 | DM46: %%
A47: 계 | F47: =H47+J47+L47 -> 26808 | H47: =ROUNDDOWN(SUM(H45),0) -> 0 | J47: =ROUNDDOWN(SUM(J45),0) -> 26283 | L47: =ROUNDDOWN(SUM(L45),0) -> 525
...

Sheet 자재단가
A1: 자 재 단 가
A3: 품 명 | B3: 규 격 | C3: 단위 | D3: 가 격 정 보 | F3: 물 가 자 료 | H3: 물 가 정 보 | J3: 거 래 가 격 | L3: 유 통 물 가 | N3: 기 타 가 격 | P3: 단 가 | Q3: 낙찰율(%) | R3: 적용단가 | S3: 비 고
D4: 단 가 | E4: Page | F4: 단 가 | G4: Page | H4: 단 가 | I4: Page | J4: 단 가 | K4: Page | L4: 단 가 | M4: Page | N4: 단 가 | O4: Page
A5: 공업배관용 스테인레스강관 | B5: 50A x 3.0t, STS304 | C5: M | F5: 23610 | G5: 744 | H5: 24058 | I5: 701 | J5: 0 | L5: 0 | P5: =MIN(N5,H5,F5,D5) -> 23610 | Q5: 0 | R5: =IF(Q5=0,P5,TRUNC(Q5/100*P5,0)) -> 23610 | DM5: MM-PIT-050B
A6: 공업배관용 스테인레스강관 | B6: 25A x 3.0t, STS304 | C6: M | F6: 12740 | G6: 744 | H6: 14588 | I6: 701 | J6: 0 | L6: 0 | P6: =MIN(N6,H6,F6,D6) -> 12740 | Q6: 0 | R6: =IF(Q6=0,P6,TRUNC(Q6/100*P6,0)) -> 12740 | DM6: MM-PIT-025B
A7: 스테인레스강관 90˚엘보 | B7: 50A x 10S, STS304 | C7: M | F7: 13000 | G7: 745 | H7: 8536 | I7: 705 | J7: 0 | L7: 0 | P7: =MIN(N7,H7,F7,D7) -> 8536 | Q7: 0 | R7: =IF(Q7=0,P7,TRUNC(Q7/100*P7,0)) -> 8536 | DM7: MM-ELT-050C
A8: 스테인레스강관 45˚엘보 | B8: 50A x 10S, STS304 | C8: M | F8: 13000 | G8: 745 | H8: 8536 | I8: 705 | J8: 0 | L8: 0 | P8: =MIN(N8,H8,F8,D8) -> 8536 | Q8: 0 | R8: =IF(Q8=0,P8,TRUNC(Q8/100*P8,0)) -> 8536 | DM8: MM-ELT-050D
A9: 스테인레스강관 티이 | B9: 50A x 10S, STS304 | C9: EA | F9: 23300 | G9: 745 | H9: 15378 | I9: 705 | J9: 0 | L9: 0 | P9: =MIN(N9,H9,F9,D9) -> 15378 | Q9: 0 | R9: =IF(Q9=0,P9,TRUNC(Q9/100*P9,0)) -> 15378 | DM9: MM-TET-050A
A10: 스테인레스강관 티이 | B10: 50 x 25A x 10S, STS304 | C10: EA | F10: 23300 | G10: 745 | H10: 15378 | I10: 705 | J10: 0 | L10: 0 | P10: =MIN(N10,H10,F10,D10) -> 15378 | Q10: 0 | R10: =IF(Q10=0,P10,TRUNC(Q10/100*P10,0)) -> 15378 | DM10: MM-TET-050D
A11: 스테인레스 플랜지 | B11: 50A x 10K, STS304 | C11: EA | F11: 21920 | G11: 747 | H11: 19206 | I11: 704 | J11: 0 | L11: 0 | P11: =MIN(N11,H11,F11,D11) -> 19206 | Q11: 0 | R11: =IF(Q11=0,P11,TRUNC(Q11/100*P11,0)) -> 19206 | DM11: MM-FST-050B
A12: 스테인레스 플랜지 | B12: 25A x 10K, STS304 | C12: EA | F12: 15630 | G12: 747 | H12: 15576 | I12: 704 | J12: 0 | L12: 0 | P12: =MIN(N12,H12,F12,D12) -> 15576 | Q12: 0 | R12: =IF(Q12=0,P12,TRUNC(Q12/100*P12,0)) -> 15576 | DM12: MM-FST-025B
A13: 스테인레스 맹플랜지 | B13: 50A x 10K, STS304 | C13: EA | F13: 27750 | G13: 747 | H13: 31152 | I13: 704 | J13: 0 | L13: 0 | P13: =MIN(N13,H13,F13,D13) -> 27750 | Q13: 0 | R13: =IF(Q13=0,P13,TRUNC(Q13/100*P13,0)) -> 27750 | DM13: MM-FBT-050B
A14: 스테인레스 게이트밸브 | B14: 50A x 10K, STS304 | C14: EA | F14: 230000 | G14: 834 | H14: 31152 | I14: 704 | J14: 0 | L14: 0 | P14: =MIN(N14,H14,F14,D14) -> 31152 | Q14: 0 | R14: =IF(Q14=0,P14,TRUNC(Q14/100*P14,0)) -> 31152 | DM14: MM-GVT-050B
A15: 스테인레스 볼밸브 | B15: 25A, FL, 10K, STS304 | C15: EA | F15: 122000 | G15: 834 | J15: 0 | L15: 0 | P15: =MIN(N15,H15,F15,D15) -> 122000 | Q15: 0 | R15: =IF(Q15=0,P15,TRUNC(Q15/100*P15,0)) -> 122000 | DM15: MM-BVT-025D
A16: 스테인레스 고무코넥터 | B16: 25A, FL, 10K, STS304 | C16: EA | H16: 89000 | I16: 755 | J16: 0 | L16: 0 | P16: =MIN(N16,H16,F16,D16) -> 89000 | Q16: 0 | R16: =IF(Q16=0,P16,TRUNC(Q16/100*P16,0)) -> 89000 | DM16: MM-RCT-025B
A17: 공업배관용 스테인레스강관 | B17: 40A x 3.0t, STS316L | C17: M | F17: 37460 | G17: 744 | H17: 42916 | I17: 701 | J17: 0 | L17: 0 | P17: =MIN(N17,H17,F17,D17) -> 37460 | Q17: 0 | R17: =IF(Q17=0,P17,TRUNC(Q17/100*P17,0)) -> 37460 | S17: 304 x 2 | DM17: MM-PIT-040A
A18: 공업배관용 스테인레스강관 | B18: 25A x 3.0t, STS316L | C18: M | F18: 25480 | G18: 744 | H18: 29176 | I18: 701 | J18: 0 | L18: 0 | P18: =MIN(N18,H18,F18,D18) -> 25480 | Q18: 0 | R18: =IF(Q18=0,P18,TRUNC(Q18/100*P18,0)) -> 25480 | S18: 304 x 2 | DM18: MM-PIT-025A
A19: 공업배관용 스테인레스강관 | B19: 15A x 3.0t, STS316L | C19: M | F19: 16100 | G19: 744 | H19: 18436 | I19: 701 | J19: 0 | L19: 0 | P19: =MIN(N19,H19,F19,D19) -> 16100 | Q19: 0 | R19: =IF(Q19=0,P19,TRUNC(Q19/100*P19,0)) -> 16100 | S19: 304 x 2 | DM19: MM-PIT-015A
A20: 스테인레스강관 90˚엘보 | B20: 25A x 10S, STS316L | C20: EA | F20: 10000 | G20: 745 | H20: 7216 | I20: 705 | J20: 0 | L20: 0 | P20: =MIN(N20,H20,F20,D20) -> 7216 | Q20: 0 | R20: =IF(Q20=0,P20,TRUNC(Q20/100*P20,0)) -> 7216 | S20: 304 x 2 | DM20: MM-ELT-025A
A21: 스테인레스강관 티이 | B21: 25A x 10S, STS316L | C21: EA | F21: 19400 | G21: 745 | H21: 14026 | I21: 705 | J21: 0 | L21: 0 | P21: =MIN(N21,H21,F21,D21) -> 14026 | Q21: 0 | R21: =IF(Q21=0,P21,TRUNC(Q21/100*P21,0)) -> 14026 | S21: 304 x 2 | DM21: MM-TET-025A
A22: 스테인레스강관 중심레듀샤 | B22: 40 x 25A x 10S, STS316L | C22: EA | F22: 12600 | G22: 745 | H22: 9834 | I22: 706 | J22: 0 | L22: 0 | P22: =MIN(N22,H22,F22,D22) -> 9834 | Q22: 0 | R22: =IF(Q22=0,P22,TRUNC(Q22/100*P22,0)) -> 9834 | S22: 304 x 2 | DM22: MM-RCT-040A
A23: 스테인레스 플랜지 | B23: 40A x 10K, STS316L | C23: EA | F23: 35900 | G23: 747 | H23: 32736 | I23: 704 | J23: 0 | L23: 0 | P23: =MIN(N23,H23,F23,D23) -> 32736 | Q23: 0 | R23: =IF(Q23=0,P23,TRUNC(Q23/100*P23,0)) -> 32736 | S23: 304 x 2 | DM23: MM-FST-040A
A24: 스테인레스 플랜지 | B24: 25A x 10K, STS316L | C24: EA | F24: 31260 | G24: 747 | H24: 31152 | I24: 704 | J24: 0 | L24: 0 | P24: =MIN(N24,H24,F24,D24) -> 31152 | Q24: 0 | R24: =IF(Q24=0,P24,TRUNC(Q24/100*P24,0)) -> 31152 | S24: 304 x 2 | DM24: MM-FST-025A
A25: 스테인레스 맹플랜지 | B25: 25A x 10K, STS316L | C25: EA | F25: 36380 | G25: 747 | H25: 38808 | I25: 704 | J25: 0 | L25: 0 | P25: =MIN(N25,H25,F25,D25) -> 36380 | Q25: 0 | R25: =IF(Q25=0,P25,TRUNC(Q25/100*P25,0)) -> 36380 | S25: 304 x 2 | DM25: MM-FBT-025A
A26: 스테인레스강관 90˚엘보 | B26: 15A, SCR, STS316L | C26: EA | F26: 3902 | G26: 750 | J26: 0 | L26: 0 | P26: =MIN(N26,H26,F26,D26) -> 3902 | Q26: 0 | R26: =IF(Q26=0,P26,TRUNC(Q26/100*P26,0)) -> 3902 | S26: 304 x 2 | DM26: MM-ELT-015A
A27: 스테인레스강관 니쁠 | B27: 40A, SCR, STS316L | C27: EA | F27: 26546 | G27: 750 | H27: 9520 | I27: 666 | J27: 0 | L27: 0 | P27: =MIN(N27,H27,F27,D27) -> 9520 | Q27: 0 | R27: =IF(Q27=0,P27,TRUNC(Q27/100*P27,0)) -> 9520 | S27: 304 x 2 | DM27: MM-NIT-040A
A28: 스테인레스강관 니쁠 | B28: 25A, SCR, STS316L | C28: EA | F28: 13380 | G28: 750 | H28: 6460 | I28: 666 | J28: 0 | L28: 0 | P28: =MIN(N28,H28,F28,D28) -> 6460 | Q28: 0 | R28: =IF(Q28=0,P28,TRUNC(Q28/100*P28,0)) -> 6460 | S28: 304 x 2 | DM28: MM-NIT-025A
A29: 스테인레스강관 니쁠 | B29: 15A, SCR, STS316L | C29: EA | F29: 7250 | G29: 750 | H29: 3680 | I29: 666 | J29: 0 | L29: 0 | P29: =MIN(N29,H29,F29,D29) -> 3680 | Q29: 0 | R29: =IF(Q29=0,P29,TRUNC(Q29/100*P29,0)) -> 3680 | S29: 304 x 2 | DM29: MM-NIT-015A
A30: 스테인레스강관 니쁠 | B30: 8A, SCR, STS316L | C30: EA | F30: 4364 | G30: 750 | H30: 4180 | I30: 666 | J30: 0 | L30: 0 | P30: =MIN(N30,H30,F30,D30) -> 4180 | Q30: 0 | R30: =IF(Q30=0,P30,TRUNC(Q30/100*P30,0)) -> 4180 | S30: 304 x 2 | DM30: MM-NIT-008A
A31: 스테인레스강관 유니온 | B31: 40A, SCR, STS316L | C31: EA | F31: 52192 | G31: 750 | J31: 0 | L31: 0 | P31: =MIN(N31,H31,F31,D31) -> 52192 | Q31: 0 | R31: =IF(Q31=0,P31,TRUNC(Q31/100*P31,0)) -> 52192 | S31: 304 x 2 | DM31: MM-UNT-040A
A32: 스테인레스강관 유니온 | B32: 25A, SCR, STS316L | C32: EA | F32: 26934 | G32: 750 | J32: 0 | L32: 0 | P32: =MIN(N32,H32,F32,D32) -> 26934 | Q32: 0 | R32: =IF(Q32=0,P32,TRUNC(Q32/100*P32,0)) -> 26934 | S32: 304 x 2 | DM32: MM-UNT-025A
A33: 스테인레스 볼밸브 | B33: 40A, SCR, STS316L | C33: EA | F33: 96000 | G33: 834 | J33: 0 | L33: 0 | P33: =MIN(N33,H33,F33,D33) -> 96000 | Q33: 0 | R33: =IF(Q33=0,P33,TRUNC(Q33/100*P33,0)) -> 96000 | S33: 304 x 2 | DM33: MM-BVT-040A
A34: 스테인레스 볼밸브 | B34: 25A, SCR, STS316L | C34: EA | F34: 56000 | G34: 834 | J34: 0 | L34: 0 | P34: =MIN(N34,H34,F34,D34) -> 56000 | Q34: 0 | R34: =IF(Q34=0,P34,TRUNC(Q34/100*P34,0)) -> 56000 | S34: 304 x 2 | DM34: MM-BVT-025A
A35: 스테인레스 볼밸브 | B35: 15A, SCR, STS316L | C35: EA | F35: 40000 | G35: 834 | J35: 0 | L35: 0 | P35: =MIN(N35,H35,F35,D35) -> 40000 | Q35: 0 | R35: =IF(Q35=0,P35,TRUNC(Q35/100*P35,0)) -> 40000 | S35: 304 x 2 | DM35: MM-BVT-015A
A36: 스테인레스 볼밸브 | B36: 8A, SCR, STS316L | C36: EA | F36: 40000 | G36: 834 | J36: 0 | L36: 0 | P36: =MIN(N36,H36,F36,D36) -> 40000 | Q36: 0 | R36: =IF(Q36=0,P36,TRUNC(Q36/100*P36,0)) -> 40000 | S36: 304 x 2 | DM36: MM-BVT-008A
A37: 스테인레스 체크밸브 | B37: 25A, SCR, STS316L | C37: EA | F37: 150000 | G37: 834 | H37: 1880000 | I37: 779 | J37: 0 | L37: 0 | P37: =MIN(N37,H37,F37,D37) -> 150000 | Q37: 0 | R37: =IF(Q37=0,P37,TRUNC(Q37/100*P37,0)) -> 150000 | S37: 304 x 2 | DM37: MM-CVT-025A
A38: 스테인레스 고무코넥터 | B38: 25A, FL, 10K, STS316L | C38: EA | H38: 178000 | I38: 755 | J38: 0 | L38: 0 | P38: =MIN(N38,H38,F38,D38) -> 178000 | Q38: 0 | R38: =IF(Q38=0,P38,TRUNC(Q38/100*P38,0)) -> 178000 | S38: 304 x 2 | DM38: MM-RCT-025A
A39: SILICON제 고무호스 | B39: 8A | C39: M | F39: 1823 | G39: 1420 | J39: 0 | L39: 0 | P39: =MIN(N39,H39,F39,D39) -> 1823 | Q39: 0 | R39: =IF(Q39=0,P39,TRUNC(Q39/100*P39,0)) -> 1823 | DM39: MM-PIR-008A
A40: 스테인레스강관 니쁠 | B40: 8A, 나사식, STS304 | C40: EA | F40: 2182 | G40: 750 | H40: 2090 | I40: 666 | J40: 0 | L40: 0 | P40: =MIN(N40,H40,F40,D40) -> 2090 | Q40: 0 | R40: =IF(Q40=0,P40,TRUNC(Q40/100*P40,0)) -> 2090 | DM40: MM-NIT-008B
A41: 스테인레스 볼밸브 | B41: 8A, SCR, STS304 | C41: EA | F41: 20000 | G41: 834 | J41: 0 | L41: 0 | P41: =MIN(N41,H41,F41,D41) -> 20000 | Q41: 0 | R41: =IF(Q41=0,P41,TRUNC(Q41/100*P41,0)) -> 20000 | DM41: MM-BVT-008B
...

Sheet 노임단가
A1: 노 임 단 가
A3: 번호 | B3: 직 종 명 | C3: 단위 | D3: 건 설 협 회 | F3: 조 달 청 | H3: 기타단가 | I3: 단 가 | J3: 낙찰율(%) | K3: 적용단가 | L3: 비 고
D4: 상반기 | E4: 하반기 | F4: 상반기 | G4: 하반기
A5: 1 | B5: 보통인부 | C5: 인 | D5: 172068 | E5: 172698 | F5: 0 | G5: 0 | H5: 0 | I5: =E5 -> 172698 | J5: 0 | K5: =IF(J5=0,I5,TRUNC(J5/100*I5,0)) -> 172698 | L5: 일반공사 직종 | DM5: W1002
A6: 2 | B6: 특별인부 | C6: 인 | D6: 226122 | E6: 228717 | F6: 0 | G6: 0 | H6: 0 | I6: =E6 -> 228717 | J6: 0 | K6: =IF(J6=0,I6,TRUNC(J6/100*I6,0)) -> 228717 | L6: 일반공사 직종 | DM6: W1003
A7: 3 | B7: 비계공 | C7: 인 | D7: 281939 | E7: 284440 | F7: 0 | G7: 0 | H7: 0 | I7: =E7 -> 284440 | J7: 0 | K7: =IF(J7=0,I7,TRUNC(J7/100*I7,0)) -> 284440 | L7: 일반공사 직종 | DM7: W1006
A8: 4 | B8: 형틀목공 | C8: 인 | D8: 275790 | E8: 275379 | F8: 0 | G8: 0 | H8: 0 | I8: =E8 -> 275379 | J8: 0 | K8: =IF(J8=0,I8,TRUNC(J8/100*I8,0)) -> 275379 | L8: 일반공사 직종 | DM8: W1007
A9: 5 | B9: 용접공 | C9: 인 | D9: 282536 | E9: 286330 | F9: 0 | G9: 0 | H9: 0 | I9: =E9 -> 286330 | J9: 0 | K9: =IF(J9=0,I9,TRUNC(J9/100*I9,0)) -> 286330 | L9: 일반공사 직종 | DM9: W1012
A10: 6 | B10: 콘크리트공 | C10: 인 | D10: 273540 | E10: 276285 | F10: 0 | G10: 0 | H10: 0 | I10: =E10 -> 276285 | J10: 0 | K10: =IF(J10=0,I10,TRUNC(J10/100*I10,0)) -> 276285 | L10: 일반공사 직종 | DM10: W1013
A11: 7 | B11: 배관공 | C11: 인 | D11: 247897 | E11: 249073 | F11: 0 | G11: 0 | H11: 0 | I11: =E11 -> 249073 | J11: 0 | K11: =IF(J11=0,I11,TRUNC(J11/100*I11,0)) -> 249073 | L11: 일반공사 직종 | DM11: W1039
A12: 8 | B12: 건설기계운전사 | C12: 인 | D12: 283297 | E12: 283323 | F12: 0 | G12: 0 | H12: 0 | I12: =E12 -> 283323 | J12: 0 | K12: =IF(J12=0,I12,TRUNC(J12/100*I12,0)) -> 283323 | L12: 일반공사 직종 | DM12: W1048
A13: 9 | B13: 기계설비공 | C13: 인 | D13: 241698 | E13: 242647 | F13: 0 | G13: 0 | H13: 0 | I13: =E13 -> 242647 | J13: 0 | K13: =IF(J13=0,I13,TRUNC(J13/100*I13,0)) -> 242647 | L13: 일반공사 직종 | DM13: W1051
A14: 10 | B14: 플랜트기계설치공 | C14: 인 | D14: 230376 | E14: 234041 | F14: 0 | G14: 0 | H14: 0 | I14: =E14 -> 234041 | J14: 0 | K14: =IF(J14=0,I14,TRUNC(J14/100*I14,0)) -> 234041 | L14: 일반공사 직종 | DM14: W1060

Sheet 단가대비표
A1: 견 적 대 비 표
A2: 공사명 : | I2: VAT포함
A3: 품 목 | B3: 규격 | C3: 단위 | D3: 견적 A | E3: 견적 B | F3: 견적 C | G3: 견적 D | H3: 적용단가 | I3: 비 고 | J3: 품목구분 | K3: 노임구분
D4: 단가 | E4: 단가 | F4: 단가
A5: 가. 고압 RO설비 (신설)
A6: RM-801 MF 필터 | B6: STS316L제 챔버형 D200mm x H750mm (5㎛, 20") | C6: 대 | D6: 11000000 | H6: =D6 -> 11000000 | I6: 공법사 공급분 VAT 포함
A7: RM-802 RO 고압펌프 | B7: STS316L제 입형 다단펌프 (VVVF) 2.5m/hr × 430mH, 15kW | C7: 대 | D7: 34500000 | E7: 45000000 | H7: =D7 -> 34500000 | I7: 도급분 VAT별도
A8: RM-803 RO 유니트 A | B8: STS316L제 역삼투막 베셀압력형 4"-4단, 1,000psi | C8: 대 | D8: 38750000 | H8: =D8 -> 38750000 | I8: 공법사 공급분 VAT 포함
A9: RM-804 RO 유니트 B | B9: STS316L제 역삼투막 베셀압력형 4"-4단, 1,000psi | C9: 대 | D9: 38750000 | H9: =D9 -> 38750000 | I9: 공법사 공급분 VAT 포함
A10: RM-805 현장제어반 | B10: STS제 옥외형 이중 도어 PLC 내장형 | C10: 대 | D10: 125000000 | H10: =D10 -> 125000000 | I10: 공법사 공급분 VAT 포함
A11: RM-806 3차처리수 저장탱크 | B11: PE제 원통형 탱크 2.0㎥ | C11: 대 | D11: 3250000 | E11: 3400000 | F11: 3500000 | H11: =D11 -> 3250000 | I11: 도급분 VAT별도
A12: RM-807 CF 공급펌프 | B12: STS316L제 입형 다단펌프 2.5m/hr × 30mH, 1.5kW | C12: 대 | D12: 5200000 | E12: 6320000 | H12: =D12 -> 5200000 | I12: 도급분 VAT별도
A13: RM-808 3차처리수 절환밸브 | B13: STS316L제 전동 볼밸브 25A x 10K, 0.4kW | C13: 대 | D13: 2695000 | E13: 2816000 | F13: 2937000 | H13: =D13 -> 2695000 | I13: 도급분 VAT별도
