Workbook
Name _1_??1????: '[1]일위대가(계측기설치)'!#REF!
Name _2_??1????: '[1]일위대가(계측기설치)'!#REF!
Name _3_??2????: '[1]일위대가(계측기설치)'!#REF!
Name _4_??2????: '[1]일위대가(계측기설치)'!#REF!
Name _5_??3????: '[1]일위대가(계측기설치)'!#REF!
Name _6_??3????: '[1]일위대가(계측기설치)'!#REF!
Name _7_??4????: '[1]일위대가(계측기설치)'!#REF!
Name _8_??4????: '[1]일위대가(계측기설치)'!#REF!
Name _9_??5????: '[1]일위대가(계측기설치)'!#REF!
Name _10_??5????: '[1]일위대가(계측기설치)'!#REF!
Name _11_??6????: '[1]일위대가(계측기설치)'!#REF!
Name _12_??6????: '[1]일위대가(계측기설치)'!#REF!
Name _: #REF!
Name _.사급자재대: #REF!
Name _.사급자재대: #REF!
Name _.사급자재대: #REF!
Name __: #REF!
Name __: #REF!
Name ___: #REF!
Name ____: #REF!
Name ____: #REF!
Name _____: #REF!
Name ______: #REF!
Name ______: #REF!
Name _______: #REF!
Name _______: #REF!
Name __________: #REF!
Name _____________0: #REF!
Name _____________11: #REF!
Name _____________12: #REF!
Name __________0: #REF!
Name __________0: #REF!
Name __________11: #REF!
Name __________11: #REF!
Name __________12: #REF!
Name __________12: #REF!
Name _________0: #REF!
Name _________0: #REF!
Name _________10: #REF!
Name _________11: #REF!
Name _________11: #REF!
Name _________12: #REF!
Name _________12: #REF!
Name ________0: #REF!
Name ________10: #REF!
Name ________11: #REF!
Name ________12: #REF!
Name _______0: #REF!
Name ______0: #REF!
Name ______11: #REF!
Name ______12: #REF!
Name _____0: #REF!
Name _____10: #REF!
Name _____11: #REF!
Name _____12: #REF!
Name ____0: #REF!
Name ____1: #REF!
Name ____10: #REF!
Name ____11: #REF!
Name ____12: #REF!

Sheet 갑지
A1: 2026년 10월 설계 | G1: 담당자 | I1: 과 장 | K1: 소 장
A3: 2 0 2 6 년도
A4: 사업명 : 침출수 처리시설 개선공사
C7: 위 치 : 제주특별자치도 제주시 조천우회로 982-72번지 일원
C9: 과 업 개 요
D10: 가. 원수공급펌프 신설
D11: 나. 배관(밸브) 및 저장탱크 신설
D12: 다. 기존 설비와 연계설비 신설 등
C18: 총 공 사 비 : | E18: =E19+E20 -> 172060000 | G18: 원정 | H18: 금 | I18: =NUMBERSTRING(E18,1)&" 원정" -> 일억칠천이백육만 원정
C19: 도 급 공 사 비 : | E19: =원가계산!E28 -> 172060000 | G19: 원정 | H19: 금 | I19: =NUMBERSTRING(E19,1)&" 원정" -> 일억칠천이백육만 원정
C20: 관 급 자 재 대 : | E20: 0 | G20: 원정 | H20: 금 | I20: =NUMBERSTRING(E20,1)&" 원정" -> 영 원정

Sheet 원가계산
A1: 원 가 계 산 서
A2: 침출수 처리시설 개선공사 | G2: 토목 조경 산업환경설비 적용
A3: 구 분 | E3: 금 액 | F3: 비 고 | G3: 구 성 비
A4: 순 공 사 원 가 | B4: 재료비 | C4: 직 접 재 료 비 | E4: =집계표!H5 -> 113276859
C5: 간 접 재 료 비
C6: 소 계 | E6: =SUM(E4:E5) -> 113276859
B7: 노무비 | C7: 직 접 노 무 비 | E7: =집계표!J5 -> 10781093
C8: 간 접 노 무 비 | E8: =TRUNC(INT(E7*G8),0) -> 2059188 | F8: 직 접 노 무 비 의 | G8: 0.191
C9: 소 계 | E9: =SUM(E7:E8) -> 12840281
B10: 경 비 | C10: 직 접 경 비 | E10: =집계표!L5 -> 118323
C11: 산업안전보건관리비 | E11: =E34 -> 3907825 | F11: =F34 -> (재료비 + 직접노무비) * 3.15% | G11: 0.0315
C12: 산 재 보 험 료 | E12: =TRUNC(INT(E9*G12),0) -> 457114 | F12: 노 무 비 의 | G12: 0.0356
C13: 고 용 보 험 료 | E13: =TRUNC(INT(E9*G13),0) -> 129686 | F13: 노 무 비 의 | G13: 0.0101
C14: 건 강 보 험 료 | E14: =TRUNC(INT(E$7*G14),0) -> 387580 | F14: 직 접 노 무 비 의 | G14: 0.03595
C15: 연 금 보 험 료 | E15: =TRUNC(INT(E$7*G15),0) -> 512101 | F15: 직 접 노 무 비 의 | G15: 0.0475
C16: 노인장기요양보험료 | E16: =TRUNC(INT(E$14*G16),0) -> 50928 | F16: 건 강 보 험 료 의 | G16: 0.1314
C17: 퇴직공제부금비 | E17: =TRUNC(INT(E7*G17),0) -> 247965 | F17: 직 접 노 무 비 의 | G17: 0.023
C18: 환경보전비 | E18: =TRUNC(INT($E$6+$E$7+$E$10)*G18,0) -> 620881 | F18: (직접공사비) 의 | G18: 0.005
C19: 건설기계대여대금 지급보증액 발급금액 | E19: =TRUNC(INT((E6+E7+E10)*G19),0) -> 124176 | F19: (직접공사비) 의 | G19: 0.001
C20: 기 타 경 비 | E20: =TRUNC(INT($E$6+$E$9)*G20,0) -> 6936442 | F20: (재료비 + 노무비) 의 | G20: 0.055
C21: 석면분담금 | E21: =TRUNC(INT(E9*G21),0) -> 770 | F21: (노무비) 의 | G21: 6e-05
C22: 임금채권부담금 | E22: =TRUNC(INT(E9*G22),0) -> 11556 | F22: (노무비) 의 | G22: 0.0009
C23: 소 계 | E23: =SUM(E10:E22) -> 13505347
A24: 일 반 관 리 비 | E24: =TRUNC(INT(E6+E9+E23)*G24,0) -> 11169798 | F24: (재료비 + 노무비 + 경비) 의 | G24: 0.08
A25: 이 윤 | E25: =TRUNC(INT((INT(E9+E23+E24)*G25)),0)-1416 -> 5625897 | F25: (노무비 + 경비 + 일반관리비) 의 | G25: 0.15
A26: 공 급 가 액 | E26: =INT(E6+E9+E23+E24+E25) -> 156418182 | F26: 재료비+노무비+경비+일반관리비+이윤
A27: 부 가 가 치 세 | E27: =INT(E26*0.1) -> 15641818 | F27: 공 급 가 액 의 | G27: 0.1
A28: 도급예정액 | E28: =INT(E26+E27) -> 172060000
A29: 관급자재대 | E29: 0
A30: 총사업비 | E30: =SUM(E28:E29) -> 172060000
D32: 도급자 관급포함 (a,b중 작은금액) | E32: =(E4+E7+E29)*G11 -> 3907825.5 | F32: (재료비 + 직접노무비+관급자재대)*3.15% | G32: 0
E33: =(E4+E7)*G11*1.2 -> 4689390.6 | F33: (재료비 + 직접노무비) * 3.15%* 1.2
D34: 도급자 관급 미포함 | E34: =TRUNC(INT((E6+E7)*G11),0)+G32 -> 3907825 | F34: (재료비 + 직접노무비) * 3.15%

Sheet 집계표
A1: 집 계 표
A3: 공 종 | B3: 규 격 | C3: 수 량 | D3: 단위 | E3: 합 계 | G3: 재 료 비 | I3: 노 무 비 | K3: 경 비 | M3: 낙찰율(%) | N3: 비 고
E4: 단 가 | F4: 금 액 | G4: 단 가 | H4: 금 액 | I4: 단 가 | J4: 금 액 | K4: 단 가 | L4: 금 액
A5: *.순공사비 | C5: 0 | E5: =G5+I5+K5 -> 0 | F5: =H5+J5+L5 -> 124176275 | G5: 0 | H5: =H6+H7+H8+H18 -> 113276859 | I5: 0 | J5: =J6+J7+J8+J18 -> 10781093 | K5: 0 | L5: =L6+L7+L8+L18 -> 118323
A6: 가. 기자재 구입비 | C6: 0 | E6: =G6+I6+K6 -> 0 | F6: =H6+J6+L6 -> 101515000 | G6: 0 | H6: =내역서!H6 -> 101515000 | I6: 0 | J6: =내역서!J6 -> 0 | K6: 0 | L6: =내역서!L6 -> 0
A7: 나. 기자재 설치비 | C7: 0 | E7: =G7+I7+K7 -> 0 | F7: =H7+J7+L7 -> 2686764 | G7: 0 | H7: =내역서!H12 -> 0 | I7: 0 | J7: =내역서!J12 -> 2628236 | K7: 0 | L7: =내역서!L12 -> 58528
A8: 다. 배관공사비 | C8: 0 | E8: =G8+I8+K8 -> 0 | F8: =H8+J8+L8 -> 19078003 | G8: 0 | H8: =SUM(H9,H13,H17) -> 11029200 | I8: 0 | J8: =SUM(J9,J13,J17) -> 7992220 | K8: 0 | L8: =SUM(L9,L13,L17) -> 56583
A9: 1. 배관 자재비 | C9: 0 | E9: =G9+I9+K9 -> 0 | F9: =H9+J9+L9 -> 10223547 | G9: 0 | H9: =SUM(H10:H12) -> 10223547 | I9: 0 | J9: =SUM(J10:J12) -> 0 | K9: 0 | L9: =SUM(L10:L12) -> 0
A10: 1.1 STS304 스테인레스강관 | C10: 0 | E10: =G10+I10+K10 -> 0 | F10: =H10+J10+L10 -> 3297897 | G10: 0 | H10: =내역서!H19 -> 3297897 | I10: 0 | J10: =내역서!J19 -> 0 | K10: 0 | L10: =내역서!L19 -> 0
A11: 1.2 STS316L 스테인레스강관 | C11: 0 | E11: =G11+I11+K11 -> 0 | F11: =H11+J11+L11 -> 6306945 | G11: 0 | H11: =내역서!H36 -> 6306945 | I11: 0 | J11: =내역서!J36 -> 0 | K11: 0 | L11: =내역서!L36 -> 0
A12: 1.3 SILICON제 고무호스 | C12: 0 | E12: =G12+I12+K12 -> 0 | F12: =H12+J12+L12 -> 618705 | G12: 0 | H12: =내역서!H59 -> 618705 | I12: 0 | J12: =내역서!J59 -> 0 | K12: 0 | L12: =내역서!L59 -> 0
A13: 2. 배관 설치비 | C13: 0 | E13: =G13+I13+K13 -> 0 | F13: =H13+J13+L13 -> 8601129 | G13: 0 | H13: =SUM(H14:H16) -> 800712 | I13: 0 | J13: =SUM(J14:J16) -> 7743834 | K13: 0 | L13: =SUM(L14:L16) -> 56583
A14: 2.1 STS304 스테인레스강관 | C14: 0 | E14: =G14+I14+K14 -> 0 | F14: =H14+J14+L14 -> 3705428 | G14: 0 | H14: =내역서!H66 -> 282830 | I14: 0 | J14: =내역서!J66 -> 3398313 | K14: 0 | L14: =내역서!L66 -> 24285
A15: 2.2 STS316L 스테인레스강관 | C15: 0 | E15: =G15+I15+K15 -> 0 | F15: =H15+J15+L15 -> 3904844 | G15: 0 | H15: =내역서!H74 -> 508962 | I15: 0 | J15: =내역서!J74 -> 3365078 | K15: 0 | L15: =내역서!L74 -> 30804
A16: 2.3 SILICON제 고무호스 | C16: 0 | E16: =G16+I16+K16 -> 0 | F16: =H16+J16+L16 -> 990857 | G16: 0 | H16: =내역서!H85 -> 8920 | I16: 0 | J16: =내역서!J85 -> 980443 | K16: 0 | L16: =내역서!L85 -> 1494
A17: 3. 배관 철거비 | C17: 0 | E17: =G17+I17+K17 -> 0 | F17: =H17+J17+L17 -> 253327 | G17: 0 | H17: =내역서!H89 -> 4941 | I17: 0 | J17: =내역서!J89 -> 248386 | K17: 0 | L17: =내역서!L89 -> 0
A18: 라. 기계기초 | C18: 0 | E18: =G18+I18+K18 -> 0 | F18: =H18+J18+L18 -> 896508 | G18: 0 | H18: =내역서!H92 -> 732659 | I18: 0 | J18: =내역서!J92 -> 160637 | K18: 0 | L18: =내역서!L92 -> 3212

Sheet 내역서
A1: 예 산 내 역 서
A3: 공 종 | B3: 규 격 | C3: 수 량 | D3: 단위 | E3: 합 계 | G3: 재 료 비 | I3: 노 무 비 | K3: 경 비 | M3: 낙찰율(%) | N3: 비 고
E4: 단 가 | F4: 금 액 | G4: 단 가 | H4: 금 액 | I4: 단 가 | J4: 금 액 | K4: 단 가 | L4: 금 액
A5: *.순공사비 | C5: 0 | E5: =G5+I5+K5 -> 0 | F5: =H5+J5+L5 -> 124176275 | G5: 0 | H5: =H6+H12+H17+H92 -> 113276859 | I5: 0 | J5: =J6+J12+J17+J92 -> 10781093 | K5: 0 | L5: =L6+L12+L17+L92 -> 118323
A6: 가. 기자재 구입비 | C6: 0 | E6: =G6+I6+K6 -> 0 | F6: =H6+J6+L6 -> 101515000 | G6: 0 | H6: =SUM(H7:H10) -> 101515000 | I6: 0 | J6: =SUM(J7:J10) -> 0 | K6: 0 | L6: =SUM(L7:L10) -> 0
A7: RM-802 RO 고압펌프 | B7: 입형다단펌프, 25.4㎥/hr x 500mH, 15kW | C7: 2 | D7: 대 | E7: =G7+I7+K7 -> 34500000 | F7: =H7+J7+L7 -> 69000000 | G7: =자재단가!R56 -> 34500000 | H7: =TRUNC(C7*G7,0) -> 69000000 | I7: 0 | J7: =TRUNC(C7*I7,0) -> 0 | K7: 0 | L7: =TRUNC(C7*K7,0) -> 0 | DM7: MM-RM-802
A8: RM-806 3차처리수 저장탱크 | B8: PE제 원통형 탱크, 2.0㎥ | C8: 1 | D8: 대 | E8: =G8+I8+K8 -> 3250000 | F8: =H8+J8+L8 -> 3250000 | G8: =자재단가!R60 -> 3250000 | H8: =TRUNC(C8*G8,0) -> 3250000 | I8: 0 | J8: =TRUNC(C8*I8,0) -> 0 | K8: 0 | L8: =TRUNC(C8*K8,0) -> 0 | DM8: MM-RM-806
A9: RM-807 MF 공급펌프 | B9: 입형다단펌프, 5.4㎥/hr x 30mH, 1.1kW | C9: 2 | D9: 대 | E9: =G9+I9+K9 -> 5200000 | F9: =H9+J9+L9 -> 10400000 | G9: =자재단가!R61 -> 5200000 | H9: =TRUNC(C9*G9,0) -> 10400000 | I9: 0 | J9: =TRUNC(C9*I9,0) -> 0 | K9: 0 | L9: =TRUNC(C9*K9,0) -> 0 | DM9: MM-RM-807
A10: RM-808 3차처리수 절환밸브 | B10: STS316L제 전동 볼밸브, 25A x 10K, 0.4kW | C10: 7 | D10: 대 | E10: =G10+I10+K10 -> 2695000 | F10: =H10+J10+L10 -> 18865000 | G10: =자재단가!R62 -> 2695000 | H10: =TRUNC(C10*G10,0) -> 18865000 | I10: 0 | J10: =TRUNC(C10*I10,0) -> 0 | K10: 0 | L10: =TRUNC(C10*K10,0) -> 0 | DM10: MM-RM-808
C11: 0 | E11: =G11+I11+K11 -> 0 | F11: =H11+J11+L11 -> 0 | G11: 0 | H11: =TRUNC(C11*G11,0) -> 0 | I11: 0 | J11: =TRUNC(C11*I11,0) -> 0 | K11: 0 | L11: =TRUNC(C11*K11,0) -> 0
A12: 나. 기자재 설치비 | C12: 0 | E12: =G12+I12+K12 -> 0 | F12: =H12+J12+L12 -> 2686764 | G12: 0 | H12: =SUM(H13:H15) -> 0 | I12: 0 | J12: =SUM(J13:J15) -> 2628236 | K12: 0 | L12: =SUM(L13:L15) -> 58528
A13: RM-802 RO 고압펌프 | B13: 입형다단펌프, 5.4㎥/hr x 500mH, 15kW | C13: 2 | D13: 대 | E13: =G13+I13+K13 -> 702952 | F13: =H13+J13+L13 -> 1405904 | G13: =일위대가!H7 -> 0 | H13: =TRUNC(C13*G13,0) -> 0 | I13: =일위대가!J7 -> 682478 | J13: =TRUNC(C13*I13,0) -> 1364956 | K13: =일위대가!L7 -> 20474 | L13: =TRUNC(C13*K13,0) -> 40948 | N13: 제 1호표 | DM13: BM-RM-802
A14: RM-806 3차처리수 저장탱크 | B14: PE제 원통형 탱크, 2.0㎥ | C14: 1 | D14: 대 | E14: =G14+I14+K14 -> 677240 | F14: =H14+J14+L14 -> 677240 | G14: =일위대가!H11 -> 0 | H14: =TRUNC(C14*G14,0) -> 0 | I14: =일위대가!J11 -> 677240 | J14: =TRUNC(C14*I14,0) -> 677240 | K14: =일위대가!L11 -> 0 | L14: =TRUNC(C14*K14,0) -> 0 | N14: 제 2호표 | DM14: BM-RM-806
A15: RM-807 MF 공급펌프 | B15: 입형다단펌프, 5.4㎥/hr x 30mH, 1.1kW | C15: 2 | D15: 대 | E15: =G15+I15+K15 -> 301810 | F15: =H15+J15+L15 -> 603620 | G15: =일위대가!H15 -> 0 | H15: =TRUNC(C15*G15,0) -> 0 | I15: =일위대가!J15 -> 293020 | J15: =TRUNC(C15*I15,0) -> 586040 | K15: =일위대가!L15 -> 8790 | L15: =TRUNC(C15*K15,0) -> 17580 | N15: 제 3호표 | DM15: BM-RM-807
C16: 0 | E16: =G16+I16+K16 -> 0 | F16: =H16+J16+L16 -> 0 | G16: 0 | H16: =TRUNC(C16*G16,0) -> 0 | I16: 0 | J16: =TRUNC(C16*I16,0) -> 0 | K16: 0 | L16: =TRUNC(C16*K16,0) -> 0
A17: 다. 배관공사비 | C17: 0 | E17: =G17+I17+K17 -> 0 | F17: =H17+J17+L17 -> 19078003 | G17: 0 | H17: =SUM(H18,H65,H89) -> 11029200 | I17: 0 | J17: =SUM(J18,J65,J89) -> 7992220 | K17: 0 | L17: =SUM(L18,L65,L89) -> 56583
A18: 1. 배관 자재비 | C18: 0 | E18: =G18+I18+K18 -> 0 | F18: =H18+J18+L18 -> 10223547 | G18: 0 | H18: =SUM(H19,H36,H59) -> 10223547 | I18: 0 | J18: =SUM(J19,J36,J59) -> 0 | K18: 0 | L18: =SUM(L19,L36,L59) -> 0
A19: 1.1 STS304 스테인레스강관 | C19: 0 | E19: =G19+I19+K19 -> 0 | F19: =H19+J19+L19 -> 3297897 | G19: 0 | H19: =SUM(H20:H34) -> 3297897 | I19: 0 | J19: =SUM(J20:J34) -> 0 | K19: 0 | L19: =SUM(L20:L34) -> 0
A20: 공업배관용 스테인레스강관 | B20: 50A x 3.0t, STS304 | C20: 38.75 | D20: M | E20: =G20+I20+K20 -> 23610 | F20: =H20+J20+L20 -> 914887 | G20: =자재단가!R5 -> 23610 | H20: =TRUNC(C20*G20,0) -> 914887 | I20: 0 | J20: =TRUNC(C20*I20,0) -> 0 | K20: 0 | L20: =TRUNC(C20*K20,0) -> 0 | DM20: MM-PIT-050B
A21: 공업배관용 스테인레스강관 | B21: 25A x 3.0t, STS304 | C21: 3.15 | D21: M | E21: =G21+I21+K21 -> 12740 | F21: =H21+J21+L21 -> 40131 | G21: =자재단가!R6 -> 12740 | H21: =TRUNC(C21*G21,0) -> 40131 | I21: 0 | J21: =TRUNC(C21*I21,0) -> 0 | K21: 0 | L21: =TRUNC(C21*K21,0) -> 0 | DM21: MM-PIT-025B
A22: 스테인레스강관 90˚엘보 | B22: 50A x 3.0t, STS304 | C22: 6 | D22: M | E22: =G22+I22+K22 -> 8536 | F22: =H22+J22+L22 -> 51216 | G22: =자재단가!R7 -> 8536 | H22: =TRUNC(C22*G22,0) -> 51216 | I22: 0 | J22: =TRUNC(C22*I22,0) -> 0 | K22: 0 | L22: =TRUNC(C22*K22,0) -> 0 | DM22: MM-ELT-050C
A23: 스테인레스강관 45˚엘보 | B23: 50A x 3.0t, STS304 | C23: 8 | D23: M | E23: =G23+I23+K23 -> 8536 | F23: =H23+J23+L23 -> 68288 | G23: =자재단가!R8 -> 8536 | H23: =TRUNC(C23*G23,0) -> 68288 | I23: 0 | J23: =TRUNC(C23*I23,0) -> 0 | K23: 0 | L23: =TRUNC(C23*K23,0) -> 0 | DM23: MM-ELT-050D
A24: 스테인레스강관 티이 | B24: 50A x 10S, STS304 | C24: 3 | D24: EA | E24: =G24+I24+K24 -> 15378 | F24: =H24+J24+L24 -> 46134 | G24: =자재단가!R9 -> 15378 | H24: =TRUNC(C24*G24,0) -> 46134 | I24: 0 | J24: =TRUNC(C24*I24,0) -> 0 | K24: 0 | L24: =TRUNC(C24*K24,0) -> 0 | DM24: MM-TET-050A
A25: 스테인레스강관 티이 | B25: 50 x 25A x 10S, STS304 | C25: 5 | D25: EA | E25: =G25+I25+K25 -> 15378 | F25: =H25+J25+L25 -> 76890 | G25: =자재단가!R10 -> 15378 | H25: =TRUNC(C25*G25,0) -> 76890 | I25: 0 | J25: =TRUNC(C25*I25,0) -> 0 | K25: 0 | L25: =TRUNC(C25*K25,0) -> 0 | DM25: MM-TET-050D
A26: 스테인레스 플랜지 | B26: 50A x 10K, STS304 | C26: 10 | D26: EA | E26: =G26+I26+K26 -> 19206 | F26: =H26+J26+L26 -> 192060 | G26: =자재단가!R11 -> 19206 | H26: =TRUNC(C26*G26,0) -> 192060 | I26: 0 | J26: =TRUNC(C26*I26,0) -> 0 | K26: 0 | L26: =TRUNC(C26*K26,0) -> 0 | DM26: MM-FST-050B
A27: 스테인레스 플랜지 | B27: 25A x 10K, STS304 | C27: 5 | D27: EA | E27: =G27+I27+K27 -> 15576 | F27: =H27+J27+L27 -> 77880 | G27: =자재단가!R12 -> 15576 | H27: =TRUNC(C27*G27,0) -> 77880 | I27: 0 | J27: =TRUNC(C27*I27,0) -> 0 | K27: 0 | L27: =TRUNC(C27*K27,0) -> 0 | DM27: MM-FST-025B
A28: 스테인레스 맹플랜지 | B28: 50A x 10K, STS304 | C28: 3 | D28: EA | E28: =G28+I28+K28 -> 27750 | F28: =H28+J28+L28 -> 83250 | G28: =자재단가!R13 -> 27750 | H28: =TRUNC(C28*G28,0) -> 83250 | I28: 0 | J28: =TRUNC(C28*I28,0) -> 0 | K28: 0 | L28: =TRUNC(C28*K28,0) -> 0 | DM28: MM-FBT-050B
A29: 스테인레스 게이트밸브 | B29: 50A x 10K, STS304 | C29: 4 | D29: EA | E29: =G29+I29+K29 -> 31152 | F29: =H29+J29+L29 -> 124608 | G29: =자재단가!R14 -> 31152 | H29: =TRUNC(C29*G29,0) -> 124608 | I29: 0 | J29: =TRUNC(C29*I29,0) -> 0 | K29: 0 | L29: =TRUNC(C29*K29,0) -> 0 | DM29: MM-GVT-050B
A30: 스테인레스 볼밸브 | B30: 25A, FL, 10K, STS304 | C30: 5 | D30: EA | E30: =G30+I30+K30 -> 122000 | F30: =H30+J30+L30 -> 610000 | G30: =자재단가!R15 -> 122000 | H30: =TRUNC(C30*G30,0) -> 610000 | I30: 0 | J30: =TRUNC(C30*I30,0) -> 0 | K30: 0 | L30: =TRUNC(C30*K30,0) -> 0 | DM30: MM-BVT-025D
A31: 스테인레스 고무코넥터 | B31: 25A, FL, 10K, STS304 | C31: 5 | D31: EA | E31: =G31+I31+K31 -> 89000 | F31: =H31+J31+L31 -> 445000 | G31: =자재단가!R16 -> 89000 | H31: =TRUNC(C31*G31,0) -> 445000 | I31: 0 | J31: =TRUNC(C31*I31,0) -> 0 | K31: 0 | L31: =TRUNC(C31*K31,0) -> 0 | DM31: MM-RCT-025B
A32: 스테인레스 플랜지접합 | B32: 50A | C32: 11 | D32: 개소 | E32: =G32+I32+K32 -> 7321 | F32: =H32+J32+L32 -> 80531 | G32: =일위대가!H23 -> 7321 | H32: =TRUNC(C32*G32,0) -> 80531 | I32: =일위대가!J23 -> 0 | J32: =TRUNC(C32*I32,0) -> 0 | K32: =일위대가!L23 -> 0 | L32: =TRUNC(C32*K32,0) -> 0 | N32: 제 4호표 | DM32: BM-FIT-050A
A33: 스테인레스 플랜지접합 | B33: 25A | C33: 15 | D33: 개소 | E33: =G33+I33+K33 -> 7001 | F33: =H33+J33+L33 -> 105015 | G33: =일위대가!H31 -> 7001 | H33: =TRUNC(C33*G33,0) -> 105015 | I33: =일위대가!J31 -> 0 | J33: =TRUNC(C33*I33,0) -> 0 | K33: =일위대가!L31 -> 0 | L33: =TRUNC(C33*K33,0) -> 0 | N33: 제 5호표 | DM33: BM-FIT-025A
A34: 관지지철물 | B34: 파이프의 | C34: 40 | D34: % | E34: =G34+I34+K34 -> 955018 | F34: =H34+J34+L34 -> 382007 | G34: =SUM(H20:H21) -> 955018 | H34: =TRUNC(C34/100*G34,0) -> 382007 | I34: 0 | J34: =TRUNC(C34/100*I34,0) -> 0 | K34: 0 | L34: =TRUNC(C34/100*K34,0) -> 0 | DM34: %RAN*MM | DN34: 16..17
C35: 0 | E35: =G35+I35+K35 -> 0 | F35: =H35+J35+L35 -> 0 | G35: 0 | H35: =TRUNC(C35*G35,0) -> 0 | I35: 0 | J35: =TRUNC(C35*I35,0) -> 0 | K35: 0 | L35: =TRUNC(C35*K35,0) -> 0
A36: 1.2 STS316L 스테인레스강관 | C36: 0 | E36: =G36+I36+K36 -> 0 | F36: =H36+J36+L36 -> 6306945 | G36: 0 | H36: =SUM(H37:H57) -> 6306945 | I36: 0 | J36: =SUM(J37:J57) -> 0 | K36: 0 | L36: =SUM(L37:L57) -> 0
A37: 공업배관용 스테인레스강관 | B37: 40A x 3.0t, STS316L | C37: 0.32 | D37: M | E37: =G37+I37+K37 -> 37460 | F37: =H37+J37+L37 -> 11987 | G37: =자재단가!R17 -> 37460 | H37: =TRUNC(C37*G37,0) -> 11987 | I37: 0 | J37: =TRUNC(C37*I37,0) -> 0 | K37: 0 | L37: =TRUNC(C37*K37,0) -> 0 | DM37: MM-PIT-040A
A38: 공업배관용 스테인레스강관 | B38: 25A x 3.0t, STS316L | C38: 77.49 | D38: M | E38: =G38+I38+K38 -> 25480 | F38: =H38+J38+L38 -> 1974445 | G38: =자재단가!R18 -> 25480 | H38: =TRUNC(C38*G38,0) -> 1974445 | I38: 0 | J38: =TRUNC(C38*I38,0) -> 0 | K38: 0 | L38: =TRUNC(C38*K38,0) -> 0 | DM38: MM-PIT-025A
A39: 스테인레스강관 90˚엘보 | B39: 25A x 10S, STS316L | C39: 20 | D39: EA | E39: =G39+I39+K39 -> 7216 | F39: =H39+J39+L39 -> 144320 | G39: =자재단가!R20 -> 7216 | H39: =TRUNC(C39*G39,0) -> 144320 | I39: 0 | J39: =TRUNC(C39*I39,0) -> 0 | K39: 0 | L39: =TRUNC(C39*K39,0) -> 0 | DM39: MM-ELT-025A
A40: 스테인레스강관 티이 | B40: 25A x 10S, STS316L | C40: 6 | D40: EA | E40: =G40+I40+K40 -> 14026 | F40: =H40+J40+L40 -> 84156 | G40: =자재단가!R21 -> 14026 | H40: =TRUNC(C40*G40,0) -> 84156 | I40: 0 | J40: =TRUNC(C40*I40,0) -> 0 | K40: 0 | L40: =TRUNC(C40*K40,0) -> 0 | DM40: MM-TET-025A
A41: 스테인레스강관 중심레듀샤 | B41: 40 x 25A x 10S, STS316L | C41: 1 | D41: EA | E41: =G41+I41+K41 -> 9834 | F41: =H41+J41+L41 -> 9834 | G41: =자재단가!R22 -> 9834 | H41: =TRUNC(C41*G41,0) -> 9834 | I41: 0 | J41: =TRUNC(C41*I41,0) -> 0 | K41: 0 | L41: =TRUNC(C41*K41,0) -> 0 | DM41: MM-RCT-040A
A42: 스테인레스 플랜지 | B42: 40A x 10K, STS316L | C42: 1 | D42: EA | E42: =G42+I42+K42 -> 32736 | F42: =H42+J42+L42 -> 32736 | G42: =자재단가!R23 -> 32736 | H42: =TRUNC(C42*G42,0) -> 32736 | I42: 0 | J42: =TRUNC(C42*I42,0) -> 0 | K42: 0 | L42: =TRUNC(C42*K42,0) -> 0 | DM42: MM-FST-040A
A43: 스테인레스 플랜지 | B43: 25A x 10K, STS316L | C43: 9 | D43: EA | E43: =G43+I43+K43 -> 31152 | F43: =H43+J43+L43 -> 280368 | G43: =자재단가!R24 -> 31152 | H43: =TRUNC(C43*G43,0) -> 280368 | I43: 0 | J43: =TRUNC(C43*I43,0) -> 0 | K43: 0 | L43: =TRUNC(C43*K43,0) -> 0 | DM43: MM-FST-025A
A44: 스테인레스 맹플랜지 | B44: 25A x 10K, STS316L | C44: 2 | D44: EA | E44: =G44+I44+K44 -> 36380 | F44: =H44+J44+L44 -> 72760 | G44: =자재단가!R25 -> 36380 | H44: =TRUNC(C44*G44,0) -> 72760 | I44: 0 | J44: =TRUNC(C44*I44,0) -> 0 | K44: 0 | L44: =TRUNC(C44*K44,0) -> 0 | DM44: MM-FBT-025A
A45: 스테인레스강관 니쁠 | B45: 40A, SCR, STS316L | C45: 2 | D45: EA | E45: =G45+I45+K45 -> 9520 | F45: =H45+J45+L45 -> 19040 | G45: =자재단가!R27 -> 9520 | H45: =TRUNC(C45*G45,0) -> 19040 | I45: 0 | J45: =TRUNC(C45*I45,0) -> 0 | K45: 0 | L45: =TRUNC(C45*K45,0) -> 0 | DM45: MM-NIT-040A
A46: 스테인레스강관 니쁠 | B46: 25A, 나사식, STS316L | C46: 28 | D46: EA | E46: =G46+I46+K46 -> 6460 | F46: =H46+J46+L46 -> 180880 | G46: =자재단가!R28 -> 6460 | H46: =TRUNC(C46*G46,0) -> 180880 | I46: 0 | J46: =TRUNC(C46*I46,0) -> 0 | K46: 0 | L46: =TRUNC(C46*K46,0) -> 0 | DM46: MM-NIT-025A
A47: 스테인레스강관 니쁠 | B47: 8A, 나사식, STS316L | C47: 10 | D47: EA | E47: =G47+I47+K47 -> 4180 | F47: =H47+J47+L47 -> 41800 | G47: =자재단가!R30 -> 4180 | H47: =TRUNC(C47*G47,0) -> 41800 | I47: 0 | J47: =TRUNC(C47*I47,0) -> 0 | K47: 0 | L47: =TRUNC(C47*K47,0) -> 0 | DM47: MM-NIT-008A
A48: 스테인레스강관 유니온 | B48: 40A, SCR, STS316L | C48: 1 | D48: EA | E48: =G48+I48+K48 -> 52192 | F48: =H48+J48+L48 -> 52192 | G48: =자재단가!R31 -> 52192 | H48: =TRUNC(C48*G48,0) -> 52192 | I48: 0 | J48: =TRUNC(C48*I48,0) -> 0 | K48: 0 | L48: =TRUNC(C48*K48,0) -> 0 | DM48: MM-UNT-040A
A49: 스테인레스강관 유니온 | B49: 25A, SCR, STS316L | C49: 5 | D49: EA | E49: =G49+I49+K49 -> 26934 | F49: =H49+J49+L49 -> 134670 | G49: =자재단가!R32 -> 26934 | H49: =TRUNC(C49*G49,0) -> 134670 | I49: 0 | J49: =TRUNC(C49*I49,0) -> 0 | K49: 0 | L49: =TRUNC(C49*K49,0) -> 0 | DM49: MM-UNT-025A
A50: 스테인레스 볼밸브 | B50: 40A, SCR, STS316L | C50: 1 | D50: EA | E50: =G50+I50+K50 -> 96000 | F50: =H50+J50+L50 -> 96000 | G50: =자재단가!R33 -> 96000 | H50: =TRUNC(C50*G50,0) -> 96000 | I50: 0 | J50: =TRUNC(C50*I50,0) -> 0 | K50: 0 | L50: =TRUNC(C50*K50,0) -> 0 | DM50: MM-BVT-040A
A51: 스테인레스 볼밸브 | B51: 25A, SCR, STS316L | C51: 7 | D51: EA | E51: =G51+I51+K51 -> 56000 | F51: =H51+J51+L51 -> 392000 | G51: =자재단가!R34 -> 56000 | H51: =TRUNC(C51*G51,0) -> 392000 | I51: 0 | J51: =TRUNC(C51*I51,0) -> 0 | K51: 0 | L51: =TRUNC(C51*K51,0) -> 0 | DM51: MM-BVT-025A
A52: 스테인레스 볼밸브 | B52: 8A, SCR, STS316L | C52: 6 | D52: EA | E52: =G52+I52+K52 -> 40000 | F52: =H52+J52+L52 -> 240000 | G52: =자재단가!R36 -> 40000 | H52: =TRUNC(C52*G52,0) -> 240000 | I52: 0 | J52: =TRUNC(C52*I52,0) -> 0 | K52: 0 | L52: =TRUNC(C52*K52,0) -> 0 | DM52: MM-BVT-008A
A53: 스테인레스 체크밸브 | B53: 25A, SCR, STS316L | C53: 5 | D53: EA | E53: =G53+I53+K53 -> 150000 | F53: =H53+J53+L53 -> 750000 | G53: =자재단가!R37 -> 150000 | H53: =TRUNC(C53*G53,0) -> 750000 | I53: 0 | J53: =TRUNC(C53*I53,0) -> 0 | K53: 0 | L53: =TRUNC(C53*K53,0) -> 0 | DM53: MM-CVT-025A
A54: 스테인레스 고무코넥터 | B54: 25A, FL, 10K, STS316L | C54: 5 | D54: EA | E54: =G54+I54+K54 -> 178000 | F54: =H54+J54+L54 -> 890000 | G54: =자재단가!R38 -> 178000 | H54: =TRUNC(C54*G54,0) -> 890000 | I54: 0 | J54: =TRUNC(C54*I54,0) -> 0 | K54: 0 | L54: =TRUNC(C54*K54,0) -> 0 | DM54: MM-RCT-025A
A55: 스테인레스 플랜지접합 | B55: 50A | C55: 1 | D55: 개소 | E55: =G55+I55+K55 -> 7171 | F55: =H55+J55+L55 -> 7171 | G55: =일위대가!H39 -> 7171 | H55: =TRUNC(C55*G55,0) -> 7171 | I55: =일위대가!J39 -> 0 | J55: =TRUNC(C55*I55,0) -> 0 | K55: =일위대가!L39 -> 0 | L55: =TRUNC(C55*K55,0) -> 0 | N55: 제 6호표 | DM55: BM-FIT-040A
A56: 스테인레스 플랜지접합 | B56: 25A | C56: 14 | D56: 개소 | E56: =G56+I56+K56 -> 7001 | F56: =H56+J56+L56 -> 98014 | G56: =일위대가!H31 -> 7001 | H56: =TRUNC(C56*G56,0) -> 98014 | I56: =일위대가!J31 -> 0 | J56: =TRUNC(C56*I56,0) -> 0 | K56: =일위대가!L31 -> 0 | L56: =TRUNC(C56*K56,0) -> 0 | N56: 제 5호표 | DM56: BM-FIT-025A
A57: 관지지철물 | B57: 파이프의 | C57: 40 | D57: % | E57: =G57+I57+K57 -> 1986432 | F57: =H57+J57+L57 -> 794572 | G57: =SUM(H37:H38) -> 1986432 | H57: =TRUNC(C57/100*G57,0) -> 794572 | I57: 0 | J57: =TRUNC(C57/100*I57,0) -> 0 | K57: 0 | L57: =TRUNC(C57/100*K57,0) -> 0 | DM57: %RAN*MM | DN57: 33..34
C58: 0 | E58: =G58+I58+K58 -> 0 | F58: =H58+J58+L58 -> 0 | G58: 0 | H58: =TRUNC(C58*G58,0) -> 0 | I58: 0 | J58: =TRUNC(C58*I58,0) -> 0 | K58: 0 | L58: =TRUNC(C58*K58,0) -> 0
A59: 1.3 SILICON제 고무호스 | C59: 0 | E59: =G59+I59+K59 -> 0 | F59: =H59+J59+L59 -> 618705 | G59: 0 | H59: =SUM(H60:H63) -> 618705 | I59: 0 | J59: =SUM(J60:J63) -> 0 | K59: 0 | L59: =SUM(L60:L63) -> 0
A60: SILICON제 고무호스 | B60: 8A | C60: 199.29 | D60: M | E60: =G60+I60+K60 -> 1823 | F60: =H60+J60+L60 -> 363305 | G60: =자재단가!R39 -> 1823 | H60: =TRUNC(C60*G60,0) -> 363305 | I60: 0 | J60: =TRUNC(C60*I60,0) -> 0 | K60: 0 | L60: =TRUNC(C60*K60,0) -> 0 | DM60: MM-PIR-008A
A61: 스테인레스강관 니쁠 | B61: 8A, 나사식, STS304 | C61: 12 | D61: EA | E61: =G61+I61+K61 -> 2090 | F61: =H61+J61+L61 -> 25080 | G61: =자재단가!R40 -> 2090 | H61: =TRUNC(C61*G61,0) -> 25080 | I61: 0 | J61: =TRUNC(C61*I61,0) -> 0 | K61: 0 | L61: =TRUNC(C61*K61,0) -> 0 | DM61: MM-NIT-008B
A62: 스테인레스 볼밸브 | B62: 8A, SCR, STS304 | C62: 8 | D62: EA | E62: =G62+I62+K62 -> 20000 | F62: =H62+J62+L62 -> 160000 | G62: =자재단가!R41 -> 20000 | H62: =TRUNC(C62*G62,0) -> 160000 | I62: 0 | J62: =TRUNC(C62*I62,0) -> 0 | K62: 0 | L62: =TRUNC(C62*K62,0) -> 0 | DM62: MM-BVT-008B
A63: 스테인레스 파이프클램프 | B63: 8A, STS304 | C63: 12 | D63: EA | E63: =G63+I63+K63 -> 5860 | F63: =H63+J63+L63 -> 70320 | G63: =자재단가!R42 -> 5860 | H63: =TRUNC(C63*G63,0) -> 70320 | I63: 0 | J63: =TRUNC(C63*I63,0) -> 0 | K63: 0 | L63: =TRUNC(C63*K63,0) -> 0 | DM63: MM-POC-008A
C64: 0 | E64: =G64+I64+K64 -> 0 | F64: =H64+J64+L64 -> 0 | G64: 0 | H64: =TRUNC(C64*G64,0) -> 0 | I64: 0 | J64: =TRUNC(C64*I64,0) -> 0 | K64: 0 | L64: =TRUNC(C64*K64,0) -> 0
A65: 2. 배관 설치비 | C65: 0 | E65: =G65+I65+K65 -> 0 | F65: =H65+J65+L65 -> 8601129 | G65: 0 | H65: =SUM(H66,H74,H85) -> 800712 | I65: 0 | J65: =SUM(J66,J74,J85) -> 7743834 | K65: 0 | L65: =SUM(L66,L74,L85) -> 56583
A66: 2.1 STS304 스테인레스강관 | C66: 0 | E66: =G66+I66+K66 -> 0 | F66: =H66+J66+L66 -> 3705428 | G66: 0 | H66: =SUM(H67:H72) -> 282830 | I66: 0 | J66: =SUM(J67:J72) -> 3398313 | K66: 0 | L66: =SUM(L67:L72) -> 24285
A67: 스테인레스강관 설치 | B67: 50A | C67: 36.9 | D67: M | E67: =G67+I67+K67 -> 26808 | F67: =H67+J67+L67 -> 989214 | G67: =일위대가!H47 -> 0 | H67: =TRUNC(C67*G67,0) -> 0 | I67: =일위대가!J47 -> 26283 | J67: =TRUNC(C67*I67,0) -> 969842 | K67: =일위대가!L47 -> 525 | L67: =TRUNC(C67*K67,0) -> 19372 | N67: 제 7호표 | DM67: BM-PIT-050A
A68: 스테인레스강관 설치 | B68: 25A | C68: 3 | D68: M | E68: =G68+I68+K68 -> 16177 | F68: =H68+J68+L68 -> 48531 | G68: =일위대가!H55 -> 0 | H68: =TRUNC(C68*G68,0) -> 0 | I68: =일위대가!J55 -> 15860 | J68: =TRUNC(C68*I68,0) -> 47580 | K68: =일위대가!L55 -> 317 | L68: =TRUNC(C68*K68,0) -> 951 | N68: 제 8호표 | DM68: BM-PIT-025A
A69: 스테인레스강관 용접개소 | B69: 50A, STS304 | C69: 67 | D69: 개소 | E69: =G69+I69+K69 -> 32131 | F69: =H69+J69+L69 -> 2152777 | G69: =일위대가!H63 -> 3785 | H69: =TRUNC(C69*G69,0) -> 253595 | I69: =일위대가!J63 -> 28346 | J69: =TRUNC(C69*I69,0) -> 1899182 | K69: =일위대가!L63 -> 0 | L69: =TRUNC(C69*K69,0) -> 0 | N69: 제 9호표 | DM69: BM-WIT-050B
A70: 스테인레스강관 용접개소 | B70: 25A, STS304 | C70: 15 | D70: 개소 | E70: =G70+I70+K70 -> 20846 | F70: =H70+J70+L70 -> 312690 | G70: =일위대가!H71 -> 1949 | H70: =TRUNC(C70*G70,0) -> 29235 | I70: =일위대가!J71 -> 18897 | J70: =TRUNC(C70*I70,0) -> 283455 | K70: =일위대가!L71 -> 0 | L70: =TRUNC(C70*K70,0) -> 0 | N70: 제 10호표 | DM70: BM-WIT-025B
A71: 일반밸브 및 콕류설치 | B71: 50A | C71: 4 | D71: 개소 | E71: =G71+I71+K71 -> 18799 | F71: =H71+J71+L71 -> 75196 | G71: =일위대가!H77 -> 0 | H71: =TRUNC(C71*G71,0) -> 0 | I71: =일위대가!J77 -> 18431 | J71: =TRUNC(C71*I71,0) -> 73724 | K71: =일위대가!L77 -> 368 | L71: =TRUNC(C71*K71,0) -> 1472 | N71: 제 11호표 | DM71: BM-VALVEA-050
A72: 일반밸브 및 콕류설치 | B72: 25A | C72: 10 | D72: 개소 | E72: =G72+I72+K72 -> 12702 | F72: =H72+J72+L72 -> 127020 | G72: =일위대가!H83 -> 0 | H72: =TRUNC(C72*G72,0) -> 0 | I72: =일위대가!J83 -> 12453 | J72: =TRUNC(C72*I72,0) -> 124530 | K72: =일위대가!L83 -> 249 | L72: =TRUNC(C72*K72,0) -> 2490 | N72: 제 12호표 | DM72: BM-VALVEA-025
C73: 0 | E73: =G73+I73+K73 -> 0 | F73: =H73+J73+L73 -> 0 | G73: 0 | H73: =TRUNC(C73*G73,0) -> 0 | I73: 0 | J73: =TRUNC(C73*I73,0) -> 0 | K73: 0 | L73: =TRUNC(C73*K73,0) -> 0
A74: 2.2 STS316L 스테인레스강관 | C74: 0 | E74: =G74+I74+K74 -> 0 | F74: =H74+J74+L74 -> 3904844 | G74: 0 | H74: =SUM(H75:H83) -> 508962 | I74: 0 | J74: =SUM(J75:J83) -> 3365078 | K74: 0 | L74: =SUM(L75:L83) -> 30804
A75: 스테인레스강관 설치 | B75: 40A | C75: 0.3 | D75: M | E75: =G75+I75+K75 -> 20850 | F75: =H75+J75+L75 -> 6254 | G75: =일위대가!H91 -> 0 | H75: =TRUNC(C75*G75,0) -> 0 | I75: =일위대가!J91 -> 20442 | J75: =TRUNC(C75*I75,0) -> 6132 | K75: =일위대가!L91 -> 408 | L75: =TRUNC(C75*K75,0) -> 122 | N75: 제 13호표 | DM75: BM-PIT-040A
A76: 스테인레스강관 설치 | B76: 25A | C76: 73.8 | D76: M | E76: =G76+I76+K76 -> 16177 | F76: =H76+J76+L76 -> 1193862 | G76: =일위대가!H55 -> 0 | H76: =TRUNC(C76*G76,0) -> 0 | I76: =일위대가!J55 -> 15860 | J76: =TRUNC(C76*I76,0) -> 1170468 | K76: =일위대가!L55 -> 317 | L76: =TRUNC(C76*K76,0) -> 23394 | N76: 제 8호표 | DM76: BM-PIT-025A
A77: 스테인레스강관 용접개소 | B77: 40A, STS316L | C77: 3 | D77: 개소 | E77: =G77+I77+K77 -> 27085 | F77: =H77+J77+L77 -> 81255 | G77: =일위대가!H99 -> 3034 | H77: =TRUNC(C77*G77,0) -> 9102 | I77: =일위대가!J99 -> 24051 | J77: =TRUNC(C77*I77,0) -> 72153 | K77: =일위대가!L99 -> 0 | L77: =TRUNC(C77*K77,0) -> 0 | N77: 제 14호표 | DM77: BM-WIT-040A
A78: 스테인레스강관 용접개소 | B78: 25A, STS316L | C78: 83 | D78: 개소 | E78: =G78+I78+K78 -> 20925 | F78: =H78+J78+L78 -> 1736775 | G78: =일위대가!H107 -> 2028 | H78: =TRUNC(C78*G78,0) -> 168324 | I78: =일위대가!J107 -> 18897 | J78: =TRUNC(C78*I78,0) -> 1568451 | K78: =일위대가!L107 -> 0 | L78: =TRUNC(C78*K78,0) -> 0 | N78: 제 15호표 | DM78: BM-WIT-025A
A79: 스테인레스강관 용접개소 | B79: 8A, STS316L | C79: 16 | D79: 개소 | E79: =G79+I79+K79 -> 12489 | F79: =H79+J79+L79 -> 199824 | G79: =일위대가!H115 -> 1036 | H79: =TRUNC(C79*G79,0) -> 16576 | I79: =일위대가!J115 -> 11453 | J79: =TRUNC(C79*I79,0) -> 183248 | K79: =일위대가!L115 -> 0 | L79: =TRUNC(C79*K79,0) -> 0 | N79: 제 16호표 | DM79: BM-WIT-008A
A80: 일반밸브 및 콕류설치 | B80: 40A | C80: 1 | D80: 개소 | E80: =G80+I80+K80 -> 18799 | F80: =H80+J80+L80 -> 18799 | G80: =일위대가!H121 -> 0 | H80: =TRUNC(C80*G80,0) -> 0 | I80: =일위대가!J121 -> 18431 | J80: =TRUNC(C80*I80,0) -> 18431 | K80: =일위대가!L121 -> 368 | L80: =TRUNC(C80*K80,0) -> 368 | N80: 제 17호표 | DM80: BM-VALVEA-040
A81: 일반밸브 및 콕류설치 | B81: 25A | C81: 19 | D81: 개소 | E81: =G81+I81+K81 -> 12702 | F81: =H81+J81+L81 -> 241338 | G81: =일위대가!H83 -> 0 | H81: =TRUNC(C81*G81,0) -> 0 | I81: =일위대가!J83 -> 12453 | J81: =TRUNC(C81*I81,0) -> 236607 | K81: =일위대가!L83 -> 249 | L81: =TRUNC(C81*K81,0) -> 4731 | N81: 제 12호표 | DM81: BM-VALVEA-025
A82: 일반밸브 및 콕류설치 | B82: 8A | C82: 6 | D82: 개소 | E82: =G82+I82+K82 -> 12702 | F82: =H82+J82+L82 -> 76212 | G82: =일위대가!H127 -> 0 | H82: =TRUNC(C82*G82,0) -> 0 | I82: =일위대가!J127 -> 12453 | J82: =TRUNC(C82*I82,0) -> 74718 | K82: =일위대가!L127 -> 249 | L82: =TRUNC(C82*K82,0) -> 1494 | N82: 제 18호표 | DM82: BM-VALVEA-008
A83: 압력계 제작설치 (STS316L) | B83: 15A | C83: 5 | D83: 개소 | E83: =G83+I83+K83 -> 70105 | F83: =H83+J83+L83 -> 350525 | G83: =일위대가!H135 -> 62992 | H83: =TRUNC(C83*G83,0) -> 314960 | I83: =일위대가!J135 -> 6974 | J83: =TRUNC(C83*I83,0) -> 34870 | K83: =일위대가!L135 -> 139 | L83: =TRUNC(C83*K83,0) -> 695 | N83: 제 19호표 | DM83: BM-PRA-015T
C84: 0 | E84: =G84+I84+K84 -> 0 | F84: =H84+J84+L84 -> 0 | G84: 0 | H84: =TRUNC(C84*G84,0) -> 0 | I84: 0 | J84: =TRUNC(C84*I84,0) -> 0 | K84: 0 | L84: =TRUNC(C84*K84,0) -> 0
A85: 2.3 SILICON제 고무호스 | C85: 0 | E85: =G85+I85+K85 -> 0 | F85: =H85+J85+L85 -> 990857 | G85: 0 | H85: =SUM(H86:H87) -> 8920 | I85: 0 | J85: =SUM(J86:J87) -> 980443 | K85: 0 | L85: =SUM(L86:L87) -> 1494
A86: 가교화 폴리에틸렌 접합 및 배관 | B86: 8A (직선보간법) | C86: 189.8 | D86: M | E86: =G86+I86+K86 -> 4819 | F86: =H86+J86+L86 -> 914645 | G86: =일위대가!H142 -> 47 | H86: =TRUNC(C86*G86,0) -> 8920 | I86: =일위대가!J142 -> 4772 | J86: =TRUNC(C86*I86,0) -> 905725 | K86: =일위대가!L142 -> 0 | L86: =TRUNC(C86*K86,0) -> 0 | N86: 제 20호표 | DM86: BM-PIP-008A
A87: 일반밸브 및 콕류설치 | B87: 8A | C87: 6 | D87: 개소 | E87: =G87+I87+K87 -> 12702 | F87: =H87+J87+L87 -> 76212 | G87: =일위대가!H127 -> 0 | H87: =TRUNC(C87*G87,0) -> 0 | I87: =일위대가!J127 -> 12453 | J87: =TRUNC(C87*I87,0) -> 74718 | K87: =일위대가!L127 -> 249 | L87: =TRUNC(C87*K87,0) -> 1494 | N87: 제 18호표 | DM87: BM-VALVEA-008
C88: 0 | E88: =G88+I88+K88 -> 0 | F88: =H88+J88+L88 -> 0 | G88: 0 | H88: =TRUNC(C88*G88,0) -> 0 | I88: 0 | J88: =TRUNC(C88*I88,0) -> 0 | K88: 0 | L88: =TRUNC(C88*K88,0) -> 0
A89: 3. 배관 철거비 | C89: 0 | E89: =G89+I89+K89 -> 0 | F89: =H89+J89+L89 -> 253327 | G89: 0 | H89: =H90 -> 4941 | I89: 0 | J89: =J90 -> 248386 | K89: 0 | L89: =L90 -> 0
A90: 배관해체 | B90: 25A | C90: 40.5 | D90: M | E90: =G90+I90+K90 -> 6255 | F90: =H90+J90+L90 -> 253327 | G90: =일위대가!H149 -> 122 | H90: =TRUNC(C90*G90,0) -> 4941 | I90: =일위대가!J149 -> 6133 | J90: =TRUNC(C90*I90,0) -> 248386 | K90: =일위대가!L149 -> 0 | L90: =TRUNC(C90*K90,0) -> 0 | N90: 제 21호표 | DM90: BM-PIC-025A
C91: 0 | E91: =G91+I91+K91 -> 0 | F91: =H91+J91+L91 -> 0 | G91: 0 | H91: =TRUNC(C91*G91,0) -> 0 | I91: 0 | J91: =TRUNC(C91*I91,0) -> 0 | K91: 0 | L91: =TRUNC(C91*K91,0) -> 0
A92: 라. 기계기초 | C92: 0 | E92: =G92+I92+K92 -> 0 | F92: =H92+J92+L92 -> 896508 | G92: 0 | H92: =SUM(H93:H94) -> 732659 | I92: 0 | J92: =SUM(J93:J94) -> 160637 | K92: 0 | L92: =SUM(L93:L94) -> 3212
A93: 합판거푸집 | B93: 1회 | C93: 4.28 | D93: ㎥ | E93: =G93+I93+K93 -> 39618 | F93: =H93+J93+L93 -> 169565 | G93: =일위대가!H156 -> 39618 | H93: =TRUNC(C93*G93,0) -> 169565 | I93: =일위대가!J156 -> 0 | J93: =TRUNC(C93*I93,0) -> 0 | K93: =일위대가!L156 -> 0 | L93: =TRUNC(C93*K93,0) -> 0 | N93: 제 22호표 | DM93: BC-HPGPS-01
A94: 레미콘 타설 | B94: 무근콘크리트, 인력 | C94: 2.72 | D94: ㎥ | E94: =G94+I94+K94 -> 267259 | F94: =H94+J94+L94 -> 726943 | G94: =일위대가!H163 -> 207020 | H94: =TRUNC(C94*G94,0) -> 563094 | I94: =일위대가!J163 -> 59058 | J94: =TRUNC(C94*I94,0) -> 160637 | K94: =일위대가!L163 -> 1181 | L94: =TRUNC(C94*K94,0) -> 3212 | N94: 제 23호표 | DM94: BC-RECON
C95: 0 | E95: =G95+I95+K95 -> 0 | F95: =H95+J95+L95 -> 0 | G95: 0 | H95: =TRUNC(C95*G95,0) -> 0 | I95: 0 | J95: =TRUNC(C95*I95,0) -> 0 | K95: 0 | L95: =TRUNC(C95*K95,0) -> 0

Sheet 일위대가 목록
A1: 일 위 대 가 목 록 표
A3: 공 종 | B3: 규 격 | C3: 수 량 | D3: 단위 | E3: 합 계 | F3: 재 료 비 | G3: 노 무 비 | H3: 경 비 | I3: 비 고
A5: RM-802 RO 고압펌프 | B5: 입형다단펌프, 5.4㎥/hr x 500mH, 15kW | C5: 1 | D5: 대 | E5: =F5+G5+H5 -> 702952 | F5: =일위대가!H7 -> 0 | G5: =일위대가!J7 -> 682478 | H5: =일위대가!L7 -> 20474 | I5: 1 | DM5: BM-RM-802
A6: RM-806 3차처리수 저장탱크 | B6: PE제 원통형 탱크, 2.0㎥ | C6: 1 | D6: 대 | E6: =F6+G6+H6 -> 677240 | F6: =일위대가!H11 -> 0 | G6: =일위대가!J11 -> 677240 | H6: =일위대가!L11 -> 0 | I6: =I5+1 -> 2 | DM6: BM-RM-806
A7: RM-807 MF 공급펌프 | B7: 입형다단펌프, 5.4㎥/hr x 30mH, 1.1kW | C7: 1 | D7: 대 | E7: =F7+G7+H7 -> 301810 | F7: =일위대가!H15 -> 0 | G7: =일위대가!J15 -> 293020 | H7: =일위대가!L15 -> 8790 | I7: =I6+1 -> 3 | DM7: BM-RM-807
A8: 스테인레스 플랜지접합 | B8: 50A | C8: 1 | D8: 개소 | E8: =F8+G8+H8 -> 7321 | F8: =일위대가!H23 -> 7321 | G8: =일위대가!J23 -> 0 | H8: =일위대가!L23 -> 0 | I8: =I7+1 -> 4 | DM8: BM-FIT-050A
A9: 스테인레스 플랜지접합 | B9: 25A | C9: 1 | D9: 개소 | E9: =F9+G9+H9 -> 7001 | F9: =일위대가!H31 -> 7001 | G9: =일위대가!J31 -> 0 | H9: =일위대가!L31 -> 0 | I9: =I8+1 -> 5 | DM9: BM-FIT-025A
A10: 스테인레스 플랜지접합 | B10: 50A | C10: 1 | D10: 개소 | E10: =F10+G10+H10 -> 7171 | F10: =일위대가!H39 -> 7171 | G10: =일위대가!J39 -> 0 | H10: =일위대가!L39 -> 0 | I10: =I9+1 -> 6 | DM10: BM-FIT-040A
A11: 스테인레스강관 설치 | B11: 50A | C11: 1 | D11: M | E11: =F11+G11+H11 -> 26808 | F11: =일위대가!H47 -> 0 | G11: =일위대가!J47 -> 26283 | H11: =일위대가!L47 -> 525 | I11: =I10+1 -> 7 | DM11: BM-PIT-050A
A12: 스테인레스강관 설치 | B12: 25A | C12: 1 | D12: M | E12: =F12+G12+H12 -> 16177 | F12: =일위대가!H55 -> 0 | G12: =일위대가!J55 -> 15860 | H12: =일위대가!L55 -> 317 | I12: =I11+1 -> 8 | DM12: BM-PIT-025A
A13: 스테인레스강관 용접개소 | B13: 50A, STS304 | C13: 1 | D13: 개소 | E13: =F13+G13+H13 -> 32131 | F13: =일위대가!H63 -> 3785 | G13: =일위대가!J63 -> 28346 | H13: =일위대가!L63 -> 0 | I13: =I12+1 -> 9 | DM13: BM-WIT-050B
A14: 스테인레스강관 용접개소 | B14: 25A, STS304 | C14: 1 | D14: 개소 | E14: =F14+G14+H14 -> 20846 | F14: =일위대가!H71 -> 1949 | G14: =일위대가!J71 -> 18897 | H14: =일위대가!L71 -> 0 | I14: =I13+1 -> 10 | DM14: BM-WIT-025B
A15: 일반밸브 및 콕류설치 | B15: 50A | C15: 1 | D15: 개소 | E15: =F15+G15+H15 -> 18799 | F15: =일위대가!H77 -> 0 | G15: =일위대가!J77 -> 18431 | H15: =일위대가!L77 -> 368 | I15: =I14+1 -> 11 | DM15: BM-VALVEA-050
A16: 일반밸브 및 콕류설치 | B16: 25A | C16: 1 | D16: 개소 | E16: =F16+G16+H16 -> 12702 | F16: =일위대가!H83 -> 0 | G16: =일위대가!J83 -> 12453 | H16: =일위대가!L83 -> 249 | I16: =I15+1 -> 12 | DM16: BM-VALVEA-025
A17: 스테인레스강관 설치 | B17: 40A | C17: 1 | D17: M | E17: =F17+G17+H17 -> 20850 | F17: =일위대가!H91 -> 0 | G17: =일위대가!J91 -> 20442 | H17: =일위대가!L91 -> 408 | I17: =I16+1 -> 13 | DM17: BM-PIT-040A
A18: 스테인레스강관 용접개소 | B18: 40A, STS316L | C18: 1 | D18: 개소 | E18: =F18+G18+H18 -> 27085 | F18: =일위대가!H99 -> 3034 | G18: =일위대가!J99 -> 24051 | H18: =일위대가!L99 -> 0 | I18: =I17+1 -> 14 | DM18: BM-WIT-040A
A19: 스테인레스강관 용접개소 | B19: 25A, STS316L | C19: 1 | D19: 개소 | E19: =F19+G19+H19 -> 20925 | F19: =일위대가!H107 -> 2028 | G19: =일위대가!J107 -> 18897 | H19: =일위대가!L107 -> 0 | I19: =I18+1 -> 15 | DM19: BM-WIT-025A
A20: 스테인레스강관 용접개소 | B20: 8A, STS316L | C20: 1 | D20: 개소 | E20: =F20+G20+H20 -> 12489 | F20: =일위대가!H115 -> 1036 | G20: =일위대가!J115 -> 11453 | H20: =일위대가!L115 -> 0 | I20: =I19+1 -> 16 | DM20: BM-WIT-008A
A21: 일반밸브 및 콕류설치 | B21: 40A | C21: 1 | D21: 개소 | E21: =F21+G21+H21 -> 18799 | F21: =일위대가!H121 -> 0 | G21: =일위대가!J121 -> 18431 | H21: =일위대가!L121 -> 368 | I21: =I20+1 -> 17 | DM21: BM-VALVEA-040
A22: 일반밸브 및 콕류설치 | B22: 8A | C22: 1 | D22: 개소 | E22: =F22+G22+H22 -> 12702 | F22: =일위대가!H127 -> 0 | G22: =일위대가!J127 -> 12453 | H22: =일위대가!L127 -> 249 | I22: =I21+1 -> 18 | DM22: BM-VALVEA-008
A23: 압력계 제작설치 (STS316L) | B23: 15A | C23: 1 | D23: 개소 | E23: =F23+G23+H23 -> 70105 | F23: =일위대가!H135 -> 62992 | G23: =일위대가!J135 -> 6974 | H23: =일위대가!L135 -> 139 | I23: =I22+1 -> 19 | DM23: BM-PRA-015T
A24: 가교화 폴리에틸렌 접합 및 배관 | B24: 8A (직선보간법) | C24: 1 | D24: M | E24: =F24+G24+H24 -> 4819 | F24: =일위대가!H142 -> 47 | G24: =일위대가!J142 -> 4772 | H24: =일위대가!L142 -> 0 | I24: =I23+1 -> 20 | DM24: BM-PIP-008A
A25: 배관해체 | B25: 25A | C25: 1 | D25: M | E25: =F25+G25+H25 -> 6255 | F25: =일위대가!H149 -> 122 | G25: =일위대가!J149 -> 6133 | H25: =일위대가!L149 -> 0 | I25: =I24+1 -> 21 | DM25: BM-PIC-025A
A26: 합판거푸집 | B26: 1회 | C26: 1 | D26: ㎥ | E26: =F26+G26+H26 -> 39618 | F26: =일위대가!H156 -> 39618 | G26: =일위대가!J156 -> 0 | H26: =일위대가!L156 -> 0 | I26: =I25+1 -> 22 | DM26: BC-HPGPS-01
A27: 레미콘 타설 | B27: 무근콘크리트, 인력 | C27: 1 | D27: ㎥ | E27: =F27+G27+H27 -> 267259 | F27: =일위대가!H163 -> 207020 | G27: =일위대가!J163 -> 59058 | H27: =일위대가!L163 -> 1181 | I27: =I26+1 -> 23 | DM27: BC-RECON
A28: 수격방지기 설치 | B28: 15A | C28: 1 | D28: 개소 | E28: =F28+G28+H28 -> 7113 | F28: =일위대가!H169 -> 0 | G28: =일위대가!J169 -> 6974 | H28: =일위대가!L169 -> 139 | I28: =I27+1 -> 24 | DM28: BM-VENT-15T
A29: 일반펌프 설치 | B29: 1.5kW 이하 | C29: 1 | D29: 대 | E29: =F29+G29+H29 -> 301810 | F29: =일위대가!H176 -> 0 | G29: =일위대가!J176 -> 293020 | H29: =일위대가!L176 -> 8790 | I29: =I28+1 -> 25 | DM29: BM-PUMPA-1.5
A30: 일반펌프 설치 | B30: 15kW 이하 | C30: 1 | D30: 대 | E30: =F30+G30+H30 -> 702952 | F30: =일위대가!H183 -> 0 | G30: =일위대가!J183 -> 682478 | H30: =일위대가!L183 -> 20474 | I30: =I29+1 -> 26 | DM30: BM-PUMPA-15
A31: HEATER 및 TANK 설치 | B31: 0.5Ton 이하, 건설기계 닿는 장소 | C31: 1 | D31: 대 | E31: =F31+G31+H31 -> 677240 | F31: =일위대가!H192 -> 0 | G31: =일위대가!J192 -> 677240 | H31: =일위대가!L192 -> 0 | I31: =I30+1 -> 27 | DM31: BM-TANKA-0.5

Sheet 일위대가
A1: 일 위 대 가 표
A3: 공 종 | B3: 규 격 | C3: 수 량 | D3: 단위 | E3: 합 계 | G3: 재 료 비 | I3: 노 무 비 | K3: 경 비 | M3: 비 고
E4: 단 가 | F4: 금 액 | G4: 단 가 | H4: 금 액 | I4: 단 가 | J4: 금 액 | K4: 단 가 | L4: 금 액
A5: 제 1 호표 ：RM-802 RO 고압펌프 (입형다단펌프, 5.4㎥/hr x 500mH, 15kW) 대 당 | DM5: :BM-RM-802
A6: 일반펌프 설치 | B6: 15kW 이하 | C6: 1 | D6: 대 | E6: =G6+I6+K6 -> 702952 | F6: =H6+J6+L6 -> 702952 | G6: =H183 -> 0 | H6: =TRUNC(C6*G6,1) -> 0 | I6: =J183 -> 682478 | J6: =TRUNC(C6*I6,1) -> 682478 | K6: =L183 -> 20474 | L6: =TRUNC(C6*K6,1) -> 20474 | M6: 제 26호표 | DM6: BM-PUMPA-15
A7: 계 | F7: =H7+J7+L7 -> 702952 | H7: =ROUNDDOWN(SUM(H6:H6),0) -> 0 | J7: =ROUNDDOWN(SUM(J6:J6),0) -> 682478 | L7: =ROUNDDOWN(SUM(L6:L6),0) -> 20474
A9: 제 2 호표 ：RM-806 3차처리수 저장탱크 (PE제 원통형 탱크, 2.0㎥) 대 당 | DM9: :BM-RM-806
A10: HEATER 및 TANK 설치 | B10: 0.5Ton 이하, 건설기계 닿는 장소 | C10: 1 | D10: 대 | E10: =G10+I10+K10 -> 677240 | F10: =H10+J10+L10 -> 677240 | G10: =H192 -> 0 | H10: =TRUNC(C10*G10,1) -> 0 | I10: =J192 -> 677240 | J10: =TRUNC(C10*I10,1) -> 677240 | K10: =L192 -> 0 | L10: =TRUNC(C10*K10,1) -> 0 | M10: 제 27호표 | DM10: BM-TANKA-0.5
A11: 계 | F11: =H11+J11+L11 -> 677240 | H11: =ROUNDDOWN(SUM(H10:H10),0) -> 0 | J11: =ROUNDDOWN(SUM(J10:J10),0) -> 677240 | L11: =ROUNDDOWN(SUM(L10:L10),0) -> 0
A13: 제 3 호표 ：RM-807 MF 공급펌프 (입형다단펌프, 5.4㎥/hr x 30mH, 1.1kW) 대 당 | DM13: :BM-RM-807
A14: 일반펌프 설치 | B14: 1.5kW 이하 | C14: 1 | D14: 대 | E14: =G14+I14+K14 -> 301810 | F14: =H14+J14+L14 -> 301810 | G14: =H176 -> 0 | H14: =TRUNC(C14*G14,1) -> 0 | I14: =J176 -> 293020 | J14: =TRUNC(C14*I14,1) -> 293020 | K14: =L176 -> 8790 | L14: =TRUNC(C14*K14,1) -> 8790 | M14: 제 25호표 | DM14: BM-PUMPA-1.5
A15: 계 | F15: =H15+J15+L15 -> 301810 | H15: =ROUNDDOWN(SUM(H14:H14),0) -> 0 | J15: =ROUNDDOWN(SUM(J14:J14),0) -> 293020 | L15: =ROUNDDOWN(SUM(L14:L14),0) -> 8790
A17: 제 4 호표 ：스테인레스 플랜지접합 (50A) 개소 당 | DM17: :BM-FIT-050A
A18: 스테인레스 육각볼트 | B18: M16 x L60 | C18: 4 | D18: EA | E18: =G18+I18+K18 -> 1242 | F18: =H18+J18+L18 -> 4968 | G18: =자재단가!R43 -> 1242 | H18: =TRUNC(C18*G18,1) -> 4968 | I18: 0 | J18: =TRUNC(C18*I18,1) -> 0 | K18: 0 | L18: =TRUNC(C18*K18,1) -> 0 | DM18: MM-BLT-16-60
A19: 스테인레스 육각너트 | B19: M16 | C19: 4 | D19: EA | E19: =G19+I19+K19 -> 291.5 | F19: =H19+J19+L19 -> 1166 | G19: =자재단가!R44 -> 291.5 | H19: =TRUNC(C19*G19,1) -> 1166 | I19: 0 | J19: =TRUNC(C19*I19,1) -> 0 | K19: 0 | L19: =TRUNC(C19*K19,1) -> 0 | DM19: MM-NTT-16
A20: 스테인레스 평와셔 | B20: M16 | C20: 4 | D20: EA | E20: =G20+I20+K20 -> 101.8 | F20: =H20+J20+L20 -> 407.2 | G20: =자재단가!R45 -> 101.8 | H20: =TRUNC(C20*G20,1) -> 407.2 | I20: 0 | J20: =TRUNC(C20*I20,1) -> 0 | K20: 0 | L20: =TRUNC(C20*K20,1) -> 0 | DM20: MM-WST-16
A21: 고무가스켓 | B21: 50A | C21: 1 | D21: EA | E21: =G21+I21+K21 -> 780 | F21: =H21+J21+L21 -> 780 | G21: =자재단가!R46 -> 780 | H21: =TRUNC(C21*G21,1) -> 780 | I21: 0 | J21: =TRUNC(C21*I21,1) -> 0 | K21: 0 | L21: =TRUNC(C21*K21,1) -> 0 | DM21: MM-RGK-050
A22: 플랜트배관 포켓북 P.147 | C22: 0 | E22: 0 | F22: 0 | G22: 0 | H22: 0 | I22: 0 | J22: 0 | K22: 0 | L22: 0 | DM22: %%
A23: 계 | F23: =H23+J23+L23 -> 7321 | H23: =ROUNDDOWN(SUM(H18:H22)-(H22),0) -> 7321 | J23: =ROUNDDOWN(SUM(J18:J22)-(J22),0) -> 0 | L23: =ROUNDDOWN(SUM(L18:L22)-(L22),0) -> 0
A25: 제 5 호표 ：스테인레스 플랜지접합 (25A) 개소 당 | DM25: :BM-FIT-025A
A26: 스테인레스 육각볼트 | B26: M16 x L60 | C26: 4 | D26: EA | E26: =G26+I26+K26 -> 1242 | F26: =H26+J26+L26 -> 4968 | G26: =자재단가!R43 -> 1242 | H26: =TRUNC(C26*G26,1) -> 4968 | I26: 0 | J26: =TRUNC(C26*I26,1) -> 0 | K26: 0 | L26: =TRUNC(C26*K26,1) -> 0 | DM26: MM-BLT-16-60
A27: 스테인레스 육각너트 | B27: M16 | C27: 4 | D27: EA | E27: =G27+I27+K27 -> 291.5 | F27: =H27+J27+L27 -> 1166 | G27: =자재단가!R44 -> 291.5 | H27: =TRUNC(C27*G27,1) -> 1166 | I27: 0 | J27: =TRUNC(C27*I27,1) -> 0 | K27: 0 | L27: =TRUNC(C27*K27,1) -> 0 | DM27: MM-NTT-16
A28: 스테인레스 평와셔 | B28: M16 | C28: 4 | D28: EA | E28: =G28+I28+K28 -> 101.8 | F28: =H28+J28+L28 -> 407.2 | G28: =자재단가!R45 -> 101.8 | H28: =TRUNC(C28*G28,1) -> 407.2 | I28: 0 | J28: =TRUNC(C28*I28,1) -> 0 | K28: 0 | L28: =TRUNC(C28*K28,1) -> 0 | DM28: MM-WST-16
A29: 고무가스켓 | B29: 25A | C29: 1 | D29: EA | E29: =G29+I29+K29 -> 460 | F29: =H29+J29+L29 -> 460 | G29: =자재단가!R48 -> 460 | H29: =TRUNC(C29*G29,1) -> 460 | I29: 0 | J29: =TRUNC(C29*I29,1) -> 0 | K29: 0 | L29: =TRUNC(C29*K29,1) -> 0 | DM29: MM-RGK-025
A30: 플랜트배관 포켓북 P.147 | C30: 0 | E30: 0 | F30: 0 | G30: 0 | H30: 0 | I30: 0 | J30: 0 | K30: 0 | L30: 0 | DM30: %%
A31: 계 | F31: =H31+J31+L31 -> 7001 | H31: =ROUNDDOWN(SUM(H26:H30)-(H30),0) -> 7001 | J31: =ROUNDDOWN(SUM(J26:J30)-(J30),0) -> 0 | L31: =ROUNDDOWN(SUM(L26:L30)-(L30),0) -> 0
A33: 제 6 호표 ：스테인레스 플랜지접합 (50A) 개소 당 | DM33: :BM-FIT-040A
A34: 스테인레스 육각볼트 | B34: M16 x L60 | C34: 4 | D34: EA | E34: =G34+I34+K34 -> 1242 | F34: =H34+J34+L34 -> 4968 | G34: =자재단가!R43 -> 1242 | H34: =TRUNC(C34*G34,1) -> 4968 | I34: 0 | J34: =TRUNC(C34*I34,1) -> 0 | K34: 0 | L34: =TRUNC(C34*K34,1) -> 0 | DM34: MM-BLT-16-60
A35: 스테인레스 육각너트 | B35: M16 | C35: 4 | D35: EA | E35: =G35+I35+K35 -> 291.5 | F35: =H35+J35+L35 -> 1166 | G35: =자재단가!R44 -> 291.5 | H35: =TRUNC(C35*G35,1) -> 1166 | I35: 0 | J35: =TRUNC(C35*I35,1) -> 0 | K35: 0 | L35: =TRUNC(C35*K35,1) -> 0 | DM35: MM-NTT-16
A36: 스테인레스 평와셔 | B36: M16 | C36: 4 | D36: EA | E36: =G36+I36+K36 -> 101.8 | F36: =H36+J36+L36 -> 407.2 | G36: =자재단가!R45 -> 101.8 | H36: =TRUNC(C36*G36,1) -> 407.2 | I36: 0 | J36: =TRUNC(C36*I36,1) -> 0 | K36: 0 | L36: =TRUNC(C36*K36,1) -> 0 | DM36: MM-WST-16
A37: 고무가스켓 | B37: 40A | C37: 1 | D37: EA | E37: =G37+I37+K37 -> 630 | F37: =H37+J37+L37 -> 630 | G37: =자재단가!R47 -> 630 | H37: =TRUNC(C37*G37,1) -> 630 | I37: 0 | J37: =TRUNC(C37*I37,1) -> 0 | K37: 0 | L37: =TRUNC(C37*K37,1) -> 0 | DM37: MM-RGK-040
A38: 플랜트배관 포켓북 P.147 | C38: 0 | E38: 0 | F38: 0 | G38: 0 | H38: 0 | I38: 0 | J38: 0 | K38: 0 | L38: 0 | DM38: %%
A39: 계 | F39: =H39+J39+L39 -> 7171 | H39: =ROUNDDOWN(SUM(H34:H38)-(H38),0) -> 7171 | J39: =ROUNDDOWN(SUM(J34:J38)-(J38),0) -> 0 | L39: =ROUNDDOWN(SUM(L34:L38)-(L38),0) -> 0
A41: 제 7 호표 ：스테인레스강관 설치 (50A) M 당 | DM41: :BM-PIT-050A
A42: 배관공 | C42: 3 | D42: 인 | E42: =G42+I42+K42 -> 249073 | F42: =H42+J42+L42 -> 747219 | G42: 0 | H42: =TRUNC(C42*G42,1) -> 0 | I42: =노임단가!K11 -> 249073 | J42: =TRUNC(C42*I42,1) -> 747219 | K42: 0 | L42: =TRUNC(C42*K42,1) -> 0 | DM42: W1039
A43: 보통인부 | C43: 1 | D43: 인 | E43: =G43+I43+K43 -> 172698 | F43: =H43+J43+L43 -> 172698 | G43: 0 | H43: =TRUNC(C43*G43,1) -> 0 | I43: =노임단가!K5 -> 172698 | J43: =TRUNC(C43*I43,1) -> 172698 | K43: 0 | L43: =TRUNC(C43*K43,1) -> 0 | DM43: W1002
A44: 공구손료 | B44: 노무비의 | C44: 2 | D44: % | E44: =G44+I44+K44 -> 919917 | F44: =H44+J44+L44 -> 18398.3 | G44: 0 | H44: =TRUNC(C44/100*G44,1) -> 0 | I44: 0 | J44: =TRUNC(C44/100*I44,1) -> 0 | K44: =SUM(J42:J43) -> 919917 | L44: =TRUNC(C44/100*K44,1) -> 18398.3 | DM44: %RAN*LE | DN44: 1..2
A45: 계 ÷ 35 | B45: 1일 시공량 35M | C45: 0 | E45: =G45+I45+K45 -> 0 | F45: =H45+J45+L45 -> 26809.009 | G45: 0 | H45: =SUM(H42:H44)/35 -> 0 | I45: 0 | J45: =SUM(J42:J44)/35 -> 26283.343 | K45: 0 | L45: =SUM(L42:L44)/35 -> 525.66571 | DM45: %GYE/?? | DN45: 35
A46: 기계품셈 1-3-2 | C46: 0 | E46: 0 | F46: 0 | G46: 0 | H46: 0 | I46: 0 | J46: 0 | K46: 0 | L46: 0 | DM46: %%
A47: 계 | F47: =H47+J47+L47 -> 26808 | H47: =ROUNDDOWN(SUM(H45),0) -> 0 | J47: =ROUNDDOWN(SUM(J45),0) -> 26283 | L47: =ROUNDDOWN(SUM(L45),0) -> 525
A49: 제 8 호표 ：스테인레스강관 설치 (25A) M 당 | DM49: :BM-PIT-025A
A50: 배관공 | C50: 3 | D50: 인 | E50: =G50+I50+K50 -> 249073 | F50: =H50+J50+L50 -> 747219 | G50: 0 | H50: =TRUNC(C50*G50,1) -> 0 | I50: =노임단가!K11 -> 249073 | J50: =TRUNC(C50*I50,1) -> 747219 | K50: 0 | L50: =TRUNC(C50*K50,1) -> 0 | DM50: W1039
A51: 보통인부 | C51: 1 | D51: 인 | E51: =G51+I51+K51 -> 172698 | F51: =H51+J51+L51 -> 172698 | G51: 0 | H51: =TRUNC(C51*G51,1) -> 0 | I51: =노임단가!K5 -> 172698 | J51: =TRUNC(C51*I51,1) -> 172698 | K51: 0 | L51: =TRUNC(C51*K51,1) -> 0 | DM51: W1002
A52: 공구손료 | B52: 노무비의 | C52: 2 | D52: % | E52: =G52+I52+K52 -> 919917 | F52: =H52+J52+L52 -> 18398.3 | G52: 0 | H52: =TRUNC(C52/100*G52,1) -> 0 | I52: 0 | J52: =TRUNC(C52/100*I52,1) -> 0 | K52: =SUM(J50:J51) -> 919917 | L52: =TRUNC(C52/100*K52,1) -> 18398.3 | DM52: %RAN*LE | DN52: 1..2
A53: 계 ÷ 58 | B53: 1일 시공량 58M | C53: 0 | E53: =G53+I53+K53 -> 0 | F53: =H53+J53+L53 -> 16177.85 | G53: 0 | H53: =SUM(H50:H52)/58 -> 0 | I53: 0 | J53: =SUM(J50:J52)/58 -> 15860.638 | K53: 0 | L53: =SUM(L50:L52)/58 -> 317.21207 | DM53: %GYE/?? | DN53: 58
A54: 기계품셈 1-3-2 | C54: 0 | E54: 0 | F54: 0 | G54: 0 | H54: 0 | I54: 0 | J54: 0 | K54: 0 | L54: 0 | DM54: %%
A55: 계 | F55: =H55+J55+L55 -> 16177 | H55: =ROUNDDOWN(SUM(H53),0) -> 0 | J55: =ROUNDDOWN(SUM(J53),0) -> 15860 | L55: =ROUNDDOWN(SUM(L53),0) -> 317
A57: 제 9 호표 ：스테인레스강관 용접개소 (50A, STS304) 개소 당 | DM57: :BM-WIT-050B
A58: 용접공 | C58: 0.099 | D58: 인 | E58: =G58+I58+K58 -> 286330 | F58: =H58+J58+L58 -> 28346.6 | G58: 0 | H58: =TRUNC(C58*G58,1) -> 0 | I58: =노임단가!K9 -> 286330 | J58: =TRUNC(C58*I58,1) -> 28346.6 | K58: 0 | L58: =TRUNC(C58*K58,1) -> 0 | DM58: W1012
A59: 용접봉 | B59: 3.2t (STS304용) | C59: 0.055 | D59: ㎏ | E59: =G59+I59+K59 -> 14290 | F59: =H59+J59+L59 -> 785.9 | G59: =자재단가!R50 -> 14290 | H59: =TRUNC(C59*G59,1) -> 785.9 | I59: 0 | J59: =TRUNC(C59*I59,1) -> 0 | K59: 0 | L59: =TRUNC(C59*K59,1) -> 0 | DM59: MM-YNG-3.2TT
A60: 아르곤가스 | B60: 99% | C60: 265 | D60: ℓ | E60: =G60+I60+K60 -> 7.04 | F60: =H60+J60+L60 -> 1865.6 | G60: =자재단가!R51 -> 7.04 | H60: =TRUNC(C60*G60,1) -> 1865.6 | I60: 0 | J60: =TRUNC(C60*I60,1) -> 0 | K60: 0 | L60: =TRUNC(C60*K60,1) -> 0 | DM60: MM-ARGON
A61: 기계경비 | B61: 인력품의 | C61: 4 | D61: % | E61: =G61+I61+K61 -> 28346.6 | F61: =H61+J61+L61 -> 1133.8 | G61: =J58 -> 28346.6 | H61: =TRUNC(C61/100*G61,1) -> 1133.8 | I61: 0 | J61: =TRUNC(C61/100*I61,1) -> 0 | K61: 0 | L61: =TRUNC(C61/100*K61,1) -> 0 | DM61: %RAN*LM | DN61: 1
A62: 기계품셈 1-3-1 | C62: 0 | E62: 0 | F62: 0 | G62: 0 | H62: 0 | I62: 0 | J62: 0 | K62: 0 | L62: 0 | DM62: %%
A63: 계 | F63: =H63+J63+L63 -> 32131 | H63: =ROUNDDOWN(SUM(H58:H62)-(H62),0) -> 3785 | J63: =ROUNDDOWN(SUM(J58:J62)-(J62),0) -> 28346 | L63: =ROUNDDOWN(SUM(L58:L62)-(L62),0) -> 0
A65: 제 10 호표 ：스테인레스강관 용접개소 (25A, STS304) 개소 당 | DM65: :BM-WIT-025B
A66: 용접공 | C66: 0.066 | D66: 인 | E66: =G66+I66+K66 -> 286330 | F66: =H66+J66+L66 -> 18897.7 | G66: 0 | H66: =TRUNC(C66*G66,1) -> 0 | I66: =노임단가!K9 -> 286330 | J66: =TRUNC(C66*I66,1) -> 18897.7 | K66: 0 | L66: =TRUNC(C66*K66,1) -> 0 | DM66: W1012
A67: 용접봉 | B67: 3.2t (STS304용) | C67: 0.02 | D67: ㎏ | E67: =G67+I67+K67 -> 14290 | F67: =H67+J67+L67 -> 285.8 | G67: =자재단가!R50 -> 14290 | H67: =TRUNC(C67*G67,1) -> 285.8 | I67: 0 | J67: =TRUNC(C67*I67,1) -> 0 | K67: 0 | L67: =TRUNC(C67*K67,1) -> 0 | DM67: MM-YNG-3.2TT
A68: 아르곤가스 | B68: 99% | C68: 129 | D68: ℓ | E68: =G68+I68+K68 -> 7.04 | F68: =H68+J68+L68 -> 908.1 | G68: =자재단가!R51 -> 7.04 | H68: =TRUNC(C68*G68,1) -> 908.1 | I68: 0 | J68: =TRUNC(C68*I68,1) -> 0 | K68: 0 | L68: =TRUNC(C68*K68,1) -> 0 | DM68: MM-ARGON
A69: 기계경비 | B69: 인력품의 | C69: 4 | D69: % | E69: =G69+I69+K69 -> 18897.7 | F69: =H69+J69+L69 -> 755.9 | G69: =J66 -> 18897.7 | H69: =TRUNC(C69/100*G69,1) -> 755.9 | I69: 0 | J69: =TRUNC(C69/100*I69,1) -> 0 | K69: 0 | L69: =TRUNC(C69/100*K69,1) -> 0 | DM69: %RAN*LM | DN69: 1
A70: 기계품셈 1-3-1 | C70: 0 | E70: 0 | F70: 0 | G70: 0 | H70: 0 | I70: 0 | J70: 0 | K70: 0 | L70: 0 | DM70: %%
A71: 계 | F71: =H71+J71+L71 -> 20846 | H71: =ROUNDDOWN(SUM(H66:H70)-(H70),0) -> 1949 | J71: =ROUNDDOWN(SUM(J66:J70)-(J70),0) -> 18897 | L71: =ROUNDDOWN(SUM(L66:L70)-(L70),0) -> 0
A73: 제 11 호표 ：일반밸브 및 콕류설치 (50A) 개소 당 | DM73: :BM-VALVEA-050
A74: 배관공 | C74: 0.074 | D74: 인 | E74: =G74+I74+K74 -> 249073 | F74: =H74+J74+L74 -> 18431.4 | G74: 0 | H74: =TRUNC(C74*G74,1) -> 0 | I74: =노임단가!K11 -> 249073 | J74: =TRUNC(C74*I74,1) -> 18431.4 | K74: 0 | L74: =TRUNC(C74*K74,1) -> 0 | DM74: W1039
A75: 기계경비 | B75: 노무비의 | C75: 2 | D75: % | E75: =G75+I75+K75 -> 18431.4 | F75: =H75+J75+L75 -> 368.6 | G75: 0 | H75: =TRUNC(C75/100*G75,1) -> 0 | I75: 0 | J75: =TRUNC(C75/100*I75,1) -> 0 | K75: =J74 -> 18431.4 | L75: =TRUNC(C75/100*K75,1) -> 368.6 | DM75: %RAN*LE | DN75: 1
A76: 기계품셈 5-1-1 | C76: 0 | E76: 0 | F76: 0 | G76: 0 | H76: 0 | I76: 0 | J76: 0 | K76: 0 | L76: 0 | DM76: %%
A77: 계 | F77: =H77+J77+L77 -> 18799 | H77: =ROUNDDOWN(SUM(H74:H76)-(H76),0) -> 0 | J77: =ROUNDDOWN(SUM(J74:J76)-(J76),0) -> 18431 | L77: =ROUNDDOWN(SUM(L74:L76)-(L76),0) -> 368
A79: 제 12 호표 ：일반밸브 및 콕류설치 (25A) 개소 당 | DM79: :BM-VALVEA-025
A80: 배관공 | C80: 0.05 | D80: 인 | E80: =G80+I80+K80 -> 249073 | F80: =H80+J80+L80 -> 12453.6 | G80: 0 | H80: =TRUNC(C80*G80,1) -> 0 | I80: =노임단가!K11 -> 249073 | J80: =TRUNC(C80*I80,1) -> 12453.6 | K80: 0 | L80: =TRUNC(C80*K80,1) -> 0 | DM80: W1039
A81: 기계경비 | B81: 노무비의 | C81: 2 | D81: % | E81: =G81+I81+K81 -> 12453.6 | F81: =H81+J81+L81 -> 249 | G81: 0 | H81: =TRUNC(C81/100*G81,1) -> 0 | I81: 0 | J81: =TRUNC(C81/100*I81,1) -> 0 | K81: =J80 -> 12453.6 | L81: =TRUNC(C81/100*K81,1) -> 249 | DM81: %RAN*LE | DN81: 1
A82: 기계품셈 5-1-1 | C82: 0 | E82: 0 | F82: 0 | G82: 0 | H82: 0 | I82: 0 | J82: 0 | K82: 0 | L82: 0 | DM82: %%
A83: 계 | F83: =H83+J83+L83 -> 12702 | H83: =ROUNDDOWN(SUM(H80:H82)-(H82),0) -> 0 | J83: =ROUNDDOWN(SUM(J80:J82)-(J82),0) -> 12453 | L83: =ROUNDDOWN(SUM(L80:L82)-(L82),0) -> 249
A85: 제 13 호표 ：스테인레스강관 설치 (40A) M 당 | DM85: :BM-PIT-040A
A86: 배관공 | C86: 3 | D86: 인 | E86: =G86+I86+K86 -> 249073 | F86: =H86+J86+L86 -> 747219 | G86: 0 | H86: =TRUNC(C86*G86,1) -> 0 | I86: =노임단가!K11 -> 249073 | J86: =TRUNC(C86*I86,1) -> 747219 | K86: 0 | L86: =TRUNC(C86*K86,1) -> 0 | DM86: W1039
A87: 보통인부 | C87: 1 | D87: 인 | E87: =G87+I87+K87 -> 172698 | F87: =H87+J87+L87 -> 172698 | G87: 0 | H87: =TRUNC(C87*G87,1) -> 0 | I87: =노임단가!K5 -> 172698 | J87: =TRUNC(C87*I87,1) -> 172698 | K87: 0 | L87: =TRUNC(C87*K87,1) -> 0 | DM87: W1002
A88: 공구손료 | B88: 노무비의 | C88: 2 | D88: % | E88: =G88+I88+K88 -> 919917 | F88: =H88+J88+L88 -> 18398.3 | G88: 0 | H88: =TRUNC(C88/100*G88,1) -> 0 | I88: 0 | J88: =TRUNC(C88/100*I88,1) -> 0 | K88: =SUM(J86:J87) -> 919917 | L88: =TRUNC(C88/100*K88,1) -> 18398.3 | DM88: %RAN*LE | DN88: 1..2
A89: 계 ÷ 45 | B89: 1일 시공량 45M | C89: 0 | E89: =G89+I89+K89 -> 0 | F89: =H89+J89+L89 -> 20851.451 | G89: 0 | H89: =SUM(H86:H88)/45 -> 0 | I89: 0 | J89: =SUM(J86:J88)/45 -> 20442.6 | K89: 0 | L89: =SUM(L86:L88)/45 -> 408.85111 | DM89: %GYE/?? | DN89: 45
A90: 기계품셈 1-3-2 | C90: 0 | E90: 0 | F90: 0 | G90: 0 | H90: 0 | I90: 0 | J90: 0 | K90: 0 | L90: 0 | DM90: %%
A91: 계 | F91: =H91+J91+L91 -> 20850 | H91: =ROUNDDOWN(SUM(H89),0) -> 0 | J91: =ROUNDDOWN(SUM(J89),0) -> 20442 | L91: =ROUNDDOWN(SUM(L89),0) -> 408
A93: 제 14 호표 ：스테인레스강관 용접개소 (40A, STS316L) 개소 당 | DM93: :BM-WIT-040A
A94: 용접공 | C94: 0.084 | D94: 인 | E94: =G94+I94+K94 -> 286330 | F94: =H94+J94+L94 -> 24051.7 | G94: 0 | H94: =TRUNC(C94*G94,1) -> 0 | I94: =노임단가!K9 -> 286330 | J94: =TRUNC(C94*I94,1) -> 24051.7 | K94: 0 | L94: =TRUNC(C94*K94,1) -> 0 | DM94: W1012
A95: 용접봉 | B95: 3.2t (STS316L용) | C95: 0.04 | D95: ㎏ | E95: =G95+I95+K95 -> 18200 | F95: =H95+J95+L95 -> 728 | G95: =자재단가!R49 -> 18200 | H95: =TRUNC(C95*G95,1) -> 728 | I95: 0 | J95: =TRUNC(C95*I95,1) -> 0 | K95: 0 | L95: =TRUNC(C95*K95,1) -> 0 | DM95: MM-YNG-3.2T
A96: 아르곤가스 | B96: 99% | C96: 191 | D96: ℓ | E96: =G96+I96+K96 -> 7.04 | F96: =H96+J96+L96 -> 1344.6 | G96: =자재단가!R51 -> 7.04 | H96: =TRUNC(C96*G96,1) -> 1344.6 | I96: 0 | J96: =TRUNC(C96*I96,1) -> 0 | K96: 0 | L96: =TRUNC(C96*K96,1) -> 0 | DM96: MM-ARGON
A97: 기계경비 | B97: 인력품의 | C97: 4 | D97: % | E97: =G97+I97+K97 -> 24051.7 | F97: =H97+J97+L97 -> 962 | G97: =J94 -> 24051.7 | H97: =TRUNC(C97/100*G97,1) -> 962 | I97: 0 | J97: =TRUNC(C97/100*I97,1) -> 0 | K97: 0 | L97: =TRUNC(C97/100*K97,1) -> 0 | DM97: %RAN*LM | DN97: 1
A98: 기계품셈 1-3-1 | C98: 0 | E98: 0 | F98: 0 | G98: 0 | H98: 0 | I98: 0 | J98: 0 | K98: 0 | L98: 0 | DM98: %%
A99: 계 | F99: =H99+J99+L99 -> 27085 | H99: =ROUNDDOWN(SUM(H94:H98)-(H98),0) -> 3034 | J99: =ROUNDDOWN(SUM(J94:J98)-(J98),0) -> 24051 | L99: =ROUNDDOWN(SUM(L94:L98)-(L98),0) -> 0
A101: 제 15 호표 ：스테인레스강관 용접개소 (25A, STS316L) 개소 당 | DM101: :BM-WIT-025A
A102: 용접공 | C102: 0.066 | D102: 인 | E102: =G102+I102+K102 -> 286330 | F102: =H102+J102+L102 -> 18897.7 | G102: 0 | H102: =TRUNC(C102*G102,1) -> 0 | I102: =노임단가!K9 -> 286330 | J102: =TRUNC(C102*I102,1) -> 18897.7 | K102: 0 | L102: =TRUNC(C102*K102,1) -> 0 | DM102: W1012
A103: 용접봉 | B103: 3.2t (STS316L용) | C103: 0.02 | D103: ㎏ | E103: =G103+I103+K103 -> 18200 | F103: =H103+J103+L103 -> 364 | G103: =자재단가!R49 -> 18200 | H103: =TRUNC(C103*G103,1) -> 364 | I103: 0 | J103: =TRUNC(C103*I103,1) -> 0 | K103: 0 | L103: =TRUNC(C103*K103,1) -> 0 | DM103: MM-YNG-3.2T
A104: 아르곤가스 | B104: 99% | C104: 129 | D104: ℓ | E104: =G104+I104+K104 -> 7.04 | F104: =H104+J104+L104 -> 908.1 | G104: =자재단가!R51 -> 7.04 | H104: =TRUNC(C104*G104,1) -> 908.1 | I104: 0 | J104: =TRUNC(C104*I104,1) -> 0 | K104: 0 | L104: =TRUNC(C104*K104,1) -> 0 | DM104: MM-ARGON
A105: 기계경비 | B105: 인력품의 | C105: 4 | D105: % | E105: =G105+I105+K105 -> 18897.7 | F105: =H105+J105+L105 -> 755.9 | G105: =J102 -> 18897.7 | H105: =TRUNC(C105/100*G105,1) -> 755.9 | I105: 0 | J105: =TRUNC(C105/100*I105,1) -> 0 | K105: 0 | L105: =TRUNC(C105/100*K105,1) -> 0 | DM105: %RAN*LM | DN105: 1
A106: 기계품셈 1-3-1 | C106: 0 | E106: 0 | F106: 0 | G106: 0 | H106: 0 | I106: 0 | J106: 0 | K106: 0 | L106: 0 | DM106: %%
A107: 계 | F107: =H107+J107+L107 -> 20925 | H107: =ROUNDDOWN(SUM(H102:H106)-(H106),0) -> 2028 | J107: =ROUNDDOWN(SUM(J102:J106)-(J106),0) -> 18897 | L107: =ROUNDDOWN(SUM(L102:L106)-(L106),0) -> 0
A109: 제 16 호표 ：스테인레스강관 용접개소 (8A, STS316L) 개소 당 | DM109: :BM-WIT-008A
A110: 용접공 | C110: 0.04 | D110: 인 | E110: =G110+I110+K110 -> 286330 | F110: =H110+J110+L110 -> 11453.2 | G110: 0 | H110: =TRUNC(C110*G110,1) -> 0 | I110: =노임단가!K9 -> 286330 | J110: =TRUNC(C110*I110,1) -> 11453.2 | K110: 0 | L110: =TRUNC(C110*K110,1) -> 0 | DM110: W1012
A111: 용접봉 | B111: 3.2t (STS316L용) | C111: 0.007 | D111: ㎏ | E111: =G111+I111+K111 -> 18200 | F111: =H111+J111+L111 -> 127.4 | G111: =자재단가!R49 -> 18200 | H111: =TRUNC(C111*G111,1) -> 127.4 | I111: 0 | J111: =TRUNC(C111*I111,1) -> 0 | K111: 0 | L111: =TRUNC(C111*K111,1) -> 0 | DM111: MM-YNG-3.2T
A112: 아르곤가스 | B112: 99% | C112: 64 | D112: ℓ | E112: =G112+I112+K112 -> 7.04 | F112: =H112+J112+L112 -> 450.5 | G112: =자재단가!R51 -> 7.04 | H112: =TRUNC(C112*G112,1) -> 450.5 | I112: 0 | J112: =TRUNC(C112*I112,1) -> 0 | K112: 0 | L112: =TRUNC(C112*K112,1) -> 0 | DM112: MM-ARGON
A113: 기계경비 | B113: 인력품의 | C113: 4 | D113: % | E113: =G113+I113+K113 -> 11453.2 | F113: =H113+J113+L113 -> 458.1 | G113: =J110 -> 11453.2 | H113: =TRUNC(C113/100*G113,1) -> 458.1 | I113: 0 | J113: =TRUNC(C113/100*I113,1) -> 0 | K113: 0 | L113: =TRUNC(C113/100*K113,1) -> 0 | DM113: %RAN*LM | DN113: 1
A114: 기계품셈 1-3-1 | C114: 0 | E114: 0 | F114: 0 | G114: 0 | H114: 0 | I114: 0 | J114: 0 | K114: 0 | L114: 0 | DM114: %%
A115: 계 | F115: =H115+J115+L115 -> 12489 | H115: =ROUNDDOWN(SUM(H110:H114)-(H114),0) -> 1036 | J115: =ROUNDDOWN(SUM(J110:J114)-(J114),0) -> 11453 | L115: =ROUNDDOWN(SUM(L110:L114)-(L114),0) -> 0
A117: 제 17 호표 ：일반밸브 및 콕류설치 (40A) 개소 당 | DM117: :BM-VALVEA-040
...

Sheet 자재단가
A1: 자 재 단 가
A3: 품 명 | B3: 규 격 | C3: 단위 | D3: 가 격 정 보 | F3: 물 가 자 료 | H3: 물 가 정 보 | J3: 거 래 가 격 | L3: 유 통 물 가 | N3: 기 타 가 격 | P3: 단 가 | Q3: 낙찰율(%) | R3: 적용단가 | S3: 비 고
D4: 단 가 | E4: Page | F4: 단 가 | G4: Page | H4: 단 가 | I4: Page | J4: 단 가 | K4: Page | L4: 단 가 | M4: Page | N4: 단 가 | O4: Page
A5: 공업배관용 스테인레스강관 | B5: 50A x 3.0t, STS304 | C5: M | F5: 23610 | G5: 744 | H5: 24058 | I5: 701 | J5: 0 | L5: 0 | P5: =MIN(N5,H5,F5,D5) -> 23610 | Q5: 0 | R5: =IF(Q5=0,P5,TRUNC(Q5/100*P5,0)) -> 23610 | DM5: MM-PIT-050B
A6: 공업배관용 스테인레스강관 | B6: 25A x 3.0t, STS304 | C6: M | F6: 12740 | G6: 744 | H6: 14588 | I6: 701 | J6: 0 | L6: 0 | P6: =MIN(N6,H6,F6,D6) -> 12740 | Q6: 0 | R6: =IF(Q6=0,P6,TRUNC(Q6/100*P6,0)) -> 12740 | DM6: MM-PIT-025B
A7: 스테인레스강관 90˚엘보 | B7: 50A x 10S, STS304 | C7: M | F7: 13000 | G7: 745 | H7: 8536 | I7: 705 | J7: 0 | L7: 0 | P7: =MIN(N7,H7,F7,D7) -> 8536 | Q7: 0 | R7: =IF(Q7=0,P7,TRUNC(Q7/100*P7,0)) -> 8536 | DM7: MM-ELT-050C
A8: 스테인레스강관 45˚엘보 | B8: 50A x 10S, STS304 | C8: M | F8: 13000 | G8: 745 | H8: 8536 | I8: 705 | J8: 0 | L8: 0 | P8: =MIN(N8,H8,F8,D8) -> 8536 | Q8: 0 | R8: =IF(Q8=0,P8,TRUNC(Q8/100*P8,0)) -> 8536 | DM8: MM-ELT-050D
A9: 스테인레스강관 티이 | B9: 50A x 10S, STS304 | C9: EA | F9: 23300 | G9: 745 | H9: 15378 | I9: 705 | J9: 0 | L9: 0 | P9: =MIN(N9,H9,F9,D9) -> 15378 | Q9: 0 | R9: =IF(Q9=0,P9,TRUNC(Q9/100*P9,0)) -> 15378 | DM9: MM-TET-050A
A10: 스테인레스강관 티이 | B10: 50 x 25A x 10S, STS304 | C10: EA | F10: 23300 | G10: 745 | H10: 15378 | I10: 705 | J10: 0 | L10: 0 | P10: =MIN(N10,H10,F10,D10) -> 15378 | Q10: 0 | R10: =IF(Q10=0,P10,TRUNC(Q10/100*P10,0)) -> 15378 | DM10: MM-TET-050D
A11: 스테인레스 플랜지 | B11: 50A x 10K, STS304 | C11: EA | F11: 21920 | G11: 747 | H11: 19206 | I11: 704 | J11: 0 | L11: 0 | P11: =MIN(N11,H11,F11,D11) -> 19206 | Q11: 0 | R11: =IF(Q11=0,P11,TRUNC(Q11/100*P11,0)) -> 19206 | DM11: MM-FST-050B
A12: 스테인레스 플랜지 | B12: 25A x 10K, STS304 | C12: EA | F12: 15630 | G12: 747 | H12: 15576 | I12: 704 | J12: 0 | L12: 0 | P12: =MIN(N12,H12,F12,D12) -> 15576 | Q12: 0 | R12: =IF(Q12=0,P12,TRUNC(Q12/100*P12,0)) -> 15576 | DM12: MM-FST-025B
A13: 스테인레스 맹플랜지 | B13: 50A x 10K, STS304 | C13: EA | F13: 27750 | G13: 747 | H13: 31152 | I13: 704 | J13: 0 | L13: 0 | P13: =MIN(N13,H13,F13,D13) -> 27750 | Q13: 0 | R13: =IF(Q13=0,P13,TRUNC(Q13/100*P13,0)) -> 27750 | DM13: MM-FBT-050B
A14: 스테인레스 게이트밸브 | B14: 50A x 10K, STS304 | C14: EA | F14: 230000 | G14: 834 | H14: 31152 | I14: 704 | J14: 0 | L14: 0 | P14: =MIN(N14,H14,F14,D14) -> 31152 | Q14: 0 | R14: =IF(Q14=0,P14,TRUNC(Q14/100*P14,0)) -> 31152 | DM14: MM-GVT-050B
A15: 스테인레스 볼밸브 | B15: 25A, FL, 10K, STS304 | C15: EA | F15: 122000 | G15: 834 | J15: 0 | L15: 0 | P15: =MIN(N15,H15,F15,D15) -> 122000 | Q15: 0 | R15: =IF(Q15=0,P15,TRUNC(Q15/100*P15,0)) -> 122000 | DM15: MM-BVT-025D
A16: 스테인레스 고무코넥터 | B16: 25A, FL, 10K, STS304 | C16: EA | H16: 89000 | I16: 755 | J16: 0 | L16: 0 | P16: =MIN(N16,H16,F16,D16) -> 89000 | Q16: 0 | R16: =IF(Q16=0,P16,TRUNC(Q16/100*P16,0)) -> 89000 | DM16: MM-RCT-025B
A17: 공업배관용 스테인레스강관 | B17: 40A x 3.0t, STS316L | C17: M | F17: 37460 | G17: 744 | H17: 42916 | I17: 701 | J17: 0 | L17: 0 | P17: =MIN(N17,H17,F17,D17) -> 37460 | Q17: 0 | R17: =IF(Q17=0,P17,TRUNC(Q17/100*P17,0)) -> 37460 | S17: 304 x 2 | DM17: MM-PIT-040A
A18: 공업배관용 스테인레스강관 | B18: 25A x 3.0t, STS316L | C18: M | F18: 25480 | G18: 744 | H18: 29176 | I18: 701 | J18: 0 | L18: 0 | P18: =MIN(N18,H18,F18,D18) -> 25480 | Q18: 0 | R18: =IF(Q18=0,P18,TRUNC(Q18/100*P18,0)) -> 25480 | S18: 304 x 2 | DM18: MM-PIT-025A
A19: 공업배관용 스테인레스강관 | B19: 15A x 3.0t, STS316L | C19: M | F19: 16100 | G19: 744 | H19: 18436 | I19: 701 | J19: 0 | L19: 0 | P19: =MIN(N19,H19,F19,D19) -> 16100 | Q19: 0 | R19: =IF(Q19=0,P19,TRUNC(Q19/100*P19,0)) -> 16100 | S19: 304 x 2 | DM19: MM-PIT-015A
A20: 스테인레스강관 90˚엘보 | B20: 25A x 10S, STS316L | C20: EA | F20: 10000 | G20: 745 | H20: 7216 | I20: 705 | J20: 0 | L20: 0 | P20: =MIN(N20,H20,F20,D20) -> 7216 | Q20: 0 | R20: =IF(Q20=0,P20,TRUNC(Q20/100*P20,0)) -> 7216 | S20: 304 x 2 | DM20: MM-ELT-025A
A21: 스테인레스강관 티이 | B21: 25A x 10S, STS316L | C21: EA | F21: 19400 | G21: 745 | H21: 14026 | I21: 705 | J21: 0 | L21: 0 | P21: =MIN(N21,H21,F21,D21) -> 14026 | Q21: 0 | R21: =IF(Q21=0,P21,TRUNC(Q21/100*P21,0)) -> 14026 | S21: 304 x 2 | DM21: MM-TET-025A
A22: 스테인레스강관 중심레듀샤 | B22: 40 x 25A x 10S, STS316L | C22: EA | F22: 12600 | G22: 745 | H22: 9834 | I22: 706 | J22: 0 | L22: 0 | P22: =MIN(N22,H22,F22,D22) -> 9834 | Q22: 0 | R22: =IF(Q22=0,P22,TRUNC(Q22/100*P22,0)) -> 9834 | S22: 304 x 2 | DM22: MM-RCT-040A
A23: 스테인레스 플랜지 | B23: 40A x 10K, STS316L | C23: EA | F23: 35900 | G23: 747 | H23: 32736 | I23: 704 | J23: 0 | L23: 0 | P23: =MIN(N23,H23,F23,D23) -> 32736 | Q23: 0 | R23: =IF(Q23=0,P23,TRUNC(Q23/100*P23,0)) -> 32736 | S23: 304 x 2 | DM23: MM-FST-040A
A24: 스테인레스 플랜지 | B24: 25A x 10K, STS316L | C24: EA | F24: 31260 | G24: 747 | H24: 31152 | I24: 704 | J24: 0 | L24: 0 | P24: =MIN(N24,H24,F24,D24) -> 31152 | Q24: 0 | R24: =IF(Q24=0,P24,TRUNC(Q24/100*P24,0)) -> 31152 | S24: 304 x 2 | DM24: MM-FST-025A
A25: 스테인레스 맹플랜지 | B25: 25A x 10K, STS316L | C25: EA | F25: 36380 | G25: 747 | H25: 38808 | I25: 704 | J25: 0 | L25: 0 | P25: =MIN(N25,H25,F25,D25) -> 36380 | Q25: 0 | R25: =IF(Q25=0,P25,TRUNC(Q25/100*P25,0)) -> 36380 | S25: 304 x 2 | DM25: MM-FBT-025A
A26: 스테인레스강관 90˚엘보 | B26: 15A, SCR, STS316L | C26: EA | F26: 3902 | G26: 750 | J26: 0 | L26: 0 | P26: =MIN(N26,H26,F26,D26) -> 3902 | Q26: 0 | R26: =IF(Q26=0,P26,TRUNC(Q26/100*P26,0)) -> 3902 | S26: 304 x 2 | DM26: MM-ELT-015A
A27: 스테인레스강관 니쁠 | B27: 40A, SCR, STS316L | C27: EA | F27: 26546 | G27: 750 | H27: 9520 | I27: 666 | J27: 0 | L27: 0 | P27: =MIN(N27,H27,F27,D27) -> 9520 | Q27: 0 | R27: =IF(Q27=0,P27,TRUNC(Q27/100*P27,0)) -> 9520 | S27: 304 x 2 | DM27: MM-NIT-040A
A28: 스테인레스강관 니쁠 | B28: 25A, SCR, STS316L | C28: EA | F28: 13380 | G28: 750 | H28: 6460 | I28: 666 | J28: 0 | L28: 0 | P28: =MIN(N28,H28,F28,D28) -> 6460 | Q28: 0 | R28: =IF(Q28=0,P28,TRUNC(Q28/100*P28,0)) -> 6460 | S28: 304 x 2 | DM28: MM-NIT-025A
A29: 스테인레스강관 니쁠 | B29: 15A, SCR, STS316L | C29: EA | F29: 7250 | G29: 750 | H29: 3680 | I29: 666 | J29: 0 | L29: 0 | P29: =MIN(N29,H29,F29,D29) -> 3680 | Q29: 0 | R29: =IF(Q29=0,P29,TRUNC(Q29/100*P29,0)) -> 3680 | S29: 304 x 2 | DM29: MM-NIT-015A
A30: 스테인레스강관 니쁠 | B30: 8A, SCR, STS316L | C30: EA | F30: 4364 | G30: 750 | H30: 4180 | I30: 666 | J30: 0 | L30: 0 | P30: =MIN(N30,H30,F30,D30) -> 4180 | Q30: 0 | R30: =IF(Q30=0,P30,TRUNC(Q30/100*P30,0)) -> 4180 | S30: 304 x 2 | DM30: MM-NIT-008A
A31: 스테인레스강관 유니온 | B31: 40A, SCR, STS316L | C31: EA | F31: 52192 | G31: 750 | J31: 0 | L31: 0 | P31: =MIN(N31,H31,F31,D31) -> 52192 | Q31: 0 | R31: =IF(Q31=0,P31,TRUNC(Q31/100*P31,0)) -> 52192 | S31: 304 x 2 | DM31: MM-UNT-040A
A32: 스테인레스강관 유니온 | B32: 25A, SCR, STS316L | C32: EA | F32: 26934 | G32: 750 | J32: 0 | L32: 0 | P32: =MIN(N32,H32,F32,D32) -> 26934 | Q32: 0 | R32: =IF(Q32=0,P32,TRUNC(Q32/100*P32,0)) -> 26934 | S32: 304 x 2 | DM32: MM-UNT-025A
A33: 스테인레스 볼밸브 | B33: 40A, SCR, STS316L | C33: EA | F33: 96000 | G33: 834 | J33: 0 | L33: 0 | P33: =MIN(N33,H33,F33,D33) -> 96000 | Q33: 0 | R33: =IF(Q33=0,P33,TRUNC(Q33/100*P33,0)) -> 96000 | S33: 304 x 2 | DM33: MM-BVT-040A
A34: 스테인레스 볼밸브 | B34: 25A, SCR, STS316L | C34: EA | F34: 56000 | G34: 834 | J34: 0 | L34: 0 | P34: =MIN(N34,H34,F34,D34) -> 56000 | Q34: 0 | R34: =IF(Q34=0,P34,TRUNC(Q34/100*P34,0)) -> 56000 | S34: 304 x 2 | DM34: MM-BVT-025A
A35: 스테인레스 볼밸브 | B35: 15A, SCR, STS316L | C35: EA | F35: 40000 | G35: 834 | J35: 0 | L35: 0 | P35: =MIN(N35,H35,F35,D35) -> 40000 | Q35: 0 | R35: =IF(Q35=0,P35,TRUNC(Q35/100*P35,0)) -> 40000 | S35: 304 x 2 | DM35: MM-BVT-015A
A36: 스테인레스 볼밸브 | B36: 8A, SCR, STS316L | C36: EA | F36: 40000 | G36: 834 | J36: 0 | L36: 0 | P36: =MIN(N36,H36,F36,D36) -> 40000 | Q36: 0 | R36: =IF(Q36=0,P36,TRUNC(Q36/100*P36,0)) -> 40000 | S36: 304 x 2 | DM36: MM-BVT-008A
A37: 스테인레스 체크밸브 | B37: 25A, SCR, STS316L | C37: EA | F37: 150000 | G37: 834 | H37: 1880000 | I37: 779 | J37: 0 | L37: 0 | P37: =MIN(N37,H37,F37,D37) -> 150000 | Q37: 0 | R37: =IF(Q37=0,P37,TRUNC(Q37/100*P37,0)) -> 150000 | S37: 304 x 2 | DM37: MM-CVT-025A
A38: 스테인레스 고무코넥터 | B38: 25A, FL, 10K, STS316L | C38: EA | H38: 178000 | I38: 755 | J38: 0 | L38: 0 | P38: =MIN(N38,H38,F38,D38) -> 178000 | Q38: 0 | R38: =IF(Q38=0,P38,TRUNC(Q38/100*P38,0)) -> 178000 | S38: 304 x 2 | DM38: MM-RCT-025A
A39: SILICON제 고무호스 | B39: 8A | C39: M | F39: 1823 | G39: 1420 | J39: 0 | L39: 0 | P39: =MIN(N39,H39,F39,D39) -> 1823 | Q39: 0 | R39: =IF(Q39=0,P39,TRUNC(Q39/100*P39,0)) -> 1823 | DM39: MM-PIR-008A
A40: 스테인레스강관 니쁠 | B40: 8A, 나사식, STS304 | C40: EA | F40: 2182 | G40: 750 | H40: 2090 | I40: 666 | J40: 0 | L40: 0 | P40: =MIN(N40,H40,F40,D40) -> 2090 | Q40: 0 | R40: =IF(Q40=0,P40,TRUNC(Q40/100*P40,0)) -> 2090 | DM40: MM-NIT-008B
A41: 스테인레스 볼밸브 | B41: 8A, SCR, STS304 | C41: EA | F41: 20000 | G41: 834 | J41: 0 | L41: 0 | P41: =MIN(N41,H41,F41,D41) -> 20000 | Q41: 0 | R41: =IF(Q41=0,P41,TRUNC(Q41/100*P41,0)) -> 20000 | DM41: MM-BVT-008B
A42: 스테인레스 파이프클램프 | B42: 8A, STS304 | C42: EA | F42: 5860 | G42: 719 | H42: 6180 | I42: 669 | J42: 0 | L42: 0 | P42: =MIN(N42,H42,F42,D42) -> 5860 | Q42: 0 | R42: =IF(Q42=0,P42,TRUNC(Q42/100*P42,0)) -> 5860 | DM42: MM-POC-008A
A43: 스테인레스 육각볼트 | B43: M16 x L60 | C43: EA | F43: 1242 | G43: 48 | H43: 1351 | I43: 41 | J43: 0 | L43: 0 | P43: =MIN(N43,H43,F43,D43) -> 1242 | Q43: 0 | R43: =IF(Q43=0,P43,TRUNC(Q43/100*P43,0)) -> 1242 | DM43: MM-BLT-16-60
A44: 스테인레스 육각너트 | B44: M16 | C44: EA | F44: 482.5 | G44: 51 | H44: 291.5 | I44: 39 | J44: 0 | L44: 0 | P44: =MIN(N44,H44,F44,D44) -> 291.5 | Q44: 0 | R44: =IF(Q44=0,P44,TRUNC(Q44/100*P44,0)) -> 291.5 | DM44: MM-NTT-16
A45: 스테인레스 평와셔 | B45: M16 | C45: EA | F45: 106.58 | G45: 48 | H45: 101.8 | I45: 43 | J45: 0 | L45: 0 | P45: =MIN(N45,H45,F45,D45) -> 101.8 | Q45: 0 | R45: =IF(Q45=0,P45,TRUNC(Q45/100*P45,0)) -> 101.8 | DM45: MM-WST-16
A46: 고무가스켓 | B46: 50A | C46: EA | H46: 780 | I46: 763 | J46: 0 | L46: 0 | P46: =MIN(N46,H46,F46,D46) -> 780 | Q46: 0 | R46: =IF(Q46=0,P46,TRUNC(Q46/100*P46,0)) -> 780 | DM46: MM-RGK-050
A47: 고무가스켓 | B47: 40A | C47: EA | H47: 630 | I47: 763 | J47: 0 | L47: 0 | P47: =MIN(N47,H47,F47,D47) -> 630 | Q47: 0 | R47: =IF(Q47=0,P47,TRUNC(Q47/100*P47,0)) -> 630 | DM47: MM-RGK-040
A48: 고무가스켓 | B48: 25A | C48: EA | H48: 460 | I48: 763 | J48: 0 | L48: 0 | P48: =MIN(N48,H48,F48,D48) -> 460 | Q48: 0 | R48: =IF(Q48=0,P48,TRUNC(Q48/100*P48,0)) -> 460 | DM48: MM-RGK-025
A49: 용접봉 | B49: 3.2t (STS316L용) | C49: ㎏ | F49: 18200 | G49: 1387 | H49: 20530 | I49: 1045 | J49: 0 | L49: 0 | P49: =MIN(N49,H49,F49,D49) -> 18200 | Q49: 0 | R49: =IF(Q49=0,P49,TRUNC(Q49/100*P49,0)) -> 18200 | DM49: MM-YNG-3.2T
A50: 용접봉 | B50: 3.2t (STS304용) | C50: ㎏ | F50: 14290 | G50: 1387 | H50: 18000 | I50: 1045 | J50: 0 | L50: 0 | P50: =MIN(N50,H50,F50,D50) -> 14290 | Q50: 0 | R50: =IF(Q50=0,P50,TRUNC(Q50/100*P50,0)) -> 14290 | DM50: MM-YNG-3.2TT
A51: 아르곤가스 | B51: 99% | C51: ℓ | F51: 7.04 | G51: 부록33 | J51: 0 | L51: 0 | P51: =MIN(N51,H51,F51,D51) -> 7.04 | Q51: 0 | R51: =IF(Q51=0,P51,TRUNC(Q51/100*P51,0)) -> 7.04 | DM51: MM-ARGON
A52: 레미콘 | B52: 무근콘크리트 | C52: ㎥ | F52: 211500 | G52: 71 | H52: 207020 | I52: 58 | J52: 0 | L52: 0 | P52: =MIN(N52,H52,F52,D52) -> 207020 | Q52: 0 | R52: =IF(Q52=0,P52,TRUNC(Q52/100*P52,0)) -> 207020 | DM52: M210502840
A53: 합판 (내수) | B53: 12mm x 1220mm x 2440mm | C53: ㎡ | F53: 16000 | G53: 622 | J53: 0 | L53: 0 | P53: =MIN(N53,H53,F53,D53) -> 16000 | Q53: 0 | R53: =IF(Q53=0,P53,TRUNC(Q53/100*P53,0)) -> 16000 | DM53: M210502850
A54: 각재 | B54: 외송 (30.0 x 30.0 x 3600) | C54: ㎥ | F54: 868263 | G54: 98 | J54: 0 | L54: 0 | P54: =MIN(N54,H54,F54,D54) -> 868263 | Q54: 0 | R54: =IF(Q54=0,P54,TRUNC(Q54/100*P54,0)) -> 868263 | DM54: M210502851
A55: RM-801 MF 필터 | B55: STS316L제 챔버형, D236mm x H980mm (5㎛, 20") | C55: 대 | J55: 0 | L55: 0 | N55: =단가대비표!H6 -> 11000000 | O55: 견적 | P55: =MIN(N55,H55,F55,D55) -> 11000000 | Q55: 0 | R55: =IF(Q55=0,P55,TRUNC(Q55/100*P55,0)) -> 11000000 | S55: 공법사 공급분 VAT 포함 | DM55: MM-RM-801
A56: RM-802 RO 고압펌프 | B56: 입형다단펌프, 5.4㎥/hr x 500mH, 15kW | C56: 대 | J56: 0 | L56: 0 | N56: =단가대비표!H7 -> 34500000 | O56: 견적 | P56: =MIN(N56,H56,F56,D56) -> 34500000 | Q56: 0 | R56: =IF(Q56=0,P56,TRUNC(Q56/100*P56,0)) -> 34500000 | S56: 도급분 VAT별도 | DM56: MM-RM-802
A57: RM-803 RO 유니트 A | B57: STS316L제 역삼투막 베셀압력형, 4"-6단, 1,000psi | C57: 대 | J57: 0 | L57: 0 | N57: =단가대비표!H8 -> 38750000 | O57: 견적 | P57: =MIN(N57,H57,F57,D57) -> 38750000 | Q57: 0 | R57: =IF(Q57=0,P57,TRUNC(Q57/100*P57,0)) -> 38750000 | S57: 공법사 공급분 VAT 포함 | DM57: MM-RM-803
A58: RM-803 RO 유니트 B | B58: STS316L제 역삼투막 베셀압력형, 4"-6단, 1,000psi | C58: 대 | J58: 0 | L58: 0 | N58: =단가대비표!H9 -> 38750000 | O58: 견적 | P58: =MIN(N58,H58,F58,D58) -> 38750000 | Q58: 0 | R58: =IF(Q58=0,P58,TRUNC(Q58/100*P58,0)) -> 38750000 | S58: 공법사 공급분 VAT 포함 | DM58: MM-RM-804
A59: RM-805 현장제어반 | B59: STS제 옥외형 이중 도어, PLC 내장형 | C59: 대 | J59: 0 | L59: 0 | N59: =단가대비표!H10 -> 125000000 | O59: 견적 | P59: =MIN(N59,H59,F59,D59) -> 125000000 | Q59: 0 | R59: =IF(Q59=0,P59,TRUNC(Q59/100*P59,0)) -> 125000000 | S59: 공법사 공급분 VAT 포함 | DM59: MM-RM-805
A60: RM-806 3차처리수 저장탱크 | B60: PE제 원통형 탱크, 2.0㎥ | C60: 대 | J60: 0 | L60: 0 | N60: =단가대비표!H11 -> 3250000 | O60: 견적 | P60: =MIN(N60,H60,F60,D60) -> 3250000 | Q60: 0 | R60: =IF(Q60=0,P60,TRUNC(Q60/100*P60,0)) -> 3250000 | S60: 도급분 VAT별도 | DM60: MM-RM-806
A61: RM-807 MF 공급펌프 | B61: 입형다단펌프, 5.4㎥/hr x 30mH, 1.1kW | C61: 대 | J61: 0 | L61: 0 | N61: =단가대비표!H12 -> 5200000 | O61: 견적 | P61: =MIN(N61,H61,F61,D61) -> 5200000 | Q61: 0 | R61: =IF(Q61=0,P61,TRUNC(Q61/100*P61,0)) -> 5200000 | S61: 도급분 VAT별도 | DM61: MM-RM-807
A62: RM-808 3차처리수 절환밸브 | B62: STS316L제 전동 볼밸브, 25A x 10K, 0.4kW | C62: 대 | J62: 0 | L62: 0 | N62: =단가대비표!H13 -> 2695000 | O62: 견적 | P62: =MIN(N62,H62,F62,D62) -> 2695000 | Q62: 0 | R62: =IF(Q62=0,P62,TRUNC(Q62/100*P62,0)) -> 2695000 | S62: 도급분 VAT별도 | DM62: MM-RM-808

Sheet 노임단가
A1: 노 임 단 가
A3: 번호 | B3: 직 종 명 | C3: 단위 | D3: 건 설 협 회 | F3: 조 달 청 | H3: 기타단가 | I3: 단 가 | J3: 낙찰율(%) | K3: 적용단가 | L3: 비 고
D4: 상반기 | E4: 하반기 | F4: 상반기 | G4: 하반기
A5: 1 | B5: 보통인부 | C5: 인 | D5: 172068 | E5: 172698 | F5: 0 | G5: 0 | H5: 0 | I5: =E5 -> 172698 | J5: 0 | K5: =IF(J5=0,I5,TRUNC(J5/100*I5,0)) -> 172698 | L5: 일반공사 직종 | DM5: W1002
A6: 2 | B6: 특별인부 | C6: 인 | D6: 226122 | E6: 228717 | F6: 0 | G6: 0 | H6: 0 | I6: =E6 -> 228717 | J6: 0 | K6: =IF(J6=0,I6,TRUNC(J6/100*I6,0)) -> 228717 | L6: 일반공사 직종 | DM6: W1003
A7: 3 | B7: 비계공 | C7: 인 | D7: 281939 | E7: 284440 | F7: 0 | G7: 0 | H7: 0 | I7: =E7 -> 284440 | J7: 0 | K7: =IF(J7=0,I7,TRUNC(J7/100*I7,0)) -> 284440 | L7: 일반공사 직종 | DM7: W1006
A8: 4 | B8: 형틀목공 | C8: 인 | D8: 275790 | E8: 275379 | F8: 0 | G8: 0 | H8: 0 | I8: =E8 -> 275379 | J8: 0 | K8: =IF(J8=0,I8,TRUNC(J8/100*I8,0)) -> 275379 | L8: 일반공사 직종 | DM8: W1007
A9: 5 | B9: 용접공 | C9: 인 | D9: 282536 | E9: 286330 | F9: 0 | G9: 0 | H9: 0 | I9: =E9 -> 286330 | J9: 0 | K9: =IF(J9=0,I9,TRUNC(J9/100*I9,0)) -> 286330 | L9: 일반공사 직종 | DM9: W1012
A10: 6 | B10: 콘크리트공 | C10: 인 | D10: 273540 | E10: 276285 | F10: 0 | G10: 0 | H10: 0 | I10: =E10 -> 276285 | J10: 0 | K10: =IF(J10=0,I10,TRUNC(J10/100*I10,0)) -> 276285 | L10: 일반공사 직종 | DM10: W1013
A11: 7 | B11: 배관공 | C11: 인 | D11: 247897 | E11: 249073 | F11: 0 | G11: 0 | H11: 0 | I11: =E11 -> 249073 | J11: 0 | K11: =IF(J11=0,I11,TRUNC(J11/100*I11,0)) -> 249073 | L11: 일반공사 직종 | DM11: W1039
A12: 8 | B12: 건설기계운전사 | C12: 인 | D12: 283297 | E12: 283323 | F12: 0 | G12: 0 | H12: 0 | I12: =E12 -> 283323 | J12: 0 | K12: =IF(J12=0,I12,TRUNC(J12/100*I12,0)) -> 283323 | L12: 일반공사 직종 | DM12: W1048
A13: 9 | B13: 기계설비공 | C13: 인 | D13: 241698 | E13: 242647 | F13: 0 | G13: 0 | H13: 0 | I13: =E13 -> 242647 | J13: 0 | K13: =IF(J13=0,I13,TRUNC(J13/100*I13,0)) -> 242647 | L13: 일반공사 직종 | DM13: W1051
A14: 10 | B14: 플랜트기계설치공 | C14: 인 | D14: 230376 | E14: 234041 | F14: 0 | G14: 0 | H14: 0 | I14: =E14 -> 234041 | J14: 0 | K14: =IF(J14=0,I14,TRUNC(J14/100*I14,0)) -> 234041 | L14: 일반공사 직종 | DM14: W1060

Sheet 단가대비표
A1: 견 적 대 비 표
A2: 공사명 : | I2: VAT포함
A3: 품 목 | B3: 규격 | C3: 단위 | D3: 견적 A | E3: 견적 B | F3: 견적 C | G3: 견적 D | H3: 적용단가 | I3: 비 고 | J3: 품목구분 | K3: 노임구분
D4: 단가 | E4: 단가 | F4: 단가
A5: 가. 고압 RO설비 (신설)
A6: RM-801 MF 필터 | B6: STS316L제 챔버형 D200mm x H750mm (5㎛, 20") | C6: 대 | D6: 11000000 | H6: =D6 -> 11000000 | I6: 공법사 공급분 VAT 포함
A7: RM-802 RO 고압펌프 | B7: STS316L제 입형 다단펌프 (VVVF) 2.5m/hr × 430mH, 15kW | C7: 대 | D7: 34500000 | E7: 45000000 | H7: =D7 -> 34500000 | I7: 도급분 VAT별도
A8: RM-803 RO 유니트 A | B8: STS316L제 역삼투막 베셀압력형 4"-4단, 1,000psi | C8: 대 | D8: 38750000 | H8: =D8 -> 38750000 | I8: 공법사 공급분 VAT 포함
A9: RM-804 RO 유니트 B | B9: STS316L제 역삼투막 베셀압력형 4"-4단, 1,000psi | C9: 대 | D9: 38750000 | H9: =D9 -> 38750000 | I9: 공법사 공급분 VAT 포함
A10: RM-805 현장제어반 | B10: STS제 옥외형 이중 도어 PLC 내장형 | C10: 대 | D10: 125000000 | H10: =D10 -> 125000000 | I10: 공법사 공급분 VAT 포함
A11: RM-806 3차처리수 저장탱크 | B11: PE제 원통형 탱크 2.0㎥ | C11: 대 | D11: 3250000 | E11: 3400000 | F11: 3500000 | H11: =D11 -> 3250000 | I11: 도급분 VAT별도
A12: RM-807 CF 공급펌프 | B12: STS316L제 입형 다단펌프 2.5m/hr × 30mH, 1.5kW | C12: 대 | D12: 5200000 | E12: 6320000 | H12: =D12 -> 5200000 | I12: 도급분 VAT별도
A13: RM-808 3차처리수 절환밸브 | B13: STS316L제 전동 볼밸브 25A x 10K, 0.4kW | C13: 대 | D13: 2695000 | E13: 2816000 | F13: 2937000 | H13: =D13 -> 2695000 | I13: 도급분 VAT별도
