Workbook

Sheet 1. 공사기간 산출표(총괄표)
A1: 1. 공공 건설공사 공사기간 산정표(총괄표)
A2: 1. 공사개요
A3: 공사명 | C3: 규모 | D3: 착공(예정)일 | E3: 준공(예정)일 | F3: 공사기간
A4: 동성중 체육관(펜싱장) 전면 보수공사 | C4: 지상1층 | D4: 46327 | E4: =D4+F4 -> 46477 | F4: =C14 -> 150
A6: 2. 공사기간 산정
A7: No. | B7: 구분 | C7: 일수 | D7: 개월 | E7: 기준
A8: 1 | B8: 준비기간 | C8: ='2. 작업일수'!I4+'2. 작업일수'!I5+'2. 작업일수'!I6 -> 10 | D8: =ROUND(C8/30,0) -> 0 | E8: 제6조(준비기간 산정)
A9: 2 | B9: 비작업일수 | C9: =D22 -> 41 | D9: =ROUND(C9/30,0) -> 1 | E9: 제7조(비작업일수)
E10: 제8조(법정 공휴일수 계산)
E11: 제9조(기후여건으로 인한 비작업일수)
A12: 3 | B12: 작업일수 | C12: =C22 -> 84 | D12: =ROUND(C12/30,0) -> 3 | E12: 제10조(작업일수)
A13: 4 | B13: 정리기간 | C13: ='2. 작업일수'!I30+'2. 작업일수'!I29 -> 15 | D13: =ROUND(C13/30,0) -> 1 | E13: 제11조(정리기간 산정), 시운전 포함
A14: 합계 | B14: 공사기간 | C14: =SUM(C8:C13) -> 150 | D14: =SUM(D8:D13) -> 5
A16: 3. 작업일수 및 비작업일수 산정
A17: No. | B17: 주공정 | C17: 작업일수 | D17: 비작업일수 | E17: 비고
A18: 1 | B18: 토목(터파기, 흙막이)공사 | C18: ='2. 작업일수'!I7+'2. 작업일수'!I8+'2. 작업일수'!I9 -> 0 | D18: ='3. 비작업일수'!N5 -> 41
A19: 2 | B19: 골조공사 | C19: ='2. 작업일수'!I10+'2. 작업일수'!I11+'2. 작업일수'!I12+'2. 작업일수'!I13+'2. 작업일수'!I14+'2. 작업일수'!I15+'2. 작업일수'!I16+'2. 작업일수'!I17+'2. 작업일수'!I18+'2. 작업일수'!I19+'2. 작업일수'!I20+'2. 작업일수'!I21 -> 0
A20: 3 | B20: 마감공사 | C20: ='2. 작업일수'!I22+'2. 작업일수'!I23+'2. 작업일수'!I24+'2. 작업일수'!I25+'2. 작업일수'!I26 -> 84
A21: 5 | B21: 토목 및 조경공사 | C21: ='2. 작업일수'!I27+'2. 작업일수'!I28 -> 0
A22: 합 계 | C22: =SUM(C18:C21) -> 84 | D22: =SUM(D18:D21) -> 41
A24: ※작성요령 1. 법정 공휴일수(시트3)를 활용하여 비작업일수 산정 → 년도 추가시 공휴일 및 달력일수만 수정(※그 외 수정 금지) → 기상일수는 월평균 데이터이므로 고정값 2. 작업일수(시트2)에서 해당되는 공종을 활성화하여 작업일 수 산정(사업별 현황에 맞게 수정 가능) → 작성방법을 참고하여 터파기, 지하층수등 자료 입력 → 필요시 조정값을 이용하여 공종별 작업일 수 조정 → 사업 특성에 따라 추가되는 공종이 있을 경우 작업일수(시트2) 표에 추가하여 공사기간 산출 ex. 성토, 암파쇄, 콘크리트 평지붕, 내장공사(층당), 도장공사(층당) 등 현장여건을 고려하여 산출
A26: ※ 설계자 공사기간 산정자료 별도 첨부

Sheet 2. 작업일수
A1: 2. 공사기간(작업일수) 산정(예시)
A3: 구분 | D3: 공종 | F3: 기준 | G3: 기준(일) | H3: 해당여부 (1,0) | I3: 공사기간 (일) | J3: 비고 | K3: 조정값 | L3: ※ 입력자료
A4: 공사준비 | D4: 착공 등 | F4: 10억원 미만 | G4: 10 | H4: 1 | I4: =G4*H4+K4 -> 10 | M4: 터파기 | N4: 흙막이 | O4: 지하층 | P4: 동절기보정 | Q4: 마감공사 | R4: 골조공사 3층이상 | S4: 비고
F5: 10억원 이상 | G5: 20 | H5: 0 | I5: =G5*H5+K5 -> 0 | M5: 1 | N5: 1 | O5: 1 | Q5: 1 | S5: 1
F6: 안전관리계획서 제출 대상 | G6: 45 | H6: 0 | I6: =G6*H6+K6 -> 0 | J6: 준비기간 | L6: 층수 | M6: 0 | N6: 0 | O6: 0 | P6: 0 | Q6: 3 | R6: 0
A7: 토목공사 | D7: 터파기 | F7: 지하1층당 | G7: 10 | H7: 0 | I7: =G7*H7+K7 -> 0 | J7: 작업기간
D8: 흙막이 | F8: 자립식, 1층당 | G8: 10 | H8: 0 | I8: =G8*H8*N6+K8 -> 0 | L8: ※작성요령
F9: 어스앵커, 1층당 | G9: 20 | H9: 0 | I9: =G9*H9*N6+K9 -> 0 | L9: 1. 터파기, 흙막이, 지하층
A10: 건축 | B10: 기초공사 | D10: 파일기초 | F10: 깊이15m 이하 선굴착말뚝공법 | G10: 20 | H10: 0 | I10: =G10*H10+K10 -> 0 | J10: 작업기간 | L10: → 지하1층당 층수 1입력("예시" 지하2층=2입력)
F11: 깊이15m 이상 선굴착말뚝공법 | G11: 80 | H11: 0 | I11: =G11*H11+K11 -> 0 | L11: 2. 동절기보정, 마감공사
D12: 지지력시험 | G12: 5 | H12: 0 | I12: =G12*H12+K12 -> 0 | J12: 작업기간 | L12: → 층당 1입력("예시" 5층= 5입력)
B13: 골 조 공 사 | C13: 지 하 층 | D13: 지하층 | F13: 지하1층당 | G13: 31 | H13: 0 | I13: =G13*H13*O6+K13 -> 0 | L13: 3. 골조공사(3층이상)
D14: 지하주차장 | F14: 1개층 주차대수 150대 미만 | G14: 10 | H14: 0 | I14: =(G14*H14*O6)+K14 -> 0 | L14: → 3층이상 층당 1입력("예시" 4층=2입력, 5층=3입력)
F15: 1개층 주차대수 150대 이상 | G15: 20 | H15: 0 | I15: =(G15*H15*O6)+K15 -> 0
C16: 지 상 층 | D16: 골조 | E16: 1층 | F16: 1층 | G16: 20 | H16: 0 | I16: =G16*H16+K16 -> 0 | J16: 작업기간
E17: 2층이상 | F17: 2층 | G17: 10 | H17: 0 | I17: =G17*H17+K17 -> 0 | J17: 작업기간
F18: 3층이상(층당) | G18: 9 | H18: 0 | I18: =G18*H18*R6+K18 -> 0 | J18: 작업기간
E19: 동절기보정 | F19: 층당 | G19: 1 | H19: 0 | I19: =G19*H19*P6+K19 -> 0
E20: 지붕 | F20: 콘크리트 경사지붕 | G20: 15 | H20: 0 | I20: =G20*H20+K20 -> 0 | J20: 작업기간
F21: 철골경사지붕 | G21: 10 | H21: 0 | I21: =G21*H21+K21 -> 0 | J21: 작업기간
B22: 마감공사 | F22: 조적 및 미장 공사, 층당 | G22: 8 | H22: 1 | I22: =G22*H22*Q6+K22 -> 24 | J22: 작업기간
F23: 금속공사, 층당 | G23: 8 | H23: 1 | I23: =G23*H23*Q6+K23 -> 24 | J23: 작업기간
F24: 창호공사, 층당 | G24: 6 | H24: 1 | I24: =G24*H24*Q6+K24 -> 18 | J24: 작업기간
F25: 방수공사, 층당 | G25: 4 | H25: 1 | I25: =G25*H25*Q6+K25 -> 12 | J25: 작업기간
F26: 타일공사, 층당 | G26: 2 | H26: 1 | I26: =G26*H26*Q6+K26 -> 6 | J26: 작업기간
A27: 토목, 조경공사 | F27: 토목공사: 건축공사 완료 후 | G27: 15 | H27: 0 | I27: =G27*H27+K27 -> 0 | J27: 작업기간
F28: 조경공사: 토목공사 완료 후 | G28: 15 | H28: 0 | I28: =G28*H28+K28 -> 0
A29: 정리기간 | E29: 준공 등 | F29: 10억원 미만 | G29: 15 | H29: 1 | I29: =G29*H29+K29 -> 15
F30: 10억원 이상 | G30: 30 | H30: 0 | I30: =G30*H30+K30 -> 0 | J30: 정리기간
A31: 계 | I31: =SUM(I4:I30) -> 109 | K31: =SUM(K4:K30) -> 0

Sheet 3. 비작업일수
A1: 3. 공사기간(비작업일수) 산정(예시)
A2: ○ 2026년
A3: 구분 | B3: 기온Ⅰ -12℃이하 | C3: 기온Ⅱ 35℃이상 | D3: 강우 10mm이상 | E3: 적설 5cm이상 | F3: 소계 [A] (기상일수) | G3: 공휴일 [B] | H3: 중복일 [C=A*B/달력일수] | I3: 공사불능일 [A+B-C] | J3: 비작업일수 | K3: 월간 작업 가능일 | L3: 달력일수 | N3: 공사기간에 따른 비작업일 수
A4: 1월 | B4: 2.9 | C4: 0 | D4: 0.2 | E4: 0.4 | F4: =B4+C4++D4+E4 -> 3.5 | G4: 5 | H4: =ROUND(F4*G4/L4,0) -> 1 | I4: =ROUND(F4+G4-H4,0) -> 8 | J4: =IF(I4>8,I4,8) -> 8 | K4: =L4-J4 -> 23 | L4: 31
A5: 2월 | B5: 0.9 | C5: 0 | D5: 0.9 | E5: 0.2 | F5: =B5+C5++D5+E5 -> 2 | G5: 7 | H5: =ROUND(F5*G5/L5,0) -> 1 | I5: =ROUND(F5+G5-H5,0) -> 8 | J5: =IF(I5>8,I5,8) -> 8 | K5: =L5-J5 -> 20 | L5: 28 | N5: =SUM(J14:J15,J19:J21) -> 41
A6: 3월 | B6: 0 | C6: 0 | D6: 1 | E6: 0.1 | F6: =B6+C6++D6+E6 -> 1.1 | G6: 6 | H6: =ROUND(F6*G6/L6,0) -> 0 | I6: =ROUND(F6+G6-H6,0) -> 7 | J6: =IF(I6>8,I6,8) -> 8 | K6: =L6-J6 -> 23 | L6: 31
A7: 4월 | B7: 0 | C7: 0 | D7: 2.6 | E7: 0 | F7: =B7+C7++D7+E7 -> 2.6 | G7: 4 | H7: =ROUND(F7*G7/L7,0) -> 0 | I7: =ROUND(F7+G7-H7,0) -> 7 | J7: =IF(I7>8,I7,8) -> 8 | K7: =L7-J7 -> 22 | L7: 30
A8: 5월 | B8: 0 | C8: 0 | D8: 3.2 | E8: 0 | F8: =B8+C8++D8+E8 -> 3.2 | G8: 7 | H8: =ROUND(F8*G8/L8,0) -> 1 | I8: =ROUND(F8+G8-H8,0) -> 9 | J8: =IF(I8>8,I8,8) -> 9 | K8: =L8-J8 -> 22 | L8: 31
A9: 6월 | B9: 0 | C9: 0 | D9: 1.6 | E9: 0 | F9: =B9+C9++D9+E9 -> 1.6 | G9: 5 | H9: =ROUND(F9*G9/L9,0) -> 0 | I9: =ROUND(F9+G9-H9,0) -> 7 | J9: =IF(I9>8,I9,8) -> 8 | K9: =L9-J9 -> 22 | L9: 30
A10: 7월 | B10: 0 | C10: 2 | D10: 6.8 | E10: 0 | F10: =B10+C10++D10+E10 -> 8.8 | G10: 4 | H10: =ROUND(F10*G10/L10,0) -> 1 | I10: =ROUND(F10+G10-H10,0) -> 12 | J10: =IF(I10>8,I10,8) -> 12 | K10: =L10-J10 -> 19 | L10: 31
A11: 8월 | B11: 0 | C11: 4 | D11: 5.5 | E11: 0 | F11: =B11+C11++D11+E11 -> 9.5 | G11: 7 | H11: =ROUND(F11*G11/L11,0) -> 2 | I11: =ROUND(F11+G11-H11,0) -> 15 | J11: =IF(I11>8,I11,8) -> 15 | K11: =L11-J11 -> 16 | L11: 31
A12: 9월 | B12: 0 | C12: 0 | D12: 3.4 | E12: 0 | F12: =B12+C12++D12+E12 -> 3.4 | G12: 7 | H12: =ROUND(F12*G12/L12,0) -> 1 | I12: =ROUND(F12+G12-H12,0) -> 9 | J12: =IF(I12>8,I12,8) -> 9 | K12: =L12-J12 -> 21 | L12: 30 | N12: ※ [공공 건설공사의 공사기간 산정기준] 제8조(비작업일수) 2항에 따라 '월별 작업일수가 주40시간 근무제에 따른 비작업일수보다 작을 경우에는 주40시간 근무제에 따른 비작업일수를 적용한다'
A13: 10월 | B13: 0 | C13: 0 | D13: 2.1 | E13: 0 | F13: =B13+C13++D13+E13 -> 2.1 | G13: 7 | H13: =ROUND(F13*G13/L13,0) -> 0 | I13: =ROUND(F13+G13-H13,0) -> 9 | J13: =IF(I13>8,I13,8) -> 9 | K13: =L13-J13 -> 22 | L13: 31
A14: 11월 | B14: 0 | C14: 0 | D14: 1.9 | E14: 0.1 | F14: =B14+C14++D14+E14 -> 2 | G14: 5 | H14: =ROUND(F14*G14/L14,0) -> 0 | I14: =ROUND(F14+G14-H14,0) -> 7 | J14: =IF(I14>8,I14,8) -> 8 | K14: =L14-J14 -> 22 | L14: 30
A15: 12월 | B15: 1.6 | C15: 0 | D15: 1 | E15: 0.5 | F15: =B15+C15++D15+E15 -> 3.1 | G15: 5 | H15: =ROUND(F15*G15/L15,0) -> 1 | I15: =ROUND(F15+G15-H15,0) -> 7 | J15: =IF(I15>8,I15,8) -> 8 | K15: =L15-J15 -> 23 | L15: 31
A16: 합계 | B16: =SUM(B4:B15) -> 5.4 | C16: =SUM(C4:C15) -> 6 | D16: =SUM(D4:D15) -> 30.2 | E16: =SUM(E4:E15) -> 1.3 | F16: =SUM(F4:F15) -> 42.9 | G16: =SUM(G4:G15) -> 69 | H16: =SUM(H4:H15) -> 8 | I16: =SUM(I4:I15) -> 105 | ... L16: =SUM(L4:L15) -> 365
A17: ○ 2027년
A18: 구분 | B18: 기온Ⅰ -12℃이하 | C18: 기온Ⅱ 35℃이상 | D18: 강우 10mm이상 | E18: 적설 5cm이상 | F18: 소계 [A] (기상일수) | G18: 공휴일 [B] | H18: 중복일 [C=A*B/달력일수] | I18: 공사불능일 [A+B-C] | J18: 비작업일수 | K18: 월간 작업 가능일 | L18: 달력일수
A19: 1월 | B19: 2.9 | C19: 0 | D19: 0.2 | E19: 0.4 | F19: =B19+C19++D19+E19 -> 3.5 | G19: 6 | H19: =ROUND(F19*G19/L19,0) -> 1 | I19: =ROUND(F19+G19-H19,0) -> 9 | J19: =IF(I19>8,I19,8) -> 9 | K19: =L19-J19 -> 22 | L19: 31
A20: 2월 | B20: 0.9 | C20: 0 | D20: 0.9 | E20: 0.2 | F20: =B20+C20++D20+E20 -> 2 | G20: 7 | H20: =ROUND(F20*G20/L20,0) -> 1 | I20: =ROUND(F20+G20-H20,0) -> 8 | J20: =IF(I20>8,I20,8) -> 8 | K20: =L20-J20 -> 20 | L20: 28
A21: 3월 | B21: 0 | C21: 0 | D21: 1 | E21: 0.1 | F21: =B21+C21++D21+E21 -> 1.1 | G21: 5 | H21: =ROUND(F21*G21/L21,0) -> 0 | I21: =ROUND(F21+G21-H21,0) -> 6 | J21: =IF(I21>8,I21,8) -> 8 | K21: =L21-J21 -> 23 | L21: 31
A22: 4월 | B22: 0 | C22: 0 | D22: 2.6 | E22: 0 | F22: =B22+C22++D22+E22 -> 2.6 | G22: 4 | H22: =ROUND(F22*G22/L22,0) -> 0 | I22: =ROUND(F22+G22-H22,0) -> 7 | J22: =IF(I22>8,I22,8) -> 8 | K22: =L22-J22 -> 22 | L22: 30
A23: 5월 | B23: 0 | C23: 0 | D23: 3.2 | E23: 0 | F23: =B23+C23++D23+E23 -> 3.2 | G23: 7 | H23: =ROUND(F23*G23/L23,0) -> 1 | I23: =ROUND(F23+G23-H23,0) -> 9 | J23: =IF(I23>8,I23,8) -> 9 | K23: =L23-J23 -> 22 | L23: 31
A24: 6월 | B24: 0 | C24: 0 | D24: 1.6 | E24: 0 | F24: =B24+C24++D24+E24 -> 1.6 | G24: 4 | H24: =ROUND(F24*G24/L24,0) -> 0 | I24: =ROUND(F24+G24-H24,0) -> 6 | J24: =IF(I24>8,I24,8) -> 8 | K24: =L24-J24 -> 22 | L24: 30
A25: 7월 | B25: 0 | C25: 2 | D25: 6.8 | E25: 0 | F25: =B25+C25++D25+E25 -> 8.8 | G25: 4 | H25: =ROUND(F25*G25/L25,0) -> 1 | I25: =ROUND(F25+G25-H25,0) -> 12 | J25: =IF(I25>8,I25,8) -> 12 | K25: =L25-J25 -> 19 | L25: 31
A26: 8월 | B26: 0 | C26: 4 | D26: 5.5 | E26: 0 | F26: =B26+C26++D26+E26 -> 9.5 | G26: 6 | H26: =ROUND(F26*G26/L26,0) -> 2 | I26: =ROUND(F26+G26-H26,0) -> 14 | J26: =IF(I26>8,I26,8) -> 14 | K26: =L26-J26 -> 17 | L26: 31
A27: 9월 | B27: 0 | C27: 0 | D27: 3.4 | E27: 0 | F27: =B27+C27++D27+E27 -> 3.4 | G27: 7 | H27: =ROUND(F27*G27/L27,0) -> 1 | I27: =ROUND(F27+G27-H27,0) -> 9 | J27: =IF(I27>8,I27,8) -> 9 | K27: =L27-J27 -> 21 | L27: 30
A28: 10월 | B28: 0 | C28: 0 | D28: 2.1 | E28: 0 | F28: =B28+C28++D28+E28 -> 2.1 | G28: 8 | H28: =ROUND(F28*G28/L28,0) -> 1 | I28: =ROUND(F28+G28-H28,0) -> 9 | J28: =IF(I28>8,I28,8) -> 9 | K28: =L28-J28 -> 22 | L28: 31
A29: 11월 | B29: 0 | C29: 0 | D29: 1.9 | E29: 0.1 | F29: =B29+C29++D29+E29 -> 2 | G29: 4 | H29: =ROUND(F29*G29/L29,0) -> 0 | I29: =ROUND(F29+G29-H29,0) -> 6 | J29: =IF(I29>8,I29,8) -> 8 | K29: =L29-J29 -> 22 | L29: 30
A30: 12월 | B30: 1.6 | C30: 0 | D30: 1 | E30: 0.5 | F30: =B30+C30++D30+E30 -> 3.1 | G30: 6 | H30: =ROUND(F30*G30/L30,0) -> 1 | I30: =ROUND(F30+G30-H30,0) -> 8 | J30: =IF(I30>8,I30,8) -> 8 | K30: =L30-J30 -> 23 | L30: 31
A31: 합계 | B31: =SUM(B19:B30) -> 5.4 | C31: =SUM(C19:C30) -> 6 | D31: =SUM(D19:D30) -> 30.2 | E31: =SUM(E19:E30) -> 1.3 | F31: =SUM(F19:F30) -> 42.9 | G31: =SUM(G19:G30) -> 68 | H31: =SUM(H19:H30) -> 9 | I31: =SUM(I19:I30) -> 103 | ... L31: =SUM(L19:L30) -> 365
A32: ○ 2028년
A33: 구분 | B33: 기온Ⅰ -12℃이하 | C33: 기온Ⅱ 35℃이상 | D33: 강우 10mm이상 | E33: 적설 5cm이상 | F33: 소계 [A] (기상일수) | G33: 공휴일 [B] | H33: 중복일 [C=A*B/달력일수] | I33: 공사불능일 [A+B-C] | J33: 비작업일수 | K33: 월간 작업 가능일 | L33: 달력일수
A34: 1월 | B34: 2.9 | C34: 0 | D34: 0.2 | E34: 0.4 | F34: =B34+C34++D34+E34 -> 3.5 | G34: 9 | H34: =ROUND(F34*G34/L34,0) -> 1 | I34: =ROUND(F34+G34-H34,0) -> 12 | J34: =IF(I34>8,I34,8) -> 12 | K34: =L34-J34 -> 19 | L34: 31
A35: 2월 | B35: 0.9 | C35: 0 | D35: 0.9 | E35: 0.2 | F35: =B35+C35++D35+E35 -> 2 | G35: 4 | H35: =ROUND(F35*G35/L35,0) -> 0 | I35: =ROUND(F35+G35-H35,0) -> 6 | J35: =IF(I35>8,I35,8) -> 8 | K35: =L35-J35 -> 21 | L35: 29
A36: 3월 | B36: 0 | C36: 0 | D36: 1 | E36: 0.1 | F36: =B36+C36++D36+E36 -> 1.1 | G36: 5 | H36: =ROUND(F36*G36/L36,0) -> 0 | I36: =ROUND(F36+G36-H36,0) -> 6 | J36: =IF(I36>8,I36,8) -> 8 | K36: =L36-J36 -> 23 | L36: 31
A37: 4월 | B37: 0 | C37: 0 | D37: 2.6 | E37: 0 | F37: =B37+C37++D37+E37 -> 2.6 | G37: 5 | H37: =ROUND(F37*G37/L37,0) -> 0 | I37: =ROUND(F37+G37-H37,0) -> 8 | J37: =IF(I37>8,I37,8) -> 8 | K37: =L37-J37 -> 22 | L37: 30
A38: 5월 | B38: 0 | C38: 0 | D38: 3.2 | E38: 0 | F38: =B38+C38++D38+E38 -> 3.2 | G38: 6 | H38: =ROUND(F38*G38/L38,0) -> 1 | I38: =ROUND(F38+G38-H38,0) -> 8 | J38: =IF(I38>8,I38,8) -> 8 | K38: =L38-J38 -> 23 | L38: 31
A39: 6월 | B39: 0 | C39: 0 | D39: 1.6 | E39: 0 | F39: =B39+C39++D39+E39 -> 1.6 | G39: 5 | H39: =ROUND(F39*G39/L39,0) -> 0 | I39: =ROUND(F39+G39-H39,0) -> 7 | J39: =IF(I39>8,I39,8) -> 8 | K39: =L39-J39 -> 22 | L39: 30
A40: 7월 | B40: 0 | C40: 2 | D40: 6.8 | E40: 0 | F40: =B40+C40++D40+E40 -> 8.8 | G40: 5 | H40: =ROUND(F40*G40/L40,0) -> 1 | I40: =ROUND(F40+G40-H40,0) -> 13 | J40: =IF(I40>8,I40,8) -> 13 | K40: =L40-J40 -> 18 | L40: 31
...

Sheet 표준공기산정공식
A1: ※ 표준공기 산정공식을 이용한 공사기간 비교 검증
A2: 구분 | B2: 기준 | C2: 기준(일) | D2: 공사기간(일) | E2: 비고
A3: 건축(공통) | B3: Y = -68.550 + 18.192·B + 12.079·G – 5.25·ln(A) + 167.632·ln(C) | D3: =-68.55+18.192*(E9)+12.079*(E8)-5.25*LN(E7)+167.632*LN(E6) -> #NUM! | E3: C = 총공사비(억원) A = 연면적(100㎡) G = 지상층수(층) B = 지하층수(층)
A4: 계 | D4: =D3 -> #NUM!
C6: 건축(공통) | D6: C | E6: 0
D7: A | E7: 0
D8: G | E8: 0
D9: B | E9: 0

Sheet 4. 법정 공휴일수
A1: 4. 법정 공휴일수(2021-2030년)
A3: 번호 | B3: 구분 | C3: 월간 법정공휴일 | O3: 소계
C4: 1월 | D4: 2월 | E4: 3월 | F4: 4월 | G4: 5월 | H4: 6월 | I4: 7월 | J4: 8월 | K4: 9월 | L4: 10월 | M4: 11월 | N4: 12월
A5: 1 | B5: 2021년 | C5: 6 | D5: 8 | E5: 5 | F5: 4 | G5: 8 | H5: 4 | I5: 4 | J5: 5 | K5: 7 | L5: 6 | M5: 4 | N5: 5 | O5: =SUM(C5:N5) -> 66
A6: 2 | B6: 2022년 | C6: 7 | D6: 6 | E6: 5 | F6: 4 | G6: 6 | H6: 5 | I6: 5 | J6: 5 | K6: 7 | L6: 6 | M6: 4 | N6: 4 | O6: =SUM(C6:N6) -> 64
A7: 3 | B7: 2023년 | C7: 8 | D7: 4 | E7: 5 | F7: 5 | G7: 7 | H7: 5 | I7: 5 | J7: 5 | K7: 7 | L7: 8 | M7: 4 | N7: 6 | O7: =SUM(C7:N7) -> 69
A8: 4 | B8: 2024년 | C8: 5 | D8: 7 | E8: 6 | F8: 4 | G8: 7 | H8: 6 | I8: 4 | J8: 5 | K8: 8 | L8: 6 | M8: 4 | N8: 6 | O8: =SUM(C8:N8) -> 68
A9: 5 | B9: 2025년 | C9: 8 | D9: 4 | E9: 6 | F9: 4 | G9: 7 | H9: 6 | I9: 4 | J9: 6 | K9: 4 | L9: 9 | M9: 5 | N9: 5 | O9: =SUM(C9:N9) -> 68
A10: 6 | B10: 2026년 | C10: 5 | D10: 7 | E10: 6 | F10: 4 | G10: 7 | H10: 5 | I10: 4 | J10: 7 | K10: 7 | L10: 7 | M10: 5 | N10: 5 | O10: =SUM(C10:N10) -> 69
A11: 7 | B11: 2027년 | C11: 6 | D11: 7 | E11: 5 | F11: 4 | G11: 7 | H11: 4 | I11: 4 | J11: 6 | K11: 7 | L11: 8 | M11: 4 | N11: 6 | O11: =SUM(C11:N11) -> 68
A12: 8 | B12: 2028년 | C12: 9 | D12: 4 | E12: 5 | F12: 5 | G12: 6 | H12: 5 | I12: 5 | J12: 5 | K12: 4 | L12: 10 | M12: 4 | N12: 6 | O12: =SUM(C12:N12) -> 68
A13: 9 | B13: 2029년 | C13: 5 | D13: 7 | E13: 5 | F13: 5 | G13: 7 | H13: 5 | I13: 5 | J13: 5 | K13: 7 | L13: 6 | M13: 4 | N13: 6 | O13: =SUM(C13:N13) -> 67
A14: 10 | B14: 2030년 | C14: 5 | D14: 7 | E14: 6 | F14: 4 | G14: 7 | H14: 6 | I14: 4 | J14: 5 | K14: 8 | L14: 6 | M14: 4 | N14: 6 | O14: =SUM(C14:N14) -> 68
A15: ※ 공휴일은 「관공서의 공휴일에 관한 규정」에 따른 관공서의 공휴일과 「근로기준법」에 따른 근로자의 날을 적용. 단, 공직선거법 제34조에 따른 임기만료에 따른 선거의 선거일과 기타 정부에서 수시 지정하는 날은 매년 불규칙하므로 비작업일수 산정에서 제외
A17: ※ 관공서의 공휴일
A18: · 일요일(52일)
A19: · 명절(6일) : 설 연휴, 추석 연휴(대체공휴일 시행)
A20: · 국경일(4일) : 3·1절, 광복절, 개천절, 한글날
A21: · 기타(5일) : 1월 1일, 5월 5일(대체공휴일 시행), 6월 6일, 부처님 오신 날(음력 4월 8일), 12월 25일
A22: · 공직선거법 제34조에 따른 임기만료에 따른 선거의 선거일
A23: · 기타 정부에서 수시 지정하는 날

Sheet 5. 산정기준
A1: 5. 작업일수 산정을 위한 우리청 공종별 표준작업량
A2: 구 분 | F2: 산정기준 | G2: 비 고
A3: 준비기간 | F3: · 10억원 미만: 최소 10일 · 10억원 이상: 최소 20일 · 안전관리계획서 제출 대상: 45일
A4: 토목공사기간 | D4: 터파기 | F4: · 지하층 1층당 10일
D5: 흙막이 | F5: · 자립식: 지하층 1개 층당 10일 · 어스앵커식: 지하층 1개 층당 20일
A6: 건축공사기간 | B6: 기초공사 | D6: 파일기초 | F6: · 깊이 15m이하 선굴착 말뚝공법: 40일 · 깊이 15m이상 선굴착 말뚝공법: 80일
D7: 지지력시험 | F7: · 11일
B8: 골조공사 | C8: 지하층 | D8: 지하층 | F8: · 지하층 1개층당 31일
D9: 지하주차장 | F9: · 1개층 주차대수 150대 미만: 10일 · 1개층 주차대수 150대 이상: 20일
C10: 지상층 | D10: 골조 | E10: 1층 | F10: · 20일
E11: 2층이상 | F11: · 2층: 10일 · 3층 이상: 층당 9일
E12: 동절기보정 | F12: · 동절기는 층당 1일 추가
E13: 지붕 | F13: · 콘크리트 경사지붕: 15일 · 철골 경사지붕: 10일
B14: 마감공사 | F14: · 조적공사: 5일/ 층 · 미장공사: 8일/ 층 · 창호공사: 6일/ 층 · 방수공사: 3일/ 층 · 타일공사: 2일/ 층
A15: 토목,조경공사기간 | F15: · 토목공사: 건축공사 완료 후 15일 · 조경공사: 토목공사 완료 후 15일
A16: 정리기간 | F16: · 10억원 미만: 최소 15일 · 10억원 이상: 최소 30일

Sheet 표4
A1: 별표 4. 시설물별 공기 산정공식
A2: ※ 최근 5년간 준공된 총공사비 10억원 이상인 공사의 실적 공기를 분석하여 작성
A4: 구분 | B4: 시설물 | C4: 산정공식 | D4: 변수 정의 | E4: 적용범위
A5: 건축 | B5: 건축(공통) | C5: Y = -68.550 + 18.192·B + 12.079·G – 5.25·ln(A) + 167.632·ln(C) | D5: C = 총공사비(억원) | E5: 총공사비
D6: A = 연면적(100㎡) | E6: 10억원 이상
B7: 공동주택 | C7: Y = -21.674 + 7.953·G + 116.835·ln(C) | D7: G = 지상층수(층)
B8: 체육시설 | C8: Y = -278.109 + 189.438·ln(C) | D8: B = 지하층수(층)
A9: 토목 | B9: 도로포장 | C9: Y =-637.009+173.198·ln(L)+0.049·C | D9: C = 총공사비(백만) | E9: 총공사비
D10: L = 도로연장(m) | E10: 350억원 이하
B11: 도로 | C11: Y=-160.855-14.288·W+164.473· | D11: C = 총공사비(백만) | E11: 총공사비
B12: (토공+교량) | C12: ln(L)-1.474·BL+0.052·C | D12: W = 도로폭원(m) | E12: 350억원 이하
D13: L = 도로연장(m)
D14: BL = 교량연장(m)
B15: 농업용수 | C15: Y = -2251.569 + 415.137·ln(C) | D15: C = 총공사비(백만) | E15: 총공사비 10~200억원
B16: 상수도 | C16: Y=-1175.174+119.731·S–0.273·D +222.426·ln(C) | D16: C = 총공사비(백만) | E16: 총공사비
D17: D = 관경(mm) | E17: 80억원 이하
D18: S = 양수장/배수장/
D19: 가압장 개수
B20: 하수도 | C20: Y =-452.433 + 98.364·ln(SL)+0.083·C | D20: C = 총공사비(백만) | E20: 총공사비
D21: SL= 하수도 연장(m) | E21: 150억원 이하
B22: 철도(궤도) | C22: Y=-1723.316–74.260·ln(RL) | D22: C = 총공사비(백만) | E22: 총공사비
C23: +372.266·ln(C) | D23: RL = 궤도연장(m) | E23: 1,200억원 이하
A24: 비고
A25: 위 공식은 해당 시설물의 적용범위(총공사비, 연장 등)를 확인하여 적용하며, 산정공식은 단위에 주의하여 적용한다.
A26: ‘건축(공통)’은 공동주택과 체육시설을 제외한 건축물(업무시설, 교육연구시설, 복지시설, 문화시설, 교정 및 군사시설 등)에 적용한다.
A27: ‘도로포장’은 포장공사(토공 포함)에만 적용하고, 토공구간과 교량구간이 공존할 경우에는 ‘도로(토공+교량)’의 산정공식을 적용한다.
A28: 철도(궤도)는 철도 중 노선에 관하여 적용하며, 설비관련 부분의 공기는 별도로 계상한다.
A29: 총공사비는 추정금액(추정가격에 부가가치세와 관급자재비를 합한 금액)을 말한다. 장기계속공사의 경우 「국가를 당사자로 하는 계약에 관한 법률 시행령」제8조제2항 및 「지방자치단체를 당사자로 하는 계약에 관한 법률 시행령」제9조제2항의 규정에 따른 총공사금액을 적용한다.
A30: 위의 공식에 의해 산정한 결과에 당해 공사의 현장여건 및 공사특성 등을 고려하여 공기를 가감하여 적용할 수 있다.
