Workbook

Sheet 원가계산서
A1: 공 사 명 | C1: =공종별집계표!A2 -> [공사명:잎들깨 수경재배 시스템 지원사업]
A2: 설계 금액 | C2: ="일금"&NUMBERSTRING(E2,1)&"원정" -> 일금영원정 | E2: =D39 -> 0
C3: 도급금액 | E3: =D36 -> 0
C4: ='공 종 별 집 계 표(환급재료비)'!A7 -> 01 환급재료비 | E4: ='공 종 별 집 계 표(환급재료비)'!L7 -> 0
C5: ='공 종 별 집 계 표(환급재료비)'!A8 -> 02 비환급재료비 | E5: ='공 종 별 집 계 표(환급재료비)'!L8 -> 0
C6: ='공 종 별 집 계 표(환급재료비)'!A9 -> 03 영세율자재 | E6: ='공 종 별 집 계 표(환급재료비)'!L9 -> 0
A7: 비 목 | D7: 금 액 | E7: 구 성 비 | I7: 비 고
A8: 순 공 사 비 | B8: 재 료 비 | C8: 직 접 재 료 비 | D8: =공종별집계표!F5 -> 0
C9: 간 접 재 료 비 | D9: 0
C10: 작업설, 부산물(△) | D10: 0
C11: [ 소 계 ] | D11: =D8-D10 -> 0
B12: 노 무 비 | C12: 직 접 노 무 비 | D12: =공종별집계표!H5 -> 0
C13: 간 접 노 무 비 | D13: =ROUNDDOWN(D12*F13,0) -> 0 | E13: 직접노무비 * | F13: 0.175
C14: [ 소 계 ] | D14: =SUM(D12:D13) -> 0
B15: 경 비 | C15: 운 반 비 | D15: 0
C16: 기계경비(산출경비) | D16: =공종별집계표!J5 -> 0
C17: 산 재 보 험 료 | D17: =ROUNDDOWN(D14*F17,0) -> 0 | E17: 노무비 * | F17: 0.0356
C18: 고 용 보 험 료 | D18: =ROUNDDOWN(D14*F18,0) -> 0 | E18: 노무비 * | F18: 0.0101
C19: 건 강 보 험 료 | E19: 직접노무비 * | F19: 0.03595
C20: 연 금 보 험 료 | E20: 직접노무비 * | F20: 0.0475
C21: 노인장기요양보험료 | D21: =ROUNDDOWN((D19)*F21,0) -> 0 | E21: 건강보험료 | F21: 0.1314
C22: 퇴직 공제 부금비 | D22: =ROUNDDOWN((D12)*F22,0)*0 -> 0 | E22: 직접노무비 * | F22: 0.023 | L22: 1억원이상(추정금액)
C23: 산업안전보건관리비 | D23: =ROUNDDOWN((D11+D12+L37)*F23,0) -> 0 | E23: (재료비+직노+도급자관급) *요율 | F23: 0.0311 | L23: 2천만원이상(재+직노+도급자관급)
C24: 기 타 경 비 | D24: =ROUNDDOWN((D11+D14)*F24,0) -> 0 | E24: (재료비+노무비) * | F24: 0.05
C25: 환 경 보 전 비 | D25: =ROUNDDOWN((D11+D12+D16)*F25,0) -> 0 | E25: (재료비+직노+산출경비)* | F25: 0.003
C26: 건설하도급대금지급보증서발급수수료 | D26: =ROUNDDOWN((D11+D12+D16)*F26,0) -> 0 | E26: (재료비+직노+산출경비)* | F26: 0.00081
C27: 건설기계대여금지급보증서발급수수료 | D27: =ROUNDDOWN((D11+D12+D16)*F27,0) -> 0 | E27: (재료비+직노+산출경비)* | F27: 0.0007
C28: [ 소 계 ] | D28: =SUM(D15:D27) -> 0
A29: 계 | D29: =D11+D14+D28 -> 0
A30: 일 반 관 리 비 | D30: =ROUNDDOWN(D29*F30,0) -> 0 | E30: 계 * | F30: 0.08
A31: 이 윤 | D31: =ROUNDDOWN((D14+D28+D30)*F31,0) -> 0 | E31: (노무비+경비+일반관리비) * | F31: 0.15
A32: 지 정 폐 기 물 처 리 비 | D32: 0
A33: 건 설 폐 기 물 처 리 비 | D33: 0
A34: 공 급 가 액 | D34: =SUM(D29:D33) -> 0
A35: 부 가 가 치 세 | D35: =ROUNDDOWN(D34*F35,0) -> 0 | E35: 공급가액 * | F35: 0.1
A36: 도 급 액 | D36: =INT((D34+D35)/1000)*1000 -> 0 | L36: 천단위미만 절삭
A37: 도 급 자 관 급 자 재 대 | D37: =ROUNDUP(0,-3) -> 0 | E37: 안전관리비 적용금액 : | L37: =(D37)/1.1/1.0054 -> 0
A38: 관 급 자 관 급 자 재 대 | D38: =ROUNDUP(0,-3) -> 0
A39: 총 공 사 비 | D39: =INT((D36+D37+D38)/1000)*1000 -> 0 | L39: 천단위미만 절삭

Sheet 공 종 별 집 계 표(환급재료비)
A1: 공 종 별 집 계 표(환급재료비)
A2: [공사명:잎들깨 수경재배 시스템 지원사업]
A3: 품 명 | B3: 규 격 | C3: 단위 | D3: 수량 | E3: 재 료 비 | G3: 노 무 비 | I3: 경 비 | K3: 합 계 | M3: 비 고 | N3: 공종코드 | O3: 변수 | P3: 상위공종 | Q3: 공종구분 | R3: 공종레벨 | S3: 공종소계 | T3: 원가계산서 연결금액
E4: 단 가 | F4: 금 액 | G4: 단 가 | H4: 금 액 | I4: 단 가 | J4: 금 액 | K4: 단 가 | L4: 금 액
A5: 충남 금산군 추부면 신평리 70-8 | D5: 1 | E5: =F6 -> 0 | F5: =E5*D5 -> 0 | G5: =H6 -> 0 | H5: =G5*D5 -> 0 | J5: =I5*D5 -> 0 | K5: =E5+G5+I5 -> 0 | L5: =F5+H5+J5 -> 0 | N5: 01 | R5: 1
A6: 0101 01.잎들깨양액고설시설 | D6: 1 | E6: =F7+F8+F9+F10 -> 0 | F6: =E6*D6 -> 0 | J6: =I6*D6 -> 0 | K6: =E6+G6+I6 -> 0 | L6: =F6+H6+J6 -> 0 | N6: 0101 | P6: 01 | R6: 2
A7: 01 환급재료비 | D7: 1 | E7: =공종별내역서!AX70 -> 0 | F7: =E7*D7 -> 0 | J7: =I7*D7 -> 0 | K7: =E7+G7+I7 -> 0 | L7: =F7+H7+J7 -> 0 | N7: 010101 | P7: 0101 | R7: 3
A8: 02 비환급재료비 | D8: 1 | E8: =공종별내역서!AY70 -> 0 | F8: =E8*D8 -> 0 | J8: =I8*D8 -> 0 | K8: =E8+G8+I8 -> 0 | L8: =F8+H8+J8 -> 0 | N8: 010102 | P8: 0101 | R8: 3
A9: 03 영세율자재 | D9: 1 | J9: =I9*D9 -> 0 | K9: =E9+G9+I9 -> 0 | L9: =F9+H9+J9 -> 0 | N9: 010103 | P9: 0101 | R9: 3
N10: 010104 | P10: 0101 | R10: 3
A24: [ 합 계 ] | F24: =F5 -> 0 | H24: =H5 -> 0 | J24: =J5 -> 0 | L24: =L5 -> 0

Sheet 공종별집계표
A1: 공 종 별 집 계 표
A2: [공사명:잎들깨 수경재배 시스템 지원사업]
A3: 품 명 | B3: 규 격 | C3: 단위 | D3: 수량 | E3: 재 료 비 | G3: 노 무 비 | I3: 경 비 | K3: 합 계 | M3: 비 고 | N3: 공종코드 | O3: 변수 | P3: 상위공종 | Q3: 공종구분 | R3: 공종레벨 | S3: 공종소계 | T3: 원가계산서 연결금액
E4: 단 가 | F4: 금 액 | G4: 단 가 | H4: 금 액 | I4: 단 가 | J4: 금 액 | K4: 단 가 | L4: 금 액
A5: 충남 금산군 추부면 신평리 70-8 | D5: 1 | E5: =F6 -> 0 | F5: =E5*D5 -> 0 | G5: =H6 -> 0 | H5: =G5*D5 -> 0 | J5: =I5*D5 -> 0 | K5: =E5+G5+I5 -> 0 | L5: =F5+H5+J5 -> 0 | N5: 01 | R5: 1
A6: 0101 01.잎들깨양액고설시설 | D6: 1 | E6: =F7+F8+F9 -> 0 | F6: =E6*D6 -> 0 | G6: =H7+H8+H9 -> 0 | H6: =G6*D6 -> 0 | J6: =I6*D6 -> 0 | K6: =E6+G6+I6 -> 0 | L6: =F6+H6+J6 -> 0 | N6: 0101 | P6: 01 | R6: 2
A7: 010101 배관 설치공사 | D7: 1 | E7: =공종별내역서!F27 -> 0 | F7: =E7*D7 -> 0 | G7: =공종별내역서!H27 -> 0 | H7: =G7*D7 -> 0 | J7: =I7*D7 -> 0 | K7: =E7+G7+I7 -> 0 | L7: =F7+H7+J7 -> 0 | N7: 010102 | P7: 0101 | R7: 3
A8: 010102 배지 및 퇴수 설치공사 | D8: 1 | E8: =공종별내역서!F49 -> 0 | F8: =E8*D8 -> 0 | G8: =공종별내역서!H49 -> 0 | H8: =G8*D8 -> 0 | I8: =공종별내역서!J49 -> 0 | J8: =I8*D8 -> 0 | K8: =E8+G8+I8 -> 0 | L8: =F8+H8+J8 -> 0 | N8: 010103 | P8: 0101 | R8: 3
A9: 010103 배드밴치 설치공사 | D9: 1 | E9: =공종별내역서!F70 -> 0 | F9: =E9*D9 -> 0 | G9: =공종별내역서!H70 -> 0 | H9: =G9*D9 -> 0 | I9: =공종별내역서!J70 -> 0 | J9: =I9*D9 -> 0 | K9: =E9+G9+I9 -> 0 | L9: =F9+H9+J9 -> 0 | N9: 010104 | P9: 0101 | R9: 3
A25: [ 합 계 ] | F25: =F5 -> 0 | H25: =H5 -> 0 | J25: =J5 -> 0 | L25: =L5 -> 0

Sheet 공종별내역서
A1: [공사명:잎들깨 수경재배 시스템 지원사업]
A2: 품 명 | B2: 규 격 | C2: 단위 | D2: 수량 | E2: 재 료 비 | G2: 노 무 비 | I2: 경 비 | K2: 합 계 | M2: 비 고 | N2: 품목코드 | O2: 변수 | P2: 설정 | Q2: 공종코드 | R2: 일위 | S2: 단산 | T2: 자재 | U2: 손료적용 | V2: 손료저장 | W2: 적용율 | X2: JUK1 | Y2: JUK2 | Z2: JUK3 | AA2: JUK4 | AB2: JUK5 | AC2: JUK6 | AD2: JUK7 | AE2: JUK8 | AF2: JUK9 | AG2: JUK10 | AH2: JUK11 | AI2: JUK12 | AJ2: JUK13 | AK2: JUK14 | AL2: JUK15 | AM2: JUK16 | AN2: JUK17 | AO2: JUK18 | AP2: JUK19 | AQ2: JUK20 | AR2: 자재구분 | AS2: 공종구분 | AT2: 공종레벨 | AU2: 공종+자재 | AV2: 고유번호
E3: 단 가 | F3: 금 액 | G3: 단 가 | H3: 금 액 | I3: 단 가 | J3: 금 액 | K3: 단 가 | L3: 금 액
A4: 010101 배관 설치공사 | Q4: 010102 | AX4: 환급재료비 | AY4: 비환급재료비 | AZ4: 영세율자재
A5: 농수관파이프 | B5: ø40 | C5: M | D5: 200 | N5: 58DF1581A62720527D85CD99AAEA1A | Q5: 010102 | R5: T | S5: F | T5: F | AU5: 01010258DF1581A62720527D85CD99AAEA1A | AV5: 30 | AY5: =F5+F6+F7+F8+F9+F10+F11+F12+F13+F14+F15+F16 -> 0 | AZ5: +
A6: 구간전자밸브-셋 | B6: ø40 | C6: 조 | D6: 4 | N6: 58DF1581A62720527D85CD99AAEA1B | Q6: 010102 | R6: T | S6: F | T6: F | AU6: 01010258DF1581A62720527D85CD99AAEA1B | AV6: 31
A7: 새들 | B7: ø40×16 | C7: 개 | D7: 96 | N7: 58DF1581A62720527D85CD99AAEA19 | Q7: 010102 | R7: T | S7: F | T7: F | AU7: 01010258DF1581A62720527D85CD99AAEA19 | AV7: 32
A8: 점적테이프 | B8: 10cm | C8: 롤 | D8: 5 | N8: 5FF5253E7F272F53FEF52961F314065E3B87D4 | Q8: 010102 | R8: F | S8: F | T8: T | AU8: 0101025FF5253E7F272F53FEF52961F314065E3B87D4 | AV8: 25
A9: 흑고압호스 | B9: ø16/91m | C9: 롤 | D9: 2 | N9: 5FF5253E7F272F53FEF52961F314065E3B87D6 | Q9: 010102 | R9: F | S9: F | T9: T | AU9: 0101025FF5253E7F272F53FEF52961F314065E3B87D6 | AV9: 26
A10: 연결-엘보우 | B10: ø13 | C10: 개 | D10: 96 | N10: 5FF5253E7F272F53FEF52961F314065E3B87D0 | Q10: 010102 | R10: F | S10: F | T10: T | AU10: 0101025FF5253E7F272F53FEF52961F314065E3B87D0 | AV10: 27
A11: 라인밸브 | B11: ø13 | C11: 개 | D11: 192 | N11: 5FF5253E7F272F53FEF52961F314065E3B87D2 | Q11: 010102 | R11: F | S11: F | T11: T | AU11: 0101025FF5253E7F272F53FEF52961F314065E3B87D2 | AV11: 28
A12: 조임식-티 | B12: ø40 | C12: 개 | D12: 6 | N12: 58DF1581A62720527D85CD99AAEA17 | Q12: 010102 | R12: T | S12: F | T12: F | AU12: 01010258DF1581A62720527D85CD99AAEA17 | AV12: 33
A13: 조임식-엘보우 | B13: ø40 | C13: 개 | D13: 18 | N13: 58DF1581A62720527D85CD99AAEB24 | Q13: 010102 | R13: T | S13: F | T13: F | AU13: 01010258DF1581A62720527D85CD99AAEB24 | AV13: 34
A14: 숫나사-엘보우 | B14: ø40 | C14: 개 | D14: 10 | N14: 58DF1581A62720527D85CD99AAEB26 | Q14: 010102 | R14: T | S14: F | T14: F | AU14: 01010258DF1581A62720527D85CD99AAEB26 | AV14: 35
A15: 전기선 | B15: 1.0s/2p | C15: M | D15: 300 | N15: 5FF5253E7F272F53FEF52961F314065E3B87DC | Q15: 010102 | R15: F | S15: F | T15: T | AU15: 0101025FF5253E7F272F53FEF52961F314065E3B87DC | AV15: 29
A16: 직관파이프 | B16: ø40 | C16: 본 | D16: 3 | N16: 5FF5253E7F272F53FEF52961F314065E3B80A0 | Q16: 010102 | R16: F | S16: F | T16: T | AU16: 0101025FF5253E7F272F53FEF52961F314065E3B80A0 | AV16: 24
A17: 설치인건비 | C17: 인 | D17: 14
A27: [ 합 계 ] | F27: =SUM(F5:F26) -> 0 | H27: =SUM(H5:H26) -> 0 | I27: =SUM(I5:I26) -> 0 | J27: =SUM(J5:J26) -> 0 | L27: =SUM(L5:L26) -> 0 | AW27: =F27+H27 -> 0
A28: 010102 배지 및 퇴수 설치공사 | Q28: 010103 | AX28: 환급재료비 | AY28: 비환급재료비 | AZ28: 영세율자재
A29: 스치로폴배드 | B29: 1,200×120×1,100 | C29: m | D29: 486 | AX29: =F31+F32 -> 0 | AY29: =F33+F34+F35+F36+F37 -> 0 | AZ29: +
A30: 상토 | B30: 50/L | C30: 개 | D30: 1846 | N30: 58DF1581A62720527D85CD99AAEB2C | Q30: 010103 | R30: T | S30: F | T30: F | AU30: 01010358DF1581A62720527D85CD99AAEB2C | AV30: 41
A31: 흑백필름 | B31: 0.15×105×93m | C31: 롤 | D31: 12 | N31: 58DF1581A62720527D85CD99AAE850 | Q31: 010103 | R31: T | S31: F | T31: F | AU31: 01010358DF1581A62720527D85CD99AAE850 | AV31: 42
A32: 방근포 | B32: 2.0x200m | C32: 롤 | D32: 3 | N32: 58DF1581A62720527D85CD99AAE852 | Q32: 010103 | R32: T | S32: F | T32: F | AU32: 01010358DF1581A62720527D85CD99AAE852 | AV32: 43
A33: 퇴수-pvc | B33: ø75 | C33: 본 | D33: 9 | N33: 5FF5253E7F272F53FEF52961F314065E3B86CD | Q33: 010103 | R33: F | S33: F | T33: T | AU33: 0101035FF5253E7F272F53FEF52961F314065E3B86CD | AV33: 37
A34: pvc-티 | B34: ø75 | C34: 개 | D34: 24 | N34: 58DF1581A62720527D85CD99AAE854 | Q34: 010103 | R34: T | S34: F | T34: F | AU34: 01010358DF1581A62720527D85CD99AAE854 | AV34: 44
A35: pvc-소켓 | B35: ø75 | C35: 개 | D35: 3 | N35: 5FF5253E7F272F53FEF52961F314065E3B86CB | Q35: 010103 | R35: F | S35: F | T35: T | AU35: 0101035FF5253E7F272F53FEF52961F314065E3B86CB | AV35: 38
A36: 배수구 | B36: ø38 | C36: 개 | D36: 24 | N36: 58DF1581A62720527D85CD99AAE856 | Q36: 010103 | R36: T | S36: F | T36: F | AU36: 01010358DF1581A62720527D85CD99AAE856 | AV36: 45
A37: pvc-본드 | B37: 자흡식 | C37: 통 | D37: 1 | N37: 5FF5253E7F272F53FEF52961F314065E3B8524 | Q37: 010103 | R37: F | S37: F | T37: T | AU37: 0101035FF5253E7F272F53FEF52961F314065E3B8524 | AV37: 39
A38: 설치인건비 | C38: 인 | D38: 16
AW48: =L49-AW49 -> 0
A49: [ 합 계 ] | F49: =SUM(F29:F38) -> 0 | H49: =SUM(H29:H38) -> 0 | I49: =SUM(I29:I38) -> 0 | J49: =SUM(J29:J38) -> 0 | L49: =SUM(L29:L38) -> 0 | M49: =SUM(M29:M38) -> 0 | N49: TOTAL | AW49: =F49+H49 -> 0
A50: 010103 배드밴치 설치공사 | Q50: 010104
A51: 밴치기둥파이프 | B51: ø25×1.5×0.8 | C51: 본 | D51: 1068 | N51: 58DF1581A62720527D85CD99AAE858 | Q51: 010104 | R51: T | S51: F | T51: F | AU51: 01010458DF1581A62720527D85CD99AAE858 | AV51: 52 | AX51: 환급재료비 | AY51: 비환급재료비 | AZ51: 영세율자재
A52: 밴치중앙기둥파이프 | B52: ø25×1.5×0.6 | C52: 본 | D52: 534 | N52: 58DF1581A62720527D85CD99AAE976 | Q52: 010104 | R52: T | S52: F | T52: F | AU52: 01010458DF1581A62720527D85CD99AAE976 | AV52: 53 | AX52: =F51+F52+F53+F54+F55+F56+F57+F58 -> 0 | AY52: =F59+F60+F61 -> 0
A53: 밴치중방파이프 | B53: ø25×1.5×1.2 | C53: 본 | D53: 534 | N53: 58DF1581A62720527D85CD99AAE974 | Q53: 010104 | R53: T | S53: F | T53: F | AU53: 01010458DF1581A62720527D85CD99AAE974 | AV53: 54
A54: 밴치가로대파이프 | B54: ø25×1.5×10 | C54: 본 | D54: 216 | N54: 58DF1581A62720527D85CD99AAE972 | Q54: 010104 | R54: T | S54: F | T54: F | AU54: 01010458DF1581A62720527D85CD99AAE972 | AV54: 55
A55: 기둥가로대파이프 | B55: ø25×1.5×10 | C55: 본 | D55: 108 | N55: 58DF1581A62720527D85CD99AAE970 | Q55: 010104 | R55: T | S55: F | T55: F | AU55: 01010458DF1581A62720527D85CD99AAE970 | AV55: 56
A56: 침하방지캡 | B56: ø25 | C56: 개 | D56: 1610 | N56: 5FF5253E7F272F53FEF52961F314065E3B8522 | Q56: 010104 | R56: F | S56: F | T56: T | AU56: 0101045FF5253E7F272F53FEF52961F314065E3B8522 | AV56: 47
A57: 새들 | B57: ø25 | C57: 개 | D57: 300 | N57: 5FF5253E7F272F53FEF52961F314065E3B8401 | Q57: 010104 | R57: F | S57: F | T57: T | AU57: 0101045FF5253E7F272F53FEF52961F314065E3B8401 | AV57: 49
A58: T-고정구 | B58: ø25 | C58: 개 | D58: 2680 | N58: 5FF5253E7F272F53FEF52961F314065E3B852E | Q58: 010104 | R58: F | S58: F | T58: T | AU58: 0101045FF5253E7F272F53FEF52961F314065E3B852E | AV58: 48
...

Sheet Sheet12
