Workbook
Name _1_: [1]공사비증감!#REF!
Name _10_10: #REF!
Name _11_11: #REF!
Name _12_3_0Crite: #REF!
Name _13_3_0Criteria: #REF!
Name _14_3__Crite: #REF!
Name _15_3__Criteria: #REF!
Name _16_6: #REF!
Name _17_7: #REF!
Name _18_8: #REF!
Name _19_9: #REF!
Name _2_0ㅜ1.ㅜ: '[2]#REF'!#REF!
Name _20a890.a19380_: [3]처리단락!#REF!
Name _21a890.a19384_: [3]처리단락!#REF!
Name _22C_: #REF!
Name _23G_0Extr: #REF!
Name _24G_0Extract: #REF!
Name _25G__Extr: #REF!
Name _26G__Extract: #REF!
Name _27P1_: '[4]Sheet1 (2)'!#REF!
Name _28__0Print_Tit: [2]LD!#REF!
Name _29__0PRINT_TITLES: [2]LD!#REF!
Name _30단: #REF!
Name _31옹벽부용수: [1]공사비증감!#REF!
Name _3C_: #REF!
Name _4_0_0_F: #REF!
Name _5_0a1945.za1: [2]LD!#REF!
Name _6_0Print_A: [2]LD!#REF!
Name _7_0PRINT_AREA: [2]LD!#REF!
Name _8_0옹벽부용수: [1]공사비증감!#REF!
Name _9_0ㅠ1: [2]LD!#REF!
Name AAW: 갑지!SAF
Name aervbgr: 갑지!EGERG
Name AJSL: 갑지!ㅗㅠㅎㄹ
Name asd: 갑지!REEG
Name ASS: 갑지!TRR
Name asss: 갑지!jhg
Name asw: 갑지!juyjuy
Name asx: 갑지!ㄹ퓰
Name asx: [0]!ㄹ퓰
Name asx: [0]!ㄹ퓰
Name awe: 갑지!ret
Name BBC: 갑지!SSR
Name bhg: 갑지!ytjuy
Name BHJ: 갑지!SAF
Name BKI: 갑지!홁ㅎ
Name BNM: 갑지!ㅈㅂㄷㄹ
Name bnv: 갑지!ghgfh
Name BOB: 갑지!WWF
Name BVF: 갑지!ㅇㄴㄿ
Name cfg: 갑지!bvvc
Name COC: 갑지!ㅠㅜㅎ
Name cvd: 갑지!홁ㅎ
Name cvx: 갑지!ㅗㅠㅎㄹ
Name CZSVX: 갑지!REEG
Name DDE: 갑지!DDC
Name ddf: 갑지!xcf
Name DDS: 갑지!ㅠㅜㅎ
Name DGV: 갑지!vnb
Name DGVAFD: 갑지!REGSVTEB

Sheet 갑지
A1: 2026 년 10 월 설계 | E1: 설계자 | H1: 심사자 | K1: 팀 장 | N1: 과 장 | Q1: 결 재
A4: 2026 년도 | I4: 위치 : 전북특별자치도 진안군 정천면 월평리 일원
B7: 국지도 49호선 월평3교 보수보강공사 건설폐기물처리용역
B12: ▣ 공 사 개 요 | J12: ▣ 총 사 업 비 : | N12: =N14+N20 -> 13673000 | P12: 원정
B14: - 폐아스콘 위탁처리 : 1식 | J14: ○ 도 급 예 정 액 : | N14: =N16+N18 -> 13673000 | P14: 원정
B16: - 폐기물 운반 : 1식 | J16: - 공 급 가 액 : | N16: =내역서!F15 -> 12430000 | P16: 원정
J18: - 부 가 가 치 세 : | N18: =내역서!F16 -> 1243000 | P18: 원정
J20: ○ 관 급 자 재 대 : | P20: 원정
B22: ▣ 공 사 기 간
B24: - 착공일로부터 60일
D27: 전북특별자치도 도로관리사업소

Sheet 내역서
A1: 설 계 예 산 내 역 서
A2: 공 종 명 | B2: 규 격 | C2: 수량 | D2: 단위 | E2: 합 계 | G2: 재 료 비 | I2: 노 무 비 | K2: 경 비 | M2: 비 고
E3: 단 가 | F3: 금 액 | G3: 단 가 | H3: 금 액 | I3: 단 가 | J3: 금 액 | K3: 단 가 | L3: 금 액
A4: #. 폐기물처리비 | C4: 1 | D4: 식 | F4: =F17 -> 13673000
A6: #. 폐기물 처리 | C6: 1 | D6: 식 | F6: 12430000 | H6: 817528 | J6: 1598152 | L6: 10014320
A7: 폐기물 운반 | B7: 30KM | C7: 125.1 | D7: M3 | E7: 23698 | F7: 2964618 | G7: 6535 | H7: 817528 | I7: 12775 | J7: 1598152 | K7: 4388 | L7: 548938 | M7: #.1
A8: 폐기물처리비 | B8: 폐아스콘 | C8: 294 | D8: TON | E8: 32166 | F8: 9456804 | G8: 0 | H8: 0 | I8: 0 | J8: 0 | K8: 32166 | L8: 9456804 | M8: #.2
A9: 금액조정 | B9: 폐기물 처리 | C9: 1 | D9: 식 | E9: 8578 | F9: 8578 | G9: 0 | H9: 0 | I9: 0 | J9: 0 | K9: 8578 | L9: 8578 | M9: GSD4003
A15: 2. 공 급 가 액 | C15: 1 | D15: 식 | F15: =F6 -> 12430000
A16: 3. 부가가치세 | C16: 1 | D16: 식 | F16: =INT(F15*0.1) -> 1243000
A17: 4. 도급예정액 | C17: 1 | D17: 식 | F17: =F15+F16 -> 13673000

Sheet 내역서 (3)
A1: 내역서
A2: 공 종 명 | B2: 규 격 | C2: 수량 | D2: 단위 | E2: 합 계 | G2: 재 료 비 | I2: 노 무 비 | K2: 경 비 | M2: 비 고
E3: 단 가 | F3: 금 액 | G3: 단 가 | H3: 금 액 | I3: 단 가 | J3: 금 액 | K3: 단 가 | L3: 금 액 | S3: 할 증 | T3: 화폐변환 | U3: OP값 | V3: EQ | W3: LA | X3: MA | Y3: 금액계상
A4: #. 폐기물 처리 | C4: 1 | D4: 식 | F4: =H4+J4+L4 -> 12430000 | H4: =TRUNC(H5+H6+H7,0) -> 817528 | J4: =TRUNC(J5+J6+J7,0) -> 1598152 | L4: =TRUNC(L5+L6+L7,0) -> 10014320 | O4: C01
A5: 폐기물 운반 | B5: 30KM | C5: 125.1 | D5: M3 | E5: =G5+I5+K5 -> 23698 | F5: =H5+J5+L5 -> 2964618 | G5: =일위대가목록!F3 -> 6535 | H5: =TRUNC(G5*C5,0) -> 817528 | I5: =일위대가목록!G3 -> 12775 | J5: =TRUNC(I5*C5,0) -> 1598152 | K5: =일위대가목록!H3 -> 4388 | L5: =TRUNC(K5*C5,0) -> 548938 | M5: #.1 | P5: 10 | R5: SRECYCYLE3 | T5: F | BI5: =HYPERLINK("#일위대가목록!A3","SRECYCYLE3 →") -> SRECYCYLE3 →
A6: 폐기물처리비 | B6: 폐아스콘 | C6: 294 | D6: TON | E6: =G6+I6+K6 -> 32166 | F6: =H6+J6+L6 -> 9456804 | G6: =일위대가목록!F4 -> 0 | H6: =TRUNC(G6*C6,0) -> 0 | I6: =일위대가목록!G4 -> 0 | J6: =TRUNC(I6*C6,0) -> 0 | K6: =일위대가목록!H4 -> 32166 | L6: =TRUNC(K6*C6,0) -> 9456804 | M6: #.2 | P6: 20 | R6: SD80014 | T6: F | BI6: =HYPERLINK("#일위대가목록!A4","SD80014 →") -> SD80014 →
A7: 금액조정 | B7: 폐기물 처리 | C7: 1 | D7: 식 | E7: =G7+I7+K7 -> 8578 | F7: =H7+J7+L7 -> 8578 | G7: =경비!D4 -> 0 | H7: =TRUNC(G7*C7,0) -> 0 | I7: =경비!E4 -> 0 | J7: =TRUNC(I7*C7,0) -> 0 | K7: =경비!F4 -> 8578 | L7: =TRUNC(K7*C7,0) -> 8578 | M7: GSD4003 | P7: 30 | R7: GSD4003 | BI7: =HYPERLINK("#경비!A4","GSD4003 →") -> GSD4003 →

Sheet 일위대가목록
A1: 일위대가목록
A2: 공 종 명 | B2: 규 격 | C2: 수 량 | D2: 단 위 | E2: 합 계 | F2: 재 료 비 | G2: 노 무 비 | H2: 경 비 | I2: 비 고 | T2: 재료비 | U2: 노무비 | V2: 경 비 | W2: 합 계 | Y2: 비교검토
A3: #1 폐기물 운반 | B3: 30KM | C3: 1 | D3: M3 | E3: =F3+G3+H3 -> 23698 | F3: =일위대가_산근!C4 -> 6535 | G3: =일위대가_산근!D4 -> 12775 | H3: =일위대가_산근!E4 -> 4388 | K3: SRECYCYLE3 | L3: F | T3: 6535 | U3: 12775 | V3: 4388 | W3: 23698 | Y3: =EXACT($E3,$W3) -> TRUE | AA3: =HYPERLINK("#일위대가_산근!A4","SRECYCYLE3 →") -> SRECYCYLE3 →
A4: #2 폐기물처리비 | B4: 폐아스콘 | C4: 1 | D4: TON | E4: =F4+G4+H4 -> 32166 | F4: =일위대가_산근!C46 -> 0 | G4: =일위대가_산근!D46 -> 0 | H4: =일위대가_산근!E46 -> 32166 | K4: SD80014 | L4: F | T4: 0 | U4: 0 | V4: 32166 | W4: 32166 | Y4: =EXACT($E4,$W4) -> TRUE | AA4: =HYPERLINK("#일위대가_산근!A46","SD80014 →") -> SD80014 →

Sheet 일위대가_호표
A1: 일위대가_호표
A2: 공 종 명 | B2: 규 격 | C2: 수량 | D2: 단위 | E2: 합 계 | G2: 재 료 비 | I2: 노 무 비 | K2: 경 비 | M2: 비 고
E3: 단 가 | F3: 금 액 | G3: 단 가 | H3: 금 액 | I3: 단 가 | J3: 금 액 | K3: 단 가 | L3: 금 액 | S3: 할 증 | T3: 화폐변환 | U3: OP값 | V3: EQ | W3: LA | X3: MA | Y3: 금액계상

Sheet 일위대가_산근
A1: 일위대가_산근
A2: 산 출 근 거 | B2: 합 계 | C2: 재 료 비 | D2: 노 무 비 | E2: 경 비 | F2: 비 고
AA3: ※ 노란색 셀을 수정하고 툴바에서 수식 > 시트계산을 하면
A4: #1 폐기물 운반 | 30KM|M3 | B4: =$B44 -> 23698 | C4: =$C44 -> 6535 | D4: =$D44 -> 12775 | E4: =$E44 -> 4388 | H4: SRECYCYLE3 | K4: 1 | Y4: =EXACT($Z4,$B44) -> TRUE | Z4: 23698 | AA4: 엑셀 수식이 적용됩니다. (단축키 F9 키)
I6: 10 | K6: F
A7: * 폐기물 운반 - M3당 | K7: '* 폐기물 운반 - M3당'
A9: L= 30 km, 현장에서 폐기물 업체 | K9: 'L=' 30'km, 현장에서 폐기물 업체'
A10: 현장-폐기물업체까지거리계상 | K10: '현장-폐기물업체까지거리계상'
A12: 1. 처리비(처리비는 폐기물처리비에 별도계상) | K12: '1. 처리비(처리비는 폐기물처리비에 별도계상)'
A15: 2.운반(덤프 15TON) | K15: '2.운반(덤프 15TON)'
A17: =CONCATENATE(" L=",TEXT($AB17,"#,##0.00"),", E=",TEXT($AF17,"#,##0.0"),", F=",TEXT($AJ17,"#,##0.00"),", Eo=",TEXT($AN17,"#,##0.00"),", K=",TEXT($AR17,"#,##0.00")) -> L=30.00, E=0.9, F=0.62, Eo=0.35, K=0.55 | K17: =SUBSTITUTE(SUBSTITUTE(SUBSTITUTE(SUBSTITUTE(SUBSTITUTE(SUBSTITUTE(" L= 30, E= 0.9, F= 0.62, Eo= 0.35, K= 0.55","30",TEXT($AB17,"#,##0"),1),"0.9",TEXT($AF17,"#,##0.0"),1),"0.62",TEXT($AJ17,"#,##0.00"),1),"0.35",TEXT($AN17,"#,##0.00"),1),"0.55",TEXT($AR17,"#,##0.00"),1),"_x001D_","'") -> L= 30, E= 0.9, F= 0.62, Eo= 0.35, K= 0.55 | AA17: L = | AB17: 30 | AC17: L = | AD17: =$AB17 -> 30 | AE17: E = | AF17: 0.9 | AG17: E = | AH17: =$AF17 -> 0.9 | AI17: F = | AJ17: 0.62 | AK17: F = | AL17: =$AJ17 -> 0.62 | AM17: EO = | AN17: 0.35 | AO17: EO = | AP17: =$AN17 -> 0.35 | AQ17: K = | AR17: 0.55 | AS17: K = | AT17: =$AR17 -> 0.55
A19: =CONCATENATE(" Q = 15*1.625/2.3 =",TEXT($AF19,"#,##0.00")) -> Q = 15*1.625/2.3 =10.60 | B19: =SUM($C19,$D19,$E19) -> 0 | K19: Q = 15*1.625/2.3 =? | AA19: Q+ = | AB19: =ROUND(15*1.625/2.3,2) -> 10.6 | AC19: Q = | AD19: =$AB19 -> 10.6 | AE19: 19_1_1+ = | AF19: =ROUND(ROUND(15*1.625/2.3,2),2) -> 10.6 | AG19: 19_1_1 = | AH19: =$AF19 -> 10.6
A21: =CONCATENATE(" N = Q/(0.7*K) =",TEXT($AF21,"#,##0.00")) -> N = Q/(0.7*K) =27.53 | B21: =SUM($C21,$D21,$E21) -> 0 | K21: N = Q/(0.7*K) =? | AA21: N+ = | AB21: =ROUND($AD19/(0.7*$AT17),2) -> 27.53 | AC21: N = | AD21: =$AB21 -> 27.53 | AE21: 21_1_1+ = | AF21: =ROUND(ROUND($AD19/(0.7*$AT17),2),2) -> 27.53 | AG21: 21_1_1 = | AH21: =$AF21 -> 27.53
A23: =CONCATENATE(" T1 = (18*N)/(60*Eo) =",TEXT($AF23,"#,##0.00")) -> T1 = (18*N)/(60*Eo) =23.60 | B23: =SUM($C23,$D23,$E23) -> 0 | K23: T1 = (18*N)/(60*Eo) =? | AA23: T1+ = | AB23: =ROUND((18*$AD21)/(60*$AP17),2) -> 23.6 | AC23: T1 = | AD23: =$AB23 -> 23.6 | AE23: 23_1_1+ = | AF23: =ROUND(ROUND((18*$AD21)/(60*$AP17),2),2) -> 23.6 | AG23: 23_1_1 = | AH23: =$AF23 -> 23.6
A25: =CONCATENATE(" T2 = (L/35)*60 =",TEXT($AF25,"#,##0.00")) -> T2 = (L/35)*60 =51.43 | B25: =SUM($C25,$D25,$E25) -> 0 | K25: T2 = (L/35)*60 =? | AA25: T2+ = | AB25: =ROUND(($AD17/35)*60,2) -> 51.43 | AC25: T2 = | AD25: =$AB25 -> 51.43 | AE25: 25_1_1+ = | AF25: =ROUND(ROUND(($AD17/35)*60,2),2) -> 51.43 | AG25: 25_1_1 = | AH25: =$AF25 -> 51.43
A27: =CONCATENATE(" T3=",TEXT($AB27,"#,##0.0"),", T4=",TEXT($AF27,"#,##0.00"),", T5=",TEXT($AJ27,"#,##0.00")) -> T3=0.8, T4=0.42, T5=0.50 | K27: =SUBSTITUTE(SUBSTITUTE(SUBSTITUTE(SUBSTITUTE(" T3 = 0.8, T4 = 0.42, T5 = 0.50","0.8",TEXT($AB27,"#,##0.0"),1),"0.42",TEXT($AF27,"#,##0.00"),1),"0.50",TEXT($AJ27,"#,##0.00"),1),"_x001D_","'") -> T3 = 0.8, T4 = 0.42, T5 = 0.50 | AA27: T3 = | AB27: 0.8 | AC27: T3 = | AD27: =$AB27 -> 0.8 | AE27: T4 = | AF27: 0.42 | AG27: T4 = | AH27: =$AF27 -> 0.42 | AI27: T5 = | AJ27: 0.5 | AK27: T5 = | AL27: =$AJ27 -> 0.5
A29: =CONCATENATE(" CM = T1+T2+T3+T4+T5 = ",TEXT($AF29,"#,##0.00")) -> CM = T1+T2+T3+T4+T5 = 76.75 | B29: =SUM($C29,$D29,$E29) -> 0 | K29: CM = T1+T2+T3+T4+T5 = ? | AA29: CM+ = | AB29: =ROUND($AD23+$AD25+$AD27+$AH27+$AL27,2) -> 76.75 | AC29: CM = | AD29: =$AB29 -> 76.75 | AE29: 29_1_1+ = | AF29: =ROUND(ROUND($AD23+$AD25+$AD27+$AH27+$AL27,2),2) -> 76.75 | AG29: 29_1_1 = | AH29: =$AF29 -> 76.75
A31: =CONCATENATE(" Q2 = (60*Q*F*E)/CM = ",TEXT($AF31,"#,##0.00")," M3/HR ") -> Q2 = (60*Q*F*E)/CM = 4.62 M3/HR | B31: =SUM($C31,$D31,$E31) -> 0 | K31: Q2 = (60*Q*F*E)/CM = ?'M3/HR' | AA31: Q2+ = | AB31: =ROUND((60*$AD19*$AL17*$AH17)/$AD29,2) -> 4.62 | AC31: Q2 = | AD31: =$AB31 -> 4.62 | AE31: 31_1_1+ = | AF31: =ROUND(ROUND((60*$AD19*$AL17*$AH17)/$AD29,2),2) -> 4.62 | AG31: 31_1_1 = | AH31: =$AF31 -> 4.62
A33: =CONCATENATE(" 경 비: _x001D_20,276_x001D_ / Q2 = ",TEXT($AB33,"#,##0.0")) -> 경 비: _x001D_20,276_x001D_ / Q2 = 4,388.7 | B33: =SUM($C33,$D33,$E33) -> 4388.7 | E33: =$AB33 -> 4388.7 | K33: '경 비:'~E0006020150.E~ / Q2 = ?EQ+ | AA33: EQ+ = | AB33: =TRUNC(중기사용료목록!G3/$AD31,1) -> 4388.7 | AC33: EQ = | AD33: =$AB33 -> 4388.7
A35: =CONCATENATE(" 노무비: _x001D_59,025_x001D_ / Q2 = ",TEXT($AB35,"#,##0.0")) -> 노무비: _x001D_59,025_x001D_ / Q2 = 12,775.9 | B35: =SUM($C35,$D35,$E35) -> 12775.9 | D35: =$AB35 -> 12775.9 | K35: '노무비:'~E0006020150.L~ / Q2 = ?LA+ | AA35: LA+ = | AB35: =TRUNC(중기사용료목록!F3/$AD31,1) -> 12775.9 | AC35: LA = | AD35: =$AB35 -> 12775.9
A37: =CONCATENATE(" 재료비: _x001D_30,192_x001D_ / Q2 = ",TEXT($AB37,"#,##0.0")) -> 재료비: _x001D_30,192_x001D_ / Q2 = 6,535.0 | B37: =SUM($C37,$D37,$E37) -> 6535 | C37: =$AB37 -> 6535 | K37: '재료비:'~E0006020150.M~ / Q2 = ?MA+ | AA37: MA+ = | AB37: =TRUNC(중기사용료목록!E3/$AD31,1) -> 6535 | AC37: MA = | AD37: =$AB37 -> 6535
A39: 소 계 : | B39: =SUM($C39,$D39,$E39) -> 23699.6 | C39: =$AB39 -> 6535 | D39: =$AD39 -> 12775.9 | E39: =$AF39 -> 4388.7 | K39: >'소 계 :' | AA39: >MA = | AB39: =$AD37 -> 6535 | AC39: >LA = | AD39: =$AD35 -> 12775.9 | AE39: >EQ = | AF39: =$AD33 -> 4388.7
A42: 합 계 : | B42: =SUM($C42,$D42,$E42) -> 23699.6 | C42: =$AB42 -> 6535 | D42: =$AD42 -> 12775.9 | E42: =$AF42 -> 4388.7 | K42: >>'합 계 :' | AA42: >>MA = | AB42: =$AD37 -> 6535 | AC42: >>LA = | AD42: =$AD35 -> 12775.9 | AE42: >>EQ = | AF42: =$AD33 -> 4388.7
A44: 전체 합계 | B44: =SUM($C44,$D44,$E44) -> 23698 | C44: =TRUNC(SUM($AD37),0) -> 6535 | D44: =TRUNC(SUM($AD35),0) -> 12775 | E44: =TRUNC(SUM($AD33),0) -> 4388
A46: #2 폐기물처리비 | 폐아스콘|TON | B46: =$B62 -> 32166 | C46: 0 | D46: 0 | E46: =$E62 -> 32166 | H46: SD80014 | K46: 1 | Y46: =EXACT($Z46,$B62) -> TRUE | Z46: 32166
I48: 10 | K48: F
A49: * 2026년 폐기물처리비 - 폐아스콘 / TON 당 | K49: '* 2026년 폐기물처리비 - 폐아스콘 / TON 당'
A51: (사)한국건설자원협회.제공 | K51: '(사)한국건설자원협회.제공'
A53: 1. 폐아스콘 처리비 | K53: '1. 폐아스콘 처리비'
A55: =CONCATENATE(" 처리비 : _x001D_32,166_x001D_ * 1 톤 = ",TEXT($AB55,"#,##0.0")) -> 처리비 : _x001D_32,166_x001D_ * 1 톤 = 32,166.0 | B55: =SUM($C55,$D55,$E55) -> 32166 | E55: =$AB55 -> 32166 | K55: '처리비 : '~GP00600.T~ * 1'톤' = ?EQ+ | AA55: EQ+ = | AB55: =TRUNC((경비!D3+경비!E3+경비!F3)*1,1) -> 32166 | AC55: EQ = | AD55: =$AB55 -> 32166
A57: 소 계 : | B57: =SUM($C57,$D57,$E57) -> 32166 | C57: =$AB57 -> 0 | D57: =$AD57 -> 0 | E57: =$AF57 -> 32166 | K57: > '소 계 :' | AE57: >EQ = | AF57: =$AD55 -> 32166
A60: 합 계 : | B60: =SUM($C60,$D60,$E60) -> 32166 | C60: =$AB60 -> 0 | D60: =$AD60 -> 0 | E60: =$AF60 -> 32166 | K60: >>'합 계 :' | AE60: >>EQ = | AF60: =$AD55 -> 32166
A62: 전체 합계 | B62: =SUM($C62,$D62,$E62) -> 32166 | C62: 0 | D62: 0 | E62: =TRUNC(SUM($AD55),0) -> 32166

Sheet 중기사용료목록
A1: 중기사용료목록
A2: 공 종 명 | B2: 규 격 | C2: 수 량 | D2: 단 위 | E2: 재 료 비 | F2: 노 무 비 | G2: 경 비 | H2: 합 계 | I2: 비 고
A3: 덤프트럭 | B3: 15 TON | C3: 1 | D3: HR | E3: =중기사용료!G10 -> 30192 | F3: =중기사용료!G12 -> 59025 | G3: =중기사용료!G7 -> 20276 | H3: =E3+F3+G3 -> 109493 | K3: E0006020150 | O3: =HYPERLINK("#중기사용료!A3","E0006020150 →") -> E0006020150 →

Sheet 중기사용료
A1: 중기사용료
A3: 중 기 명 | B3: 덤프트럭 15 TON | J3: E0006020150
A4: 중기가격 | B4: 88,973 천원
A5: 명 칭 | C5: 규 격 | D5: 수 량 | E5: 단 위 | F5: 단 가 | G5: 금 액 | H5: 비 고
A6: 경 비 | B6: 덤프트럭 | C6: 15 TON | D6: =(900 + 700 + 679)*10^-4 -> 0.2279 | E6: 천원 | F6: =중기기초자료!F3 -> 88973 | G6: =TRUNC(F6*D6, 1) -> 20276.9 | K6: 10 | M6: G06020150 | N6: .sang=900 ,jung=700 ,kwan=679 | AG6: =HYPERLINK("#중기기초자료!A3","G06020150 →") -> G06020150 →
B7: 소 계 | G7: =TRUNC(G6, 0) -> 20276
A8: 재 료 비 | B8: 경 유 | D8: 15.9 | E8: L | F8: =중기기초자료!D5 -> 1376 | G8: =TRUNC(F8*D8, 1) -> 21878.4 | K8: 40 | M8: M9366005 | AG8: =HYPERLINK("#중기기초자료!A5","M9366005 →") -> M9366005 →
B9: 잡 품 | D9: 38 | E9: % | F9: 0 | G9: =TRUNC((G8) * D9/100, 1) -> 8313.7 | K9: 50 | M9: F/M1
B10: 소 계 | G10: =TRUNC(G8+G9, 0) -> 30192
A11: 노 무 비 | B11: 건설기계운전사 | C11: 구)건설기계운전기사 | D11: 1 | E11: 인 | F11: =TRUNC(중기기초자료!E4 * 중기전역변수!C18, 1) -> 59025.6 | G11: =TRUNC(F11*D11, 1) -> 59025.6 | K11: 15 | M11: L086 | AG11: =HYPERLINK("#중기기초자료!A4","L086 →") -> L086 →
B12: 소 계 | G12: =TRUNC(G11, 0) -> 59025
B13: 총 계 | G13: =TRUNC(G7+G10+G12, 0) -> 109493

Sheet 중기기초자료
A1: 중기기초자료
A2: 명 칭 | B2: 규 격 | C2: 단 위 | D2: 재 료 비 | E2: 노 무 비 | F2: 경 비 | G2: 합 계 | H2: 비 고
A3: 덤프트럭 | B3: 15 TON | C3: 천원 | D3: 0 | E3: 0 | F3: 88973 | G3: 88973 | J3: G06020150
A4: 건설기계운전사 | C4: 인 | D4: 0 | E4: 283323 | F4: 0 | G4: 283323 | I4: 56900017002 | J4: L086
A5: 경 유 | C5: L | D5: 1376 | E5: 0 | F5: 0 | G5: 1376 | H5: 2026.01.06 | J5: M9366005

Sheet 자재
A1: 자재
A2: 명 칭 | B2: 규 격 | C2: 단 위 | D2: 단 가 | E2: 비 고

Sheet 노임
A1: 노임
A2: 명 칭 | B2: 규 격 | C2: 단 위 | D2: 단 가 | E2: 비 고

Sheet 경비
A1: 경비
A2: 명 칭 | B2: 규 격 | C2: 단 위 | D2: 재 료 비 | E2: 노 무 비 | F2: 경 비 | G2: 합 계 | H2: 비 고
A3: 폐기물처리비 | B3: 폐아스팔트콘크리트 | C3: TON | D3: 0 | E3: 0 | F3: 32166 | G3: =D3+E3+F3 -> 32166 | J3: GP00600
A4: 금액조정 | B4: 폐기물 처리 | C4: 식 | D4: 0 | E4: 0 | F4: 8578 | G4: =D4+E4+F4 -> 8578 | J4: GSD4003

Sheet 자재조서
A1: 자재조서
A2: 코 드 | B2: 명 칭 | C2: 규 격 | D2: 단위 | E2: 적용단가 | F2: 물가자료 | H2: 물가정보 | J2: 거래가격 | L2: 가격정보 | N2: 견적단가 | P2: 적용방법 | Q2: 적용일시 | U2: 202201
F3: 단가 | G3: Page | H3: 단가 | I3: Page | J3: 단가 | K3: Page | L3: 단가 | M3: Page | N3: 단가 | O3: Page | U3: 1
U4: 1
U11: 1
U12: 2
U13: 3
U14: 4
U15: 5
U16: 6
U21: 물가자료
U22: 물가정보
U23: 거래가격
U24: 가격정보
U25: 견적단가
... U36: 0

Sheet 전역변수
A1: 전역변수
A2: 변 수 명 | B2: 형 식 | C2: 값 | D2: 비 고 | E2: 적용단위
A3: A | B3: 숫자 | C3: 1208 | E3: $
A4: BS01 | B4: 숫자 | C4: 100 | D4: 병렬터널할증 | E4: %
A5: BTR | B5: 숫자 | C5: 100 | D5: 하반할증 | E5: %
A6: CPI | B6: 숫자 | C6: 4.99 | D6: 소비자물가변동율 | E6: %
A7: D1 | B7: 숫자 | C7: 1.9
A8: EX1 | B8: 숫자 | C8: 0 | D8: 야간할증 | E8: %
A9: EX2 | B9: 숫자 | C9: 0 | D9: 작업능률 저하(야간작업) | E9: %
A10: EX3 | B10: 숫자 | C10: 0 | D10: 위험할증(교량작업:인도교) | E10: %
A11: EX4 | B11: 숫자 | C11: 0 | D11: 지세별 차선할증(번화가 4차선) | E11: %
A12: EX51 | B12: 숫자 | C12: 50 | D12: 협소공간작업 | E12: %
A13: EX52 | B13: 숫자 | C13: 0 | D13: 진동,소음 | E13: %
A14: GB01 | B14: 숫자 | C14: 74 | D14: 볼트손율(24개월조임철물적용) | E14: %
A15: GBO2 | B15: 숫자 | C15: 56 | D15: 잭손율(24개월받침철물적용) | E15: %
A16: HPN3 | B16: 숫자 | C16: 9 | D16: H-형강손료 | E16: %
A17: JANG_D | B17: 숫자 | C17: 80.2 | D17: 동시굴착 범위 (복선) | E17: %
A18: JANG_S | B18: 숫자 | C18: 59 | D18: 병렬굴착 범위 (단선) | E18: %
A19: L1 | B19: 숫자 | C19: 0.2 | D19: 갤러리관보강길이
A20: L2 | B20: 숫자 | C20: 0.15 | D20: 슬래브관보강길이
A21: MA100 | B21: 숫자 | C21: 100 | D21: 기계공사-60 | E21: %
A22: MA110 | B22: 숫자 | C22: 100 | D22: 수초-50 | E22: %
A23: MA115 | B23: 숫자 | C23: 100 | D23: 분수-50 | E23: %
A24: MA120 | B24: 숫자 | C24: 100 | D24: 크레인-50 | E24: %
A25: MA130 | B25: 숫자 | C25: 100 | D25: 관급자재(토목,기계,건축,전기)-90 | E25: %
A26: NIG | B26: 숫자 | C26: 0.326 | D26: 야간할증(능률저하10%) | E26: %
A27: NRL | B27: 숫자 | C27: 87.5 | D27: 야간노무비할증 | E27: %
A28: OT | B28: 숫자 | C28: 1.5
A29: PDH3 | B29: 숫자 | C29: 1.4 | D29: 3공구 장대할증 | E29: %
A30: PDH4 | B30: 숫자 | C30: 0 | D30: 4공구 장대할증 | E30: %
A31: PHH1 | B31: 숫자 | C31: 1 | D31: 로드헤드운전원 | E31: 인
A32: Q1 | B32: 숫자 | C32: 1.5
A33: R | B33: 숫자 | C33: 1.0386
A34: R1 | B34: 숫자 | C34: 1.43
A35: RLN | B35: 숫자 | C35: 87.5 | D35: 야간공사 노무비 할증 | E35: %
A36: RP | B36: 숫자 | C36: 100 | D36: 적용 낙찰율 실적 | E36: %
A37: RP1 | B37: 숫자 | C37: 100 | D37: 일반공사 낙찰율 | E37: %
A38: RP2 | B38: 숫자 | C38: 100 | D38: 사급자재 낙찰율 | E38: %
A39: S | B39: 숫자 | C39: 1108
A40: SPN3 | B40: 숫자 | C40: 9 | D40: S-파일손료 | E40: %
...

Sheet 중기전역변수
A1: 중기전역변수
A2: 변 수 명 | B2: 형 식 | C2: 값 | D2: 비 고
A3: QCODE | B3: 문자 | C3: 100000000001
A4: QUS2WON | B4: 숫자 | C4: 1442 | D4: 환율(장비가격10만불이하)
A5: QUS2WON1 | B5: 숫자 | C5: 1442 | D5: 환율(장비가격10만불이상)
A6: QYEN2WON | B6: 숫자 | C6: 9.19 | D6: 환율(엔화)
A7: QDM2WON | B7: 숫자 | C7: 0 | D7: 환율(마르크화)
A8: QSDR2WON | B8: 숫자 | C8: 0 | D8: 환율(IMF특별인출권)
A9: QECU2WON | B9: 숫자 | C9: 0 | D9: 환율(유로화)
A10: QEQTY1 | B10: 문자 | C10: (SANG + JUNG + KWAN)*10^-4 | D10: 중기주간경비산출계수
A11: QEQTY2 | B11: 문자 | C11: (SANG + JUNG + KWAN)*10^-4 | D11: 중기야간경비산출계수
A12: QEQTY3 | B12: 문자 | C12: (SANG + JUNG + int(KWAN/3))*10^-4 | D12: 중기주야간경비산출계수
A13: QEINC2 | B13: 숫자 | C13: 1.25 | D13: 중기야간할증계수
A14: QEINC3 | B14: 숫자 | C14: 1.071 | D14: 중기주야간할증계수
A15: QDECPEQ | B15: 문자 | C15: 0 | D15: 경비단가소숫점
A16: QDECCEQ | B16: 문자 | C16: 1 | D16: 경비금액소숫점
A17: QDECEQ | B17: 문자 | C17: 0 | D17: 경비계금액소숫점
A18: QH1 | B18: 문자 | C18: =25/20 * 16/12 * 1/8 -> 0.20833333 | D18: 시간당노임산출계수(일반구간)
A19: QH2 | B19: 문자 | C19: =25/20 * 16/12 * 1/8 -> 0.20833333 | D19: 시간당노임산출계수(터널구간)
A20: QH21 | B20: 문자 | C20: =25/20 * 16/12 * 1/8 -> 0.20833333 | D20: 시간당노임산출계수(장대터널)
A21: QH31 | B21: 문자 | C21: =25/20 * 16/12 * 1/8 -> 0.20833333 | D21: 시간당노임산출계수(해상장비:펌프준설선)
A22: QH32 | B22: 문자 | C22: =25/20 * 16/12 * 1/8 -> 0.20833333 | D22: 시간당노임산출계수(해상장비:GRAB준설선)
A23: QH33 | B23: 문자 | C23: =25/20 * 16/12 * 1/8 -> 0.20833333 | D23: 시간당노임산출계수(해상장비:버켓준설선)
A24: QLINC1 | B24: 숫자 | C24: 1 | D24: 노임할증계수(일반구간:주간)
A25: QLINC2 | B25: 숫자 | C25: 1.5 | D25: 노임할증계수(일반구간:야간)
A26: QLINC3 | B26: 숫자 | C26: 1.16 | D26: 노임할증계수(일반구간:주야간)
A27: QLINCA | B27: 숫자 | C27: 1.6 | D27: 노임할증계수(터널구간:주간)
A28: QLINCB | B28: 숫자 | C28: 1.6 | D28: 노임할증계수(터널구간:야간)
A29: QLINCC | B29: 숫자 | C29: 1.6 | D29: 노임할증계수(터널구간:주야간)
A30: QLINCD | B30: 숫자 | C30: 1.94 | D30: 노임할증계수(장대터널:주간)
A31: QLINCE | B31: 숫자 | C31: 1.94 | D31: 노임할증계수(장대터널:야간)
A32: QLINCF | B32: 숫자 | C32: 1.94 | D32: 노임할증계수(장대터널:주야간)
A33: QLINCX | B33: 숫자 | C33: 1 | D33: 노임할증계수(해상장비:주간)
A34: QLINCY | B34: 숫자 | C34: 1 | D34: 노임할증계수(해상장비:야간)
A35: QLINCZ | B35: 숫자 | C35: 1 | D35: 노임할증계수(해상장비:주야간)
A36: QDECPLA | B36: 문자 | C36: 1 | D36: 노임단가소숫점
A37: QDECCLA | B37: 문자 | C37: 1 | D37: 노임금액소숫점
A38: QDECLA | B38: 문자 | C38: 0 | D38: 노임계금액소숫점
A39: QMINC2 | B39: 숫자 | C39: 1.11 | D39: 재료비할증계수(야간)
A40: QMINC3 | B40: 숫자 | C40: 1.12 | D40: 재료비할증계수(주야간)
...
