Workbook
Name _1_: [72]총괄내역서!#REF!
Name _2_0Crite: [73]총괄내역서!#REF!
Name _3_0Extr: [73]총괄내역서!#REF!
Name _: #N/A
Name _1._토______공: #REF!
Name _1.구체: [76]수로단위수량!#REF!
Name _15A: [77]일위대가목차!$D$3:$D$10
Name _1공장: #REF!
Name _2: '[79]환경기계공정표 (3)'!#REF!
Name _2._교___량___공: #REF!
Name _2._날_개_벽: #REF!
Name _2.접속저판: [76]수로단위수량!#REF!
Name _2공장: #REF!
Name _3._배__수__공: #REF!
Name _3.기초: [76]수로단위수량!#REF!
Name _3공장: #REF!
Name _4._구_조_물_공: #REF!
Name _4.거푸집: [76]수로단위수량!#REF!
Name _5: '[79]환경기계공정표 (3)'!#REF!
Name _5._포__장__공: #REF!
Name _5.거푸집: [76]수로단위수량!#REF!
Name _6._가_시_설_공: #REF!
Name _6.부직포: [76]수로단위수량!#REF!
Name _6.잡석채움: [76]수로단위수량!#REF!
Name _7._부__대__공: #REF!
Name _7.배수: [76]수로단위수량!#REF!
Name _7.부대공: #REF!
Name _8.스페이서: [76]수로단위수량!#REF!
Name _9.문양: [76]수로단위수량!#REF!
Name _A: #REF!
Name _a1: '[82]1호맨홀토공'!$R$12
Name _A11: BLO_1
Name _A12: BLO_1
Name _A13: BLO_1
Name _A14: BLO_1
Name _A15: BLO_1
Name _A2: BLO_1
Name _A3: BLO_1
Name _A4: BLO_1
Name _A5: BLO_1
Name _A6: BLO_1
Name _A7: BLO_1
Name _A8: BLO_1
Name _A81620: [83]수량이동!#REF!
Name _A9: BLO_1
Name _aab42: #REF!
Name _AE1: BLO_1
Name _AE2: BLO_1
Name _AE3: BLO_1
Name _AUS1: BLO_1
Name _boo2: [85]조건표!$A$2:$H$348
Name _box01: #REF!
Name _CDT1: #REF!
Name _CDT2: #REF!
Name _CDT3: #REF!
Name _CON135: #REF!
Name _CON210: #REF!
Name _CON240: #REF!
Name _D100000: #REF!
Name _D600000: #REF!

Sheet 설계제원
A1: 설 계 제 원
A5: ■ 2급기준점측량 | B5: 0 | F5: =B5 -> 0
A6: ▶ 지형구분
A7: 구 분 | B7: 밀집시가지 | C7: ="시가지" -> 시가지 | D7: 평 지 | E7: 산 지 | F7: 산악지 | G7: 비 고
A8: 증가계수 | B8: 0 | C8: 0 | D8: 1 | E8: 0 | F8: 0 | G8: =SUM(B8:F8) -> 1
A10: ■ 4급기준점측량 | B10: =ROUND((F34+F36)/0.5,0) -> 17 | F10: =B10 -> 17
A11: ▶ 지형구분
A12: 구 분 | B12: 밀집시가지 | C12: ="시가지" -> 시가지 | D12: 평 지 | E12: 산 지 | F12: 산악지 | G12: 비 고
A13: 증가계수 | B13: 0 | C13: 0 | D13: 1 | E13: 0 | F13: 0 | G13: =SUM(B13:F13) -> 1
A15: ■ 조사/탐사 종수 | B15: 1 | C15: 종(도로,상수도,하수도)
A16: ▶ 지형구분(도로)
A17: 구 분 | B17: 밀집시가지 | C17: ="시가지" -> 시가지 | D17: 교외지 | E17: ="농경지" -> 농경지 | F17: ="구릉지" -> 구릉지 | G17: 산악지 | H17: 비 고
A18: 지형계수 | B18: 0 | C18: 0 | D18: 1 | E18: 0 | F18: 0 | G18: 0 | H18: =SUM(B18:G18) -> 1
A20: ▶ 지형구분(상수도)
A21: 구 분 | B21: 밀집시가지 | C21: ="시가지" -> 시가지 | D21: 교외지 | E21: ="농경지" -> 농경지 | F21: ="구릉지" -> 구릉지 | G21: 산악지 | H21: 비 고
A22: 지형계수 | B22: 0 | C22: 0 | D22: 1 | E22: 0 | F22: 0 | G22: 0 | H22: =SUM(B22:G22) -> 1
A24: ▶ 지형구분(하수도)
A25: 구 분 | B25: 밀집시가지 | C25: ="시가지" -> 시가지 | D25: 교외지 | E25: ="농경지" -> 농경지 | F25: ="구릉지" -> 구릉지 | G25: 산악지 | H25: 비 고
A26: 지형계수 | B26: 0 | C26: 0 | D26: 1 | E26: 0 | F26: 0 | G26: 0 | H26: =SUM(B26:G26) -> 1
A28: ▶ 지형구분(지형도 구조화편집)
A29: 구 분 | B29: 시가지 | C29: 교외지 | D29: 농경지 | E29: 구릉지 | F29: 산악지 | G29: 비 고
A30: 지형계수 | B30: 0 | C30: 1 | D30: 0 | E30: 0 | F30: 0 | G30: =SUM(B30:F30) -> 1
A32: ▶ 지하시설물도 작업량
B33: 도 로 | D33: 상 수 도 | F33: 하 수 도 | H33: 비 고
A34: 구분 | B34: 0 | C34: km 조사/측량 | D34: 0 | E34: km(노출관로) 실측 | F34: =수량표!G21/1000 -> 7.546 | G34: km(노출관로/압송관) 실측
D35: 0 | E35: km(50mm이상) 조사/탐사 | F35: 0 | G35: km(200mm이상) 조사/탐사
D36: 0 | E36: km(50mm이상) 조사 | F36: =(수량표!D21+비굴착제원표!E33)/1000 -> 0.8836 | G36: km(200mm이상) 조사 | H36: 직선구간

Sheet 갑지
A1: 2026년 월 일 설계 | D1: 담당자 | F1: 과 장 | H1: 부 장 | J1: 본부장
B3: 2026년도
A5: 성산하수처리구역 차집관로 정비공사(2공구) GIS DB구축 용역 설 계 예 산 서
C7: ·과업위치 : | D7: 제주특별자치도 서귀포시 성산읍 일원
C8: ·과업개요 : | D8: - 시설물 데이터베이스 구축
D9: 차집관(굴착) D150~D500 L=8.378km
D10: 차집관(비굴착) D500 L=0.052km
C13: 총용역비: | D13: =" 금 "&FIXED('총괄(원본)'!F34,0)&"(금 "&NUMBERSTRING('총괄(원본)'!F34,1)&"원)" -> 금 171,910,000(금 일억칠천일백구십일만원)

Sheet 총괄(원본)
A2: 총 괄 내 역 서
A4: 공 정 | B4: 규격 | C4: 수량 | D4: 단위 | E4: 총 계 | G4: 노 무 비 | I4: 재 료 비 | K4: 경 비 | M4: 비 고
E5: 단가 | F5: 금 액 | G5: 단가 | H5: 금 액 | I5: 단가 | J5: 금 액 | K5: 단가 | L5: 금 액
A6: Ⅰ. 데이터베이스구축
A7: 1. 도시기준점측량
A8: 1.1 기준점측량(2급) | C8: =설계제원!B5 -> 0 | D8: 점 | E8: =G8+I8+K8 -> 1875843 | F8: =H8+J8+L8 -> 0 | G8: =일위대가!H22 -> 1875843 | H8: =INT(G8*C8) -> 0 | I8: =일위대가!J22 -> 0 | J8: =INT(I8*C8) -> 0 | K8: =일위대가!L22 -> 0 | L8: =INT(K8*C8) -> 0 | M8: 제I-1-1호표
A9: 1.2 기준점측량(4급) | C9: =설계제원!B10 -> 17 | D9: 점 | E9: =G9+I9+K9 -> 362552 | F9: =H9+J9+L9 -> 6163384 | G9: =일위대가!H37 -> 226552 | H9: =INT(G9*C9) -> 3851384 | I9: =일위대가!J37 -> 136000 | J9: =INT(I9*C9) -> 2312000 | K9: =일위대가!L37 -> 0 | L9: =INT(K9*C9) -> 0 | M9: 제I-1-2호표
A10: 2. 도로와 지하시설물 조사/탐사
A11: 2.1 도로시설물 조사/측량 | C11: =설계제원!B34 -> 0 | D11: ㎞ | E11: =G11+I11+K11 -> 3469420 | F11: =H11+J11+L11 -> 0 | G11: =일위대가!H53 -> 3469420 | H11: =INT(G11*C11) -> 0 | I11: =일위대가!J53 -> 0 | J11: =INT(I11*C11) -> 0 | K11: =일위대가!L53 -> 0 | L11: =INT(K11*C11) -> 0 | M11: 제I-2-1호표
A12: 2.2 상수도 노출관로 조사 | C12: =설계제원!D34 -> 0 | D12: ㎞ | E12: =G12+I12+K12 -> 9724755 | F12: =H12+J12+L12 -> 0 | G12: =일위대가!H69 -> 9724755 | H12: =INT(G12*C12) -> 0 | I12: =일위대가!J69 -> 0 | J12: =INT(I12*C12) -> 0 | K12: =일위대가!L69 -> 0 | L12: =INT(K12*C12) -> 0 | M12: 제I-2-2호표
A13: 2.3 상수도 관로 조사/탐사 | C13: =설계제원!D35 -> 0 | D13: ㎞ | E13: =G13+I13+K13 -> 7727318 | F13: =H13+J13+L13 -> 0 | G13: =일위대가!H85 -> 7713537 | H13: =INT(G13*C13) -> 0 | I13: =일위대가!J85 -> 0 | J13: =INT(I13*C13) -> 0 | K13: =일위대가!L85 -> 13781 | L13: =INT(K13*C13) -> 0 | M13: 제I-2-3호표
A14: 2.4 상수도 관로 조사 | C14: =설계제원!D36 -> 0 | D14: ㎞ | E14: =G14+I14+K14 -> 4488191 | F14: =H14+J14+L14 -> 0 | G14: =일위대가!H100 -> 4488191 | H14: =INT(G14*C14) -> 0 | I14: =일위대가!J100 -> 0 | J14: =INT(I14*C14) -> 0 | K14: =일위대가!L100 -> 0 | L14: =INT(K14*C14) -> 0 | M14: 제I-2-4호표
A15: 2.5 하수도 노출관로 조사 | C15: =설계제원!F34 -> 7.546 | D15: ㎞ | E15: =G15+I15+K15 -> 6442004 | F15: =H15+J15+L15 -> 48611362 | G15: =일위대가!H117 -> 6442004 | H15: =INT(G15*C15) -> 48611362 | I15: =일위대가!J117 -> 0 | J15: =INT(I15*C15) -> 0 | K15: =일위대가!L117 -> 0 | L15: =INT(K15*C15) -> 0 | M15: 제I-2-5호표
A16: 2.6 하수도 관로 조사/탐사 | C16: =설계제원!F35 -> 0 | D16: ㎞ | E16: =G16+I16+K16 -> 5115981 | F16: =H16+J16+L16 -> 0 | G16: =일위대가!H134 -> 5106844 | H16: =INT(G16*C16) -> 0 | I16: =일위대가!J134 -> 0 | J16: =INT(I16*C16) -> 0 | K16: =일위대가!L134 -> 9137 | L16: =INT(K16*C16) -> 0 | M16: 제I-2-6호표
A17: 2.7 하수도 관로조사 | C17: =설계제원!F36 -> 0.8836 | D17: ㎞ | E17: =G17+I17+K17 -> 2971948 | F17: =H17+J17+L17 -> 2626013 | G17: =일위대가!H149 -> 2971948 | H17: =INT(G17*C17) -> 2626013 | I17: =일위대가!J149 -> 0 | J17: =INT(I17*C17) -> 0 | K17: =일위대가!L149 -> 0 | L17: =INT(K17*C17) -> 0 | M17: 제I-2-7호표
A18: 3. 지하시설물도 정위치편집
A19: 3.1 도로 정위치편집 | C19: =C11 -> 0 | D19: ㎞ | E19: =G19+I19+K19 -> 268165 | F19: =H19+J19+L19 -> 0 | G19: =일위대가!H164 -> 263922 | H19: =INT(G19*C19) -> 0 | I19: =일위대가!J164 -> 0 | J19: =INT(I19*C19) -> 0 | K19: =일위대가!L164 -> 4243 | L19: =INT(K19*C19) -> 0 | M19: 제I-3-1호표
A20: 3.2 상수도관로 정위치편집 | C20: =C12+C13+C14 -> 0 | D20: ㎞ | E20: =G20+I20+K20 -> 346372 | F20: =H20+J20+L20 -> 0 | G20: =일위대가!H179 -> 340835 | H20: =INT(G20*C20) -> 0 | I20: =일위대가!J179 -> 0 | J20: =INT(I20*C20) -> 0 | K20: =일위대가!L179 -> 5537 | L20: =INT(K20*C20) -> 0 | M20: 제I-3-2호표
A21: 3.3 하수도관로 정위치편집 | C21: =C15+C16+C17 -> 8.4296 | D21: ㎞ | E21: =G21+I21+K21 -> 232783 | F21: =H21+J21+L21 -> 1962267 | G21: =일위대가!H194 -> 229109 | H21: =INT(G21*C21) -> 1931297 | I21: =일위대가!J194 -> 0 | J21: =INT(I21*C21) -> 0 | K21: =일위대가!L194 -> 3674 | L21: =INT(K21*C21) -> 30970 | M21: 제I-3-3호표
A22: 4. 지하시설물도 구조화편집
A23: 4.1 도로 구조화편집 | C23: =C19 -> 0 | D23: ㎞ | E23: =G23+I23+K23 -> 240631 | F23: =H23+J23+L23 -> 0 | G23: =일위대가!H209 -> 237578 | H23: =INT(G23*C23) -> 0 | I23: =일위대가!J209 -> 0 | J23: =INT(I23*C23) -> 0 | K23: =일위대가!L209 -> 3053 | L23: =INT(K23*C23) -> 0 | M23: 제I-4-1호표
A24: 4.2 상수도관로 구조화편집 | C24: =C20 -> 0 | D24: ㎞ | E24: =G24+I24+K24 -> 311391 | F24: =H24+J24+L24 -> 0 | G24: =일위대가!H224 -> 307458 | H24: =INT(G24*C24) -> 0 | I24: =일위대가!J224 -> 0 | J24: =INT(I24*C24) -> 0 | K24: =일위대가!L224 -> 3933 | L24: =INT(K24*C24) -> 0 | M24: 제I-4-2호표
A25: 4.3 하수도관로 구조화편집 | C25: =C21 -> 8.4296 | D25: ㎞ | E25: =G25+I25+K25 -> 209333 | F25: =H25+J25+L25 -> 1764593 | G25: =일위대가!H239 -> 206746 | H25: =INT(G25*C25) -> 1742786 | I25: =일위대가!J239 -> 0 | J25: =INT(I25*C25) -> 0 | K25: =일위대가!L239 -> 2587 | L25: =INT(K25*C25) -> 21807 | M25: 제I-4-3호표
A26: 소 계 | F26: =H26+J26+L26 -> 61127619 | H26: =SUM(H8:H25) -> 58762842 | J26: =SUM(J8:J25) -> 2312000 | L26: =SUM(L8:L25) -> 52777
A27: 제 경 비 | C27: 1.1 | F27: =TRUNC(H26*C27) -> 64639126
A28: 기 술 료 | C28: 0.2 | D28: % | F28: =TRUNC((H26+F27)*C28,0) -> 24680393
A29: 손해배상공제료 | C29: 1 | D29: 식 | F29: ='손해배상공제료(상수도)'!H15 -> 1221000
A30: 계 | F30: =SUM(F26:F29) -> 151668138
A31: 부가가치세 | F31: =TRUNC((F30*10%),0) -> 15166813
A32: 합 계 | F32: =SUM(F30:F31) -> 166834951
A33: 성과심사비 | F33: ='성과심사비(지하시설물)'!H29 -> 5075270
A34: 데이터베이스구축 총계 | F34: =ROUNDDOWN(F32+F33,-3) -> 171910000 | G34: 천원미만 절삭

Sheet 일위대가
A2: 일 위 대 가 표
A4: 공 정 | B4: 규격 | C4: 수량 | D4: 단위 | E4: 합 계 | G4: 노 무 비 | I4: 재 료 비 | K4: 경 비 | M4: 비고
E5: 단 가 | F5: 금 액 | G5: 단 가 | H5: 금 액 | I5: 단 가 | J5: 금 액 | K5: 단 가 | L5: 금 액
A6: 제I-1-1호표 기준점측량(2급) - 단위 : 1점당
A7: 1. 인 건 비
A8: 특급기술자 | C8: =기준점_산출근거!Q49 -> 0.15 | D8: 인 | F8: =H8+J8+L8 -> 49016 | G8: =노임단가!F6 -> 326774 | H8: =INT(G8*C8) -> 49016
A9: 고급기술자 | C9: =기준점_산출근거!Q50 -> 1.3 | D9: 인 | F9: =H9+J9+L9 -> 376044 | G9: =노임단가!F7 -> 289265 | H9: =INT(G9*C9) -> 376044
A10: 중급기술자 | C10: =기준점_산출근거!Q51 -> 1.92 | D10: 인 | F10: =H10+J10+L10 -> 483064 | G10: =노임단가!F8 -> 251596 | H10: =INT(G10*C10) -> 483064
A11: 초급기술자 | C11: =기준점_산출근거!Q52 -> 1.99 | D11: 인 | F11: =H11+J11+L11 -> 429061 | G11: =노임단가!F9 -> 215609 | H11: =INT(G11*C11) -> 429061
A12: 초급(측량)기능사 | C12: =기준점_산출근거!Q53 -> 2.16 | D12: 인 | F12: =H12+J12+L12 -> 433697 | G12: =노임단가!F12 -> 200786 | H12: =INT(G12*C12) -> 433697
A13: 보통인부(측부) | C13: =기준점_산출근거!Q54 -> 0.61 | D13: 인 | F13: =H13+J13+L13 -> 104961 | G13: =노임단가!F26 -> 172068 | H13: =INT(G13*C13) -> 104961
A14: 2. 재 료 비
A15: 통합기준점(표주,소형) | C15: =설계제원!B5 -> 0 | D15: 개 | I15: =재료비!F5+재료비!F6 -> 130000 | J15: =INT(I15*C15) -> 0
A22: 계 | F22: =H22+J22+L22 -> 1875843 | H22: =SUM(H6:H21) -> 1875843 | J22: =SUM(J6:J21) -> 0 | L22: =SUM(L6:L21) -> 0
A23: 제I-1-2호표 기준점측량(4급) - 단위 : 1점당
A24: 1. 인 건 비
A25: 고급기술자 | C25: =기준점_산출근거!Q101 -> 0.2 | D25: 인 | F25: =H25+J25+L25 -> 57853 | G25: =노임단가!F7 -> 289265 | H25: =INT(G25*C25) -> 57853
A26: 중급기술자 | C26: =기준점_산출근거!Q102 -> 0.23 | D26: 인 | F26: =H26+J26+L26 -> 57867 | G26: =노임단가!F8 -> 251596 | H26: =INT(G26*C26) -> 57867
A27: 초급기술자 | C27: =기준점_산출근거!Q103 -> 0.24 | D27: 인 | F27: =H27+J27+L27 -> 51746 | G27: =노임단가!F9 -> 215609 | H27: =INT(G27*C27) -> 51746
A28: 초급(측량)기능사 | C28: =기준점_산출근거!Q104 -> 0.26 | D28: 인 | F28: =H28+J28+L28 -> 52204 | G28: =노임단가!F12 -> 200786 | H28: =INT(G28*C28) -> 52204
A29: 보통인부(측부) | C29: =기준점_산출근거!Q105 -> 0.04 | D29: 인 | F29: =H29+J29+L29 -> 6882 | G29: =노임단가!F26 -> 172068 | H29: =INT(G29*C29) -> 6882
A30: 2. 재 료 비
A31: 보조수준점 | C31: =설계제원!B10 -> 17 | D31: 개 | I31: =재료비!F12 -> 8000 | J31: =INT(I31*C31) -> 136000
A37: 계 | F37: =H37+J37+L37 -> 362552 | H37: =SUM(H23:H36) -> 226552 | J37: =SUM(J23:J36) -> 136000 | L37: =SUM(L23:L36) -> 0
A38: 제I-2-1호표 도로 조사/측량 (1㎞당)
A39: 1. 인 건 비
A40: 고급기술자 | C40: =DB_산출근거!G36 -> 1.34 | D40: 인 | F40: =H40+J40+L40 -> 387615 | G40: =노임단가!F7 -> 289265 | H40: =INT(G40*C40) -> 387615
A41: 중급기술자 | C41: =DB_산출근거!H36 -> 3.05 | D41: 인 | F41: =H41+J41+L41 -> 767367 | G41: =노임단가!F8 -> 251596 | H41: =INT(G41*C41) -> 767367
A42: 초급기술자 | C42: =DB_산출근거!I36 -> 6.73 | D42: 인 | F42: =H42+J42+L42 -> 1451048 | G42: =노임단가!F9 -> 215609 | H42: =INT(G42*C42) -> 1451048
A43: 중급(측량)기능사 | C43: =DB_산출근거!J36 -> 3.66 | D43: 인 | F43: =H43+J43+L43 -> 863390 | G43: =노임단가!F11 -> 235899 | H43: =INT(G43*C43) -> 863390
A44: 초급(측량)기능사 | C44: =DB_산출근거!K36 -> 0 | D44: 인 | F44: =H44+J44+L44 -> 0 | G44: =노임단가!F12 -> 200786 | H44: =INT(G44*C44) -> 0
A45: 2. 재료비
A46: 관로표지핀(동판) | C46: =DB_산출근거!L38 -> 0 | D46: 개 | F46: =H46+J46+L46 -> 0 | J46: =INT(I46*C46) -> 0
A47: 3. 기계경비
A48: 상 각 비 | C48: =DB_산출근거!L41 -> 0 | D48: 일 | F48: =H48+J48+L48 -> 0 | K48: =DB_산출근거!L44 -> 0 | L48: =INT(K48*C48) -> 0
A49: 정 비 비 | C49: =C48 -> 0 | D49: 일 | F49: =H49+J49+L49 -> 0 | K49: =DB_산출근거!L45 -> 0 | L49: =INT(K49*C49) -> 0
A53: 계 | F53: =H53+J53+L53 -> 3469420 | H53: =SUM(H38:H52) -> 3469420 | J53: =SUM(J38:J52) -> 0 | L53: =SUM(L38:L52) -> 0
A54: 제I-2-2호표 상수도관로 노출관로 측량 (1㎞당)
A55: 1. 인 건 비
A56: 고급기술자 | C56: =DB_산출근거!G82 -> 3.73 | D56: 인 | F56: =H56+J56+L56 -> 1078958 | G56: =노임단가!F7 -> 289265 | H56: =INT(G56*C56) -> 1078958
...

Sheet 기준점_산출근거
A1: 대 가 산 출 근 거
A4: 1. 도시 기준점 측량
B5: 제 Ⅰ-1-1호표 기준점 측량(2급),1점당 - 2026년 건설표준품셈 9-1-3 [2급 기준점 측량] 적용
B7: 가. 기준작업
B8: 1) 작업구분, 소요인원 및 소요일수
B9: 작업구분 | D9: 일 수 | F9: 인 원 수 | R9: 비고
F10: 1일당 | L10: 합 계
F11: 특급 기술자 | G11: 고급 기술자 | H11: 중급 기술자 | I11: 초급 기술자 | J11: 초급 기능사 | K11: 보통 인부 | L11: 특급 기술자 | M11: 고급 기술자 | N11: 중급 기술자 | O11: 초급 기술자 | P11: 초급 기능사 | Q11: 보통 인부
B12: 계획준비 | D12: 2 | F12: 0.5 | G12: 0.5 | H12: 2 | I12: 2 | J12: 0 | K12: 0 | L12: 1 | M12: 1 | N12: 4 | O12: 4 | P12: 0 | Q12: 0 | R12: 내업
B13: 답사선점 | D13: 4 | G13: 1 | H13: 1 | I13: 1 | J13: 1 | K13: 0 | M13: =$D13*G13 -> 4 | N13: =$D13*H13 -> 4 | O13: =$D13*I13 -> 4 | P13: =$D13*J13 -> 4 | Q13: =$D13*K13 -> 0
B14: 조표(매설) | D14: 4 | G14: 0 | H14: 1 | I14: 1 | J14: 1 | K14: 2 | M14: =$D14*G14 -> 0 | N14: =$D14*H14 -> 4 | O14: =$D14*I14 -> 4 | P14: =$D14*J14 -> 4 | Q14: =$D14*K14 -> 8
B15: 관 측 | D15: 10 | G15: 0.8 | H15: 1 | I15: 1 | J15: 2 | K15: 0 | M15: =$D15*G15 -> 8 | N15: =$D15*H15 -> 10 | O15: =$D15*I15 -> 10 | P15: =$D15*J15 -> 20 | Q15: =$D15*K15 -> 0
B16: 계 산 | D16: 2 | G16: 1 | H16: 1 | I16: 2 | J16: 0 | K16: 0 | M16: =$D16*G16 -> 2 | N16: =$D16*H16 -> 2 | O16: =$D16*I16 -> 4 | P16: =$D16*J16 -> 0 | Q16: =$D16*K16 -> 0 | R16: 내업
B17: 정리점검 | D17: 2 | F17: 0.5 | G17: 1 | H17: 0.5 | I17: 0 | J17: 0 | K17: 0 | L17: 1 | M17: =$D17*G17 -> 2 | N17: =$D17*H17 -> 1 | O17: =$D17*I17 -> 0 | P17: =$D17*J17 -> 0 | Q17: =$D17*K17 -> 0 | R17: 내업
B18: 계 | L18: =SUM(L12:L17) -> 2 | M18: =SUM(M12:M17) -> 17 | N18: =SUM(N12:N17) -> 25 | O18: =SUM(O12:O17) -> 26 | P18: =SUM(P12:P17) -> 28 | Q18: =SUM(Q12:Q17) -> 8
C19: 내업 | L19: =L12+L17 -> 2 | M19: =M12+M16+M17 -> 5 | N19: =N12+N16+N17 -> 7 | O19: =O12+O16 -> 8 | P19: =P12+P17 -> 0 | Q19: =Q12+Q17 -> 0 | R19: 내업
C20: 외업 | L20: =SUM(L13:L16) -> 0 | M20: =SUM(M13,M14,M15) -> 12 | N20: =SUM(N13,N14,N15) -> 18 | O20: =SUM(O13,O14,O15) -> 18 | P20: =SUM(P13,P14,P15) -> 28 | Q20: =SUM(Q13,Q14,Q15) -> 8 | R20: 외업
B22: 2) 지형 유형에 따른 증가계수(K)
B23: 지형구분 | E23: 밀집시가지 | H23: 시 가 지 | K23: 평 지 | N23: 산 지 | Q23: 산 악 지
B24: 증가계수 | E24: 1.3 | H24: 1.15 | K24: 1 | N24: 1.2 | Q24: 1.4
B25: 비 고 | E25: 건물 및 도로가 시가지 면적의 90%이상 지형 | H25: 건물 및 도로가 시가지 면적의 70%이상 지형 | K25: 시가지 주변과 촌락의 소도시를 포함한 구릉지형 | N25: 표고차 200m~400m | Q25: 표고차 400m이상
B28: =" ○ 지형계수 : ("&$E$23&":"&설계제원!B8*100&"%×"&$E$24&"+"&$H$23&":"&설계제원!C8*100&"%×"&$H$24&"+"&$K$23&":"&설계제원!D8*100&"%×"&$K$24&"+"&$N$23&":"&설계제원!E8*100&"%×"&$N$24&"+"&$Q$23&":"&설계제원!F8*100&"%×"&$Q$24&")="&(TRUNC(U28,2))&"" -> ○ 지형계수 : (밀집시가지:0%×1.3+시 가 지:0%×1.15+평 지:100%×1+산 지:0%×1.2+산 악 지:0%×1.4)=1 | U28: =(설계제원!B8*기준점_산출근거!E24)+(설계제원!C8*기준점_산출근거!H24)+(설계제원!D8*기준점_산출근거!K24)+(설계제원!E8*기준점_산출근거!N24)+(설계제원!F8*기준점_산출근거!Q24) -> 1
B29: 3) 작업량에 따른 증감계수(P)
B30: 작업량(점수) | E30: 1 | G30: 5 | I30: 10 | K30: 14 | M30: 20 | O30: 28 | Q30: 비고
B31: 증 감 계 수 | E31: 3.6 | G31: 1.36 | I31: 1.08 | K31: 1 | M31: 0.94 | O31: 0.9
B33: ※ 작업량 산출공식
C34: ○ 증감계수(P) = 0.8 + | F34: 2.8
F35: 작업량(점수)
C36: ○ 작업량(점수) = 구하는점 + 주어진점
C37: ○ 작업량이 28점 이상인 경우에는 증감계수(P)는 0.90으로 적용한다.
B39: 나. 설계기준
B40: 1) 설계제원
B41: ① 작업량(점수) 산정 : | F41: 10점
H42: ○ 증감계수(P) = 1.08
B44: ② 지형 유형에 따른 증가계수(K) 산정을 위한 지형구분 : | J44: =U28 -> 1
B45: ③ 설계기준 1점기준으로 작업량산출
B46: 2) 설계
B47: ① 인건비 및 여비산출 ( 인원수 X 지형유형에 따른 증감계수(K) X 작업량에 따른 증감계수(P) X 표준작업량
B48: 구 분 | E48: 수량산출(내업) | K48: 수량산출(외업) | Q48: 합계
B49: 특급기술자 | E49: 2.0 × | F49: =U28 -> 1 | G49: ×1.08(P)×(1÷10점) = | J49: =TRUNC(2*F49*1.08*(1/14),2) -> 0.15 | K49: 0 × | L49: =U27 -> 0 | M49: ×1.08(P)×(1÷13점) = | P49: =TRUNC(0*L49*1.08*(1/14),2) -> 0 | Q49: =J49+P49 -> 0.15
...

Sheet DB_산출근거
A2: 대 가 산 출 근 거
B4: 2. 도로와 지하시설물도 작성
C5: Ⅰ-2-1호표 도로 조사/측량 (1㎞당)
D6: 가)인건비 | E6: (1)수 량 : | F6: 2026년 건설표준품셈 9-6-4 7.지하시설물도 작성 적용
F7: ○ 지하시설물 조사/탐사 투입인력 | M7: (단위 : 인/m)
F8: 구 분 | G8: 고급기술자 | H8: 중급기술자 | I8: 초급기술자 | J8: 중급기능사 (측량) | K8: 초급기능사 (측량) | L8: 합 계 | M8: 1일작업량(m)
F9: 작업계획 | G9: 고급기술자로 총 투입인원의 1/10를 적용
F10: 자료수집 및 작업준비 | H10: 1 | I10: 1 | L10: =SUM(G10:K10) -> 2 | M10: 1000
F11: 지하시설물 조사편집 | H11: 1 | I11: 2 | J11: 1 | L11: =SUM(G11:K11) -> 4 | M11: 511
F12: 지하시설물 위치측량 | G12: 매설시설물 | H12: 1 | I12: 2 | J12: 1 | K12: 3 | L12: =SUM(G12:K12) -> 7 | M12: 458
G13: 노출시설물 | H13: 1 | I13: 1 | L13: =SUM(G13:K13) -> 2 | M13: 86
F14: 지하시설물 원도작성 | I14: 2 | J14: 2 | L14: =SUM(G14:K14) -> 4 | M14: 1044
F15: 대장조서 및 속성DB작성 | H15: 1 | I15: 2 | J15: 1 | L15: =SUM(G15:K15) -> 4 | M15: 600
F16: ○ 지형구분에 따른 증감계수
F17: 구 분 | G17: 밀집시가지 | H17: 시가지 | I17: 교외지 | J17: 농경지 | K17: 구릉지 | L17: 산악지 | M17: 적용
F18: 비율 | G18: =설계제원!B18 -> 0 | H18: =설계제원!C18 -> 0 | I18: =설계제원!D18 -> 1 | J18: =설계제원!E18 -> 0 | K18: =설계제원!F18 -> 0 | L18: =설계제원!G18 -> 0 | M18: =SUM(G18:L18) -> 1
F19: 증감계수 | G19: 1.68 | H19: 1 | I19: 0.78 | J19: 0.65 | K19: 0.65 | L19: 0.65 | M19: =TRUNC((G18*G19)+(H19*H18)+(I19*I18)+(J19*J18)+(K19*K18)+(L19*L18),2) -> 0.78
F20: ○ 시설물 종류별 증감계수
F21: 구 분 | G21: 상수도 | H21: 하수도 | I21: 가 스 | J21: 전력,통신 | K21: 난방,송유관 | L21: 기 타 | M21: 비고
F22: 증감계수 | G22: 1.1 | H22: 0.73 | I22: 1.03 | J22: 0.85 | K22: 1 | L22: 0.85
F23: ○ 시설물 탐사길이 :
F24: ="- 단위시설물연장(1000)×지형구분증감계수("&M19&")×시설물종류증감계수(0.85) =" -> - 단위시설물연장(1000)×지형구분증감계수(0.78)×시설물종류증감계수(0.85) = | K24: =1000*M19*L22 -> 663 | L24: m
F25: ○ 공동구축에 따른 증감계수 : | H25: [ 시설물종류 | I25: =설계제원!B15 -> 1 | J25: =설계제원!C15 -> 종(도로,상수도,하수도)
F26: - 공동구축탐사길이 = 시설물탐사길이 × { 1 - 0.03 × (공동구축시설물갯수 -1) } = | L26: =INT((K24*(1-0.03*(I25-1)))) -> 663 | M26: m
F27: ○ 인건비 작업일수산정 :
F28: 구 분 | G28: 고급기술자 | H28: 중급기술자 | I28: 초급기술자 | J28: 중급기능사 (측량) | K28: 초급기능사 (측량) | L28: 비 고
F29: 작업계획 | G29: 고급기술자로 총 투입인원의 1/10를 적용
F30: 자료수집 및 작업준비 | H30: =INT(H10*K24/M10*100)/100 -> 0.66 | I30: =INT(I10*K24/M10*100)/100 -> 0.66 | L30: 투입인원×시설물탐사길이÷1일작업량
F31: 지하시설물 조사편집 | H31: =INT(H11*K24/M11*100)/100 -> 1.29 | I31: =INT(I11*K24/M11*100)/100 -> 2.59 | J31: =INT(J11*K24/M11*100)/100 -> 1.29 | L31: 투입인원×시설물탐사길이÷1일작업량
F32: 지하시설물 위치측량 | G32: 매설시설물 | L32: 투입인원×시설물탐사길이÷1일작업량
G33: 노출시설물 | H33: 0 | I33: 0 | J33: 0 | K33: 0 | L33: 투입인원×공동구축탐사길이÷1일작업량
F34: 지하시설물 원도작성 | I34: =INT(I14*K24/M14*100)/100 -> 1.27 | J34: =INT(J14*K24/M14*100)/100 -> 1.27 | L34: 투입인원×시설물탐사길이÷1일작업량
F35: 대장조서 및 속성DB작성 | H35: =INT(H15*K24/M15*100)/100 -> 1.1 | I35: =INT(I15*K24/M15*100)/100 -> 2.21 | J35: =INT(J15*K24/M15*100)/100 -> 1.1 | L35: 투입인원×시설물탐사길이÷1일작업량
F36: 합 계 | G36: =INT((H36+I36+J36+K36)/10*100)/100 -> 1.34 | H36: =SUM(H30:H35) -> 3.05 | I36: =SUM(I30:I35) -> 6.73 | J36: =SUM(J29:J35) -> 3.66 | K36: =SUM(K29:K35) -> 0
E37: (2)단 가 : | F37: 2026년 측량기술자 노임단가적용
C51: Ⅰ-3-2호표 상수도 노출관로 조사 (1㎞당)
D52: 가)인건비 | E52: (1)수 량 : | F52: 2026년 건설표준품셈 9-6-4 7.지하시설물도 작성 적용
F53: ○ 지하시설물 조사/탐사 투입인력 | M53: (단위 : 인/m)
F54: 구 분 | G54: 고급기술자 | H54: 중급기술자 | I54: 초급기술자 | J54: 중급기능사 (측량) | K54: 초급기능사 (측량) | L54: 합 계 | M54: 1일작업량(m)
F55: 작업계획 | G55: 고급기술자로 총 투입인원의 1/10를 적용
...

Sheet 노임단가
B1: 1. 측량기술자 노임단가
B2: 1-1. 2025년도 측량기술자 노임단가(한국공간정보산업협회 회원지원팀 2025.12.22)(통계승인377001호)
D4: 구 분 | F4: 노임단가 | G4: 비 고
C5: 기 술 계 | D5: 기술사 | F5: 442679
D6: 특급기술자 | F6: 326774
D7: 고급기술자 | F7: 289265
D8: 중급기술자 | F8: 251596
D9: 초급기술자 | F9: 215609
C10: 기 능 계 | D10: 측 량 | E10: 고급기능사 | F10: 259647
E11: 중급기능사 | F11: 235899
E12: 초급기능사 | F12: 200786
D13: 지도제작 | E13: 고급기능사 | F13: 268435
E14: 중급기능사 | F14: 242957
E15: 초급기능사 | F15: 198089
D16: 도 화 | E16: 고급기능사 | F16: 300967
E17: 중급기능사 | F17: 236885
E18: 초급기능사 | F18: 229483
D19: 항공사진 | E19: 고급기능사 | F19: 299900
E20: 중급기능사 | F20: 270554
E21: 초급기능사 | F21: 237664
D22: 기 타 | E22: 사업용조종사 | F22: 313877
E23: 항 법 사 | F23: 303861
E24: 항공정비사 | F24: 288757
C26: 보 통 인 부 | F26: 172068 | G26: 측부 | I26: 2026년 상반기 공사부분 보통인부 노임단가
C27: 정보처리기사 | F27: =F33 -> 519468 | G27: 정보시스템운용자 적용
C28: ※ 본 노임단가는 상여금 및 퇴직적립금이 포함된 단가이며, 1일8시간 1개월 20.6일 기준
B29: 1-2. 소프트웨어 기술자 노임단가 (한국소프트웨어산업협회공표, 통계승인 제375001호, 2026.01.01적용)
H31: (단위 : 원)
C32: 구 분 | F32: 단가(원) | G32: 비 고
C33: 소프트웨어부문 | D33: 정보시스템운용자 | F33: 519468 | G33: 데이터베이스운용자
D34: IT지원 기술자 | F34: 252196
D35: IT서비스 기획자 | F35: 578206 | G35: IT기획자
D36: IT기술영업 | F36: 575293 | G36: IT마케터
D37: IT품질관리자 | F37: 538638
D38: IT테스터 | F38: 197714

Sheet 기계비및관련소프트웨어
B1: □ 기계비 및 관련 소프트웨어
H2: 단위:원(부가세 제외)
B3: 품 명 | C3: 규 격 | D3: 2024년 | E3: 2025년 | F3: 2026년 | G3: 비 고 | H3: 자료출처
A4: 1 | B4: 항공기 | C4: 항공촬영용카메라 장착가능 | D4: 201297746 | E4: 201297746 | F4: 201297746 | G4: 지리정보과 | H4: 복수견적
A5: 2 | B5: 디지털카메라 | C5: 항공기용 | D5: 298268600 | E5: 298268600 | F5: 298268600 | G5: " | H5: 복수견적
A6: 3 | B6: GPS/INS | C6: 항공기용 | D6: 192026371 | E6: 192026371 | F6: 192026371 | G6: " | H6: 복수견적
A7: 4 | B7: Lidar | C7: 항공기용 | D7: 899024835 | E7: 899024835 | F7: 899024835 | G7: 스마트공간정보과 | H7: 복수견적
A8: 5 | B8: 항공기보험료 | C8: 1일 | D8: 58500 | E8: 67123 | F8: 65424 | G8: " | H8: 복수견적
A9: 6 | B9: 승무원 및 제2자 보험료 | C9: 1일 | D9: 12000 | E9: 14589 | F9: 14246 | G9: " | H9: 복수견적
A10: 7 | B10: 카메라 보험료 | D10: 11227 | E10: 8609 | F10: 9138 | G10: " | H10: 복수견적
A11: 8 | B11: 수치 사진측량장비 | C11: DPW | D11: 15000000 | E11: 16000000 | F11: 16000000 | G11: " | H11: 복수견적
A12: 9 | B12: 입·출력S/W | C12: 지도제작용 | D12: 5000000 | E12: 범용적으로 쓰이는 품명으로 조사에서 제외 | G12: "
A13: 10 | B13: 벡타편집S/W | C13: 지도제작용 | D13: 5000000 | G13: "
A14: 11 | B14: 자동입력장치 | C14: Scanner | D14: 4800000 | G14: "
A15: 12 | B15: 출력장치 | C15: Plotter | D15: 4100000 | G15: "
A16: 13 | B16: Photo Scanner | C16: 항공사진전용 | D16: 12000000 | E16: 12000000 | F16: 12000000 | G16: " | H16: 복수견적
A17: 14 | B17: DEM제작소프트웨어 | C17: DEM 제작용 | D17: 675000 | E17: 2330000 | F17: 2330000 | G17: 스마트공간정보과 | H17: 복수견적
A18: 15 | B18: 영상제작소프트웨어 | C18: 영상처리용 | D18: 8955000 | E18: 8955000 | F18: 8955000 | G18: " | H18: 복수견적
A19: 16 | B19: GPS | C19: 2주파 5mm±1ppm·D 정밀도 | D19: 46750000 | E19: 범용적으로 쓰이는 품명으로 조사에서 제외 | G19: 국토측량과
A20: 17 | B20: 레벨 | C20: 디지털 레벨 | D20: 11390000 | G20: "
A21: 18 | B21: 컴퓨터 | D21: 445454 | G21: "
A22: 19 | B22: 모니터 | D22: 172727 | G22: "
A23: 20 | B23: 지하시설물탐사기(MPL-H11) | C23: 지하시설물탐사용 | D23: 8000000 | G23: "
A24: 21 | B24: 점이사기 | C24: PGU4 | D24: 1930100 | G24: "
A25: 22 | B25: 정밀도화기 | C25: 1급 | D25: 10815876 | G25: "
A26: 23 | B26: 수동입력장치 | C26: Digitizer | D26: 300000 | G26: "

Sheet 기계경비
A1: 3. 기계경비(상각비,정비비)
A3: 가. 기계경비(상각비,정비비) 비율 | P3: (단위 : 원)
A4: 구 분 | D4: 장 비 명 | I4: 상 각 율 | J4: 정 비 율 | K4: 상각년수 | L4: 사용일/시간 | M4: 정비일/시간 | P4: 비 고
A5: 항공사진 촬영 | D5: 항공기+카메라 | I5: 0.9 | J5: 0.05 | K5: 6 | L5: 200 | M5: 200
A6: 사진기준점측량 | D6: 정밀도화기+좌표변환장비+점이사기 | I6: 0.9 | J6: 0.025 | K6: 8 | L6: 278 | M6: 278
A7: 수치도화 | D7: 정밀도화기+좌표변화 장비 | I7: 0.9 | J7: 0.025 | K7: 8 | L7: 278 | M7: 278
A8: 수정도화 | D8: 정밀도화기 | I8: 0.9 | J8: 0.025 | K8: 8 | L8: 278 | M8: 278
A9: 도면출력 | D9: PC+입력용 S/W+Plotter | I9: 0.9 | J9: 0.1 | K9: 5 | L9: 278 | M9: 365
A10: 벡터 편집 | D10: PC+벡터편집용 S/W | I10: 0.9 | J10: 0.1 | K10: 5 | L10: 278 | M10: 365
A11: 정위치,구조화편집 | D11: PC+편집용 S/W | I11: 0.9 | J11: 0.1 | K11: 5 | L11: 278 | M11: 365
A12: 도면제작편집 | D12: PC+편집용 S/W | I12: 0.9 | J12: 0.1 | K12: 5 | L12: 278 | M12: 365
A13: 수동 입력 | D13: PC+Digitizer+입력용 S/W | I13: 0.9 | J13: 0.1 | K13: 5 | L13: 278 | M13: 365
A14: 자동 입력 | D14: PC+Scanner | I14: 0.9 | J14: 0.1 | K14: 5 | L14: 278 | M14: 365
A15: 조사/탐사 | D15: 지하시설물탐사기 | I15: 0.9 | J15: 0.1 | K15: 5 | L15: 278 | M15: 365
A16: GPS-VAN | D16: 영상측량장비 | I16: 0.9 | J16: 0.1 | K16: 5 | L16: 278 | M16: 365
C18: ● 상각비 산술식 = | E18: (취득가×상각율) | J18: ● 정비비 산술식 = | L18: (취득가×년간정비율)
E19: (상각년수×년간사용일) | L19: 년간사용일
A21: 나. 기계경비(상각비,정비비) 산출표 | P21: (단위 : 원)
A22: 공 종 | D22: 장 비 명 | I22: 기준가격 | J22: 일일기계경비내역 | M22: 비 고
J23: 상 각 비 | K23: 정 비 비 | L23: 합 계
A24: 항공사진 촬영 | D24: 항공기+카메라(디지털) | I24: =기계비및관련소프트웨어!E4+기계비및관련소프트웨어!E5+기계비및관련소프트웨어!E6 -> 691592717 | J24: =G39 -> 518,695 | K24: =N39 -> 172,898 | L24: =J24+K24 -> 691593
A25: 사진기준점측량 | D25: 정밀도화기+좌표변환장비+점이사기 | I25: =기계비및관련소프트웨어!E11+기계경비!M25 -> 17930100 | J25: =G42 -> 7,255 | K25: =N42 -> 1,612 | L25: =J25+K25 -> 8867 | M25: =기계비및관련소프트웨어!D24 -> 1930100
A26: 수치도화 | D26: 정밀도화기+좌표변화 장비 | I26: =기계비및관련소프트웨어!E11 -> 16000000 | J26: =G45 -> 6,474 | K26: =N45 -> 1,438 | L26: =J26+K26 -> 7912 | M26: (점이사기)
A27: 수정도화 | D27: 정밀도화기 | I27: =기계비및관련소프트웨어!D25 -> 10815876 | J27: =G48 -> 4,376 | K27: =N48 -> 972 | L27: =J27+K27 -> 5348
A28: 도면출력 | D28: PC+입력용 S/W+Plotter | I28: =기계비및관련소프트웨어!D12+기계비및관련소프트웨어!D15+기계비및관련소프트웨어!D21+기계비및관련소프트웨어!D22 -> 9718181 | J28: =G51 -> 6,292 | K28: =N51 -> 2,662 | L28: =J28+K28 -> 8954
A29: 벡터편집 | D29: PC+벡터편집용 S/W | I29: =기계비및관련소프트웨어!D13+기계비및관련소프트웨어!D21+기계비및관련소프트웨어!D22 -> 5618181 | J29: =G54 -> 3,637 | K29: =N54 -> 1,539 | L29: =J29+K29 -> 5176
A30: 정위치,구조화편집 | D30: PC+편집용 S/W | I30: =I29 -> 5618181 | J30: =J29 -> 3,637 | K30: =K29 -> 1,539 | L30: =J30+K30 -> 5176
A31: 도면제작편집 | D31: PC+편집용 S/W | I31: =I29 -> 5618181 | J31: =J29 -> 3,637 | K31: =K29 -> 1,539 | L31: =J31+K31 -> 5176
A32: 수동입력 | D32: PC+Digitizer+입력용 S/W | I32: =기계비및관련소프트웨어!D12+기계비및관련소프트웨어!D26+기계비및관련소프트웨어!D21+기계비및관련소프트웨어!D22 -> 5918181 | J32: =G57 -> 3,831 | K32: =N57 -> 1,621 | L32: =J32+K32 -> 5452
A33: 자동입력 | D33: PC+Scanner | I33: =기계비및관련소프트웨어!D22+기계비및관련소프트웨어!D21+기계비및관련소프트웨어!D14 -> 5418181 | J33: =G60 -> 3,508 | K33: =N60 -> 1,484 | L33: =J33+K33 -> 4992
A34: 조사/탐사 | D34: 지하시설물탐사기 | I34: =기계비및관련소프트웨어!D23 -> 8000000 | J34: =G63 -> 5,179 | K34: =N63 -> 2,191 | L34: =J34+K34 -> 7370
A35: GPS-VAN | D35: 영상측량장비 | I35: 19741262 | J35: =G66 -> 12,782 | K35: =N66 -> 5,408 | L35: =J35+K35 -> 18190
A37: 다. 기계경비(상각비,정비비) 산출근거
B38: ="● 항공사진촬영(항공기+카메라) : ("&TEXT(G39,"#,###.0")&" + "&TEXT(N39,"#,###.0")&") = "&TEXT(G39+N39,"#,###,###.0")&"원" -> ● 항공사진촬영(항공기+카메라) : (518,695.0 + 172,898.0) = 691,593.0원
C39: ▶ 상각비 : | D39: =TEXT(I24,"#,###,0원")&"×"&TEXT(I5,"###%") -> 691,592,717원×90% | F39: = | G39: =" "&TEXT(ROUNDUP((I24*I5)/(L5*K5),0),"#,###")&" " -> 518,695 | H39: 원 | J39: ▶ 정비비 : | K39: =TEXT(I24,"#,###,0원")&"×"&TEXT(J5,"###.#0%") -> 691,592,717원×5.0% | M39: = | N39: =" "&TEXT(ROUNDDOWN((I24*J5)/(M5),0),"#,###")&" " -> 172,898 | O39: 원
D40: =L5&"시간×"&K5&"년" -> 200시간×6년 | K40: =(M5)&"시간" -> 200시간
B41: ="● 사진기준점 측량(정밀도화기+좌표변환장치+점이사기) : ("&TEXT(G42,"#,###.0")&" + "&TEXT(N42,"#,###.0")&") = "&TEXT(G42+N42,"#,###,###.0")&"원" -> ● 사진기준점 측량(정밀도화기+좌표변환장치+점이사기) : (7,255.0 + 1,612.0) = 8,867.0원
C42: ▶ 상각비 : | D42: =TEXT(I25,"#,###,0원")&"×"&TEXT(I6,"###%") -> 17,930,100원×90% | F42: = | G42: =" "&TEXT(ROUNDDOWN((I25*I6)/(L6*K6),0),"#,###")&" " -> 7,255 | H42: 원 | J42: ▶ 정비비 : | K42: =TEXT(I25,"#,###,0원")&"×"&TEXT(J6,"###.#%") -> 17,930,100원×2.5% | M42: = | N42: =" "&TEXT(ROUNDDOWN((I25*J6)/(M6),0),"#,###")&" " -> 1,612 | O42: 원
D43: =L6&"일×"&K6&"년" -> 278일×8년 | K43: =(M6)&"일" -> 278일
B44: ="● 수치도화(정밀도화기) : ("&TEXT(G45,"#,###.0")&" + "&TEXT(N45,"#,###.0")&") = "&TEXT(G45+N45,"#,###,###.0")&"원" -> ● 수치도화(정밀도화기) : (6,474.0 + 1,438.0) = 7,912.0원
...

Sheet 재료비
A1: 2022년 적용 재료비 및 기계비등 거래실례가격 조사내역표
B2: □ 재료비
G3: 단위:원(부가세 제외)
B4: 품 명 | C4: 규 격 | D4: 단위 | E4: 2024년 | F4: 2025년 | G4: 2026년 | H4: 비 고 | I4: 자료출처
A5: 1 | B5: 삼각점(표주) | C5: 140mm*140mm*670mm | D5: 개 | E5: 150000 | F5: 100000 | G5: 70000 | H5: 위치기준과 | I5: 복수견적등
A6: 2 | B6: 삼각점(반석) | C6: 270mm*270mm*80mm | D6: 개 | E6: 60000 | F6: 30000 | G6: 20000 | H6: " | I6: 복수견적등
A7: 3 | B7: 수준점(표석) | C7: 1등용(170mm*170mm*740mm) | D7: 개 | E7: 220000 | F7: 200000 | G7: 200000 | H7: " | I7: 복수견적등
A8: 4 | C8: 2등용(140mm*140mm*670mm) | D8: 개 | E8: 150000 | F8: 100000 | G8: 70000 | H8: " | I8: 복수견적등
A9: 5 | B9: 지자기점(표석) | C9: 140mm*140mm*670mm | D9: 개 | E9: 150000 | F9: 100000 | G9: 160000 | H9: " | I9: 복수견적등
A10: 6 | B10: 통합기준점(표주,소형) | C10: 170mm*170mm*740mm | D10: 개 | E10: 220000 | F10: 220000 | G10: 220000 | H10: " | I10: 복수견적등
A11: 7 | B11: 통합기준점(반석,소형) | C11: 300mm*300mm*90mm | D11: 개 | E11: 65000 | F11: 30000 | G11: 30000 | H11: " | I11: 복수견적등
A12: 8 | B12: 보조수준점 | C12: 동판(R80mm) | D12: 개 | E12: 8000 | F12: 8000 | G12: 8000 | H12: " | I12: 복수견적등
A13: 9 | B13: 안내판(표지판) | C13: 350mm*250mm*5mm | D13: 개 | E13: 30000 | F13: 30000 | G13: 30000 | H13: " | I13: 복수견적등
A14: 10 | B14: 경고문(동판) | C14: 90mm*80mm*20mm*10mm | D14: 개 | E14: 9000 | F14: 9000 | G14: 9000 | H14: " | I14: 복수견적등
A15: 11 | B15: 항공유 | C15: AV-GAS | D15: ℓ | E15: 2268 | F15: 2570 | G15: 2297 | H15: 스마트공간정보과 | I15: 복수견적등
A16: 12 | B16: 항공유 | C16: JET A-1 | D16: ℓ | E16: 1018 | F16: 980 | G16: 973 | H16: " | I16: 복수견적등
A17: 13 | B17: 항공오일 | C17: Aeroshell15w50 | D17: ℓ | E17: 4293 | F17: 19500 | G17: 18250 | H17: " | I17: 복수견적등
A18: 14 | B18: HDD(하드 디스크) | C18: 500GB | D18: 개 | E18: 56000 | F18: 범용적으로 쓰이는 품명으로 조사에서 제외 | H18: "
A19: 15 | B19: HP전용지 | C19: 36"*150ft | D19: 롤 | E19: 37273 | F19: " | H19: "
A20: 16 | B20: HP전용지 | C20: 24"*150ft | D20: 롤 | E20: 24000 | F20: " | H20: "
A21: 17 | B21: 잉크젯플로터용 잉크 | C21: Black(HP T1200, 130ml) | D21: 개 | E21: 71500 | F21: " | H21: "
A22: 18 | C22: Color(HP T1200, 130ml) | D22: 개 | E22: 71500 | F22: " | H22: "
B23: ※ 새로운 장비도입에 따라 소모되는 재료비 추가 조사, 불필요한 것은 제외

Sheet 수량표
A1: 구 역 별 수 량 산 출
A2: 구 분 | B2: 차집관로 | E2: 압송관로 | H2: 우수관로 | K2: 비고
A3: 분구명 | B3: 관경 | C3: 관종 | D3: 연장 | E3: 관경 | F3: 관종 | G3: 연장 | H3: 관경 | I3: 관종 | J3: 연장
B4: 200 | C4: 고강성PVC관 | D4: 0 | E4: 80 | F4: 수도용PE관 | G4: 0
B5: 300 | C5: 고강성PVC관 | D5: 55 | E5: 100 | F5: 수도용PE관 | G5: 0
B6: 400 | C6: GRP관 | D6: 0 | E6: 150 | F6: 수도용PE관 | G6: 107
B7: 500 | C7: GRP관 | D7: 776.8 | E7: 200 | F7: 수도용PE관 | G7: 280
E8: 250 | F8: 수도용PE관 | G8: 0
E9: 300 | F9: 수도용PE관 | G9: 4786
E10: 400 | F10: GRP관 | G10: 2373
E11: 80 | F11: 이중보온관 | G11: 0
E12: 80 | F12: 주철관 | G12: 0
A21: 합계 | D21: =SUM(D4:D20) -> 831.8 | G21: =SUM(G4:G20) -> 7546 | J21: =SUM(J4:J20) -> 0 | K21: =ROUND((D21+G21+J21)/1000,3) -> 8.378

Sheet 비굴착제원표
A1: 비굴착 전체보수 제원표
A2: 연번 | B2: 관로번호 | C2: 관종 | D2: 규격 | E2: 연장 | G2: 비고
A3: 1 | B3: 91010 | C3: PE | D3: 500 | E3: 51.8
A24: 계 | C24: PE | D24: 300 | E24: =SUMPRODUCT(($E$3:$E$23)*($C$3:$C$23=C24)*($D$3:$D$23=D24)) -> 0
D25: 400 | E25: =SUMPRODUCT(($E$3:$E$23)*($C$3:$C$23=C23)*($D$3:$D$23=D25)) -> 0
D26: 500 | E26: =SUMPRODUCT(($E$3:$E$23)*($C$3:$C$23=C24)*($D$3:$D$23=D26)) -> 51.8
D27: 계 | E27: =SUM(E24:E26) -> 51.8
C28: VR | D28: 300 | E28: =SUMPRODUCT(($E$3:$E$23)*($C$3:$C$23=C28)*($D$3:$D$23=D28)) -> 0
D29: 400 | E29: =SUMPRODUCT(($E$3:$E$23)*($C$3:$C$23=C28)*($D$3:$D$23=D29)) -> 0
D30: 450 | E30: =SUMPRODUCT(($E$3:$E$23)*($C$3:$C$23=C28)*($D$3:$D$23=D30)) -> 0
D31: 500 | E31: =SUMPRODUCT(($E$3:$E$23)*($C$3:$C$23=C28)*($D$3:$D$23=D31)) -> 0
D32: 계 | E32: =SUM(E28:E31) -> 0
C33: 계 | E33: =E27+E32 -> 51.8 | G33: =E33/1000 -> 0.0518

Sheet 손해배상공제료(하수도)
A1: 손해배상 공제료
B3: 1) 엔지니어링손해배상공재료 산정
C4: ○ | D4: 1단계 공제료(엔지니어링사업기간 또는 그 사업의 목적이 되는 시설물의 시공, 제작, 설치, 구축기간)
C5: = | D5: 순용역비 | J5: × | K5: [ | L5: 기본요율 | O5: + | P5: { | Q5: 가산요율 | T5: × | U5: ( | V5: 표준담보기간초과일수 | AC5: / | AD5: 365 | AF5: ) | AG5: } | AH5: ]
C6: = | D6: ='총괄(원본)'!F26+'총괄(원본)'!F27+'총괄(원본)'!F28 -> 150447138 | J6: × | K6: [ | L6: 0.00607 | O6: + | P6: { | Q6: 가산요율없음 | AG6: } | AH6: ] | AI6: = | AJ6: =D6*L6 -> 913214.13
C7: =IF(D7="","","=") | J7: =IF(D7="","","×") | K7: =IF(D7="","","[") | L7: =IF(D7="","",P21/100) | O7: =IF(D7="","","+") | P7: =IF(D7="","","{") | Q7: =IF(D7="","","가산요율없음") | AG7: =IF(D7="","","}") | AH7: =IF(D7="","","]") | AI7: =IF(D7="","","=") | AJ7: =IF(D7="","",D7*L7)
C8: ○ | D8: 2단계 공제료(1단계 이후 1년간)
C9: = | D9: =D6 -> 150447138 | J9: × | K9: 0.0016 | N9: = | O9: =D9*K9 -> 240715.42
C11: ○ | D11: 공제료 | G11: = | H11: 1단계 공제료 | N11: + | O11: 2단계 공제료
G12: = | H12: =AJ6+IF(AJ7="",0,AJ7) -> 913214.13 | N12: + | O12: =O9 -> 240715.42
G13: = | H13: =H12+O12 -> 1153929.5
C15: ○ | D15: 적 용 | G15: = | H15: =TRUNC(H13,-3) -> 1153000 | N15: (공제료 표시 : 천원 단위를 기본으로 하며 천원 미만의 단수는 절사)
B17: 2) 요율적용(분석, 계약, 검사부문 적용)
B18: 공사종류 | J18: 공제가입금액(보상한도액)
J19: 5억이하 | P19: 5억초과 10억이하 | V19: 10억초과 20억이하 | AB19: 20억초과 30억이하 | AH19: 30억초과 50억이하 | AN19: 표준담보 기간(년)
J20: 기본요율 | M20: 가산요율 | P20: 기본요율 | S20: 가산요율 | V20: 기본요율 | Y20: 가산요율 | AB20: 기본요율 | AE20: 가산요율 | AH20: 기본요율 | AK20: 가산요율
B21: 하수도 | J21: 0.607 | M21: 0.0097 | P21: 0.59 | S21: 0.094 | V21: 0.572 | Y21: 0.093 | AB21: 0.554 | AE21: 0.088 | AH21: 0.536 | AK21: 0.085 | AN21: 2
B22: ◦ | C22: 엔지니어링산업 진흥법 제31조(엔지니어링사업의 대가 기준 등)
B23: ◦ | C23: 엔지니어링산업 진흥법 시행령 제42조(엔지니어링사업자의 손해배상보험·공제)
B24: ◦ | C24: 엔지니어링손해배상보험 도는 공제 업무처리요령(지식경제부고시 제2011-59호)

Sheet 손해배상공제료(상수도)
A1: 손해배상 공제료
B3: 1) 엔지니어링손해배상공재료 산정
C4: ○ | D4: 1단계 공제료(엔지니어링사업기간 또는 그 사업의 목적이 되는 시설물의 시공, 제작, 설치, 구축기간)
C5: = | D5: 순용역비 | J5: × | K5: [ | L5: 기본요율 | O5: + | P5: { | Q5: 가산요율 | T5: × | U5: ( | V5: 표준담보기간초과일수 | AC5: / | AD5: 365 | AF5: ) | AG5: } | AH5: ]
C6: = | D6: ='총괄(원본)'!F26+'총괄(원본)'!F27+'총괄(원본)'!F28 -> 150447138 | J6: × | K6: [ | L6: 0.00652 | O6: + | P6: { | Q6: 가산요율없음 | AG6: } | AH6: ] | AI6: = | AJ6: =D6*L6 -> 980915.34
C7: =IF(D7="","","=") | J7: =IF(D7="","","×") | K7: =IF(D7="","","[") | L7: =IF(D7="","",P21/100) | O7: =IF(D7="","","+") | P7: =IF(D7="","","{") | Q7: =IF(D7="","","가산요율없음") | AG7: =IF(D7="","","}") | AH7: =IF(D7="","","]") | AI7: =IF(D7="","","=") | AJ7: =IF(D7="","",D7*L7)
C8: ○ | D8: 2단계 공제료(1단계 이후 1년간)
C9: = | D9: =D6 -> 150447138 | J9: × | K9: 0.0016 | N9: = | O9: =D9*K9 -> 240715.42
C11: ○ | D11: 공제료 | G11: = | H11: 1단계 공제료 | N11: + | O11: 2단계 공제료
G12: = | H12: =AJ6+IF(AJ7="",0,AJ7) -> 980915.34 | N12: + | O12: =O9 -> 240715.42
G13: = | H13: =H12+O12 -> 1221630.8
C15: ○ | D15: 적 용 | G15: = | H15: =TRUNC(H13,-3) -> 1221000 | N15: (공제료 표시 : 천원 단위를 기본으로 하며 천원 미만의 단수는 절사)
B17: 2) 요율적용(분석, 계약, 검사부문 적용)
B18: 공사종류 | J18: 공제가입금액(보상한도액)
J19: 5억이하 | P19: 5억초과 10억이하 | V19: 10억초과 20억이하 | AB19: 20억초과 30억이하 | AH19: 30억초과 50억이하 | AN19: 표준담보 기간(년)
J20: 기본요율 | M20: 가산요율 | P20: 기본요율 | S20: 가산요율 | V20: 기본요율 | Y20: 가산요율 | AB20: 기본요율 | AE20: 가산요율 | AH20: 기본요율 | AK20: 가산요율
B21: 상수도 | J21: 0.652 | M21: 0.104 | P21: 0.633 | S21: 0.1 | V21: 0.613 | Y21: 0.099 | AB21: 0.594 | AE21: 0.096 | AH21: 0.573 | AK21: 0.093 | AN21: 2
B22: ◦ | C22: 엔지니어링산업 진흥법 제31조(엔지니어링사업의 대가 기준 등)
B23: ◦ | C23: 엔지니어링산업 진흥법 시행령 제42조(엔지니어링사업자의 손해배상보험·공제)
B24: ◦ | C24: 엔지니어링손해배상보험 도는 공제 업무처리요령(지식경제부고시 제2011-59호)

Sheet 성과심사비(지하시설물)
B1: 성과심사수수료 내역서
I2: 관리번호 : | J2: 2026-
B3: 공 공 측 량 명 :
B5: 심 사 내 용 | D5: 단위 | E5: 총 수 량 | F5: 심 사 량 | G5: 단 가 | H5: 금 액 | J5: 비 고
B6: 공공 삼각점 | D6: 점 | E6: =설계제원!B10 -> 17 | F6: =ROUNDUP(E6*0.5,0) -> 9 | G6: 20248 | H6: =TRUNC((F6*G6),0) -> 182232
B7: 공공 수준점 | D7: Km | E7: 0 | F7: =IF(E7<1,E7,ROUNDUP(E7*0.5,0)) -> 0 | G7: 17355 | H7: =TRUNC((F7*G7),0) -> 0
B8: 사진 기준점 | D8: 모델 | E8: 0 | F8: =ROUNDUP(E8*0.5,0) -> 0 | G8: 0 | H8: =TRUNC((F8*G8),0) -> 0
B9: 항 공 사 진 | D9: 10매 | E9: 0 | F9: =ROUNDUP(E9*0.1*0.2,0) -> 0 | G9: 0 | H9: =TRUNC((F9*G9),0) -> 0
B10: 공간영상도화 | D10: 모델 | E10: 0 | F10: =ROUNDUP(E10*0.2,0) -> 0 | G10: 0 | H10: =TRUNC((F10*G10),0) -> 0
B11: 지하시설물도 | D11: Km | E11: =설계제원!B34+설계제원!D34+설계제원!F34+설계제원!D35+설계제원!F35+설계제원!D36+설계제원!F36 -> 8.4296 | F11: =IF(E11<1,E11,ROUNDUP(E11*0.2,0)) -> 2 | G11: 182236 | H11: =TRUNC((F11*G11),0) -> 364472 | J11: 상수: km 하수: km 도로: km
B12: 수치표고자료제작 | D12: 도엽 | E12: 0 | F12: =ROUNDUP(E12*0.2,0) -> 0 | G12: 0 | H12: =TRUNC((F12*G12),0) -> 0
B13: 좌표계변환 | D13: 점 | E13: 0 | F13: =ROUNDUP(E13*0.5,0) -> 0 | G13: 0 | H13: =TRUNC((F13*G13),0) -> 0
D14: 도엽 | E14: 0 | F14: =ROUNDUP(E14*0.5,0) -> 0 | G14: 0 | H14: =TRUNC((F14*G14),0) -> 0
B15: 수치 지도 | C15: 정위치편집 (1/1,000) | D15: 도엽 | E15: 0 | F15: =ROUNDUP(E15*0.2,0) -> 0 | G15: 0 | H15: =TRUNC((F15*G15),0) -> 0 | J15: 55.5㎝X44.5㎝ 기준
C16: 도면제작편집 (1/1,000) | D16: 도엽 | E16: 0 | F16: =ROUNDUP(E16*0.2,0) -> 0 | G16: 0 | H16: =TRUNC((F16*G16),0) -> 0
B17: 지형 | C17: 1/1,000 | D17: 도엽 | E17: 0 | F17: =ROUNDUP(E17*0.2,0) -> 0 | G17: 0 | H17: =TRUNC((F17*G17),0) -> 0 | J17: 30㎝X40㎝기준
B18: 1. 직접 인건비 | E18: 실내심사수수료 계 | H18: =SUM(H6:I17) -> 546704
E19: 현장심사수수료 계 | H19: ='성과심사비(출장여비)'!G16 -> 992369
E20: 소 계 | H20: =H18+H19 -> 1539073
B21: 2. 제 경 비 ( 1 X 110% ) : | H21: =TRUNC((H20)*1.1,0) -> 1692980
B22: 3. 기 술 료 ( (1+2) X 15% ) : | H22: =TRUNC((H20+H21)*0.13,0) -> 420166
B23: 4. 직접경비 | E23: 인 부 노 임 | H23: 0
E24: 현 장 여 비 | H24: ='성과심사비(출장여비)'!J28+'성과심사비(출장여비)'!F32 -> 961600
E25: 기 계 비 | H25: ='성과심사비(출장여비)'!H37 -> 74
E26: 소 계 | H26: =SUM(H23:I25) -> 961674
B27: 공공측량 성과심사수수료 : 계 (1 + 2 + 3 + 4 ) : | H27: =TRUNC(((H20+H21+H22+H26)*0.1),0)*10 -> 4613890
B28: 부 가 세 (10%) : | H28: =TRUNC((H27*0.1)*0.1,0)*10 -> 461380
B29: 합 계 : | H29: =H27+H28 -> 5075270
B30: 작 성 년 월 일 2026년 월 일
B31: ※「공간정보의 구축 및 관리 등에 관한 법률 시행규칙」제115조(수수료) 제2항 [별표13]을 준용하여 산정한다.

Sheet 성과심사비(출장여비)
A1: 별첨 1
B2: 현지검측내역서
A3: 가. 현지검측인건비
A4: 종류 | B4: 구분 직종 | C4: 총수량 (km) | D4: 심사량 (km) | E4: 인원수 (인,일/km) | G4: 종류 | H4: 총수량 (km) | I4: 심사량 (km) | J4: 인원수 (인,일/km)
A5: 지하 시설물 측량 | B5: 고급기술자 | C5: =설계제원!D35+설계제원!F35+설계제원!F36 -> 0.8836 | D5: =ROUNDUP(C5*0.02,3) -> 0.018 | E5: 1.25 | G5: 도로 시설물 측량 | H5: =설계제원!B34 -> 0 | I5: =ROUNDUP(H5*0.02,3) -> 0 | J5: 0.49
B6: 중급기술자 | C6: =C5 -> 0.8836 | D6: =D5 -> 0.018 | E6: 2.57 | H6: =H5 -> 0 | I6: =I5 -> 0 | J6: 1.48
B7: 초급기술자 | C7: =C6 -> 0.8836 | D7: =D6 -> 0.018 | E7: 4.64 | H7: =H6 -> 0 | I7: =I6 -> 0 | J7: 2.46
B8: 중급기능사 | C8: =C7 -> 0.8836 | D8: =D7 -> 0.018 | E8: 2.07 | H8: =H7 -> 0 | I8: =I6 -> 0 | J8: 0.98
B9: 초급기능사 | C9: 0 | D9: =D8 -> 0.018 | E9: 3.28 | L9: ※총수량이 10km 미만인 경우 초급기능사 제외
A10: 종류 | B10: 구분 직종 | C10: 노임단가 | G10: 심사 수수료(원) (지하+도로시설물)
A11: 지하 + 도로 시설물측량 | B11: 고급기술자 | C11: =노임단가!F7 -> 289265 | G11: =IF(C5 <> 0, IF((ROUNDDOWN(D5*E5*C11,0))+(ROUNDDOWN(I5*J5*C11,0)) < C11, C11, (ROUNDDOWN(D5*E5*C11,0))+(ROUNDDOWN(I5*J5*C11,0))),0) -> 289265
B12: 중급기술자 | C12: =노임단가!F8 -> 251596 | G12: =IF(C6 <> 0, IF((ROUNDDOWN(D6*E6*C12,0))+(ROUNDDOWN(I6*J6*C12,0)) < C12, C12, (ROUNDDOWN(D6*E6*C12,0))+(ROUNDDOWN(I6*J6*C12,0))),0) -> 251596
B13: 초급기술자 | C13: =노임단가!F9 -> 215609 | G13: =IF(C7 <> 0, IF((ROUNDDOWN(D7*E7*C13,0))+(ROUNDDOWN(I7*J7*C13,0)) < C13, C13, (ROUNDDOWN(D7*E7*C13,0))+(ROUNDDOWN(I7*J7*C13,0))),0) -> 215609
B14: 중급기능사 | C14: =노임단가!F11 -> 235899 | G14: =IF(C8 <> 0, IF((ROUNDDOWN(D8*E8*C14,0))+(ROUNDDOWN(I8*J8*C14,0)) < C14, C14, (ROUNDDOWN(D8*E8*C14,0))+(ROUNDDOWN(I8*J8*C14,0))),0) -> 235899
B15: 초급기능사 | C15: =노임단가!F12 -> 200786 | G15: =IF(C9 <> 0, IF((ROUNDDOWN(D9*E9*C15,0))+(ROUNDDOWN(I9*J9*C15,0)) < C15, C15, (ROUNDDOWN(D9*E9*C15,0))+(ROUNDDOWN(I9*J9*C15,0))),0) -> 0
A16: 소 계 | G16: =SUM(G11:K15) -> 992369
A17: ● 심사량은 총수량의 2% 적용 | E17: ● 현지출장인원수가 1인 미만인 경우 1인으로 적용.
A18: ● 불탐구간(km)은 현지심사에서 제외
A19: ● 심사량은 소수이하 네자리수에서 절상(m단위까지만)
A20: 나. 여 비(숙박비+식비+일비)
A21: 종류 | B21: 구분 직종 | C21: 작업일수(인) | D21: 왕복일수(인) | E21: 소요일수 (작업+왕복) | G21: 식비 +일비 (정액) | H21: 숙박비 | J21: 여비
H22: 숙박일 | I22: (정액)
A23: 지하 + 도로 시설물측량 | B23: 고급기술자 | C23: =IF(C5<>0, IF(((D5*E5)+(I5*J5))<1, 1, (D5*E5)+(I5*J5)),0) -> 1 | D23: 0 | E23: =ROUND((C23+D23),0) -> 1 | G23: 37500 | H23: =C23 -> 1 | I23: 70000 | J23: =(E23*G23)+(H23*I23) -> 107500
B24: 중급기술자 | C24: =IF(C6<>0, IF(((D6*E6)+(I6*J6))<1, 1, (D6*E6)+(I6*J6)),0) -> 1 | D24: =D23 -> 0 | E24: =ROUND((C24+D24),0) -> 1 | G24: 37500 | H24: =C24 -> 1 | I24: 70000 | J24: =(E24*G24)+(H24*I24) -> 107500
B25: 초급기술자 | C25: =IF(C7<>0, IF(((D7*E7)+(I7*J7))<1, 1, (D7*E7)+(I7*J7)),0) -> 1 | D25: =D24 -> 0 | E25: =ROUND((C25+D25),0) -> 1 | G25: 37500 | H25: =C25 -> 1 | I25: 70000 | J25: =(E25*G25)+(H25*I25) -> 107500
B26: 중급기능사 | C26: =IF(C8<>0, IF(((D8*E8)+(I8*J8))<1, 1, (D8*E8)+(I8*J8)),0) -> 1 | D26: =D25 -> 0 | E26: =ROUND((C26+D26),0) -> 1 | G26: 37500 | H26: =C26 -> 1 | I26: 70000 | J26: =(E26*G26)+(H26*I26) -> 107500
B27: 초급기능사 | C27: =IF(C9<>0, IF(((D9*E9)+(I9*J9))<1, 1, (D9*E9)+(I9*J9)),0) -> 0 | D27: =D26 -> 0 | E27: =ROUND((C27+D27),0) -> 0 | G27: 37500 | H27: =C27 -> 0 | I27: 70000 | J27: =(E27*G27)+(H27*I27) -> 0
A28: 소계 | J28: =SUM(J23:K27) -> 430000
A30: 다). 교통비
A31: 인원수 | C31: 왕복 | D31: 운임 | F31: 교통비 | I31: 교통수단
A32: =C23+C24+C25+C26+C27 -> 4 | C32: 2 | D32: 66450 | F32: =A32*C32*D32 -> 531600 | I32: 항공기
A34: 라). 기계비
A35: 구분 | D35: 단가 | F35: 일수 | H35: 금액
A36: 지하시설물 | D36: 5300 | F36: =ROUNDUP(D5*0.76,3) -> 0.014 | H36: =TRUNC(D36*F36,0) -> 74
A37: 계 | H37: =SUM(H36:K36) -> 74
A38: ※ 기계비는「측량성과 심사수탁기관의 심사업무 및 지정절차 등에 관한 규정」 [별표10] 기기상각비 산정기준에 준용한다.
