Workbook
Name L형측구: [1]!수식입력매크로
Name L형측구1: [1]!수식입력매크로
Name 낙책: {"Book1","부대-(표지판,데리,가드).xls","부대-(낙,차,중분대).xls"}
Name ㅁㅁㅁ: [1]!일위화면복귀매크로
Name 신성: {"Book1","부대-(표지판,데리,가드).xls","부대-(낙,차,중분대).xls"}

Sheet 2.0 공사시방서
A2: 공 사 시 방 서
B4: 1. | D4: 본 공사는 설계도서 및 국토해양부 제정 다음 시방서의 해당조건에 의거 시공하여야 한다.
C5: 1) | D5: 토목공사 일반 표준시방서
C6: 2) | D6: 콘크리트 표준시방서
C7: 3) | D7: 도로공사 표준시방서
C8: 4) | D8: 조경공사 표준시방서
C9: 5) | D9: 도로포장 설계 시공지침 (국토해양부)
B10: 2. | D10: 수급자는 공사 착수 전 공사수행 예정공정표를 제출하고 이에 따라 성실하게 이행하여야 한다.
B11: 3. | D11: 공사에 필요한 측량, 조명, 보안, 안전관리, 기타검사시험에 필요한 비용은 수급자가 부담한다.
B12: 4. | D12: 수급자는 착공과 동시에 안전관리 책임자를 선정하여 현장 내에 고정 배치하여 안전관리에 만전을 기하고 제반 표지를 감독의 지시에
D13: 따라 설치하여야 한다.
B14: 5. | D14: 현장 시공관리 요원 및 작업인부의 행위가 공사에 지장을 주거나 부적당하다고 판단 될 때, 감독은 수급자에게 교체를 요구 할 수
D15: 있으며, 수급자는 감독으로부터 교체요구가 있을 때에는 즉시 교체하여야 한다.
B16: 6. | D16: 공사가 설계도서 및 시방에 맞지 않을 때 또는 부적당하다고 지적 받았을 때 수급자 부담으로 이를 즉시 수정하여야 한다.
B17: 7. | D17: 재료의 검수, 기성 및 준공 검사 시에는 현장 대리인이 반드시 입회하여야 하며 검사에 필요한 제반기구 및 인원을 동원 적극 협조
D18: 하여야 한다.
B19: 8. | D19: 수급자는 작업인원을 고용함에 있어 노동법 및 근로기준법에 명시된 해당조건을 준수하여야 한다.
B20: 9. | D20: 시행청은 각호에 해당하는 사항이 발생시에는 수급자에 대하여 필요하다고 인정되는 기간동안 공사의 일부 또는 전부의 시행중지를
D21: 명할 수 있다.
C22: 1) | D22: 기상관계로 인하여 공사의 시행이 부적당하다고 판단될 때
C23: 2) | D23: 공사에 종사하는 종업원의 안전을 위하여 필요하다고 판단될 때
C24: 3) | D24: 천재지변으로 인하여 작업의 계속시행이 불가능할 때
C25: 4) | D25: 공사용 소요부지의 취득이 지연될 때
B26: 10. | D26: 수급자는 본 공사계획 구간에서 공사 시행에 발생하는 토량은 원상 복구토록 하여야 하며 이로 인해 발생되는 제반 사건 대하여는
D27: 수급자 부담으로 조치하여야 한다.
B28: 11. | D28: 공 사 안 전 관 리
C29: 1) | D29: 공사 기간중 항상 안전관리에 유의하여 현장관리 할 것이며 재해방지에 최선의 노력을 경주하여야 한다.
C30: 2) | D30: 공사시공중 감독관 및 관리자의 허가없이 유수 또는 공정에 지장 및 불편을 주는 시공방법을 택해서는 안된다.
C31: 3) | D31: 공사 착공과 동시에 재해대책반을 편성 운영토록하여 천재시 가능한한 모든 대책을 강구하여야 하며 시공중의 재해에 대해서는 수급자
D32: 책임으로 한다.
C33: 4) | D33: 공사기간 중 현장안전관리 (안내표지, 안전표시 등) 불충분으로 인한 사고 발생시 모든 민형사상의 책임은 수급자 부담으로 한다.
B35: 12. | D35: 공 정 관 리
D36: 현장대리인은 감독관의 지시에 따라 작업계획서를 제출하여 승인을 얻은후 작업을 하여야 하며, 매일의 작업일보 및 공사도를 집계하여
D37: 공사 현황을 보고하여야 한다.
B38: 13. | D38: 기술요원 확보
D39: 공사현장에는 현장대리인 외에 토목기술자를 충분히 배치하여 공사수행에 차질이 없어야 하며 현장대리인 및 주요기술원은 감독관의
D40: 사전 승인없이 현장을 이탈할 수 없다.
B41: 14. | D41: 자 재 관 리
C42: 1) | D42: 본 공사용 주요 자재는 KS 규격품 사용을 원칙으로하고 감독관의 검사를 받은 후 시공하여야 하며 규격에 미달된 자재는 감독관의
D43: 지시에 따라 즉시 현장밖으로 반출하여야 한다.
...

Sheet 내역서
A1: 내역서
A2: 공 종 명 | B2: 규 격 | C2: 수량 | D2: 단위 | E2: 합 계 | G2: 노 무 비 | I2: 재 료 비 | K2: 경 비 | M2: 비 고
E3: 단 가 | F3: 금 액 | G3: 단 가 | H3: 금 액 | I3: 단 가 | J3: 금 액 | K3: 단 가 | L3: 금 액 | S3: 할 증 | T3: 화폐변환 | U3: OP값 | V3: EQ | W3: LA | X3: MA | Y3: 금액계상
A4: 가. 직접공사비 | C4: 1 | D4: 식 | O4: A-010
A5: 1. 토 공 | C5: 1 | D5: 식 | P5: 10 | R5: A-011 | BJ5: =HYPERLINK("#내역서!A39","A-011 →") -> A-011 →
A6: 2. 배 수 공 | C6: 1 | D6: 식 | P6: 20 | R6: A-012 | BJ6: =HYPERLINK("#내역서!A60","A-012 →") -> A-012 →
A7: 3. 구 조 물 공 | C7: 1 | D7: 식 | P7: 30 | R7: A-013 | BJ7: =HYPERLINK("#내역서!A107","A-013 →") -> A-013 →
A8: 4. 포 장 공 | C8: 1 | D8: 식 | P8: 40 | R8: A-014 | BJ8: =HYPERLINK("#내역서!A130","A-014 →") -> A-014 →
A9: 5. 부 대 공 | C9: 1 | D9: 식 | P9: 50 | R9: A-015 | BJ9: =HYPERLINK("#내역서!A149","A-015 →") -> A-015 →
A10: 6. 사급자재대 | C10: 1 | D10: 식 | P10: 60 | R10: A-016 | BJ10: =HYPERLINK("#내역서!A159","A-016 →") -> A-016 →
P11: 70 | Q11: S
A12: 1. 토 공 | C12: 1 | D12: 식 | O12: A-011
A13: 1.01 기존구조물 철거 | P13: 10
A14: 무근콘크리트깨기 | B14: 30Cm미만(기계100%) | C14: 17 | D14: m3 | P14: 20 | R14: HGSS03 | T14: F | BJ14: =HYPERLINK("#일위대가목록!A5","HGSS03 →") -> HGSS03 →
A15: 철근콘크리트깨기 | B15: 30Cm미만(기계100%) | C15: 121 | D15: m3 | P15: 30 | R15: HGSS04 | T15: F | BJ15: =HYPERLINK("#일위대가목록!A6","HGSS04 →") -> HGSS04 →
A16: 콘크리트포장깨기 | B16: 브레이카+굴착기0.7㎥ | C16: 72 | D16: m3 | P16: 40 | R16: HGSS05 | T16: F | BJ16: =HYPERLINK("#일위대가목록!A7","HGSS05 →") -> HGSS05 →
A17: 아스팔트포장깨기 | B17: 브레이카+굴착기0.7㎥ | C17: 13 | D17: m3 | P17: 50 | R17: HGSS06 | T17: F | BJ17: =HYPERLINK("#일위대가목록!A8","HGSS06 →") -> HGSS06 →
A18: 구조물절단(콘크리트) | B18: 기계 | C18: 36 | D18: m | P18: 60 | R18: HGSS07 | T18: F | BJ18: =HYPERLINK("#일위대가목록!A9","HGSS07 →") -> HGSS07 →
A19: 포장절단(콘크리트) | B19: 기계 | C19: 243 | D19: m | P19: 70 | R19: HGSS07 | T19: F | BJ19: =HYPERLINK("#일위대가목록!A9","HGSS07 →") -> HGSS07 →
A20: 1.02 흙깎기 | B20: 굴착기0.7㎥ | C20: 440 | D20: m3 | P20: 80 | R20: HGSS08 | T20: F | BJ20: =HYPERLINK("#일위대가목록!A10","HGSS08 →") -> HGSS08 →
A21: 1.03 흙쌓기 | P21: 90
A22: 흙쌓기 | B22: 노상(굴착기0.7㎥) | C22: 733 | D22: m3 | P22: 100 | R22: HGSS09 | T22: F | BJ22: =HYPERLINK("#일위대가목록!A11","HGSS09 →") -> HGSS09 →
A23: 흙쌓기 | B23: 노체(굴착기0.7㎥) | C23: 525 | D23: m3 | P23: 110 | R23: HGSS10 | T23: F | BJ23: =HYPERLINK("#일위대가목록!A12","HGSS10 →") -> HGSS10 →
A24: 1.04 구조물터파기(기계100%) | B24: 육상토사 | C24: 1285 | D24: m3 | P24: 120 | R24: HGSS11 | T24: F | BJ24: =HYPERLINK("#일위대가목록!A13","HGSS11 →") -> HGSS11 →
A25: 1.05 되메우기 및 다짐(기계100%) | B25: 굴착기0.7㎥+진동롤러(0.7ton) | C25: 595 | D25: m3 | P25: 130 | R25: HGSS12 | T25: F | BJ25: =HYPERLINK("#일위대가목록!A14","HGSS12 →") -> HGSS12 →
A26: 1.06 흙운반 | P26: 140
A27: 덤프운반(현장내) | B27: 토 사, L=200m | C27: 462 | D27: m3 | P27: 150 | R27: HGSS13 | T27: F | BJ27: =HYPERLINK("#일위대가목록!A15","HGSS13 →") -> HGSS13 →
A28: 순성토운반(자동덮개) | B28: 토사,L=2.0KM (덤프15t+굴착기0.7㎥) | C28: 145 | D28: m3 | P28: 160 | R28: HGSS14 | T28: F | BJ28: =HYPERLINK("#일위대가목록!A16","HGSS14 →") -> HGSS14 →
A29: 1.07 비탈면보호공 | P29: 170
A30: 거적덮기 및 씨드스프레이 | B30: 절·성토용 | C30: 1084 | D30: m2 | P30: 180 | R30: HGSS15 | T30: F | BJ30: =HYPERLINK("#일위대가목록!A17","HGSS15 →") -> HGSS15 →
A31: 1.08 폐기물상차 | B31: 굴착기0.7㎥ | C31: 226 | D31: m3 | P31: 190 | R31: HGSS16 | T31: F | Y31: E | BJ31: =HYPERLINK("#일위대가목록!A18","HGSS16 →") -> HGSS16 →
P32: 200
A33: 2. 배 수 공 | C33: 1 | D33: 식 | O33: A-012 | Z33: =J35+J36+J37+J38+J40+J41+J42+J43+J44+J45+J46+J47+J48+J49+J51+J52+J53+J54+J55+J56+J57+J58+J59+J60+J62+J63+J64+J65+J67+J68+J69+J71+J72+J73+J74+J75 -> 0 | AA33: =H35+H36+H37+H38+H40+H41+H42+H43+H44+H45+H46+H47+H48+H49+H51+H52+H53+H54+H55+H56+H57+H58+H59+H60+H62+H63+H64+H65+H67+H68+H69+H71+H72+H73+H74+H75 -> 0 | AB33: =L35+L36+L37+L38+L40+L41+L42+L43+L44+L45+L46+L47+L48+L49+L51+L52+L53+L54+L55+L56+L57+L58+L59+L60+L62+L63+L64+L65+L67+L68+L69+L71+L72+L73+L74+L75 -> 0
A34: 2.01 수로관덮개 | P34: 10 | Z34: =J76+J77+J78 -> 0 | AA34: =H76+H77+H78 -> 0 | AB34: =L76+L77+L78 -> 0
A35: 레미콘타설(장비사용) | B35: 철근, 소형구조물 | C35: 2 | D35: m3 | P35: 20 | R35: HGSS17 | T35: F | BJ35: =HYPERLINK("#일위대가목록!A19","HGSS17 →") -> HGSS17 →
A36: 유로폼 | B36: 0~7m, 간단 | C36: 8 | D36: m2 | P36: 30 | R36: HGSS18 | T36: F | BJ36: =HYPERLINK("#일위대가목록!A20","HGSS18 →") -> HGSS18 →
A37: 철근현장가공 및 조립 | B37: TYPE-Ⅱ-2 | C37: 0.06 | D37: ton | P37: 40 | R37: HGSS19 | T37: F | BJ37: =HYPERLINK("#일위대가목록!A21","HGSS19 →") -> HGSS19 →
A38: 강관동바리 | B38: 3개월,2.5m이하 | C38: 4 | D38: 공/m3 | P38: 50 | R38: HGSS20 | T38: F | BJ38: =HYPERLINK("#일위대가목록!A22","HGSS20 →") -> HGSS20 →
A39: 2.02 배수관설치 | P39: 60
A40: 구조물터파기(기계100%) | B40: 육상토사 | C40: 320 | D40: m3 | P40: 70 | R40: HGSS11 | T40: F | BJ40: =HYPERLINK("#일위대가목록!A13","HGSS11 →") -> HGSS11 →
...
