Workbook
Name ___________aab42: #REF!
Name __________aab42: #REF!
Name __________DIA1: #REF!
Name __________DIA2: #REF!
Name __________DIA4: #REF!
Name __________pa1: #REF!
Name __________pa2: #REF!
Name __________Ted1: #REF!
Name __________Ts1: #REF!
Name __________XX6: #REF!
Name __________XX7: #REF!
Name _________DIA1: #REF!
Name _________DIA2: #REF!
Name _________DIA4: #REF!
Name _________GHH1: #REF!
Name _________GHH2: #REF!
Name _________LL1: #REF!
Name _________LL2: #REF!
Name _________LL3: #REF!
Name _________LL4: #REF!
Name _________LL5: #REF!
Name _________pa1: #REF!
Name _________pa2: #REF!
Name _________SBB1: #REF!
Name _________SBB2: #REF!
Name _________SBB3: #REF!
Name _________SBB4: #REF!
Name _________SBB5: #REF!
Name _________SHH1: #REF!
Name _________SHH2: #REF!
Name _________SHH3: #REF!
Name _________ST1: #REF!
Name _________ST2: #REF!
Name _________Ted1: #REF!
Name _________Ts1: #REF!
Name _________TT1: #REF!
Name _________TT2: #REF!
Name _________TT3: #REF!
Name _________Ty1: #REF!
Name _________Ty2: #REF!
Name _________XX6: #REF!
Name _________XX7: #REF!
Name ________a1: '[1]1호맨홀토공'!$R$12
Name ________B2: '[2]단면 (2)'!$K$55
Name ________GHH1: #REF!
Name ________GHH2: #REF!
Name ________IU69997: #REF!
Name ________IU79997: #REF!
Name ________IV65999: #REF!
Name ________IV67999: #REF!
Name ________IV68999: #REF!
Name ________IV69999: #REF!
Name ________IV88888: #REF!
Name ________IV99999: #REF!
Name ________IV999999: #REF!
Name ________LL1: #REF!
Name ________LL2: #REF!
Name ________LL3: #REF!
Name ________LL4: #REF!
Name ________LL5: #REF!

Sheet 설계서갑지
A1: 교장 | C1: 담당 | E1: 심사자 | G1: 설계자 | I1: 설 계 | K1: 2026 년 월 일 | N1: 결 재
I2: 심 사 | K2: 2026 년 월 일 | N2: 월 일
A5: 설 계 예 산 서
C7: ■ 공사명 : 서라벌고등학교 인조잔디 운동장 조성공사
C9: 구 분 | F9: 금 액 | M9: 비 고
C10: 도 급 비 | D10: 공 급 가 액 | F10: ="일금 "&NUMBERSTRING(K10, 1)&"원정" -> 일금 영원정 | J10: ( | K10: =원가계산서!D32 -> 0 | L10: )
D11: 부 가 세 | F11: ="일금 "&NUMBERSTRING(K11, 1)&"원정" -> 일금 영원정 | J11: ( | K11: =원가계산서!D33 -> 0 | L11: )
D12: 계 | F12: ="일금 "&NUMBERSTRING(K12, 1)&"원정" -> 일금 영원정 | J12: ( | K12: =K10+K11 -> 0 | L12: )
C13: 관 급 비 | D13: 도급자설치관급자재 | F13: ="일금 "&NUMBERSTRING(K13, 1)&"원정" -> 일금 영원정 | J13: ( | K13: =원가계산서!D35 -> 0 | L13: )
D14: 관급자설치관급자재 | F14: ="일금 "&NUMBERSTRING(K14, 1)&"원정" -> 일금 영원정 | J14: ( | K14: =원가계산서!D36 -> 0 | L14: )
D15: 계 | F15: ="일금 "&NUMBERSTRING(K15, 1)&"원정" -> 일금 영원정 | J15: ( | K15: =K13+K14 -> 0 | L15: )
C16: 총 공 사 비 | F16: ="일금 "&NUMBERSTRING(K16, 1)&"원정" -> 일금 영원정 | J16: ( | K16: =K12+K15 -> 0 | L16: )
C18: ▷ 공사개요 : | D18: 1. 토 공 : 1식
D19: 2. 우 배 수 공 : 1식
D20: 3. 포 장 공 : 1식
D21: 4. 시 설 물 공 : 1식
D22: 5. 부 대 공 : 1식
D26: =TRUNC(D7*3.4%*1.4) -> 0

Sheet 원가계산서
A1: 원 가 계 산 서
G2: 공사기간 :착공일로부터 60일
A3: =설계서갑지!C7 -> ■ 공사명 : 서라벌고등학교 인조잔디 운동장 조성공사 | E3: ="금액:"&" "&NUMBERSTRING(G3,1)&"원"&""&"정" -> 금액: 영원정 | G3: =D38 -> 0
A4: 구 분 | D4: 금 액 | E4: 구 성 비 | G4: 비 고
A5: 순 공 사 원 가 | B5: 재료비 | C5: 직 접 재 료 비 | D5: =내역서!F11 -> 0
C6: 간 접 재 료 비
C7: 작 업 설, 부 산 물(△)
C8: [ 소 계 ] | D8: =TRUNC(D5+D6-D7) -> 0
B9: 노 무 비 | C9: 직 접 노 무 비 | D9: =내역서!H11 -> 0
C10: 간 접 노 무 비 | D10: =TRUNC(D9*F10) -> 0 | E10: 직접노무비 * | F10: 0.191
C11: [ 소 계 ] | D11: =TRUNC(D9+D10) -> 0
B12: 경 비 | C12: 운 반 비
C13: 기 계 경 비 | D13: =내역서!J11 -> 0
C14: 산 재 보 험 료 | D14: =TRUNC(D11*F14) -> 0 | E14: 노무비 * | F14: 0.0356
C15: 고 용 보 험 료 | D15: =TRUNC(D11*F15) -> 0 | E15: 노무비 * | F15: 0.0101
C16: 국 민 건 강 보 험 료 | D16: =TRUNC(D9*F16) -> 0 | E16: 직접노무비 * | F16: 0.03595
C17: 국 민 연 금 보 험 료 | D17: =TRUNC(D9*F17) -> 0 | E17: 직접노무비 * | F17: 0.0475
C18: 노 인 장 기 요 양 보 험 료 | D18: =TRUNC(D16*F18) -> 0 | E18: 건강보험료* | F18: 0.1314
C19: 퇴 직 금 공 제 부 금 비 | D19: =TRUNC(D9*F19) -> 0 | E19: 직접노무비 * | F19: 0.023
C20: 산 업 안 전 보 건 관 리 비 | D20: =MIN(D21:D22) -> 0 | E20: (A)적용 | G20: (A),(B) 중 적은금액 적용
C21: (A) | D21: =TRUNC((D5+D9)*F21*1.2) -> 0 | E21: (재료비+직접노무비) * 1.2 * | F21: 0.0315
C22: (B) | D22: =TRUNC((D5+D9+G22/1.1)*F22) -> 0 | E22: (재료비+직접노무비+도관재/1.1)* | F22: 0.0315 | G22: =내역서!F32 -> 0
C23: 기 타 경 비 | D23: =TRUNC((D8+D11)*F23) -> 0 | E23: (재료비+노무비) * | F23: 0.055
C24: 환 경 보 전 비 | D24: =TRUNC((D8+D9+D13)*F24) -> 0 | E24: (재료비+직접노무비+기계경비) * | F24: 0.008
C25: 건설기계대여대금발급수수료 | D25: =TRUNC((D5+D9+D13)*F25) -> 0 | E25: (재료비+직접노무비+기계경비) * | F25: 0.0068
C26: 석 면 분 담 금 | D26: =TRUNC((D11)*F26) -> 0 | E26: 노무비 * | F26: 6e-05
C27: 임 금 채 권 부 담 금 | D27: =TRUNC((D11)*F27) -> 0 | E27: 노무비 * | F27: 0.0009
C28: [ 소 계 ] | D28: =TRUNC(D12+D13+D14+D15+D16+D17+D18+D19+D20+D23+D24+D25+D26+D27) -> 0
A29: 계 | D29: =TRUNC(D8+D11+D28) -> 0
A30: 일 반 관 리 비 | D30: =TRUNC(D29*F30) -> 0 | E30: 계 * | F30: 0.08
A31: 이 윤 | D31: =TRUNC((D11+D28+D30)*F31)-INT(0/1.1) -> 0 | E31: (노무비+경비+일반관리비) * | F31: 0.15
A32: 공 급 가 액 | D32: =TRUNC(D29+D30+D31) -> 0
A33: 부 가 가 치 세 | D33: =INT(D32*F33) -> 0 | E33: 공급가액 * | F33: 0.1
A34: 도 급 금 액 | D34: =TRUNC(D32+D33) -> 0
A35: 관급 금액 | B35: 도급자설치관급자재대 | D35: =내역서!L32 -> 0
B36: 관급자설치관급자재대 | D36: =내역서!L33 -> 0
B37: [ 소 계 ] | D37: =D35+D36 -> 0
A38: 총 공 사 비 | D38: =D34+D37 -> 0

Sheet 내역서
A1: 내역서
A2: 공 종 명 | B2: 규 격 | C2: 수량 | D2: 단위 | E2: 재 료 비 | G2: 노 무 비 | I2: 경 비 | K2: 합 계 | M2: 비 고
E3: 단 가 | F3: 금 액 | G3: 단 가 | H3: 금 액 | I3: 단 가 | J3: 금 액 | K3: 단 가 | L3: 금 액 | S3: 할 증 | T3: 화폐변환 | U3: OP값 | V3: EQ | W3: LA | X3: MA | Y3: 금액계상
A4: 서라벌고등학교 인조잔디 운동장 조성공사
A5: 1. 토공 | C5: 1 | D5: 식
A6: 2. 우배수공 | C6: 1 | D6: 식
A7: 3. 포장공 | C7: 1 | D7: 식
A8: 4. 시설물공 | C8: 1 | D8: 식
A9: 5. 부대공 | C9: 1 | D9: 식
A10: 6. 주요자재대 | C10: 1 | D10: 식
A11: 직 접 공 사 비 | C11: 1 | D11: 식
A12: 가.간 접 노 무 비 | B12: (직노)X19.1% | C12: 1 | D12: 식
A13: 나.산 재 보 험 료 | B13: (직노+간노)X3.56% | C13: 1 | D13: 식
A14: 다.고 용 보 험 료 | B14: (직노+간노)X1.01% | C14: 1 | D14: 식
A15: 라.건 강 보 험 료 | B15: (직노)X3.595% | C15: 1 | D15: 식
A16: 마.연 금 보 험 료 | B16: (직노)X4.75% | C16: 1 | D16: 식
A17: 바.노인장기요양보험료 | B17: (건보)X13.14% | C17: 1 | D17: 식
A18: 사.퇴직금공제부금비 | B18: (직노)X2.3% | C18: 1 | D18: 식
A19: 아.산업안전보건관리비 | B19: (직재+직노)X3.15%X1.2 | C19: 1 | D19: 식
A20: 자.기 타 경 비 | B20: (재+노)X5.5% | C20: 1 | D20: 식
A21: 차.환 경 보 전 비 | B21: (재+직노+경)X0.8% | C21: 1 | D21: 식
A22: 카.건설기계대여대금발급수수료 | B22: (재+직노+경)X0.68% | C22: 1 | D22: 식
A23: 타.석 면 분 담 금 | B23: (직노+간노)X0.006% | C23: 1 | D23: 식
A24: 파.임금채권부담금 | B24: (직노+간노)X0.09% | C24: 1 | D24: 식
A25: 순 공 사 비 | C25: 1 | D25: 식
A26: 하.일 반 관 리 비 | B26: (재+노+경)X8% | C26: 1 | D26: 식
A27: 거.이 윤 | B27: (노+경+일반관리비)X15%이내 | C27: 1 | D27: 식
A28: 총 공 사 원 가 | C28: 1 | D28: 식
A29: 공 급 가 액 | C29: 1 | D29: 식
A30: 너.부 가 가 치 세 | C30: 1 | D30: 식
A31: 도 급 공 사 비 | C31: 1 | D31: 식
A32: 8. 도급자설치관급자재 | C32: 1 | D32: 식
A33: 9. 관급자설치관급자재 | C33: 1 | D33: 식
A34: 총 공 사 비 | C34: 1 | D34: 식
A36: 총괄내역서 | C36: 1 | D36: 식
A37: 1. 토공 | C37: 1 | D37: 식
A38: 2. 우배수공 | C38: 1 | D38: 식
A39: 3. 포장공 | C39: 1 | D39: 식
A40: 4. 시설물공 | C40: 1 | D40: 식
... A47: 1. 토공 | C47: 1 | D47: 식
...
