Workbook

Sheet 원가계산서
B1: 원가계산서
B3: 비 목 | E3: 구분 | F3: 금 액 | G3: 적용 | H3: 요율 | I3: 산 출 근 거
C4: 재 | D4: 직 접 재 료 비 | E4: 1
C5: 료 | D5: 간 접 재 료 비 | E5: 2 | F5: =총괄내역서!L5 -> 0
C6: 비 | D6: 작업설.부산물등(△) | E6: 3
D7: 소 계 | E7: A | F7: =TRUNC((F4+F5+F6),0) -> 0 | I7: (1 + 2 + 3 )
C8: 노 | D8: 직 접 노 무 비 | E8: 4 | F8: =총괄내역서!J5 -> 0
B9: 순 | C9: 무 | D9: 간 접 노 무 비 | E9: 5 | F9: =TRUNC(F8*0.08,0) -> 0 | G9: 0% | H9: 0.075 | I9: 4 × 0.0%
C10: 비 | D10: 소 계 | E10: B | F10: =TRUNC((F8+F9),0) -> 0 | I10: ( 4 + 5 )
B11: 용 | D11: 산 출 경 비 | E11: 6 | F11: 0
D12: 산 재 보 험 료 | E12: 7 | F12: =TRUNC(F10*0.0373,0) -> 0 | G12: 0% | H12: 0.037 | I12: B × 0.0%
B13: 역 | D13: 고 용 보 험 료 | E13: 8 | F13: =TRUNC(F10*0.0087,0) -> 0 | G13: 0% | H13: 0.0101 | I13: B × 0.0%
C14: 경 | D14: 건 강 보 험 료 | E14: 9 | F14: =TRUNC(F8*0,0) -> 0 | G14: 0% | H14: 0.03495 | I14: 4 × 0.0%
B15: 원 | D15: 연 금 보 험 료 | E15: 10 | F15: =TRUNC(F8*0,0) -> 0 | G15: 0% | H15: 0.045 | I15: 4 × 0.0%
D16: 노인장기요양 보험료 | E16: 11 | F16: =TRUNC(F14*0,0) -> 0 | G16: 0% | H16: 0.1227 | I16: 9 × 0.0%
B17: 가 | D17: 퇴 직 공 제 부 금 비 | E17: 12 | F17: =TRUNC(F8*0,0) -> 0 | G17: 0% | H17: 0.023 | I17: 4 × 0.0%
D18: 건설기계대여금지급보증서발급액 | E18: 13 | F18: =TRUNC((F7+F8+F11)*0,0) -> 0 | G18: 0% | H18: 0.0018 | I18: (A + 4 + 6) × 0.0%
D19: 산 업 안 전 보건관리비 | E19: 14 | F19: =TRUNC((F7+F8)*0,0) -> 0 | G19: 0% | H19: 0.0186 | I19: (A + 4 ) × 0.0%
D20: 환 경 보 전 비 | E20: 15 | F20: =TRUNC((F7+F8+F11)*0,0) -> 0 | G20: 0% | H20: 0.009 | I20: (A + 4 + 6) × 0.0%
D21: 공 사 이 행 보증수수료 | E21: 16 | G21: 0% | H21: 0.000141
C22: 비 | D22: 하도급대금지급보증수수료 | E22: 17 | F22: =TRUNC((F7+F8+F11)*0,0) -> 0 | G22: 0% | H22: 0.00081 | I22: (A + 4 + 6) × 0.0% | L22: 비율
D23: 기 타 경 비 | E23: 18 | F23: =TRUNC((F7+F10)*0.056,0) -> 0 | G23: 0% | I23: (A + B) × 0.0% | K23: 상차, 운반비 | L23: =F28/F30 -> #DIV/0!
D24: 소 계 | E24: C | F24: =TRUNC((F11+F12+F13+F14+F15+F16+F17+F18+F19+F20+F21+F22+F23),0) -> 0 | I24: (6:18) | K24: 중간처리비 | L24: =F29/F30 -> #DIV/0!
D25: 순 공 사 원 가 | E25: D | F25: =TRUNC((F7+F10+F24),0) -> 0 | I25: (A + B + C)
D26: 일 반 관 리 비 | E26: E | F26: =TRUNC(F25*0.06,0) -> 0 | G26: 0% | H26: 0.06 | I26: D × 0.0%
D27: 이 윤 | E27: F | F27: =(F10+F24+F26)*0.15 -> 0 | G27: 0% | H27: 0.15 | I27: (B + C + E) × 0.0%
D28: 폐 기 물 상 차 및 운 반 | E28: G
D29: 폐 기 물 처 리 | E29: H
D30: 총 원 가 | E30: I | I30: (D + E + F + G + H)
D31: 부 가 가 치 세 | E31: J | G31: 0.1 | H31: 0.1 | I31: 사업장폐기물 | K31: 부가가치세법 제26조(면세) 해당여부 : 부
D32: 도 급 액 | E32: K | I32: (I + J) 천단위 미만 버림 | K32: 부가가치세법 시행령 제35조제12호 「폐기물관리법」 제25조에 따라 생활폐기물 또는 의료폐기물의 폐기물처리업 허가를 받은 사업자가 공급하는 생활폐기물 또는 의료폐기물의 수집ㆍ운반 및 처리용역과 같은 법 제29조에 따라 폐기물처리시설의 설치승인을 받거나 그 설치의 신고를 한 사업자가 공급하는 생활폐기물의 재활용용역
D33: 총 용 역 비 | E33: L | I33: (K) | K33: 폐기물관리법 시행령 제2조제9호 일련의 공사(제8호에 따른 건설공사는 제외한다) 또는 작업으로 폐기물을 5톤(공사를 착공하거나 작업을 시작할 때부터 마칠 때까지 발생하는 폐기물의 양을 말한다)이상 배출하는 사업장
F34: ="금"&NUMBERSTRING(F33,1)&"원" -> 금영원
B52: =RIGHT(F30*0.1,3) -> 0

Sheet 총괄내역서
B1: 총괄내역서
B3: 공종 | D3: 규 격 | E3: 수 량 | F3: 단위 | G3: 합 계 | I3: 노무비 | K3: 재료비 | M3: 경 비 | O3: 비 고
G4: 단 가 | H4: 금 액 | I4: 단 가 | J4: 금 액 | K4: 단 가 | L4: 금 액 | M4: 단 가 | N4: 금 액
B5: ◎ | C5: =#REF! -> #REF! | H5: =J5+L5+N5 -> 0 | N5: =TEXT(N6,"#,##0") -> 0
C6: 수해폐기물 | D6: 가연성 | H6: =J6+L6+N6 -> 0 | N6: =SUM(N8:N10) -> 0
B8: 1 | C8: 수해폐기물 상차 | D8: 백호0.7㎥ | E8: =수량집계표!F3 -> 246 | F8: ton | N8: =TRUNC(E8*M8,0) -> 0 | O8: 단가비교표 참조
C9: 수해폐기물 운반 | D9: 암롤트럭 | E9: =수량집계표!F3 -> 246 | F9: ton
B10: 2 | C10: 수해폐기물 처리 | D10: 소각 또는 재활용 | E10: =수량집계표!F3 -> 246 | F10: ton | N10: =TRUNC(E10*M10,0) -> 0

Sheet 수량내역서
A1: 수 량 내 역 서
A2: 번 호 | B2: 공 종 | C2: 규 격 | D2: 단 위 | E2: 수 량 | F2: 비 고
A3: 1. | B3: 안동시 수해폐기물 위탁처리 용역
A4: 1.01 | B4: 수해폐기물
A5: a. | B5: 폐기물상차 | C5: 백호0.7㎥ | D5: ton | E5: =수량집계표!F3 -> 246
A6: b. | B6: 폐기물운반 | C6: 암롤트럭 | D6: ton | E6: =수량집계표!F3 -> 246
A7: c. | B7: 폐기물처리 | C7: 소각 또는 재활용 | D7: ton | E7: =수량집계표!F3 -> 246

Sheet 수량집계표
A1: 폐 기 물 총 괄 표
A2: 구 분 | D2: 구조 및 규격 | E2: 단위 | F2: 수량 | I2: 비고
A3: 폐기물 | B3: 수해폐기물 | D3: 폐목재 생활계혼합 | E3: ton | F3: =수량산출서!J8 -> 246 | I3: 안동시 광역매립장 반입량 근거

Sheet 수량산출서
A1: 수량산출서
N2: 입력(노란색) | O2: 82 | P2: 3 | Q2: =SUM(Q3:Q5) -> 246
A3: 1. 폐목재류 | N3: =A3 -> 1. 폐목재류 | O3: =O2*90% -> 73.8 | P3: =P2 -> 3 | Q3: =O3*P3 -> 221.4
B4: 적치량 | C4: : | D4: =O3 -> 73.8 | E4: 톤/일 | F4: X | G4: =P2 -> 3 | H4: 일 | I4: = | J4: =D4*G4 -> 221.4 | K4: 톤 | N4: =A5 -> 2. 그 밖의 폐기물 | O4: =O2*10% -> 8.2 | P4: =P2 -> 3 | Q4: =O4*P4 -> 24.6
A5: 2. 그 밖의 폐기물
B6: 적치량 | C6: : | D6: =O4 -> 8.2 | E6: 톤/일 | F6: X | G6: =P2 -> 3 | H6: 일 | I6: = | J6: =D6*G6 -> 24.6 | K6: 톤 | N6: 금액 | O6: =원가계산서!F33 -> 0
N7: 공기 | O7: =P2+5 -> 8
A8: 합 계 | B8: 적치량 | C8: : | D8: =SUM(D4:D6) -> 82 | E8: 톤/일 | F8: X | G8: =P2 -> 3 | H8: 일 | J8: =SUM(J4,J6) -> 246 | K8: 톤

Sheet 수량산출서(1)
G2: 수량산출서 | O2: 적용수량
C4: 생활 폐기물 | E4: 규 격 | G4: 면 적 : 1,733㎡ × 높이 3m = 5,200㎡
E5: 중 량 | G5: 중 량 : 5,200㎡ × 0.25(단위중량) = 1,300ton | O5: 5199
C6: 관 련 사 진
O7: =O5*0.25 -> 1299.75
