Workbook
Name _1공장: #REF!
Name _1공장: #REF!
Name _1공장: #REF!
Name _1공장: #REF!
Name _2: #N/A
Name _24_3_0Crite: #REF!
Name _24_3_0Crite: #REF!
Name _24_3_0Crite: #REF!
Name _24_3_0Crite: #REF!
Name _26_3_0Criteria: #REF!
Name _26_3_0Criteria: #REF!
Name _26_3_0Criteria: #REF!
Name _26_3_0Criteria: #REF!
Name _28_3__Crite: #REF!
Name _28_3__Crite: #REF!
Name _28_3__Crite: #REF!
Name _28_3__Crite: #REF!
Name _2공장: #REF!
Name _2공장: #REF!
Name _2공장: #REF!
Name _2공장: #REF!
Name _30_3__Criteria: #REF!
Name _30_3__Criteria: #REF!
Name _30_3__Criteria: #REF!
Name _30_3__Criteria: #REF!
Name _3공장: #REF!
Name _3공장: #REF!
Name _3공장: #REF!
Name _3공장: #REF!
Name _48G_0Extr: #REF!
Name _48G_0Extr: #REF!
Name _48G_0Extr: #REF!
Name _48G_0Extr: #REF!
Name _50G_0Extract: #REF!
Name _50G_0Extract: #REF!
Name _50G_0Extract: #REF!
Name _50G_0Extract: #REF!
Name _52G__Extr: #REF!
Name _52G__Extr: #REF!
Name _52G__Extr: #REF!
Name _52G__Extr: #REF!
Name _54G__Extract: #REF!
Name _54G__Extract: #REF!
Name _54G__Extract: #REF!
Name _54G__Extract: #REF!
Name _A: #REF!
Name _A: #REF!
Name _A: #REF!
Name _A: #REF!
Name _A183154: #REF!
Name _A183154: #REF!
Name _A183154: #REF!
Name _A183154: #REF!
Name _aab42: #REF!
Name _aab42: #REF!
Name _aab42: #REF!
Name _aab42: #REF!
Name _HSH1: #REF!
Name _HSH1: #REF!
Name _HSH1: #REF!

Sheet 표지
O2: ※ 입력시 붉은색 수정 및 확인
D3: 2026년도
C5: 고성 마차진·대진지구 연안정비사업 건설사업관리용역
D10: ○ 용 역 개 요 : 건설사업관리용역 1식
D13: □ 총 용역비 : | E13: =설계예산서!H3 -> 4213000000 | F13: 원 | H13: ○ | I13: 공급가액 | J13: : | K13: =설계예산서!H17 -> 3830000000 | L13: 원
H14: ○ | I14: 부가가치세 | J14: : | K14: =설계예산서!H18 -> 383000000 | L14: 원

Sheet 설계예산서
A1: 품 명 | D1: 규 격 | E1: 단위 | F1: 수 량 | G1: 단 가 | H1: 금 액 | I1: 비 고
A2: =표지!C5 -> 고성 마차진·대진지구 연안정비사업 건설사업관리용역 | K2: * 합계금액 셀에서 목표값 찾기로 단수조정
A3: 도 급 액 | H3: =SUM(H17,H18) -> 4213000000 | K3: <목표값 찾기>: 메뉴에서 데이터 / 가상분석 / 목표값찾기
A4: 1. | B4: 직접인건비 | E4: 인·월 | F4: =F5+F6 -> 152.79 | G4: ='건설사업관리기술자 배치'!V23 -> 8280800 | H4: =SUM(H5:H6) -> 1265223432 | K4: - 수식셀 : H3
A5: 가. | C5: 상주기술인 | E5: 인·월 | F5: =산출근거!F5 -> 129.87 | G5: =G4 -> 8280800 | H5: =산출근거!R5 -> 1075427496 | K5: - 찾는값 : 단수정리하여 얻을 값(도급액 단위조정)
A6: 나. | C6: 기술지원기술인 | E6: 인·월 | F6: =산출근거!F6 -> 22.92 | G6: =G4 -> 8280800 | H6: =산출근거!R6 -> 189795936 | K6: - 값을 바꿀셀 : K8
A7: 2. | B7: 제경비 | D7: 직접인건비의 | E7: % | F7: =산출근거!F10*100 -> 110 | H7: =산출근거!R9 -> 1391745775 | L7: =F7/100*H4 -> 1.3917458e+09
A8: 3. | B8: 기술료 | D8: (직접인건비+제경비)의 | E8: % | F8: =산출근거!K13*100 -> 20 | H8: =산출근거!R12 -> 5.3058064e+08 | K8: -813205.1
A9: 4. | B9: 직접경비 | D9: 가 + 나 + 다 + 라 + 마 | H9: =SUM(H10:H14) -> 613508157
B10: 가. | C10: 현장주재비 | D10: 상주기술인 직접인건비의 30% | E10: 식 | F10: 1 | H10: =산출근거!R18 -> 322628249
B11: 나. | C11: 출장여비 | D11: 기술지원기술인 직접인건비의 10% | E11: 식 | F11: 1 | H11: =산출근거!R21 -> 18979594
B12: 다. | C12: 차량운행비 | D12: 1대 | E12: 월 | F12: ='산정근거(입력변수)'!O24 -> 42 | G12: =산출근거!R28 -> 933378 | H12: =산출근거!R29 -> 39201876
B13: 라. | C13: 현장운영경비 | D13: 보조요원 1인 | E13: 월 | F13: =F12 -> 42 | G13: =산출근거!R34+산출근거!I36 -> 5467939 | H13: =산출근거!R36 -> 229653438
B14: 마. | C14: 도서인쇄비 | E14: 식 | F14: 1 | H14: =산출근거!R42 -> 3045000
A15: 5. | B15: 소계 | H15: =SUM(H4,H7,H8,H9) -> 3.801058e+09
A16: 6. | B16: 손해배상보험료 | E16: 식 | F16: 1 | H16: =산출근거!R44 -> 28942000
A17: 7. | B17: 공급가액 | H17: =ROUND(SUM(H15:H16),0) -> 3830000000
A18: 8. | B18: 부가가치세 | E18: % | F18: 10 | H18: =ROUND(H17*0.1,0) -> 383000000

Sheet 산출근거
A1: ■ 건설사업관리용역비 산출근거 | W1: * 주의 : 붉은색 글씨만 수정하세요
B3: 1. | C3: 직접인건비 | Q3: = | R3: =SUM(R5,R6,R7) -> 1265223432 | U3: 원 | W3: ○ 건설사업관리용역비 입력변수 | AG3: (금액은 VAT제외)
C4: - 토목
D5: 상주건설사업관리기술인 | E5: : | F5: ='건설사업관리기술자 배치'!P37 -> 129.87 | I5: × | J5: ='건설사업관리기술자 배치'!V23 -> 8280800 | Q5: = | R5: =ROUND(F5*J5,0) -> 1075427496 | U5: 원 | W5: 구 분 | Y5: 규 격 | AA5: 단위 | AB5: 적 용 | AD5: 비 고
D6: 기술지원기술인 | E6: : | F6: ='건설사업관리기술자 배치'!P38 -> 22.92 | I6: × | J6: =J5 -> 8280800 | Q6: = | R6: =ROUND(F6*J6,0) -> 189795936 | U6: 원 | W6: 제 경 비 | Y6: 110%~120% | AA6: % | AB6: 110 | AD6: =설계예산서!H3 -> 4213000000
W7: 기 술 료 | Y7: 20%~40% | AA7: % | AB7: 20
W8: 현장주재비 | Y8: 0.3 | AA8: % | AB8: 30 | AD8: 건설공사 대가 기준
B9: 2. | C9: 제경비(직접인건비의 110 ~ 120%) | Q9: = | R9: =R10 -> 1391745775 | U9: 원 | W9: 출장여비 | Y9: 0.1 | AA9: % | AB9: 10
D10: =R3 -> 1265223432 | E10: × | F10: =AB6/100 -> 1.1 | Q10: = | R10: =ROUND(D10*F10,0) -> 1391745775 | U10: 원 | W10: 현지차량 | Y10: 승합차 or 승용차 | AB10: 승용차
W11: 경 유 | Y11: 승합차 적용 | AA11: 원/ℓ | AB11: ='한국석유공사 유류가격(고성군)'!C30 -> 1733.62 | AD11: 오피넷(2026.7월) | AH11: http://www.opinet.co.kr/
B12: 3. | C12: 기술료 : (직접인건비 + 제경비)의 20 ~ 40% | Q12: = | R12: =R14 -> 5.3058064e+08 | U12: 원 | W12: 휘발유 | Y12: 승용차 적용 | AA12: 원/ℓ | AB12: ='한국석유공사 유류가격(고성군)'!B30 -> 1744.93
D13: =R3 -> 1265223432 | E13: + | F13: =R9 -> 1391745775 | J13: × | K13: =AB7/100 -> 0.2 | Q13: = | R13: =ROUND((D13+F13)*K13,0) -> 531393841 | U13: 원 | W13: 현장보조요원 | Y13: 보통인부 | AA13: 원/일 | AB13: 172068 | AD13: 대한건설협회 2026년 상반기 | AH13: http://www.cak.or.kr/board/boardList.do?boardId=spend_wage&menuId=61
O14: (단수조정) | Q14: = | R14: =R13+설계예산서!K8 -> 5.3058064e+08 | U14: 원 | W14: 사무실운영비 | Y14: 현장사무실 | AA14: 원/월
W15: 도서인쇄비 | Y15: 1면 | AA15: 원 | AB15: 150 | AD15: 물가협회 인쇄요금 | AH15: 한국물가협회/적산자료/인쇄공정별요금표
B16: 4. | C16: 직접경비 | Q16: = | R16: =SUM(R18,R21,R29,R36,R42) -> 613508157 | U16: 원 | W16: 제 본 비 | Y16: 1부당 | AA16: 원 | AB16: 2500 | AD16: 디지털 오프셋 단가, 접착제철 | AH16: http://www.spiic.or.kr/(자료실/인쇄기준요금표)
C17: =CONCATENATE("가) 현장주재비 : 상주건설사업관리기술인 직접인건비의"," ",AB8,"%") -> 가) 현장주재비 : 상주건설사업관리기술인 직접인건비의 30% | W17: 월간보고서 | Y17: 제출횟수/부수/면 | AA17: 회/부/면 | AB17: ='산정근거(입력변수)'!O24-1 -> 41 | AD17: 2 | AF17: 200
D18: =R5 -> 1075427496 | E18: × | F18: =AB8/100 -> 0.3 | Q18: = | R18: =ROUND(D18*F18,0) -> 322628249 | U18: 원 | W18: 연간보고서 | Y18: 제출횟수/부수/면 | AA18: 회/부/면 | AD18: 3 | AF18: 300
W19: 최종보고서 | Y19: 제출횟수/부수/면 | AA19: 회/부/면 | AB19: 1 | AD19: 3 | AF19: 300
C20: =CONCATENATE("나) 출장여비 : 기술지원기술인 직접인건비의"," ",AB9,"%") -> 나) 출장여비 : 기술지원기술인 직접인건비의 10% | W20: 유지관리지침서 | Y20: 제출횟수/부수/면 | AA20: 회/부/면 | AB20: 1 | AD20: 5 | AF20: 300
D21: =R6 -> 189795936 | E21: × | F21: =AB9/100 -> 0.1 | Q21: = | R21: =ROUND(D21*F21,0) -> 18979594 | U21: 원
C23: 다) 현지 차량운행비 | W23: *현지 차량(거래가격, 물가자료/운반·수송기자재/차량 2026년 6월) | AG23: (VAT제외)
C24: ○ | D24: =IF(AB10=W25,Z25,IF(AB10=W26,Z26,"")) -> 승용차 2000cc 이하 적용 | W24: 구 분 | X24: 가격(원/L) | Z24: 차 종 | AE24: 손료계수 | AG24: 비고
D25: - 손 료 : | E25: =IF(AB10=W25,X25,IF(AB10=W26,X26,"")) -> 18772727 | G25: 원 × | H25: =IF(AB10=W25,AE25,IF(AB10=W26,AE26,"")) -> 1547 | J25: 10 | K25: -7 | L25: × | M25: 8 | N25: × | O25: 22 | P25: 일 | Q25: = | R25: =ROUND(INT(E25*H25*1/10000000)*M25*O25,0) -> 511104 | U25: 원 | W25: 승합차 | X25: =29070000/1.1 -> 26427273 | Z25: 승합차 2000cc 이하 적용(스포티지) | AE25: 1319 | AG25: 경유
D26: =IF(AB10=W25,"- 주원료 (경유) :","- 주원료 (휘발유) :") -> - 주원료 (휘발유) : | E26: =IF(AB10=W25,AB11,AB12) -> 1744.93 | G26: 원/ℓ | H26: × | I26: 10 | J26: ℓ/일 | K26: × | L26: 22 | M26: 일 | Q26: = | R26: =ROUND(E26*I26*L26,0) -> 383885 | U26: 원 | W26: 승용차 | X26: =20650000/1.1 -> 18772727 | Z26: 승용차 2000cc 이하 적용 | AE26: 1547 | AG26: 휘발유
D27: - 잡 품 (10%) : | E27: =R26 -> 383885 | H27: × | I27: 10 | J27: % | Q27: = | R27: =ROUND(E27*0.1,0) -> 38389 | U27: 원
D28: 소 계 | Q28: = | R28: =R25+R26+R27 -> 933378 | U28: 원
D29: =R28 -> 933378 | E29: × | F29: ='산정근거(입력변수)'!O24 -> 42 | I29: × | J29: 1 | K29: 대 | Q29: = | R29: =ROUND(D29*F29*J29,0) -> 39201876 | U29: 원
C31: 라) 현지 사무원 급료 : | D31: 현장 운영경비
C32: ○ 현장 보조요원 급료 : | F32: =AB13 -> 172068
D33: - 보통인부 적용(1인당 월22일 기준, 상여금 400%, 퇴직적립금 100% 적용)
D34: =AB13 -> 172068 | F34: =AB13 -> 172068 | Q34: = | R34: =ROUND((AB13*16/12*22)+(AB13*16/12*1/12*22),0) -> 5467939 | U34: 원
D35: =R34 -> 5467939 | E35: × | F35: =F29 -> 42 | I35: × | J35: 1 | K35: 인 | Q35: = | R35: =ROUND(D35*F35*J35,0) -> 229653438 | U35: 원
D36: 소 계 | Q36: = | R36: =SUM(R35:T35) -> 229653438 | U36: 원
C38: 마) 도서 인쇄비 | E38: (1면 : | F38: =AB15 -> 150 | H38: 1부당 제본료 : | K38: =AB16 -> 2500
C39: ○ | D39: 월간보고서 | E39: : | G39: =CONCATENATE(AB17, " 회 × ",AD17," 부 × [ ( ",AF17," 면 × ",$AB$15," 원 ) + ",$AB$16," 원 ]") -> 41 회 × 2 부 × [ ( 200 면 × 150 원 ) + 2500 원 ] | Q39: = | R39: =ROUND(AB17*AD17*((AF17*$AB$15)+$AB$16),0) -> 2665000 | U39: 원
C40: ○ | D40: 최 종 보 고 서 | E40: : | G40: =CONCATENATE(AB19, " 회 × ",AD19," 부 × [ ( ",AF19," 면 × ",$AB$15," 원 ) + ",$AB$16," 원 ]") -> 1 회 × 3 부 × [ ( 300 면 × 150 원 ) + 2500 원 ] | Q40: = | R40: =ROUND(AB19*AD19*((AF19*$AB$15)+$AB$16),0) -> 142500 | U40: 원
C41: ○ | D41: 유지관리지침서 | E41: : | G41: =CONCATENATE(AB20, " 회 × ",AD20," 부 × [ ( ",AF20," 면 × ",$AB$15," 원 ) + ",$AB$16," 원 ]") -> 1 회 × 5 부 × [ ( 300 면 × 150 원 ) + 2500 원 ] | Q41: = | R41: =ROUND(AB20*AD20*((AF20*$AB$15)+$AB$16),0) -> 237500 | U41: 원
D42: 소 계 | Q42: = | R42: =SUM(R39:T41) -> 3045000 | U42: 원
B44: 5. | C44: 손해배상보험료 | Q44: = | R44: =TRUNC((R48+R49+R50+R51+R52),-3) -> 28942000 | U44: 원
C45: ○ | D45: 순계약금액 × [기본비율 + 가산요율 × (표준공사기간 초과일수 / 365)]
C46: ○ | D46: 공사종류 : 항만공사, 표준공사기간 : 5년 (1,825일), | J46: 공제가입기간 : | M46: ='산정근거(입력변수)'!O24 -> 42 | N46: 개월( | O46: =ROUND((365/12)*M46,0) -> 1278
C47: ○ | D47: 용역금액 | E47: : | F47: =R3+R9+R12+R16 -> 3.801058e+09 | I47: 원(1+2+3+4)
C48: 가) 5억원 이하 : | F48: =IF(F47<500000000,F47,IF($F$47>1000000000,500000000,($F$47-500000000))) -> 500000000 | I48: × ( | J48: 0.00818 | L48: 0.00131 | N48: =IF($O$46<1825,"0",($O$46-1825)) -> 0 | O48: 365 | Q48: = | R48: =F48*(J48+L48*N48/O48) -> 4090000 | U48: 원
C49: 나) 5억원 초과 10억원 이하 : | F49: =IF(F47<500000000,"0",IF($F$47>1000000000,500000000,($F$47-500000000))) -> 500000000 | I49: × ( | J49: 0.00793 | L49: 0.00127 | N49: =IF($O$46<1825,"0",($O$46-1825)) -> 0 | O49: 365 | Q49: = | R49: =F49*(J49+L49*N49/O49) -> 3965000 | U49: 원
C50: 다) 10억원 초과 20억원 이하 : | F50: =IF(F47<1000000000,"0",IF($F$47>2000000000,1000000000,($F$47-1000000000))) -> 1000000000 | I50: × ( | J50: 0.00768 | L50: 0.00123 | N50: =IF($O$46<1825,"0",($O$46-1825)) -> 0 | O50: 365 | Q50: = | R50: =F50*(J50+L50*N50/O50) -> 7680000 | U50: 원
C51: 라) 20억원 초과 30억원 이하 : | F51: =IF(F47<2000000000,"0",IF($F$47>3000000000,1000000000,($F$47-2000000000))) -> 1000000000 | I51: × ( | J51: 0.00744 | L51: 0.00119 | N51: =IF($O$46<1825,"0",($O$46-1825)) -> 0 | O51: 365 | Q51: = | R51: =F51*(J51+L51*N51/O51) -> 7440000 | U51: 원
C52: 마) 30억원 초과 50억원 이하 : | F52: =IF(F47<3000000000,"0",IF($F$47>3000000000,(F47-3000000000),"0")) -> 8.01058e+08 | I52: × ( | J52: 0.0072 | L52: 0.00114 | N52: =IF($O$46<1825,"0",($O$46-1825)) -> 0 | O52: 365 | Q52: = | R52: =F52*(J52+L52*N52/O52) -> 5767617.6 | U52: 원
B54: - | C54: 공급가액(1~5) | E54: : | F54: =ROUND(R3+R9+R12+R16+R44,0) -> 3830000000 | J54: 원
B55: - | C55: 부가세(10%) | E55: : | F55: =ROUND(F54*0.1,0) -> 383000000 | J55: 원
B56: ◇ | C56: 건설사업관리용역비 | E56: : | F56: =SUM(F54:I55) -> 4213000000 | J56: 원
E59: 검산 | F59: =F56-(F54+F55) -> 0 | S59: =SUM(R48:T52) -> 28942618

Sheet 건설사업관리기술자 배치
A1: ■ 건설사업관리기술인 배치 | AD1: 주의 : 붉은색 셀만 수정하세요^^
B3: 1. 적용기준
C4: ○ | D4: 공사 낙찰률 | H4: : | I4: 1 | T4: 70% 미만 낙찰률공사 추가배치
C5: - | D5: 공사낙찰률에 대한 보정 | H5: : | I5: =IF(I4<=T8,0.5,IF(I4<V7,0.4,IF(I4<V6,0.3,IF(I4<V5,0.2,1)))) -> 1 | T5: 0.65 | U5: 이상 | V5: 0.7 | W5: 미만 : | X5: 0.2 | Y5: 추가
C6: ○ | D6: 산정된 건설사업관리기술인수 | H6: : | M6: =M8+M9 -> 195.62 | O6: 인·월 | T6: 0.6 | U6: 초과 | V6: 0.65 | W6: 미만 : | X6: 0.3 | Y6: 추가
C7: - | D7: 시공단계 | H7: : | I7: ='건설사업관리기술인수 산정'!M62 -> 4000.3 | K7: 인·일 | L7: = | M7: =ROUND(I7/22,2) -> 181.83 | O7: 인·월 | T7: 0.55 | U7: 초과 | V7: 0.6 | W7: 미만 : | X7: 0.4 | Y7: 추가
D8: 공사낙찰률 보정된 기술자수 | H8: : | I8: =IF(I5<1,I7*(1+I5),I7) -> 4000.3 | K8: 인·일 | L8: = | M8: =ROUND(I8/22,2) -> 181.83 | O8: 인·월 | T8: 0.55 | U8: 이하 | W8: : | X8: 0.5 | Y8: 추가
C9: - | D9: 시공외단계 | H9: : | I9: ='건설사업관리기술인수 산정'!M63 -> 303.3 | K9: 인·일 | L9: = | M9: =ROUND(I9/22,2) -> 13.79 | O9: 인·월
C10: ○ | D10: 공사 복잡도(시공단계) | H10: : | I10: 보통의 공종 | AD10: I11셀 입력시 칸 띄우기 조심
B12: 2. 건설사업관리기술자인(건설기술용역 대가등에 관한 기준 제9조 ①항에 의거) | T12: 공사복잡도에 의한 기술지원기술자수
C13: 1) | D13: 시공단계 건설사업관리기술인 | H13: : | N13: =SUM(N14,N15) -> 181.83 | P13: 인·월 | T13: 단순한 공종 | X13: 0.1
E14: 상주 기술인 | H14: : | I14: =M8 -> 181.83 | K14: × | L14: =IF(I10=T13,0.9,IF(I10=T14,0.85,IF(I10=T15,0.8,""))) -> 0.85 | M14: = | N14: =ROUND(I14*L14,2) -> 154.56 | P14: 인·월 | T14: 보통의 공종 | X14: 0.15
E15: 기술지원 기술인 | H15: : | I15: =M8 -> 181.83 | K15: × | L15: =1-L14 -> 0.15 | M15: = | N15: =ROUND(I15*L15,2) -> 27.27 | P15: 인·월 | T15: 복잡한 공종 | X15: 0.2
C16: 2) | D16: 시공외 단계 건설사업관리기술인 | H16: : | N16: =M9 -> 13.79 | P16: 인·월
D17: 계 | E17: : | N17: =SUM(N13+N16) -> 195.62 | P17: 인·월
B19: 3. 시공단계 상주 건설사업관리기술인 등급별 투입 조정 | P19: 건설사업관리기술인 노임단가(2026년)
C20: 1) | D20: 건설사업관리기술인수 = | P20: 등 급 | R20: 특급기술인 | T20: 고급기술인 | V20: 중급기술인 | X20: 초급기술인 | AD20: 건설사업관리기술인 노임단가(2026년)
P21: 일 임금액 | R21: =AF22 -> 399247 | T21: =AH22 -> 376400 | V21: =AJ22 -> 350580 | X21: =AL22 -> 287724 | AD21: 월 근로일수 | AF21: 특급기술인 | AH21: 고급기술인 | AJ21: 중급기술인 | AL21: 초급기술인
E22: Si = 각급 기술인의 환산비 | P22: 환산비 | R22: =ROUND(R21/$T$21,3) -> 1.061 | T22: 1 | V22: =ROUND(V21/$T$21,3) -> 0.931 | X22: =ROUND(X21/$T$21,3) -> 0.764 | AD22: 22.0일 기준 | AF22: 399247 | AH22: 376400 | AJ22: 350580 | AL22: 287724
E23: Ni = 각급 기술인의 수(인·월) | P23: 고급기술인 월 임금액 | V23: =TRUNC(T21*22,0) -> 8280800 | AD23: 20.3일 기준 | AF23: =ROUNDDOWN((AF22)*20.3/22,0) -> 368396 | AH23: =ROUNDDOWN((AH22)*20.3/22,0) -> 347314 | AJ23: =ROUNDDOWN((AJ22)*20.3/22,0) -> 323489 | AL23: =ROUNDDOWN((AL22)*20.3/22,0) -> 265490
C25: 2) | D25: 시공단계 상주기술인수
D26: 고급기술인 | G26: =IF(I26=0,"",":") -> : | H26: 책임 | I26: 1 | J26: =IF(I26>0,"인 ×","") -> 인 × | K26: =IF(I26=0,"",IF(D26=$R$20,$R$22,IF(D26=$T$20,$T$22,IF(D26=$V$20,$V$22,IF(D26=$X$20,$X$22,""))))) -> 1 | L26: =IF(I26>0,"×","") -> × | M26: ='산정근거(입력변수)'!O24 -> 42 | O26: =IF(I26=0,"","=") -> = | P26: =IF(I26=0,"",ROUND(I26*K26*M26,2)) -> 42 | R26: =IF(I26=0,"","인·월") -> 인·월 | S26: (토목) | AD26: =설계예산서!H3 -> 4213000000
D27: 초급기술인 | G27: =IF(I27=0,"",":") -> : | H27: =IF(I27=0,"","보조") -> 보조 | I27: 1 | J27: =IF(I27>0,"인 ×","") -> 인 × | K27: =IF(I27=0,"",IF(D27=$R$20,$R$22,IF(D27=$T$20,$T$22,IF(D27=$V$20,$V$22,IF(D27=$X$20,$X$22,""))))) -> 0.764 | L27: =IF(I27>0,"×","") -> × | M27: 39 | O27: =IF(I27=0,"","=") -> = | P27: =IF(I27=0,"",ROUND(I27*K27*M27,2)) -> 29.8 | R27: =IF(I27=0,"","인·월") -> 인·월 | S27: (토목)
D28: 초급기술인 | G28: =IF(I28=0,"",":") -> : | H28: =IF(I28=0,"","보조") -> 보조 | I28: 1 | J28: =IF(I28>0,"인 ×","") -> 인 × | K28: =IF(I28=0,"",IF(D28=$R$20,$R$22,IF(D28=$T$20,$T$22,IF(D28=$V$20,$V$22,IF(D28=$X$20,$X$22,""))))) -> 0.764 | L28: =IF(I28>0,"×","") -> × | M28: 37 | O28: =IF(I28=0,"","=") -> = | P28: =IF(I28=0,"",ROUND(I28*K28*M28,2)) -> 28.27 | R28: =IF(I28=0,"","인·월") -> 인·월 | S28: (토목)
D29: 초급기술인 | G29: =IF(I29=0,"",":") | H29: =IF(I29=0,"","보조") | J29: =IF(I29>0,"인 ×","") | K29: =IF(I29=0,"",IF(D29=$R$20,$R$22,IF(D29=$T$20,$T$22,IF(D29=$V$20,$V$22,IF(D29=$X$20,$X$22,""))))) | L29: =IF(I29>0,"×","") | O29: =IF(I29=0,"","=") | P29: =IF(I29=0,"",ROUND(I29*K29*M29,2)) | R29: =IF(I29=0,"","인·월") | S29: (토목)
D30: 초급기술인 | G30: =IF(I30=0,"",":") | H30: =IF(I30=0,"","보조") | J30: =IF(I30>0,"인 ×","") | K30: =IF(I30=0,"",IF(D30=$R$20,$R$22,IF(D30=$T$20,$T$22,IF(D30=$V$20,$V$22,IF(D30=$X$20,$X$22,""))))) | L30: =IF(I30>0,"×","") | O30: =IF(I30=0,"","=") | P30: =IF(I30=0,"",ROUND(I30*K30*M30,2)) | R30: =IF(I30=0,"","인·월") | S30: (토목)
D31: 초급기술인 | G31: =IF(I31=0,"",":") -> : | H31: =IF(I31=0,"","보조") -> 보조 | I31: 1 | J31: =IF(I31>0,"인 ×","") -> 인 × | K31: =IF(I31=0,"",IF(D31=$R$20,$R$22,IF(D31=$T$20,$T$22,IF(D31=$V$20,$V$22,IF(D31=$X$20,$X$22,""))))) -> 0.764 | L31: =IF(I31>0,"×","") -> × | M31: 39 | O31: =IF(I31=0,"","=") -> = | P31: =IF(I31=0,"",ROUND(I31*K31*M31,2)) -> 29.8 | R31: =IF(I31=0,"","인·월") -> 인·월 | S31: (안전)
D32: 초급기술인 | G32: =IF(I32=0,"",":") | H32: =IF(I32=0,"","보조") | J32: =IF(I32>0,"인 ×","") | K32: =IF(I32=0,"",IF(D32=$R$20,$R$22,IF(D32=$T$20,$T$22,IF(D32=$V$20,$V$22,IF(D32=$X$20,$X$22,""))))) | L32: =IF(I32>0,"×","") | O32: =IF(I32=0,"","=") | P32: =IF(I32=0,"",ROUND(I32*K32*M32,2)) | R32: =IF(I32=0,"","인·월") | S32: (토목)
D33: 소계 | E33: : | I33: =SUM(I26:I32) -> 4 | O33: = | P33: =SUM(P26:Q32) -> 129.87 | R33: 인·월
B35: 4. 투입 건설사업관리인수 조정
C36: 1) | D36: 시공단계 건설사업관리기술인 | H36: : | P36: =SUM(P37,P38) -> 152.79 | R36: 인·월
E37: 상주 기술인 | H37: : | P37: =P33 -> 129.87 | R37: 인·월
E38: 기술지원 기술인 | H38: : | I38: =P37 -> 129.87 | K38: ÷ | L38: =L14 -> 0.85 | M38: × | N38: =L15 -> 0.15 | O38: = | P38: =ROUND(I38/L38*N38,2) -> 22.92 | R38: 인·월 | AD38: =P38/P36 -> 0.15000982 | AE38: (기술지원 기술인 비율)
D39: 계 | E39: : | P39: =SUM(P36) -> 152.79 | R39: 인·월

Sheet 토목 및 전기
A1: 토 목 및 전 기

Sheet 배치계획표
A1: ■ 건설사업관리기술인 배치계획표
A3: 구 분 | D3: 투입기간(착수일로부터 37개월) | Y3: 비 고
D4: 2 | E4: =D4+2 -> 4 | F4: =E4+2 -> 6 | G4: =F4+2 -> 8 | H4: =G4+2 -> 10 | I4: =H4+2 -> 12 | J4: =I4+2 -> 14 | K4: =J4+2 -> 16 | L4: =K4+2 -> 18 | ... R4: =Q4+2 -> 30 | T4: =R4+2 -> 32 | U4: =T4+2 -> 34 | V4: =U4+2 -> 36 | W4: 38
A5: 상주 기술인 | B5: 책임기술인 | C5: 특급(총괄) | Y5: ='건설사업관리기술자 배치'!M26 -> 42
B8: 분야별 기술인 | C8: 고급(토목) | Y8: ='건설사업관리기술자 배치'!M27 -> 39
C11: 초급(토목) | Y11: ='건설사업관리기술자 배치'!M29 -> 0
C14: 중급(전기) | Y14: ='건설사업관리기술자 배치'!#REF! -> #REF!
C17: 중급(안전) | Y17: ='건설사업관리기술자 배치'!M32 -> 0
A20: 기술지원 기술인 | B20: 항만 및 해안 | C20: 특급 | Y20: =Y5 -> 42
B23: 토목구조 | C23: 특급 | Y23: =Y5 -> 42
B26: 토질 및 기초 | C26: 특급 | Y26: =Y5 -> 42
A29: 소 계(월) | D29: 2 | E29: 2 | F29: 2 | G29: 2 | H29: 2 | I29: 2 | J29: 2 | K29: 2 | L29: 2 | M29: 2 | N29: 2 | O29: 2 | P29: 2 | Q29: 2 | R29: 2 | T29: 2 | U29: 2 | V29: 2 | W29: 1 | Y29: =Y5 -> 42
A30: 누 계(월) | D30: =D29 -> 2 | E30: =D30+E29 -> 4 | F30: =E30+F29 -> 6 | G30: =F30+G29 -> 8 | H30: =G30+H29 -> 10 | I30: =H30+I29 -> 12 | J30: =I30+J29 -> 14 | K30: =J30+K29 -> 16 | L30: =K30+L29 -> 18 | ... R30: =Q30+R29 -> 30 | T30: =R30+T29 -> 32 | U30: =T30+U29 -> 34 | V30: =U30+V29 -> 36 | W30: =V30+W29 -> 37

Sheet 산정근거(입력변수)
B1: ■ 건설사업관리 대가기준 산정 근거
B3: □ 용 역 명 : | E3: =표지!C5 -> 고성 마차진·대진지구 연안정비사업 건설사업관리용역
B4: □ 해당용역 단계별 선택
B5: 구분 | C5: 단 계 | F5: 적 용 | H5: 비 고
B6: 용역 유형 | C6: 공통업무 | F6: 1 | H6: "건설사업관리기술자수 산정"시트에서 기본업무에 대한 "해당용역유무" 확인
C7: 설계전 단계
C8: 기본설계 단계
C9: 실시설계 단계
C10: 구매조달 단계 | S10: 총공사비
C11: 시공 단계 | F11: =F6 -> 1
C12: 시공후 단계 | F12: =F11 -> 1
B14: □ 입력변수
B15: 구 분 | F15: 내 용 | M15: 단위 | O15: 입력값
B16: 투입 인원수 산정 기준 | C16: 공 사 비 (VAT 제외) | F16: 총공사비 | M16: 억원 | O16: 259
F17: 구조물공사비 | M17: 억원 | O17: =O16*67.47/100 -> 174.7473
C18: 공사일수 | F18: 시공단계 공사일수(년) | M18: 년 | O18: =O19/12 -> 3.4166667
F19: 구매조달 및 시공단계 공사일수(개월) | M19: 개월 | O19: 41
F20: 시공단계 공사일수(일)(1개월=22일) | M20: 일(환산일수) | O20: =O19*22 -> 902
C21: 용역일수 | F21: 기본설계 용역일수(개월) | M21: 월
F22: 실시설계 용역일수(개월) | M22: 월
F23: 시공단계 용역일수(년) | M23: 년 | O23: =O24/12 -> 3.5
F24: 시공단계 용역일수(개월) | M24: 개월 | O24: =O19+1 -> 42
F25: 시공단계 용역일수(일)(1개월=22일) | M25: 일(환산일수) | O25: =O24*22 -> 924
C26: 공통업무 | F26: 사업정보관리시스템의 운영일수 | M26: 일(환산일수) | O26: =O25 -> 924
C27: 기본설계 단계 | F27: 기본설계 용역기성 및 준공검사 관리 횟수 | M27: 회
F28: 설계자문회의 운영 및 관리 횟수 | M28: 회
C29: 실시설계 단계 | F29: 실시설계 용역기성 및 준공검사 관리 횟수 | M29: 회
F30: 설계자문회의 운영 및 관리 횟수 | M30: 회
C31: 시공단계 | F31: 기성검사 횟수 | M31: 회 | O31: =INT(O19)/6 -> 6.8333333 | S31: 6개월당 1회
F32: 시공단계의 예산검증 및 지원 횟수 | M32: 회 | O32: =INT(O23)*1 -> 3
B33: 보정 계수 | C33: a.항만유형 및 선박규모 | F33: ①준설 및 매립 : 0.7 ②배후부지 : 0.7 ③(계류시설)일반 및 기타부두, 물양장, (외곽시설) 호안, 방파제, 가호안, 기타 외곽시설 : 1.0 ④(계류시설, 전문부두) 컨테이너, 자동차, 여객 : 1.0 ⑤(계류시설) 말뚝식, 원유부이 : 1.2 ⑥(계류시설) 부잔교, 마리나, (외곽시설) 갑문, 수문 : 1.2 | M33: 보정계수값 | O33: 1
C34: b.지역 | F34: ① 동해 : 1.2, ② 서해 : 1.2, ③ 남해(제주도 포함) : 1.0 ④ 기타 도서지역(제주도 제외) : 1.4 | M34: 보정계수값 | O34: 1.2
C35: c.수심 | F35: ① 5m이하 : 0.8, ② 5m 초과~20m 이하 1.0, ③ 20m 초과 : 1.2 | M35: 보정계수값 | O35: 0.8
B36: 공사 난이도 | C36: 입력값 산정 | D36: 구조물비중 | F36: 구조물비중 = 구조물공사비/총공사비 | M36: 산식결과값 | O36: =ROUND(O17/O16,4) -> 0.6747
D37: 건설사업관리 기간보정계수 | F37: 건설사업관리기간보정계수 = {(평균건설사업관리기간-해당공사 건설사업관리기간)/평균건설사업관리기간}×0.1 | M37: 산식결과값 | O37: =ROUND(((O46-O24)/O46)*0.1,4) -> -0.0117
C38: 총공사비 2,000억원이하 | E38: 시공 단계 | F38: 공사난이도 = 0.011*총공사비*(1-0.0025*총공사비)+건설사업관리기간보정계수+(0.1*구조물비중)+0.2 | M38: 산식결과값 | O38: =IF(O16<=2000,(0.011*O16/10*(1-0.0025*O16/10)+O37+(0.1*O36)+0.2),"") -> 0.52222272
E39: 시공 전단계 | F39: 공사난이도 = 0.015*총공사비*(1-0.0011*총공사비) | M39: 산식결과값 | O39: =IF(O16<=2000,(0.015*O16/10*(1-0.0011*O16/10)),"") -> 0.37743163
C40: 총공사비 2,000억원초과 | E40: 시공 단계 | F40: 공사난이도 = 총공사비 2,000억원 시 공사난이도+{(총공사비-200)/250} | M40: 산식결과값 | O40: =IF(O16>2000,(O58+((O16/10-200)/250)),"")
E41: 시공 전단계 | F41: 공사난이도 = 총공사비 2,000억원 시 공사난이도+{(총공사비-200)/250} | M41: 산식결과값 | O41: =IF(O16>2000,(O60+((O16/10-200)/250)),"")
B43: □ 평균건설사업관리기간 | O43: 해당공사
B44: 공사비(억원) | E44: 50 | F44: 70 | G44: 100 | H44: 150 | I44: 200 | J44: 300 | K44: 400 | L44: 500 | M44: 700 | N44: 1000 | O44: =O16 -> 259
E45: 이하 | N45: 이상
B46: 평균건설사업 관리기간(개월) | E46: 17 | F46: 24 | G46: 28 | H46: 30 | I46: 37 | J46: 38 | K46: 38 | L46: 39 | M46: 45 | N46: 54 | O46: =K49 -> 37.6
B48: - 해당공사금액 평균건설사업관리기간 산정(직선보간법)
B49: =IF(O44<=E44,E46,IF(O44<F44,E46,IF(O44<G44,F46,IF(O44<H44,G46,IF(O44<I44,H46,IF(O44<J44,I46,IF(O44<K44,J46,IF(O44<L44,K46,IF(O44<M44,L46,IF(O44<N44,M46,N46)))))))))) -> 37 | C49: + | D49: =IF(O44<E44,E46,IF(O44<F44,F46,IF(O44<G44,G46,IF(O44<H44,H46,IF(O44<I44,I46,IF(O44<J44,J46,IF(O44<K44,K46,IF(O44<L44,L46,IF(O44<M44,M46,IF(O44<N44,N46,N46)))))))))) -> 38 | E49: - | F49: =B49 -> 37 | G49: × | H49: =IF(O44<E44,O44-E44,IF(O44<F44,O44-E44,IF(O44<G44,O44-F44,IF(O44<H44,O44-G44,IF(O44<I44,O44-H44,IF(O44<J44,O44-I44,IF(O44<K44,O44-J44,IF(O44<L44,O44-K44,IF(O44<M44,O44-L44,IF(O44<N44,O44-M44,O44-N44)))))))))) -> 59 | J49: = | K49: =ROUND(B49+((D49-F49)/D50)*H49,1) -> 37.6 | L49: 개월
D50: =IF(O44<E44,50,IF(O44<F44,20,IF(O44<G44,30,IF(O44<H44,50,IF(O44<I44,50,IF(O44<J44,100,IF(O44<K44,100,IF(O44<L44,100,IF(O44<M44,200,IF(O44<N44,300,300)))))))))) -> 100
B52: ※ 총공사비 2,000억원 시 공사난이도
B53: 공사 난이도 | C53: 입력값 산정 | D53: 구조물비중 | F53: 구조물비중 = 구조물공사비 / 총공사비
F54: =CONCATENATE("구조물비중 = ",O17," / ",O16) -> 구조물비중 = 174.7473 / 259 | M54: 산식결과값 | O54: =ROUND(O17/O16,4) -> 0.6747
D55: 건설사업관리 기간보정계수 | F55: 건설사업관리기간보정계수 = {(평균건설사업관리기간-해당공사 건설사업관리기간)/평균건설사업관리기간}×0.1
F56: =CONCATENATE("건설사업관리기간보정계수 = {[54-54)/54}×0.1") -> 건설사업관리기간보정계수 = {[54-54)/54}×0.1 | M56: 산식결과값 | O56: =((54-54)/54)*0.1 -> 0
C57: 시공 단계 (2,000억원 시) | F57: 공사난이도 = 0.011*총공사비*(1-0.0025*총공사비)+건설사업관리기간보정계수+(0.1*구조물비중)+0.2
F58: =CONCATENATE("공사난이도 = 0.011*200*(1-0.0025*200)+",O56,"+(0.1*",O54,")+0.2") -> 공사난이도 = 0.011*200*(1-0.0025*200)+0+(0.1*0.6747)+0.2 | M58: 산식결과값 | O58: =ROUND(0.011*200*(1-0.0025*200)+0+(0.1*O54)+0.2,4) -> 1.3675
C59: 시공전 단계 (2,000억원 시) | F59: 공사난이도 = 0.015*총공사비*(1-0.0011*총공사비)
F60: =CONCATENATE("공사난이도 = 0.015*200*(1-0.0011*200)") -> 공사난이도 = 0.015*200*(1-0.0011*200) | M60: 산식결과값 | O60: =ROUND(0.015*200*(1-0.0011*200),4) -> 2.34

Sheet 건설사업관리기술인수 산정
A1: ■ 건설사업관리기술인수 산정(항만, 댐, 공항, 단지분야)
A2: '○ 건설엔지니어링 대가 등에 관한 기준에 의함 - 나. 토목비선영(항만, 댐, 공항, 단지 등 기타)분야 적용
A3: □ 투입인원수 산정기준에 따른 투입인원수 산정
A4: 업 무 분 류 체 계 | E4: 적용 | F4: 기준인원수(인･일) | G4: 보정계수 | J4: 난 | K4: 해당 용역 유무 | L4: 적용수량 | M4: 투입인원수
A5: 단계 | B5: 기 본 업 무 | E5: 수량 | G5: 항만 | J5: 이
E6: 단위 | F6: 고급 | G6: a | H6: b | I6: c | J6: 도 | M6: 인·일 | N6: 합계
A7: 공 통 업 무 | B7: 과업착수준비 | E7: 식 | F7: 7 | K7: ='산정근거(입력변수)'!$F$6 -> 1 | L7: =IF(K7=0,"",1) -> 1 | M7: =IF(K7=0,"",ROUND((PRODUCT(F7:J7)*K7*L7),1)) -> 7
B8: 건설사업관리 업무수행계획서 작성 | E8: 식 | F8: 20.5 | K8: ='산정근거(입력변수)'!$F$6 -> 1 | L8: =IF(K8=0,"",1) -> 1 | M8: =IF(K8=0,"",ROUND((PRODUCT(F8:J8)*K8*L8),1)) -> 20.5
B9: 건설사업관리 절차서 작성ㆍ운영 | E9: 식 | F9: 27.3 | L9: =IF(K9=0,"",1) | M9: =IF(K9=0,"",ROUND((PRODUCT(F9:J9)*K9*L9),1))
B10: 작업분류체계 및 사업번호체계 관리, 사업정보축적ㆍ관리 | E10: 식 | F10: 22.3 | L10: =IF(K10=0,"",1) | M10: =IF(K10=0,"",ROUND((PRODUCT(F10:J10)*K10*L10),1))
B11: 사업정보관리시스템의 운영 | E11: 운영일수 | F11: 0.3 | G11: ='산정근거(입력변수)'!$O$33 -> 1 | J11: =IF('산정근거(입력변수)'!$O$16<=2000,'산정근거(입력변수)'!$O$38,'산정근거(입력변수)'!$O$40) -> 0.52222272 | K11: 1 | L11: =IF(K11=0,"",'산정근거(입력변수)'!O26) -> 924 | M11: =IF(K11=0,"",ROUND((PRODUCT(F11:J11)*K11*L11),1)) -> 144.8
B12: 클레임 사전분석 | E12: 식 | F12: 31 | L12: =IF(K12=0,"",1) | M12: =IF(K12=0,"",ROUND((PRODUCT(F12:J12)*K12*L12),1))
B13: 최종 건설사업관리 보고 | C13: 1)시공전 단계 | E13: 식 | F13: 27.3 | L13: =IF(K13=0,"",1) | M13: =IF(K13=0,"",ROUND((PRODUCT(F13:J13)*K13*L13),1))
C14: 2)시공이후 단계 | F14: 54.6 | K14: ='산정근거(입력변수)'!$F$6 -> 1 | L14: =IF(K14=0,"",1) -> 1 | M14: =IF(K14=0,"",ROUND((PRODUCT(F14:J14)*K14*L14),1)) -> 54.6 | N14: =SUM(M7:M14) -> 226.9
A15: 설 계 전 단 계 | B15: 건설기술용역업체 선정 | E15: 식 | F15: 43.7 | K15: ='산정근거(입력변수)'!$F$7 -> 0 | L15: =IF(K15=0,"",1) | M15: =IF(K15=0,"",ROUND((PRODUCT(F15:J15)*K15*L15),1))
B16: 사업타당성조사보고서의 적정성 검토 | E16: 식 | F16: 21.6 | G16: ='산정근거(입력변수)'!$O$33 -> 1 | J16: =IF('산정근거(입력변수)'!$O$16<=2000,'산정근거(입력변수)'!$O$38,'산정근거(입력변수)'!$O$40) -> 0.52222272 | K16: ='산정근거(입력변수)'!$F$7 -> 0 | L16: =IF(K16=0,"",1) | M16: =IF(K16=0,"",ROUND((PRODUCT(F16:J16)*K16*L16),1))
B17: 기본계획보고서의 적정성 검토 | E17: 식 | F17: 21.3 | G17: ='산정근거(입력변수)'!$O$33 -> 1 | J17: =IF('산정근거(입력변수)'!$O$16<=2000,'산정근거(입력변수)'!$O$38,'산정근거(입력변수)'!$O$40) -> 0.52222272 | K17: ='산정근거(입력변수)'!$F$7 -> 0 | L17: =IF(K17=0,"",1) | M17: =IF(K17=0,"",ROUND((PRODUCT(F17:J17)*K17*L17),1))
B18: 발주방식(사업수행방식) 결정 지원 | E18: 식 | F18: 31 | K18: ='산정근거(입력변수)'!$F$7 -> 0 | L18: =IF(K18=0,"",1) | M18: =IF(K18=0,"",ROUND((PRODUCT(F18:J18)*K18*L18),1))
B19: 관리기준공정계획수립 | E19: 식 | F19: 18 | J19: =IF('산정근거(입력변수)'!$O$16<=2000,'산정근거(입력변수)'!$O$38,'산정근거(입력변수)'!$O$40) -> 0.52222272 | K19: ='산정근거(입력변수)'!$F$7 -> 0 | L19: =IF(K19=0,"",1) | M19: =IF(K19=0,"",ROUND((PRODUCT(F19:J19)*K19*L19),1))
B20: 총사업비 집행계획수립지원(종합예산계획서) | E20: 식 | F20: 11.4 | K20: ='산정근거(입력변수)'!$F$7 -> 0 | L20: =IF(K20=0,"",1) | M20: =IF(K20=0,"",ROUND((PRODUCT(F20:J20)*K20*L20),1)) | N20: =SUM(M15:M20) -> 0
A21: 기 본 설 계 단 계 | B21: 기본설계 설계자 선정업무 지원 | E21: 식 | F21: 17.1 | K21: ='산정근거(입력변수)'!$F$8 -> 0 | L21: =IF(K21=0,"",1) | M21: =IF(K21=0,"",ROUND((PRODUCT(F21:J21)*K21*L21),1))
B22: 기본설계 조정 및 연계성 검토 | E22: 용역개월 | F22: 3.2 | G22: ='산정근거(입력변수)'!$O$33 -> 1 | J22: =IF('산정근거(입력변수)'!$O$16<=2000,'산정근거(입력변수)'!$O$38,'산정근거(입력변수)'!$O$40) -> 0.52222272 | K22: ='산정근거(입력변수)'!$F$8 -> 0 | L22: ='산정근거(입력변수)'!$O$21 -> 0 | M22: =IF(K22=0,"",ROUND((PRODUCT(F22:J22)*K22*L22),1))
B23: 기본설계단계의 예산검증 및 조정업무 | E23: 식 | F23: 22.5 | G23: ='산정근거(입력변수)'!$O$33 -> 1 | J23: =IF('산정근거(입력변수)'!$O$16<=2000,'산정근거(입력변수)'!$O$38,'산정근거(입력변수)'!$O$40) -> 0.52222272 | K23: ='산정근거(입력변수)'!$F$8 -> 0 | L23: =IF(K23=0,"",1) | M23: =IF(K23=0,"",ROUND((PRODUCT(F23:J23)*K23*L23),1))
B24: 기본설계의 경제성(VE) 검토 | E24: 식 | F24: 90.6 | J24: =IF('산정근거(입력변수)'!$O$16<=2000,'산정근거(입력변수)'!$O$38,'산정근거(입력변수)'!$O$40) -> 0.52222272 | K24: ='산정근거(입력변수)'!$F$8 -> 0 | L24: =IF(K24=0,"",1) | M24: =IF(K24=0,"",ROUND((PRODUCT(F24:J24)*K24*L24),1))
B25: 기본설계용역성과검토 | E25: 용역개월 | F25: 5.7 | G25: ='산정근거(입력변수)'!$O$33 -> 1 | H25: ='산정근거(입력변수)'!$O$34 -> 1.2 | J25: =IF('산정근거(입력변수)'!$O$16<=2000,'산정근거(입력변수)'!$O$38,'산정근거(입력변수)'!$O$40) -> 0.52222272 | K25: ='산정근거(입력변수)'!$F$8 -> 0 | L25: ='산정근거(입력변수)'!$O$21 -> 0 | M25: =IF(K25=0,"",ROUND((PRODUCT(F25:J25)*K25*L25),1))
B26: 기본설계 용역 기성 및 준공검사관리 | E26: 회 | F26: 3.7 | G26: ='산정근거(입력변수)'!$O$33 -> 1 | K26: ='산정근거(입력변수)'!$F$8 -> 0 | L26: ='산정근거(입력변수)'!O27 -> 0 | M26: =IF(K26=0,"",ROUND((PRODUCT(F26:J26)*K26*L26),1))
B27: 각종 인허가 및 관계기관협의 지원 | E27: 식 | F27: 6.8 | K27: ='산정근거(입력변수)'!$F$8 -> 0 | L27: =IF(K27=0,"",1) | M27: =IF(K27=0,"",ROUND((PRODUCT(F27:J27)*K27*L27),1))
B28: 설계자문회의 운영 및 관리 | E28: 회 | F28: 2.5 | K28: ='산정근거(입력변수)'!$F$8 -> 0 | L28: ='산정근거(입력변수)'!O28 -> 0 | M28: =IF(K28=0,"",ROUND((PRODUCT(F28:J28)*K28*L28),1)) | N28: =SUM(M21:M28) -> 0
A29: 실 시 설 계 단 계 | B29: 실시설계 설계자 선정업무 지원 | E29: 식 | F29: 13.9 | K29: ='산정근거(입력변수)'!$F$9 -> 0 | L29: =IF(K29=0,"",1) | M29: =IF(K29=0,"",ROUND((PRODUCT(F29:J29)*K29*L29),1))
B30: 실시설계 조정 및 연계성 검토 | E30: 용역개월 | F30: 5.9 | G30: ='산정근거(입력변수)'!$O$33 -> 1 | J30: =IF('산정근거(입력변수)'!$O$16<=2000,'산정근거(입력변수)'!$O$38,'산정근거(입력변수)'!$O$40) -> 0.52222272 | K30: ='산정근거(입력변수)'!$F$9 -> 0 | L30: ='산정근거(입력변수)'!$O$22 -> 0 | M30: =IF(K30=0,"",ROUND((PRODUCT(F30:J30)*K30*L30),1))
B31: 실시설계단계의 예산검증 및 조정업무 | E31: 식 | F31: 23.3 | G31: ='산정근거(입력변수)'!$O$33 -> 1 | J31: =IF('산정근거(입력변수)'!$O$16<=2000,'산정근거(입력변수)'!$O$38,'산정근거(입력변수)'!$O$40) -> 0.52222272 | K31: ='산정근거(입력변수)'!$F$9 -> 0 | L31: =IF(K31=0,"",1) | M31: =IF(K31=0,"",ROUND((PRODUCT(F31:J31)*K31*L31),1))
B32: 실시설계의 경제성(VE) 검토 | E32: 식 | F32: 123.3 | J32: =IF('산정근거(입력변수)'!$O$16<=2000,'산정근거(입력변수)'!$O$38,'산정근거(입력변수)'!$O$40) -> 0.52222272 | K32: ='산정근거(입력변수)'!$F$9 -> 0 | L32: =IF(K32=0,"",1) | M32: =IF(K32=0,"",ROUND((PRODUCT(F32:J32)*K32*L32),1))
B33: 실시설계용역성과검토 | E33: 용역개월 | F33: 10.5 | G33: ='산정근거(입력변수)'!$O$33 -> 1 | H33: ='산정근거(입력변수)'!$O$34 -> 1.2 | J33: =IF('산정근거(입력변수)'!$O$16<=2000,'산정근거(입력변수)'!$O$38,'산정근거(입력변수)'!$O$40) -> 0.52222272 | K33: ='산정근거(입력변수)'!$F$9 -> 0 | L33: ='산정근거(입력변수)'!$O$22 -> 0 | M33: =IF(K33=0,"",ROUND((PRODUCT(F33:J33)*K33*L33),1))
B34: 실시설계 용역 기성 및 준공검사관리 | E34: 회 | F34: 8.1 | G34: ='산정근거(입력변수)'!$O$33 -> 1 | K34: ='산정근거(입력변수)'!$F$9 -> 0 | L34: ='산정근거(입력변수)'!O29 -> 0 | M34: =IF(K34=0,"",ROUND((PRODUCT(F34:J34)*K34*L34),1))
B35: 지급자재 조달 및 관리계획 수립 | E35: 식 | F35: 10.2 | K35: ='산정근거(입력변수)'!$F$9 -> 0 | L35: =IF(K35=0,"",1) | M35: =IF(K35=0,"",ROUND((PRODUCT(F35:J35)*K35*L35),1))
B36: 각종 인허가 및 관계기관협의 지원 | E36: 식 | F36: 8.3 | K36: ='산정근거(입력변수)'!$F$9 -> 0 | L36: =IF(K36=0,"",1) | M36: =IF(K36=0,"",ROUND((PRODUCT(F36:J36)*K36*L36),1))
B37: 설계자문회의 운영 및 관리 | E37: 회 | F37: 6.4 | K37: ='산정근거(입력변수)'!$F$9 -> 0 | L37: ='산정근거(입력변수)'!O30 -> 0 | M37: =IF(K37=0,"",ROUND((PRODUCT(F37:J37)*K37*L37),1))
B38: 시공자 선정계획수립 | E38: 식 | F38: 16.9 | K38: ='산정근거(입력변수)'!$F$9 -> 0 | L38: =IF(K38=0,"",1) | M38: =IF(K38=0,"",ROUND((PRODUCT(F38:J38)*K38*L38),1)) | N38: =SUM(M29:M38) -> 0
A39: 구매 조달 단계 | B39: 입찰업무지원 | E39: 식 | F39: 37.7 | K39: ='산정근거(입력변수)'!$F$10 -> 0 | L39: =IF(K39=0,"",1) | M39: =IF(K39=0,"",ROUND((PRODUCT(F39:J39)*K39*L39),1))
B40: 계약업무지원 | E40: 식 | F40: 27.5 | K40: ='산정근거(입력변수)'!$F$10 -> 0 | L40: =IF(K40=0,"",1) | M40: =IF(K40=0,"",ROUND((PRODUCT(F40:J40)*K40*L40),1))
B41: 지급자재조달지원 | E41: 공사개월 | F41: 0.6 | K41: ='산정근거(입력변수)'!$F$10 -> 0 | L41: =IF(K41=0,"",'산정근거(입력변수)'!$O$19) | M41: =IF(K41=0,"",ROUND((PRODUCT(F41:J41)*K41*L41),1)) | N41: =SUM(M39:M41) -> 0
A42: 시 공 단 계 | B42: 공사착수 | E42: 식 | F42: 110.1 | H42: ='산정근거(입력변수)'!$O$34 -> 1.2 | K42: ='산정근거(입력변수)'!$F$11 -> 1 | L42: =IF(K42=0,"",1) -> 1 | M42: =IF(K42=0,"",ROUND((PRODUCT(F42:J42)*K42*L42),1)) -> 132.1
B43: 시공성과확인 및 적정성 검토 | E43: 공사일수 | F43: 2.2 | G43: ='산정근거(입력변수)'!$O$33 -> 1 | H43: ='산정근거(입력변수)'!$O$34 -> 1.2 | J43: =IF('산정근거(입력변수)'!$O$16<=2000,'산정근거(입력변수)'!$O$38,'산정근거(입력변수)'!$O$40) -> 0.52222272 | K43: ='산정근거(입력변수)'!$F$11 -> 1 | L43: =IF(K43=0,"",'산정근거(입력변수)'!O20) -> 902 | M43: =IF(K43=0,"",ROUND((PRODUCT(F43:J43)*K43*L43),1)) -> 1243.6
B44: 사용자재의 적정성 검토 | E44: 공사개월 | F44: 1.8 | J44: =IF('산정근거(입력변수)'!$O$16<=2000,'산정근거(입력변수)'!$O$38,'산정근거(입력변수)'!$O$40) -> 0.52222272 | K44: ='산정근거(입력변수)'!$F$11 -> 1 | L44: =IF(K44=0,"",'산정근거(입력변수)'!$O$19) -> 41 | M44: =IF(K44=0,"",ROUND((PRODUCT(F44:J44)*K44*L44),1)) -> 38.5
B45: 품질시험 및 성과검토 | E45: 공사개월 | F45: 11 | G45: ='산정근거(입력변수)'!$O$33 -> 1 | H45: ='산정근거(입력변수)'!$O$34 -> 1.2 | I45: ='산정근거(입력변수)'!$O$35 -> 0.8 | J45: =IF('산정근거(입력변수)'!$O$16<=2000,'산정근거(입력변수)'!$O$38,'산정근거(입력변수)'!$O$40) -> 0.52222272 | K45: ='산정근거(입력변수)'!$F$11 -> 1 | L45: =IF(K45=0,"",'산정근거(입력변수)'!$O$19) -> 41 | M45: =IF(K45=0,"",ROUND((PRODUCT(F45:J45)*K45*L45),1)) -> 226.1
B46: 시공계획검토 | E46: 공사개월 | F46: 6 | G46: ='산정근거(입력변수)'!$O$33 -> 1 | J46: =IF('산정근거(입력변수)'!$O$16<=2000,'산정근거(입력변수)'!$O$38,'산정근거(입력변수)'!$O$40) -> 0.52222272 | K46: ='산정근거(입력변수)'!$F$11 -> 1 | L46: =IF(K46=0,"",'산정근거(입력변수)'!$O$19) -> 41 | M46: =IF(K46=0,"",ROUND((PRODUCT(F46:J46)*K46*L46),1)) -> 128.5
B47: 기술검토 및 교육 | E47: 공사개월 | F47: 5 | G47: ='산정근거(입력변수)'!$O$33 -> 1 | J47: =IF('산정근거(입력변수)'!$O$16<=2000,'산정근거(입력변수)'!$O$38,'산정근거(입력변수)'!$O$40) -> 0.52222272 | K47: ='산정근거(입력변수)'!$F$11 -> 1 | L47: =IF(K47=0,"",'산정근거(입력변수)'!$O$19) -> 41 | M47: =IF(K47=0,"",ROUND((PRODUCT(F47:J47)*K47*L47),1)) -> 107.1
B48: 공정관리 | E48: 공사개월 | F48: 5.5 | J48: =IF('산정근거(입력변수)'!$O$16<=2000,'산정근거(입력변수)'!$O$38,'산정근거(입력변수)'!$O$40) -> 0.52222272 | K48: ='산정근거(입력변수)'!$F$11 -> 1 | L48: =IF(K48=0,"",'산정근거(입력변수)'!$O$19) -> 41 | M48: =IF(K48=0,"",ROUND((PRODUCT(F48:J48)*K48*L48),1)) -> 117.8
B49: 안전관리 | E49: 공사개월 | F49: 22 | G49: ='산정근거(입력변수)'!$O$33 -> 1 | H49: ='산정근거(입력변수)'!$O$34 -> 1.2 | J49: 1 | K49: ='산정근거(입력변수)'!$F$11 -> 1 | L49: =IF(K49=0,"",'산정근거(입력변수)'!$O$19) -> 41 | M49: =IF(K49=0,"",ROUND((PRODUCT(F49:J49)*K49*L49),1)) -> 1082.4
B50: 환경관리 | E50: 공사개월 | F50: 3.5 | J50: =IF('산정근거(입력변수)'!$O$16<=2000,'산정근거(입력변수)'!$O$38,'산정근거(입력변수)'!$O$40) -> 0.52222272 | K50: ='산정근거(입력변수)'!$F$11 -> 1 | L50: =IF(K50=0,"",'산정근거(입력변수)'!$O$19) -> 41 | M50: =IF(K50=0,"",ROUND((PRODUCT(F50:J50)*K50*L50),1)) -> 74.9
B51: 설계변경 관리 | E51: 공사개월 | F51: 13.4 | J51: =IF('산정근거(입력변수)'!$O$16<=2000,'산정근거(입력변수)'!$O$38,'산정근거(입력변수)'!$O$40) -> 0.52222272 | K51: ='산정근거(입력변수)'!$F$11 -> 1 | L51: =IF(K51=0,"",'산정근거(입력변수)'!$O$19) -> 41 | M51: =IF(K51=0,"",ROUND((PRODUCT(F51:J51)*K51*L51),1)) -> 286.9
B52: 기성검사 | E52: 회 | F52: 5.2 | K52: ='산정근거(입력변수)'!$F$11 -> 1 | L52: =IF(K52=0,"",'산정근거(입력변수)'!O31) -> 6.8333333 | M52: =IF(K52=0,"",ROUND((PRODUCT(F52:J52)*K52*L52),1)) -> 35.5
B53: 준공검사 | E53: 식 | F53: 6.1 | K53: ='산정근거(입력변수)'!$F$11 -> 1 | L53: =IF(K53=0,"",1) -> 1 | M53: =IF(K53=0,"",ROUND((PRODUCT(F53:J53)*K53*L53),1)) -> 6.1
B54: 계약자간 시공인터페이스 조정 | E54: 공사개월 | F54: 1.5 | K54: 1 | L54: =IF(K54=0,"",'산정근거(입력변수)'!$O$19) -> 41 | M54: =IF(K54=0,"",ROUND((PRODUCT(F54:J54)*K54*L54),1)) -> 61.5 | P54: =F54*J54*K54*L54 -> 0
B55: 하도급타당성검토 | E55: 공사년수 | F55: 6.3 | J55: =IF('산정근거(입력변수)'!$O$16<=2000,'산정근거(입력변수)'!$O$38,'산정근거(입력변수)'!$O$40) -> 0.52222272 | K55: ='산정근거(입력변수)'!$F$11 -> 1 | L55: =IF(K55=0,"",'산정근거(입력변수)'!O18) -> 3.4166667 | M55: =IF(K55=0,"",ROUND((PRODUCT(F55:J55)*K55*L55),1)) -> 11.2
B56: 시공단계의 예산검증 및 지원 | E56: 회 | F56: 4.6 | K56: ='산정근거(입력변수)'!$F$11 -> 1 | L56: =IF(K56=0,"",'산정근거(입력변수)'!O32) -> 3 | M56: =IF(K56=0,"",ROUND((PRODUCT(F56:J56)*K56*L56),1)) -> 13.8 | P56: =F56*J56*K56*L56 -> 0
B57: 일반행정업무 | E57: 용역일수 | F57: 0.9 | J57: =IF('산정근거(입력변수)'!$O$16<=2000,'산정근거(입력변수)'!$O$38,'산정근거(입력변수)'!$O$40) -> 0.52222272 | K57: ='산정근거(입력변수)'!$F$11 -> 1 | L57: =IF(K57=0,"",'산정근거(입력변수)'!O25) -> 924 | M57: =IF(K57=0,"",ROUND((PRODUCT(F57:J57)*K57*L57),1)) -> 434.3 | N57: =SUM(M42:M57) -> 4000.3
A58: 시 공 후 단 계 | B58: 종합시운전계획의 검토 및 시운전 확인 | D58: 항만, 공항, 단지 등 기타 | E58: 식 | F58: 22.1 | G58: ='산정근거(입력변수)'!$O$33 -> 1 | K58: 1 | L58: =IF(K58=0,"",1) -> 1 | M58: =IF(K58=0,"",ROUND((PRODUCT(F58:J58)*K58*L58),1)) -> 22.1
B59: 시설물 유지관리지침서 검토 | E59: 식 | F59: 29 | K59: ='산정근거(입력변수)'!$F$12 -> 1 | L59: =IF(K59=0,"",1) -> 1 | M59: =IF(K59=0,"",ROUND((PRODUCT(F59:J59)*K59*L59),1)) -> 29
B60: 시설물유지관리 업체 선정 | E60: 식 | F60: 20.8 | L60: =IF(K60=0,"",1) | M60: =IF(K60=0,"",ROUND((PRODUCT(F60:J60)*K60*L60),1))
B61: 시설물의 인수ㆍ인계 계획 검토 및 관련업무 지원 | E61: 식 | F61: 25.3 | K61: ='산정근거(입력변수)'!$F$12 -> 1 | L61: =IF(K61=0,"",1) -> 1 | M61: =IF(K61=0,"",ROUND((PRODUCT(F61:J61)*K61*L61),1)) -> 25.3 | N61: =SUM(M58:M61) -> 76.4
J62: 시공단계 합계(인·일) | M62: =SUM(M42:M57) -> 4000.3 | N62: =SUM(N61,N57,N41,N38,N28,N20,N14) -> 4303.6
J63: 시공외 단계 합계(인·일) | M63: =SUM(M7:M41,M58:M61) -> 303.3
N64: =ROUND(N62/22,2) -> 195.62

Sheet 손해공제요율표
A1: <엔지니어링 공제조합 자료> - 조합업무안내/손해배상공제/공제료
A2: ※ 건설기술관리법 손해배상공제(건설공사에 대한 설계, 감리, CM) 요율만 게시되어있음.
A3: (2011년 4월 시행된 엔지니어링 손해배상공제 요율 관련 문의는 공제사업팀(02)3488-7874, 7876~8))
A4: - 공제가입금액이 50억원을 초과하는 경우에는 구득 요율로 함.
A5: - 공제가입금액이 50억원 이하 요율
A6: (주의) 단, 대위권 포기 특별약관을 적용할 경우에는 산정된 공제료에 10%를 할증함.
A8: 건설사업관리 공제요율 (감독권한대행 및 대인담보 2019.12.30 이후부터 적용)
A9: 공사종류 | C9: 용역금액(계약금액) | M9: 표준
C10: 5억원이하 | E10: 5억원초과 | G10: 10억원초과 | I10: 20억원초과 | K10: 30억원초과 | M10: 공사
E11: 10억이하 | G11: 20억원이하 | I11: 30억원이하 | K11: 50억원이하 | M11: 기간
C12: 기본요율 | D12: 가산요율 | E12: 기본요율 | F12: 가산요율 | G12: 기본요율 | H12: 가산요율 | I12: 기본요율 | J12: 가산요율 | K12: 기본요율 | L12: 가산요율 | M12: (년)
A13: 교량공사 | C13: 0.801 | D13: 0.127 | E13: 0.778 | F13: 0.124 | G13: 0.753 | H13: 0.12 | I13: 0.73 | J13: 0.117 | K13: 0.705 | L13: 0.112 | M13: 3
A14: 공항건설공사 | C14: 0.909 | D14: 0.145 | E14: 0.882 | F14: 0.141 | G14: 0.854 | H14: 0.136 | I14: 0.826 | J14: 0.132 | K14: 0.799 | L14: 0.127 | M14: 5
A15: 댐축조공사 | C15: 1.002 | D15: 0.16 | E15: 0.973 | F15: 0.155 | G15: 0.943 | H15: 0.15 | I15: 0.913 | J15: 0.145 | K15: 0.882 | L15: 0.141 | M15: 5
A16: 도로공사 | C16: 0.721 | D16: 0.115 | E16: 0.7 | F16: 0.112 | G16: 0.678 | H16: 0.108 | I16: 0.656 | J16: 0.105 | K16: 0.6934 | L16: 0.101 | M16: 3
A17: 에너지저장시설공사 | C17: 0.721 | D17: 0.115 | E17: 0.7 | F17: 0.112 | G17: 0.678 | H17: 0.108 | I17: 0.656 | J17: 0.105 | K17: 0.634 | L17: 0.101 | M17: 3
A18: 간척공사 | C18: 0.818 | D18: 0.131 | E18: 0.793 | F18: 0.127 | G18: 0.768 | H18: 0.123 | I18: 0.744 | J18: 0.119 | K18: 0.72 | L18: 0.114 | M18: 5
A19: 항만공사 | C19: 0.818 | D19: 0.131 | E19: 0.793 | F19: 0.127 | G19: 0.768 | H19: 0.123 | I19: 0.744 | J19: 0.119 | K19: 0.72 | L19: 0.114 | M19: 5
A20: 철도공사 | C20: 0.6941 | D20: 0.102 | E20: 0.622 | F20: 0.1 | G20: 0.602 | H20: 0.096 | I20: 0.583 | J20: 0.093 | K20: 0.565 | L20: 0.09 | M20: 3
A21: 지하철공사 | C21: 1.002 | D21: 0.16 | E21: 0.973 | F21: 0.155 | G21: 0.943 | H21: 0.15 | I21: 0.913 | J21: 0.145 | K21: 0.882 | L21: 0.141 | M21: 4
A22: 터널공사 | C22: 1.002 | D22: 0.16 | E22: 0.973 | F22: 0.155 | G22: 0.943 | H22: 0.15 | I22: 0.913 | J22: 0.145 | K22: 0.882 | L22: 0.141 | M22: 4
A23: 발전소건설공사 | C23: 0.855 | D23: 0.136 | E23: 0.829 | F23: 0.132 | G23: 0.803 | H23: 0.128 | I23: 0.778 | J23: 0.124 | K23: 0.752 | L23: 0.12 | M23: 3
A24: 쓰레기소각로건설공사 | C24: 1.111 | D24: 0.177 | E24: 1.078 | F24: 0.172 | G24: 1.045 | H24: 0.167 | I24: 1.011 | J24: 0.161 | K24: 0.978 | L24: 0.156 | M24: 2
... A34: 공동주택건설공사 | C34: 0.62 | D34: 0.099 | E34: 0.602 | F34: 0.096 | G34: 0.583 | H34: 0.093 | I34: 0.565 | J34: 0.09 | K34: 0.546 | L34: 0.087 | M34: 3
A35: * 50억원을 초과하는경우에는 구득요율로 함. | M35: (자료:엔지니어링공제조합)

Sheet 한국석유공사 유류가격(고성군)
A2: 주유소 지역별 평균 판매가격
A4: 구분 : 월간
A5: 기간 : 2026년 7월 기준
A6: 지역 : 강원특별자치도 고성군
A7: 제품 : 보통휘발유 및 자동차용경유
A8: 자료 : 한국석유공사 자료
A9: 2026년 5월(원/리터)
C10: (VAT 포함가격)
A11: 구 분 | B11: 보통휘발유 | C11: 자동차용경유
A12: 강원도 고성군 | B12: 1919.42 | C12: 1906.98
A30: 적용 (VAT별도) | B30: =ROUND(B12/1.1,2) -> 1744.93 | C30: =ROUND(C12/1.1,2) -> 1733.62

Sheet 2026년 임금

Sheet 2023년 임금공표(전기)

Sheet 2026년 상반기 적용노임

Sheet 제본비

Sheet 전기감리원산출근거
A1: ▣ 감리원 산출근거
A3: ※ 산업통산자원부 고시 제2017-21호 전력기술관리법 운영요령 제25조 감리원배치기준에 의거하여 감리원수를 산정함
B4: 1. 적용기준
C5: ○ | D5: 총공사비 | E5: : | F5: =3001/1.1 -> 2728.1818 | H5: 백만원(부가가치세 제외)
C6: ○ | D6: 공사기간 | E6: : | F6: 6 | G6: / | H6: 감리기간 | I6: : | J6: =F6+1 -> 7
C7: ○ | D7: 보통공종
B9: 2. 감리원수 산정(전력시설물공사 감리원 배치기준 제25조 제1항관련)
C10: 공사비 | E10: 감리원수(인·월) | K10: 비고
E11: 단순공종 | G11: 보통공종 | I11: 복잡공종
C12: 20 | E12: 16.6 | G12: 18.4 | I12: 20.3
C13: 30 | E13: 22.6 | G13: 25.2 | I13: 27.7
C15: 1) | D15: 직선보간법에 의한 감리원수 산정
D17: =E12 -> 16.6 | E17: + | F17: =E13 -> 22.6 | G17: - | H17: =E12 -> 16.6 | I17: × | J17: =ROUND(((F5/100)-C12),2) -> 7.28 | K17: = | L17: =ROUND(D17+((F17-H17)/F18)*J17,3) -> 20.968 | M17: 인·월 | O17: ≒ | P17: 17.02 | Q17: 인·월 | R17: 적용
F18: =C13-C12 -> 10 | Y18: 라운드 수식 삽입
C20: 2) | D20: 적용감리원수(전력기술관리법 운영요령 제25조 ③항)
D21: 상주감리원 | F21: =P17 -> 17.02 | G21: × | H21: 0.9 | I21: = | J21: =ROUND(F21*H21,3) -> 15.318 | K21: 인·월
D22: 상주감리원 | F22: =P17 -> 17.02 | G22: × | H22: 0.1 | I22: = | J22: =ROUND(F22*H22,3) -> 1.702 | K22: 인·월
D23: 계 | J23: =SUM(J21:J22) -> 17.02 | K23: 인·월
B25: 3. 등급별 상주감리원수 조정
C26: 1) | D26: 감리원수 = | I26: Si = 각급 감리원의 환산비
I27: Ni = 각급 감리원의 수(인·월)
D28: 특급감리원 | E28: : | H28: =F43 -> 1.158 | I28: × | J28: 7 | K28: × | M28: 1 | O28: 인 | P28: = | Q28: =ROUND(H28*J28*M28,2) -> 8.11 | T28: 인·월
D29: 고급감리원 | E29: : | H29: =H43 -> 1 | I29: × | J29: 7 | K29: × | M29: 1 | O29: 인 | P29: = | Q29: =H29*J29*M29 -> 7 | T29: 인·월
D30: 중급감리원 | E30: : | I30: × | K30: × | O30: 인 | P30: = | Q30: =ROUND(H30*J30*M30,2) -> 0 | T30: 인·월
D31: 초급감리원 | E31: : | I31: × | K31: × | O31: 인 | P31: = | Q31: =H31*J31*M31 -> 0 | T31: 인·월
D32: 계 | P32: = | Q32: =SUM(Q28:S31) -> 15.11 | T32: 인·월
B34: 4. 투입 감리원수 조정
C35: 1) | D35: 상주감리원 | Q35: =Q32 -> 15.11 | T35: 인·월
D36: 비상주감리원 | H36: =Q32 -> 15.11 | I36: ÷ | J36: 0.9 | K36: × | M36: 0.1 | P36: = | Q36: =ROUND(H36/J36*M36,2) -> 1.68 | T36: 인·월
D37: 계 | P37: = | Q37: =SUM(Q35:S36) -> 16.79 | T37: 인·월
D40: 전기감리원 노임단가(2020년)
D41: 등 급 | F41: 특급기술자 | H41: 고급기술자 | J41: 중급기술자 | L41: 초급기술자
D42: 일 임금액 | F42: 294925 | H42: 254591 | J42: 235752 | L42: 206042
D43: 환산비 | F43: =ROUND(F42/H42,3) -> 1.158 | H43: 1 | J43: =ROUND(J42/$H$42,3) -> 0.926 | L43: =ROUND(L42/$H$42,3) -> 0.809

Sheet 손해공제율
B1: <엔지니어링 공제조합 자료> - 조합업무안내/손해배상공제/공제료
B2: ※ 건설기술관리법 손해배상공제(건설공사에 대한 설계, 감리, CM) 요율만 게시되어있음.
B3: (2011년 4월 시행된 엔지니어링 손해배상공제 요율 관련 문의는 공제사업팀(02)3488-7874, 7876~8))
B4: - 공제가입금액이 50억원을 초과하는 경우에는 구득 요율로 함.
B5: - 공제가입금액이 50억원 이하 요율
B6: (주의) 단, 대위권 포기 특별약관을 적용할 경우에는 산정된 공제료에 10%를 할증함.
B8: 책임감리 공제요율 (2008.04.01 이후부터 적용)
B9: 공사종류 | D9: 용역금액(계약금액) | N9: 표준
D10: 5억원이하 | F10: 5억원초과 | H10: 10억원초과 | J10: 20억원초과 | L10: 30억원초과 | N10: 공사
F11: 10억이하 | H11: 20억원이하 | J11: 30억원이하 | L11: 50억원이하 | N11: 기간
D12: 기본요율 | E12: 가산요율 | F12: 기본요율 | G12: 가산요율 | H12: 기본요율 | I12: 가산요율 | J12: 기본요율 | K12: 가산요율 | L12: 기본요율 | M12: 가산요율 | N12: (년)
B13: 교량공사 | D13: 0.981 | E13: 0.156 | F13: 0.952 | G13: 0.152 | H13: 0.922 | I13: 0.147 | J13: 0.893 | K13: 0.143 | L13: 0.863 | M13: 0.137 | N13: 3
B14: 공항건설공사 | D14: 1.112 | E14: 0.177 | F14: 1.079 | G14: 0.172 | H14: 1.045 | I14: 0.167 | J14: 1.011 | K14: 0.161 | L14: 0.978 | M14: 0.156 | N14: 5
B15: 댐축조공사 | D15: 1.227 | E15: 0.196 | F15: 1.191 | G15: 0.19 | H15: 1.154 | I15: 0.184 | J15: 1.117 | K15: 0.178 | L15: 1.08 | M15: 0.173 | N15: 5
B16: 도로공사 | D16: 0.883 | E16: 0.141 | F16: 0.857 | G16: 0.137 | H16: 0.83 | I16: 0.132 | J16: 0.803 | K16: 0.128 | L16: 0.776 | M16: 0.124 | N16: 3
B17: 에너지저장시설공사 | D17: 0.883 | E17: 0.141 | F17: 0.857 | G17: 0.137 | H17: 0.83 | I17: 0.132 | J17: 0.803 | K17: 0.128 | L17: 0.776 | M17: 0.124 | N17: 3
B18: 간척공사 | D18: 1.001 | E18: 0.16 | F18: 0.971 | G18: 0.155 | H18: 0.94 | I18: 0.15 | J18: 0.911 | K18: 0.146 | L18: 0.881 | M18: 0.14 | N18: 5
B19: 항만공사 | D19: 1.001 | E19: 0.16 | F19: 0.971 | G19: 0.155 | H19: 0.94 | I19: 0.15 | J19: 0.911 | K19: 0.146 | L19: 0.881 | M19: 0.14 | N19: 5
B20: 철도공사 | D20: 0.785 | E20: 0.125 | F20: 0.761 | G20: 0.122 | H20: 0.737 | I20: 0.118 | J20: 0.714 | K20: 0.114 | L20: 0.691 | M20: 0.11 | N20: 3
B21: 지하철공사 | D21: 1.227 | E21: 0.196 | F21: 1.191 | G21: 0.19 | H21: 1.154 | I21: 0.184 | J21: 1.117 | K21: 0.178 | L21: 1.08 | M21: 0.173 | N21: 4
B22: 터널공사 | D22: 1.227 | E22: 0.196 | F22: 1.191 | G22: 0.19 | H22: 1.154 | I22: 0.184 | J22: 1.117 | K22: 0.178 | L22: 1.08 | M22: 0.173 | N22: 4
B23: 발전소건설공사 | D23: 1.046 | E23: 0.167 | F23: 1.015 | G23: 0.162 | H23: 0.983 | I23: 0.157 | J23: 0.952 | K23: 0.152 | L23: 0.92 | M23: 0.147 | N23: 3
B24: 쓰레기소각로건설공사 | D24: 1.36 | E24: 0.217 | F24: 1.319 | G24: 0.21 | H24: 1.279 | I24: 0.204 | J24: 1.238 | K24: 0.197 | L24: 1.197 | M24: 0.191 | N24: 2
... B34: 공동주택건설공사 | D34: 0.759 | E34: 0.121 | F34: 0.737 | G34: 0.117 | H34: 0.713 | I34: 0.114 | J34: 0.691 | K34: 0.11 | L34: 0.668 | M34: 0.107 | N34: 3
B35: * 50억원을 초과하는경우에는 구득요율로 함. | N35: (자료:엔지니어링공제조합)
B37: 손해배상공제 공제료 산정방법(예시)
B38: 1. 공제료 산정방법 : 순용역금액 × 적용요율
B39: 2. 적용요율 = 기본요율 + 적용가산요율
B40: 3. 적용가산요율 = 가산요율 × 표준공사기간초과일수 / 365
B41: 4. 요율표상의 금액별 요율은 구간요율입니다.
B42: 5. 동일설계건에 대해 여러 가지 공사가 복합된경우는 공사금액대비로 용역금액을 나누어 각각의
B43: 공종에 해당하는 요율을 곱한후 더해서 산출합니다.
B44: 6. 발급건당 최저수수료는 10,000원 입니다.
B46: 예) 실시설계 순용역금액 4,800,000,000원 예정공사기간 52개월(1560일)
B47: 순공사비내역중 도로부문 35%, 터널 25% 교량 40%
B48: 수수료산정예시
B49: 공종1 교량 40%(1,920,000,000원) 표준공사기간 3년 초과일수 465일
... B63: 6,278,013원 + 6,089,794원 + 2,358,630원 = 14,726,437원
B64: 산출수수료 | C64: = 21,403,256원 + 16,907,193원 + 14,726,437원
C65: = 53,036,000원(천원미만 절사)
B68: 실시설계 공제요율 (2008.04.01 이후부터 적용)
B69: 공사종류 | D69: 용역금액(계약금액) | N69: 표준
D70: 5억원이하 | F70: 5억원초과 | H70: 10억원초과 | J70: 20억원초과 | L70: 30억원초과 | N70: 공사
F71: 10억이하 | H71: 20억원이하 | J71: 30억원이하 | L71: 50억원이하 | N71: 기간(년)
D72: 기본요율 | E72: 가산요율 | F72: 기본요율 | G72: 가산요율 | H72: 기본요율 | I72: 가산요율 | J72: 기본요율 | K72: 가산요율 | L72: 기본요율 | M72: 가산요율
B73: 교량공사 | D73: 0.962 | E73: 0.153 | F73: 0.933 | G73: 0.149 | H73: 0.904 | I73: 0.144 | J73: 0.875 | K73: 0.14 | L73: 0.846 | M73: 0.135 | N73: 3
B74: 공항건설공사 | D74: 1.089 | E74: 0.173 | F74: 1.057 | G74: 0.169 | H74: 1.024 | I74: 0.164 | J74: 0.991 | K74: 0.158 | L74: 0.959 | M74: 0.153 | N74: 5
B75: 댐축조공사 | D75: 1.203 | E75: 0.192 | F75: 1.167 | G75: 0.186 | H75: 1.13 | I75: 0.18 | J75: 1.094 | K75: 0.175 | L75: 1.059 | M75: 0.169 | N75: 5
B76: 도로공사 | D76: 0.865 | E76: 0.138 | F76: 0.839 | G76: 0.134 | H76: 0.813 | I76: 0.13 | J76: 0.788 | K76: 0.125 | L76: 0.761 | M76: 0.122 | N76: 3
B77: 에너지저장시설공사 | D77: 0.865 | E77: 0.138 | F77: 0.839 | G77: 0.134 | H77: 0.813 | I77: 0.13 | J77: 0.788 | K77: 0.125 | L77: 0.761 | M77: 0.122 | N77: 3
B78: 간척공사 | D78: 0.98 | E78: 0.156 | F78: 0.951 | G78: 0.152 | H78: 0.921 | I78: 0.147 | J78: 0.892 | K78: 0.143 | L78: 0.863 | M78: 0.137 | N78: 5
B79: 항만공사 | D79: 0.98 | E79: 0.156 | F79: 0.951 | G79: 0.152 | H79: 0.921 | I79: 0.147 | J79: 0.892 | K79: 0.143 | L79: 0.863 | M79: 0.137 | N79: 5
B80: 철도공사 | D80: 0.769 | E80: 0.122 | F80: 0.746 | G80: 0.119 | H80: 0.723 | I80: 0.116 | J80: 0.7 | K80: 0.112 | L80: 0.677 | M80: 0.108 | N80: 3
B81: 지하철공사 | D81: 1.203 | E81: 0.192 | F81: 1.167 | G81: 0.186 | H81: 1.13 | I81: 0.18 | J81: 1.094 | K81: 0.175 | L81: 1.059 | M81: 0.169 | N81: 4
B82: 터널공사 | D82: 1.203 | E82: 0.192 | F82: 1.167 | G82: 0.186 | H82: 1.13 | I82: 0.18 | J82: 1.094 | K82: 0.175 | L82: 1.059 | M82: 0.169 | N82: 4
B83: 발전소건설공사 | D83: 1.025 | E83: 0.164 | F83: 0.995 | G83: 0.158 | H83: 0.964 | I83: 0.154 | J83: 0.933 | K83: 0.149 | L83: 0.902 | M83: 0.144 | N83: 3
B84: 쓰레기소각로건설공사 | D84: 1.333 | E84: 0.212 | F84: 1.293 | G84: 0.206 | H84: 1.253 | I84: 0.2 | J84: 1.213 | K84: 0.194 | L84: 1.172 | M84: 0.187 | N84: 2
... B94: 공동주택건설공사 | D94: 0.744 | E94: 0.119 | F94: 0.722 | G94: 0.115 | H94: 0.699 | I94: 0.112 | J94: 0.677 | K94: 0.108 | L94: 0.655 | M94: 0.104 | N94: 3
B96: 손해배상공제 공제료 산정방법(예시)
B97: 1. 공제료 산정방법 : 순용역금액 × 적용요율
B98: 2. 적용요율 = 기본요율 + 적용가산요율
B99: 3. 적용가산요율 = 가산요율 × 표준공사기간초과일수 / 365
B100: 4. 요율표상의 금액별 요율은 구간요율입니다.
B101: 5. 발급건당 최저수수료는 10,000원 입니다.
B102: 예) 실시설계 순용역금액 4,800,000,000원 예정공사기간 52개월(1560일) 도로공사
B103: 수수료산정예시
B104: 도로공사 표준공사기간 3년 초과일수 465일
B105: 500,000,000×(0.865%+0.138%×465/365) = 5,204,041원
B106: 500,000,000×(0.839%+0.134%×465/365) = 5,048,561원
B107: 1,000,000,000×(0.813%+0.130%×465/365) = 9,786,164원
... B110: 5,204,041원 + 5,048,561원 + 9,786,164원 + 9,472,465원 + 16,495,643원 = 46,006,000원(1,000원 미만 절사)

Sheet 손해공제율(전체)

Sheet 건설사업관리기술자수 산정기준
A1: <건설사업관리기술자수 산정기준>
A2: 나. 토목비선형(항만, 댐, 공항, 단지 등 기타)분야
A3: 1) 투입인원수 산정기준
A4: 업무분류체계 | E4: 적용 | F4: 기준인원수(인･일) | G4: 보정계수 | J4: 난
A5: 단계 | B5: 기본업무 | E5: 수량 | G5: 항만 | J5: 이
E6: 단위 | F6: 고급 | G6: a | H6: b | I6: c | J6: 도
A7: 공 통 업 무 | B7: 과업착수준비 | E7: 식 | F7: 7
B8: 건설사업관리 업무수행계획서 작성 | E8: 식 | F8: 20.5
B9: 건설사업관리 절차서 작성ㆍ운영 | E9: 식 | F9: 27.3
B10: 작업분류체계 및 사업번호체계 관리, 사업정보축적ㆍ관리 | E10: 식 | F10: 22.3
B11: 사업정보관리시스템의 운영 | E11: 운영일수 | F11: 0.3 | G11: ○ | J11: ○
B12: 클레임 사전분석 | E12: 식 | F12: 31
B13: 최종 건설사업관리 보고 | C13: 1)시공전 단계 | E13: 식 | F13: 27.3
C14: 2)시공이후 단계 | F14: 54.6
A15: 설 계 전 단 계 | B15: 건설기술용역업체 선정 | E15: 식 | F15: 43.7
B16: 사업타당성조사보고서의 적정성 검토 | E16: 식 | F16: 21.6 | G16: ○ | J16: ○
B17: 기본계획보고서의 적정성 검토 | E17: 식 | F17: 21.3 | G17: ○ | J17: ○
B18: 발주방식(사업수행방식) 결정 지원 | E18: 식 | F18: 31
B19: 관리기준공정계획수립 | E19: 식 | F19: 18 | J19: ○
B20: 총사업비 집행계획수립지원(종합예산계획서) | E20: 식 | F20: 11.4
A21: 기 본 설 계 단 계 | B21: 기본설계 설계자 선정업무 지원 | E21: 식 | F21: 17.1
B22: 기본설계 조정 및 연계성 검토 | E22: 용역 개월 | F22: 3.2 | G22: ○ | J22: ○
B23: 기본설계단계의 예산검증 및 조정업무 | E23: 식 | F23: 22.5 | G23: ○ | J23: ○
B24: 기본설계의 경제성(VE) 검토 | E24: 식 | F24: 90.6 | J24: ○
B25: 기본설계용역성과검토 | E25: 용역 개월 | F25: 5.7 | G25: ○ | H25: ○ | J25: ○
B26: 기본설계 용역 기성 및 준공검사관리 | E26: 회 | F26: 3.7 | G26: ○
B27: 각종 인허가 및 관계기관협의 지원 | E27: 식 | F27: 6.8
B28: 설계자문회의 운영 및 관리 | E28: 회 | F28: 2.5
A29: 실 시 설 계 단 계 | B29: 실시설계 설계자 선정업무 지원 | E29: 식 | F29: 13.9
B30: 실시설계 조정 및 연계성 검토 | E30: 용역 개월 | F30: 5.9 | G30: ○ | J30: ○
B31: 실시설계단계의 예산검증 및 조정업무 | E31: 식 | F31: 23.3 | G31: ○ | J31: ○
B32: 실시설계의 경제성(VE) 검토 | E32: 식 | F32: 123.3 | J32: ○
B33: 실시설계용역성과검토 | E33: 용역 개월 | F33: 10.5 | G33: ○ | H33: ○ | J33: ○
B34: 실시설계 용역 기성 및 준공검사관리 | E34: 회 | F34: 8.1 | G34: ○
B35: 지급자재 조달 및 관리계획 수립 | E35: 식 | F35: 10.2
B36: 각종 인허가 및 관계기관협의 지원 | E36: 식 | F36: 8.3
B37: 설계자문회의 운영 및 관리 | E37: 회 | F37: 6.4
B38: 시공자 선정계획수립 | E38: 식 | F38: 16.9
A39: 구매 조달 단계 | B39: 입찰업무지원 | E39: 식 | F39: 37.7
B40: 계약업무지원 | E40: 식 | F40: 27.5
B41: 지급자재조달지원 | E41: 공사 개월 | F41: 0.6
A42: 시 공 단 계 | B42: 공사착수 | E42: 식 | F42: 110.1 | H42: ○
B43: 시공성과확인 및 적정성 검토 | E43: 공사 일수 | F43: 2.2 | G43: ○ | H43: ○ | J43: ○
B44: 사용자재의 적정성 검토 | E44: 공사 개월 | F44: 1.8 | J44: ○
B45: 품질시험 및 성과검토 | E45: 공사 개월 | F45: 11 | G45: ○ | H45: ○ | I45: ○ | J45: ○
B46: 시공계획검토 | E46: 공사 개월 | F46: 6 | G46: ○ | J46: ○
B47: 기술검토 및 교육 | E47: 공사 개월 | F47: 5 | G47: ○ | J47: ○
B48: 공정관리 | E48: 공사 개월 | F48: 5.5 | J48: ○
B49: 안전관리 | E49: 공사 개월 | F49: 10.9 | G49: ○ | H49: ○ | J49: ○
B50: 환경관리 | E50: 공사 개월 | F50: 3.5 | J50: ○
B51: 설계변경 관리 | E51: 공사 개월 | F51: 13.4 | J51: ○
B52: 기성검사 | E52: 회 | F52: 5.2
B53: 준공검사 | E53: 식 | F53: 6.1
B54: 계약자간 시공인터페이스 조정 | E54: 공사 개월 | F54: 1.5
B55: 하도급타당성검토 | E55: 공사 년수 | F55: 6.3 | J55: ○
B56: 시공단계의 예산검증 및 지원 | E56: 회 | F56: 4.6
B57: 일반행정업무 | E57: 용역 일수 | F57: 0.9 | J57: ○
A58: 시 공 후 단 계 | B58: 종합시운전계획의 검토 및 시운전 확인 | D58: 항만, 공항, 단지 등 기타 | E58: 식 | F58: 22.1 | G58: ○
B59: 시설물 유지관리지침서 검토 | E59: 식 | F59: 29
B60: 시설물유지관리 업체 선정 | E60: 식 | F60: 20.8
B61: 시설물의 인수ㆍ인계 계획 검토 및 관련업무 지원 | E61: 식 | F61: 25.3
A63: 2) 보정계수
A64: 분야 | B64: 항 목 | D64: 보정계수 값
A65: 항만 | B65: a.항만유형 및 선박규모 | D65: ①준설및매립 : 0.7
D66: ②배후부지 : 0.9
D67: ③(계류시설) 일반 및 기타부두, 물양장, (외곽시설) 호안, 방파제, 가호안, 기타외곽시설 : 1.0
D68: ④(계류시설, 전문부두) 컨테이너, 자동차, 여객 : 1.0
D69: ⑤(계류시설) 말뚝식, 원유부이 : 1.2
D70: ⑥(계류시설) 부잔교, 마리나, (외곽시설) 갑문, 수문 : 1.2
B71: b.지역 | D71: ①동해 : 1.2 ②서해 : 1.2 ③남해 : 1.0 ④기타 도서지역(제주도 제외) : 1.4
B72: c.수심 | D72: ①5m이하 : 0.8 ②5m초과～20m이하 : 1.0 ③20m초과 : 1.2
A73: ※ 여러 유형, 성격, 특성 등이 혼재된 경우 해당 공사비를 기준으로 가중평균한 값 적용
A75: 3) 공사난이도
A76: 구 분 | D76: 산 식
A77: 시공단계 (총공사비 2,000억원 이하) | C77: 항만, 단지 등 기타 | D77: ․공사난이도=0.011*총공사비*(1-0.0025*총공사비)+건설사업관리기간보정계수 +(0.1*구조물비중)+0.2 (※ 구조물비중 = 구조물공사비/총공사비)
A78: 시공전 단계 (총공사비 2,000억원 이하) | D78: ․공사난이도 = 0.015*총공사비*(1-0.0011*총공사비)
A79: 총공사비 2,000억원 초과 | D79: ․공사난이도 = 총공사비 2,000억원 시 공사난이도+{(총공사비-200)/250}
A80: 비 고 | D80: ․공사비는 10억원 단위로 하며, 전기·통신·소방 공사비는 제외 ․건설사업관리기간보정계수 = {(평균건설사업관리기간-해당공사 건설사업관리기간)/ 평균건설사업관리기간}×0.1 ※건설사업관리기간 보정계수의 평균건설사업관리기간은 별표 1 제1호라목에서 직선보간법으로 도출

Sheet 차량가격

Sheet 건설사업관리기술인 산정기준
A1: <건설사업관리기술인수 산정기준>
A2: 나. 토목비선형(항만, 댐, 공항, 단지 등 기타)분야
A3: 1) 투입인원수 산정기준
A4: 업무분류체계 | E4: 적용 | F4: 기준인원수(인･일) | G4: 보정계수 | J4: 난
A5: 단계 | B5: 기본업무 | E5: 수량 | G5: 항만 | J5: 이
E6: 단위 | F6: 고급 | G6: a | H6: b | I6: c | J6: 도
A7: 공 통 업 무 | B7: 과업착수준비 | E7: 식 | F7: 7
B8: 건설사업관리 업무수행계획서 작성 | E8: 식 | F8: 20.5
B9: 건설사업관리 절차서 작성ㆍ운영 | E9: 식 | F9: 27.3
B10: 작업분류체계 및 사업번호체계 관리, 사업정보축적ㆍ관리 | E10: 식 | F10: 22.3
B11: 사업정보관리시스템의 운영 | E11: 운영일수 | F11: 0.3 | G11: ○ | J11: ○
B12: 클레임 사전분석 | E12: 식 | F12: 31
B13: 최종 건설사업관리 보고 | C13: 1)시공전 단계 | E13: 식 | F13: 27.3
C14: 2)시공이후 단계 | F14: 54.6
A15: 설 계 전 단 계 | B15: 건설기술용역업체 선정 | E15: 식 | F15: 43.7
B16: 사업타당성조사보고서의 적정성 검토 | E16: 식 | F16: 21.6 | G16: ○ | J16: ○
B17: 기본계획보고서의 적정성 검토 | E17: 식 | F17: 21.3 | G17: ○ | J17: ○
B18: 발주방식(사업수행방식) 결정 지원 | E18: 식 | F18: 31
B19: 관리기준공정계획수립 | E19: 식 | F19: 18 | J19: ○
B20: 총사업비 집행계획수립지원(종합예산계획서) | E20: 식 | F20: 11.4
A21: 기 본 설 계 단 계 | B21: 기본설계 설계자 선정업무 지원 | E21: 식 | F21: 17.1
B22: 기본설계 조정 및 연계성 검토 | E22: 용역개월 | F22: 3.2 | G22: ○ | J22: ○
B23: 기본설계단계의 예산검증 및 조정업무 | E23: 식 | F23: 22.5 | G23: ○ | J23: ○
B24: 기본설계의 경제성(VE) 검토 | E24: 식 | F24: 90.6 | J24: ○
B25: 기본설계용역성과검토 | E25: 용역개월 | F25: 5.7 | G25: ○ | H25: ○ | J25: ○
B26: 기본설계 용역 기성 및 준공검사관리 | E26: 회 | F26: 3.7 | G26: ○
B27: 각종 인허가 및 관계기관협의 지원 | E27: 식 | F27: 6.8
B28: 설계자문회의 운영 및 관리 | E28: 회 | F28: 2.5
A29: 실 시 설 계 단 계 | B29: 실시설계 설계자 선정업무 지원 | E29: 식 | F29: 13.9
B30: 실시설계 조정 및 연계성 검토 | E30: 용역개월 | F30: 5.9 | G30: ○ | J30: ○
B31: 실시설계단계의 예산검증 및 조정업무 | E31: 식 | F31: 23.3 | G31: ○ | J31: ○
B32: 실시설계의 경제성(VE) 검토 | E32: 식 | F32: 123.3 | J32: ○
B33: 실시설계용역성과검토 | E33: 용역개월 | F33: 10.5 | G33: ○ | H33: ○ | J33: ○
B34: 실시설계 용역 기성 및 준공검사관리 | E34: 회 | F34: 8.1 | G34: ○
B35: 지급자재 조달 및 관리계획 수립 | E35: 식 | F35: 10.2
B36: 각종 인허가 및 관계기관협의 지원 | E36: 식 | F36: 8.3
B37: 설계자문회의 운영 및 관리 | E37: 회 | F37: 6.4
B38: 시공자 선정계획수립 | E38: 식 | F38: 16.9
A39: 구매 조달 단계 | B39: 입찰업무지원 | E39: 식 | F39: 37.7
B40: 계약업무지원 | E40: 식 | F40: 27.5
B41: 지급자재조달지원 | E41: 공사개월 | F41: 0.6
A42: 시 공 단 계 | B42: 공사착수 | E42: 식 | F42: 110.1 | H42: ○
B43: 시공성과확인 및 적정성 검토 | E43: 공사일수 | F43: 2.2 | G43: ○ | H43: ○ | J43: ○
B44: 사용자재의 적정성 검토 | E44: 공사개월 | F44: 1.8 | J44: ○
B45: 품질시험 및 성과검토 | E45: 공사개월 | F45: 11 | G45: ○ | H45: ○ | I45: ○ | J45: ○
B46: 시공계획검토 | E46: 공사개월 | F46: 6 | G46: ○ | J46: ○
B47: 기술검토 및 교육 | E47: 공사개월 | F47: 5 | G47: ○ | J47: ○
B48: 공정관리 | E48: 공사개월 | F48: 5.5 | J48: ○
B49: 안전관리 | E49: 공사개월 | F49: 22 | G49: ○ | H49: ○ | J49: ○
B50: 환경관리 | E50: 공사개월 | F50: 3.5 | J50: ○
B51: 설계변경 관리 | E51: 공사개월 | F51: 13.4 | J51: ○
A52: 시 공 단 계 | B52: 기성검사 | E52: 회 | F52: 5.2
B53: 준공검사 | E53: 식 | F53: 6.1
B54: 계약자간 시공인터페이스 조정 | E54: 공사개월 | F54: 1.5
B55: 하도급타당성검토 | E55: 공사년수 | F55: 6.3 | J55: ○
B56: 시공단계의 예산검증 및 지원 | E56: 회 | F56: 4.6
B57: 일반행정업무 | E57: 용역일수 | F57: 0.9 | J57: ○
A58: 시 공 후 단 계 | B58: 종합시운전계획의 검토 및 시운전 확인 | D58: 항만, 공항, 단지 등 기타 | E58: 식 | F58: 22.1 | G58: ○
B59: 시설물 유지관리지침서 검토 | E59: 식 | F59: 29
B60: 시설물유지관리 업체 선정 | E60: 식 | F60: 20.8
B61: 시설물의 인수ㆍ인계 계획 검토 및 관련업무 지원 | E61: 식 | F61: 25.3
A63: 2) 보정계수
A64: 분야 | B64: 항 목 | D64: 보정계수 값
A65: 항만 | B65: a.항만유형 및 선박규모 | D65: ①준설및매립 : 0.7
D66: ②배후부지 : 0.9
D67: ③(계류시설) 일반 및 기타부두, 물양장, (외곽시설) 호안, 방파제, 가호안, 기타외곽시설 : 1.0
D68: ④(계류시설, 전문부두) 컨테이너, 자동차, 여객 : 1.0
D69: ⑤(계류시설) 말뚝식, 원유부이 : 1.2
D70: ⑥(계류시설) 부잔교, 마리나, (외곽시설) 갑문, 수문 : 1.2
B71: b.지역 | D71: ①동해 : 1.2 ②서해 : 1.2 ③남해 : 1.0 ④기타 도서지역(제주도 제외) : 1.4
B72: c.수심 | D72: ①5m이하 : 0.8 ②5m초과～20m이하 : 1.0 ③20m초과 : 1.2
A73: ※ 여러 유형, 성격, 특성 등이 혼재된 경우 해당 공사비를 기준으로 가중평균한 값 적용
A75: 3) 공사난이도
A76: 구 분 | D76: 산 식
A77: 시공단계 (총공사비 2,000억원 이하) | C77: 항만, 단지 등 기타 | D77: ․공사난이도=0.011*총공사비*(1-0.0025*총공사비)+건설사업관리기간보정계수 +(0.1*구조물비중)+0.2 (※ 구조물비중 = 구조물공사비/총공사비)
A78: 시공전 단계 (총공사비 2,000억원 이하) | D78: ․공사난이도 = 0.015*총공사비*(1-0.0011*총공사비)
A79: 총공사비 2,000억원 초과 | D79: ․공사난이도 = 총공사비 2,000억원 시 공사난이도+{(총공사비-200)/250}
A80: 비 고 | D80: ․공사비는 10억원 단위로 하며, 전기·통신·소방 공사비는 제외 ․건설사업관리기간보정계수 = {(평균건설사업관리기간-해당공사 건설사업관리기간)/ 평균건설사업관리기간}×0.1 ※건설사업관리기간 보정계수의 평균건설사업관리기간은 별표 1 제1호라목에서 직선보간법으로 도출
