Workbook
Name _: #REF!
Name __: #REF!
Name ___: #REF!
Name ____: #REF!
Name _____: #REF!
Name ______: #REF!
Name _______: #REF!
Name ________: #REF!
Name _________: #REF!
Name __________: #REF!
Name ___________: #REF!
Name ___________NMB96: #REF!
Name __________NMB96: #REF!
Name _________NMB96: #REF!
Name ________NMB96: #REF!
Name _______NMB96: #REF!
Name ______NMB96: #REF!
Name _____NMB96: #REF!
Name ____NMB96: #REF!
Name ___NMB96: #REF!
Name ___zz9600: #REF!
Name __NMB96: #REF!
Name __zz9600: #REF!
Name _1: #N/A
Name _10: #N/A
Name _11: #N/A
Name _12: #N/A
Name _13: #N/A
Name _14: #N/A
Name _15: #N/A
Name _16: #N/A
Name _17: #N/A
Name _18: #N/A
Name _19: #N/A
Name _2: #N/A
Name _20: #N/A
Name _21: #N/A
Name _22: #N/A
Name _23: #N/A
Name _24: #N/A
Name _25: #N/A
Name _26: #N/A
Name _27: #N/A
Name _28: #N/A
Name _29: #N/A
Name _3: #N/A
Name _30: #N/A
Name _30신설일위대가: '[1]30신설일위대가'!$A$4:$M$1603
Name _31: #N/A
Name _32: #N/A
Name _33: #N/A
Name _34: #N/A
Name _35: #N/A
Name _36: #N/A
Name _37: #N/A
Name _38: #N/A
Name _39: #N/A
Name _4: #N/A
Name _40: #N/A
Name _40총괄: '[2]40총괄'!$A$4:$O$76

Sheet 원가계산서 (건+기)
B1: 공 사 원 가 계 산 서
B2: 공사명 : 광진문화예술회관 수영장 환경개선공사(건축+기계)
B3: 비 목 | E3: 건 축 | F3: 기 계 | G3: 합 계 | H3: 구 성 비 | I3: 비 고
A4: A1 | B4: 순 공 사 원 가 | C4: 재 료 비 | D4: 직 접 재 료 비
A5: A2 | D5: 간 접 재 료 비
A6: A3 | D6: 작업설, 부산물(△)
A7: AS | D7: [ 소 계 ]
A8: B1 | C8: 노 무 비 | D8: 직 접 노 무 비
A9: B2 | D9: 간 접 노 무 비 | H9: 직접노무비 * 17.5% | I9: 10억미만,6개월이하
A10: BS | D10: [ 소 계 ]
A11: C2 | C11: 경 비 | D11: 경 비
A12: C4 | D12: 산 재 보 험 료 | H12: 노무비 * 3.56%
A13: C5 | D13: 고 용 보 험 료 | H13: 노무비 * 1.01%
A14: C6 | D14: 국민 건강 보험료 | E14: =TRUNC(E8*0.03595, 0) -> 0 | F14: =TRUNC(F8*0.03595, 0) -> 0 | G14: =+F14+E14 -> 0 | H14: 직접노무비 * 3.595%
A15: C7 | D15: 국민 연금 보험료 | E15: =TRUNC(E8*0.0475, 0) -> 0 | F15: =TRUNC(F8*0.0475, 0) -> 0 | G15: =+F15+E15 -> 0 | H15: 직접노무비 * 4.75%
A16: CB | D16: 노인장기요양보험료 | E16: =TRUNC(E14*0.1314, 0) -> 0 | F16: =TRUNC(F14*0.1314, 0) -> 0 | G16: =+F16+E16 -> 0 | H16: 건강보험료 * 13.14%
A17: C8 | D17: 퇴직 공제 부금비 | E17: =TRUNC(E8*0.023, 0) -> 0 | F17: =TRUNC(F8*0.023, 0) -> 0 | G17: =+F17+E17 -> 0 | H17: 직접노무비 * 2.3%
A18: CA | D18: 산업안전보건관리비"A' | H18: (재료비+직노+도급관급/1.1) * 2.28% +4325000 | I18: 작은값적용
D19: 산업안전보건관리비"b' | H19: ['(재료비+직노) *2.28% +4325000]*1.2
A20: CC | D20: 품질관리비
D21: 동영상편집비용
A22: CG | D22: 기 타 경 비 | H22: (재료비+노무비) * 5.0% | I22: 10억미만,6개월이하
A23: CH | D23: 환 경 보 전 비 | H23: (재료비+직노+경비) * 0.3% | I23: 개보수
A24: CK | D24: 하도급지급보증수수료 | H24: (재료비+직노+경비) * 0.081%
A25: CL | D25: 건설기계대여금지급보증서발급수수료 | H25: (재료비+직노+경비) * 0.07%
D26: 석면 분담금 | H26: 노무비 * 0.006%
D27: 임금채권 부담금 | H27: 노무비 * 0.09%
A28: CS | D28: [ 소 계 ]
A29: S1 | B29: 계
A30: D1 | B30: 일 반 관 리 비 | H30: 계 * 8%
A31: D2 | B31: 이 윤 | H31: (노무비+경비+일반관리비) * 15%
A32: D3 | B32: 고용개선 지원비 | H32: (주휴수당+국민연금,건강보험료, 고용개선장려금)
A33: D6 | B33: 주휴수당 | H33: (직접노무비) * 10.3% *50% *1.4 | I33: 도급액 5억~30억미만,6개월이하
A34: D7 | B34: 국민연금, 건강보험료 | H34: (직접노무비) * 8.345% *20%
A35: D8 | B35: 고용개선 장려금 | H35: (직접노무비) * 10.3% *50% *10%
A36: D5 | B36: 철거부산물[고철] | I36: 별도처리 : 5,722,812원
A37: D4 | B37: 폐기물상차비 | I37: 폐기물 : 15,685,134(부가세포함)
A38: D9 | B38: 공 급 가 액
A39: DB | B39: 부 가 가 치 세 | H39: 공급가액 * 10%
A40: DH | B40: 도 급 액 | J40: 폐기물 | K40: 46314876
...

Sheet 원가계산서(건축)
B1: 공 사 원 가 계 산 서
B2: 공사명 : 광진문화예술회관 수영장 환경개선공사(건축)
B3: 비 목 | E3: 금 액 | F3: 구 성 비 | G3: 비 고
A4: A1 | B4: 순 공 사 원 가 | C4: 재 료 비 | D4: 직 접 재 료 비
A5: A2 | D5: 간 접 재 료 비
A6: A3 | D6: 작업설, 부산물(△)
A7: AS | D7: [ 소 계 ]
A8: B1 | C8: 노 무 비 | D8: 직 접 노 무 비
A9: B2 | D9: 간 접 노 무 비 | F9: 직접노무비 * 17.5% | G9: 직접비10억미만, 6개월이하
A10: BS | D10: [ 소 계 ]
A11: C2 | C11: 경 비 | D11: 경 비
A12: C4 | D12: 산 재 보 험 료 | F12: 노무비 * 3.56%
A13: C5 | D13: 고 용 보 험 료 | F13: 노무비 * 1.01%
A14: C6 | D14: 국민 건강 보험료 | E14: 16968491 | F14: 직접노무비 * 3.595%
A15: C7 | D15: 국민 연금 보험료 | E15: 22420120 | F15: 직접노무비 * 4.75%
A16: CB | D16: 노인장기요양보험료 | E16: 2229659 | F16: 건강보험료 * 13.14%
A17: C8 | D17: 퇴직 공제 부금비 | E17: 10856058 | F17: 직접노무비 * 2.3%
A18: CA | D18: 산업안전보건관리비"A" | E18: 27467528 | F18: (재료비+직노+도급관급/1.1) * 2.28% +4325000 | G18: 작은값 적용
A19: C9 | D19: 산업안전보건관리비"b" | F19: [(재료비+직노) * 2.28% +4325000]*1.2
A20: CD | D20: 품질관리비 | E20: 1100248
A21: CG | D21: 기 타 경 비 | F21: (재료비+노무비) * 5% | G21: 직접비10억미만, 6개월이하
A22: CH | D22: 환 경 보 전 비 | F22: (재료비+직노+경비) * 0.3%
A23: CK | D23: 하도급지급보증수수료 | F23: (재료비+직노+경비) * 0.081% | G23: 최저가대상공사
A24: CL | D24: 건설기계대여금지급보증서발급수수료 | F24: (재료비+직노+경비) * 0.07%
A25: CM | D25: 석 면 분 담 금 | F25: 노무비 * 0.006%
A26: CN | D26: 임 금 채 권 부 담 금 | F26: 노무비 * 0.09%
A27: CS | D27: [ 소 계 ]
A28: S1 | B28: 계
A29: D1 | B29: 일 반 관 리 비 | F29: 계 * 8%
A30: D2 | B30: 이 윤 | F30: (노무비+경비+일반관리비) * 15%
A31: D3 | B31: 주휴수당 | F31: 직노*10.3%*50%*1.4
B32: 철거부산물[고철] | G32: '별도처리 : 5,722,812원
A33: D9 | B33: 공 급 가 액
A34: DB | B34: 부 가 가 치 세 | F34: 공급가액 * 10%
A35: DH | B35: 도 급 액 | H35: 폐기물
A36: DJ | B36: 도급자관급자재비 | E36: 18137000 | G36: 수영장 부속시설물
B37: 관급자 관급공사 | E37: 71353000
A38: S2 | B38: 총 공 사 비

Sheet 공종별집계표
A1: 공 종 별 집 계 표
A2: [ 광진문화예술회관 수영장 환경개선공사 ]
A3: 품 명 | B3: 규 격 | C3: 단위 | D3: 수량 | E3: 재 료 비 | G3: 노 무 비 | I3: 경 비 | K3: 합 계 | M3: 비 고 | N3: 공종코드 | O3: 변수 | P3: 상위공종 | Q3: 공종구분 | R3: 공종레벨 | S3: 공종소계 | T3: 원가계산서 연결금액
E4: 단 가 | F4: 금 액 | G4: 단 가 | H4: 금 액 | I4: 단 가 | J4: 금 액 | K4: 단 가 | L4: 금 액
A5: 01 광진문화예술회관 수영장 환경개선공사 | D5: 1 | N5: 01 | R5: 1
A6: 0101 ◈환경개선공사 | D6: 1 | N6: 0101 | P6: 01 | R6: 2
A7: 010101 ▶01.건축공사 | D7: 1 | N7: 010101 | P7: 0101 | R7: 3
A8: 01010101 가 설 공 사 | D8: 1 | N8: 01010101 | P8: 010101 | R8: 4
A9: 01010102 철근콘크리트공사 | D9: 1 | N9: 01010102 | P9: 010101 | R9: 4
A10: 01010103 조 적 공 사 | D10: 1 | N10: 01010103 | P10: 010101 | R10: 4
A11: 01010104 돌 공 사 | D11: 1 | N11: 01010104 | P11: 010101 | R11: 4
A12: 01010105 타 일 공 사 | D12: 1 | N12: 01010105 | P12: 010101 | R12: 4
A13: 01010106 방 수 공 사 | D13: 1 | N13: 01010106 | P13: 010101 | R13: 4
A14: 01010107 금 속 공 사 | D14: 1 | N14: 01010107 | P14: 010101 | R14: 4
A15: 01010108 미 장 공 사 | D15: 1 | N15: 01010108 | P15: 010101 | R15: 4
A16: 01010109 창 호 공 사 | D16: 1 | N16: 01010109 | P16: 010101 | R16: 4
A17: 01010110 유 리 공 사 | D17: 1 | N17: 01010110 | P17: 010101 | R17: 4
... A26: 01010201 기계공사 | D26: 1 | N26: 01010201 | P26: 010102 | R26: 4
A27: 0102 ☞품질관리비 | D27: 1 | N27: 0102 | Q27: 8 | R27: 2 | T27: =L27*1 -> 0
A28: 0103 ☞철거부산물[고철] | D28: 1 | N28: 0103 | Q28: 6 | R28: 2 | T28: =L28*1 -> 0
A29: 0104 도급자관급자재비 | D29: 1 | N29: 0104 | Q29: 3 | R29: 2 | T29: =L29*1 -> 0
A30: 0105 관급자 관급공사비[건축] | D30: 1 | N30: 0105 | Q30: 3 | R30: 2 | T30: =L30*1 -> 0
A31: 0106 관급자 관급공사비[기계] | D31: 1 | N31: 0106 | Q31: 9 | R31: 2 | T31: =L31*1 -> 0
A48: [ 합 계 ] | F48: =F5 -> 0 | H48: =H5 -> 0 | J48: =J5 -> 0 | L48: =L5 -> 0

Sheet 공종별내역서
A1: [ 광진문화예술회관 수영장 환경개선공사 ]
A2: 품 명 | B2: 규 격 | C2: 단위 | D2: 수량 | E2: 재 료 비 | G2: 노 무 비 | I2: 경 비 | K2: 합 계 | M2: 비 고 | N2: 품목코드 | O2: 변수 | P2: 설정 | Q2: 공종코드 | R2: 일위 | S2: 단산 | T2: 자재 | U2: 손료적용 | V2: 손료저장 | W2: 적용율 | X2: JUK1 | Y2: JUK2 | Z2: JUK3 | AA2: JUK4 | AB2: JUK5 | AC2: JUK6 | AD2: JUK7 | AE2: JUK8 | AF2: JUK9 | AG2: JUK10 | AH2: JUK11 | AI2: JUK12 | AJ2: JUK13 | AK2: JUK14 | AL2: JUK15 | AM2: JUK16 | AN2: JUK17 | AO2: JUK18 | AP2: JUK19 | AQ2: JUK20 | AR2: 자재구분 | AS2: 공종구분 | AT2: 공종레벨 | AU2: 공종+자재 | AV2: 고유번호
E3: 단 가 | F3: 금 액 | G3: 단 가 | H3: 금 액 | I3: 단 가 | J3: 금 액 | K3: 단 가 | L3: 금 액
A4: 01010101 가 설 공 사 | Q4: 01010101
A5: 강관 조립말비계(이동식)설치 및 해체 | B5: 높이 2m, 3개월 | C5: 대 | D5: 3 | N5: 4523417E998F34D040530B25EB029 | Q5: 01010101 | R5: T | S5: F | T5: F | AU5: 010101014523417E998F34D040530B25EB029 | AV5: 142
A6: 시스템비계 설치 및 해체 | B6: 수영장 내부 | C6: M2 | D6: 4659 | N6: 4523417E998F34D0605E09ABDFB9E | Q6: 01010101 | R6: T | S6: F | T6: F | AU6: 010101014523417E998F34D0605E09ABDFB9E | AV6: 143
A7: 건축물 현장정리 | B7: 환경개선공사 | C7: M2 | D7: 1082 | N7: 4523417B9C6C78B2E0531C7A79A3B | Q7: 01010101 | R7: T | S7: F | T7: F | AU7: 010101014523417B9C6C78B2E0531C7A79A3B | AV7: 6
A8: 준공청소 | C8: M2 | D8: 1082 | N8: 4523417B9C30CD6A3053A9B5EF87F | Q8: 01010101 | R8: T | S8: F | T8: F | AU8: 010101014523417B9C30CD6A3053A9B5EF87F | AV8: 7
Q9: 01010101
Q10: 01010101
Q11: 01010101
Q12: 01010101
Q13: 01010101
Q14: 01010101
Q15: 01010101
Q16: 01010101
Q17: 01010101
Q18: 01010101
Q19: 01010101
Q20: 01010101
... Q26: 01010101
A27: [ 합 계 ] | F27: =SUMIF(Q5:Q26,"01010101",F5:F26) -> 0 | H27: =SUMIF(Q5:Q26,"01010101",H5:H26) -> 0 | J27: =SUMIF(Q5:Q26,"01010101",J5:J26) -> 0 | L27: =SUMIF(Q5:Q26,"01010101",L5:L26) -> 0 | N27: TOTAL
A28: 01010102 철근콘크리트공사 | Q28: 01010102
A29: 레미콘_무근 | B29: 25-18-12 | C29: M3 | D29: 99 | E29: =TRUNC(#REF!,0) -> #REF! | F29: =TRUNC(E29*D29, 0) -> #REF! | G29: =TRUNC(#REF!,0) -> #REF! | H29: =TRUNC(G29*D29, 0) -> #REF! | I29: =TRUNC(#REF!,0) -> #REF! | J29: =TRUNC(I29*D29, 0) -> #REF! | K29: =TRUNC(E29+G29+I29, 0) -> #REF! | L29: =TRUNC(F29+H29+J29, 0) -> #REF! | N29: 42064F1597F31B65C05326C5ED85C0FD7BB1F | Q29: 01010102 | R29: F | S29: F | T29: T | AU29: 0101010242064F1597F31B65C05326C5ED85C0FD7BB1F | AV29: 9
A30: 콘크리트 펌프차 타설(무근) | B30: slump 8~12cm, 벽,기둥,슬래브 등, f2 : Type-Ⅱ, 36m | C30: M3 | D30: 97 | E30: =TRUNC(일위대가목록!E29,0) -> 0 | F30: =TRUNC(E30*D30, 0) -> 0 | G30: =TRUNC(일위대가목록!F29,0) -> 0 | H30: =TRUNC(G30*D30, 0) -> 0 | I30: =TRUNC(일위대가목록!G29,0) -> 0 | J30: =TRUNC(I30*D30, 0) -> 0 | K30: =TRUNC(E30+G30+I30, 0) -> 0 | L30: =TRUNC(F30+H30+J30, 0) -> 0 | M30: 호표 26 | N30: 452344B59B7B827A90567EBDD30A5 | Q30: 01010102 | R30: T | S30: F | T30: F | AU30: 01010102452344B59B7B827A90567EBDD30A5 | AV30: 144
A31: 와이어메시 바닥깔기 | B31: #8-150*150 | C31: M2 | D31: 793 | E31: =TRUNC(일위대가목록!E55,0) -> 0 | F31: =TRUNC(E31*D31, 0) -> 0 | G31: =TRUNC(일위대가목록!F55,0) -> 0 | H31: =TRUNC(G31*D31, 0) -> 0 | I31: =TRUNC(일위대가목록!G55,0) -> 0 | J31: =TRUNC(I31*D31, 0) -> 0 | K31: =TRUNC(E31+G31+I31, 0) -> 0 | L31: =TRUNC(F31+H31+J31, 0) -> 0 | M31: 호표 52 | N31: 45234A189A25D2FFA054B1027D9C9 | Q31: 01010102 | R31: T | S31: F | T31: F | AU31: 0101010245234A189A25D2FFA054B1027D9C9 | AV31: 11
Q32: 01010102
Q33: 01010102
Q34: 01010102
Q35: 01010102
Q36: 01010102
Q37: 01010102
Q38: 01010102
Q39: 01010102
Q40: 01010102
Q41: 01010102
Q42: 01010102
Q43: 01010102
... Q50: 01010102
A51: [ 합 계 ] | F51: =SUMIF(Q29:Q50,"01010102",F29:F50) -> #REF! | H51: =SUMIF(Q29:Q50,"01010102",H29:H50) -> #REF! | J51: =SUMIF(Q29:Q50,"01010102",J29:J50) -> #REF! | L51: =SUMIF(Q29:Q50,"01010102",L29:L50) -> #REF! | N51: TOTAL
...

Sheet 일위대가목록
B1: 일 위 대 가 목 록
B2: [ 광진문화예술회관 수영장 환경개선공사 ]
A3: 코 드 | B3: 품 명 | C3: 규 격 | D3: 단위 | E3: 재 료 비 | F3: 노 무 비 | G3: 경 비 | H3: 합 계 | I3: 번 호 | J3: 비 고 | K3: 노임계수 | L3: 할증 | M3: 품셈개요 | N3: 장비일위
A4: 423243DB92446898F05CC8C51235C802938D76B | B4: 덤프트럭 | C4: 8ton | D4: HR | N4: T
A5: 423243DB92444C0FD05D10177D9B00D841DCC92 | B5: 크레인(타이어) | C5: 50ton | D5: HR | N5: T
A6: 423243DB92444C0FD05D07AA57CEDBF346E3D0B | B6: 트럭탑재형 크레인 | C6: 10ton | D6: HR | N6: T
A7: 423243DB92444C60605E01508B5C5665619D77B | B7: 트럭 트랙터 및 평판트레일러 | C7: 20ton | D7: HR | N7: T
A8: 423243DB9244211BC05642DAB37507373B56E9B | B8: 콘크리트 펌프차 | C8: 36m(80∼95㎥/hr) | D8: HR | N8: T
A9: 423243DB92443384705B014F56CDA5B0822A172 | B9: 소형브레이커(전기식) | C9: 1.5kw | D9: HR | N9: T
A10: 4523417E998F34D040530B36532ED | B10: 강관 조립말비계(이동식)설치 및 해체 | C10: 높이 2m, 노무비 | D10: 대
A11: 4523417E998F34D040530B25EB029 | B11: 강관 조립말비계(이동식)설치 및 해체 | C11: 높이 2m, 3개월 | D11: 대
A12: 4523417E998F34D0605E09ABDFB9F | B12: 시스템비계 설치 및 해체(인력) | C12: 10m 이하, 설치 150m2, 해체 150m2 | D12: M2
A13: 4523417E998F34D0605E09ABDFB9E | B13: 시스템비계 설치 및 해체 | C13: 수영장 내부 | D13: M2
A14: 4523417C9E742C39D0599F09C4EC6 | B14: 품질관련문서작성및관리비 | C14: 공사기간 6개월(132일)기준 | D14: 식
A15: 4523417C9E742C39D0599F09C4EC4 | B15: 품질관련교육및훈련비 | C15: 공사기간 6개월(132일)기준 | D15: 식
A16: 4523417B9C6C78B2E0531C7A6F3B1 | B16: 건축물 현장정리 | C16: 목조, 철골조, 조적조 | D16: M2
A17: 4523417B9C6C78B2E0531C7A79A3B | B17: 건축물 현장정리 | C17: 환경개선공사 | D17: M2
A18: 4523417B9C53AD3E805729E14258F | B18: 포틀랜드시멘트 | C18: 분말도 | D18: 회
A19: 4523417B9C53AD2C205091651D1B7 | B19: 일반구조용 경량형강 | C19: 겉모양, 치수, 무게 | D19: 회
A20: 4523417B9C53AD2C205091651D25E | B20: 일반구조용 경량형강 | C20: 화학성분 | D20: 회
A21: 4523417B9C53AD2C205091651D40B | B21: 일반구조용 경량형강 | C21: 인장강도 | D21: 회
... A26: 4523417B9C538265505757A93B142 | B26: 건설용 도막방수재 | C26: 부착성능 | D26: 회
A27: 4523417B9C30CD6A3053A9B5EF87F | B27: 준공청소 | D27: M2
A28: 4523417B9C30CD6A3053A9B5EF87C | B28: 동영상 편집비용 | C28: 장비:핸드폰으로 촬영 | D28: 회
A29: 452344B59B7B827A90567EBDD30A5 | B29: 콘크리트 펌프차 타설(무근) | C29: slump 8~12cm, 벽,기둥,슬래브 등, f2 : Type-Ⅱ, 36m | D29: M3
A30: 4523459E9BD4DA63C051B5A679628 | B30: 부대철골 설치 | D30: TON
A31: 45234680974DB503205A0FAC6258F | B31: 1.0B 벽돌쌓기 | C31: 3.6m 이하, 시공량 15m2/일당 | D31: M2
A32: 45234680976867B090559837670D3 | B32: 벽돌운반 | C32: 인력, 2층 | D32: 천매
A33: 45234680976867B090559837670D2 | B33: 벽돌운반 | C33: 인력, 지하1층 | D33: 천매
A34: 452347E69C93B06B705C451D34F3A | B34: 모르타르 배합 | C34: 모래채가름 포함 | D34: M3
A35: 452347E69C93B06B705C452FA5983 | B35: 모르타르 배합(배합품 포함) | C35: 배합용적비 1:3, 시멘트, 모래 별도 | D35: M3
A36: 452347ED977430DC1054DD25E0212 | B36: 코너비드 설치 | C36: 재료비 별도 | D36: M
A37: 452348CD900D59968057F91CC4F02 | B37: 우레탄 방수(샤워,화장실) | C37: 바닥 비노출, 3mm | D37: M2
A38: 452348CD900D59968057F91CC4CCE | B38: 우레탄 방수(샤워,화장실) | C38: 수직 비노출, 3mm | D38: M2
A39: 452348C8980488D9D05845D4DA8C7 | B39: 수밀코킹 | C39: 재료비 별도 | D39: M
A40: 452348C898274DAB90586529B7FB7 | B40: 유리주위 코킹 | C40: 5*5, 실리콘 | D40: M
A41: 452348C8982768AC705A501951893 | B41: 수밀코킹(실리콘) | C41: 5㎜*5㎜ | D41: M
A42: 452348C89831E1A18053FA833B098 | B42: 수밀코킹(실리콘) | C42: 삼각, 10mm, 창호주위 | D42: M
... A88: 45234C6F9B01C16E1055DFFC48AC2 | B88: 플로어힌지 설치 | C88: 재료비 별도 | D88: 개소
A89: 45234C6F9B6A628CD05CBBD5C1DC5 | B89: 창호주위 모르타르 충전 | D89: M
...

Sheet 일위대가
A1: [ 광진문화예술회관 수영장 환경개선공사 ]
A2: 품 명 | B2: 규 격 | C2: 단위 | D2: 수량 | E2: 재 료 비 | G2: 노 무 비 | I2: 경 비 | K2: 합 계 | M2: 비 고 | N2: 일위대가 | O2: 품목코드 | P2: 일위 | Q2: 단산 | R2: 자재 | S2: 손료적용 | T2: 손료저장 | U2: 적용율 | V2: JUK1 | W2: JUK2 | X2: JUK3 | Y2: JUK4 | Z2: JUK5 | AA2: JUK6 | AB2: JUK7 | AC2: JUK8 | AD2: JUK9 | AE2: JUK10 | AF2: JUK11 | AG2: JUK12 | AH2: JUK13 | AI2: JUK14 | AJ2: JUK15 | AK2: JUK16 | AL2: JUK17 | AM2: JUK18 | AN2: JUK19 | AO2: JUK20 | AP2: 할증적용 | AQ2: 할증저장 | AR2: 할증율 | AS2: HAL1 | AT2: HAL2 | AU2: HAL3 | AV2: 자재구분 | AW2: 일위대가+자재 | AX2: 장비일위 | AY2: 설정 | AZ2: 할증체크
E3: 단 가 | F3: 금 액 | G3: 단 가 | H3: 금 액 | I3: 단 가 | J3: 금 액 | K3: 단 가 | L3: 금 액
A4: 덤프트럭 8ton HR 공통 8-3,4(0602) ( 호표 1 ) | N4: 423243DB92446898F05CC8C51235C802938D76B
A5: 덤프트럭 | B5: 8ton | C5: 대 | D5: 0.282 | M5: 천원 | N5: 423243DB92446898F05CC8C51235C802938D76B | O5: 423243DB92446898F05CC8C51235C802938D7 | P5: F | Q5: F | R5: T | AW5: 423243DB92446898F05CC8C51235C802938D76B423243DB92446898F05CC8C51235C802938D7
A6: 경유 | B6: 경유, 저유황 | C6: L | D6: 9.3 | N6: 423243DB92446898F05CC8C51235C802938D76B | O6: 42214914928DEDC1005DD2BAE0AA4EBFB01C6 | P6: F | Q6: F | R6: T | V6: 1 | AW6: 423243DB92446898F05CC8C51235C802938D76B42214914928DEDC1005DD2BAE0AA4EBFB01C6
A7: 잡재료 | B7: 주연료비의 38% | C7: 식 | D7: 1 | N7: 423243DB92446898F05CC8C51235C802938D76B | O7: 443B4B6F9F05DEF5805587F09B2001 | P7: F | Q7: F | R7: F | S7: 0 | T7: 0 | U7: 0.38 | AW7: 423243DB92446898F05CC8C51235C802938D76B443B4B6F9F05DEF5805587F09B2001
A8: 화물차운전사 | B8: 일반공사 직종 | C8: 인 | D8: 1 | N8: 423243DB92446898F05CC8C51235C802938D76B | O8: 45F148A79E9B2686E05078BE4A42B5ECAE3D0 | P8: F | Q8: F | R8: T | AW8: 423243DB92446898F05CC8C51235C802938D76B45F148A79E9B2686E05078BE4A42B5ECAE3D0 | AX8: T
A9: [ 합 계 ] | N9: TOTAL | O9: TOTAL
A11: 크레인(타이어) 50ton HR 공통 8-3,4(2104) ( 호표 2 ) | N11: 423243DB92444C0FD05D10177D9B00D841DCC92
A12: 크레인(타이어) | B12: 50ton | C12: 대 | D12: 0.1737 | M12: 천원 | N12: 423243DB92444C0FD05D10177D9B00D841DCC92 | O12: 423243DB92444C0FD05D10177D9B00D841DCC | P12: F | Q12: F | R12: T | AW12: 423243DB92444C0FD05D10177D9B00D841DCC92423243DB92444C0FD05D10177D9B00D841DCC
A13: 경유 | B13: 경유, 저유황 | C13: L | D13: 10 | N13: 423243DB92444C0FD05D10177D9B00D841DCC92 | O13: 42214914928DEDC1005DD2BAE0AA4EBFB01C6 | P13: F | Q13: F | R13: T | V13: 1 | AW13: 423243DB92444C0FD05D10177D9B00D841DCC9242214914928DEDC1005DD2BAE0AA4EBFB01C6
A14: 잡재료 | B14: 주연료비의 57% | C14: 식 | D14: 1 | N14: 423243DB92444C0FD05D10177D9B00D841DCC92 | O14: 443B4B6F9F05DEF5805587F09B2001 | P14: F | Q14: F | R14: F | S14: 0 | T14: 0 | U14: 0.57 | AW14: 423243DB92444C0FD05D10177D9B00D841DCC92443B4B6F9F05DEF5805587F09B2001
A15: 건설기계운전사 | B15: 일반공사 직종 | C15: 인 | D15: 1 | N15: 423243DB92444C0FD05D10177D9B00D841DCC92 | O15: 45F148A79E9B2686E05078BE4A42B5ECAE3D1 | P15: F | Q15: F | R15: T | AW15: 423243DB92444C0FD05D10177D9B00D841DCC9245F148A79E9B2686E05078BE4A42B5ECAE3D1 | AX15: T
A16: [ 합 계 ] | N16: TOTAL | O16: TOTAL
A18: 트럭탑재형 크레인 10ton HR 공통 8-3,4(2105) ( 호표 3 ) | N18: 423243DB92444C0FD05D07AA57CEDBF346E3D0B
A19: 트럭탑재형 크레인 | B19: 10ton | C19: 대 | D19: 0.2598 | M19: 천원 | N19: 423243DB92444C0FD05D07AA57CEDBF346E3D0B | O19: 423243DB92444C0FD05D07AA57CEDBF346E3D | P19: F | Q19: F | R19: T | AW19: 423243DB92444C0FD05D07AA57CEDBF346E3D0B423243DB92444C0FD05D07AA57CEDBF346E3D
A20: 경유 | B20: 경유, 저유황 | C20: L | D20: 10.3 | N20: 423243DB92444C0FD05D07AA57CEDBF346E3D0B | O20: 42214914928DEDC1005DD2BAE0AA4EBFB01C6 | P20: F | Q20: F | R20: T | V20: 1 | AW20: 423243DB92444C0FD05D07AA57CEDBF346E3D0B42214914928DEDC1005DD2BAE0AA4EBFB01C6
A21: 잡재료 | B21: 주연료비의 20% | C21: 식 | D21: 1 | N21: 423243DB92444C0FD05D07AA57CEDBF346E3D0B | O21: 443B4B6F9F05DEF5805587F09B2001 | P21: F | Q21: F | R21: F | S21: 0 | T21: 0 | U21: 0.2 | AW21: 423243DB92444C0FD05D07AA57CEDBF346E3D0B443B4B6F9F05DEF5805587F09B2001
A22: 화물차운전사 | B22: 일반공사 직종 | C22: 인 | D22: 1 | N22: 423243DB92444C0FD05D07AA57CEDBF346E3D0B | O22: 45F148A79E9B2686E05078BE4A42B5ECAE3D0 | P22: F | Q22: F | R22: T | AW22: 423243DB92444C0FD05D07AA57CEDBF346E3D0B45F148A79E9B2686E05078BE4A42B5ECAE3D0 | AX22: T
A23: [ 합 계 ] | N23: TOTAL | O23: TOTAL
A25: 트럭 트랙터 및 평판트레일러 20ton HR 공통 8-3,4(2702) ( 호표 4 ) | N25: 423243DB92444C60605E01508B5C5665619D77B
A26: 트럭 트랙터 및 평판트레일러 | B26: 20ton | C26: 대 | D26: 0.2576 | M26: 천원 | N26: 423243DB92444C60605E01508B5C5665619D77B | O26: 423243DB92444C60605E01508B5C5665619D7 | P26: F | Q26: F | R26: T | AW26: 423243DB92444C60605E01508B5C5665619D77B423243DB92444C60605E01508B5C5665619D7
A27: 경유 | B27: 경유, 저유황 | C27: L | D27: 16.5 | N27: 423243DB92444C60605E01508B5C5665619D77B | O27: 42214914928DEDC1005DD2BAE0AA4EBFB01C6 | P27: F | Q27: F | R27: T | V27: 1 | AW27: 423243DB92444C60605E01508B5C5665619D77B42214914928DEDC1005DD2BAE0AA4EBFB01C6
A28: 잡재료 | B28: 주연료비의 39% | C28: 식 | D28: 1 | N28: 423243DB92444C60605E01508B5C5665619D77B | O28: 443B4B6F9F05DEF5805587F09B2001 | P28: F | Q28: F | R28: F | S28: 0 | T28: 0 | U28: 0.39 | AW28: 423243DB92444C60605E01508B5C5665619D77B443B4B6F9F05DEF5805587F09B2001
A29: 건설기계운전사 | B29: 일반공사 직종 | C29: 인 | D29: 1 | N29: 423243DB92444C60605E01508B5C5665619D77B | O29: 45F148A79E9B2686E05078BE4A42B5ECAE3D1 | P29: F | Q29: F | R29: T | AW29: 423243DB92444C60605E01508B5C5665619D77B45F148A79E9B2686E05078BE4A42B5ECAE3D1 | AX29: T
A30: [ 합 계 ] | N30: TOTAL | O30: TOTAL
A32: 콘크리트 펌프차 36m(80∼95㎥/hr) HR 공통 8-3,4(4504) ( 호표 5 ) | N32: 423243DB9244211BC05642DAB37507373B56E9B
A33: 콘크리트 펌프차 | B33: 36m(80∼95㎥/hr) | C33: 대 | D33: 0.264 | M33: 천원 | N33: 423243DB9244211BC05642DAB37507373B56E9B | O33: 423243DB9244211BC05642DAB37507373B56E | P33: F | Q33: F | R33: T | AW33: 423243DB9244211BC05642DAB37507373B56E9B423243DB9244211BC05642DAB37507373B56E
A34: 경유 | B34: 경유, 저유황 | C34: L | D34: 17.7 | N34: 423243DB9244211BC05642DAB37507373B56E9B | O34: 42214914928DEDC1005DD2BAE0AA4EBFB01C6 | P34: F | Q34: F | R34: T | V34: 1 | AW34: 423243DB9244211BC05642DAB37507373B56E9B42214914928DEDC1005DD2BAE0AA4EBFB01C6
A35: 잡재료 | B35: 주연료비의 35% | C35: 식 | D35: 1 | N35: 423243DB9244211BC05642DAB37507373B56E9B | O35: 443B4B6F9F05DEF5805587F09B2001 | P35: F | Q35: F | R35: F | S35: 0 | T35: 0 | U35: 0.35 | AW35: 423243DB9244211BC05642DAB37507373B56E9B443B4B6F9F05DEF5805587F09B2001
A36: 건설기계운전사 | B36: 일반공사 직종 | C36: 인 | D36: 1 | N36: 423243DB9244211BC05642DAB37507373B56E9B | O36: 45F148A79E9B2686E05078BE4A42B5ECAE3D1 | P36: F | Q36: F | R36: T | AW36: 423243DB9244211BC05642DAB37507373B56E9B45F148A79E9B2686E05078BE4A42B5ECAE3D1 | AX36: T
A37: [ 합 계 ] | N37: TOTAL | O37: TOTAL
A39: 소형브레이커(전기식) 1.5kw HR 공통 8-3(5220) ( 호표 6 ) | N39: 423243DB92443384705B014F56CDA5B0822A172
A40: 소형브레이커(전기식) | B40: 1.5kw | C40: 대 | D40: 0.25 | M40: 천원 | N40: 423243DB92443384705B014F56CDA5B0822A172 | O40: 423243DB92443384705B014F56CDA5B0822A1 | P40: F | Q40: F | R40: T | AW40: 423243DB92443384705B014F56CDA5B0822A172423243DB92443384705B014F56CDA5B0822A1
A41: [ 합 계 ] | N41: TOTAL | O41: TOTAL | AX41: T
A43: 강관 조립말비계(이동식)설치 및 해체 높이 2m, 노무비 대 공통 2-7-6 ( 호표 7 ) | N43: 4523417E998F34D040530B36532ED
A44: 비계공 | B44: 일반공사 직종 | C44: 인 | D44: 0.25 | N44: 4523417E998F34D040530B36532ED | O44: 45F148A79E9B2686E05078BE4A42B5ECAE7B2 | P44: F | Q44: F | R44: T | AW44: 4523417E998F34D040530B36532ED45F148A79E9B2686E05078BE4A42B5ECAE7B2
A45: 보통인부 | B45: 일반공사 직종 | C45: 인 | D45: 0.14 | N45: 4523417E998F34D040530B36532ED | O45: 45F148A79E9B2686E05078BE4A42B5ECAE7B6 | P45: F | Q45: F | R45: T | AW45: 4523417E998F34D040530B36532ED45F148A79E9B2686E05078BE4A42B5ECAE7B6
A46: [ 합 계 ] | N46: TOTAL | O46: TOTAL
...

Sheet  공사설정 
A1: 이 Sheet는 수정하지 마십시요
A2: 공사구분 | B2: A | C2: 타이틀
A3: 확정내역 | B3: 원내역
A4: 자재단가적용 | B4: 5
A5: 경비단가적용 | B5: 5
A6: 품목코드형식 | B6: XXXX-XXXX-XXXXXXXXX
A7: 내역금액소수점처리 | B7: C | C7: T
A8: 일위대가내역소수점처리 | B8: C | C8: 2
A9: 단가명 | B9: 조달청가격 | C9: 거래가격 | D9: 유통물가 | E9: 물가자료 | F9: 조사가격 | G9: TTTTT
A10: 환율 | B10: 1472 | C10: 0 | D10: 0
A11: 시간당작업량 | B11: R | C11: 4
A12: 1회 사이클시간 | B12: R | C12: 4
A13: 시간당 작업사이클 | B13: R | C13: 3
A14: 일반변수 | B14: R | C14: 5
A15: 시간당 노임산출 계수 | B15: A | C15: 1/8*16/12*25/20 | D15: 1/8*16/12*25/20 | E15: 1/8*16/12*25/20 | F15: 1
A16: 재료비 할증 계수 | B16: 1.11 | C16: 1.12
A17: 노무비 할증 계수 | B17: 1 | C17: 1.5 | D17: 1.16 | E17: 1.6 | F17: 1.6 | G17: 1.6 | H17: 1.94 | I17: 1.94 | J17: 1.94 | K17: 1 | L17: 1 | M17: 1
A18: 경비 할증 계수 | B18: 1.25 | C18: 1.071
A19: 내역,일위대가 품명,규격,단위 따로적용
A20: 내역단가 소수점처리 | B20: C | C20: 1
A21: 코드 | B21: 공종구분명 | C21: 원가비목코드
A22: 1 | B22: 작 업 부 산 물 | C22: A3
A23: 2 | B23: 운 반 비 | C23: C1
A24: 3 | B24: 관 급 자 재 비 | C24: DJ
A25: 4 | B25: 사 급 자 재 비 | C25: D3
A26: 5 | B26: 외 자 재
A27: 6 | B27: 철거부산물[고철] | C27: D4
A28: 7 | B28: 건설폐기물상차비
A29: 8 | B29: 품질관리비 | C29: CD
A30: 9 | B30: 관급자관급공사비 | C30: DK
A31: A | B31: ....
A32: B | B32: .....
A33: C | B33: ....
A34: D | B34: ....
A35: E | B35: ....
A36: F | B36: ....
A37: G | B37: ....
A38: H | B38: ....
A39: I | B39: ....
A40: J | B40: ....
...
