Workbook

Sheet 원가계산서
B1: 공 사 원 가 계 산 서
B2: 공사명 : 글로벌 교육얼라이언스 인프라 구축공사 | F2: ="금액 : " & SUBSTITUTE(TEXT(E29, "[DBNum4]G/표준"), "일십", "십") & "원 (₩" & TEXT(E29, "#,##0") & ")" -> 금액 : 이억오천팔백십사만팔천원 (₩258,148,000)
B3: 비 목 | E3: 금 액 | F3: 구 성 비 | G3: 비 고
A4: A1 | B4: 순 공 사 원 가 | C4: 재 료 비 | D4: 직 접 재 료 비 | E4: =TRUNC(공종별집계표!F5, 0) -> 79979801
A5: A2 | D5: 간 접 재 료 비 | E5: 0
A6: A3 | D6: 작업설, 부산물(△) | E6: 0
A7: AS | D7: [ 소 계 ] | E7: =TRUNC(E4+E5-E6, 0) -> 79979801
A8: B1 | C8: 노 무 비 | D8: 직 접 노 무 비 | E8: =TRUNC(공종별집계표!H5, 0) -> 77193093
A9: B2 | D9: 간 접 노 무 비 | E9: =TRUNC(E8*0.175, 0) -> 13508791 | F9: 직접노무비 * 17.5%
A10: BS | D10: [ 소 계 ] | E10: =TRUNC(E8+E9, 0) -> 90701884
A11: C2 | C11: 경 비 | D11: 경 비 | E11: =TRUNC(공종별집계표!J5, 0) -> 1497067
A12: C4 | D12: 산 재 보 험 료 | E12: =TRUNC(E10*0.0356, 0) -> 3228987 | F12: 노무비 * 3.56%
A13: C5 | D13: 고 용 보 험 료 | E13: =TRUNC(E10*0.0101, 0) -> 916089 | F13: 노무비 * 1.01%
A14: C6 | D14: 국민 건강 보험료 | E14: =TRUNC(E8*0.03595, 0) -> 2775091 | F14: 직접노무비 * 3.595%
A15: C7 | D15: 국민 연금 보험료 | E15: =TRUNC(E8*0.0475, 0) -> 3666671 | F15: 직접노무비 * 4.75%
A16: CB | D16: 노인장기요양보험료 | E16: =TRUNC(E14*0.1314, 0) -> 364646 | F16: 건강보험료 * 13.14%
A17: C8 | D17: 퇴직 공제 부금비 | E17: =TRUNC(E8*0.023, 0) -> 1775441 | F17: 직접노무비 * 2.3%
A18: CA | D18: 산업안전보건관리비 | E18: =TRUNC((E7+E8+(0/1.1))*0.0311, 0) -> 4888077 | F18: (재료비+직노+관급자재비) * 3.11%
A19: CD | D19: 석 면 분 단 금 | E19: =TRUNC(E10*0.00006, 0) -> 5442 | F19: 노무비 * 0.006%
A20: CC | D20: 임금채권부담금 | E20: =TRUNC(E10*0.0009, 0) -> 81631 | F20: 노무비 * 0.09%
A21: CG | D21: 기 타 경 비 | E21: =TRUNC((E7+E10)*0.05, 0) -> 8534084 | F21: (재료비+노무비) * 5%
A22: CS | D22: [ 소 계 ] | E22: =TRUNC(E11+E12+E13+E14+E15+E17+E18+E16+E20+E19+E21, 0) -> 27733226
A23: S1 | B23: 계 | E23: =TRUNC(E7+E10+E22, 0) -> 198414911
A24: D1 | B24: 일 반 관 리 비 | E24: =TRUNC(E23*0.08, 0) -> 15873192 | F24: 계 * 8%
A25: D2 | B25: 이 윤 | E25: =TRUNC((E10+E22+E24)*0.15, 0)-326 -> 20145919 | F25: (노무비+경비+일반관리비) * 15% | G25: 단수정리 -326원
A26: D4 | B26: 폐 기 물 처 리 비 | E26: =TRUNC(공종별집계표!T16, 0) -> 245978
A27: D9 | B27: 공 급 가 액 | E27: =TRUNC(E23+E24+E25+E26, 0) -> 234680000
A28: DB | B28: 부 가 가 치 세 | E28: =TRUNC(E27*0.1, 0) -> 23468000 | F28: 공급가액 * 10%
A29: DH | B29: 도 급 액 | E29: =TRUNC(E27+E28, 0) -> 258148000
A30: S2 | B30: 총 공 사 비 | E30: =TRUNC(E29+0, 0) -> 258148000

Sheet 공종별집계표
A1: 공 종 별 집 계 표
A2: [ 글로벌 교육얼라이언스 인프라 구축공사 ]
A3: 품 명 | B3: 규 격 | C3: 단위 | D3: 수량 | E3: 재 료 비 | G3: 노 무 비 | I3: 경 비 | K3: 합 계 | M3: 비 고 | N3: 공종코드 | O3: 변수 | P3: 상위공종 | Q3: 공종구분 | R3: 공종레벨 | S3: 공종소계 | T3: 원가계산서 연결금액
E4: 단 가 | F4: 금 액 | G4: 단 가 | H4: 금 액 | I4: 단 가 | J4: 금 액 | K4: 단 가 | L4: 금 액
A5: 01 체육교육관 헬스케어동 한국어학당 공간구축공사 | D5: 1 | E5: =F6+F7+F8+F9+F10+F11+F12+F13+F14+F15 -> 79979801 | F5: =E5*D5 -> 79979801 | G5: =H6+H7+H8+H9+H10+H11+H12+H13+H14+H15 -> 77193093 | H5: =G5*D5 -> 77193093 | I5: =J6+J7+J8+J9+J10+J11+J12+J13+J14+J15 -> 1497067 | J5: =I5*D5 -> 1497067 | K5: =E5+G5+I5 -> 158669961 | L5: =F5+H5+J5 -> 158669961 | N5: 01 | R5: 1
A6: 0101 가 설 공 사 | D6: 1 | E6: =공종별내역서!F27 -> 455794 | F6: =E6*D6 -> 455794 | G6: =공종별내역서!H27 -> 6594922 | H6: =G6*D6 -> 6594922 | I6: =공종별내역서!J27 -> 0 | J6: =I6*D6 -> 0 | K6: =E6+G6+I6 -> 7050716 | L6: =F6+H6+J6 -> 7050716 | N6: 0101 | P6: 01 | R6: 2
A7: 0102 경량 철골 공사 | D7: 1 | E7: =공종별내역서!F51 -> 20443834 | F7: =E7*D7 -> 20443834 | G7: =공종별내역서!H51 -> 29645650 | H7: =G7*D7 -> 29645650 | I7: =공종별내역서!J51 -> 756552 | J7: =I7*D7 -> 756552 | K7: =E7+G7+I7 -> 50846036 | L7: =F7+H7+J7 -> 50846036 | N7: 0102 | P7: 01 | R7: 2
A8: 0103 목 공 사 | D8: 1 | E8: =공종별내역서!F75 -> 7898801 | F8: =E8*D8 -> 7898801 | G8: =공종별내역서!H75 -> 7525657 | H8: =G8*D8 -> 7525657 | I8: =공종별내역서!J75 -> 166025 | J8: =I8*D8 -> 166025 | K8: =E8+G8+I8 -> 15590483 | L8: =F8+H8+J8 -> 15590483 | N8: 0103 | P8: 01 | R8: 2
A9: 0104 금 속 공 사 | D9: 1 | E9: =공종별내역서!F99 -> 342444 | F9: =E9*D9 -> 342444 | G9: =공종별내역서!H99 -> 1875276 | H9: =G9*D9 -> 1875276 | I9: =공종별내역서!J99 -> 76700 | J9: =I9*D9 -> 76700 | K9: =E9+G9+I9 -> 2294420 | L9: =F9+H9+J9 -> 2294420 | N9: 0104 | P9: 01 | R9: 2
A10: 0105 창 호 공 사 | D10: 1 | E10: =공종별내역서!F123 -> 22573279 | F10: =E10*D10 -> 22573279 | G10: =공종별내역서!H123 -> 19255786 | H10: =G10*D10 -> 19255786 | I10: =공종별내역서!J123 -> 460419 | J10: =I10*D10 -> 460419 | K10: =E10+G10+I10 -> 42289484 | L10: =F10+H10+J10 -> 42289484 | N10: 0105 | P10: 01 | R10: 2
A11: 0106 유 리 공 사 | D11: 1 | E11: =공종별내역서!F147 -> 1500000 | F11: =E11*D11 -> 1500000 | G11: =공종별내역서!H147 -> 0 | H11: =G11*D11 -> 0 | I11: =공종별내역서!J147 -> 0 | J11: =I11*D11 -> 0 | K11: =E11+G11+I11 -> 1500000 | L11: =F11+H11+J11 -> 1500000 | N11: 0106 | P11: 01 | R11: 2
A12: 0107 도 장 공 사 | D12: 1 | E12: =공종별내역서!F171 -> 435807 | F12: =E12*D12 -> 435807 | G12: =공종별내역서!H171 -> 2605092 | H12: =G12*D12 -> 2605092 | I12: =공종별내역서!J171 -> 0 | J12: =I12*D12 -> 0 | K12: =E12+G12+I12 -> 3040899 | L12: =F12+H12+J12 -> 3040899 | N12: 0107 | P12: 01 | R12: 2
A13: 0108 수 장 공 사 | D13: 1 | E13: =공종별내역서!F195 -> 20329842 | F13: =E13*D13 -> 20329842 | G13: =공종별내역서!H195 -> 3530163 | H13: =G13*D13 -> 3530163 | I13: =공종별내역서!J195 -> 0 | J13: =I13*D13 -> 0 | K13: =E13+G13+I13 -> 23860005 | L13: =F13+H13+J13 -> 23860005 | N13: 0108 | P13: 01 | R13: 2
A14: 0109 기 타 공 사 | D14: 1 | E14: =공종별내역서!F219 -> 6000000 | F14: =E14*D14 -> 6000000 | G14: =공종별내역서!H219 -> 2000000 | H14: =G14*D14 -> 2000000 | I14: =공종별내역서!J219 -> 0 | J14: =I14*D14 -> 0 | K14: =E14+G14+I14 -> 8000000 | L14: =F14+H14+J14 -> 8000000 | N14: 0109 | P14: 01 | R14: 2
A15: 0110 철 거 공 사 | D15: 1 | E15: =공종별내역서!F243 -> 0 | F15: =E15*D15 -> 0 | G15: =공종별내역서!H243 -> 4160547 | H15: =G15*D15 -> 4160547 | I15: =공종별내역서!J243 -> 37371 | J15: =I15*D15 -> 37371 | K15: =E15+G15+I15 -> 4197918 | L15: =F15+H15+J15 -> 4197918 | N15: 0110 | P15: 01 | R15: 2
A16: 0111 폐기물 처리비 | D16: 1 | E16: =공종별내역서!F267 -> 0 | F16: =E16*D16 -> 0 | G16: =공종별내역서!H267 -> 0 | H16: =G16*D16 -> 0 | I16: =공종별내역서!J267 -> 245978 | J16: =I16*D16 -> 245978 | K16: =E16+G16+I16 -> 245978 | L16: =F16+H16+J16 -> 245978 | N16: 0111 | Q16: 6 | R16: 2 | T16: =L16*1 -> 245978
A27: [ 합 계 ] | F27: =F5 -> 79979801 | H27: =H5 -> 77193093 | J27: =J5 -> 1497067 | L27: =L5 -> 158669961

Sheet 공종별내역서
A1: [ 글로벌 교육얼라이언스 인프라 구축공사 ]
A2: 품 명 | B2: 규 격 | C2: 단위 | D2: 수량 | E2: 재 료 비 | G2: 노 무 비 | I2: 경 비 | K2: 합 계 | M2: 비 고 | N2: 품목코드 | O2: 변수 | P2: 설정 | Q2: 공종코드 | R2: 일위 | S2: 단산 | T2: 자재 | U2: 손료적용 | V2: 손료저장 | W2: 적용율 | X2: JUK1 | Y2: JUK2 | Z2: JUK3 | AA2: JUK4 | AB2: JUK5 | AC2: JUK6 | AD2: JUK7 | AE2: JUK8 | AF2: JUK9 | AG2: JUK10 | AH2: JUK11 | AI2: JUK12 | AJ2: JUK13 | AK2: JUK14 | AL2: JUK15 | AM2: JUK16 | AN2: JUK17 | AO2: JUK18 | AP2: JUK19 | AQ2: JUK20 | AR2: 자재구분 | AS2: 공종구분 | AT2: 공종레벨 | AU2: 공종+자재 | AV2: 고유번호
E3: 단 가 | F3: 금 액 | G3: 단 가 | H3: 금 액 | I3: 단 가 | J3: 금 액 | K3: 단 가 | L3: 금 액
A4: 0101 가 설 공 사 | Q4: 0101
A5: 건축물 현장정리 | B5: 개보수 | C5: M2 | D5: 677 | E5: =TRUNC(일위대가목록!E4,0) -> 0 | F5: =TRUNC(E5*D5, 0) -> 0 | G5: =TRUNC(일위대가목록!F4,0) -> 4301 | H5: =TRUNC(G5*D5, 0) -> 2911777 | I5: =TRUNC(일위대가목록!G4,0) -> 0 | J5: =TRUNC(I5*D5, 0) -> 0 | K5: =TRUNC(E5+G5+I5, 0) -> 4301 | L5: =TRUNC(F5+H5+J5, 0) -> 2911777 | N5: 577F314002009C656E7866FC0CF37D | Q5: 0101 | R5: T | S5: F | T5: F | AU5: 0101577F314002009C656E7866FC0CF37D | AV5: 13
A6: 강관 조립말비계(이동식)설치 및 해체 | B6: 높이 2m, 3개월 | C6: 대 | D6: 2 | E6: =TRUNC(일위대가목록!E5,0) -> 33598 | F6: =TRUNC(E6*D6, 0) -> 67196 | G6: =TRUNC(일위대가목록!F5,0) -> 94574 | H6: =TRUNC(G6*D6, 0) -> 189148 | I6: =TRUNC(일위대가목록!G5,0) -> 0 | J6: =TRUNC(I6*D6, 0) -> 0 | K6: =TRUNC(E6+G6+I6, 0) -> 128172 | L6: =TRUNC(F6+H6+J6, 0) -> 256344 | N6: 577F31405A009D57E8AB46EA69AC4B | Q6: 0101 | R6: T | S6: F | T6: F | AU6: 0101577F31405A009D57E8AB46EA69AC4B | AV6: 14
A7: 건축물보양 | B7: 보양지 붙이기 | C7: M2 | D7: 677 | E7: =TRUNC(일위대가목록!E6,0) -> 574 | F7: =TRUNC(E7*D7, 0) -> 388598 | G7: =TRUNC(일위대가목록!F6,0) -> 1720 | H7: =TRUNC(G7*D7, 0) -> 1164440 | I7: =TRUNC(일위대가목록!G6,0) -> 0 | J7: =TRUNC(I7*D7, 0) -> 0 | K7: =TRUNC(E7+G7+I7, 0) -> 2294 | L7: =TRUNC(F7+H7+J7, 0) -> 1553038 | N7: 577F314002009F371D57A82F0F1094 | Q7: 0101 | R7: T | S7: F | T7: F | AU7: 0101577F314002009F371D57A82F0F1094 | AV7: 15
A8: 준공청소 | C8: M2 | D8: 677 | E8: =TRUNC(일위대가목록!E7,0) -> 0 | F8: =TRUNC(E8*D8, 0) -> 0 | G8: =TRUNC(일위대가목록!F7,0) -> 3441 | H8: =TRUNC(G8*D8, 0) -> 2329557 | I8: =TRUNC(일위대가목록!G7,0) -> 0 | J8: =TRUNC(I8*D8, 0) -> 0 | K8: =TRUNC(E8+G8+I8, 0) -> 3441 | L8: =TRUNC(F8+H8+J8, 0) -> 2329557 | N8: 577F3140020099AED3F3EB6611D158 | Q8: 0101 | R8: T | S8: F | T8: F | AU8: 0101577F3140020099AED3F3EB6611D158 | AV8: 16
Q9: 0101
Q10: 0101
Q11: 0101
Q12: 0101
Q13: 0101
Q14: 0101
Q15: 0101
Q16: 0101
Q17: 0101
Q18: 0101
Q19: 0101
Q20: 0101
... Q26: 0101
A27: [ 합 계 ] | F27: =SUMIF(Q5:Q26,"0101",F5:F26) -> 455794 | H27: =SUMIF(Q5:Q26,"0101",H5:H26) -> 6594922 | J27: =SUMIF(Q5:Q26,"0101",J5:J26) -> 0 | L27: =SUMIF(Q5:Q26,"0101",L5:L26) -> 7050716 | N27: TOTAL
A28: 0102 경량 철골 공사 | Q28: 0102
A29: 경량천장철골틀 설치 | B29: M-BAR H:1m이하,인서트무 | C29: M2 | D29: 330 | E29: =TRUNC(일위대가목록!E8,0) -> 9058 | F29: =TRUNC(E29*D29, 0) -> 2989140 | G29: =TRUNC(일위대가목록!F8,0) -> 11402 | H29: =TRUNC(G29*D29, 0) -> 3762660 | I29: =TRUNC(일위대가목록!G8,0) -> 684 | J29: =TRUNC(I29*D29, 0) -> 225720 | K29: =TRUNC(E29+G29+I29, 0) -> 21144 | L29: =TRUNC(F29+H29+J29, 0) -> 6977520 | N29: 577F8148C2009BD0098209C268119B | Q29: 0102 | R29: T | S29: F | T29: F | AU29: 0102577F8148C2009BD0098209C268119B | AV29: 28
A30: 천정텍스 설치 | B30: 300*600*9.5T, 석고계텍스 | C30: M2 | D30: 330 | E30: =TRUNC(일위대가목록!E9,0) -> 9084 | F30: =TRUNC(E30*D30, 0) -> 2997720 | G30: =TRUNC(일위대가목록!F9,0) -> 15088 | H30: =TRUNC(G30*D30, 0) -> 4979040 | I30: =TRUNC(일위대가목록!G9,0) -> 452 | J30: =TRUNC(I30*D30, 0) -> 149160 | K30: =TRUNC(E30+G30+I30, 0) -> 24624 | L30: =TRUNC(F30+H30+J30, 0) -> 8125920 | N30: 577FD14046009054615EA4A2825D9D | Q30: 0102 | R30: T | S30: F | T30: F | AU30: 0102577FD14046009054615EA4A2825D9D | AV30: 19
A31: AL몰딩 설치 | B31: L형, 19*19*1.0mm | C31: M | D31: 54 | E31: =TRUNC(일위대가목록!E10,0) -> 2194 | F31: =TRUNC(E31*D31, 0) -> 118476 | G31: =TRUNC(일위대가목록!F10,0) -> 8990 | H31: =TRUNC(G31*D31, 0) -> 485460 | I31: =TRUNC(일위대가목록!G10,0) -> 359 | J31: =TRUNC(I31*D31, 0) -> 19386 | K31: =TRUNC(E31+G31+I31, 0) -> 11543 | L31: =TRUNC(F31+H31+J31, 0) -> 623322 | N31: 577FD140E600965895107923C311C4 | Q31: 0102 | R31: T | S31: F | T31: F | AU31: 0102577FD140E600965895107923C311C4 | AV31: 20
A32: 메탈스터드(C-100) | B32: 일반석고9.5T 2겹양면+GW50t(크린매트) | C32: M2 | D32: 125 | E32: =TRUNC(일위대가목록!E11,0) -> 35832 | F32: =TRUNC(E32*D32, 0) -> 4479000 | G32: =TRUNC(일위대가목록!F11,0) -> 49378 | H32: =TRUNC(G32*D32, 0) -> 6172250 | I32: =TRUNC(일위대가목록!G11,0) -> 932 | J32: =TRUNC(I32*D32, 0) -> 116500 | K32: =TRUNC(E32+G32+I32, 0) -> 86142 | L32: =TRUNC(F32+H32+J32, 0) -> 10767750 | N32: 577F8148A7009D754819769EAE4034 | Q32: 0102 | R32: T | S32: F | T32: F | AU32: 0102577F8148A7009D754819769EAE4034 | AV32: 23
A33: 메탈스터드(C-100) | B33: 차음석고12.5T 2겹양면+GW50t(크린매트) | C33: M2 | D33: 32 | E33: =TRUNC(일위대가목록!E12,0) -> 42846 | F33: =TRUNC(E33*D33, 0) -> 1371072 | G33: =TRUNC(일위대가목록!F12,0) -> 49378 | H33: =TRUNC(G33*D33, 0) -> 1580096 | I33: =TRUNC(일위대가목록!G12,0) -> 932 | J33: =TRUNC(I33*D33, 0) -> 29824 | K33: =TRUNC(E33+G33+I33, 0) -> 93156 | L33: =TRUNC(F33+H33+J33, 0) -> 2980992 | N33: 577F8148A7009D754819769EAE4035 | Q33: 0102 | R33: T | S33: F | T33: F | AU33: 0102577F8148A7009D754819769EAE4035 | AV33: 25
A34: 메탈스터드(C-100) | B34: 차음석고12.5T 1겹양면+GW50t(크린매트) | C34: M2 | D34: 203 | E34: =TRUNC(일위대가목록!E13,0) -> 33119 | F34: =TRUNC(E34*D34, 0) -> 6723157 | G34: =TRUNC(일위대가목록!F13,0) -> 42006 | H34: =TRUNC(G34*D34, 0) -> 8527218 | I34: =TRUNC(일위대가목록!G13,0) -> 860 | J34: =TRUNC(I34*D34, 0) -> 174580 | K34: =TRUNC(E34+G34+I34, 0) -> 75985 | L34: =TRUNC(F34+H34+J34, 0) -> 15424955 | N34: 577F8148A7009D754819769EAE4036 | Q34: 0102 | R34: T | S34: F | T34: F | AU34: 0102577F8148A7009D754819769EAE4036 | AV34: 80
A35: 석고판 설치(나사고정) - 바탕용 | B35: 벽, 1겹 붙임, 차음석고 12.5mm | C35: M2 | D35: 363 | E35: =TRUNC(일위대가목록!E14,0) -> 4863 | F35: =TRUNC(E35*D35, 0) -> 1765269 | G35: =TRUNC(일위대가목록!F14,0) -> 11402 | H35: =TRUNC(G35*D35, 0) -> 4138926 | I35: =TRUNC(일위대가목록!G14,0) -> 114 | J35: =TRUNC(I35*D35, 0) -> 41382 | K35: =TRUNC(E35+G35+I35, 0) -> 16379 | L35: =TRUNC(F35+H35+J35, 0) -> 5945577 | N35: 577FD1404600932B924FDB98ED159E | Q35: 0102 | R35: T | S35: F | T35: F | AU35: 0102577FD1404600932B924FDB98ED159E | AV35: 26
Q36: 0102
Q37: 0102
Q38: 0102
Q39: 0102
Q40: 0102
Q41: 0102
Q42: 0102
Q43: 0102
Q44: 0102
Q45: 0102
...

Sheet 일위대가목록
B1: 일 위 대 가 목 록
B2: [ 글로벌 교육얼라이언스 인프라 구축공사 ]
A3: 코 드 | B3: 품 명 | C3: 규 격 | D3: 단위 | E3: 재 료 비 | F3: 노 무 비 | G3: 경 비 | H3: 합 계 | I3: 번 호 | J3: 비 고 | K3: 노임계수 | L3: 할증 | M3: 품셈개요 | N3: 장비일위
A4: 577F314002009C656E7866FC0CF37D | B4: 건축물 현장정리 | C4: 개보수 | D4: M2 | E4: =일위대가!F6 -> 0 | F4: =일위대가!H6 -> 4301 | G4: =일위대가!J6 -> 0 | H4: =E4+F4+G4 -> 4301 | I4: 호표 1
A5: 577F31405A009D57E8AB46EA69AC4B | B5: 강관 조립말비계(이동식)설치 및 해체 | C5: 높이 2m, 3개월 | D5: 대 | E5: =일위대가!F19 -> 33598 | F5: =일위대가!H19 -> 94574 | G5: =일위대가!J19 -> 0 | H5: =E5+F5+G5 -> 128172 | I5: 호표 2
A6: 577F314002009F371D57A82F0F1094 | B6: 건축물보양 | C6: 보양지 붙이기 | D6: M2 | E6: =일위대가!F25 -> 574 | F6: =일위대가!H25 -> 1720 | G6: =일위대가!J25 -> 0 | H6: =E6+F6+G6 -> 2294 | I6: 호표 3
A7: 577F3140020099AED3F3EB6611D158 | B7: 준공청소 | D7: M2 | E7: =일위대가!F29 -> 0 | F7: =일위대가!H29 -> 3441 | G7: =일위대가!J29 -> 0 | H7: =E7+F7+G7 -> 3441 | I7: 호표 4
A8: 577F8148C2009BD0098209C268119B | B8: 경량천장철골틀 설치 | C8: M-BAR H:1m이하,인서트무 | D8: M2 | E8: =일위대가!F43 -> 9058 | F8: =일위대가!H43 -> 11402 | G8: =일위대가!J43 -> 684 | H8: =E8+F8+G8 -> 21144 | I8: 호표 5
A9: 577FD14046009054615EA4A2825D9D | B9: 천정텍스 설치 | C9: 300*600*9.5T, 석고계텍스 | D9: M2 | E9: =일위대가!F49 -> 9084 | F9: =일위대가!H49 -> 15088 | G9: =일위대가!J49 -> 452 | H9: =E9+F9+G9 -> 24624 | I9: 호표 6
A10: 577FD140E600965895107923C311C4 | B10: AL몰딩 설치 | C10: L형, 19*19*1.0mm | D10: M | E10: =일위대가!F55 -> 2194 | F10: =일위대가!H55 -> 8990 | G10: =일위대가!J55 -> 359 | H10: =E10+F10+G10 -> 11543 | I10: 호표 7
A11: 577F8148A7009D754819769EAE4034 | B11: 메탈스터드(C-100) | C11: 일반석고9.5T 2겹양면+GW50t(크린매트) | D11: M2 | E11: =일위대가!F73 -> 35832 | F11: =일위대가!H73 -> 49378 | G11: =일위대가!J73 -> 932 | H11: =E11+F11+G11 -> 86142 | I11: 호표 8
A12: 577F8148A7009D754819769EAE4035 | B12: 메탈스터드(C-100) | C12: 차음석고12.5T 2겹양면+GW50t(크린매트) | D12: M2 | E12: =일위대가!F91 -> 42846 | F12: =일위대가!H91 -> 49378 | G12: =일위대가!J91 -> 932 | H12: =E12+F12+G12 -> 93156 | I12: 호표 9
A13: 577F8148A7009D754819769EAE4036 | B13: 메탈스터드(C-100) | C13: 차음석고12.5T 1겹양면+GW50t(크린매트) | D13: M2 | E13: =일위대가!F109 -> 33119 | F13: =일위대가!H109 -> 42006 | G13: =일위대가!J109 -> 860 | H13: =E13+F13+G13 -> 75985 | I13: 호표 10
A14: 577FD1404600932B924FDB98ED159E | B14: 석고판 설치(나사고정) - 바탕용 | C14: 벽, 1겹 붙임, 차음석고 12.5mm | D14: M2 | E14: =일위대가!F114 -> 4863 | F14: =일위대가!H114 -> 11402 | G14: =일위대가!J114 -> 114 | H14: =E14+F14+G14 -> 16379 | I14: 호표 11
A15: 577FB143890099712649C77C7C377E | B15: 벽체틀 설치 | C15: 미송각재,30*30, @450 | D15: M2 | E15: =일위대가!F119 -> 2964 | F15: =일위대가!H119 -> 9733 | G15: =일위대가!J119 -> 194 | H15: =E15+F15+G15 -> 12891 | I15: 호표 12
A16: 577FD140460095D9CF86735103F4BA | B16: 벽체합판 설치 | C16: 합판 12T | D16: M2 | E16: =일위대가!F124 -> 11313 | F16: =일위대가!H124 -> 18183 | G16: =일위대가!J124 -> 363 | H16: =E16+F16+G16 -> 29859 | I16: 호표 13
A17: 577FD140460095D9CC327560B9C41E | B17: 아트보드 설치 | C17: 9T, 방염 | D17: M2 | E17: =일위대가!F129 -> 26846 | F17: =일위대가!H129 -> 19638 | G17: =일위대가!J129 -> 392 | H17: =E17+F17+G17 -> 46876 | I17: 호표 14
A18: 577FD140E60096589513CD22DB842B | B18: 몰딩 설치 | C18: W=100mm, MDF9t | D18: M | E18: =일위대가!F135 -> 466 | F18: =일위대가!H135 -> 8990 | G18: =일위대가!J135 -> 359 | H18: =E18+F18+G18 -> 9815 | I18: 호표 15
A19: 577FD14062009B1578C4DCF565C186 | B19: 걸레받이 설치 - 중밀도섬유판 | C19: T=9, H=100 | D19: M | E19: =일위대가!F141 -> 759 | F19: =일위대가!H141 -> 4157 | G19: =일위대가!J141 -> 83 | H19: =E19+F19+G19 -> 4999 | I19: 호표 16
A20: 577F814884009D4B2C9F53F6A5D06D | B20: 잡철물 제작 및 설치 | C20: 현장제작 설치, 일반철재 | D20: kg | E20: =일위대가!F150 -> 159 | F20: =일위대가!H150 -> 5328 | G20: =일위대가!J150 -> 266 | H20: =E20+F20+G20 -> 5753 | I20: 호표 17
A21: 577F7149D9009AE302ED3B82C443EF | B21: 앵커 볼트 설치 | C21: M10×150 | D21: 개소 | E21: =일위대가!F155 -> 430 | F21: =일위대가!H155 -> 17154 | G21: =일위대가!J155 -> 343 | H21: =E21+F21+G21 -> 17927 | I21: 호표 18
A22: 577F5145B90097C1978E4F75A1EC67 | B22: ㄱ형강 설치(현장제작) | C22: ㄱ형강,등변,50*50*4t. 방청페인트 | D22: M | E22: =일위대가!F166 -> 3932 | F22: =일위대가!H166 -> 18594 | G22: =일위대가!J166 -> 846 | H22: =E22+F22+G22 -> 23372 | I22: 호표 19
A23: 577FE146FB00945DFB817F31C2C282 | B23: SSD1 | C23: 6855*3000 | D23: 개소 | E23: =일위대가!F175 -> 1629054 | F23: =일위대가!H175 -> 1641763 | G23: =일위대가!J175 -> 36835 | H23: =E23+F23+G23 -> 3307652 | I23: 호표 20
A24: 577FE146FB00945DFB817F31C2C285 | B24: SSD2 | C24: 10920*3000 | D24: 개소 | E24: =일위대가!F191 -> 3354828 | F24: =일위대가!H191 -> 2821702 | G24: =일위대가!J191 -> 68207 | H24: =E24+F24+G24 -> 6244737 | I24: 호표 21
A25: 577FE146FB00945DFB817F31C2C284 | B25: SSD3 | C25: 14280*3000 | D25: 개소 | E25: =일위대가!F207 -> 4539389 | F25: =일위대가!H207 -> 3727620 | G25: =일위대가!J207 -> 91631 | H25: =E25+F25+G25 -> 8358640 | I25: 호표 22
A26: 577FE146FB00945DFB817F31C2C287 | B26: SSD4 | C26: 13516*3000 | D26: 개소 | E26: =일위대가!F224 -> 4018029 | F26: =일위대가!H224 -> 3468163 | G26: =일위대가!J224 -> 84730 | H26: =E26+F26+G26 -> 7570922 | I26: 호표 23
A27: 577FE146FB00945DFB817F31C2C286 | B27: SSD5 | C27: 5640*3000 | D27: 개소 | E27: =일위대가!F233 -> 1284041 | F27: =일위대가!H233 -> 1310934 | G27: =일위대가!J233 -> 27756 | H27: =E27+F27+G27 -> 2622731 | I27: 호표 24
A28: 577FE146FB00945DFB817F31C2C289 | B28: SSD6 | C28: 5590*3000 | D28: 개소 | E28: =일위대가!F243 -> 1331551 | F28: =일위대가!H243 -> 1354753 | G28: =일위대가!J243 -> 29550 | H28: =E28+F28+G28 -> 2715854 | I28: 호표 25
A29: 577FE146FB00945DFB817F31C2C288 | B29: SSD7 | C29: 7867*3000 | D29: 개소 | E29: =일위대가!F259 -> 2295340 | F29: =일위대가!H259 -> 2034128 | G29: =일위대가!J259 -> 48620 | H29: =E29+F29+G29 -> 4378088 | I29: 호표 26
A30: 577FE146FB00945DFB817F31C2C3A9 | B30: SSD8 | C30: 9889*3000 | D30: 개소 | E30: =일위대가!F276 -> 3348832 | F30: =일위대가!H276 -> 2798960 | G30: =일위대가!J276 -> 71595 | H30: =E30+F30+G30 -> 6219387 | I30: 호표 27
A31: 577FE146FB00960B57AAE7E70BB13E | B31: PD01 | C31: 1000*2100 | D31: 개소 | E31: =일위대가!F282 -> 408000 | F31: =일위대가!H282 -> 7662 | G31: =일위대가!J282 -> 306 | H31: =E31+F31+G31 -> 415968 | I31: 호표 28
A32: 577FE1468000929B634487D3386AC3 | B32: 창호주위 발포우레탄 충전 | C32: 발포우레탄, ㅁ80*50 | D32: M | E32: =일위대가!F288 -> 18000 | F32: =일위대가!H288 -> 2734 | G32: =일위대가!J288 -> 0 | H32: =E32+F32+G32 -> 20734 | I32: 호표 29
A33: 577F5145B90097C1978E4F75A1EC62 | B33: 자동문 잠금장치 설치 | D33: 개소 | E33: =일위대가!F293 -> 4215 | F33: =일위대가!H293 -> 35421 | G33: =일위대가!J293 -> 1189 | H33: =E33+F33+G33 -> 40825 | I33: 호표 30
A34: 577FC14234009E85BE1A044DB2495D | B34: 바탕만들기+친환경수성페인트 롤러칠(재료비 포함) | C34: 내부, 2회 1급, 석고보드면 줄퍼티 | D34: M2 | E34: =일위대가!F300 -> 3031 | F34: =일위대가!H300 -> 17926 | G34: =일위대가!J300 -> 0 | H34: =E34+F34+G34 -> 20957 | I34: 호표 31
A35: 577FC14234009E85BE1A044DB2495C | B35: 바탕만들기+친환경수성페인트 롤러칠(재료비 포함) | C35: 내부, 2회 1급, 목재면 | D35: M2 | E35: =일위대가!F306 -> 881 | F35: =일위대가!H306 -> 9539 | G35: =일위대가!J306 -> 0 | H35: =E35+F35+G35 -> 10420 | I35: 호표 32
A36: 577FC1422A009BF63DB5490F09865E | B36: 바탕만들기+걸레받이용 페인트칠(재료비 포함) | C36: 붓칠 2회, G.B.면(줄퍼티), H:100 | D36: M | E36: =일위대가!F313 -> 508 | F36: =일위대가!H313 -> 3044 | G36: =일위대가!J313 -> 0 | H36: =E36+F36+G36 -> 3552 | I36: 호표 33
A37: 577FD1405000963885D295D7ECCC52 | B37: 차음시트 붙임 | C37: 벽, 2T | D37: M2 | E37: =일위대가!F319 -> 11618 | F37: =일위대가!H319 -> 7527 | G37: =일위대가!J319 -> 0 | H37: =E37+F37+G37 -> 19145 | I37: 호표 34
A38: 577E31499E00953E304D97DC965019 | B38: 경량천장철골틀 해체 | D38: M2 | E38: =일위대가!F325 -> 0 | F38: =일위대가!H325 -> 6688 | G38: =일위대가!J325 -> 133 | H38: =E38+F38+G38 -> 6821 | I38: 호표 35
A39: 577E31499E00953E304D96356DB762 | B39: 흡음텍스 해체 | C39: 해체재 재사용 | D39: M2 | E39: =일위대가!F330 -> 0 | F39: =일위대가!H330 -> 6002 | G39: =일위대가!J330 -> 0 | H39: =E39+F39+G39 -> 6002 | I39: 호표 36
A40: 577FD14062009C3C05C32141DACF30 | B40: 스텐재료분리대 철거 | C40: 설치품의 50% | D40: M | E40: =일위대가!F336 -> 0 | F40: =일위대가!H336 -> 3120 | G40: =일위대가!J336 -> 93 | H40: =E40+F40+G40 -> 3213 | I40: 호표 37
...

Sheet 일위대가
A1: [ 글로벌 교육얼라이언스 인프라 구축공사 ]
A2: 품 명 | B2: 규 격 | C2: 단위 | D2: 수량 | E2: 재 료 비 | G2: 노 무 비 | I2: 경 비 | K2: 합 계 | M2: 비 고 | N2: 일위대가 | O2: 품목코드 | P2: 일위 | Q2: 단산 | R2: 자재 | S2: 손료적용 | T2: 손료저장 | U2: 적용율 | V2: JUK1 | W2: JUK2 | X2: JUK3 | Y2: JUK4 | Z2: JUK5 | AA2: JUK6 | AB2: JUK7 | AC2: JUK8 | AD2: JUK9 | AE2: JUK10 | AF2: JUK11 | AG2: JUK12 | AH2: JUK13 | AI2: JUK14 | AJ2: JUK15 | AK2: JUK16 | AL2: JUK17 | AM2: JUK18 | AN2: JUK19 | AO2: JUK20 | AP2: 할증적용 | AQ2: 할증저장 | AR2: 할증율 | AS2: HAL1 | AT2: HAL2 | AU2: HAL3 | AV2: 자재구분 | AW2: 일위대가+자재 | AX2: 장비일위 | AY2: 설정 | AZ2: 할증체크
E3: 단 가 | F3: 금 액 | G3: 단 가 | H3: 금 액 | I3: 단 가 | J3: 금 액 | K3: 단 가 | L3: 금 액
A4: 건축물 현장정리 개보수 M2 ( 호표 1 ) | N4: 577F314002009C656E7866FC0CF37D
A5: 보통인부 | B5: 일반공사 직종 | C5: 인 | D5: 0.025 | E5: =단가대비표!O78 -> 0 | F5: =TRUNC(E5*D5,1) -> 0 | G5: =단가대비표!P78 -> 172068 | H5: =TRUNC(G5*D5,1) -> 4301.7 | I5: =단가대비표!V78 -> 0 | J5: =TRUNC(I5*D5,1) -> 0 | K5: =TRUNC(E5+G5+I5,1) -> 172068 | L5: =TRUNC(F5+H5+J5,1) -> 4301.7 | N5: 577F314002009C656E7866FC0CF37D | O5: 57A5614386009B6C7DDD92AB9F90B45D6C2A90 | P5: F | Q5: F | R5: T | AW5: 577F314002009C656E7866FC0CF37D57A5614386009B6C7DDD92AB9F90B45D6C2A90
A6: [ 합 계 ] | F6: =TRUNC(SUMIF(N5:N5, N4, F5:F5),0) -> 0 | H6: =TRUNC(SUMIF(N5:N5, N4, H5:H5),0) -> 4301 | J6: =TRUNC(SUMIF(N5:N5, N4, J5:J5),0) -> 0 | L6: =F6+H6+J6 -> 4301 | N6: TOTAL | O6: TOTAL
A8: 강관 조립말비계(이동식)설치 및 해체 높이 2m, 3개월 대 ( 호표 2 ) | N8: 577F31405A009D57E8AB46EA69AC4B
A9: 비계안정장치 | B9: 비계안정장치, 비계기본틀, 기둥, 1.2*1.7m | C9: 개 | D9: 0.14 | E9: =단가대비표!O46 -> 27739 | F9: =TRUNC(E9*D9,1) -> 3883.4 | G9: =단가대비표!P46 -> 0 | H9: =TRUNC(G9*D9,1) -> 0 | I9: =단가대비표!V46 -> 0 | J9: =TRUNC(I9*D9,1) -> 0 | K9: =TRUNC(E9+G9+I9,1) -> 27739 | L9: =TRUNC(F9+H9+J9,1) -> 3883.4 | N9: 577F31405A009D57E8AB46EA69AC4B | O9: 505C114A43009778A7237EAC1754A8878F3917 | P9: F | Q9: F | R9: T | AW9: 577F31405A009D57E8AB46EA69AC4B505C114A43009778A7237EAC1754A8878F3917
A10: 비계안정장치 | B10: 비계안정장치, 가새, 1.2*1.9m | C10: 개 | D10: 0.14 | E10: =단가대비표!O47 -> 9246 | F10: =TRUNC(E10*D10,1) -> 1294.4 | G10: =단가대비표!P47 -> 0 | H10: =TRUNC(G10*D10,1) -> 0 | I10: =단가대비표!V47 -> 0 | J10: =TRUNC(I10*D10,1) -> 0 | K10: =TRUNC(E10+G10+I10,1) -> 9246 | L10: =TRUNC(F10+H10+J10,1) -> 1294.4 | N10: 577F31405A009D57E8AB46EA69AC4B | O10: 505C114A43009778A7237EAC1754A8878F3919 | P10: F | Q10: F | R10: T | AW10: 577F31405A009D57E8AB46EA69AC4B505C114A43009778A7237EAC1754A8878F3919
A11: 비계안정장치 | B11: 비계안정장치, 수평띠장, 1829mm | C11: 개 | D11: 0.28 | E11: =단가대비표!O48 -> 25000 | F11: =TRUNC(E11*D11,1) -> 7000 | G11: =단가대비표!P48 -> 0 | H11: =TRUNC(G11*D11,1) -> 0 | I11: =단가대비표!V48 -> 0 | J11: =TRUNC(I11*D11,1) -> 0 | K11: =TRUNC(E11+G11+I11,1) -> 25000 | L11: =TRUNC(F11+H11+J11,1) -> 7000 | N11: 577F31405A009D57E8AB46EA69AC4B | O11: 505C114A43009778A7237EAC1754A8878F365E | P11: F | Q11: F | R11: T | AW11: 577F31405A009D57E8AB46EA69AC4B505C114A43009778A7237EAC1754A8878F365E
A12: 비계안정장치 | B12: 비계안정장치, 손잡이기둥 | C12: 개 | D12: 0.28 | E12: =단가대비표!O51 -> 5700 | F12: =TRUNC(E12*D12,1) -> 1596 | G12: =단가대비표!P51 -> 0 | H12: =TRUNC(G12*D12,1) -> 0 | I12: =단가대비표!V51 -> 0 | J12: =TRUNC(I12*D12,1) -> 0 | K12: =TRUNC(E12+G12+I12,1) -> 5700 | L12: =TRUNC(F12+H12+J12,1) -> 1596 | N12: 577F31405A009D57E8AB46EA69AC4B | O12: 505C114A43009778A7237EAC1754A8878F3659 | P12: F | Q12: F | R12: T | AW12: 577F31405A009D57E8AB46EA69AC4B505C114A43009778A7237EAC1754A8878F3659
A13: 비계안정장치 | B13: 비계안정장치, 손잡이, 1229mm | C13: 개 | D13: 0.14 | E13: =단가대비표!O49 -> 1440 | F13: =TRUNC(E13*D13,1) -> 201.6 | G13: =단가대비표!P49 -> 0 | H13: =TRUNC(G13*D13,1) -> 0 | I13: =단가대비표!V49 -> 0 | J13: =TRUNC(I13*D13,1) -> 0 | K13: =TRUNC(E13+G13+I13,1) -> 1440 | L13: =TRUNC(F13+H13+J13,1) -> 201.6 | N13: 577F31405A009D57E8AB46EA69AC4B | O13: 505C114A43009778A7237EAC1754A8878F365F | P13: F | Q13: F | R13: T | AW13: 577F31405A009D57E8AB46EA69AC4B505C114A43009778A7237EAC1754A8878F365F
A14: 비계안정장치 | B14: 비계안정장치, 손잡이, 1829mm | C14: 개 | D14: 0.28 | E14: =단가대비표!O50 -> 2100 | F14: =TRUNC(E14*D14,1) -> 588 | G14: =단가대비표!P50 -> 0 | H14: =TRUNC(G14*D14,1) -> 0 | I14: =단가대비표!V50 -> 0 | J14: =TRUNC(I14*D14,1) -> 0 | K14: =TRUNC(E14+G14+I14,1) -> 2100 | L14: =TRUNC(F14+H14+J14,1) -> 588 | N14: 577F31405A009D57E8AB46EA69AC4B | O14: 505C114A43009778A7237EAC1754A8878F3658 | P14: F | Q14: F | R14: T | AW14: 577F31405A009D57E8AB46EA69AC4B505C114A43009778A7237EAC1754A8878F3658
A15: 비계안정장치 | B15: 비계안정장치, 바퀴 | C15: 개 | D15: 0.36 | E15: =단가대비표!O52 -> 9500 | F15: =TRUNC(E15*D15,1) -> 3420 | G15: =단가대비표!P52 -> 0 | H15: =TRUNC(G15*D15,1) -> 0 | I15: =단가대비표!V52 -> 0 | J15: =TRUNC(I15*D15,1) -> 0 | K15: =TRUNC(E15+G15+I15,1) -> 9500 | L15: =TRUNC(F15+H15+J15,1) -> 3420 | N15: 577F31405A009D57E8AB46EA69AC4B | O15: 505C114A43009778A7237EAC1754A8878F365A | P15: F | Q15: F | R15: T | AW15: 577F31405A009D57E8AB46EA69AC4B505C114A43009778A7237EAC1754A8878F365A
A16: 비계안정장치 | B16: 비계안정장치, 쟈키 | C16: 개 | D16: 0.36 | E16: =단가대비표!O53 -> 11000 | F16: =TRUNC(E16*D16,1) -> 3960 | G16: =단가대비표!P53 -> 0 | H16: =TRUNC(G16*D16,1) -> 0 | I16: =단가대비표!V53 -> 0 | J16: =TRUNC(I16*D16,1) -> 0 | K16: =TRUNC(E16+G16+I16,1) -> 11000 | L16: =TRUNC(F16+H16+J16,1) -> 3960 | N16: 577F31405A009D57E8AB46EA69AC4B | O16: 505C114A43009778A7237EAC1754A8878F365B | P16: F | Q16: F | R16: T | AW16: 577F31405A009D57E8AB46EA69AC4B505C114A43009778A7237EAC1754A8878F365B
A17: 비계안정장치 | B17: 비계안정장치, 계단식발판, 볼록철판, 0.4×1829mm | C17: 장 | D17: 0.63 | E17: =단가대비표!O54 -> 18500 | F17: =TRUNC(E17*D17,1) -> 11655 | G17: =단가대비표!P54 -> 0 | H17: =TRUNC(G17*D17,1) -> 0 | I17: =단가대비표!V54 -> 0 | J17: =TRUNC(I17*D17,1) -> 0 | K17: =TRUNC(E17+G17+I17,1) -> 18500 | L17: =TRUNC(F17+H17+J17,1) -> 11655 | N17: 577F31405A009D57E8AB46EA69AC4B | O17: 505C114A43009778A7237EAC15ABB1D5F1C86C | P17: F | Q17: F | R17: T | AW17: 577F31405A009D57E8AB46EA69AC4B505C114A43009778A7237EAC15ABB1D5F1C86C
A18: 강관 조립말비계(이동식)설치 및 해체 | B18: 높이 2m, 노무비 | C18: 대 | D18: 1 | E18: =일위대가목록!E44 -> 0 | F18: =TRUNC(E18*D18,1) -> 0 | G18: =일위대가목록!F44 -> 94574 | H18: =TRUNC(G18*D18,1) -> 94574 | I18: =일위대가목록!G44 -> 0 | J18: =TRUNC(I18*D18,1) -> 0 | K18: =TRUNC(E18+G18+I18,1) -> 94574 | L18: =TRUNC(F18+H18+J18,1) -> 94574 | N18: 577F31405A009D57E8AB46EA69AC4B | O18: 577F31405A009D57E8AB46EB709E02 | P18: T | Q18: F | R18: F | AW18: 577F31405A009D57E8AB46EA69AC4B577F31405A009D57E8AB46EB709E02
A19: [ 합 계 ] | F19: =TRUNC(SUMIF(N9:N18, N8, F9:F18),0) -> 33598 | H19: =TRUNC(SUMIF(N9:N18, N8, H9:H18),0) -> 94574 | J19: =TRUNC(SUMIF(N9:N18, N8, J9:J18),0) -> 0 | L19: =F19+H19+J19 -> 128172 | N19: TOTAL | O19: TOTAL
A21: 건축물보양 보양지 붙이기 M2 ( 호표 3 ) | N21: 577F314002009F371D57A82F0F1094
A22: 공통자재 | B22: 하드롱지 | C22: M2 | D22: 1.2 | E22: =단가대비표!O8 -> 479 | F22: =TRUNC(E22*D22,1) -> 574.8 | G22: =단가대비표!P8 -> 0 | H22: =TRUNC(G22*D22,1) -> 0 | I22: =단가대비표!V8 -> 0 | J22: =TRUNC(I22*D22,1) -> 0 | K22: =TRUNC(E22+G22+I22,1) -> 479 | L22: =TRUNC(F22+H22+J22,1) -> 574.8 | N22: 577F314002009F371D57A82F0F1094 | O22: 5043E148E9009C9BFE717E349597E5D17D855E | P22: F | Q22: F | R22: T | AW22: 577F314002009F371D57A82F0F10945043E148E9009C9BFE717E349597E5D17D855E
A23: 합성풀 | B23: 합성풀, 건설용 | C23: kg | D23: 0.06 | E23: =단가대비표!O61 -> 0 | F23: =TRUNC(E23*D23,1) -> 0 | G23: =단가대비표!P61 -> 0 | H23: =TRUNC(G23*D23,1) -> 0 | I23: =단가대비표!V61 -> 0 | J23: =TRUNC(I23*D23,1) -> 0 | K23: =TRUNC(E23+G23+I23,1) -> 0 | L23: =TRUNC(F23+H23+J23,1) -> 0 | N23: 577F314002009F371D57A82F0F1094 | O23: 505C0149C20095C67D140B78247AFDE14AF04A | P23: F | Q23: F | R23: T | AW23: 577F314002009F371D57A82F0F1094505C0149C20095C67D140B78247AFDE14AF04A
A24: 보통인부 | B24: 일반공사 직종 | C24: 인 | D24: 0.01 | E24: =단가대비표!O78 -> 0 | F24: =TRUNC(E24*D24,1) -> 0 | G24: =단가대비표!P78 -> 172068 | H24: =TRUNC(G24*D24,1) -> 1720.6 | I24: =단가대비표!V78 -> 0 | J24: =TRUNC(I24*D24,1) -> 0 | K24: =TRUNC(E24+G24+I24,1) -> 172068 | L24: =TRUNC(F24+H24+J24,1) -> 1720.6 | N24: 577F314002009F371D57A82F0F1094 | O24: 57A5614386009B6C7DDD92AB9F90B45D6C2A90 | P24: F | Q24: F | R24: T | AW24: 577F314002009F371D57A82F0F109457A5614386009B6C7DDD92AB9F90B45D6C2A90
A25: [ 합 계 ] | F25: =TRUNC(SUMIF(N22:N24, N21, F22:F24),0) -> 574 | H25: =TRUNC(SUMIF(N22:N24, N21, H22:H24),0) -> 1720 | J25: =TRUNC(SUMIF(N22:N24, N21, J22:J24),0) -> 0 | L25: =F25+H25+J25 -> 2294 | N25: TOTAL | O25: TOTAL
A27: 준공청소 M2 ( 호표 4 ) | N27: 577F3140020099AED3F3EB6611D158
A28: 보통인부 | B28: 일반공사 직종 | C28: 인 | D28: 0.02 | E28: =단가대비표!O78 -> 0 | F28: =TRUNC(E28*D28,1) -> 0 | G28: =단가대비표!P78 -> 172068 | H28: =TRUNC(G28*D28,1) -> 3441.3 | I28: =단가대비표!V78 -> 0 | J28: =TRUNC(I28*D28,1) -> 0 | K28: =TRUNC(E28+G28+I28,1) -> 172068 | L28: =TRUNC(F28+H28+J28,1) -> 3441.3 | N28: 577F3140020099AED3F3EB6611D158 | O28: 57A5614386009B6C7DDD92AB9F90B45D6C2A90 | P28: F | Q28: F | R28: T | AW28: 577F3140020099AED3F3EB6611D15857A5614386009B6C7DDD92AB9F90B45D6C2A90
A29: [ 합 계 ] | F29: =TRUNC(SUMIF(N28:N28, N27, F28:F28),0) -> 0 | H29: =TRUNC(SUMIF(N28:N28, N27, H28:H28),0) -> 3441 | J29: =TRUNC(SUMIF(N28:N28, N27, J28:J28),0) -> 0 | L29: =F29+H29+J29 -> 3441 | N29: TOTAL | O29: TOTAL
A31: 경량천장철골틀 설치 M-BAR H:1m이하,인서트무 M2 ( 호표 5 ) | N31: 577F8148C2009BD0098209C268119B
A32: 경량철골천장틀 | B32: 경량철골천장틀, 달대볼트, 상6*500mm | C32: 개 | D32: 1.362 | E32: =단가대비표!O23 -> 270 | F32: =TRUNC(E32*D32,1) -> 367.7 | G32: =단가대비표!P23 -> 0 | H32: =TRUNC(G32*D32,1) -> 0 | I32: =단가대비표!V23 -> 0 | J32: =TRUNC(I32*D32,1) -> 0 | K32: =TRUNC(E32+G32+I32,1) -> 270 | L32: =TRUNC(F32+H32+J32,1) -> 367.7 | N32: 577F8148C2009BD0098209C268119B | O32: 505C114A430098012657C0FA7A73679825FA9D | P32: F | Q32: F | R32: T | AW32: 577F8148C2009BD0098209C268119B505C114A430098012657C0FA7A73679825FA9D
A33: 경량철골천장틀 | B33: 경량철골천장틀, 캐링찬넬, 38*12*1.2mm | C33: M | D33: 1.222 | E33: =단가대비표!O24 -> 1290 | F33: =TRUNC(E33*D33,1) -> 1576.3 | G33: =단가대비표!P24 -> 0 | H33: =TRUNC(G33*D33,1) -> 0 | I33: =단가대비표!V24 -> 0 | J33: =TRUNC(I33*D33,1) -> 0 | K33: =TRUNC(E33+G33+I33,1) -> 1290 | L33: =TRUNC(F33+H33+J33,1) -> 1576.3 | N33: 577F8148C2009BD0098209C268119B | O33: 505C114A430098012657C0FA7A73679825F9F5 | P33: F | Q33: F | R33: T | AW33: 577F8148C2009BD0098209C268119B505C114A430098012657C0FA7A73679825F9F5
A34: 경량철골천장틀 | B34: 경량철골천장틀, 마이너찬넬, 19*10*1.2mm | C34: M | D34: 0.525 | E34: =단가대비표!O25 -> 800 | F34: =TRUNC(E34*D34,1) -> 420 | G34: =단가대비표!P25 -> 0 | H34: =TRUNC(G34*D34,1) -> 0 | I34: =단가대비표!V25 -> 0 | J34: =TRUNC(I34*D34,1) -> 0 | K34: =TRUNC(E34+G34+I34,1) -> 800 | L34: =TRUNC(F34+H34+J34,1) -> 420 | N34: 577F8148C2009BD0098209C268119B | O34: 505C114A430098012657C0FA7A73679825F9F4 | P34: F | Q34: F | R34: T | AW34: 577F8148C2009BD0098209C268119B505C114A430098012657C0FA7A73679825F9F4
A35: 경량철골천장틀 | B35: 경량철골천장틀, 행가및핀, 110*23*18*2.3mm | C35: 조 | D35: 1.362 | E35: =단가대비표!O26 -> 310 | F35: =TRUNC(E35*D35,1) -> 422.2 | G35: =단가대비표!P26 -> 0 | H35: =TRUNC(G35*D35,1) -> 0 | I35: =단가대비표!V26 -> 0 | J35: =TRUNC(I35*D35,1) -> 0 | K35: =TRUNC(E35+G35+I35,1) -> 310 | L35: =TRUNC(F35+H35+J35,1) -> 422.2 | N35: 577F8148C2009BD0098209C268119B | O35: 505C114A430098012657C0FA7A73679825F9F7 | P35: F | Q35: F | R35: T | AW35: 577F8148C2009BD0098209C268119B505C114A430098012657C0FA7A73679825F9F7
A36: 경량철골천장틀 | B36: 경량철골천장틀, 찬넬크립, 37*30*10*1.2mm | C36: 조 | D36: 0.584 | E36: =단가대비표!O27 -> 111 | F36: =TRUNC(E36*D36,1) -> 64.8 | G36: =단가대비표!P27 -> 0 | H36: =TRUNC(G36*D36,1) -> 0 | I36: =단가대비표!V27 -> 0 | J36: =TRUNC(I36*D36,1) -> 0 | K36: =TRUNC(E36+G36+I36,1) -> 111 | L36: =TRUNC(F36+H36+J36,1) -> 64.8 | N36: 577F8148C2009BD0098209C268119B | O36: 505C114A430098012657C0FA7A73679825F9F6 | P36: F | Q36: F | R36: T | AW36: 577F8148C2009BD0098209C268119B505C114A430098012657C0FA7A73679825F9F6
A37: 경량철골천장틀 | B37: 경량철골천장틀, 캐링조인트, 90*40*13*0.5mm | C37: 조 | D37: 0.195 | E37: =단가대비표!O28 -> 107 | F37: =TRUNC(E37*D37,1) -> 20.8 | G37: =단가대비표!P28 -> 0 | H37: =TRUNC(G37*D37,1) -> 0 | I37: =단가대비표!V28 -> 0 | J37: =TRUNC(I37*D37,1) -> 0 | K37: =TRUNC(E37+G37+I37,1) -> 107 | L37: =TRUNC(F37+H37+J37,1) -> 20.8 | N37: 577F8148C2009BD0098209C268119B | O37: 505C114A430098012657C0FA7A73679825F9F1 | P37: F | Q37: F | R37: T | AW37: 577F8148C2009BD0098209C268119B505C114A430098012657C0FA7A73679825F9F1
A38: 경량철골천장틀 | B38: 경량철골천장틀, M-BAR더블, 50*19*0.5mm | C38: M | D38: 3.675 | E38: =단가대비표!O22 -> 1550 | F38: =TRUNC(E38*D38,1) -> 5696.2 | G38: =단가대비표!P22 -> 0 | H38: =TRUNC(G38*D38,1) -> 0 | I38: =단가대비표!V22 -> 0 | J38: =TRUNC(I38*D38,1) -> 0 | K38: =TRUNC(E38+G38+I38,1) -> 1550 | L38: =TRUNC(F38+H38+J38,1) -> 5696.2 | N38: 577F8148C2009BD0098209C268119B | O38: 505C114A430098012657C0FA7A73679825FD6B | P38: F | Q38: F | R38: T | AW38: 577F8148C2009BD0098209C268119B505C114A430098012657C0FA7A73679825FD6B
A39: 경량철골천장틀 | B39: 경량철골천장틀, BAR크립, 더블 | C39: 개 | D39: 4.084 | E39: =단가대비표!O29 -> 60 | F39: =TRUNC(E39*D39,1) -> 245 | G39: =단가대비표!P29 -> 0 | H39: =TRUNC(G39*D39,1) -> 0 | I39: =단가대비표!V29 -> 0 | J39: =TRUNC(I39*D39,1) -> 0 | K39: =TRUNC(E39+G39+I39,1) -> 60 | L39: =TRUNC(F39+H39+J39,1) -> 245 | N39: 577F8148C2009BD0098209C268119B | O39: 505C114A430098012657C0FA7A73679825F9F0 | P39: F | Q39: F | R39: T | AW39: 577F8148C2009BD0098209C268119B505C114A430098012657C0FA7A73679825F9F0
A40: 경량철골천장틀 | B40: 경량철골천장틀, BAR조인트, 더블 | C40: 개 | D40: 0.584 | E40: =단가대비표!O30 -> 80 | F40: =TRUNC(E40*D40,1) -> 46.7 | G40: =단가대비표!P30 -> 0 | H40: =TRUNC(G40*D40,1) -> 0 | I40: =단가대비표!V30 -> 0 | J40: =TRUNC(I40*D40,1) -> 0 | K40: =TRUNC(E40+G40+I40,1) -> 80 | L40: =TRUNC(F40+H40+J40,1) -> 46.7 | N40: 577F8148C2009BD0098209C268119B | O40: 505C114A430098012657C0FA7A73679825F9F2 | P40: F | Q40: F | R40: T | AW40: 577F8148C2009BD0098209C268119B505C114A430098012657C0FA7A73679825F9F2
A41: 경량철골천장틀 | B41: 경량철골천장틀, 피스, 3×16mm | C41: 개 | D41: 42.33 | E41: =단가대비표!O32 -> 4.7 | F41: =TRUNC(E41*D41,1) -> 198.9 | G41: =단가대비표!P32 -> 0 | H41: =TRUNC(G41*D41,1) -> 0 | I41: =단가대비표!V32 -> 0 | J41: =TRUNC(I41*D41,1) -> 0 | K41: =TRUNC(E41+G41+I41,1) -> 4.7 | L41: =TRUNC(F41+H41+J41,1) -> 198.9 | M41: 십자작은나사 철판용 | N41: 577F8148C2009BD0098209C268119B | O41: 505C114A430098012657C0FA7A73679825F621 | P41: F | Q41: F | R41: T | AW41: 577F8148C2009BD0098209C268119B505C114A430098012657C0FA7A73679825F621
A42: 경량천장철골틀 설치 | B42: BAR 간격 300mm | C42: M2 | D42: 1 | E42: =일위대가목록!E45 -> 0 | F42: =TRUNC(E42*D42,1) -> 0 | G42: =일위대가목록!F45 -> 11402 | H42: =TRUNC(G42*D42,1) -> 11402 | I42: =일위대가목록!G45 -> 684 | J42: =TRUNC(I42*D42,1) -> 684 | K42: =TRUNC(E42+G42+I42,1) -> 12086 | L42: =TRUNC(F42+H42+J42,1) -> 12086 | M42: 호표 128 | N42: 577F8148C2009BD0098209C268119B | O42: 577F8148C2009BD0098209C268119E | P42: T | Q42: F | R42: F | AW42: 577F8148C2009BD0098209C268119B577F8148C2009BD0098209C268119E
A43: [ 합 계 ] | F43: =TRUNC(SUMIF(N32:N42, N31, F32:F42),0) -> 9058 | H43: =TRUNC(SUMIF(N32:N42, N31, H32:H42),0) -> 11402 | J43: =TRUNC(SUMIF(N32:N42, N31, J32:J42),0) -> 684 | L43: =F43+H43+J43 -> 21144 | N43: TOTAL | O43: TOTAL
A45: 천정텍스 설치 300*600*9.5T, 석고계텍스 M2 ( 호표 6 ) | N45: 577FD14046009054615EA4A2825D9D
...

Sheet 단가대비표
A1: 단 가 대 비 표
A2: [ 글로벌 교육얼라이언스 인프라 구축공사 ]
A3: 코 드 | B3: 품 명 | C3: 규격 | D3: 단위 | E3: 재 료 비 | P3: 노 무 비 | Q3: 경 비 | W3: 번 호 | X3: 비 고 | Y3: 품목구분 | Z3: 노임구분 | AA3: 소수점처리 | AB3: 자재구분
E4: 가격정보 | F4: PAGE | G4: 거래가격 | H4: PAGE | I4: 유통물가 | J4: PAGE | K4: 물가정보 | L4: PAGE | M4: 조사가격 | N4: PAGE | O4: 적용단가 | Q4: 가격정보 | R4: 거래가격 | S4: 유통물가 | T4: 물가정보 | U4: 조사가격 | V4: 적용단가
A5: 5078F1438F00924C4B9DE4E0B4FB484828830D | B5: 보통합판 | C5: 보통합판, 1급, 12*1220*2440mm | D5: M2 | E5: 10984 | G5: 11421.66 | H5: 667 | I5: 11320.88 | J5: 407 | K5: 0 | M5: 0 | O5: =SMALL(E5:M5,COUNTIF(E5:M5,0)+1) -> 10984 | P5: 0 | Q5: 0 | R5: 0 | S5: 0 | T5: 0 | U5: 0 | V5: 0 | W5: 자재 1
A6: 5078F1438F00924C4B9DE6928BAB4D7794E4D3 | B6: 중밀도섬유판 | C6: 중밀도섬유판, 9.0*1220*2440mm | D6: M2 | E6: 4232 | G6: 5442.08 | H6: 668 | I6: 4837.4 | J6: 409 | K6: 0 | M6: 0 | O6: =SMALL(E6:M6,COUNTIF(E6:M6,0)+1) -> 4232 | P6: 0 | Q6: 0 | R6: 0 | S6: 0 | T6: 0 | U6: 0 | V6: 0 | W6: 자재 2
A7: 5078F1438F0099FC4632D6427029DCBCB9711F | B7: 철강설 | C7: 철강설, 고철, 작업설부산물 | D7: kg | E7: 251 | G7: 430 | H7: 1472 | I7: 448 | J7: 1198 | K7: 0 | M7: 0 | O7: =SMALL(E7:M7,COUNTIF(E7:M7,0)+1) -> 251 | P7: 0 | Q7: 0 | R7: 0 | S7: 0 | T7: 0 | U7: 0 | V7: 0 | W7: 자재 3 | X7: 수집상차도
A8: 5043E148E9009C9BFE717E349597E5D17D855E | B8: 공통자재 | C8: 하드롱지 | D8: M2 | E8: 479 | G8: 0 | I8: 0 | K8: 0 | M8: 0 | O8: =SMALL(E8:M8,COUNTIF(E8:M8,0)+1) -> 479 | P8: 0 | Q8: 0 | R8: 0 | S8: 0 | T8: 0 | U8: 0 | V8: 0 | W8: 자재 4
A9: 505C114A43009EA9386EF786232B7C322664D9 | B9: ㄱ형강 | C9: ㄱ형강, 등변, 40*40*5mm | D9: kg | E9: 940 | G9: 1110 | H9: 55 | I9: 1130 | J9: 21 | K9: 0 | M9: 0 | O9: =SMALL(E9:M9,COUNTIF(E9:M9,0)+1) -> 940 | P9: 0 | Q9: 0 | R9: 0 | S9: 0 | T9: 0 | U9: 0 | V9: 0 | W9: 자재 5
A10: 505C114A43009EA9386EF786232B7C322664D7 | B10: ㄱ형강 | C10: ㄱ형강, 등변, 50*50*4mm | D10: kg | E10: 940 | G10: 1110 | H10: 55 | I10: 1130 | J10: 21 | K10: 0 | M10: 0 | O10: =SMALL(E10:M10,COUNTIF(E10:M10,0)+1) -> 940 | P10: 0 | Q10: 0 | R10: 0 | S10: 0 | T10: 0 | U10: 0 | V10: 0 | W10: 자재 6
A11: 505C114A43009EA93B2345663E2B0165710A15 | B11: 일반봉강 | C11: 일반봉강, SS400, ∮9mm | D11: kg | E11: 0 | G11: 950 | H11: 50 | I11: 0 | K11: 0 | M11: 0 | O11: =SMALL(E11:M11,COUNTIF(E11:M11,0)+1) -> 950 | P11: 0 | Q11: 0 | R11: 0 | S11: 0 | T11: 0 | U11: 0 | V11: 0 | W11: 자재 7
A12: 505C114A43009EAAC62FD72CF193BA10AB6945 | B12: 스테인리스강판(칼라) | C12: Mirror 1.2t | D12: M2 | E12: 65800 | F12: 34 | G12: 67800 | H12: 74 | I12: 65400 | J12: 37 | K12: 0 | M12: 0 | O12: =SMALL(E12:M12,COUNTIF(E12:M12,0)+1) -> 65400 | P12: 0 | Q12: 0 | R12: 0 | S12: 0 | T12: 0 | U12: 0 | V12: 0 | W12: 자재 8
A13: 505C114A43009EABEC1B8705AC9138A90EC3A4 | B13: 각재 | C13: 각재, 미송 | D13: 재 | E13: 2358 | G13: 2700 | H13: 147 | I13: 2358 | J13: 73 | K13: 0 | M13: 0 | O13: =SMALL(E13:M13,COUNTIF(E13:M13,0)+1) -> 2358 | P13: 0 | Q13: 0 | R13: 0 | S13: 0 | T13: 0 | U13: 0 | V13: 0 | W13: 자재 9
A14: 505C114A43009ACCBA22B15F74B00088F58ED7 | B14: 섬유단열재 | C14: 섬유단열재, 밀도24kg/㎥, 50mm, 유리면크린매트 | D14: M2 | E14: 4520 | F14: 648 | G14: 4660 | H14: 698 | I14: 4520 | J14: 391 | K14: 0 | M14: 0 | O14: =SMALL(E14:M14,COUNTIF(E14:M14,0)+1) -> 4520 | P14: 0 | Q14: 0 | R14: 0 | S14: 0 | T14: 0 | U14: 0 | V14: 0 | W14: 자재 10
A15: 505C114A43009ACCBA235B9E8D0FE2054402B5 | B15: 발포우레탄 | D15: KG | E15: 0 | G15: 0 | I15: 0 | K15: 0 | M15: 18000 | N15: 물가자료88 | O15: =SMALL(E15:M15,COUNTIF(E15:M15,0)+1) -> 18000 | P15: 0 | Q15: 0 | R15: 0 | S15: 0 | T15: 0 | U15: 0 | V15: 0 | W15: 자재 11
A16: 505C114A4300980125B05FC65DADB403D5C533 | B16: 아트보드 | C16: 220K, 1200×2400×9T, 방염 | D16: M2 | E16: 0 | G16: 0 | I16: 23900 | J16: 828 | K16: 0 | M16: 0 | O16: =SMALL(E16:M16,COUNTIF(E16:M16,0)+1) -> 23900 | P16: 0 | Q16: 0 | R16: 0 | S16: 0 | T16: 0 | U16: 0 | V16: 0 | W16: 자재 12
A17: 505C114A4300980125B05FC65DADB403D5C532 | B17: 인테리어필름 | C17: 0.42×1220mm CW(방염마이우드), 시공비포함 | D17: M2 | E17: 0 | G17: 0 | I17: 30000 | J17: 413(2604) | K17: 0 | M17: 30000 | N17: 물가자료685(260 | O17: =SMALL(E17:M17,COUNTIF(E17:M17,0)+1) -> 30000 | P17: 0 | Q17: 0 | R17: 0 | S17: 0 | T17: 0 | U17: 0 | V17: 0 | W17: 자재 13
A18: 505C114A4300980125B05FC65DADB403D5C42E | B18: 차음시트 | C18: 2T | D18: M2 | E18: 0 | G18: 0 | I18: 10000 | J18: 828 | K18: 10000 | L18: 1160 | M18: 0 | O18: =SMALL(E18:M18,COUNTIF(E18:M18,0)+1) -> 10000 | P18: 0 | Q18: 0 | R18: 0 | S18: 0 | T18: 0 | U18: 0 | V18: 0 | W18: 자재 14
A19: 505C114A4300980125B0531221A1D00A37C561 | B19: 석고보드 | C19: 석고보드, 평보드, 9.5*900*1800mm(㎡) | D19: M2 | E19: 2962 | G19: 2962.96 | H19: 671 | I19: 3177.77 | J19: 408 | K19: 0 | M19: 0 | O19: =SMALL(E19:M19,COUNTIF(E19:M19,0)+1) -> 2962 | P19: 0 | Q19: 0 | R19: 0 | S19: 0 | T19: 0 | U19: 0 | V19: 0 | W19: 자재 15
A20: 505C114A4300980125B053111C7F5973CC4858 | B20: 석고보드 | C20: 차음석고보드, 12.5T×900×1800㎜ | D20: M2 | E20: 4632 | G20: 0 | I20: 0 | K20: 0 | M20: 0 | O20: =SMALL(E20:M20,COUNTIF(E20:M20,0)+1) -> 4632 | P20: 0 | Q20: 0 | R20: 0 | S20: 0 | T20: 0 | U20: 0 | V20: 0 | W20: 자재 16
A21: 505C114A430098012657C602615ED1789DDF7A | B21: 불연천장재 | C21: 불연천장재, 석고텍스, 9mm | D21: M2 | E21: 0 | G21: 8400 | H21: 675 | I21: 0 | K21: 0 | M21: 0 | O21: =SMALL(E21:M21,COUNTIF(E21:M21,0)+1) -> 8400 | P21: 0 | Q21: 0 | R21: 0 | S21: 0 | T21: 0 | U21: 0 | V21: 0 | W21: 자재 17
A22: 505C114A430098012657C0FA7A73679825FD6B | B22: 경량철골천장틀 | C22: 경량철골천장틀, M-BAR더블, 50*19*0.5mm | D22: M | E22: 0 | G22: 0 | I22: 1550 | J22: 420 | K22: 0 | M22: 0 | O22: =SMALL(E22:M22,COUNTIF(E22:M22,0)+1) -> 1550 | P22: 0 | Q22: 0 | R22: 0 | S22: 0 | T22: 0 | U22: 0 | V22: 0 | W22: 자재 18
A23: 505C114A430098012657C0FA7A73679825FA9D | B23: 경량철골천장틀 | C23: 경량철골천장틀, 달대볼트, 상6*500mm | D23: 개 | E23: 0 | G23: 270 | H23: 90 | I23: 0 | K23: 0 | M23: 0 | O23: =SMALL(E23:M23,COUNTIF(E23:M23,0)+1) -> 270 | P23: 0 | Q23: 0 | R23: 0 | S23: 0 | T23: 0 | U23: 0 | V23: 0 | W23: 자재 19
A24: 505C114A430098012657C0FA7A73679825F9F5 | B24: 경량철골천장틀 | C24: 경량철골천장틀, 캐링찬넬, 38*12*1.2mm | D24: M | E24: 0 | G24: 0 | I24: 1290 | J24: 420 | K24: 0 | M24: 0 | O24: =SMALL(E24:M24,COUNTIF(E24:M24,0)+1) -> 1290 | P24: 0 | Q24: 0 | R24: 0 | S24: 0 | T24: 0 | U24: 0 | V24: 0 | W24: 자재 20
A25: 505C114A430098012657C0FA7A73679825F9F4 | B25: 경량철골천장틀 | C25: 경량철골천장틀, 마이너찬넬, 19*10*1.2mm | D25: M | E25: 0 | G25: 0 | I25: 800 | J25: 420 | K25: 0 | M25: 0 | O25: =SMALL(E25:M25,COUNTIF(E25:M25,0)+1) -> 800 | P25: 0 | Q25: 0 | R25: 0 | S25: 0 | T25: 0 | U25: 0 | V25: 0 | W25: 자재 21
A26: 505C114A430098012657C0FA7A73679825F9F7 | B26: 경량철골천장틀 | C26: 경량철골천장틀, 행가및핀, 110*23*18*2.3mm | D26: 조 | E26: 0 | G26: 310 | H26: 673(2605) | I26: 310 | J26: 420(2604) | K26: 310 | L26: 641(2603) | M26: 0 | O26: =SMALL(E26:M26,COUNTIF(E26:M26,0)+1) -> 310 | P26: 0 | Q26: 0 | R26: 0 | S26: 0 | T26: 0 | U26: 0 | V26: 0 | W26: 자재 22
A27: 505C114A430098012657C0FA7A73679825F9F6 | B27: 경량철골천장틀 | C27: 경량철골천장틀, 찬넬크립, 37*30*10*1.2mm | D27: 조 | E27: 0 | G27: 0 | I27: 0 | K27: 0 | M27: 111 | O27: =SMALL(E27:M27,COUNTIF(E27:M27,0)+1) -> 111 | P27: 0 | Q27: 0 | R27: 0 | S27: 0 | T27: 0 | U27: 0 | V27: 0 | W27: 자재 23
A28: 505C114A430098012657C0FA7A73679825F9F1 | B28: 경량철골천장틀 | C28: 경량철골천장틀, 캐링조인트, 90*40*13*0.5mm | D28: 조 | E28: 0 | G28: 0 | I28: 0 | K28: 0 | M28: 107 | O28: =SMALL(E28:M28,COUNTIF(E28:M28,0)+1) -> 107 | P28: 0 | Q28: 0 | R28: 0 | S28: 0 | T28: 0 | U28: 0 | V28: 0 | W28: 자재 24
A29: 505C114A430098012657C0FA7A73679825F9F0 | B29: 경량철골천장틀 | C29: 경량철골천장틀, BAR크립, 더블 | D29: 개 | E29: 0 | G29: 0 | I29: 0 | K29: 0 | M29: 60 | O29: =SMALL(E29:M29,COUNTIF(E29:M29,0)+1) -> 60 | P29: 0 | Q29: 0 | R29: 0 | S29: 0 | T29: 0 | U29: 0 | V29: 0 | W29: 자재 25
A30: 505C114A430098012657C0FA7A73679825F9F2 | B30: 경량철골천장틀 | C30: 경량철골천장틀, BAR조인트, 더블 | D30: 개 | E30: 0 | G30: 0 | I30: 0 | K30: 0 | M30: 80 | O30: =SMALL(E30:M30,COUNTIF(E30:M30,0)+1) -> 80 | P30: 0 | Q30: 0 | R30: 0 | S30: 0 | T30: 0 | U30: 0 | V30: 0 | W30: 자재 26
A31: 505C114A430098012657C0FA7A73679825F7C6 | B31: 경량철골천장틀 | C31: 경량철골천장틀, 몰딩(알루미늄), L형, 19*19*1.0mm | D31: M | E31: 0 | G31: 1900 | H31: 673 | I31: 1900 | J31: 420 | K31: 1900 | L31: 641 | M31: 0 | O31: =SMALL(E31:M31,COUNTIF(E31:M31,0)+1) -> 1900 | P31: 0 | Q31: 0 | R31: 0 | S31: 0 | T31: 0 | U31: 0 | V31: 0 | W31: 자재 27
A32: 505C114A430098012657C0FA7A73679825F621 | B32: 경량철골천장틀 | C32: 경량철골천장틀, 피스, 3×16mm | D32: 개 | E32: 0 | G32: 5.7 | H32: 90 | I32: 0 | K32: 4.7 | L32: 99 | M32: 0 | O32: =SMALL(E32:M32,COUNTIF(E32:M32,0)+1) -> 4.7 | P32: 0 | Q32: 0 | R32: 0 | S32: 0 | T32: 0 | U32: 0 | V32: 0 | W32: 자재 28 | X32: 십자작은나사 철판용
A33: 505C114A430098012657C0FA7A73679824D918 | B33: STUD-SPACER | C33: SP-65,75 | D33: 개 | E33: 0 | G33: 0 | I33: 0 | K33: 0 | M33: 200 | O33: =SMALL(E33:M33,COUNTIF(E33:M33,0)+1) -> 200 | P33: 0 | Q33: 0 | R33: 0 | S33: 0 | T33: 0 | U33: 0 | V33: 0 | W33: 자재 29
A34: 505C114A430098012657C0FA7A73679824D919 | B34: CORNER BEAD | C34: 40*40*0.5t | D34: M | E34: 0 | G34: 0 | I34: 0 | K34: 0 | M34: 1400 | O34: =SMALL(E34:M34,COUNTIF(E34:M34,0)+1) -> 1400 | P34: 0 | Q34: 0 | R34: 0 | S34: 0 | T34: 0 | U34: 0 | V34: 0 | W34: 자재 30
A35: 505C114A430098012657C0FA7A73679824D876 | B35: METAL C-STUD | C35: ㉿ 0.8T, 100*45 | D35: M | E35: 0 | G35: 3930 | H35: 673 | I35: 3930 | J35: 420 | K35: 3930 | L35: 641 | M35: 0 | O35: =SMALL(E35:M35,COUNTIF(E35:M35,0)+1) -> 3930 | P35: 0 | Q35: 0 | R35: 0 | S35: 0 | T35: 0 | U35: 0 | V35: 0 | W35: 자재 31
A36: 505C114A430098012657C0FA7A73679824DA22 | B36: METAL C-RUNNER | C36: ㉿ 0.8T, 102*40 | D36: M | E36: 0 | G36: 3340 | H36: 673 | I36: 3340 | J36: 420 | K36: 3340 | L36: 641 | M36: 0 | O36: =SMALL(E36:M36,COUNTIF(E36:M36,0)+1) -> 3340 | P36: 0 | Q36: 0 | R36: 0 | S36: 0 | T36: 0 | U36: 0 | V36: 0 | W36: 자재 32
A37: 505C114A430098012657C0FA7A73679824DCE9 | B37: 힐티앵커 | C37: NK-27 | D37: 개 | E37: 0 | G37: 0 | I37: 0 | K37: 0 | M37: 275 | O37: =SMALL(E37:M37,COUNTIF(E37:M37,0)+1) -> 275 | P37: 0 | Q37: 0 | R37: 0 | S37: 0 | T37: 0 | U37: 0 | V37: 0 | W37: 자재 33
A38: 505C114A430098012657C0FA7A73679824DCE6 | B38: Metal Screw | C38: D4.2*13 | D38: 개 | E38: 0 | G38: 0 | I38: 0 | K38: 0 | M38: 7 | O38: =SMALL(E38:M38,COUNTIF(E38:M38,0)+1) -> 7 | P38: 0 | Q38: 0 | R38: 0 | S38: 0 | T38: 0 | U38: 0 | V38: 0 | W38: 자재 34
A39: 505C114A430098012657C0FA7A73679824DCE7 | B39: 집성스큐류 | C39: D4*32 | D39: 개 | E39: 0 | G39: 0 | I39: 0 | K39: 0 | M39: 10 | O39: =SMALL(E39:M39,COUNTIF(E39:M39,0)+1) -> 10 | P39: 0 | Q39: 0 | R39: 0 | S39: 0 | T39: 0 | U39: 0 | V39: 0 | W39: 자재 35
A40: 505C114A430098012657C0FA7A73679824DFA3 | B40: 집성스큐류 | C40: D4*44 | D40: 개 | E40: 0 | G40: 0 | I40: 0 | K40: 0 | M40: 3 | O40: =SMALL(E40:M40,COUNTIF(E40:M40,0)+1) -> 3 | P40: 0 | Q40: 0 | R40: 0 | S40: 0 | T40: 0 | U40: 0 | V40: 0 | W40: 자재 36
...

Sheet  공사설정 
A1: 이 Sheet는 수정하지 마십시요
A2: 공사구분 | B2: A | C2: 타이틀
A3: 확정내역 | B3: 원내역
A4: 자재단가적용 | B4: 5
A5: 경비단가적용 | B5: 5
A6: 품목코드형식 | B6: XXXX-XXXX-XXXXXXXXX
A7: 내역금액소수점처리 | B7: C | C7: T
A8: 일위대가내역소수점처리 | B8: C | C8: 2
A9: 단가명 | B9: 가격정보 | C9: 거래가격 | D9: 유통물가 | E9: 물가정보 | F9: 조사가격 | G9: TTTTT
A10: 환율 | B10: 1472 | C10: 0 | D10: 0
A11: 시간당작업량 | B11: R | C11: 4
A12: 1회 사이클시간 | B12: R | C12: 4
A13: 시간당 작업사이클 | B13: R | C13: 3
A14: 일반변수 | B14: R | C14: 5
A15: 시간당 노임산출 계수 | B15: A | C15: 1/8*16/12*25/20 | D15: 1/8*16/12*25/20 | E15: 1/8*16/12*25/20 | F15: 1
A16: 재료비 할증 계수 | B16: 1.11 | C16: 1.12
A17: 노무비 할증 계수 | B17: 1 | C17: 1.5 | D17: 1.16 | E17: 1.6 | F17: 1.6 | G17: 1.6 | H17: 1.94 | I17: 1.94 | J17: 1.94 | K17: 1 | L17: 1 | M17: 1
A18: 경비 할증 계수 | B18: 1.25 | C18: 1.071
A19: 내역,일위대가 품명,규격,단위 따로적용
A20: 내역단가 소수점처리 | B20: C | C20: 1
A21: 코드 | B21: 공종구분명 | C21: 원가비목코드
A22: 1 | B22: 작 업 부 산 물 | C22: A3
A23: 2 | B23: 운 반 비 | C23: C1
A24: 3 | B24: 관 급 자 재 비 | C24: DJ
A25: 4 | B25: 사 급 자 재 비 | C25: D3
A26: 5 | B26: 외 자 재
A27: 6 | B27: 폐 기 물 처 리 비 | C27: D4
A28: 7 | B28: ...
A29: 8 | B29: ...
A30: 9 | B30: ...
A31: A | B31: ....
A32: B | B32: .....
A33: C | B33: ....
A34: D | B34: ....
A35: E | B35: ....
A36: F | B36: ....
A37: G | B37: ....
A38: H | B38: ....
A39: I | B39: ....
A40: J | B40: ....
...

Sheet Sheet1
