Workbook

Sheet 원가계산서
B1: 공 사 원 가 계 산 서
B2: 공사명 : 글로벌 교육얼라이언스 인프라 구축공사 | F2: ="금액 : " & SUBSTITUTE(TEXT(E29, "[DBNum4]G/표준"), "일십", "십") & "원 (₩" & TEXT(E29, "#,##0") & ")" -> 금액 : 이억오천팔백십사만팔천원 (₩258,148,000)
B3: 비 목 | E3: 금 액 | F3: 구 성 비 | G3: 비 고
A4: A1 | B4: 순 공 사 원 가 | C4: 재 료 비 | D4: 직 접 재 료 비 | E4: =TRUNC(공종별집계표!F5, 0) -> 79979801
A5: A2 | D5: 간 접 재 료 비 | E5: 0
A6: A3 | D6: 작업설, 부산물(△) | E6: 0
A7: AS | D7: [ 소 계 ] | E7: =TRUNC(E4+E5-E6, 0) -> 79979801
A8: B1 | C8: 노 무 비 | D8: 직 접 노 무 비 | E8: =TRUNC(공종별집계표!H5, 0) -> 77193093
A9: B2 | D9: 간 접 노 무 비 | E9: =TRUNC(E8*0.175, 0) -> 13508791 | F9: 직접노무비 * 17.5%
A10: BS | D10: [ 소 계 ] | E10: =TRUNC(E8+E9, 0) -> 90701884
A11: C2 | C11: 경 비 | D11: 경 비 | E11: =TRUNC(공종별집계표!J5, 0) -> 1497067
A12: C4 | D12: 산 재 보 험 료 | E12: =TRUNC(E10*0.0356, 0) -> 3228987 | F12: 노무비 * 3.56%
A13: C5 | D13: 고 용 보 험 료 | E13: =TRUNC(E10*0.0101, 0) -> 916089 | F13: 노무비 * 1.01%
A14: C6 | D14: 국민 건강 보험료 | E14: =TRUNC(E8*0.03595, 0) -> 2775091 | F14: 직접노무비 * 3.595%
A15: C7 | D15: 국민 연금 보험료 | E15: =TRUNC(E8*0.0475, 0) -> 3666671 | F15: 직접노무비 * 4.75%
A16: CB | D16: 노인장기요양보험료 | E16: =TRUNC(E14*0.1314, 0) -> 364646 | F16: 건강보험료 * 13.14%
A17: C8 | D17: 퇴직 공제 부금비 | E17: =TRUNC(E8*0.023, 0) -> 1775441 | F17: 직접노무비 * 2.3%
A18: CA | D18: 산업안전보건관리비 | E18: =TRUNC((E7+E8+(0/1.1))*0.0311, 0) -> 4888077 | F18: (재료비+직노+관급자재비) * 3.11%
A19: CD | D19: 석 면 분 단 금 | E19: =TRUNC(E10*0.00006, 0) -> 5442 | F19: 노무비 * 0.006%
A20: CC | D20: 임금채권부담금 | E20: =TRUNC(E10*0.0009, 0) -> 81631 | F20: 노무비 * 0.09%
A21: CG | D21: 기 타 경 비 | E21: =TRUNC((E7+E10)*0.05, 0) -> 8534084 | F21: (재료비+노무비) * 5%
A22: CS | D22: [ 소 계 ] | E22: =TRUNC(E11+E12+E13+E14+E15+E17+E18+E16+E20+E19+E21, 0) -> 27733226
A23: S1 | B23: 계 | E23: =TRUNC(E7+E10+E22, 0) -> 198414911
A24: D1 | B24: 일 반 관 리 비 | E24: =TRUNC(E23*0.08, 0) -> 15873192 | F24: 계 * 8%
A25: D2 | B25: 이 윤 | E25: =TRUNC((E10+E22+E24)*0.15, 0)-326 -> 20145919 | F25: (노무비+경비+일반관리비) * 15% | G25: 단수정리 -326원
A26: D4 | B26: 폐 기 물 처 리 비 | E26: =TRUNC(공종별집계표!T16, 0) -> 245978
A27: D9 | B27: 공 급 가 액 | E27: =TRUNC(E23+E24+E25+E26, 0) -> 234680000
A28: DB | B28: 부 가 가 치 세 | E28: =TRUNC(E27*0.1, 0) -> 23468000 | F28: 공급가액 * 10%
A29: DH | B29: 도 급 액 | E29: =TRUNC(E27+E28, 0) -> 258148000
A30: S2 | B30: 총 공 사 비 | E30: =TRUNC(E29+0, 0) -> 258148000

Sheet 공종별집계표
A1: 공 종 별 집 계 표
A2: [ 글로벌 교육얼라이언스 인프라 구축공사 ]
A3: 품 명 | B3: 규 격 | C3: 단위 | D3: 수량 | E3: 재 료 비 | G3: 노 무 비 | I3: 경 비 | K3: 합 계 | M3: 비 고 | N3: 공종코드 | O3: 변수 | P3: 상위공종 | Q3: 공종구분 | R3: 공종레벨 | S3: 공종소계 | T3: 원가계산서 연결금액
E4: 단 가 | F4: 금 액 | G4: 단 가 | H4: 금 액 | I4: 단 가 | J4: 금 액 | K4: 단 가 | L4: 금 액
A5: 01 체육교육관 헬스케어동 한국어학당 공간구축공사 | D5: 1 | E5: =F6+F7+F8+F9+F10+F11+F12+F13+F14+F15 -> 79979801 | F5: =E5*D5 -> 79979801 | G5: =H6+H7+H8+H9+H10+H11+H12+H13+H14+H15 -> 77193093 | H5: =G5*D5 -> 77193093 | I5: =J6+J7+J8+J9+J10+J11+J12+J13+J14+J15 -> 1497067 | J5: =I5*D5 -> 1497067 | K5: =E5+G5+I5 -> 158669961 | L5: =F5+H5+J5 -> 158669961 | N5: 01 | R5: 1
A6: 0101 가 설 공 사 | D6: 1 | E6: =공종별내역서!F27 -> 455794 | F6: =E6*D6 -> 455794 | G6: =공종별내역서!H27 -> 6594922 | H6: =G6*D6 -> 6594922 | I6: =공종별내역서!J27 -> 0 | J6: =I6*D6 -> 0 | K6: =E6+G6+I6 -> 7050716 | L6: =F6+H6+J6 -> 7050716 | N6: 0101 | P6: 01 | R6: 2
A7: 0102 경량 철골 공사 | D7: 1 | E7: =공종별내역서!F51 -> 20443834 | F7: =E7*D7 -> 20443834 | G7: =공종별내역서!H51 -> 29645650 | H7: =G7*D7 -> 29645650 | I7: =공종별내역서!J51 -> 756552 | J7: =I7*D7 -> 756552 | K7: =E7+G7+I7 -> 50846036 | L7: =F7+H7+J7 -> 50846036 | N7: 0102 | P7: 01 | R7: 2
A8: 0103 목 공 사 | D8: 1 | E8: =공종별내역서!F75 -> 7898801 | F8: =E8*D8 -> 7898801 | G8: =공종별내역서!H75 -> 7525657 | H8: =G8*D8 -> 7525657 | I8: =공종별내역서!J75 -> 166025 | J8: =I8*D8 -> 166025 | K8: =E8+G8+I8 -> 15590483 | L8: =F8+H8+J8 -> 15590483 | N8: 0103 | P8: 01 | R8: 2
A9: 0104 금 속 공 사 | D9: 1 | E9: =공종별내역서!F99 -> 342444 | F9: =E9*D9 -> 342444 | G9: =공종별내역서!H99 -> 1875276 | H9: =G9*D9 -> 1875276 | I9: =공종별내역서!J99 -> 76700 | J9: =I9*D9 -> 76700 | K9: =E9+G9+I9 -> 2294420 | L9: =F9+H9+J9 -> 2294420 | N9: 0104 | P9: 01 | R9: 2
A10: 0105 창 호 공 사 | D10: 1 | E10: =공종별내역서!F123 -> 22573279 | F10: =E10*D10 -> 22573279 | G10: =공종별내역서!H123 -> 19255786 | H10: =G10*D10 -> 19255786 | I10: =공종별내역서!J123 -> 460419 | J10: =I10*D10 -> 460419 | K10: =E10+G10+I10 -> 42289484 | L10: =F10+H10+J10 -> 42289484 | N10: 0105 | P10: 01 | R10: 2
A11: 0106 유 리 공 사 | D11: 1 | E11: =공종별내역서!F147 -> 1500000 | F11: =E11*D11 -> 1500000 | G11: =공종별내역서!H147 -> 0 | H11: =G11*D11 -> 0 | I11: =공종별내역서!J147 -> 0 | J11: =I11*D11 -> 0 | K11: =E11+G11+I11 -> 1500000 | L11: =F11+H11+J11 -> 1500000 | N11: 0106 | P11: 01 | R11: 2
A12: 0107 도 장 공 사 | D12: 1 | E12: =공종별내역서!F171 -> 435807 | F12: =E12*D12 -> 435807 | G12: =공종별내역서!H171 -> 2605092 | H12: =G12*D12 -> 2605092 | I12: =공종별내역서!J171 -> 0 | J12: =I12*D12 -> 0 | K12: =E12+G12+I12 -> 3040899 | L12: =F12+H12+J12 -> 3040899 | N12: 0107 | P12: 01 | R12: 2
A13: 0108 수 장 공 사 | D13: 1 | E13: =공종별내역서!F195 -> 20329842 | F13: =E13*D13 -> 20329842 | G13: =공종별내역서!H195 -> 3530163 | H13: =G13*D13 -> 3530163 | I13: =공종별내역서!J195 -> 0 | J13: =I13*D13 -> 0 | K13: =E13+G13+I13 -> 23860005 | L13: =F13+H13+J13 -> 23860005 | N13: 0108 | P13: 01 | R13: 2
A14: 0109 기 타 공 사 | D14: 1 | E14: =공종별내역서!F219 -> 6000000 | F14: =E14*D14 -> 6000000 | G14: =공종별내역서!H219 -> 2000000 | H14: =G14*D14 -> 2000000 | I14: =공종별내역서!J219 -> 0 | J14: =I14*D14 -> 0 | K14: =E14+G14+I14 -> 8000000 | L14: =F14+H14+J14 -> 8000000 | N14: 0109 | P14: 01 | R14: 2
A15: 0110 철 거 공 사 | D15: 1 | E15: =공종별내역서!F243 -> 0 | F15: =E15*D15 -> 0 | G15: =공종별내역서!H243 -> 4160547 | H15: =G15*D15 -> 4160547 | I15: =공종별내역서!J243 -> 37371 | J15: =I15*D15 -> 37371 | K15: =E15+G15+I15 -> 4197918 | L15: =F15+H15+J15 -> 4197918 | N15: 0110 | P15: 01 | R15: 2
A16: 0111 폐기물 처리비 | D16: 1 | E16: =공종별내역서!F267 -> 0 | F16: =E16*D16 -> 0 | G16: =공종별내역서!H267 -> 0 | H16: =G16*D16 -> 0 | I16: =공종별내역서!J267 -> 245978 | J16: =I16*D16 -> 245978 | K16: =E16+G16+I16 -> 245978 | L16: =F16+H16+J16 -> 245978 | N16: 0111 | Q16: 6 | R16: 2 | T16: =L16*1 -> 245978
A27: [ 합 계 ] | F27: =F5 -> 79979801 | H27: =H5 -> 77193093 | J27: =J5 -> 1497067 | L27: =L5 -> 158669961

Sheet 공종별내역서
A1: [ 글로벌 교육얼라이언스 인프라 구축공사 ]
A2: 품 명 | B2: 규 격 | C2: 단위 | D2: 수량 | E2: 재 료 비 | G2: 노 무 비 | I2: 경 비 | K2: 합 계 | M2: 비 고 | N2: 품목코드 | O2: 변수 | P2: 설정 | Q2: 공종코드 | R2: 일위 | S2: 단산 | T2: 자재 | U2: 손료적용 | V2: 손료저장 | W2: 적용율 | X2: JUK1 | Y2: JUK2 | Z2: JUK3 | AA2: JUK4 | AB2: JUK5 | AC2: JUK6 | AD2: JUK7 | AE2: JUK8 | AF2: JUK9 | AG2: JUK10 | AH2: JUK11 | AI2: JUK12 | AJ2: JUK13 | AK2: JUK14 | AL2: JUK15 | AM2: JUK16 | AN2: JUK17 | AO2: JUK18 | AP2: JUK19 | AQ2: JUK20 | AR2: 자재구분 | AS2: 공종구분 | AT2: 공종레벨 | AU2: 공종+자재 | AV2: 고유번호
E3: 단 가 | F3: 금 액 | G3: 단 가 | H3: 금 액 | I3: 단 가 | J3: 금 액 | K3: 단 가 | L3: 금 액
A4: 0101 가 설 공 사 | Q4: 0101
A5: 건축물 현장정리 | B5: 개보수 | C5: M2 | D5: 677 | E5: =TRUNC(일위대가목록!E4,0) -> 0 | F5: =TRUNC(E5*D5, 0) -> 0 | G5: =TRUNC(일위대가목록!F4,0) -> 4301 | H5: =TRUNC(G5*D5, 0) -> 2911777 | I5: =TRUNC(일위대가목록!G4,0) -> 0 | J5: =TRUNC(I5*D5, 0) -> 0 | K5: =TRUNC(E5+G5+I5, 0) -> 4301 | L5: =TRUNC(F5+H5+J5, 0) -> 2911777 | N5: 577F314002009C656E7866FC0CF37D | Q5: 0101 | R5: T | S5: F | T5: F | AU5: 0101577F314002009C656E7866FC0CF37D | AV5: 13
A6: 강관 조립말비계(이동식)설치 및 해체 | B6: 높이 2m, 3개월 | C6: 대 | D6: 2 | E6: =TRUNC(일위대가목록!E5,0) -> 33598 | F6: =TRUNC(E6*D6, 0) -> 67196 | G6: =TRUNC(일위대가목록!F5,0) -> 94574 | H6: =TRUNC(G6*D6, 0) -> 189148 | I6: =TRUNC(일위대가목록!G5,0) -> 0 | J6: =TRUNC(I6*D6, 0) -> 0 | K6: =TRUNC(E6+G6+I6, 0) -> 128172 | L6: =TRUNC(F6+H6+J6, 0) -> 256344 | N6: 577F31405A009D57E8AB46EA69AC4B | Q6: 0101 | R6: T | S6: F | T6: F | AU6: 0101577F31405A009D57E8AB46EA69AC4B | AV6: 14
A7: 건축물보양 | B7: 보양지 붙이기 | C7: M2 | D7: 677 | E7: =TRUNC(일위대가목록!E6,0) -> 574 | F7: =TRUNC(E7*D7, 0) -> 388598 | G7: =TRUNC(일위대가목록!F6,0) -> 1720 | H7: =TRUNC(G7*D7, 0) -> 1164440 | I7: =TRUNC(일위대가목록!G6,0) -> 0 | J7: =TRUNC(I7*D7, 0) -> 0 | K7: =TRUNC(E7+G7+I7, 0) -> 2294 | L7: =TRUNC(F7+H7+J7, 0) -> 1553038 | N7: 577F314002009F371D57A82F0F1094 | Q7: 0101 | R7: T | S7: F | T7: F | AU7: 0101577F314002009F371D57A82F0F1094 | AV7: 15
A8: 준공청소 | C8: M2 | D8: 677 | E8: =TRUNC(일위대가목록!E7,0) -> 0 | F8: =TRUNC(E8*D8, 0) -> 0 | G8: =TRUNC(일위대가목록!F7,0) -> 3441 | H8: =TRUNC(G8*D8, 0) -> 2329557 | I8: =TRUNC(일위대가목록!G7,0) -> 0 | J8: =TRUNC(I8*D8, 0) -> 0 | K8: =TRUNC(E8+G8+I8, 0) -> 3441 | L8: =TRUNC(F8+H8+J8, 0) -> 2329557 | N8: 577F3140020099AED3F3EB6611D158 | Q8: 0101 | R8: T | S8: F | T8: F | AU8: 0101577F3140020099AED3F3EB6611D158 | AV8: 16
Q9: 0101
Q10: 0101
Q11: 0101
Q12: 0101
Q13: 0101
Q14: 0101
Q15: 0101
Q16: 0101
Q17: 0101
Q18: 0101
Q19: 0101
Q20: 0101
... Q26: 0101
A27: [ 합 계 ] | F27: =SUMIF(Q5:Q26,"0101",F5:F26) -> 455794 | H27: =SUMIF(Q5:Q26,"0101",H5:H26) -> 6594922 | J27: =SUMIF(Q5:Q26,"0101",J5:J26) -> 0 | L27: =SUMIF(Q5:Q26,"0101",L5:L26) -> 7050716 | N27: TOTAL
A28: 0102 경량 철골 공사 | Q28: 0102
A29: 경량천장철골틀 설치 | B29: M-BAR H:1m이하,인서트무 | C29: M2 | D29: 330 | E29: =TRUNC(일위대가목록!E8,0) -> 9058 | F29: =TRUNC(E29*D29, 0) -> 2989140 | G29: =TRUNC(일위대가목록!F8,0) -> 11402 | H29: =TRUNC(G29*D29, 0) -> 3762660 | I29: =TRUNC(일위대가목록!G8,0) -> 684 | J29: =TRUNC(I29*D29, 0) -> 225720 | K29: =TRUNC(E29+G29+I29, 0) -> 21144 | L29: =TRUNC(F29+H29+J29, 0) -> 6977520 | N29: 577F8148C2009BD0098209C268119B | Q29: 0102 | R29: T | S29: F | T29: F | AU29: 0102577F8148C2009BD0098209C268119B | AV29: 28
A30: 천정텍스 설치 | B30: 300*600*9.5T, 석고계텍스 | C30: M2 | D30: 330 | E30: =TRUNC(일위대가목록!E9,0) -> 9084 | F30: =TRUNC(E30*D30, 0) -> 2997720 | G30: =TRUNC(일위대가목록!F9,0) -> 15088 | H30: =TRUNC(G30*D30, 0) -> 4979040 | I30: =TRUNC(일위대가목록!G9,0) -> 452 | J30: =TRUNC(I30*D30, 0) -> 149160 | K30: =TRUNC(E30+G30+I30, 0) -> 24624 | L30: =TRUNC(F30+H30+J30, 0) -> 8125920 | N30: 577FD14046009054615EA4A2825D9D | Q30: 0102 | R30: T | S30: F | T30: F | AU30: 0102577FD14046009054615EA4A2825D9D | AV30: 19
A31: AL몰딩 설치 | B31: L형, 19*19*1.0mm | C31: M | D31: 54 | E31: =TRUNC(일위대가목록!E10,0) -> 2194 | F31: =TRUNC(E31*D31, 0) -> 118476 | G31: =TRUNC(일위대가목록!F10,0) -> 8990 | H31: =TRUNC(G31*D31, 0) -> 485460 | I31: =TRUNC(일위대가목록!G10,0) -> 359 | J31: =TRUNC(I31*D31, 0) -> 19386 | K31: =TRUNC(E31+G31+I31, 0) -> 11543 | L31: =TRUNC(F31+H31+J31, 0) -> 623322 | N31: 577FD140E600965895107923C311C4 | Q31: 0102 | R31: T | S31: F | T31: F | AU31: 0102577FD140E600965895107923C311C4 | AV31: 20
A32: 메탈스터드(C-100) | B32: 일반석고9.5T 2겹양면+GW50t(크린매트) | C32: M2 | D32: 125 | E32: =TRUNC(일위대가목록!E11,0) -> 35832 | F32: =TRUNC(E32*D32, 0) -> 4479000 | G32: =TRUNC(일위대가목록!F11,0) -> 49378 | H32: =TRUNC(G32*D32, 0) -> 6172250 | I32: =TRUNC(일위대가목록!G11,0) -> 932 | J32: =TRUNC(I32*D32, 0) -> 116500 | K32: =TRUNC(E32+G32+I32, 0) -> 86142 | L32: =TRUNC(F32+H32+J32, 0) -> 10767750 | N32: 577F8148A7009D754819769EAE4034 | Q32: 0102 | R32: T | S32: F | T32: F | AU32: 0102577F8148A7009D754819769EAE4034 | AV32: 23
A33: 메탈스터드(C-100) | B33: 차음석고12.5T 2겹양면+GW50t(크린매트) | C33: M2 | D33: 32 | E33: =TRUNC(일위대가목록!E12,0) -> 42846 | F33: =TRUNC(E33*D33, 0) -> 1371072 | G33: =TRUNC(일위대가목록!F12,0) -> 49378 | H33: =TRUNC(G33*D33, 0) -> 1580096 | I33: =TRUNC(일위대가목록!G12,0) -> 932 | J33: =TRUNC(I33*D33, 0) -> 29824 | K33: =TRUNC(E33+G33+I33, 0) -> 93156 | L33: =TRUNC(F33+H33+J33, 0) -> 2980992 | N33: 577F8148A7009D754819769EAE4035 | Q33: 0102 | R33: T | S33: F | T33: F | AU33: 0102577F8148A7009D754819769EAE4035 | AV33: 25
A34: 메탈스터드(C-100) | B34: 차음석고12.5T 1겹양면+GW50t(크린매트) | C34: M2 | D34: 203 | E34: =TRUNC(일위대가목록!E13,0) -> 33119 | F34: =TRUNC(E34*D34, 0) -> 6723157 | G34: =TRUNC(일위대가목록!F13,0) -> 42006 | H34: =TRUNC(G34*D34, 0) -> 8527218 | I34: =TRUNC(일위대가목록!G13,0) -> 860 | J34: =TRUNC(I34*D34, 0) -> 174580 | K34: =TRUNC(E34+G34+I34, 0) -> 75985 | L34: =TRUNC(F34+H34+J34, 0) -> 15424955 | N34: 577F8148A7009D754819769EAE4036 | Q34: 0102 | R34: T | S34: F | T34: F | AU34: 0102577F8148A7009D754819769EAE4036 | AV34: 80
A35: 석고판 설치(나사고정) - 바탕용 | B35: 벽, 1겹 붙임, 차음석고 12.5mm | C35: M2 | D35: 363 | E35: =TRUNC(일위대가목록!E14,0) -> 4863 | F35: =TRUNC(E35*D35, 0) -> 1765269 | G35: =TRUNC(일위대가목록!F14,0) -> 11402 | H35: =TRUNC(G35*D35, 0) -> 4138926 | I35: =TRUNC(일위대가목록!G14,0) -> 114 | J35: =TRUNC(I35*D35, 0) -> 41382 | K35: =TRUNC(E35+G35+I35, 0) -> 16379 | L35: =TRUNC(F35+H35+J35, 0) -> 5945577 | N35: 577FD1404600932B924FDB98ED159E | Q35: 0102 | R35: T | S35: F | T35: F | AU35: 0102577FD1404600932B924FDB98ED159E | AV35: 26
Q36: 0102
Q37: 0102
Q38: 0102
Q39: 0102
Q40: 0102
Q41: 0102
Q42: 0102
Q43: 0102
Q44: 0102
Q45: 0102
Q46: 0102
Q47: 0102
... Q50: 0102
A51: [ 합 계 ] | F51: =SUMIF(Q29:Q50,"0102",F29:F50) -> 20443834 | H51: =SUMIF(Q29:Q50,"0102",H29:H50) -> 29645650 | J51: =SUMIF(Q29:Q50,"0102",J29:J50) -> 756552 | L51: =SUMIF(Q29:Q50,"0102",L29:L50) -> 50846036 | N51: TOTAL
A52: 0103 목 공 사 | Q52: 0103
A53: 벽체틀 설치 | B53: 미송각재,30*30, @450 | C53: M2 | D53: 6 | E53: =TRUNC(일위대가목록!E15,0) -> 2964 | F53: =TRUNC(E53*D53, 0) -> 17784 | G53: =TRUNC(일위대가목록!F15,0) -> 9733 | H53: =TRUNC(G53*D53, 0) -> 58398 | I53: =TRUNC(일위대가목록!G15,0) -> 194 | J53: =TRUNC(I53*D53, 0) -> 1164 | K53: =TRUNC(E53+G53+I53, 0) -> 12891 | L53: =TRUNC(F53+H53+J53, 0) -> 77346 | N53: 577FB143890099712649C77C7C377E | Q53: 0103 | R53: T | S53: F | T53: F | AU53: 0103577FB143890099712649C77C7C377E | AV53: 29
A54: 벽체합판 설치 | B54: 합판 12T | C54: M2 | D54: 63 | E54: =TRUNC(일위대가목록!E16,0) -> 11313 | F54: =TRUNC(E54*D54, 0) -> 712719 | G54: =TRUNC(일위대가목록!F16,0) -> 18183 | H54: =TRUNC(G54*D54, 0) -> 1145529 | I54: =TRUNC(일위대가목록!G16,0) -> 363 | J54: =TRUNC(I54*D54, 0) -> 22869 | K54: =TRUNC(E54+G54+I54, 0) -> 29859 | L54: =TRUNC(F54+H54+J54, 0) -> 1881117 | N54: 577FD140460095D9CF86735103F4BA | Q54: 0103 | R54: T | S54: F | T54: F | AU54: 0103577FD140460095D9CF86735103F4BA | AV54: 30
A55: 아트보드 설치 | B55: 9T, 방염 | C55: M2 | D55: 263 | E55: =TRUNC(일위대가목록!E17,0) -> 26846 | F55: =TRUNC(E55*D55, 0) -> 7060498 | G55: =TRUNC(일위대가목록!F17,0) -> 19638 | H55: =TRUNC(G55*D55, 0) -> 5164794 | I55: =TRUNC(일위대가목록!G17,0) -> 392 | J55: =TRUNC(I55*D55, 0) -> 103096 | K55: =TRUNC(E55+G55+I55, 0) -> 46876 | L55: =TRUNC(F55+H55+J55, 0) -> 12328388 | N55: 577FD140460095D9CC327560B9C41E | Q55: 0103 | R55: T | S55: F | T55: F | AU55: 0103577FD140460095D9CC327560B9C41E | AV55: 33
A56: 몰딩 설치 | B56: W=100mm, MDF9t | C56: M | D56: 88 | E56: =TRUNC(일위대가목록!E18,0) -> 466 | F56: =TRUNC(E56*D56, 0) -> 41008 | G56: =TRUNC(일위대가목록!F18,0) -> 8990 | H56: =TRUNC(G56*D56, 0) -> 791120 | I56: =TRUNC(일위대가목록!G18,0) -> 359 | J56: =TRUNC(I56*D56, 0) -> 31592 | K56: =TRUNC(E56+G56+I56, 0) -> 9815 | L56: =TRUNC(F56+H56+J56, 0) -> 863720 | N56: 577FD140E60096589513CD22DB842B | Q56: 0103 | R56: T | S56: F | T56: F | AU56: 0103577FD140E60096589513CD22DB842B | AV56: 31
A57: 걸레받이 설치 - 중밀도섬유판 | B57: T=9, H=100 | C57: M | D57: 88 | E57: =TRUNC(일위대가목록!E19,0) -> 759 | F57: =TRUNC(E57*D57, 0) -> 66792 | G57: =TRUNC(일위대가목록!F19,0) -> 4157 | H57: =TRUNC(G57*D57, 0) -> 365816 | I57: =TRUNC(일위대가목록!G19,0) -> 83 | J57: =TRUNC(I57*D57, 0) -> 7304 | K57: =TRUNC(E57+G57+I57, 0) -> 4999 | L57: =TRUNC(F57+H57+J57, 0) -> 439912 | N57: 577FD14062009B1578C4DCF565C186 | Q57: 0103 | R57: T | S57: F | T57: F | AU57: 0103577FD14062009B1578C4DCF565C186 | AV57: 32
Q58: 0103
Q59: 0103
Q60: 0103
Q61: 0103
Q62: 0103
Q63: 0103
Q64: 0103
Q65: 0103
Q66: 0103
Q67: 0103
Q68: 0103
Q69: 0103
... Q74: 0103
A75: [ 합 계 ] | F75: =SUMIF(Q53:Q74,"0103",F53:F74) -> 7898801 | H75: =SUMIF(Q53:Q74,"0103",H53:H74) -> 7525657 | J75: =SUMIF(Q53:Q74,"0103",J53:J74) -> 166025 | L75: =SUMIF(Q53:Q74,"0103",L53:L74) -> 15590483 | N75: TOTAL
A76: 0104 금 속 공 사 | Q76: 0104
A77: 일반구조용각형강관 | B77: 일반구조용각형강관, 각형강관, 100*50*2.3mm | C77: M | D77: 47 | E77: =TRUNC(단가대비표!O73,0) -> 5720 | F77: =TRUNC(E77*D77, 0) -> 268840 | G77: =TRUNC(단가대비표!P73,0) -> 0 | H77: =TRUNC(G77*D77, 0) -> 0 | I77: =TRUNC(단가대비표!V73,0) -> 0 | J77: =TRUNC(I77*D77, 0) -> 0 | K77: =TRUNC(E77+G77+I77, 0) -> 5720 | L77: =TRUNC(F77+H77+J77, 0) -> 268840 | N77: 5020D143E7009AD0DE772C185AD985F7433403 | Q77: 0104 | R77: F | S77: F | T77: T | AU77: 01045020D143E7009AD0DE772C185AD985F7433403 | AV77: 38
A78: 잡철물 제작 및 설치 | B78: 현장제작 설치, 일반철재 | C78: kg | D78: 228 | E78: =TRUNC(일위대가목록!E20,0) -> 159 | F78: =TRUNC(E78*D78, 0) -> 36252 | G78: =TRUNC(일위대가목록!F20,0) -> 5328 | H78: =TRUNC(G78*D78, 0) -> 1214784 | I78: =TRUNC(일위대가목록!G20,0) -> 266 | J78: =TRUNC(I78*D78, 0) -> 60648 | K78: =TRUNC(E78+G78+I78, 0) -> 5753 | L78: =TRUNC(F78+H78+J78, 0) -> 1311684 | N78: 577F814884009D4B2C9F53F6A5D06D | Q78: 0104 | R78: T | S78: F | T78: F | AU78: 0104577F814884009D4B2C9F53F6A5D06D | AV78: 78
A79: 앵커 볼트 설치 | B79: M10×150 | C79: 개소 | D79: 32 | E79: =TRUNC(일위대가목록!E21,0) -> 430 | F79: =TRUNC(E79*D79, 0) -> 13760 | G79: =TRUNC(일위대가목록!F21,0) -> 17154 | H79: =TRUNC(G79*D79, 0) -> 548928 | I79: =TRUNC(일위대가목록!G21,0) -> 343 | J79: =TRUNC(I79*D79, 0) -> 10976 | K79: =TRUNC(E79+G79+I79, 0) -> 17927 | L79: =TRUNC(F79+H79+J79, 0) -> 573664 | N79: 577F7149D9009AE302ED3B82C443EF | Q79: 0104 | R79: T | S79: F | T79: F | AU79: 0104577F7149D9009AE302ED3B82C443EF | AV79: 41
A80: ㄱ형강 설치(현장제작) | B80: ㄱ형강,등변,50*50*4t. 방청페인트 | C80: M | D80: 6 | E80: =TRUNC(일위대가목록!E22,0) -> 3932 | F80: =TRUNC(E80*D80, 0) -> 23592 | G80: =TRUNC(일위대가목록!F22,0) -> 18594 | H80: =TRUNC(G80*D80, 0) -> 111564 | I80: =TRUNC(일위대가목록!G22,0) -> 846 | J80: =TRUNC(I80*D80, 0) -> 5076 | K80: =TRUNC(E80+G80+I80, 0) -> 23372 | L80: =TRUNC(F80+H80+J80, 0) -> 140232 | N80: 577F5145B90097C1978E4F75A1EC67 | Q80: 0104 | R80: T | S80: F | T80: F | AU80: 0104577F5145B90097C1978E4F75A1EC67 | AV80: 79
Q81: 0104
Q82: 0104
Q83: 0104
Q84: 0104
Q85: 0104
Q86: 0104
Q87: 0104
Q88: 0104
Q89: 0104
Q90: 0104
Q91: 0104
Q92: 0104
... Q98: 0104
A99: [ 합 계 ] | F99: =SUMIF(Q77:Q98,"0104",F77:F98) -> 342444 | H99: =SUMIF(Q77:Q98,"0104",H77:H98) -> 1875276 | J99: =SUMIF(Q77:Q98,"0104",J77:J98) -> 76700 | L99: =SUMIF(Q77:Q98,"0104",L77:L98) -> 2294420 | N99: TOTAL
A100: 0105 창 호 공 사 | Q100: 0105
A101: SSD1 | B101: 6855*3000 | C101: 개소 | D101: 1 | E101: =TRUNC(일위대가목록!E23,0) -> 1629054 | F101: =TRUNC(E101*D101, 0) -> 1629054 | G101: =TRUNC(일위대가목록!F23,0) -> 1641763 | H101: =TRUNC(G101*D101, 0) -> 1641763 | I101: =TRUNC(일위대가목록!G23,0) -> 36835 | J101: =TRUNC(I101*D101, 0) -> 36835 | K101: =TRUNC(E101+G101+I101, 0) -> 3307652 | L101: =TRUNC(F101+H101+J101, 0) -> 3307652 | N101: 577FE146FB00945DFB817F31C2C282 | Q101: 0105 | R101: T | S101: F | T101: F | AU101: 0105577FE146FB00945DFB817F31C2C282 | AV101: 42
A102: SSD2 | B102: 10920*3000 | C102: 개소 | D102: 1 | E102: =TRUNC(일위대가목록!E24,0) -> 3354828 | F102: =TRUNC(E102*D102, 0) -> 3354828 | G102: =TRUNC(일위대가목록!F24,0) -> 2821702 | H102: =TRUNC(G102*D102, 0) -> 2821702 | I102: =TRUNC(일위대가목록!G24,0) -> 68207 | J102: =TRUNC(I102*D102, 0) -> 68207 | K102: =TRUNC(E102+G102+I102, 0) -> 6244737 | L102: =TRUNC(F102+H102+J102, 0) -> 6244737 | N102: 577FE146FB00945DFB817F31C2C285 | Q102: 0105 | R102: T | S102: F | T102: F | AU102: 0105577FE146FB00945DFB817F31C2C285 | AV102: 43
A103: SSD3 | B103: 14280*3000 | C103: 개소 | D103: 1 | E103: =TRUNC(일위대가목록!E25,0) -> 4539389 | F103: =TRUNC(E103*D103, 0) -> 4539389 | G103: =TRUNC(일위대가목록!F25,0) -> 3727620 | H103: =TRUNC(G103*D103, 0) -> 3727620 | I103: =TRUNC(일위대가목록!G25,0) -> 91631 | J103: =TRUNC(I103*D103, 0) -> 91631 | K103: =TRUNC(E103+G103+I103, 0) -> 8358640 | L103: =TRUNC(F103+H103+J103, 0) -> 8358640 | N103: 577FE146FB00945DFB817F31C2C284 | Q103: 0105 | R103: T | S103: F | T103: F | AU103: 0105577FE146FB00945DFB817F31C2C284 | AV103: 44
A104: SSD4 | B104: 13516*3000 | C104: 개소 | D104: 1 | E104: =TRUNC(일위대가목록!E26,0) -> 4018029 | F104: =TRUNC(E104*D104, 0) -> 4018029 | G104: =TRUNC(일위대가목록!F26,0) -> 3468163 | H104: =TRUNC(G104*D104, 0) -> 3468163 | I104: =TRUNC(일위대가목록!G26,0) -> 84730 | J104: =TRUNC(I104*D104, 0) -> 84730 | K104: =TRUNC(E104+G104+I104, 0) -> 7570922 | L104: =TRUNC(F104+H104+J104, 0) -> 7570922 | N104: 577FE146FB00945DFB817F31C2C287 | Q104: 0105 | R104: T | S104: F | T104: F | AU104: 0105577FE146FB00945DFB817F31C2C287 | AV104: 45
A105: SSD5 | B105: 5640*3000 | C105: 개소 | D105: 1 | E105: =TRUNC(일위대가목록!E27,0) -> 1284041 | F105: =TRUNC(E105*D105, 0) -> 1284041 | G105: =TRUNC(일위대가목록!F27,0) -> 1310934 | H105: =TRUNC(G105*D105, 0) -> 1310934 | I105: =TRUNC(일위대가목록!G27,0) -> 27756 | J105: =TRUNC(I105*D105, 0) -> 27756 | K105: =TRUNC(E105+G105+I105, 0) -> 2622731 | L105: =TRUNC(F105+H105+J105, 0) -> 2622731 | N105: 577FE146FB00945DFB817F31C2C286 | Q105: 0105 | R105: T | S105: F | T105: F | AU105: 0105577FE146FB00945DFB817F31C2C286 | AV105: 46
A106: SSD6 | B106: 5590*3000 | C106: 개소 | D106: 1 | E106: =TRUNC(일위대가목록!E28,0) -> 1331551 | F106: =TRUNC(E106*D106, 0) -> 1331551 | G106: =TRUNC(일위대가목록!F28,0) -> 1354753 | H106: =TRUNC(G106*D106, 0) -> 1354753 | I106: =TRUNC(일위대가목록!G28,0) -> 29550 | J106: =TRUNC(I106*D106, 0) -> 29550 | K106: =TRUNC(E106+G106+I106, 0) -> 2715854 | L106: =TRUNC(F106+H106+J106, 0) -> 2715854 | N106: 577FE146FB00945DFB817F31C2C289 | Q106: 0105 | R106: T | S106: F | T106: F | AU106: 0105577FE146FB00945DFB817F31C2C289 | AV106: 47
A107: SSD7 | B107: 7867*3000 | C107: 개소 | D107: 1 | E107: =TRUNC(일위대가목록!E29,0) -> 2295340 | F107: =TRUNC(E107*D107, 0) -> 2295340 | G107: =TRUNC(일위대가목록!F29,0) -> 2034128 | H107: =TRUNC(G107*D107, 0) -> 2034128 | I107: =TRUNC(일위대가목록!G29,0) -> 48620 | J107: =TRUNC(I107*D107, 0) -> 48620 | K107: =TRUNC(E107+G107+I107, 0) -> 4378088 | L107: =TRUNC(F107+H107+J107, 0) -> 4378088 | N107: 577FE146FB00945DFB817F31C2C288 | Q107: 0105 | R107: T | S107: F | T107: F | AU107: 0105577FE146FB00945DFB817F31C2C288 | AV107: 48
A108: SSD8 | B108: 9889*3000 | C108: 개소 | D108: 1 | E108: =TRUNC(일위대가목록!E30,0) -> 3348832 | F108: =TRUNC(E108*D108, 0) -> 3348832 | G108: =TRUNC(일위대가목록!F30,0) -> 2798960 | H108: =TRUNC(G108*D108, 0) -> 2798960 | I108: =TRUNC(일위대가목록!G30,0) -> 71595 | J108: =TRUNC(I108*D108, 0) -> 71595 | K108: =TRUNC(E108+G108+I108, 0) -> 6219387 | L108: =TRUNC(F108+H108+J108, 0) -> 6219387 | N108: 577FE146FB00945DFB817F31C2C3A9 | Q108: 0105 | R108: T | S108: F | T108: F | AU108: 0105577FE146FB00945DFB817F31C2C3A9 | AV108: 49
A109: PD01 | B109: 1000*2100 | C109: 개소 | D109: 1 | E109: =TRUNC(일위대가목록!E31,0) -> 408000 | F109: =TRUNC(E109*D109, 0) -> 408000 | G109: =TRUNC(일위대가목록!F31,0) -> 7662 | H109: =TRUNC(G109*D109, 0) -> 7662 | I109: =TRUNC(일위대가목록!G31,0) -> 306 | J109: =TRUNC(I109*D109, 0) -> 306 | K109: =TRUNC(E109+G109+I109, 0) -> 415968 | L109: =TRUNC(F109+H109+J109, 0) -> 415968 | N109: 577FE146FB00960B57AAE7E70BB13E | Q109: 0105 | R109: T | S109: F | T109: F | AU109: 0105577FE146FB00960B57AAE7E70BB13E | AV109: 39
A110: 창호주위 발포우레탄 충전 | B110: 발포우레탄, ㅁ80*50 | C110: M | D110: 20 | E110: =TRUNC(일위대가목록!E32,0) -> 18000 | F110: =TRUNC(E110*D110, 0) -> 360000 | G110: =TRUNC(일위대가목록!F32,0) -> 2734 | H110: =TRUNC(G110*D110, 0) -> 54680 | I110: =TRUNC(일위대가목록!G32,0) -> 0 | J110: =TRUNC(I110*D110, 0) -> 0 | K110: =TRUNC(E110+G110+I110, 0) -> 20734 | L110: =TRUNC(F110+H110+J110, 0) -> 414680 | N110: 577FE1468000929B634487D3386AC3 | Q110: 0105 | R110: T | S110: F | T110: F | AU110: 0105577FE1468000929B634487D3386AC3 | AV110: 51
A111: 자동문 잠금장치 설치 | C111: 개소 | D111: 1 | E111: =TRUNC(일위대가목록!E33,0) -> 4215 | F111: =TRUNC(E111*D111, 0) -> 4215 | G111: =TRUNC(일위대가목록!F33,0) -> 35421 | H111: =TRUNC(G111*D111, 0) -> 35421 | I111: =TRUNC(일위대가목록!G33,0) -> 1189 | J111: =TRUNC(I111*D111, 0) -> 1189 | K111: =TRUNC(E111+G111+I111, 0) -> 40825 | L111: =TRUNC(F111+H111+J111, 0) -> 40825 | N111: 577F5145B90097C1978E4F75A1EC62 | Q111: 0105 | R111: T | S111: F | T111: F | AU111: 0105577F5145B90097C1978E4F75A1EC62 | AV111: 76
Q112: 0105
Q113: 0105
Q114: 0105
Q115: 0105
Q116: 0105
...

Sheet 일위대가목록
B1: 일 위 대 가 목 록
B2: [ 글로벌 교육얼라이언스 인프라 구축공사 ]
A3: 코 드 | B3: 품 명 | C3: 규 격 | D3: 단위 | E3: 재 료 비 | F3: 노 무 비 | G3: 경 비 | H3: 합 계 | I3: 번 호 | J3: 비 고 | K3: 노임계수 | L3: 할증 | M3: 품셈개요 | N3: 장비일위
A4: 577F314002009C656E7866FC0CF37D | B4: 건축물 현장정리 | C4: 개보수 | D4: M2 | E4: =일위대가!F6 -> 0 | F4: =일위대가!H6 -> 4301 | G4: =일위대가!J6 -> 0 | H4: =E4+F4+G4 -> 4301 | I4: 호표 1
A5: 577F31405A009D57E8AB46EA69AC4B | B5: 강관 조립말비계(이동식)설치 및 해체 | C5: 높이 2m, 3개월 | D5: 대 | E5: =일위대가!F19 -> 33598 | F5: =일위대가!H19 -> 94574 | G5: =일위대가!J19 -> 0 | H5: =E5+F5+G5 -> 128172 | I5: 호표 2
A6: 577F314002009F371D57A82F0F1094 | B6: 건축물보양 | C6: 보양지 붙이기 | D6: M2 | E6: =일위대가!F25 -> 574 | F6: =일위대가!H25 -> 1720 | G6: =일위대가!J25 -> 0 | H6: =E6+F6+G6 -> 2294 | I6: 호표 3
A7: 577F3140020099AED3F3EB6611D158 | B7: 준공청소 | D7: M2 | E7: =일위대가!F29 -> 0 | F7: =일위대가!H29 -> 3441 | G7: =일위대가!J29 -> 0 | H7: =E7+F7+G7 -> 3441 | I7: 호표 4
A8: 577F8148C2009BD0098209C268119B | B8: 경량천장철골틀 설치 | C8: M-BAR H:1m이하,인서트무 | D8: M2 | E8: =일위대가!F43 -> 9058 | F8: =일위대가!H43 -> 11402 | G8: =일위대가!J43 -> 684 | H8: =E8+F8+G8 -> 21144 | I8: 호표 5
A9: 577FD14046009054615EA4A2825D9D | B9: 천정텍스 설치 | C9: 300*600*9.5T, 석고계텍스 | D9: M2 | E9: =일위대가!F49 -> 9084 | F9: =일위대가!H49 -> 15088 | G9: =일위대가!J49 -> 452 | H9: =E9+F9+G9 -> 24624 | I9: 호표 6
A10: 577FD140E600965895107923C311C4 | B10: AL몰딩 설치 | C10: L형, 19*19*1.0mm | D10: M | E10: =일위대가!F55 -> 2194 | F10: =일위대가!H55 -> 8990 | G10: =일위대가!J55 -> 359 | H10: =E10+F10+G10 -> 11543 | I10: 호표 7
A11: 577F8148A7009D754819769EAE4034 | B11: 메탈스터드(C-100) | C11: 일반석고9.5T 2겹양면+GW50t(크린매트) | D11: M2 | E11: =일위대가!F73 -> 35832 | F11: =일위대가!H73 -> 49378 | G11: =일위대가!J73 -> 932 | H11: =E11+F11+G11 -> 86142 | I11: 호표 8
A12: 577F8148A7009D754819769EAE4035 | B12: 메탈스터드(C-100) | C12: 차음석고12.5T 2겹양면+GW50t(크린매트) | D12: M2 | E12: =일위대가!F91 -> 42846 | F12: =일위대가!H91 -> 49378 | G12: =일위대가!J91 -> 932 | H12: =E12+F12+G12 -> 93156 | I12: 호표 9
A13: 577F8148A7009D754819769EAE4036 | B13: 메탈스터드(C-100) | C13: 차음석고12.5T 1겹양면+GW50t(크린매트) | D13: M2 | E13: =일위대가!F109 -> 33119 | F13: =일위대가!H109 -> 42006 | G13: =일위대가!J109 -> 860 | H13: =E13+F13+G13 -> 75985 | I13: 호표 10
A14: 577FD1404600932B924FDB98ED159E | B14: 석고판 설치(나사고정) - 바탕용 | C14: 벽, 1겹 붙임, 차음석고 12.5mm | D14: M2 | E14: =일위대가!F114 -> 4863 | F14: =일위대가!H114 -> 11402 | G14: =일위대가!J114 -> 114 | H14: =E14+F14+G14 -> 16379 | I14: 호표 11
A15: 577FB143890099712649C77C7C377E | B15: 벽체틀 설치 | C15: 미송각재,30*30, @450 | D15: M2 | E15: =일위대가!F119 -> 2964 | F15: =일위대가!H119 -> 9733 | G15: =일위대가!J119 -> 194 | H15: =E15+F15+G15 -> 12891 | I15: 호표 12
A16: 577FD140460095D9CF86735103F4BA | B16: 벽체합판 설치 | C16: 합판 12T | D16: M2 | E16: =일위대가!F124 -> 11313 | F16: =일위대가!H124 -> 18183 | G16: =일위대가!J124 -> 363 | H16: =E16+F16+G16 -> 29859 | I16: 호표 13
A17: 577FD140460095D9CC327560B9C41E | B17: 아트보드 설치 | C17: 9T, 방염 | D17: M2 | E17: =일위대가!F129 -> 26846 | F17: =일위대가!H129 -> 19638 | G17: =일위대가!J129 -> 392 | H17: =E17+F17+G17 -> 46876 | I17: 호표 14
A18: 577FD140E60096589513CD22DB842B | B18: 몰딩 설치 | C18: W=100mm, MDF9t | D18: M | E18: =일위대가!F135 -> 466 | F18: =일위대가!H135 -> 8990 | G18: =일위대가!J135 -> 359 | H18: =E18+F18+G18 -> 9815 | I18: 호표 15
A19: 577FD14062009B1578C4DCF565C186 | B19: 걸레받이 설치 - 중밀도섬유판 | C19: T=9, H=100 | D19: M | E19: =일위대가!F141 -> 759 | F19: =일위대가!H141 -> 4157 | G19: =일위대가!J141 -> 83 | H19: =E19+F19+G19 -> 4999 | I19: 호표 16
A20: 577F814884009D4B2C9F53F6A5D06D | B20: 잡철물 제작 및 설치 | C20: 현장제작 설치, 일반철재 | D20: kg | E20: =일위대가!F150 -> 159 | F20: =일위대가!H150 -> 5328 | G20: =일위대가!J150 -> 266 | H20: =E20+F20+G20 -> 5753 | I20: 호표 17
A21: 577F7149D9009AE302ED3B82C443EF | B21: 앵커 볼트 설치 | C21: M10×150 | D21: 개소 | E21: =일위대가!F155 -> 430 | F21: =일위대가!H155 -> 17154 | G21: =일위대가!J155 -> 343 | H21: =E21+F21+G21 -> 17927 | I21: 호표 18
A22: 577F5145B90097C1978E4F75A1EC67 | B22: ㄱ형강 설치(현장제작) | C22: ㄱ형강,등변,50*50*4t. 방청페인트 | D22: M | E22: =일위대가!F166 -> 3932 | F22: =일위대가!H166 -> 18594 | G22: =일위대가!J166 -> 846 | H22: =E22+F22+G22 -> 23372 | I22: 호표 19
A23: 577FE146FB00945DFB817F31C2C282 | B23: SSD1 | C23: 6855*3000 | D23: 개소 | E23: =일위대가!F175 -> 1629054 | F23: =일위대가!H175 -> 1641763 | G23: =일위대가!J175 -> 36835 | H23: =E23+F23+G23 -> 3307652 | I23: 호표 20
A24: 577FE146FB00945DFB817F31C2C285 | B24: SSD2 | C24: 10920*3000 | D24: 개소 | E24: =일위대가!F191 -> 3354828 | F24: =일위대가!H191 -> 2821702 | G24: =일위대가!J191 -> 68207 | H24: =E24+F24+G24 -> 6244737 | I24: 호표 21
A25: 577FE146FB00945DFB817F31C2C284 | B25: SSD3 | C25: 14280*3000 | D25: 개소 | E25: =일위대가!F207 -> 4539389 | F25: =일위대가!H207 -> 3727620 | G25: =일위대가!J207 -> 91631 | H25: =E25+F25+G25 -> 8358640 | I25: 호표 22
A26: 577FE146FB00945DFB817F31C2C287 | B26: SSD4 | C26: 13516*3000 | D26: 개소 | E26: =일위대가!F224 -> 4018029 | F26: =일위대가!H224 -> 3468163 | G26: =일위대가!J224 -> 84730 | H26: =E26+F26+G26 -> 7570922 | I26: 호표 23
A27: 577FE146FB00945DFB817F31C2C286 | B27: SSD5 | C27: 5640*3000 | D27: 개소 | E27: =일위대가!F233 -> 1284041 | F27: =일위대가!H233 -> 1310934 | G27: =일위대가!J233 -> 27756 | H27: =E27+F27+G27 -> 2622731 | I27: 호표 24
A28: 577FE146FB00945DFB817F31C2C289 | B28: SSD6 | C28: 5590*3000 | D28: 개소 | E28: =일위대가!F243 -> 1331551 | F28: =일위대가!H243 -> 1354753 | G28: =일위대가!J243 -> 29550 | H28: =E28+F28+G28 -> 2715854 | I28: 호표 25
A29: 577FE146FB00945DFB817F31C2C288 | B29: SSD7 | C29: 7867*3000 | D29: 개소 | E29: =일위대가!F259 -> 2295340 | F29: =일위대가!H259 -> 2034128 | G29: =일위대가!J259 -> 48620 | H29: =E29+F29+G29 -> 4378088 | I29: 호표 26
A30: 577FE146FB00945DFB817F31C2C3A9 | B30: SSD8 | C30: 9889*3000 | D30: 개소 | E30: =일위대가!F276 -> 3348832 | F30: =일위대가!H276 -> 2798960 | G30: =일위대가!J276 -> 71595 | H30: =E30+F30+G30 -> 6219387 | I30: 호표 27
A31: 577FE146FB00960B57AAE7E70BB13E | B31: PD01 | C31: 1000*2100 | D31: 개소 | E31: =일위대가!F282 -> 408000 | F31: =일위대가!H282 -> 7662 | G31: =일위대가!J282 -> 306 | H31: =E31+F31+G31 -> 415968 | I31: 호표 28
A32: 577FE1468000929B634487D3386AC3 | B32: 창호주위 발포우레탄 충전 | C32: 발포우레탄, ㅁ80*50 | D32: M | E32: =일위대가!F288 -> 18000 | F32: =일위대가!H288 -> 2734 | G32: =일위대가!J288 -> 0 | H32: =E32+F32+G32 -> 20734 | I32: 호표 29
A33: 577F5145B90097C1978E4F75A1EC62 | B33: 자동문 잠금장치 설치 | D33: 개소 | E33: =일위대가!F293 -> 4215 | F33: =일위대가!H293 -> 35421 | G33: =일위대가!J293 -> 1189 | H33: =E33+F33+G33 -> 40825 | I33: 호표 30
A34: 577FC14234009E85BE1A044DB2495D | B34: 바탕만들기+친환경수성페인트 롤러칠(재료비 포함) | C34: 내부, 2회 1급, 석고보드면 줄퍼티 | D34: M2 | E34: =일위대가!F300 -> 3031 | F34: =일위대가!H300 -> 17926 | G34: =일위대가!J300 -> 0 | H34: =E34+F34+G34 -> 20957 | I34: 호표 31
A35: 577FC14234009E85BE1A044DB2495C | B35: 바탕만들기+친환경수성페인트 롤러칠(재료비 포함) | C35: 내부, 2회 1급, 목재면 | D35: M2 | E35: =일위대가!F306 -> 881 | F35: =일위대가!H306 -> 9539 | G35: =일위대가!J306 -> 0 | H35: =E35+F35+G35 -> 10420 | I35: 호표 32
A36: 577FC1422A009BF63DB5490F09865E | B36: 바탕만들기+걸레받이용 페인트칠(재료비 포함) | C36: 붓칠 2회, G.B.면(줄퍼티), H:100 | D36: M | E36: =일위대가!F313 -> 508 | F36: =일위대가!H313 -> 3044 | G36: =일위대가!J313 -> 0 | H36: =E36+F36+G36 -> 3552 | I36: 호표 33
A37: 577FD1405000963885D295D7ECCC52 | B37: 차음시트 붙임 | C37: 벽, 2T | D37: M2 | E37: =일위대가!F319 -> 11618 | F37: =일위대가!H319 -> 7527 | G37: =일위대가!J319 -> 0 | H37: =E37+F37+G37 -> 19145 | I37: 호표 34
A38: 577E31499E00953E304D97DC965019 | B38: 경량천장철골틀 해체 | D38: M2 | E38: =일위대가!F325 -> 0 | F38: =일위대가!H325 -> 6688 | G38: =일위대가!J325 -> 133 | H38: =E38+F38+G38 -> 6821 | I38: 호표 35
A39: 577E31499E00953E304D96356DB762 | B39: 흡음텍스 해체 | C39: 해체재 재사용 | D39: M2 | E39: =일위대가!F330 -> 0 | F39: =일위대가!H330 -> 6002 | G39: =일위대가!J330 -> 0 | H39: =E39+F39+G39 -> 6002 | I39: 호표 36
A40: 577FD14062009C3C05C32141DACF30 | B40: 스텐재료분리대 철거 | C40: 설치품의 50% | D40: M | E40: =일위대가!F336 -> 0 | F40: =일위대가!H336 -> 3120 | G40: =일위대가!J336 -> 93 | H40: =E40+F40+G40 -> 3213 | I40: 호표 37
A41: 577E31499E00953E304D925A9DE7A6 | B41: 거울 해체 | C41: 벽 | D41: M2 | E41: =일위대가!F340 -> 0 | F41: =일위대가!H340 -> 5316 | G41: =일위대가!J340 -> 106 | H41: =E41+F41+G41 -> 5422 | I41: 호표 38
A42: 577E31499E00953E304D9C5ED1D867 | B42: 고무타일 해체 | D42: M2 | E42: =일위대가!F344 -> 0 | F42: =일위대가!H344 -> 2229 | G42: =일위대가!J344 -> 0 | H42: =E42+F42+G42 -> 2229 | I42: 호표 39
A43: 577E31499E00953E304D93618FBFF7 | B43: 콤비롤블라인드 해체 | C43: 천장 | D43: M2 | E43: =일위대가!F348 -> 0 | F43: =일위대가!H348 -> 3480 | G43: =일위대가!J348 -> 0 | H43: =E43+F43+G43 -> 3480 | I43: 호표 40
A44: 577F31405A009D57E8AB46EB709E02 | B44: 강관 조립말비계(이동식)설치 및 해체 | C44: 높이 2m, 노무비 | D44: 대 | E44: =일위대가!F353 -> 0 | F44: =일위대가!H353 -> 94574 | G44: =일위대가!J353 -> 0 | H44: =E44+F44+G44 -> 94574 | I44: 호표 41
A45: 577F8148C2009BD0098209C268119E | B45: 경량천장철골틀 설치 | C45: BAR 간격 300mm | D45: M2 | E45: =일위대가!F359 -> 0 | F45: =일위대가!H359 -> 11402 | G45: =일위대가!J359 -> 684 | H45: =E45+F45+G45 -> 12086 | I45: 호표 42
A46: 577FD14046009054615EA4A2825D9E | B46: 흡음텍스 설치 | D46: M2 | E46: =일위대가!F365 -> 0 | F46: =일위대가!H365 -> 15088 | G46: =일위대가!J365 -> 452 | H46: =E46+F46+G46 -> 15540 | I46: 호표 43
A47: 577FD140E60094AA3949A5EB3C778F | B47: 몰딩 설치 | D47: M | E47: =일위대가!F370 -> 0 | F47: =일위대가!H370 -> 8990 | G47: =일위대가!J370 -> 359 | H47: =E47+F47+G47 -> 9349 | I47: 호표 44
A48: 577F8148A7009D754819769EAE4388 | B48: 경량벽체철골틀 설치 | D48: M2 | E48: =일위대가!F376 -> 0 | F48: =일위대가!H376 -> 10544 | G48: =일위대가!J376 -> 632 | H48: =E48+F48+G48 -> 11176 | I48: 호표 45
A49: 577FD1403500985F129E53733676F5 | B49: 단열재 격자넣기 | C49: 50mm 이하, 벽 | D49: M2 | E49: =일위대가!F381 -> 0 | F49: =일위대가!H381 -> 8658 | G49: =일위대가!J381 -> 0 | H49: =E49+F49+G49 -> 8658 | I49: 호표 46
A50: 577FD1404600932B924FDB98ED16A6 | B50: 석고판 설치(나사고정) - 바탕용 | C50: 벽, 2겹 붙임 | D50: M2 | E50: =일위대가!F387 -> 0 | F50: =일위대가!H387 -> 15088 | G50: =일위대가!J387 -> 150 | H50: =E50+F50+G50 -> 15238 | I50: 호표 47
A51: 577FD1404600932B924FDB98ED159F | B51: 석고판 설치(나사고정) - 바탕용 | C51: 벽, 1겹 붙임 | D51: M2 | E51: =일위대가!F393 -> 0 | F51: =일위대가!H393 -> 11402 | G51: =일위대가!J393 -> 114 | H51: =E51+F51+G51 -> 11516 | I51: 호표 48
A52: 577FB143890099701F5AC4AF302BA3 | B52: 벽체틀 설치 | C52: 자재 별도 | D52: M2 | E52: =일위대가!F399 -> 0 | F52: =일위대가!H399 -> 9733 | G52: =일위대가!J399 -> 194 | H52: =E52+F52+G52 -> 9927 | I52: 호표 49
A53: 577FD140460095D9CF86735103F4BB | B53: 벽체합판 설치 | C53: 합판 별도 | D53: M2 | E53: =일위대가!F405 -> 0 | F53: =일위대가!H405 -> 18183 | G53: =일위대가!J405 -> 363 | H53: =E53+F53+G53 -> 18546 | I53: 호표 50
A54: 577FD140460095D9CC327560B9C41F | B54: 수장합판 설치 | C54: 접착붙임(합판 별도) | D54: M2 | E54: =일위대가!F412 -> 556 | F54: =일위대가!H412 -> 19638 | G54: =일위대가!J412 -> 392 | H54: =E54+F54+G54 -> 20586 | I54: 호표 51
A55: 577FD14062009B172974E45D3C4499 | B55: 걸레받이 설치 | C55: 중밀도섬유판, H=75~120mm 기준 | D55: M | E55: =일위대가!F418 -> 0 | F55: =일위대가!H418 -> 4157 | G55: =일위대가!J418 -> 83 | H55: =E55+F55+G55 -> 4240 | I55: 호표 52
A56: 577F7149D9009AE302ED3B82C443EB | B56: 앵커 볼트 설치 | C56: ∮16 이하 | D56: 개 | E56: =일위대가!F424 -> 0 | F56: =일위대가!H424 -> 17154 | G56: =일위대가!J424 -> 343 | H56: =E56+F56+G56 -> 17497 | I56: 호표 53
A57: 577FC14218009220CD7504C09ED362 | B57: 녹막이페인트 붓칠(재료비 미포함) | C57: 철재면, 1회 2종 | D57: M2 | E57: =일위대가!F428 -> 89 | F57: =일위대가!H428 -> 4461 | G57: =일위대가!J428 -> 0 | H57: =E57+F57+G57 -> 4550 | I57: 호표 54
A58: 577FC1422A0099C82203040665B58D | B58: 유성페인트 붓칠(재료비 미포함) | C58: 철재면, 2회 1급 | D58: M2 | E58: =일위대가!F432 -> 237 | F58: =일위대가!H432 -> 11897 | G58: =일위대가!J432 -> 0 | H58: =E58+F58+G58 -> 12134 | I58: 호표 55
A59: 577FC14218009220CD747E150B8A30 | B59: 녹막이 페인트칠 재료비(20년 품셈기준) | C59: 철재면, 1회, 2종 | D59: M2 | E59: =일위대가!F437 -> 686 | F59: =일위대가!H437 -> 0 | G59: =일위대가!J437 -> 0 | H59: =E59+F59+G59 -> 686 | I59: 호표 56
A60: 577FC1422A0099C8220304028836FB | B60: 유성페인트 붓칠 재료비(20년 품셈기준) | C60: 철재면, 2회, 1급 | D60: M2 | E60: =일위대가!F442 -> 1034 | F60: =일위대가!H442 -> 0 | G60: =일위대가!J442 -> 0 | H60: =E60+F60+G60 -> 1034 | I60: 호표 57
A61: 577FC14218009220CD747F3C13A5E5 | B61: 녹막이 페인트칠 | C61: 철재면 1회 노무비 | D61: M2 | E61: =일위대가!F448 -> 89 | F61: =일위대가!H448 -> 4461 | G61: =일위대가!J448 -> 0 | H61: =E61+F61+G61 -> 4550 | I61: 호표 58
A62: 577FC1422A0099C8220304028AE6C3 | B62: 유성페인트 붓칠 | C62: 철재면 2회 노무비 | D62: M2 | E62: =일위대가!F456 -> 237 | F62: =일위대가!H456 -> 11897 | G62: =일위대가!J456 -> 0 | H62: =E62+F62+G62 -> 12134 | I62: 호표 59
A63: 577F814884009B9CA9EAF3AE3E7F35 | B63: 스텐후레임 | C63: ㅁ50*100,Mirror 1.2t | D63: M | E63: =일위대가!F461 -> 21995 | F63: =일위대가!H461 -> 20755 | G63: =일위대가!J461 -> 830 | H63: =E63+F63+G63 -> 43580 | I63: 호표 60
A64: 577F814884009B9CA9EAF3AE3E7F36 | B64: 스텐후레임 | C64: ㅁ100*100,Mirror 1.2t | D64: M | E64: =일위대가!F466 -> 29301 | F64: =일위대가!H466 -> 26356 | G64: =일위대가!J466 -> 1054 | H64: =E64+F64+G64 -> 56711 | I64: 호표 61
A65: 577FE14692009D1F0D05B1CA354A64 | B65: 창호유리설치 / 판유리 | C65: 유리두께 9mm 이하 | D65: M2 | E65: =일위대가!F471 -> 0 | F65: =일위대가!H471 -> 26667 | G65: =일위대가!J471 -> 0 | H65: =E65+F65+G65 -> 26667 | I65: 호표 62
A66: 577FA14D550099E4C26B06D9112AAC | B66: 유리주위 코킹 | C66: 5*5, 실리콘 | D66: M | E66: =일위대가!F475 -> 311 | F66: =일위대가!H475 -> 0 | G66: =일위대가!J475 -> 0 | H66: =E66+F66+G66 -> 311 | I66: 호표 63
A67: 577FA14D550099E6F2124EBB35E9C3 | B67: 수밀코킹(실리콘) | C67: 10㎜*10㎜ | D67: M | E67: =일위대가!F480 -> 2034 | F67: =일위대가!H480 -> 5228 | G67: =일위대가!J480 -> 0 | H67: =E67+F67+G67 -> 7262 | I67: 호표 64
A68: 577F814884009D4B2C9F51C8A94FE4 | B68: 잡철물 제작 및 설치 | C68: 현장제작 설치, 경량철재 | D68: kg | E68: =일위대가!F489 -> 138 | F68: =일위대가!H489 -> 6925 | G68: =일위대가!J489 -> 277 | H68: =E68+F68+G68 -> 7340 | I68: 호표 65
A69: 577FA14D55009B93451B63629413AD | B69: 수밀코킹 | C69: 재료비 별도 | D69: M | E69: =일위대가!F493 -> 0 | F69: =일위대가!H493 -> 5228 | G69: =일위대가!J493 -> 0 | H69: =E69+F69+G69 -> 5228 | I69: 호표 66
A70: 577F814884009B9CA9EAF3AE3E7F37 | B70: 스텐후레임 | C70: ㅁ100*120,Mirror 1.2t | D70: M | E70: =일위대가!F498 -> 30791 | F70: =일위대가!H498 -> 28946 | G70: =일위대가!J498 -> 1157 | H70: =E70+F70+G70 -> 60894 | I70: 호표 67
A71: 577FE146FB00945DFB817F31C2C281 | B71: 강재창호 설치 / 여닫이 | C71: 창호면적 m2, 1.0 ~ 3.0 이하 | D71: 개소 | E71: =일위대가!F504 -> 0 | F71: =일위대가!H504 -> 124508 | G71: =일위대가!J504 -> 3735 | H71: =E71+F71+G71 -> 128243 | I71: 호표 68
A72: 577FE14680009449DD17377660C81C | B72: 플로어힌지 설치 | C72: 재료비 별도 | D72: 개소 | E72: =일위대가!F510 -> 0 | F72: =일위대가!H510 -> 31989 | G72: =일위대가!J510 -> 639 | H72: =E72+F72+G72 -> 32628 | I72: 호표 69
A73: 577FE1468000971F6BB939A8D8BD3E | B73: 도어록 설치 / 일반도어록 강재창호 | C73: 재료비 별도 | D73: 개소 | E73: =일위대가!F515 -> 0 | F73: =일위대가!H515 -> 5932 | G73: =일위대가!J515 -> 118 | H73: =E73+F73+G73 -> 6050 | I73: 호표 70
A74: 577F814884009B9CA9EAF3AE3E7F30 | B74: 스텐후레임 | C74: ㅁ100*180,Mirror 1.2t | D74: M | E74: =일위대가!F520 -> 39189 | F74: =일위대가!H520 -> 36841 | G74: =일위대가!J520 -> 1473 | H74: =E74+F74+G74 -> 77503 | I74: 호표 71
A75: 577FE1468000971F6BB93A4F428FDB | B75: 도어록 설치 / 일반도어록 목재창호 | C75: 재료비 별도 | D75: 개소 | E75: =일위대가!F525 -> 0 | F75: =일위대가!H525 -> 7662 | G75: =일위대가!J525 -> 306 | H75: =E75+F75+G75 -> 7968 | I75: 호표 72
A76: 577F5145B90097C1978E4F75A1EC64 | B76: ㄱ형강 설치(현장제작) | C76: ㄱ형강,등변,40*40*5t. 방청페인트 | D76: M | E76: =일위대가!F536 -> 3785 | F76: =일위대가!H536 -> 18267 | G76: =일위대가!J536 -> 846 | H76: =E76+F76+G76 -> 22898 | I76: 호표 73
A77: 577FC1433D009A3F27B3253759E709 | B77: 석고보드면 바탕만들기 재료비 | C77: 줄퍼티(20년 품셈 기준) | D77: M2 | E77: =일위대가!F541 -> 1789 | F77: =일위대가!H541 -> 0 | G77: =일위대가!J541 -> 0 | H77: =E77+F77+G77 -> 1789 | I77: 호표 74
A78: 577FC1433D009A3F27B32536B3006F | B78: 석고보드면 바탕만들기 | C78: 줄퍼티 노무비 | D78: M2 | E78: =일위대가!F547 -> 437 | F78: =일위대가!H547 -> 10926 | G78: =일위대가!J547 -> 0 | H78: =E78+F78+G78 -> 11363 | I78: 호표 75
A79: 577FC14234009E85BE1A071F61A1F1 | B79: 수성페인트 롤러칠 재료비(20년 품셈기준) | C79: 내부, 2회, 1급, 합성수지에멀션페인트 | D79: M2 | E79: =일위대가!F551 -> 665 | F79: =일위대가!H551 -> 0 | G79: =일위대가!J551 -> 0 | H79: =E79+F79+G79 -> 665 | I79: 호표 76
A80: 577FC14234009E85BE1A071F636CB1 | B80: 수성페인트 롤러칠 | C80: 2회 노무비 | D80: M2 | E80: =일위대가!F559 -> 140 | F80: =일위대가!H559 -> 7000 | G80: =일위대가!J559 -> 0 | H80: =E80+F80+G80 -> 7140 | I80: 호표 77
A81: 577FC1433D009A3F27B320B479A348 | B81: 목재면 바탕만들기 | C81: 퍼티 및 연마 노무비 | D81: M2 | E81: =일위대가!F565 -> 76 | F81: =일위대가!H565 -> 2539 | G81: =일위대가!J565 -> 0 | H81: =E81+F81+G81 -> 2615 | I81: 호표 78
A82: 577FC1422A009BF63DB5490D5B28C7 | B82: 걸레받이용 페인트칠 | C82: 붓칠 2회 노무비 | D82: M2 | E82: =일위대가!F571 -> 390 | F82: =일위대가!H571 -> 19514 | G82: =일위대가!J571 -> 0 | H82: =E82+F82+G82 -> 19904 | I82: 호표 79
A83: 577FC1422A009BF63DB5490CB4BF9C | B83: 걸레받이용 페인트칠 재료비(20년 품셈기준) | C83: 붓칠, 2회 | D83: M2 | E83: =일위대가!F578 -> 2473 | F83: =일위대가!H578 -> 0 | G83: =일위대가!J578 -> 0 | H83: =E83+F83+G83 -> 2473 | I83: 호표 80
A84: 577FD1405000963886F8984FC6A5C2 | B84: 도배바름 | C84: 합판·석고보드면, 벽 | D84: M2 | E84: =일위대가!F583 -> 0 | F84: =일위대가!H583 -> 7527 | G84: =일위대가!J583 -> 0 | H84: =E84+F84+G84 -> 7527 | I84: 호표 81
A85: 577E31499E00953E304D925A9DE7A5 | B85: 석고판 해체 | C85: 벽 | D85: M2 | E85: =일위대가!F589 -> 0 | F85: =일위대가!H589 -> 5316 | G85: =일위대가!J589 -> 106 | H85: =E85+F85+G85 -> 5422 | I85: 호표 82
A86: 577E31499E00953E304D9C5ED1D865 | B86: PVC계바닥재 해체 | D86: M2 | E86: =일위대가!F594 -> 0 | F86: =일위대가!H594 -> 2229 | G86: =일위대가!J594 -> 0 | H86: =E86+F86+G86 -> 2229 | I86: 호표 83
A87: 577E31499E00953E304D93618FBFF6 | B87: 도배 해체 | C87: 천장 | D87: M2 | E87: =일위대가!F599 -> 0 | F87: =일위대가!H599 -> 3480 | G87: =일위대가!J599 -> 0 | H87: =E87+F87+G87 -> 3480 | I87: 호표 84

Sheet 일위대가
A1: [ 글로벌 교육얼라이언스 인프라 구축공사 ]
A2: 품 명 | B2: 규 격 | C2: 단위 | D2: 수량 | E2: 재 료 비 | G2: 노 무 비 | I2: 경 비 | K2: 합 계 | M2: 비 고 | N2: 일위대가 | O2: 품목코드 | P2: 일위 | Q2: 단산 | R2: 자재 | S2: 손료적용 | T2: 손료저장 | U2: 적용율 | V2: JUK1 | W2: JUK2 | X2: JUK3 | Y2: JUK4 | Z2: JUK5 | AA2: JUK6 | AB2: JUK7 | AC2: JUK8 | AD2: JUK9 | AE2: JUK10 | AF2: JUK11 | AG2: JUK12 | AH2: JUK13 | AI2: JUK14 | AJ2: JUK15 | AK2: JUK16 | AL2: JUK17 | AM2: JUK18 | AN2: JUK19 | AO2: JUK20 | AP2: 할증적용 | AQ2: 할증저장 | AR2: 할증율 | AS2: HAL1 | AT2: HAL2 | AU2: HAL3 | AV2: 자재구분 | AW2: 일위대가+자재 | AX2: 장비일위 | AY2: 설정 | AZ2: 할증체크
E3: 단 가 | F3: 금 액 | G3: 단 가 | H3: 금 액 | I3: 단 가 | J3: 금 액 | K3: 단 가 | L3: 금 액
A4: 건축물 현장정리 개보수 M2 ( 호표 1 ) | N4: 577F314002009C656E7866FC0CF37D
A5: 보통인부 | B5: 일반공사 직종 | C5: 인 | D5: 0.025 | E5: =단가대비표!O78 -> 0 | F5: =TRUNC(E5*D5,1) -> 0 | G5: =단가대비표!P78 -> 172068 | H5: =TRUNC(G5*D5,1) -> 4301.7 | I5: =단가대비표!V78 -> 0 | J5: =TRUNC(I5*D5,1) -> 0 | K5: =TRUNC(E5+G5+I5,1) -> 172068 | L5: =TRUNC(F5+H5+J5,1) -> 4301.7 | N5: 577F314002009C656E7866FC0CF37D | O5: 57A5614386009B6C7DDD92AB9F90B45D6C2A90 | P5: F | Q5: F | R5: T | AW5: 577F314002009C656E7866FC0CF37D57A5614386009B6C7DDD92AB9F90B45D6C2A90
A6: [ 합 계 ] | F6: =TRUNC(SUMIF(N5:N5, N4, F5:F5),0) -> 0 | H6: =TRUNC(SUMIF(N5:N5, N4, H5:H5),0) -> 4301 | J6: =TRUNC(SUMIF(N5:N5, N4, J5:J5),0) -> 0 | L6: =F6+H6+J6 -> 4301 | N6: TOTAL | O6: TOTAL
A8: 강관 조립말비계(이동식)설치 및 해체 높이 2m, 3개월 대 ( 호표 2 ) | N8: 577F31405A009D57E8AB46EA69AC4B
A9: 비계안정장치 | B9: 비계안정장치, 비계기본틀, 기둥, 1.2*1.7m | C9: 개 | D9: 0.14 | E9: =단가대비표!O46 -> 27739 | F9: =TRUNC(E9*D9,1) -> 3883.4 | G9: =단가대비표!P46 -> 0 | H9: =TRUNC(G9*D9,1) -> 0 | I9: =단가대비표!V46 -> 0 | J9: =TRUNC(I9*D9,1) -> 0 | K9: =TRUNC(E9+G9+I9,1) -> 27739 | L9: =TRUNC(F9+H9+J9,1) -> 3883.4 | N9: 577F31405A009D57E8AB46EA69AC4B | O9: 505C114A43009778A7237EAC1754A8878F3917 | P9: F | Q9: F | R9: T | AW9: 577F31405A009D57E8AB46EA69AC4B505C114A43009778A7237EAC1754A8878F3917
A10: 비계안정장치 | B10: 비계안정장치, 가새, 1.2*1.9m | C10: 개 | D10: 0.14 | E10: =단가대비표!O47 -> 9246 | F10: =TRUNC(E10*D10,1) -> 1294.4 | G10: =단가대비표!P47 -> 0 | H10: =TRUNC(G10*D10,1) -> 0 | I10: =단가대비표!V47 -> 0 | J10: =TRUNC(I10*D10,1) -> 0 | K10: =TRUNC(E10+G10+I10,1) -> 9246 | L10: =TRUNC(F10+H10+J10,1) -> 1294.4 | N10: 577F31405A009D57E8AB46EA69AC4B | O10: 505C114A43009778A7237EAC1754A8878F3919 | P10: F | Q10: F | R10: T | AW10: 577F31405A009D57E8AB46EA69AC4B505C114A43009778A7237EAC1754A8878F3919
A11: 비계안정장치 | B11: 비계안정장치, 수평띠장, 1829mm | C11: 개 | D11: 0.28 | E11: =단가대비표!O48 -> 25000 | F11: =TRUNC(E11*D11,1) -> 7000 | G11: =단가대비표!P48 -> 0 | H11: =TRUNC(G11*D11,1) -> 0 | I11: =단가대비표!V48 -> 0 | J11: =TRUNC(I11*D11,1) -> 0 | K11: =TRUNC(E11+G11+I11,1) -> 25000 | L11: =TRUNC(F11+H11+J11,1) -> 7000 | N11: 577F31405A009D57E8AB46EA69AC4B | O11: 505C114A43009778A7237EAC1754A8878F365E | P11: F | Q11: F | R11: T | AW11: 577F31405A009D57E8AB46EA69AC4B505C114A43009778A7237EAC1754A8878F365E
A12: 비계안정장치 | B12: 비계안정장치, 손잡이기둥 | C12: 개 | D12: 0.28 | E12: =단가대비표!O51 -> 5700 | F12: =TRUNC(E12*D12,1) -> 1596 | G12: =단가대비표!P51 -> 0 | H12: =TRUNC(G12*D12,1) -> 0 | I12: =단가대비표!V51 -> 0 | J12: =TRUNC(I12*D12,1) -> 0 | K12: =TRUNC(E12+G12+I12,1) -> 5700 | L12: =TRUNC(F12+H12+J12,1) -> 1596 | N12: 577F31405A009D57E8AB46EA69AC4B | O12: 505C114A43009778A7237EAC1754A8878F3659 | P12: F | Q12: F | R12: T | AW12: 577F31405A009D57E8AB46EA69AC4B505C114A43009778A7237EAC1754A8878F3659
A13: 비계안정장치 | B13: 비계안정장치, 손잡이, 1229mm | C13: 개 | D13: 0.14 | E13: =단가대비표!O49 -> 1440 | F13: =TRUNC(E13*D13,1) -> 201.6 | G13: =단가대비표!P49 -> 0 | H13: =TRUNC(G13*D13,1) -> 0 | I13: =단가대비표!V49 -> 0 | J13: =TRUNC(I13*D13,1) -> 0 | K13: =TRUNC(E13+G13+I13,1) -> 1440 | L13: =TRUNC(F13+H13+J13,1) -> 201.6 | N13: 577F31405A009D57E8AB46EA69AC4B | O13: 505C114A43009778A7237EAC1754A8878F365F | P13: F | Q13: F | R13: T | AW13: 577F31405A009D57E8AB46EA69AC4B505C114A43009778A7237EAC1754A8878F365F
A14: 비계안정장치 | B14: 비계안정장치, 손잡이, 1829mm | C14: 개 | D14: 0.28 | E14: =단가대비표!O50 -> 2100 | F14: =TRUNC(E14*D14,1) -> 588 | G14: =단가대비표!P50 -> 0 | H14: =TRUNC(G14*D14,1) -> 0 | I14: =단가대비표!V50 -> 0 | J14: =TRUNC(I14*D14,1) -> 0 | K14: =TRUNC(E14+G14+I14,1) -> 2100 | L14: =TRUNC(F14+H14+J14,1) -> 588 | N14: 577F31405A009D57E8AB46EA69AC4B | O14: 505C114A43009778A7237EAC1754A8878F3658 | P14: F | Q14: F | R14: T | AW14: 577F31405A009D57E8AB46EA69AC4B505C114A43009778A7237EAC1754A8878F3658
A15: 비계안정장치 | B15: 비계안정장치, 바퀴 | C15: 개 | D15: 0.36 | E15: =단가대비표!O52 -> 9500 | F15: =TRUNC(E15*D15,1) -> 3420 | G15: =단가대비표!P52 -> 0 | H15: =TRUNC(G15*D15,1) -> 0 | I15: =단가대비표!V52 -> 0 | J15: =TRUNC(I15*D15,1) -> 0 | K15: =TRUNC(E15+G15+I15,1) -> 9500 | L15: =TRUNC(F15+H15+J15,1) -> 3420 | N15: 577F31405A009D57E8AB46EA69AC4B | O15: 505C114A43009778A7237EAC1754A8878F365A | P15: F | Q15: F | R15: T | AW15: 577F31405A009D57E8AB46EA69AC4B505C114A43009778A7237EAC1754A8878F365A
A16: 비계안정장치 | B16: 비계안정장치, 쟈키 | C16: 개 | D16: 0.36 | E16: =단가대비표!O53 -> 11000 | F16: =TRUNC(E16*D16,1) -> 3960 | G16: =단가대비표!P53 -> 0 | H16: =TRUNC(G16*D16,1) -> 0 | I16: =단가대비표!V53 -> 0 | J16: =TRUNC(I16*D16,1) -> 0 | K16: =TRUNC(E16+G16+I16,1) -> 11000 | L16: =TRUNC(F16+H16+J16,1) -> 3960 | N16: 577F31405A009D57E8AB46EA69AC4B | O16: 505C114A43009778A7237EAC1754A8878F365B | P16: F | Q16: F | R16: T | AW16: 577F31405A009D57E8AB46EA69AC4B505C114A43009778A7237EAC1754A8878F365B
A17: 비계안정장치 | B17: 비계안정장치, 계단식발판, 볼록철판, 0.4×1829mm | C17: 장 | D17: 0.63 | E17: =단가대비표!O54 -> 18500 | F17: =TRUNC(E17*D17,1) -> 11655 | G17: =단가대비표!P54 -> 0 | H17: =TRUNC(G17*D17,1) -> 0 | I17: =단가대비표!V54 -> 0 | J17: =TRUNC(I17*D17,1) -> 0 | K17: =TRUNC(E17+G17+I17,1) -> 18500 | L17: =TRUNC(F17+H17+J17,1) -> 11655 | N17: 577F31405A009D57E8AB46EA69AC4B | O17: 505C114A43009778A7237EAC15ABB1D5F1C86C | P17: F | Q17: F | R17: T | AW17: 577F31405A009D57E8AB46EA69AC4B505C114A43009778A7237EAC15ABB1D5F1C86C
A18: 강관 조립말비계(이동식)설치 및 해체 | B18: 높이 2m, 노무비 | C18: 대 | D18: 1 | E18: =일위대가목록!E44 -> 0 | F18: =TRUNC(E18*D18,1) -> 0 | G18: =일위대가목록!F44 -> 94574 | H18: =TRUNC(G18*D18,1) -> 94574 | I18: =일위대가목록!G44 -> 0 | J18: =TRUNC(I18*D18,1) -> 0 | K18: =TRUNC(E18+G18+I18,1) -> 94574 | L18: =TRUNC(F18+H18+J18,1) -> 94574 | N18: 577F31405A009D57E8AB46EA69AC4B | O18: 577F31405A009D57E8AB46EB709E02 | P18: T | Q18: F | R18: F | AW18: 577F31405A009D57E8AB46EA69AC4B577F31405A009D57E8AB46EB709E02
A19: [ 합 계 ] | F19: =TRUNC(SUMIF(N9:N18, N8, F9:F18),0) -> 33598 | H19: =TRUNC(SUMIF(N9:N18, N8, H9:H18),0) -> 94574 | J19: =TRUNC(SUMIF(N9:N18, N8, J9:J18),0) -> 0 | L19: =F19+H19+J19 -> 128172 | N19: TOTAL | O19: TOTAL
A21: 건축물보양 보양지 붙이기 M2 ( 호표 3 ) | N21: 577F314002009F371D57A82F0F1094
A22: 공통자재 | B22: 하드롱지 | C22: M2 | D22: 1.2 | E22: =단가대비표!O8 -> 479 | F22: =TRUNC(E22*D22,1) -> 574.8 | G22: =단가대비표!P8 -> 0 | H22: =TRUNC(G22*D22,1) -> 0 | I22: =단가대비표!V8 -> 0 | J22: =TRUNC(I22*D22,1) -> 0 | K22: =TRUNC(E22+G22+I22,1) -> 479 | L22: =TRUNC(F22+H22+J22,1) -> 574.8 | N22: 577F314002009F371D57A82F0F1094 | O22: 5043E148E9009C9BFE717E349597E5D17D855E | P22: F | Q22: F | R22: T | AW22: 577F314002009F371D57A82F0F10945043E148E9009C9BFE717E349597E5D17D855E
A23: 합성풀 | B23: 합성풀, 건설용 | C23: kg | D23: 0.06 | E23: =단가대비표!O61 -> 0 | F23: =TRUNC(E23*D23,1) -> 0 | G23: =단가대비표!P61 -> 0 | H23: =TRUNC(G23*D23,1) -> 0 | I23: =단가대비표!V61 -> 0 | J23: =TRUNC(I23*D23,1) -> 0 | K23: =TRUNC(E23+G23+I23,1) -> 0 | L23: =TRUNC(F23+H23+J23,1) -> 0 | N23: 577F314002009F371D57A82F0F1094 | O23: 505C0149C20095C67D140B78247AFDE14AF04A | P23: F | Q23: F | R23: T | AW23: 577F314002009F371D57A82F0F1094505C0149C20095C67D140B78247AFDE14AF04A
A24: 보통인부 | B24: 일반공사 직종 | C24: 인 | D24: 0.01 | E24: =단가대비표!O78 -> 0 | F24: =TRUNC(E24*D24,1) -> 0 | G24: =단가대비표!P78 -> 172068 | H24: =TRUNC(G24*D24,1) -> 1720.6 | I24: =단가대비표!V78 -> 0 | J24: =TRUNC(I24*D24,1) -> 0 | K24: =TRUNC(E24+G24+I24,1) -> 172068 | L24: =TRUNC(F24+H24+J24,1) -> 1720.6 | N24: 577F314002009F371D57A82F0F1094 | O24: 57A5614386009B6C7DDD92AB9F90B45D6C2A90 | P24: F | Q24: F | R24: T | AW24: 577F314002009F371D57A82F0F109457A5614386009B6C7DDD92AB9F90B45D6C2A90
A25: [ 합 계 ] | F25: =TRUNC(SUMIF(N22:N24, N21, F22:F24),0) -> 574 | H25: =TRUNC(SUMIF(N22:N24, N21, H22:H24),0) -> 1720 | J25: =TRUNC(SUMIF(N22:N24, N21, J22:J24),0) -> 0 | L25: =F25+H25+J25 -> 2294 | N25: TOTAL | O25: TOTAL
A27: 준공청소 M2 ( 호표 4 ) | N27: 577F3140020099AED3F3EB6611D158
A28: 보통인부 | B28: 일반공사 직종 | C28: 인 | D28: 0.02 | E28: =단가대비표!O78 -> 0 | F28: =TRUNC(E28*D28,1) -> 0 | G28: =단가대비표!P78 -> 172068 | H28: =TRUNC(G28*D28,1) -> 3441.3 | I28: =단가대비표!V78 -> 0 | J28: =TRUNC(I28*D28,1) -> 0 | K28: =TRUNC(E28+G28+I28,1) -> 172068 | L28: =TRUNC(F28+H28+J28,1) -> 3441.3 | N28: 577F3140020099AED3F3EB6611D158 | O28: 57A5614386009B6C7DDD92AB9F90B45D6C2A90 | P28: F | Q28: F | R28: T | AW28: 577F3140020099AED3F3EB6611D15857A5614386009B6C7DDD92AB9F90B45D6C2A90
A29: [ 합 계 ] | F29: =TRUNC(SUMIF(N28:N28, N27, F28:F28),0) -> 0 | H29: =TRUNC(SUMIF(N28:N28, N27, H28:H28),0) -> 3441 | J29: =TRUNC(SUMIF(N28:N28, N27, J28:J28),0) -> 0 | L29: =F29+H29+J29 -> 3441 | N29: TOTAL | O29: TOTAL
A31: 경량천장철골틀 설치 M-BAR H:1m이하,인서트무 M2 ( 호표 5 ) | N31: 577F8148C2009BD0098209C268119B
A32: 경량철골천장틀 | B32: 경량철골천장틀, 달대볼트, 상6*500mm | C32: 개 | D32: 1.362 | E32: =단가대비표!O23 -> 270 | F32: =TRUNC(E32*D32,1) -> 367.7 | G32: =단가대비표!P23 -> 0 | H32: =TRUNC(G32*D32,1) -> 0 | I32: =단가대비표!V23 -> 0 | J32: =TRUNC(I32*D32,1) -> 0 | K32: =TRUNC(E32+G32+I32,1) -> 270 | L32: =TRUNC(F32+H32+J32,1) -> 367.7 | N32: 577F8148C2009BD0098209C268119B | O32: 505C114A430098012657C0FA7A73679825FA9D | P32: F | Q32: F | R32: T | AW32: 577F8148C2009BD0098209C268119B505C114A430098012657C0FA7A73679825FA9D
A33: 경량철골천장틀 | B33: 경량철골천장틀, 캐링찬넬, 38*12*1.2mm | C33: M | D33: 1.222 | E33: =단가대비표!O24 -> 1290 | F33: =TRUNC(E33*D33,1) -> 1576.3 | G33: =단가대비표!P24 -> 0 | H33: =TRUNC(G33*D33,1) -> 0 | I33: =단가대비표!V24 -> 0 | J33: =TRUNC(I33*D33,1) -> 0 | K33: =TRUNC(E33+G33+I33,1) -> 1290 | L33: =TRUNC(F33+H33+J33,1) -> 1576.3 | N33: 577F8148C2009BD0098209C268119B | O33: 505C114A430098012657C0FA7A73679825F9F5 | P33: F | Q33: F | R33: T | AW33: 577F8148C2009BD0098209C268119B505C114A430098012657C0FA7A73679825F9F5
A34: 경량철골천장틀 | B34: 경량철골천장틀, 마이너찬넬, 19*10*1.2mm | C34: M | D34: 0.525 | E34: =단가대비표!O25 -> 800 | F34: =TRUNC(E34*D34,1) -> 420 | G34: =단가대비표!P25 -> 0 | H34: =TRUNC(G34*D34,1) -> 0 | I34: =단가대비표!V25 -> 0 | J34: =TRUNC(I34*D34,1) -> 0 | K34: =TRUNC(E34+G34+I34,1) -> 800 | L34: =TRUNC(F34+H34+J34,1) -> 420 | N34: 577F8148C2009BD0098209C268119B | O34: 505C114A430098012657C0FA7A73679825F9F4 | P34: F | Q34: F | R34: T | AW34: 577F8148C2009BD0098209C268119B505C114A430098012657C0FA7A73679825F9F4
A35: 경량철골천장틀 | B35: 경량철골천장틀, 행가및핀, 110*23*18*2.3mm | C35: 조 | D35: 1.362 | E35: =단가대비표!O26 -> 310 | F35: =TRUNC(E35*D35,1) -> 422.2 | G35: =단가대비표!P26 -> 0 | H35: =TRUNC(G35*D35,1) -> 0 | I35: =단가대비표!V26 -> 0 | J35: =TRUNC(I35*D35,1) -> 0 | K35: =TRUNC(E35+G35+I35,1) -> 310 | L35: =TRUNC(F35+H35+J35,1) -> 422.2 | N35: 577F8148C2009BD0098209C268119B | O35: 505C114A430098012657C0FA7A73679825F9F7 | P35: F | Q35: F | R35: T | AW35: 577F8148C2009BD0098209C268119B505C114A430098012657C0FA7A73679825F9F7
A36: 경량철골천장틀 | B36: 경량철골천장틀, 찬넬크립, 37*30*10*1.2mm | C36: 조 | D36: 0.584 | E36: =단가대비표!O27 -> 111 | F36: =TRUNC(E36*D36,1) -> 64.8 | G36: =단가대비표!P27 -> 0 | H36: =TRUNC(G36*D36,1) -> 0 | I36: =단가대비표!V27 -> 0 | J36: =TRUNC(I36*D36,1) -> 0 | K36: =TRUNC(E36+G36+I36,1) -> 111 | L36: =TRUNC(F36+H36+J36,1) -> 64.8 | N36: 577F8148C2009BD0098209C268119B | O36: 505C114A430098012657C0FA7A73679825F9F6 | P36: F | Q36: F | R36: T | AW36: 577F8148C2009BD0098209C268119B505C114A430098012657C0FA7A73679825F9F6
A37: 경량철골천장틀 | B37: 경량철골천장틀, 캐링조인트, 90*40*13*0.5mm | C37: 조 | D37: 0.195 | E37: =단가대비표!O28 -> 107 | F37: =TRUNC(E37*D37,1) -> 20.8 | G37: =단가대비표!P28 -> 0 | H37: =TRUNC(G37*D37,1) -> 0 | I37: =단가대비표!V28 -> 0 | J37: =TRUNC(I37*D37,1) -> 0 | K37: =TRUNC(E37+G37+I37,1) -> 107 | L37: =TRUNC(F37+H37+J37,1) -> 20.8 | N37: 577F8148C2009BD0098209C268119B | O37: 505C114A430098012657C0FA7A73679825F9F1 | P37: F | Q37: F | R37: T | AW37: 577F8148C2009BD0098209C268119B505C114A430098012657C0FA7A73679825F9F1
A38: 경량철골천장틀 | B38: 경량철골천장틀, M-BAR더블, 50*19*0.5mm | C38: M | D38: 3.675 | E38: =단가대비표!O22 -> 1550 | F38: =TRUNC(E38*D38,1) -> 5696.2 | G38: =단가대비표!P22 -> 0 | H38: =TRUNC(G38*D38,1) -> 0 | I38: =단가대비표!V22 -> 0 | J38: =TRUNC(I38*D38,1) -> 0 | K38: =TRUNC(E38+G38+I38,1) -> 1550 | L38: =TRUNC(F38+H38+J38,1) -> 5696.2 | N38: 577F8148C2009BD0098209C268119B | O38: 505C114A430098012657C0FA7A73679825FD6B | P38: F | Q38: F | R38: T | AW38: 577F8148C2009BD0098209C268119B505C114A430098012657C0FA7A73679825FD6B
A39: 경량철골천장틀 | B39: 경량철골천장틀, BAR크립, 더블 | C39: 개 | D39: 4.084 | E39: =단가대비표!O29 -> 60 | F39: =TRUNC(E39*D39,1) -> 245 | G39: =단가대비표!P29 -> 0 | H39: =TRUNC(G39*D39,1) -> 0 | I39: =단가대비표!V29 -> 0 | J39: =TRUNC(I39*D39,1) -> 0 | K39: =TRUNC(E39+G39+I39,1) -> 60 | L39: =TRUNC(F39+H39+J39,1) -> 245 | N39: 577F8148C2009BD0098209C268119B | O39: 505C114A430098012657C0FA7A73679825F9F0 | P39: F | Q39: F | R39: T | AW39: 577F8148C2009BD0098209C268119B505C114A430098012657C0FA7A73679825F9F0
A40: 경량철골천장틀 | B40: 경량철골천장틀, BAR조인트, 더블 | C40: 개 | D40: 0.584 | E40: =단가대비표!O30 -> 80 | F40: =TRUNC(E40*D40,1) -> 46.7 | G40: =단가대비표!P30 -> 0 | H40: =TRUNC(G40*D40,1) -> 0 | I40: =단가대비표!V30 -> 0 | J40: =TRUNC(I40*D40,1) -> 0 | K40: =TRUNC(E40+G40+I40,1) -> 80 | L40: =TRUNC(F40+H40+J40,1) -> 46.7 | N40: 577F8148C2009BD0098209C268119B | O40: 505C114A430098012657C0FA7A73679825F9F2 | P40: F | Q40: F | R40: T | AW40: 577F8148C2009BD0098209C268119B505C114A430098012657C0FA7A73679825F9F2
A41: 경량철골천장틀 | B41: 경량철골천장틀, 피스, 3×16mm | C41: 개 | D41: 42.33 | E41: =단가대비표!O32 -> 4.7 | F41: =TRUNC(E41*D41,1) -> 198.9 | G41: =단가대비표!P32 -> 0 | H41: =TRUNC(G41*D41,1) -> 0 | I41: =단가대비표!V32 -> 0 | J41: =TRUNC(I41*D41,1) -> 0 | K41: =TRUNC(E41+G41+I41,1) -> 4.7 | L41: =TRUNC(F41+H41+J41,1) -> 198.9 | M41: 십자작은나사 철판용 | N41: 577F8148C2009BD0098209C268119B | O41: 505C114A430098012657C0FA7A73679825F621 | P41: F | Q41: F | R41: T | AW41: 577F8148C2009BD0098209C268119B505C114A430098012657C0FA7A73679825F621
A42: 경량천장철골틀 설치 | B42: BAR 간격 300mm | C42: M2 | D42: 1 | E42: =일위대가목록!E45 -> 0 | F42: =TRUNC(E42*D42,1) -> 0 | G42: =일위대가목록!F45 -> 11402 | H42: =TRUNC(G42*D42,1) -> 11402 | I42: =일위대가목록!G45 -> 684 | J42: =TRUNC(I42*D42,1) -> 684 | K42: =TRUNC(E42+G42+I42,1) -> 12086 | L42: =TRUNC(F42+H42+J42,1) -> 12086 | M42: 호표 128 | N42: 577F8148C2009BD0098209C268119B | O42: 577F8148C2009BD0098209C268119E | P42: T | Q42: F | R42: F | AW42: 577F8148C2009BD0098209C268119B577F8148C2009BD0098209C268119E
A43: [ 합 계 ] | F43: =TRUNC(SUMIF(N32:N42, N31, F32:F42),0) -> 9058 | H43: =TRUNC(SUMIF(N32:N42, N31, H32:H42),0) -> 11402 | J43: =TRUNC(SUMIF(N32:N42, N31, J32:J42),0) -> 684 | L43: =F43+H43+J43 -> 21144 | N43: TOTAL | O43: TOTAL
A45: 천정텍스 설치 300*600*9.5T, 석고계텍스 M2 ( 호표 6 ) | N45: 577FD14046009054615EA4A2825D9D
A46: 불연천장재 | B46: 불연천장재, 석고텍스, 9mm | C46: M2 | D46: 1.05 | E46: =단가대비표!O21 -> 8400 | F46: =TRUNC(E46*D46,1) -> 8820 | G46: =단가대비표!P21 -> 0 | H46: =TRUNC(G46*D46,1) -> 0 | I46: =단가대비표!V21 -> 0 | J46: =TRUNC(I46*D46,1) -> 0 | K46: =TRUNC(E46+G46+I46,1) -> 8400 | L46: =TRUNC(F46+H46+J46,1) -> 8820 | N46: 577FD14046009054615EA4A2825D9D | O46: 505C114A430098012657C602615ED1789DDF7A | P46: F | Q46: F | R46: T | V46: 1 | AW46: 577FD14046009054615EA4A2825D9D505C114A430098012657C602615ED1789DDF7A
A47: 잡재료 | B47: 주재료비의 3% | C47: 식 | D47: 1 | E47: =TRUNC(SUMIF(V46:V48, RIGHTB(O47, 1), F46:F48)*U47, 2) -> 264.6 | F47: =TRUNC(E47*D47,1) -> 264.6 | G47: 0 | H47: =TRUNC(G47*D47,1) -> 0 | I47: 0 | J47: =TRUNC(I47*D47,1) -> 0 | K47: =TRUNC(E47+G47+I47,1) -> 264.6 | L47: =TRUNC(F47+H47+J47,1) -> 264.6 | N47: 577FD14046009054615EA4A2825D9D | O47: 5660F1484A0094DA8E3FE3DCF70E001 | P47: F | Q47: F | R47: F | S47: 0 | T47: 0 | U47: 0.03 | AW47: 577FD14046009054615EA4A2825D9D5660F1484A0094DA8E3FE3DCF70E001
A48: 흡음텍스 설치 | C48: M2 | D48: 1 | E48: =일위대가목록!E46 -> 0 | F48: =TRUNC(E48*D48,1) -> 0 | G48: =일위대가목록!F46 -> 15088 | H48: =TRUNC(G48*D48,1) -> 15088 | I48: =일위대가목록!G46 -> 452 | J48: =TRUNC(I48*D48,1) -> 452 | K48: =TRUNC(E48+G48+I48,1) -> 15540 | L48: =TRUNC(F48+H48+J48,1) -> 15540 | N48: 577FD14046009054615EA4A2825D9D | O48: 577FD14046009054615EA4A2825D9E | P48: T | Q48: F | R48: F | AW48: 577FD14046009054615EA4A2825D9D577FD14046009054615EA4A2825D9E
A49: [ 합 계 ] | F49: =TRUNC(SUMIF(N46:N48, N45, F46:F48),0) -> 9084 | H49: =TRUNC(SUMIF(N46:N48, N45, H46:H48),0) -> 15088 | J49: =TRUNC(SUMIF(N46:N48, N45, J46:J48),0) -> 452 | L49: =F49+H49+J49 -> 24624 | N49: TOTAL | O49: TOTAL
A51: AL몰딩 설치 L형, 19*19*1.0mm M ( 호표 7 ) | N51: 577FD140E600965895107923C311C4
A52: 경량철골천장틀 | B52: 경량철골천장틀, 몰딩(알루미늄), L형, 19*19*1.0mm | C52: M | D52: 1.1 | E52: =단가대비표!O31 -> 1900 | F52: =TRUNC(E52*D52,1) -> 2090 | G52: =단가대비표!P31 -> 0 | H52: =TRUNC(G52*D52,1) -> 0 | I52: =단가대비표!V31 -> 0 | J52: =TRUNC(I52*D52,1) -> 0 | K52: =TRUNC(E52+G52+I52,1) -> 1900 | L52: =TRUNC(F52+H52+J52,1) -> 2090 | N52: 577FD140E600965895107923C311C4 | O52: 505C114A430098012657C0FA7A73679825F7C6 | P52: F | Q52: F | R52: T | V52: 1 | AW52: 577FD140E600965895107923C311C4505C114A430098012657C0FA7A73679825F7C6
A53: 잡재료 | B53: 재료비의 5% | C53: 식 | D53: 1 | E53: =TRUNC(SUMIF(V52:V54, RIGHTB(O53, 1), F52:F54)*U53, 2) -> 104.5 | F53: =TRUNC(E53*D53,1) -> 104.5 | G53: 0 | H53: =TRUNC(G53*D53,1) -> 0 | I53: 0 | J53: =TRUNC(I53*D53,1) -> 0 | K53: =TRUNC(E53+G53+I53,1) -> 104.5 | L53: =TRUNC(F53+H53+J53,1) -> 104.5 | N53: 577FD140E600965895107923C311C4 | O53: 5660F1484A0094DA8E3FE3DCF70E001 | P53: F | Q53: F | R53: F | S53: 0 | T53: 0 | U53: 0.05 | AW53: 577FD140E600965895107923C311C45660F1484A0094DA8E3FE3DCF70E001
A54: 몰딩 설치 | C54: M | D54: 1 | E54: =일위대가목록!E47 -> 0 | F54: =TRUNC(E54*D54,1) -> 0 | G54: =일위대가목록!F47 -> 8990 | H54: =TRUNC(G54*D54,1) -> 8990 | I54: =일위대가목록!G47 -> 359 | J54: =TRUNC(I54*D54,1) -> 359 | K54: =TRUNC(E54+G54+I54,1) -> 9349 | L54: =TRUNC(F54+H54+J54,1) -> 9349 | N54: 577FD140E600965895107923C311C4 | O54: 577FD140E60094AA3949A5EB3C778F | P54: T | Q54: F | R54: F | AW54: 577FD140E600965895107923C311C4577FD140E60094AA3949A5EB3C778F
A55: [ 합 계 ] | F55: =TRUNC(SUMIF(N52:N54, N51, F52:F54),0) -> 2194 | H55: =TRUNC(SUMIF(N52:N54, N51, H52:H54),0) -> 8990 | J55: =TRUNC(SUMIF(N52:N54, N51, J52:J54),0) -> 359 | L55: =F55+H55+J55 -> 11543 | N55: TOTAL | O55: TOTAL
A57: 메탈스터드(C-100) 일반석고9.5T 2겹양면+GW50t(크린매트) M2 ( 호표 8 ) | N57: 577F8148A7009D754819769EAE4034
A58: 석고보드 | B58: 석고보드, 평보드, 9.5*900*1800mm(㎡) | C58: M2 | D58: 4.2 | E58: =단가대비표!O19 -> 2962 | F58: =TRUNC(E58*D58,1) -> 12440.4 | G58: =단가대비표!P19 -> 0 | H58: =TRUNC(G58*D58,1) -> 0 | I58: =단가대비표!V19 -> 0 | J58: =TRUNC(I58*D58,1) -> 0 | K58: =TRUNC(E58+G58+I58,1) -> 2962 | L58: =TRUNC(F58+H58+J58,1) -> 12440.4 | N58: 577F8148A7009D754819769EAE4034 | O58: 505C114A4300980125B0531221A1D00A37C561 | P58: F | Q58: F | R58: T | AW58: 577F8148A7009D754819769EAE4034505C114A4300980125B0531221A1D00A37C561
A59: METAL C-RUNNER | B59: ㉿ 0.8T, 102*40 | C59: M | D59: 1.1 | E59: =단가대비표!O36 -> 3340 | F59: =TRUNC(E59*D59,1) -> 3674 | G59: =단가대비표!P36 -> 0 | H59: =TRUNC(G59*D59,1) -> 0 | I59: =단가대비표!V36 -> 0 | J59: =TRUNC(I59*D59,1) -> 0 | K59: =TRUNC(E59+G59+I59,1) -> 3340 | L59: =TRUNC(F59+H59+J59,1) -> 3674 | N59: 577F8148A7009D754819769EAE4034 | O59: 505C114A430098012657C0FA7A73679824DA22 | P59: F | Q59: F | R59: T | AW59: 577F8148A7009D754819769EAE4034505C114A430098012657C0FA7A73679824DA22
A60: METAL C-STUD | B60: ㉿ 0.8T, 100*45 | C60: M | D60: 2.7 | E60: =단가대비표!O35 -> 3930 | F60: =TRUNC(E60*D60,1) -> 10611 | G60: =단가대비표!P35 -> 0 | H60: =TRUNC(G60*D60,1) -> 0 | I60: =단가대비표!V35 -> 0 | J60: =TRUNC(I60*D60,1) -> 0 | K60: =TRUNC(E60+G60+I60,1) -> 3930 | L60: =TRUNC(F60+H60+J60,1) -> 10611 | N60: 577F8148A7009D754819769EAE4034 | O60: 505C114A430098012657C0FA7A73679824D876 | P60: F | Q60: F | R60: T | AW60: 577F8148A7009D754819769EAE4034505C114A430098012657C0FA7A73679824D876
A61: STUD-SPACER | B61: SP-65,75 | C61: 개 | D61: 5.5 | E61: =단가대비표!O33 -> 200 | F61: =TRUNC(E61*D61,1) -> 1100 | G61: =단가대비표!P33 -> 0 | H61: =TRUNC(G61*D61,1) -> 0 | I61: =단가대비표!V33 -> 0 | J61: =TRUNC(I61*D61,1) -> 0 | K61: =TRUNC(E61+G61+I61,1) -> 200 | L61: =TRUNC(F61+H61+J61,1) -> 1100 | N61: 577F8148A7009D754819769EAE4034 | O61: 505C114A430098012657C0FA7A73679824D918 | P61: F | Q61: F | R61: T | AW61: 577F8148A7009D754819769EAE4034505C114A430098012657C0FA7A73679824D918
A62: CORNER BEAD | B62: 40*40*0.5t | C62: M | D62: 0.7 | E62: =단가대비표!O34 -> 1400 | F62: =TRUNC(E62*D62,1) -> 980 | G62: =단가대비표!P34 -> 0 | H62: =TRUNC(G62*D62,1) -> 0 | I62: =단가대비표!V34 -> 0 | J62: =TRUNC(I62*D62,1) -> 0 | K62: =TRUNC(E62+G62+I62,1) -> 1400 | L62: =TRUNC(F62+H62+J62,1) -> 980 | N62: 577F8148A7009D754819769EAE4034 | O62: 505C114A430098012657C0FA7A73679824D919 | P62: F | Q62: F | R62: T | AW62: 577F8148A7009D754819769EAE4034505C114A430098012657C0FA7A73679824D919
A63: 힐티앵커 | B63: NK-27 | C63: 개 | D63: 3 | E63: =단가대비표!O37 -> 275 | F63: =TRUNC(E63*D63,1) -> 825 | G63: =단가대비표!P37 -> 0 | H63: =TRUNC(G63*D63,1) -> 0 | I63: =단가대비표!V37 -> 0 | J63: =TRUNC(I63*D63,1) -> 0 | K63: =TRUNC(E63+G63+I63,1) -> 275 | L63: =TRUNC(F63+H63+J63,1) -> 825 | N63: 577F8148A7009D754819769EAE4034 | O63: 505C114A430098012657C0FA7A73679824DCE9 | P63: F | Q63: F | R63: T | AW63: 577F8148A7009D754819769EAE4034505C114A430098012657C0FA7A73679824DCE9
A64: Metal Screw | B64: D4.2*13 | C64: 개 | D64: 4 | E64: =단가대비표!O38 -> 7 | F64: =TRUNC(E64*D64,1) -> 28 | G64: =단가대비표!P38 -> 0 | H64: =TRUNC(G64*D64,1) -> 0 | I64: =단가대비표!V38 -> 0 | J64: =TRUNC(I64*D64,1) -> 0 | K64: =TRUNC(E64+G64+I64,1) -> 7 | L64: =TRUNC(F64+H64+J64,1) -> 28 | N64: 577F8148A7009D754819769EAE4034 | O64: 505C114A430098012657C0FA7A73679824DCE6 | P64: F | Q64: F | R64: T | AW64: 577F8148A7009D754819769EAE4034505C114A430098012657C0FA7A73679824DCE6
A65: 집성스큐류 | B65: D4*32 | C65: 개 | D65: 20 | E65: =단가대비표!O39 -> 10 | F65: =TRUNC(E65*D65,1) -> 200 | G65: =단가대비표!P39 -> 0 | H65: =TRUNC(G65*D65,1) -> 0 | I65: =단가대비표!V39 -> 0 | J65: =TRUNC(I65*D65,1) -> 0 | K65: =TRUNC(E65+G65+I65,1) -> 10 | L65: =TRUNC(F65+H65+J65,1) -> 200 | N65: 577F8148A7009D754819769EAE4034 | O65: 505C114A430098012657C0FA7A73679824DCE7 | P65: F | Q65: F | R65: T | AW65: 577F8148A7009D754819769EAE4034505C114A430098012657C0FA7A73679824DCE7
A66: 집성스큐류 | B66: D4*44 | C66: 개 | D66: 40 | E66: =단가대비표!O40 -> 3 | F66: =TRUNC(E66*D66,1) -> 120 | G66: =단가대비표!P40 -> 0 | H66: =TRUNC(G66*D66,1) -> 0 | I66: =단가대비표!V40 -> 0 | J66: =TRUNC(I66*D66,1) -> 0 | K66: =TRUNC(E66+G66+I66,1) -> 3 | L66: =TRUNC(F66+H66+J66,1) -> 120 | N66: 577F8148A7009D754819769EAE4034 | O66: 505C114A430098012657C0FA7A73679824DFA3 | P66: F | Q66: F | R66: T | AW66: 577F8148A7009D754819769EAE4034505C114A430098012657C0FA7A73679824DFA3
A67: 섬유단열재 | B67: 섬유단열재, 밀도24kg/㎥, 50mm, 유리면크린매트 | C67: M2 | D67: 1.1 | E67: =단가대비표!O14 -> 4520 | F67: =TRUNC(E67*D67,1) -> 4972 | G67: =단가대비표!P14 -> 0 | H67: =TRUNC(G67*D67,1) -> 0 | I67: =단가대비표!V14 -> 0 | J67: =TRUNC(I67*D67,1) -> 0 | K67: =TRUNC(E67+G67+I67,1) -> 4520 | L67: =TRUNC(F67+H67+J67,1) -> 4972 | N67: 577F8148A7009D754819769EAE4034 | O67: 505C114A43009ACCBA22B15F74B00088F58ED7 | P67: F | Q67: F | R67: T | AW67: 577F8148A7009D754819769EAE4034505C114A43009ACCBA22B15F74B00088F58ED7
A68: 보온핀 | B68: 50T | C68: M2 | D68: 6 | E68: =단가대비표!O41 -> 82 | F68: =TRUNC(E68*D68,1) -> 492 | G68: =단가대비표!P41 -> 0 | H68: =TRUNC(G68*D68,1) -> 0 | I68: =단가대비표!V41 -> 0 | J68: =TRUNC(I68*D68,1) -> 0 | K68: =TRUNC(E68+G68+I68,1) -> 82 | L68: =TRUNC(F68+H68+J68,1) -> 492 | N68: 577F8148A7009D754819769EAE4034 | O68: 505C114A430098012657C0FA7A73679824DFA2 | P68: F | Q68: F | R68: T | AW68: 577F8148A7009D754819769EAE4034505C114A430098012657C0FA7A73679824DFA2
A69: 조인트테이프 | B69: 7.5CM | C69: M | D69: 2.6 | E69: =단가대비표!O42 -> 150 | F69: =TRUNC(E69*D69,1) -> 390 | G69: =단가대비표!P42 -> 0 | H69: =TRUNC(G69*D69,1) -> 0 | I69: =단가대비표!V42 -> 0 | J69: =TRUNC(I69*D69,1) -> 0 | K69: =TRUNC(E69+G69+I69,1) -> 150 | L69: =TRUNC(F69+H69+J69,1) -> 390 | N69: 577F8148A7009D754819769EAE4034 | O69: 505C114A430098012657C0FA7A73679824DFA1 | P69: F | Q69: F | R69: T | AW69: 577F8148A7009D754819769EAE4034505C114A430098012657C0FA7A73679824DFA1
A70: 경량벽체철골틀 설치 | C70: M2 | D70: 1 | E70: =일위대가목록!E48 -> 0 | F70: =TRUNC(E70*D70,1) -> 0 | G70: =일위대가목록!F48 -> 10544 | H70: =TRUNC(G70*D70,1) -> 10544 | I70: =일위대가목록!G48 -> 632 | J70: =TRUNC(I70*D70,1) -> 632 | K70: =TRUNC(E70+G70+I70,1) -> 11176 | L70: =TRUNC(F70+H70+J70,1) -> 11176 | N70: 577F8148A7009D754819769EAE4034 | O70: 577F8148A7009D754819769EAE4388 | P70: T | Q70: F | R70: F | AW70: 577F8148A7009D754819769EAE4034577F8148A7009D754819769EAE4388
A71: 단열재 격자넣기 | B71: 50mm 이하, 벽 | C71: M2 | D71: 1 | E71: =일위대가목록!E49 -> 0 | F71: =TRUNC(E71*D71,1) -> 0 | G71: =일위대가목록!F49 -> 8658 | H71: =TRUNC(G71*D71,1) -> 8658 | I71: =일위대가목록!G49 -> 0 | J71: =TRUNC(I71*D71,1) -> 0 | K71: =TRUNC(E71+G71+I71,1) -> 8658 | L71: =TRUNC(F71+H71+J71,1) -> 8658 | N71: 577F8148A7009D754819769EAE4034 | O71: 577FD1403500985F129E53733676F5 | P71: T | Q71: F | R71: F | AW71: 577F8148A7009D754819769EAE4034577FD1403500985F129E53733676F5
A72: 석고판 설치(나사고정) - 바탕용 | B72: 벽, 2겹 붙임 | C72: M2 | D72: 2 | E72: =일위대가목록!E50 -> 0 | F72: =TRUNC(E72*D72,1) -> 0 | G72: =일위대가목록!F50 -> 15088 | H72: =TRUNC(G72*D72,1) -> 30176 | I72: =일위대가목록!G50 -> 150 | J72: =TRUNC(I72*D72,1) -> 300 | K72: =TRUNC(E72+G72+I72,1) -> 15238 | L72: =TRUNC(F72+H72+J72,1) -> 30476 | N72: 577F8148A7009D754819769EAE4034 | O72: 577FD1404600932B924FDB98ED16A6 | P72: T | Q72: F | R72: F | AW72: 577F8148A7009D754819769EAE4034577FD1404600932B924FDB98ED16A6
A73: [ 합 계 ] | F73: =TRUNC(SUMIF(N58:N72, N57, F58:F72),0) -> 35832 | H73: =TRUNC(SUMIF(N58:N72, N57, H58:H72),0) -> 49378 | J73: =TRUNC(SUMIF(N58:N72, N57, J58:J72),0) -> 932 | L73: =F73+H73+J73 -> 86142 | N73: TOTAL | O73: TOTAL
A75: 메탈스터드(C-100) 차음석고12.5T 2겹양면+GW50t(크린매트) M2 ( 호표 9 ) | N75: 577F8148A7009D754819769EAE4035
A76: 석고보드 | B76: 차음석고보드, 12.5T×900×1800㎜ | C76: M2 | D76: 4.2 | E76: =단가대비표!O20 -> 4632 | F76: =TRUNC(E76*D76,1) -> 19454.4 | G76: =단가대비표!P20 -> 0 | H76: =TRUNC(G76*D76,1) -> 0 | I76: =단가대비표!V20 -> 0 | J76: =TRUNC(I76*D76,1) -> 0 | K76: =TRUNC(E76+G76+I76,1) -> 4632 | L76: =TRUNC(F76+H76+J76,1) -> 19454.4 | N76: 577F8148A7009D754819769EAE4035 | O76: 505C114A4300980125B053111C7F5973CC4858 | P76: F | Q76: F | R76: T | AW76: 577F8148A7009D754819769EAE4035505C114A4300980125B053111C7F5973CC4858
A77: METAL C-RUNNER | B77: ㉿ 0.8T, 102*40 | C77: M | D77: 1.1 | E77: =단가대비표!O36 -> 3340 | F77: =TRUNC(E77*D77,1) -> 3674 | G77: =단가대비표!P36 -> 0 | H77: =TRUNC(G77*D77,1) -> 0 | I77: =단가대비표!V36 -> 0 | J77: =TRUNC(I77*D77,1) -> 0 | K77: =TRUNC(E77+G77+I77,1) -> 3340 | L77: =TRUNC(F77+H77+J77,1) -> 3674 | N77: 577F8148A7009D754819769EAE4035 | O77: 505C114A430098012657C0FA7A73679824DA22 | P77: F | Q77: F | R77: T | AW77: 577F8148A7009D754819769EAE4035505C114A430098012657C0FA7A73679824DA22
A78: METAL C-STUD | B78: ㉿ 0.8T, 100*45 | C78: M | D78: 2.7 | E78: =단가대비표!O35 -> 3930 | F78: =TRUNC(E78*D78,1) -> 10611 | G78: =단가대비표!P35 -> 0 | H78: =TRUNC(G78*D78,1) -> 0 | I78: =단가대비표!V35 -> 0 | J78: =TRUNC(I78*D78,1) -> 0 | K78: =TRUNC(E78+G78+I78,1) -> 3930 | L78: =TRUNC(F78+H78+J78,1) -> 10611 | N78: 577F8148A7009D754819769EAE4035 | O78: 505C114A430098012657C0FA7A73679824D876 | P78: F | Q78: F | R78: T | AW78: 577F8148A7009D754819769EAE4035505C114A430098012657C0FA7A73679824D876
A79: STUD-SPACER | B79: SP-65,75 | C79: 개 | D79: 5.5 | E79: =단가대비표!O33 -> 200 | F79: =TRUNC(E79*D79,1) -> 1100 | G79: =단가대비표!P33 -> 0 | H79: =TRUNC(G79*D79,1) -> 0 | I79: =단가대비표!V33 -> 0 | J79: =TRUNC(I79*D79,1) -> 0 | K79: =TRUNC(E79+G79+I79,1) -> 200 | L79: =TRUNC(F79+H79+J79,1) -> 1100 | N79: 577F8148A7009D754819769EAE4035 | O79: 505C114A430098012657C0FA7A73679824D918 | P79: F | Q79: F | R79: T | AW79: 577F8148A7009D754819769EAE4035505C114A430098012657C0FA7A73679824D918
A80: CORNER BEAD | B80: 40*40*0.5t | C80: M | D80: 0.7 | E80: =단가대비표!O34 -> 1400 | F80: =TRUNC(E80*D80,1) -> 980 | G80: =단가대비표!P34 -> 0 | H80: =TRUNC(G80*D80,1) -> 0 | I80: =단가대비표!V34 -> 0 | J80: =TRUNC(I80*D80,1) -> 0 | K80: =TRUNC(E80+G80+I80,1) -> 1400 | L80: =TRUNC(F80+H80+J80,1) -> 980 | N80: 577F8148A7009D754819769EAE4035 | O80: 505C114A430098012657C0FA7A73679824D919 | P80: F | Q80: F | R80: T | AW80: 577F8148A7009D754819769EAE4035505C114A430098012657C0FA7A73679824D919
A81: 힐티앵커 | B81: NK-27 | C81: 개 | D81: 3 | E81: =단가대비표!O37 -> 275 | F81: =TRUNC(E81*D81,1) -> 825 | G81: =단가대비표!P37 -> 0 | H81: =TRUNC(G81*D81,1) -> 0 | I81: =단가대비표!V37 -> 0 | J81: =TRUNC(I81*D81,1) -> 0 | K81: =TRUNC(E81+G81+I81,1) -> 275 | L81: =TRUNC(F81+H81+J81,1) -> 825 | N81: 577F8148A7009D754819769EAE4035 | O81: 505C114A430098012657C0FA7A73679824DCE9 | P81: F | Q81: F | R81: T | AW81: 577F8148A7009D754819769EAE4035505C114A430098012657C0FA7A73679824DCE9
A82: Metal Screw | B82: D4.2*13 | C82: 개 | D82: 4 | E82: =단가대비표!O38 -> 7 | F82: =TRUNC(E82*D82,1) -> 28 | G82: =단가대비표!P38 -> 0 | H82: =TRUNC(G82*D82,1) -> 0 | I82: =단가대비표!V38 -> 0 | J82: =TRUNC(I82*D82,1) -> 0 | K82: =TRUNC(E82+G82+I82,1) -> 7 | L82: =TRUNC(F82+H82+J82,1) -> 28 | N82: 577F8148A7009D754819769EAE4035 | O82: 505C114A430098012657C0FA7A73679824DCE6 | P82: F | Q82: F | R82: T | AW82: 577F8148A7009D754819769EAE4035505C114A430098012657C0FA7A73679824DCE6
A83: 집성스큐류 | B83: D4*32 | C83: 개 | D83: 20 | E83: =단가대비표!O39 -> 10 | F83: =TRUNC(E83*D83,1) -> 200 | G83: =단가대비표!P39 -> 0 | H83: =TRUNC(G83*D83,1) -> 0 | I83: =단가대비표!V39 -> 0 | J83: =TRUNC(I83*D83,1) -> 0 | K83: =TRUNC(E83+G83+I83,1) -> 10 | L83: =TRUNC(F83+H83+J83,1) -> 200 | N83: 577F8148A7009D754819769EAE4035 | O83: 505C114A430098012657C0FA7A73679824DCE7 | P83: F | Q83: F | R83: T | AW83: 577F8148A7009D754819769EAE4035505C114A430098012657C0FA7A73679824DCE7
A84: 집성스큐류 | B84: D4*44 | C84: 개 | D84: 40 | E84: =단가대비표!O40 -> 3 | F84: =TRUNC(E84*D84,1) -> 120 | G84: =단가대비표!P40 -> 0 | H84: =TRUNC(G84*D84,1) -> 0 | I84: =단가대비표!V40 -> 0 | J84: =TRUNC(I84*D84,1) -> 0 | K84: =TRUNC(E84+G84+I84,1) -> 3 | L84: =TRUNC(F84+H84+J84,1) -> 120 | N84: 577F8148A7009D754819769EAE4035 | O84: 505C114A430098012657C0FA7A73679824DFA3 | P84: F | Q84: F | R84: T | AW84: 577F8148A7009D754819769EAE4035505C114A430098012657C0FA7A73679824DFA3
A85: 섬유단열재 | B85: 섬유단열재, 밀도24kg/㎥, 50mm, 유리면크린매트 | C85: M2 | D85: 1.1 | E85: =단가대비표!O14 -> 4520 | F85: =TRUNC(E85*D85,1) -> 4972 | G85: =단가대비표!P14 -> 0 | H85: =TRUNC(G85*D85,1) -> 0 | I85: =단가대비표!V14 -> 0 | J85: =TRUNC(I85*D85,1) -> 0 | K85: =TRUNC(E85+G85+I85,1) -> 4520 | L85: =TRUNC(F85+H85+J85,1) -> 4972 | N85: 577F8148A7009D754819769EAE4035 | O85: 505C114A43009ACCBA22B15F74B00088F58ED7 | P85: F | Q85: F | R85: T | AW85: 577F8148A7009D754819769EAE4035505C114A43009ACCBA22B15F74B00088F58ED7
A86: 보온핀 | B86: 50T | C86: M2 | D86: 6 | E86: =단가대비표!O41 -> 82 | F86: =TRUNC(E86*D86,1) -> 492 | G86: =단가대비표!P41 -> 0 | H86: =TRUNC(G86*D86,1) -> 0 | I86: =단가대비표!V41 -> 0 | J86: =TRUNC(I86*D86,1) -> 0 | K86: =TRUNC(E86+G86+I86,1) -> 82 | L86: =TRUNC(F86+H86+J86,1) -> 492 | N86: 577F8148A7009D754819769EAE4035 | O86: 505C114A430098012657C0FA7A73679824DFA2 | P86: F | Q86: F | R86: T | AW86: 577F8148A7009D754819769EAE4035505C114A430098012657C0FA7A73679824DFA2
A87: 조인트테이프 | B87: 7.5CM | C87: M | D87: 2.6 | E87: =단가대비표!O42 -> 150 | F87: =TRUNC(E87*D87,1) -> 390 | G87: =단가대비표!P42 -> 0 | H87: =TRUNC(G87*D87,1) -> 0 | I87: =단가대비표!V42 -> 0 | J87: =TRUNC(I87*D87,1) -> 0 | K87: =TRUNC(E87+G87+I87,1) -> 150 | L87: =TRUNC(F87+H87+J87,1) -> 390 | N87: 577F8148A7009D754819769EAE4035 | O87: 505C114A430098012657C0FA7A73679824DFA1 | P87: F | Q87: F | R87: T | AW87: 577F8148A7009D754819769EAE4035505C114A430098012657C0FA7A73679824DFA1
A88: 경량벽체철골틀 설치 | C88: M2 | D88: 1 | E88: =일위대가목록!E48 -> 0 | F88: =TRUNC(E88*D88,1) -> 0 | G88: =일위대가목록!F48 -> 10544 | H88: =TRUNC(G88*D88,1) -> 10544 | I88: =일위대가목록!G48 -> 632 | J88: =TRUNC(I88*D88,1) -> 632 | K88: =TRUNC(E88+G88+I88,1) -> 11176 | L88: =TRUNC(F88+H88+J88,1) -> 11176 | N88: 577F8148A7009D754819769EAE4035 | O88: 577F8148A7009D754819769EAE4388 | P88: T | Q88: F | R88: F | AW88: 577F8148A7009D754819769EAE4035577F8148A7009D754819769EAE4388
A89: 단열재 격자넣기 | B89: 50mm 이하, 벽 | C89: M2 | D89: 1 | E89: =일위대가목록!E49 -> 0 | F89: =TRUNC(E89*D89,1) -> 0 | G89: =일위대가목록!F49 -> 8658 | H89: =TRUNC(G89*D89,1) -> 8658 | I89: =일위대가목록!G49 -> 0 | J89: =TRUNC(I89*D89,1) -> 0 | K89: =TRUNC(E89+G89+I89,1) -> 8658 | L89: =TRUNC(F89+H89+J89,1) -> 8658 | N89: 577F8148A7009D754819769EAE4035 | O89: 577FD1403500985F129E53733676F5 | P89: T | Q89: F | R89: F | AW89: 577F8148A7009D754819769EAE4035577FD1403500985F129E53733676F5
A90: 석고판 설치(나사고정) - 바탕용 | B90: 벽, 2겹 붙임 | C90: M2 | D90: 2 | E90: =일위대가목록!E50 -> 0 | F90: =TRUNC(E90*D90,1) -> 0 | G90: =일위대가목록!F50 -> 15088 | H90: =TRUNC(G90*D90,1) -> 30176 | I90: =일위대가목록!G50 -> 150 | J90: =TRUNC(I90*D90,1) -> 300 | K90: =TRUNC(E90+G90+I90,1) -> 15238 | L90: =TRUNC(F90+H90+J90,1) -> 30476 | N90: 577F8148A7009D754819769EAE4035 | O90: 577FD1404600932B924FDB98ED16A6 | P90: T | Q90: F | R90: F | AW90: 577F8148A7009D754819769EAE4035577FD1404600932B924FDB98ED16A6
A91: [ 합 계 ] | F91: =TRUNC(SUMIF(N76:N90, N75, F76:F90),0) -> 42846 | H91: =TRUNC(SUMIF(N76:N90, N75, H76:H90),0) -> 49378 | J91: =TRUNC(SUMIF(N76:N90, N75, J76:J90),0) -> 932 | L91: =F91+H91+J91 -> 93156 | N91: TOTAL | O91: TOTAL
A93: 메탈스터드(C-100) 차음석고12.5T 1겹양면+GW50t(크린매트) M2 ( 호표 10 ) | N93: 577F8148A7009D754819769EAE4036
A94: 석고보드 | B94: 차음석고보드, 12.5T×900×1800㎜ | C94: M2 | D94: 2.1 | E94: =단가대비표!O20 -> 4632 | F94: =TRUNC(E94*D94,1) -> 9727.2 | G94: =단가대비표!P20 -> 0 | H94: =TRUNC(G94*D94,1) -> 0 | I94: =단가대비표!V20 -> 0 | J94: =TRUNC(I94*D94,1) -> 0 | K94: =TRUNC(E94+G94+I94,1) -> 4632 | L94: =TRUNC(F94+H94+J94,1) -> 9727.2 | N94: 577F8148A7009D754819769EAE4036 | O94: 505C114A4300980125B053111C7F5973CC4858 | P94: F | Q94: F | R94: T | AW94: 577F8148A7009D754819769EAE4036505C114A4300980125B053111C7F5973CC4858
A95: METAL C-RUNNER | B95: ㉿ 0.8T, 102*40 | C95: M | D95: 1.1 | E95: =단가대비표!O36 -> 3340 | F95: =TRUNC(E95*D95,1) -> 3674 | G95: =단가대비표!P36 -> 0 | H95: =TRUNC(G95*D95,1) -> 0 | I95: =단가대비표!V36 -> 0 | J95: =TRUNC(I95*D95,1) -> 0 | K95: =TRUNC(E95+G95+I95,1) -> 3340 | L95: =TRUNC(F95+H95+J95,1) -> 3674 | N95: 577F8148A7009D754819769EAE4036 | O95: 505C114A430098012657C0FA7A73679824DA22 | P95: F | Q95: F | R95: T | AW95: 577F8148A7009D754819769EAE4036505C114A430098012657C0FA7A73679824DA22
A96: METAL C-STUD | B96: ㉿ 0.8T, 100*45 | C96: M | D96: 2.7 | E96: =단가대비표!O35 -> 3930 | F96: =TRUNC(E96*D96,1) -> 10611 | G96: =단가대비표!P35 -> 0 | H96: =TRUNC(G96*D96,1) -> 0 | I96: =단가대비표!V35 -> 0 | J96: =TRUNC(I96*D96,1) -> 0 | K96: =TRUNC(E96+G96+I96,1) -> 3930 | L96: =TRUNC(F96+H96+J96,1) -> 10611 | N96: 577F8148A7009D754819769EAE4036 | O96: 505C114A430098012657C0FA7A73679824D876 | P96: F | Q96: F | R96: T | AW96: 577F8148A7009D754819769EAE4036505C114A430098012657C0FA7A73679824D876
A97: STUD-SPACER | B97: SP-65,75 | C97: 개 | D97: 5.5 | E97: =단가대비표!O33 -> 200 | F97: =TRUNC(E97*D97,1) -> 1100 | G97: =단가대비표!P33 -> 0 | H97: =TRUNC(G97*D97,1) -> 0 | I97: =단가대비표!V33 -> 0 | J97: =TRUNC(I97*D97,1) -> 0 | K97: =TRUNC(E97+G97+I97,1) -> 200 | L97: =TRUNC(F97+H97+J97,1) -> 1100 | N97: 577F8148A7009D754819769EAE4036 | O97: 505C114A430098012657C0FA7A73679824D918 | P97: F | Q97: F | R97: T | AW97: 577F8148A7009D754819769EAE4036505C114A430098012657C0FA7A73679824D918
A98: CORNER BEAD | B98: 40*40*0.5t | C98: M | D98: 0.7 | E98: =단가대비표!O34 -> 1400 | F98: =TRUNC(E98*D98,1) -> 980 | G98: =단가대비표!P34 -> 0 | H98: =TRUNC(G98*D98,1) -> 0 | I98: =단가대비표!V34 -> 0 | J98: =TRUNC(I98*D98,1) -> 0 | K98: =TRUNC(E98+G98+I98,1) -> 1400 | L98: =TRUNC(F98+H98+J98,1) -> 980 | N98: 577F8148A7009D754819769EAE4036 | O98: 505C114A430098012657C0FA7A73679824D919 | P98: F | Q98: F | R98: T | AW98: 577F8148A7009D754819769EAE4036505C114A430098012657C0FA7A73679824D919
A99: 힐티앵커 | B99: NK-27 | C99: 개 | D99: 3 | E99: =단가대비표!O37 -> 275 | F99: =TRUNC(E99*D99,1) -> 825 | G99: =단가대비표!P37 -> 0 | H99: =TRUNC(G99*D99,1) -> 0 | I99: =단가대비표!V37 -> 0 | J99: =TRUNC(I99*D99,1) -> 0 | K99: =TRUNC(E99+G99+I99,1) -> 275 | L99: =TRUNC(F99+H99+J99,1) -> 825 | N99: 577F8148A7009D754819769EAE4036 | O99: 505C114A430098012657C0FA7A73679824DCE9 | P99: F | Q99: F | R99: T | AW99: 577F8148A7009D754819769EAE4036505C114A430098012657C0FA7A73679824DCE9
A100: Metal Screw | B100: D4.2*13 | C100: 개 | D100: 4 | E100: =단가대비표!O38 -> 7 | F100: =TRUNC(E100*D100,1) -> 28 | G100: =단가대비표!P38 -> 0 | H100: =TRUNC(G100*D100,1) -> 0 | I100: =단가대비표!V38 -> 0 | J100: =TRUNC(I100*D100,1) -> 0 | K100: =TRUNC(E100+G100+I100,1) -> 7 | L100: =TRUNC(F100+H100+J100,1) -> 28 | N100: 577F8148A7009D754819769EAE4036 | O100: 505C114A430098012657C0FA7A73679824DCE6 | P100: F | Q100: F | R100: T | AW100: 577F8148A7009D754819769EAE4036505C114A430098012657C0FA7A73679824DCE6
A101: 집성스큐류 | B101: D4*32 | C101: 개 | D101: 20 | E101: =단가대비표!O39 -> 10 | F101: =TRUNC(E101*D101,1) -> 200 | G101: =단가대비표!P39 -> 0 | H101: =TRUNC(G101*D101,1) -> 0 | I101: =단가대비표!V39 -> 0 | J101: =TRUNC(I101*D101,1) -> 0 | K101: =TRUNC(E101+G101+I101,1) -> 10 | L101: =TRUNC(F101+H101+J101,1) -> 200 | N101: 577F8148A7009D754819769EAE4036 | O101: 505C114A430098012657C0FA7A73679824DCE7 | P101: F | Q101: F | R101: T | AW101: 577F8148A7009D754819769EAE4036505C114A430098012657C0FA7A73679824DCE7
A102: 집성스큐류 | B102: D4*44 | C102: 개 | D102: 40 | E102: =단가대비표!O40 -> 3 | F102: =TRUNC(E102*D102,1) -> 120 | G102: =단가대비표!P40 -> 0 | H102: =TRUNC(G102*D102,1) -> 0 | I102: =단가대비표!V40 -> 0 | J102: =TRUNC(I102*D102,1) -> 0 | K102: =TRUNC(E102+G102+I102,1) -> 3 | L102: =TRUNC(F102+H102+J102,1) -> 120 | N102: 577F8148A7009D754819769EAE4036 | O102: 505C114A430098012657C0FA7A73679824DFA3 | P102: F | Q102: F | R102: T | AW102: 577F8148A7009D754819769EAE4036505C114A430098012657C0FA7A73679824DFA3
A103: 섬유단열재 | B103: 섬유단열재, 밀도24kg/㎥, 50mm, 유리면크린매트 | C103: M2 | D103: 1.1 | E103: =단가대비표!O14 -> 4520 | F103: =TRUNC(E103*D103,1) -> 4972 | G103: =단가대비표!P14 -> 0 | H103: =TRUNC(G103*D103,1) -> 0 | I103: =단가대비표!V14 -> 0 | J103: =TRUNC(I103*D103,1) -> 0 | K103: =TRUNC(E103+G103+I103,1) -> 4520 | L103: =TRUNC(F103+H103+J103,1) -> 4972 | N103: 577F8148A7009D754819769EAE4036 | O103: 505C114A43009ACCBA22B15F74B00088F58ED7 | P103: F | Q103: F | R103: T | AW103: 577F8148A7009D754819769EAE4036505C114A43009ACCBA22B15F74B00088F58ED7
A104: 보온핀 | B104: 50T | C104: M2 | D104: 6 | E104: =단가대비표!O41 -> 82 | F104: =TRUNC(E104*D104,1) -> 492 | G104: =단가대비표!P41 -> 0 | H104: =TRUNC(G104*D104,1) -> 0 | I104: =단가대비표!V41 -> 0 | J104: =TRUNC(I104*D104,1) -> 0 | K104: =TRUNC(E104+G104+I104,1) -> 82 | L104: =TRUNC(F104+H104+J104,1) -> 492 | N104: 577F8148A7009D754819769EAE4036 | O104: 505C114A430098012657C0FA7A73679824DFA2 | P104: F | Q104: F | R104: T | AW104: 577F8148A7009D754819769EAE4036505C114A430098012657C0FA7A73679824DFA2
A105: 조인트테이프 | B105: 7.5CM | C105: M | D105: 2.6 | E105: =단가대비표!O42 -> 150 | F105: =TRUNC(E105*D105,1) -> 390 | G105: =단가대비표!P42 -> 0 | H105: =TRUNC(G105*D105,1) -> 0 | I105: =단가대비표!V42 -> 0 | J105: =TRUNC(I105*D105,1) -> 0 | K105: =TRUNC(E105+G105+I105,1) -> 150 | L105: =TRUNC(F105+H105+J105,1) -> 390 | N105: 577F8148A7009D754819769EAE4036 | O105: 505C114A430098012657C0FA7A73679824DFA1 | P105: F | Q105: F | R105: T | AW105: 577F8148A7009D754819769EAE4036505C114A430098012657C0FA7A73679824DFA1
A106: 경량벽체철골틀 설치 | C106: M2 | D106: 1 | E106: =일위대가목록!E48 -> 0 | F106: =TRUNC(E106*D106,1) -> 0 | G106: =일위대가목록!F48 -> 10544 | H106: =TRUNC(G106*D106,1) -> 10544 | I106: =일위대가목록!G48 -> 632 | J106: =TRUNC(I106*D106,1) -> 632 | K106: =TRUNC(E106+G106+I106,1) -> 11176 | L106: =TRUNC(F106+H106+J106,1) -> 11176 | N106: 577F8148A7009D754819769EAE4036 | O106: 577F8148A7009D754819769EAE4388 | P106: T | Q106: F | R106: F | AW106: 577F8148A7009D754819769EAE4036577F8148A7009D754819769EAE4388
A107: 단열재 격자넣기 | B107: 50mm 이하, 벽 | C107: M2 | D107: 1 | E107: =일위대가목록!E49 -> 0 | F107: =TRUNC(E107*D107,1) -> 0 | G107: =일위대가목록!F49 -> 8658 | H107: =TRUNC(G107*D107,1) -> 8658 | I107: =일위대가목록!G49 -> 0 | J107: =TRUNC(I107*D107,1) -> 0 | K107: =TRUNC(E107+G107+I107,1) -> 8658 | L107: =TRUNC(F107+H107+J107,1) -> 8658 | N107: 577F8148A7009D754819769EAE4036 | O107: 577FD1403500985F129E53733676F5 | P107: T | Q107: F | R107: F | AW107: 577F8148A7009D754819769EAE4036577FD1403500985F129E53733676F5
A108: 석고판 설치(나사고정) - 바탕용 | B108: 벽, 1겹 붙임 | C108: M2 | D108: 2 | E108: =일위대가목록!E51 -> 0 | F108: =TRUNC(E108*D108,1) -> 0 | G108: =일위대가목록!F51 -> 11402 | H108: =TRUNC(G108*D108,1) -> 22804 | I108: =일위대가목록!G51 -> 114 | J108: =TRUNC(I108*D108,1) -> 228 | K108: =TRUNC(E108+G108+I108,1) -> 11516 | L108: =TRUNC(F108+H108+J108,1) -> 23032 | N108: 577F8148A7009D754819769EAE4036 | O108: 577FD1404600932B924FDB98ED159F | P108: T | Q108: F | R108: F | AW108: 577F8148A7009D754819769EAE4036577FD1404600932B924FDB98ED159F
A109: [ 합 계 ] | F109: =TRUNC(SUMIF(N94:N108, N93, F94:F108),0) -> 33119 | H109: =TRUNC(SUMIF(N94:N108, N93, H94:H108),0) -> 42006 | J109: =TRUNC(SUMIF(N94:N108, N93, J94:J108),0) -> 860 | L109: =F109+H109+J109 -> 75985 | N109: TOTAL | O109: TOTAL
...

Sheet 단가대비표
A1: 단 가 대 비 표
A2: [ 글로벌 교육얼라이언스 인프라 구축공사 ]
A3: 코 드 | B3: 품 명 | C3: 규격 | D3: 단위 | E3: 재 료 비 | P3: 노 무 비 | Q3: 경 비 | W3: 번 호 | X3: 비 고 | Y3: 품목구분 | Z3: 노임구분 | AA3: 소수점처리 | AB3: 자재구분
E4: 가격정보 | F4: PAGE | G4: 거래가격 | H4: PAGE | I4: 유통물가 | J4: PAGE | K4: 물가정보 | L4: PAGE | M4: 조사가격 | N4: PAGE | O4: 적용단가 | Q4: 가격정보 | R4: 거래가격 | S4: 유통물가 | T4: 물가정보 | U4: 조사가격 | V4: 적용단가
A5: 5078F1438F00924C4B9DE4E0B4FB484828830D | B5: 보통합판 | C5: 보통합판, 1급, 12*1220*2440mm | D5: M2 | E5: 10984 | G5: 11421.66 | H5: 667 | I5: 11320.88 | J5: 407 | K5: 0 | M5: 0 | O5: =SMALL(E5:M5,COUNTIF(E5:M5,0)+1) -> 10984 | P5: 0 | Q5: 0 | R5: 0 | S5: 0 | T5: 0 | U5: 0 | V5: 0 | W5: 자재 1
A6: 5078F1438F00924C4B9DE6928BAB4D7794E4D3 | B6: 중밀도섬유판 | C6: 중밀도섬유판, 9.0*1220*2440mm | D6: M2 | E6: 4232 | G6: 5442.08 | H6: 668 | I6: 4837.4 | J6: 409 | K6: 0 | M6: 0 | O6: =SMALL(E6:M6,COUNTIF(E6:M6,0)+1) -> 4232 | P6: 0 | Q6: 0 | R6: 0 | S6: 0 | T6: 0 | U6: 0 | V6: 0 | W6: 자재 2
A7: 5078F1438F0099FC4632D6427029DCBCB9711F | B7: 철강설 | C7: 철강설, 고철, 작업설부산물 | D7: kg | E7: 251 | G7: 430 | H7: 1472 | I7: 448 | J7: 1198 | K7: 0 | M7: 0 | O7: =SMALL(E7:M7,COUNTIF(E7:M7,0)+1) -> 251 | P7: 0 | Q7: 0 | R7: 0 | S7: 0 | T7: 0 | U7: 0 | V7: 0 | W7: 자재 3 | X7: 수집상차도
A8: 5043E148E9009C9BFE717E349597E5D17D855E | B8: 공통자재 | C8: 하드롱지 | D8: M2 | E8: 479 | G8: 0 | I8: 0 | K8: 0 | M8: 0 | O8: =SMALL(E8:M8,COUNTIF(E8:M8,0)+1) -> 479 | P8: 0 | Q8: 0 | R8: 0 | S8: 0 | T8: 0 | U8: 0 | V8: 0 | W8: 자재 4
A9: 505C114A43009EA9386EF786232B7C322664D9 | B9: ㄱ형강 | C9: ㄱ형강, 등변, 40*40*5mm | D9: kg | E9: 940 | G9: 1110 | H9: 55 | I9: 1130 | J9: 21 | K9: 0 | M9: 0 | O9: =SMALL(E9:M9,COUNTIF(E9:M9,0)+1) -> 940 | P9: 0 | Q9: 0 | R9: 0 | S9: 0 | T9: 0 | U9: 0 | V9: 0 | W9: 자재 5
A10: 505C114A43009EA9386EF786232B7C322664D7 | B10: ㄱ형강 | C10: ㄱ형강, 등변, 50*50*4mm | D10: kg | E10: 940 | G10: 1110 | H10: 55 | I10: 1130 | J10: 21 | K10: 0 | M10: 0 | O10: =SMALL(E10:M10,COUNTIF(E10:M10,0)+1) -> 940 | P10: 0 | Q10: 0 | R10: 0 | S10: 0 | T10: 0 | U10: 0 | V10: 0 | W10: 자재 6
A11: 505C114A43009EA93B2345663E2B0165710A15 | B11: 일반봉강 | C11: 일반봉강, SS400, ∮9mm | D11: kg | E11: 0 | G11: 950 | H11: 50 | I11: 0 | K11: 0 | M11: 0 | O11: =SMALL(E11:M11,COUNTIF(E11:M11,0)+1) -> 950 | P11: 0 | Q11: 0 | R11: 0 | S11: 0 | T11: 0 | U11: 0 | V11: 0 | W11: 자재 7
A12: 505C114A43009EAAC62FD72CF193BA10AB6945 | B12: 스테인리스강판(칼라) | C12: Mirror 1.2t | D12: M2 | E12: 65800 | F12: 34 | G12: 67800 | H12: 74 | I12: 65400 | J12: 37 | K12: 0 | M12: 0 | O12: =SMALL(E12:M12,COUNTIF(E12:M12,0)+1) -> 65400 | P12: 0 | Q12: 0 | R12: 0 | S12: 0 | T12: 0 | U12: 0 | V12: 0 | W12: 자재 8
A13: 505C114A43009EABEC1B8705AC9138A90EC3A4 | B13: 각재 | C13: 각재, 미송 | D13: 재 | E13: 2358 | G13: 2700 | H13: 147 | I13: 2358 | J13: 73 | K13: 0 | M13: 0 | O13: =SMALL(E13:M13,COUNTIF(E13:M13,0)+1) -> 2358 | P13: 0 | Q13: 0 | R13: 0 | S13: 0 | T13: 0 | U13: 0 | V13: 0 | W13: 자재 9
A14: 505C114A43009ACCBA22B15F74B00088F58ED7 | B14: 섬유단열재 | C14: 섬유단열재, 밀도24kg/㎥, 50mm, 유리면크린매트 | D14: M2 | E14: 4520 | F14: 648 | G14: 4660 | H14: 698 | I14: 4520 | J14: 391 | K14: 0 | M14: 0 | O14: =SMALL(E14:M14,COUNTIF(E14:M14,0)+1) -> 4520 | P14: 0 | Q14: 0 | R14: 0 | S14: 0 | T14: 0 | U14: 0 | V14: 0 | W14: 자재 10
A15: 505C114A43009ACCBA235B9E8D0FE2054402B5 | B15: 발포우레탄 | D15: KG | E15: 0 | G15: 0 | I15: 0 | K15: 0 | M15: 18000 | N15: 물가자료88 | O15: =SMALL(E15:M15,COUNTIF(E15:M15,0)+1) -> 18000 | P15: 0 | Q15: 0 | R15: 0 | S15: 0 | T15: 0 | U15: 0 | V15: 0 | W15: 자재 11
A16: 505C114A4300980125B05FC65DADB403D5C533 | B16: 아트보드 | C16: 220K, 1200×2400×9T, 방염 | D16: M2 | E16: 0 | G16: 0 | I16: 23900 | J16: 828 | K16: 0 | M16: 0 | O16: =SMALL(E16:M16,COUNTIF(E16:M16,0)+1) -> 23900 | P16: 0 | Q16: 0 | R16: 0 | S16: 0 | T16: 0 | U16: 0 | V16: 0 | W16: 자재 12
A17: 505C114A4300980125B05FC65DADB403D5C532 | B17: 인테리어필름 | C17: 0.42×1220mm CW(방염마이우드), 시공비포함 | D17: M2 | E17: 0 | G17: 0 | I17: 30000 | J17: 413(2604) | K17: 0 | M17: 30000 | N17: 물가자료685(260 | O17: =SMALL(E17:M17,COUNTIF(E17:M17,0)+1) -> 30000 | P17: 0 | Q17: 0 | R17: 0 | S17: 0 | T17: 0 | U17: 0 | V17: 0 | W17: 자재 13
A18: 505C114A4300980125B05FC65DADB403D5C42E | B18: 차음시트 | C18: 2T | D18: M2 | E18: 0 | G18: 0 | I18: 10000 | J18: 828 | K18: 10000 | L18: 1160 | M18: 0 | O18: =SMALL(E18:M18,COUNTIF(E18:M18,0)+1) -> 10000 | P18: 0 | Q18: 0 | R18: 0 | S18: 0 | T18: 0 | U18: 0 | V18: 0 | W18: 자재 14
A19: 505C114A4300980125B0531221A1D00A37C561 | B19: 석고보드 | C19: 석고보드, 평보드, 9.5*900*1800mm(㎡) | D19: M2 | E19: 2962 | G19: 2962.96 | H19: 671 | I19: 3177.77 | J19: 408 | K19: 0 | M19: 0 | O19: =SMALL(E19:M19,COUNTIF(E19:M19,0)+1) -> 2962 | P19: 0 | Q19: 0 | R19: 0 | S19: 0 | T19: 0 | U19: 0 | V19: 0 | W19: 자재 15
A20: 505C114A4300980125B053111C7F5973CC4858 | B20: 석고보드 | C20: 차음석고보드, 12.5T×900×1800㎜ | D20: M2 | E20: 4632 | G20: 0 | I20: 0 | K20: 0 | M20: 0 | O20: =SMALL(E20:M20,COUNTIF(E20:M20,0)+1) -> 4632 | P20: 0 | Q20: 0 | R20: 0 | S20: 0 | T20: 0 | U20: 0 | V20: 0 | W20: 자재 16
A21: 505C114A430098012657C602615ED1789DDF7A | B21: 불연천장재 | C21: 불연천장재, 석고텍스, 9mm | D21: M2 | E21: 0 | G21: 8400 | H21: 675 | I21: 0 | K21: 0 | M21: 0 | O21: =SMALL(E21:M21,COUNTIF(E21:M21,0)+1) -> 8400 | P21: 0 | Q21: 0 | R21: 0 | S21: 0 | T21: 0 | U21: 0 | V21: 0 | W21: 자재 17
A22: 505C114A430098012657C0FA7A73679825FD6B | B22: 경량철골천장틀 | C22: 경량철골천장틀, M-BAR더블, 50*19*0.5mm | D22: M | E22: 0 | G22: 0 | I22: 1550 | J22: 420 | K22: 0 | M22: 0 | O22: =SMALL(E22:M22,COUNTIF(E22:M22,0)+1) -> 1550 | P22: 0 | Q22: 0 | R22: 0 | S22: 0 | T22: 0 | U22: 0 | V22: 0 | W22: 자재 18
A23: 505C114A430098012657C0FA7A73679825FA9D | B23: 경량철골천장틀 | C23: 경량철골천장틀, 달대볼트, 상6*500mm | D23: 개 | E23: 0 | G23: 270 | H23: 90 | I23: 0 | K23: 0 | M23: 0 | O23: =SMALL(E23:M23,COUNTIF(E23:M23,0)+1) -> 270 | P23: 0 | Q23: 0 | R23: 0 | S23: 0 | T23: 0 | U23: 0 | V23: 0 | W23: 자재 19
A24: 505C114A430098012657C0FA7A73679825F9F5 | B24: 경량철골천장틀 | C24: 경량철골천장틀, 캐링찬넬, 38*12*1.2mm | D24: M | E24: 0 | G24: 0 | I24: 1290 | J24: 420 | K24: 0 | M24: 0 | O24: =SMALL(E24:M24,COUNTIF(E24:M24,0)+1) -> 1290 | P24: 0 | Q24: 0 | R24: 0 | S24: 0 | T24: 0 | U24: 0 | V24: 0 | W24: 자재 20
A25: 505C114A430098012657C0FA7A73679825F9F4 | B25: 경량철골천장틀 | C25: 경량철골천장틀, 마이너찬넬, 19*10*1.2mm | D25: M | E25: 0 | G25: 0 | I25: 800 | J25: 420 | K25: 0 | M25: 0 | O25: =SMALL(E25:M25,COUNTIF(E25:M25,0)+1) -> 800 | P25: 0 | Q25: 0 | R25: 0 | S25: 0 | T25: 0 | U25: 0 | V25: 0 | W25: 자재 21
A26: 505C114A430098012657C0FA7A73679825F9F7 | B26: 경량철골천장틀 | C26: 경량철골천장틀, 행가및핀, 110*23*18*2.3mm | D26: 조 | E26: 0 | G26: 310 | H26: 673(2605) | I26: 310 | J26: 420(2604) | K26: 310 | L26: 641(2603) | M26: 0 | O26: =SMALL(E26:M26,COUNTIF(E26:M26,0)+1) -> 310 | P26: 0 | Q26: 0 | R26: 0 | S26: 0 | T26: 0 | U26: 0 | V26: 0 | W26: 자재 22
A27: 505C114A430098012657C0FA7A73679825F9F6 | B27: 경량철골천장틀 | C27: 경량철골천장틀, 찬넬크립, 37*30*10*1.2mm | D27: 조 | E27: 0 | G27: 0 | I27: 0 | K27: 0 | M27: 111 | O27: =SMALL(E27:M27,COUNTIF(E27:M27,0)+1) -> 111 | P27: 0 | Q27: 0 | R27: 0 | S27: 0 | T27: 0 | U27: 0 | V27: 0 | W27: 자재 23
A28: 505C114A430098012657C0FA7A73679825F9F1 | B28: 경량철골천장틀 | C28: 경량철골천장틀, 캐링조인트, 90*40*13*0.5mm | D28: 조 | E28: 0 | G28: 0 | I28: 0 | K28: 0 | M28: 107 | O28: =SMALL(E28:M28,COUNTIF(E28:M28,0)+1) -> 107 | P28: 0 | Q28: 0 | R28: 0 | S28: 0 | T28: 0 | U28: 0 | V28: 0 | W28: 자재 24
A29: 505C114A430098012657C0FA7A73679825F9F0 | B29: 경량철골천장틀 | C29: 경량철골천장틀, BAR크립, 더블 | D29: 개 | E29: 0 | G29: 0 | I29: 0 | K29: 0 | M29: 60 | O29: =SMALL(E29:M29,COUNTIF(E29:M29,0)+1) -> 60 | P29: 0 | Q29: 0 | R29: 0 | S29: 0 | T29: 0 | U29: 0 | V29: 0 | W29: 자재 25
A30: 505C114A430098012657C0FA7A73679825F9F2 | B30: 경량철골천장틀 | C30: 경량철골천장틀, BAR조인트, 더블 | D30: 개 | E30: 0 | G30: 0 | I30: 0 | K30: 0 | M30: 80 | O30: =SMALL(E30:M30,COUNTIF(E30:M30,0)+1) -> 80 | P30: 0 | Q30: 0 | R30: 0 | S30: 0 | T30: 0 | U30: 0 | V30: 0 | W30: 자재 26
A31: 505C114A430098012657C0FA7A73679825F7C6 | B31: 경량철골천장틀 | C31: 경량철골천장틀, 몰딩(알루미늄), L형, 19*19*1.0mm | D31: M | E31: 0 | G31: 1900 | H31: 673 | I31: 1900 | J31: 420 | K31: 1900 | L31: 641 | M31: 0 | O31: =SMALL(E31:M31,COUNTIF(E31:M31,0)+1) -> 1900 | P31: 0 | Q31: 0 | R31: 0 | S31: 0 | T31: 0 | U31: 0 | V31: 0 | W31: 자재 27
A32: 505C114A430098012657C0FA7A73679825F621 | B32: 경량철골천장틀 | C32: 경량철골천장틀, 피스, 3×16mm | D32: 개 | E32: 0 | G32: 5.7 | H32: 90 | I32: 0 | K32: 4.7 | L32: 99 | M32: 0 | O32: =SMALL(E32:M32,COUNTIF(E32:M32,0)+1) -> 4.7 | P32: 0 | Q32: 0 | R32: 0 | S32: 0 | T32: 0 | U32: 0 | V32: 0 | W32: 자재 28 | X32: 십자작은나사 철판용
A33: 505C114A430098012657C0FA7A73679824D918 | B33: STUD-SPACER | C33: SP-65,75 | D33: 개 | E33: 0 | G33: 0 | I33: 0 | K33: 0 | M33: 200 | O33: =SMALL(E33:M33,COUNTIF(E33:M33,0)+1) -> 200 | P33: 0 | Q33: 0 | R33: 0 | S33: 0 | T33: 0 | U33: 0 | V33: 0 | W33: 자재 29
A34: 505C114A430098012657C0FA7A73679824D919 | B34: CORNER BEAD | C34: 40*40*0.5t | D34: M | E34: 0 | G34: 0 | I34: 0 | K34: 0 | M34: 1400 | O34: =SMALL(E34:M34,COUNTIF(E34:M34,0)+1) -> 1400 | P34: 0 | Q34: 0 | R34: 0 | S34: 0 | T34: 0 | U34: 0 | V34: 0 | W34: 자재 30
A35: 505C114A430098012657C0FA7A73679824D876 | B35: METAL C-STUD | C35: ㉿ 0.8T, 100*45 | D35: M | E35: 0 | G35: 3930 | H35: 673 | I35: 3930 | J35: 420 | K35: 3930 | L35: 641 | M35: 0 | O35: =SMALL(E35:M35,COUNTIF(E35:M35,0)+1) -> 3930 | P35: 0 | Q35: 0 | R35: 0 | S35: 0 | T35: 0 | U35: 0 | V35: 0 | W35: 자재 31
A36: 505C114A430098012657C0FA7A73679824DA22 | B36: METAL C-RUNNER | C36: ㉿ 0.8T, 102*40 | D36: M | E36: 0 | G36: 3340 | H36: 673 | I36: 3340 | J36: 420 | K36: 3340 | L36: 641 | M36: 0 | O36: =SMALL(E36:M36,COUNTIF(E36:M36,0)+1) -> 3340 | P36: 0 | Q36: 0 | R36: 0 | S36: 0 | T36: 0 | U36: 0 | V36: 0 | W36: 자재 32
A37: 505C114A430098012657C0FA7A73679824DCE9 | B37: 힐티앵커 | C37: NK-27 | D37: 개 | E37: 0 | G37: 0 | I37: 0 | K37: 0 | M37: 275 | O37: =SMALL(E37:M37,COUNTIF(E37:M37,0)+1) -> 275 | P37: 0 | Q37: 0 | R37: 0 | S37: 0 | T37: 0 | U37: 0 | V37: 0 | W37: 자재 33
A38: 505C114A430098012657C0FA7A73679824DCE6 | B38: Metal Screw | C38: D4.2*13 | D38: 개 | E38: 0 | G38: 0 | I38: 0 | K38: 0 | M38: 7 | O38: =SMALL(E38:M38,COUNTIF(E38:M38,0)+1) -> 7 | P38: 0 | Q38: 0 | R38: 0 | S38: 0 | T38: 0 | U38: 0 | V38: 0 | W38: 자재 34
A39: 505C114A430098012657C0FA7A73679824DCE7 | B39: 집성스큐류 | C39: D4*32 | D39: 개 | E39: 0 | G39: 0 | I39: 0 | K39: 0 | M39: 10 | O39: =SMALL(E39:M39,COUNTIF(E39:M39,0)+1) -> 10 | P39: 0 | Q39: 0 | R39: 0 | S39: 0 | T39: 0 | U39: 0 | V39: 0 | W39: 자재 35
A40: 505C114A430098012657C0FA7A73679824DFA3 | B40: 집성스큐류 | C40: D4*44 | D40: 개 | E40: 0 | G40: 0 | I40: 0 | K40: 0 | M40: 3 | O40: =SMALL(E40:M40,COUNTIF(E40:M40,0)+1) -> 3 | P40: 0 | Q40: 0 | R40: 0 | S40: 0 | T40: 0 | U40: 0 | V40: 0 | W40: 자재 36
A41: 505C114A430098012657C0FA7A73679824DFA2 | B41: 보온핀 | C41: 50T | D41: M2 | E41: 0 | G41: 0 | I41: 0 | K41: 0 | M41: 82 | O41: =SMALL(E41:M41,COUNTIF(E41:M41,0)+1) -> 82 | P41: 0 | Q41: 0 | R41: 0 | S41: 0 | T41: 0 | U41: 0 | V41: 0 | W41: 자재 37
A42: 505C114A430098012657C0FA7A73679824DFA1 | B42: 조인트테이프 | C42: 7.5CM | D42: M | E42: 0 | G42: 0 | I42: 0 | K42: 0 | M42: 150 | O42: =SMALL(E42:M42,COUNTIF(E42:M42,0)+1) -> 150 | P42: 0 | Q42: 0 | R42: 0 | S42: 0 | T42: 0 | U42: 0 | V42: 0 | W42: 자재 38
A43: 505C114A43009927267AD708F3524DA3B82118 | B43: 유리문 | C43: 유리문, 12*900*2100mm, 투명, 세이프강화도어(고급형) | D43: 개 | E43: 306000 | G43: 0 | I43: 0 | K43: 0 | M43: 0 | O43: =SMALL(E43:M43,COUNTIF(E43:M43,0)+1) -> 306000 | P43: 0 | Q43: 0 | R43: 0 | S43: 0 | T43: 0 | U43: 0 | V43: 0 | W43: 자재 39
A44: 505C114A43009927255A791DC7ACC08B0CC72D | B44: ABS 진공성형도어 | C44: 600~1000×2100(문틀140이하)문틀+문짝(설치비,철물포함,코킹,유리별도) | D44: 조 | E44: 380000 | F44: 597(2107) | G44: 380000 | H44: 641(2207) | I44: 0 | K44: 0 | M44: 0 | O44: =SMALL(E44:M44,COUNTIF(E44:M44,0)+1) -> 380000 | P44: 0 | Q44: 0 | R44: 0 | S44: 0 | T44: 0 | U44: 0 | V44: 0 | W44: 자재 40 | X44: 시공도
A45: 505C114A43009927244DE48B5C9027D269ECA2 | B45: 강화유리 | C45: 강화유리, 투명, 8mm | D45: M2 | E45: 26803 | G45: 29500 | H45: 662 | I45: 29900 | J45: 463 | K45: 0 | M45: 0 | O45: =SMALL(E45:M45,COUNTIF(E45:M45,0)+1) -> 26803 | P45: 0 | Q45: 0 | R45: 0 | S45: 0 | T45: 0 | U45: 0 | V45: 0 | W45: 자재 41
A46: 505C114A43009778A7237EAC1754A8878F3917 | B46: 비계안정장치 | C46: 비계안정장치, 비계기본틀, 기둥, 1.2*1.7m | D46: 개 | E46: 27739 | G46: 0 | I46: 0 | K46: 0 | M46: 0 | O46: =SMALL(E46:M46,COUNTIF(E46:M46,0)+1) -> 27739 | P46: 0 | Q46: 0 | R46: 0 | S46: 0 | T46: 0 | U46: 0 | V46: 0 | W46: 자재 42
A47: 505C114A43009778A7237EAC1754A8878F3919 | B47: 비계안정장치 | C47: 비계안정장치, 가새, 1.2*1.9m | D47: 개 | E47: 9246 | G47: 10000 | H47: 167 | I47: 0 | K47: 0 | M47: 0 | O47: =SMALL(E47:M47,COUNTIF(E47:M47,0)+1) -> 9246 | P47: 0 | Q47: 0 | R47: 0 | S47: 0 | T47: 0 | U47: 0 | V47: 0 | W47: 자재 43
A48: 505C114A43009778A7237EAC1754A8878F365E | B48: 비계안정장치 | C48: 비계안정장치, 수평띠장, 1829mm | D48: 개 | E48: 0 | G48: 25000 | H48: 167 | I48: 0 | K48: 0 | M48: 0 | O48: =SMALL(E48:M48,COUNTIF(E48:M48,0)+1) -> 25000 | P48: 0 | Q48: 0 | R48: 0 | S48: 0 | T48: 0 | U48: 0 | V48: 0 | W48: 자재 44
A49: 505C114A43009778A7237EAC1754A8878F365F | B49: 비계안정장치 | C49: 비계안정장치, 손잡이, 1229mm | D49: 개 | E49: 0 | G49: 0 | I49: 0 | K49: 0 | M49: 1440 | O49: =SMALL(E49:M49,COUNTIF(E49:M49,0)+1) -> 1440 | P49: 0 | Q49: 0 | R49: 0 | S49: 0 | T49: 0 | U49: 0 | V49: 0 | W49: 자재 45
A50: 505C114A43009778A7237EAC1754A8878F3658 | B50: 비계안정장치 | C50: 비계안정장치, 손잡이, 1829mm | D50: 개 | E50: 0 | G50: 0 | I50: 0 | K50: 0 | M50: 2100 | O50: =SMALL(E50:M50,COUNTIF(E50:M50,0)+1) -> 2100 | P50: 0 | Q50: 0 | R50: 0 | S50: 0 | T50: 0 | U50: 0 | V50: 0 | W50: 자재 46
A51: 505C114A43009778A7237EAC1754A8878F3659 | B51: 비계안정장치 | C51: 비계안정장치, 손잡이기둥 | D51: 개 | E51: 0 | G51: 0 | I51: 0 | K51: 0 | M51: 5700 | O51: =SMALL(E51:M51,COUNTIF(E51:M51,0)+1) -> 5700 | P51: 0 | Q51: 0 | R51: 0 | S51: 0 | T51: 0 | U51: 0 | V51: 0 | W51: 자재 47
A52: 505C114A43009778A7237EAC1754A8878F365A | B52: 비계안정장치 | C52: 비계안정장치, 바퀴 | D52: 개 | E52: 0 | G52: 9500 | H52: 167 | I52: 0 | K52: 0 | M52: 0 | O52: =SMALL(E52:M52,COUNTIF(E52:M52,0)+1) -> 9500 | P52: 0 | Q52: 0 | R52: 0 | S52: 0 | T52: 0 | U52: 0 | V52: 0 | W52: 자재 48
A53: 505C114A43009778A7237EAC1754A8878F365B | B53: 비계안정장치 | C53: 비계안정장치, 쟈키 | D53: 개 | E53: 0 | G53: 11000 | H53: 167 | I53: 0 | K53: 0 | M53: 0 | O53: =SMALL(E53:M53,COUNTIF(E53:M53,0)+1) -> 11000 | P53: 0 | Q53: 0 | R53: 0 | S53: 0 | T53: 0 | U53: 0 | V53: 0 | W53: 자재 49
A54: 505C114A43009778A7237EAC15ABB1D5F1C86C | B54: 비계안정장치 | C54: 비계안정장치, 계단식발판, 볼록철판, 0.4×1829mm | D54: 장 | E54: 0 | G54: 18500 | H54: 172 | I54: 0 | K54: 0 | M54: 0 | O54: =SMALL(E54:M54,COUNTIF(E54:M54,0)+1) -> 18500 | P54: 0 | Q54: 0 | R54: 0 | S54: 0 | T54: 0 | U54: 0 | V54: 0 | W54: 자재 50
A55: 505C0149FF009F8C847F5E0678BDE4794A7FF7 | B55: 앵커볼트 | C55: 앵커볼트, M10*150mm | D55: 개 | E55: 0 | G55: 0 | I55: 410 | J55: 53 | K55: 0 | M55: 0 | O55: =SMALL(E55:M55,COUNTIF(E55:M55,0)+1) -> 410 | P55: 0 | Q55: 0 | R55: 0 | S55: 0 | T55: 0 | U55: 0 | V55: 0 | W55: 자재 51
A56: 505C0149FF009F8F52B518ACF967EDA90AFCFD | B56: 플로어힌지 | C56: 플로어힌지, KS3호, 105kg, 강화유리문(K-8300) | D56: 조 | E56: 77000 | G56: 77000 | H56: 657 | I56: 0 | K56: 0 | M56: 0 | O56: =SMALL(E56:M56,COUNTIF(E56:M56,0)+1) -> 77000 | P56: 0 | Q56: 0 | R56: 0 | S56: 0 | T56: 0 | U56: 0 | V56: 0 | W56: 자재 52
A57: 505C0149FF009F8F5E6625B128F07A463C001F | B57: 도어핸들 | C57: 도어핸들, R60, 스테인리스 | D57: 조 | E57: 0 | G57: 0 | I57: 53000 | J57: 452 | K57: 0 | M57: 0 | O57: =SMALL(E57:M57,COUNTIF(E57:M57,0)+1) -> 53000 | P57: 0 | Q57: 0 | R57: 0 | S57: 0 | T57: 0 | U57: 0 | V57: 0 | W57: 자재 53
A58: 505C0149FF009F8F5E6625B12ABEF1FB7F58D7 | B58: 도어핸들 | C58: 도어핸들, 원통레버형(Lever Lock) | D58: 조 | E58: 28000 | F58: 576 | G58: 28000 | H58: 654 | I58: 28000 | J58: 453 | K58: 0 | M58: 0 | O58: =SMALL(E58:M58,COUNTIF(E58:M58,0)+1) -> 28000 | P58: 0 | Q58: 0 | R58: 0 | S58: 0 | T58: 0 | U58: 0 | V58: 0 | W58: 자재 54
A59: 505C0149FF0090090C6E0997E0E8D25D2233A5 | B59: 연마지 | C59: 연마지, #120~180, 230*280mm | D59: 장 | E59: 323 | G59: 530 | H59: 1337 | I59: 385 | J59: 1168 | K59: 0 | M59: 0 | O59: =SMALL(E59:M59,COUNTIF(E59:M59,0)+1) -> 323 | P59: 0 | Q59: 0 | R59: 0 | S59: 0 | T59: 0 | U59: 0 | V59: 0 | W59: 자재 55
A60: 505C0149C20095C67D140B78247AFDE14AF6DE | B60: 초산비닐계접착제 | C60: 초산비닐계접착제, 일반목공용 | D60: kg | E60: 2060 | G60: 0 | I60: 0 | K60: 0 | M60: 0 | O60: =SMALL(E60:M60,COUNTIF(E60:M60,0)+1) -> 2060 | P60: 0 | Q60: 0 | R60: 0 | S60: 0 | T60: 0 | U60: 0 | V60: 0 | W60: 자재 56
A61: 505C0149C20095C67D140B78247AFDE14AF04A | B61: 합성풀 | C61: 합성풀, 건설용 | D61: kg | E61: 0 | G61: 0 | I61: 0 | K61: 0 | M61: 0 | O61: 0 | P61: 0 | Q61: 0 | R61: 0 | S61: 0 | T61: 0 | U61: 0 | V61: 0 | W61: 자재 57
A62: 505C0149C20095C67D140ECC226888C3D74ADF | B62: 고무접착제 | C62: 고무접착제, 건설용고무풀 | D62: kg | E62: 0 | G62: 11000 | H62: 146 | I62: 0 | K62: 0 | M62: 0 | O62: =SMALL(E62:M62,COUNTIF(E62:M62,0)+1) -> 11000 | P62: 0 | Q62: 0 | R62: 0 | S62: 0 | T62: 0 | U62: 0 | V62: 0 | W62: 자재 58
A63: 505C0149C20095C67D140FD78FCB8863ADFD0E | B63: 퍼티 | C63: 퍼티, 319퍼티, 백색 | D63: kg | E63: 3125.16 | G63: 0 | I63: 0 | K63: 0 | M63: 0 | O63: =SMALL(E63:M63,COUNTIF(E63:M63,0)+1) -> 3125.16 | P63: 0 | Q63: 0 | R63: 0 | S63: 0 | T63: 0 | U63: 0 | V63: 0 | W63: 자재 59 | X63: 1L=1.55kg
A64: 505C0149C20095C67D140FD78FCB8863ACD4BA | B64: 휠러 | D64: kg | E64: 0 | G64: 0 | I64: 0 | K64: 0 | M64: 1150 | O64: =SMALL(E64:M64,COUNTIF(E64:M64,0)+1) -> 1150 | P64: 0 | Q64: 0 | R64: 0 | S64: 0 | T64: 0 | U64: 0 | V64: 0 | W64: 자재 60
A65: 505C0149C2009421FA5E566688E3065AF29AD8 | B65: 수성페인트 | C65: 수성페인트, KSM6010-2종1급, 백색 | D65: L | E65: 3380 | G65: 6733.33 | H65: 614 | I65: 5277.77 | J65: 468 | K65: 0 | M65: 0 | O65: =SMALL(E65:M65,COUNTIF(E65:M65,0)+1) -> 3380 | P65: 0 | Q65: 0 | R65: 0 | S65: 0 | T65: 0 | U65: 0 | V65: 0 | W65: 자재 61
A66: 505C0149C2009421FA5E5C8F0C7F13C3B76FE0 | B66: 아크릴수지페인트 | C66: 아크릴수지페인트, KSM6020-2종1급, 흑색 | D66: L | E66: 0 | G66: 0 | I66: 7500 | J66: 471 | K66: 7500 | L66: 503 | M66: 0 | O66: =SMALL(E66:M66,COUNTIF(E66:M66,0)+1) -> 7500 | P66: 0 | Q66: 0 | R66: 0 | S66: 0 | T66: 0 | U66: 0 | V66: 0 | W66: 자재 62
A67: 505C0149C2009421FA57268D79F1C4BAE7D326 | B67: 방청페인트 | C67: 방청페인트, KSM6030-1종2류, 광명단페인트 | D67: L | E67: 8400 | G67: 0 | I67: 0 | K67: 0 | M67: 0 | O67: =SMALL(E67:M67,COUNTIF(E67:M67,0)+1) -> 8400 | P67: 0 | Q67: 0 | R67: 0 | S67: 0 | T67: 0 | U67: 0 | V67: 0 | W67: 자재 63
A68: 505C0149C2009421FA572216CDCD72A3FCD5FC | B68: 조합페인트 | C68: 조합페인트, KSM6020-1종1급, 백색 | D68: L | E68: 6066 | G68: 12666.66 | H68: 615 | I68: 0 | K68: 0 | M68: 0 | O68: =SMALL(E68:M68,COUNTIF(E68:M68,0)+1) -> 6066 | P68: 0 | Q68: 0 | R68: 0 | S68: 0 | T68: 0 | U68: 0 | V68: 0 | W68: 자재 64
A69: 505C0149C2009421F891E311BCC125F78AF6DB | B69: 실링재 | C69: 실링재, 실리콘, 비초산, 유리용, 창호주위 | D69: L | E69: 10371 | G69: 18518.51 | H69: 607 | I69: 0 | K69: 0 | M69: 0 | O69: =SMALL(E69:M69,COUNTIF(E69:M69,0)+1) -> 10371 | P69: 0 | Q69: 0 | R69: 0 | S69: 0 | T69: 0 | U69: 0 | V69: 0 | W69: 자재 65
A70: 505C0149C2009421F891E311BCC125F78AF159 | B70: 실링재 | C70: 실링재, 실리콘, 비초산, 건축외장용, 비오염 | D70: L | E70: 16955 | G70: 21000 | H70: 606 | I70: 0 | K70: 0 | M70: 0 | O70: =SMALL(E70:M70,COUNTIF(E70:M70,0)+1) -> 16955 | P70: 0 | Q70: 0 | R70: 0 | S70: 0 | T70: 0 | U70: 0 | V70: 0 | W70: 자재 66
A71: 505C0149C2009421F78AF6DFF6FFED8A726112 | B71: 시너 | C71: 시너, KSM6060, 1종 | D71: L | E71: 0 | G71: 3494.44 | H71: 614 | I71: 4466.66 | J71: 466 | K71: 0 | M71: 0 | O71: =SMALL(E71:M71,COUNTIF(E71:M71,0)+1) -> 3494.44 | P71: 0 | Q71: 0 | R71: 0 | S71: 0 | T71: 0 | U71: 0 | V71: 0 | W71: 자재 67
A72: 505C0149C2009421F78AF6DFF6FFED8A726113 | B72: 시너 | C72: 시너, KSM6060, 2종 | D72: L | E72: 0 | G72: 3583.33 | H72: 614 | I72: 4666.66 | J72: 466 | K72: 0 | M72: 0 | O72: =SMALL(E72:M72,COUNTIF(E72:M72,0)+1) -> 3583.33 | P72: 0 | Q72: 0 | R72: 0 | S72: 0 | T72: 0 | U72: 0 | V72: 0 | W72: 자재 68
A73: 5020D143E7009AD0DE772C185AD985F7433403 | B73: 일반구조용각형강관 | C73: 일반구조용각형강관, 각형강관, 100*50*2.3mm | D73: M | E73: 5720 | G73: 6800 | H73: 69 | I73: 7450 | J73: 34 | K73: 0 | M73: 0 | O73: =SMALL(E73:M73,COUNTIF(E73:M73,0)+1) -> 5720 | P73: 0 | Q73: 0 | R73: 0 | S73: 0 | T73: 0 | U73: 0 | V73: 0 | W73: 자재 69
A74: 50311145C5009472FDE8F61942C451DD53BEA3 | B74: 블라인드 | C74: 롤스크린, 암막방염 | D74: M2 | E74: 0 | G74: 32000 | H74: 695 | I74: 50000 | J74: 505 | K74: 0 | M74: 0 | O74: =SMALL(E74:M74,COUNTIF(E74:M74,0)+1) -> 32000 | P74: 0 | Q74: 0 | R74: 0 | S74: 0 | T74: 0 | U74: 0 | V74: 0 | W74: 자재 70
A75: 57327146AA0099217BCE7C93819279E539167F | B75: 혼합건설폐기물 | C75: 불연성 건설폐기물에 가연성 5% 이하 혼합 | D75: TON | E75: 0 | G75: 0 | I75: 0 | K75: 0 | M75: 0 | O75: 0 | P75: 0 | Q75: 0 | R75: 0 | S75: 0 | T75: 0 | U75: 188715 | V75: =SMALL(Q75:U75,COUNTIF(Q75:U75,0)+1) -> 188715 | W75: 자재 71 | Y75: C
A76: 57327146AA0099217BCE7C93819279E5387350 | B76: 혼합건설폐기물 | C76: 그 밖의 건설폐기물에 가연성 5% 이하 혼합 | D76: TON | E76: 0 | G76: 0 | I76: 0 | K76: 0 | M76: 0 | O76: 0 | P76: 0 | Q76: 0 | R76: 0 | S76: 0 | T76: 0 | U76: 192887 | V76: =SMALL(Q76:U76,COUNTIF(Q76:U76,0)+1) -> 192887 | W76: 자재 72 | Y76: C
A77: 57327146AA0099217BCE7C9381931EA2BE56FB | B77: 혼합건설폐기물 상차비 및 운반비 | C77: 16톤 암롤트럭, 30km | D77: TON | E77: 0 | G77: 0 | I77: 0 | K77: 0 | M77: 0 | N77: 1586 | O77: 0 | P77: 0 | Q77: 0 | R77: 0 | S77: 0 | T77: 0 | U77: 81350 | V77: =SMALL(Q77:U77,COUNTIF(Q77:U77,0)+1) -> 81350 | W77: 자재 73 | Y77: C
A78: 57A5614386009B6C7DDD92AB9F90B45D6C2A90 | B78: 보통인부 | C78: 일반공사 직종 | D78: 인 | E78: 0 | G78: 0 | I78: 0 | K78: 0 | M78: 0 | O78: 0 | P78: 172068 | Q78: 0 | R78: 0 | S78: 0 | T78: 0 | U78: 0 | V78: 0 | W78: 노임 1 | Y78: B
A79: 57A5614386009B6C7DDD92AB9F90B45D6C2A91 | B79: 특별인부 | C79: 일반공사 직종 | D79: 인 | E79: 0 | G79: 0 | I79: 0 | K79: 0 | M79: 0 | O79: 0 | P79: 226122 | Q79: 0 | R79: 0 | S79: 0 | T79: 0 | U79: 0 | V79: 0 | W79: 노임 2 | Y79: B
A80: 57A5614386009B6C7DDD92AB9F90B45D6C2A94 | B80: 비계공 | C80: 일반공사 직종 | D80: 인 | E80: 0 | G80: 0 | I80: 0 | K80: 0 | M80: 0 | O80: 0 | P80: 281939 | Q80: 0 | R80: 0 | S80: 0 | T80: 0 | U80: 0 | V80: 0 | W80: 노임 3 | Y80: B
A81: 57A5614386009B6C7DDD92AB9F90B45D6C2A9B | B81: 철공 | C81: 일반공사 직종 | D81: 인 | E81: 0 | G81: 0 | I81: 0 | K81: 0 | M81: 0 | O81: 0 | P81: 239808 | Q81: 0 | R81: 0 | S81: 0 | T81: 0 | U81: 0 | V81: 0 | W81: 노임 4 | Y81: B
A82: 57A5614386009B6C7DDD92AB9F90B45D6C2BB8 | B82: 철골공 | C82: 일반공사 직종 | D82: 인 | E82: 0 | G82: 0 | I82: 0 | K82: 0 | M82: 0 | O82: 0 | P82: 252641 | Q82: 0 | R82: 0 | S82: 0 | T82: 0 | U82: 0 | V82: 0 | W82: 노임 5 | Y82: B
A83: 57A5614386009B6C7DDD92AB9F90B45D6C2BBB | B83: 용접공 | C83: 일반공사 직종 | D83: 인 | E83: 0 | G83: 0 | I83: 0 | K83: 0 | M83: 0 | O83: 0 | P83: 282536 | Q83: 0 | R83: 0 | S83: 0 | T83: 0 | U83: 0 | V83: 0 | W83: 노임 6 | Y83: B
A84: 57A5614386009B6C7DDD92AB9F90B45D6C28E7 | B84: 건축목공 | C84: 일반공사 직종 | D84: 인 | E84: 0 | G84: 0 | I84: 0 | K84: 0 | M84: 0 | O84: 0 | P84: 277642 | Q84: 0 | R84: 0 | S84: 0 | T84: 0 | U84: 0 | V84: 0 | W84: 노임 7 | Y84: B
A85: 57A5614386009B6C7DDD92AB9F90B45D6C28E0 | B85: 창호공 | C85: 일반공사 직종 | D85: 인 | E85: 0 | G85: 0 | I85: 0 | K85: 0 | M85: 0 | O85: 0 | P85: 247188 | Q85: 0 | R85: 0 | S85: 0 | T85: 0 | U85: 0 | V85: 0 | W85: 노임 8 | Y85: B
A86: 57A5614386009B6C7DDD92AB9F90B45D6C28E1 | B86: 유리공 | C86: 일반공사 직종 | D86: 인 | E86: 0 | G86: 0 | I86: 0 | K86: 0 | M86: 0 | O86: 0 | P86: 253539 | Q86: 0 | R86: 0 | S86: 0 | T86: 0 | U86: 0 | V86: 0 | W86: 노임 9 | Y86: B
A87: 57A5614386009B6C7DDD92AB9F90B45D6C28E3 | B87: 미장공 | C87: 일반공사 직종 | D87: 인 | E87: 0 | G87: 0 | I87: 0 | K87: 0 | M87: 0 | O87: 0 | P87: 277276 | Q87: 0 | R87: 0 | S87: 0 | T87: 0 | U87: 0 | V87: 0 | W87: 노임 10 | Y87: B
A88: 57A5614386009B6C7DDD92AB9F90B45D6C28ED | B88: 도장공 | C88: 일반공사 직종 | D88: 인 | E88: 0 | G88: 0 | I88: 0 | K88: 0 | M88: 0 | O88: 0 | P88: 263017 | Q88: 0 | R88: 0 | S88: 0 | T88: 0 | U88: 0 | V88: 0 | W88: 노임 11 | Y88: B
A89: 57A5614386009B6C7DDD92AB9F90B45D6C298B | B89: 내장공 | C89: 일반공사 직종 | D89: 인 | E89: 0 | G89: 0 | I89: 0 | K89: 0 | M89: 0 | O89: 0 | P89: 256883 | Q89: 0 | R89: 0 | S89: 0 | T89: 0 | U89: 0 | V89: 0 | W89: 노임 12 | Y89: B
... A91: 57A5614386009B6C7DDD9606CE813C0282EAEF | B91: 코킹공 | C91: 기타 직종 | D91: 인 | E91: 0 | G91: 0 | I91: 0 | K91: 0 | M91: 0 | O91: 0 | P91: 209131 | Q91: 0 | R91: 0 | S91: 0 | T91: 0 | U91: 0 | V91: 0 | W91: 노임 14 | Y91: B
A92: 56C89146D9009498D4FD1373C5A9722ABC0950 | B92: 애칭시트 | C92: 자재+시공비 | D92: M2 | E92: 0 | G92: 0 | I92: 0 | K92: 0 | M92: 35000 | O92: =SMALL(E92:M92,COUNTIF(E92:M92,0)+1) -> 35000 | P92: 0 | Q92: 0 | R92: 0 | S92: 0 | T92: 0 | U92: 0 | V92: 0 | W92: 자재 74
A93: 56C89146D9009498D4FD1373C5A9722ABC0953 | B93: 그라데이션 시트 | C93: 자재+시공비 | D93: M2 | E93: 0 | G93: 0 | I93: 0 | K93: 0 | M93: 50000 | O93: =SMALL(E93:M93,COUNTIF(E93:M93,0)+1) -> 50000 | P93: 0 | Q93: 0 | R93: 0 | S93: 0 | T93: 0 | U93: 0 | V93: 0 | W93: 자재 75
A94: 56C89146D9009498D4FD1373C5A9722ABC095C | B94: 벽면 거울 설치 | C94: 자재+시공포함 | D94: 식 | E94: 0 | G94: 0 | I94: 0 | K94: 0 | M94: 1500000 | O94: =SMALL(E94:M94,COUNTIF(E94:M94,0)+1) -> 1500000 | P94: 0 | Q94: 0 | R94: 0 | S94: 0 | T94: 0 | U94: 0 | V94: 0 | W94: 자재 76 | X94: 견적가
A95: 56C89146D9009498D4FD1373C5A9722ABC084F | B95: 코팅 에코블럭 | C95: 25t*50cm*50cm | D95: EA | E95: 0 | G95: 0 | I95: 0 | K95: 0 | M95: 25000 | O95: =SMALL(E95:M95,COUNTIF(E95:M95,0)+1) -> 25000 | P95: 0 | Q95: 0 | R95: 0 | S95: 0 | T95: 0 | U95: 0 | V95: 0 | W95: 자재 77 | X95: 견적가
A96: 56C89146D9009498D4FD1373C5A9722ABC084C | B96: 헬스 기구 이전 | D96: 식 | E96: 0 | G96: 0 | I96: 0 | K96: 0 | M96: 0 | O96: 0 | P96: 2000000 | Q96: 0 | R96: 0 | S96: 0 | T96: 0 | U96: 0 | V96: 0 | W96: 자재 78 | X96: 견적가

Sheet  공사설정 
A1: 이 Sheet는 수정하지 마십시요
A2: 공사구분 | B2: A | C2: 타이틀
A3: 확정내역 | B3: 원내역
A4: 자재단가적용 | B4: 5
A5: 경비단가적용 | B5: 5
A6: 품목코드형식 | B6: XXXX-XXXX-XXXXXXXXX
A7: 내역금액소수점처리 | B7: C | C7: T
A8: 일위대가내역소수점처리 | B8: C | C8: 2
A9: 단가명 | B9: 가격정보 | C9: 거래가격 | D9: 유통물가 | E9: 물가정보 | F9: 조사가격 | G9: TTTTT
A10: 환율 | B10: 1472 | C10: 0 | D10: 0
A11: 시간당작업량 | B11: R | C11: 4
A12: 1회 사이클시간 | B12: R | C12: 4
A13: 시간당 작업사이클 | B13: R | C13: 3
A14: 일반변수 | B14: R | C14: 5
A15: 시간당 노임산출 계수 | B15: A | C15: 1/8*16/12*25/20 | D15: 1/8*16/12*25/20 | E15: 1/8*16/12*25/20 | F15: 1
A16: 재료비 할증 계수 | B16: 1.11 | C16: 1.12
A17: 노무비 할증 계수 | B17: 1 | C17: 1.5 | D17: 1.16 | E17: 1.6 | F17: 1.6 | G17: 1.6 | H17: 1.94 | I17: 1.94 | J17: 1.94 | K17: 1 | L17: 1 | M17: 1
A18: 경비 할증 계수 | B18: 1.25 | C18: 1.071
A19: 내역,일위대가 품명,규격,단위 따로적용
A20: 내역단가 소수점처리 | B20: C | C20: 1
A21: 코드 | B21: 공종구분명 | C21: 원가비목코드
A22: 1 | B22: 작 업 부 산 물 | C22: A3
A23: 2 | B23: 운 반 비 | C23: C1
A24: 3 | B24: 관 급 자 재 비 | C24: DJ
A25: 4 | B25: 사 급 자 재 비 | C25: D3
A26: 5 | B26: 외 자 재
A27: 6 | B27: 폐 기 물 처 리 비 | C27: D4
A28: 7 | B28: ...
A29: 8 | B29: ...
A30: 9 | B30: ...
A31: A | B31: ....
A32: B | B32: .....
A33: C | B33: ....
A34: D | B34: ....
A35: E | B35: ....
A36: F | B36: ....
A37: G | B37: ....
A38: H | B38: ....
A39: I | B39: ....
A40: J | B40: ....
A43: 단가 순서 | B43: 1234

Sheet Sheet1
