Workbook
Name _: #N/A
Name _.: #REF!
Name ________________________t3: #REF!
Name _______________________t3: #REF!
Name ______________________t3: #REF!
Name _____________________t3: #REF!
Name ____________________t3: #REF!
Name ____________________T4: #REF!
Name ___________________T4: #REF!
Name __________________t3: #REF!
Name __________________T4: #REF!
Name _________________t3: #REF!
Name _________________T4: #REF!
Name ________________t3: #REF!
Name ________________T4: #REF!
Name _______________t3: #REF!
Name ______________t3: #REF!
Name ______________T4: #REF!
Name _____________T4: #REF!
Name ____________t3: #REF!
Name ____________T4: #REF!
Name ___________t3: #REF!
Name ___________T4: #REF!
Name __________t3: #REF!
Name __________T4: #REF!
Name _________t3: #REF!
Name _________T4: #REF!
Name ________t3: #REF!
Name ________T4: #REF!
Name _______t3: #REF!
Name _______T4: #REF!
Name ______t3: #REF!
Name ______T4: #REF!
Name _____t3: #REF!
Name _____T4: #REF!
Name ____t3: #REF!
Name ____t3: #REF!
Name ____T4: #REF!
Name ___HSH1: #REF!
Name ___HSH2: #REF!
Name ___hun1: [1]설계조건!#REF!
Name ___hun2: [1]설계조건!#REF!
Name ___NP1: #REF!
Name ___NP2: #REF!
Name ___NSH1: #REF!
Name ___NSH2: #REF!
Name ___pa1: #REF!
Name ___pa2: #REF!
Name ___pl1: #REF!
Name ___PL2: #REF!
Name ___PL3: #REF!
Name ___qs1: [1]설계조건!#REF!
Name ___qs12: [1]설계조건!#REF!
Name ___qs2: [1]설계조건!#REF!
Name ___qs22: [1]설계조건!#REF!
Name ___SBB1: #REF!
Name ___SBB2: #REF!
Name ___SBB3: #REF!
Name ___SBB4: #REF!
Name ___SBB5: #REF!

Sheet 표지
B3: 2026년도
A5: 횡성 미래모빌리티 거점특화단지 투자선도지구 제2구역 소규모 환경영향평가 용역 (복합문화커뮤니티시설 및 R&D단지 등)
C8: 설 계 서

Sheet 갑지
M1: 설 계 자 | S1: 심 사 자 | Y1: 팀 장 | AE1: 과 장
C2: 2026년 10월 일 설계
B5: 2026년도
A6: =표지!A5 -> 횡성 미래모빌리티 거점특화단지 투자선도지구 제2구역 소규모 환경영향평가 용역 (복합문화커뮤니티시설 및 R&D단지 등)
A7: 설 계 예 산 서
F10: □ 용역개요
G12: o 소규모 환경영향평가 : | N12: 1 | O12: 식 | Q12: ='<별표 3> 내역서 작성기준'!M3 -> 150000
H19: ■ 도 급 액 : | M19: ="금"&NUMBERSTRING(총괄내역서!D11,1)&"원(\"&TEXT(총괄내역서!D11,"#,##0")&")" -> 금칠천육백이십육만원(\76,260,000)

Sheet 총괄내역서
A1: 총괄내역서
A2: 규 격 | B2: 수량 | C2: 단위 | D2: 총액 | E2: 재 료 비 | G2: 노 무 비 | I2: 경 비 | K2: 비고
E3: 단가 | F3: 금액 | G3: 단가 | H3: 금액 | I3: 단가 | J3: 금액
A4: 1. 직접인건비 | D4: =세부내역서!D4 -> 20409620
A5: 2. 직접경비 | D5: =세부내역서!D10 -> 17399650
A6: 3. 제경비 | B6: ①의 | C6: =[804]세부내역서!B22 -> 110 | D6: =세부내역서!D23 -> 22450582
A7: 4. 기술료 | B7: ①+③의 | C7: =[804]세부내역서!B24 -> 20 | D7: =세부내역서!D25 -> 8572040
A8: 5. 소계 (1~4의 합계) | D8: =(D4+D5+D6+D7) -> 68831892
A9: 6. 손해배상공제료 | D9: =세부내역서!D28 -> 496000
A10: 7. 부가세 (VAT) | D10: =INT((D8+D9)*0.1) -> 6932789
A11: 합 계 | D11: =ROUNDDOWN(D8+D10+D9,-4) -> 76260000 | K11: 천원단위 절사

Sheet 세부내역서
A1: 세부내역서
A2: 규 격 | B2: 수량 | C2: 단위 | D2: 총액 | E2: 재 료 비 | G2: 노 무 비 | I2: 경 비 | K2: 비고
E3: 단가 | F3: 금액 | G3: 단가 | H3: 금액 | I3: 단가 | J3: 금액
A4: 1. 직접인건비 | D4: =SUM(D5:D9) -> 20409620 | K4: 별표1
A5: 환경영향평가사 | B5: ='<별표 1>직접인건비산출내역'!H4 -> 2.7942559 | C5: 인 | D5: =H5 -> 1274842 | G5: ='<별표 4>산출근거'!D15 -> 456237 | H5: =INT(SUM(B5*G5)) -> 1274842
A6: 특급기술자 | B6: ='<별표 1>직접인건비산출내역'!I4 -> 9.5404886 | C6: 인 | D6: =H6 -> 3453771 | G6: ='<별표 4>산출근거'!D16 -> 362012 | H6: =INT(SUM(B6*G6)) -> 3453771
A7: 고급기술자 | B7: ='<별표 1>직접인건비산출내역'!J4 -> 18.426798 | C7: 인 | D7: =H7 -> 5970153 | G7: ='<별표 4>산출근거'!D17 -> 323993 | H7: =INT(SUM(B7*G7)) -> 5970153
A8: 중급기술자 | B8: ='<별표 1>직접인건비산출내역'!K4 -> 20.169306 | C8: 인 | D8: =H8 -> 5488653 | G8: ='<별표 4>산출근거'!D18 -> 272129 | H8: =INT(SUM(B8*G8)) -> 5488653
A9: 초급기술자 | B9: ='<별표 1>직접인건비산출내역'!L4 -> 17.122771 | C9: 인 | D9: =H9 -> 4222201 | G9: ='<별표 4>산출근거'!D19 -> 246584 | H9: =INT(SUM(B9*G9)) -> 4222201
A10: 2. 직접경비 | D10: =SUM(D11,D19,D20,D22) -> 17399650 | K10: 별표 2
A11: 가) 측정시험분석비 | D11: =SUM(D12:D18) -> 14941450
A12: 1) 대기질 | B12: =(""&('<별표 3> 내역서 작성기준'!I20)&"*")&('<별표 3> 내역서 작성기준'!I19) -> 2*1 | C12: 지점*회 | D12: ='<별표 2>직접경비산출내역'!D5 -> 2142400
A13: 2) 유해대기물질(건강) | B13: =(""&('<별표 3> 내역서 작성기준'!J20)&"*")&('<별표 3> 내역서 작성기준'!J19) -> 2*1 | C13: 지점*회 | D13: ='<별표 2>직접경비산출내역'!D15 -> 4355600
A14: 3) 지표수질 | B14: =(""&('<별표 3> 내역서 작성기준'!K20)&"*")&('<별표 3> 내역서 작성기준'!K19) -> 2*1 | C14: 지점*회 | D14: ='<별표 2>직접경비산출내역'!D45 -> 724900
A15: 4) 지하수질 | B15: =(""&('<별표 3> 내역서 작성기준'!L20)&"*")&('<별표 3> 내역서 작성기준'!L19) -> 2*1 | C15: 지점*회 | D15: ='<별표 2>직접경비산출내역'!D77 -> 2561800
A16: 5) 토 양 | B16: =(""&('<별표 3> 내역서 작성기준'!M20)&"*")&('<별표 3> 내역서 작성기준'!M19) -> 2*1 | C16: 지점*회 | D16: ='<별표 2>직접경비산출내역'!D103 -> 2081000
A17: 6) 소음.진동 | B17: =(""&('<별표 3> 내역서 작성기준'!N20)&"*")&('<별표 3> 내역서 작성기준'!N19) -> 2*1 | C17: 지점*회 | D17: ='<별표 2>직접경비산출내역'!D125 -> 1430550
A18: 7) 악취 | B18: =(""&('<별표 3> 내역서 작성기준'!O20)&"*")&('<별표 3> 내역서 작성기준'!O19) -> 2*1 | C18: 지점*회 | D18: ='<별표 2>직접경비산출내역'!D129 -> 1645200
A19: 나) 출장비 | D19: ='<별표 4>산출근거'!D41 -> 765200 | K19: 별표4
A20: 다) 인쇄비 | D20: =SUM(D21) -> 1593000 | K20: 별표4
A21: 1) 소규모환경영향평가서 | B21: ='<별표 2>직접경비산출내역'!B159 -> 10 | C21: 부수 | D21: ='<별표 2>직접경비산출내역'!D158 -> 1593000
A22: 라) 실비적용 조사비 | D22: ='<별표 2>직접경비산출내역'!D160 -> 100000 | K22: 별표3
A23: 3. 제경비 | D23: =D24 -> 22450582 | K23: 별표3
B24: ='<별표 3> 내역서 작성기준'!M15 -> 110 | C24: % | D24: =INT(D4*B24/100) -> 22450582
A25: 4. 기술료 | D25: =D26 -> 8572040 | K25: 별표3
B26: ='<별표 3> 내역서 작성기준'!M16 -> 20 | C26: % | D26: =INT((D4+D23)*B26/100) -> 8572040
A27: 소 계(1~4의 합계) | D27: =ROUNDDOWN(D25+D23+D10+D4,-4) -> 68830000 | K27: 천원단위 절사
A28: 5. 손해배상공제료 | D28: ='<별표 5>손배료'!Y29 -> 496000 | K28: 별표5
A29: 6. 부가세 (VAT) | D29: =D30 -> 6932600
B30: 10 | C30: % | D30: =INT(D27+D28)*0.1 -> 6932600
A31: 합 계 | D31: =D27+D29+D28 -> 76258600 | K31: 부가세포함

Sheet <별표 1>직접인건비산출내역
A1: <별표 1> 직접인건비산출내역
A2: 구 분 | C2: 소요인력 산정기준(인) | H2: 실소요인력 (인) | M2: 적용 | N2: 환산/보정
C3: 환경영향평가사 | D3: 특급기술자 | E3: 고급기술자 | F3: 중급기술자 | G3: 초급기술자 | H3: 환경영향평가사 | I3: 특급기술자 | J3: 고급기술자 | K3: 중급기술자 | L3: 초급기술자 | R3: 계수 확인할것
A4: 기술업무 소요인력 | C4: =C5+C8+C9+C10+C11+C15+C16+C39+C40+C41 -> 11.4 | D4: =D5+D8+D9+D10+D11+D15+D16+D39+D40+D41 -> 40.8 | E4: =E5+E8+E9+E10+E11+E15+E16+E39+E40+E41 -> 74.4 | F4: =F5+F8+F9+F10+F11+F15+F16+F39+F40+F41 -> 81.5 | G4: =G5+G8+G9+G10+G11+G15+G16+G39+G40+G41 -> 69 | H4: =H5+H8+H9+H10+H11+H15+H16+H39+H40+H41 -> 2.7942559 | I4: =I5+I8+I9+I10+I11+I15+I16+I39+I40+I41 -> 9.5404886 | J4: =J5+J8+J9+J10+J11+J15+J16+J39+J40+J41 -> 18.426798 | ... L4: =L5+L8+L9+L10+L11+L15+L16+L39+L40+L41 -> 17.122771
A5: 1. 사업의 개요 | C5: =SUM(C6:C7) -> 0.2 | D5: =SUM(D6:D7) -> 0.4 | E5: =SUM(E6:E7) -> 1 | F5: =SUM(F6:F7) -> 1 | G5: =SUM(G6:G7) -> 1 | H5: =SUM(H6:H7) -> 0.04 | I5: =SUM(I6:I7) -> 0.08 | J5: =SUM(J6:J7) -> 0.2 | ... L5: =SUM(L6:L7) -> 0.2 | R5: 환산계수 | S5: ① | T5: ='<별표 3> 내역서 작성기준'!U6 -> 1
B6: 1.1 사업의 배경 및 목적 | C6: 0.2 | D6: 0.2 | E6: 0.5 | F6: 0.5 | G6: 0.5 | H6: =C6*$M$6*$N$6 -> 0.04 | I6: =D6*$M$6*$N$6 -> 0.04 | J6: =E6*$M$6*$N$6 -> 0.1 | K6: =F6*$M$6*$N$6 -> 0.1 | L6: =G6*$M$6*$N$6 -> 0.1 | M6: 0.2 | N6: =$T$5 -> 1 | O6: ① | S6: ② | T6: ='<별표 3> 내역서 작성기준'!U7 -> 1.1293469
B7: 1.2 환경영향평가 실시 근거 등 | C7: 0 | D7: 0.2 | E7: 0.5 | F7: 0.5 | G7: 0.5 | H7: =C7*$M$7*$N$7 -> 0 | I7: =D7*$M$7*$N$7 -> 0.04 | J7: =E7*$M$7*$N$7 -> 0.1 | K7: =F7*$M$7*$N$7 -> 0.1 | L7: =G7*$M$7*$N$7 -> 0.1 | M7: 0.2 | N7: =$T$5 -> 1 | O7: ① | S7: ③ | T7: ='<별표 3> 내역서 작성기준'!U8 -> 1.2754245
A8: 2. 지역 개황 | C8: 0 | D8: 1 | E8: 2.5 | F8: 3 | G8: 3.5 | H8: =C8*$M$8*$N$8 -> 0 | I8: =D8*$M$8*$N$8 -> 0.22586939 | J8: =E8*$M$8*$N$8 -> 0.56467347 | K8: =F8*$M$8*$N$8 -> 0.67760816 | L8: =G8*$M$8*$N$8 -> 0.79054285 | M8: 0.2 | N8: =$T$6 -> 1.1293469 | O8: ②
A9: 3. 소규모 환경영향평가 대상지역의 설정 | C9: 0 | D9: 0.3 | E9: 1 | F9: 1 | G9: 1 | H9: =C9*$M$9*$N$9 -> 0 | I9: =D9*$M$9*$N$9 -> 0.067760816 | J9: =E9*$M$9*$N$9 -> 0.22586939 | K9: =F9*$M$9*$N$9 -> 0.22586939 | L9: =G9*$M$9*$N$9 -> 0.22586939 | M9: 0.2 | N9: =$T$6 -> 1.1293469 | O9: ② | R9: 보정계수 | S9: ㉮ | T9: ='<별표 3> 내역서 작성기준'!U9 -> 1
A10: 4. 사업지역 및 주변지역에 대한 토지이용 현황 | C10: 0 | D10: 0.5 | E10: 1.5 | F10: 1.5 | G10: 1.5 | H10: =C10*$M$10*$N$10 -> 0 | I10: =D10*$M$10*$N$10 -> 0.11293469 | J10: =E10*$M$10*$N$10 -> 0.33880408 | K10: =F10*$M$10*$N$10 -> 0.33880408 | L10: =G10*$M$10*$N$10 -> 0.33880408 | M10: 0.2 | N10: =$T$6 -> 1.1293469 | O10: ② | S10: ㉯ | T10: ='<별표 3> 내역서 작성기준'!U10 -> 2
A11: 5. 환경 현황 | C11: =SUM(C12:C14) -> 0 | D11: =SUM(D12:D14) -> 0.9 | E11: =SUM(E12:E14) -> 1.3 | F11: =SUM(F12:F14) -> 2.5 | G11: =SUM(G12:G14) -> 2.5 | H11: =SUM(H12:H14) -> 0 | I11: =SUM(I12:I14) -> 0.18069551 | J11: =SUM(J12:J14) -> 0.22586939 | ... L11: =SUM(L12:L14) -> 0.45173877 | S11: ㉰ | T11: ='<별표 3> 내역서 작성기준'!U11 -> 1
B12: 5.1 자연생태환경 | C12: 0 | D12: 0.5 | E12: 0.5 | F12: 1 | G12: 1 | H12: =C12*$M$12*$N$12 -> 0 | I12: =D12*$M$12*$N$12 -> 0.11293469 | J12: =E12*$M$12*$N$12 -> 0.11293469 | K12: =F12*$M$12*$N$12 -> 0.22586939 | L12: =G12*$M$12*$N$12 -> 0.22586939 | M12: 0.2 | N12: =$T$6 -> 1.1293469 | O12: ② | S12: ㉱ | T12: ='<별표 3> 내역서 작성기준'!U12 -> 1.4
B13: 5.2 생활환경 | C13: 0 | D13: 0.3 | E13: 0.5 | F13: 1 | G13: 1 | H13: =C13*$M$13*$N$13 -> 0 | I13: =D13*$M$13*$N$13 -> 0.067760816 | J13: =E13*$M$13*$N$13 -> 0.11293469 | K13: =F13*$M$13*$N$13 -> 0.22586939 | L13: =G13*$M$13*$N$13 -> 0.22586939 | M13: 0.2 | N13: =$T$6 -> 1.1293469 | O13: ②
B14: 5.3 사회, 경제환경 | C14: 0 | D14: 0.1 | E14: 0.3 | F14: 0.5 | G14: 0.5 | H14: =C14*$M$14*$N$14 -> 0 | I14: =D14*$M$14*$N$14 -> 0 | J14: =E14*$M$14*$N$14 -> 0 | K14: =F14*$M$14*$N$14 -> 0 | L14: =G14*$M$14*$N$14 -> 0 | M14: 0 | N14: =$T$6 -> 1.1293469 | O14: ②
A15: 6. 입지의 타당성 (전략평가 거친 경우 제외) | C15: 1 | D15: 5.5 | E15: 5 | F15: 4 | G15: 3 | H15: =C15*$M$15*$N$15 -> 0 | I15: =D15*$M$15*$N$15 -> 0 | J15: =E15*$M$15*$N$15 -> 0 | K15: =F15*$M$15*$N$15 -> 0 | L15: =G15*$M$15*$N$15 -> 0 | M15: 0 | N15: =$T$6 -> 1.1293469 | O15: ②
A16: 7. 환경에 미치는 영향조사, 예측, 평가 및 환경 보전방안 | C16: =SUM(C17:C24)+SUM(C26:C38) -> 9.5 | D16: =SUM(D17:D24)+SUM(D26:D38) -> 31 | E16: =SUM(E17:E24)+SUM(E26:E38) -> 59.5 | F16: =SUM(F17:F24)+SUM(F26:F38) -> 65 | G16: =SUM(G17:G24)+SUM(G26:G38) -> 53.5 | H16: =SUM(H17:H24)+SUM(H26:H38) -> 2.5961473 | I16: =SUM(I17:I24)+SUM(I26:I38) -> 8.6021849 | J16: =SUM(J17:J24)+SUM(J26:J38) -> 16.284321 | ... L16: =SUM(L17:L24)+SUM(L26:L38) -> 14.438207 | Q16: =총괄내역서!D11 -> 76260000
A17: 7.1 자연생태환경 분야 | B17: 7.1.1 동식물상 | C17: 1.5 | D17: 8 | E17: 13.5 | F17: 14 | G17: 11 | H17: =C17*$M$17*$N$17 -> 0.38262735 | I17: =D17*$M$17*$N$17 -> 2.0406792 | J17: =E17*$M$17*$N$17 -> 3.4436462 | K17: =F17*$M$17*$N$17 -> 3.5711886 | L17: =G17*$M$17*$N$17 -> 2.8059339 | M17: 0.2 | N17: =$T$7*$T$9 -> 1.2754245 | O17: ③/㉮
B18: 7.1.2 자연환경자산 | C18: 0.2 | D18: 0.5 | E18: 1 | F18: 1.5 | G18: 1.5 | H18: =C18*$M$18*$N$18 -> 0 | I18: =D18*$M$18*$N$18 -> 0 | J18: =E18*$M$18*$N$18 -> 0 | K18: =F18*$M$18*$N$18 -> 0 | L18: =G18*$M$18*$N$18 -> 0 | M18: 0 | N18: =$T$6 -> 1.1293469 | O18: ②
A19: 7.2 대기환경 분야 | B19: 7.2.1 기 상 | C19: 0.2 | D19: 0.5 | E19: 1 | F19: 1.5 | G19: 1 | H19: =C19*$M$19*$N$19 -> 0.045173877 | I19: =D19*$M$19*$N$19 -> 0.11293469 | J19: =E19*$M$19*$N$19 -> 0.22586939 | K19: =F19*$M$19*$N$19 -> 0.33880408 | L19: =G19*$M$19*$N$19 -> 0.22586939 | M19: 0.2 | N19: =$T$6 -> 1.1293469 | O19: ②
B20: 7.2.2 대기질 | C20: 1 | D20: 3 | E20: 5.5 | F20: 6 | G20: 5 | H20: =C20*$M$20*$N$20 -> 0.33880408 | I20: =D20*$M$20*$N$20 -> 1.0164122 | J20: =E20*$M$20*$N$20 -> 1.8634224 | K20: =F20*$M$20*$N$20 -> 2.0328245 | L20: =G20*$M$20*$N$20 -> 1.6940204 | M20: 0.3 | N20: =$T$6*$T$11 -> 1.1293469 | O20: ②/㉰
B21: 7.2.3 악 취 | C21: 0.5 | D21: 1.5 | E21: 2.5 | F21: 2.5 | G21: 2 | H21: =C21*$M$21*$N$21 -> 0.16940204 | I21: =D21*$M$21*$N$21 -> 0.50820612 | J21: =E21*$M$21*$N$21 -> 0.8470102 | K21: =F21*$M$21*$N$21 -> 0.8470102 | L21: =G21*$M$21*$N$21 -> 0.67760816 | M21: 0.3 | N21: =$T$6*$T$11 -> 1.1293469 | O21: ②/㉰
B22: 7.2.4 온실가스 | C22: 0.5 | D22: 1 | E22: 2 | F22: 2.5 | G22: 2.5 | H22: =C22*$M$22*$N$22 -> 0.11293469 | I22: =D22*$M$22*$N$22 -> 0.22586939 | J22: =E22*$M$22*$N$22 -> 0.45173877 | K22: =F22*$M$22*$N$22 -> 0.56467347 | L22: =G22*$M$22*$N$22 -> 0.56467347 | M22: 0.2 | N22: =$T$6 -> 1.1293469 | O22: ②
A23: 7.3 수환경 분야 | B23: 7.3.1 수 질 (지표, 지하) | C23: 1 | D23: 3.5 | E23: 6 | F23: 6 | G23: 5 | H23: =C23*$M$23*$N$23 -> 0.47432571 | I23: =D23*$M$23*$N$23 -> 1.66014 | J23: =E23*$M$23*$N$23 -> 2.8459543 | K23: =F23*$M$23*$N$23 -> 2.8459543 | L23: =G23*$M$23*$N$23 -> 2.3716286 | M23: 0.3 | N23: =$T$6*$T$11*$T$12 -> 1.5810857 | O23: ②/㉰㉱
B24: 7.3.2 수리.수문 | C24: 0.5 | D24: 1.5 | E24: 3 | F24: 3.5 | G24: 2.5 | H24: =C24*$M$24*$N$24 -> 0 | I24: =D24*$M$24*$N$24 -> 0 | J24: =E24*$M$24*$N$24 -> 0 | K24: =F24*$M$24*$N$24 -> 0 | L24: =G24*$M$24*$N$24 -> 0 | M24: 0 | N24: =$T$6 -> 1.1293469 | O24: ②
B25: 7.3.3 해양환경 | C25: 해역이용영향평가 대행비용 산정기준(해양수산부) 적용
A26: 7.4 토지환경 분야 | B26: 7.4.1 토지이용 | C26: 0.3 | D26: 1 | E26: 2 | F26: 2 | G26: 1.5 | H26: =C26*$M$26*$N$26 -> 0.10164122 | I26: =D26*$M$26*$N$26 -> 0.33880408 | J26: =E26*$M$26*$N$26 -> 0.67760816 | K26: =F26*$M$26*$N$26 -> 0.67760816 | L26: =G26*$M$26*$N$26 -> 0.50820612 | M26: 0.3 | N26: =$T$6 -> 1.1293469 | O26: ②
B27: 7.4.2 토 양 | C27: 0.2 | D27: 0.5 | E27: 1.5 | F27: 1.5 | G27: 1.5 | H27: =C27*$M$27*$N$27 -> 0.045173877 | I27: =D27*$M$27*$N$27 -> 0.11293469 | J27: =E27*$M$27*$N$27 -> 0.33880408 | K27: =F27*$M$27*$N$27 -> 0.33880408 | L27: =G27*$M$27*$N$27 -> 0.33880408 | M27: 0.2 | N27: =$T$6 -> 1.1293469 | O27: ②
B28: 7.4.3 지형.지질 | C28: 0.5 | D28: 1.5 | E28: 3 | F28: 3.5 | G28: 2.5 | H28: =C28*$M$28*$N$28 -> 0.11293469 | I28: =D28*$M$28*$N$28 -> 0.33880408 | J28: =E28*$M$28*$N$28 -> 0.67760816 | K28: =F28*$M$28*$N$28 -> 0.79054285 | L28: =G28*$M$28*$N$28 -> 0.56467347 | M28: 0.2 | N28: =$T$6 -> 1.1293469 | O28: ②
A29: 7.5 생활환경 분야 | B29: 7.5.1 친환경적 자원순환 | C29: 0.5 | D29: 1 | E29: 2.5 | F29: 2.5 | G29: 2 | H29: =C29*$M$29*$N$29 -> 0.11293469 | I29: =D29*$M$29*$N$29 -> 0.22586939 | J29: =E29*$M$29*$N$29 -> 0.56467347 | K29: =F29*$M$29*$N$29 -> 0.56467347 | L29: =G29*$M$29*$N$29 -> 0.45173877 | M29: 0.2 | N29: =$T$6 -> 1.1293469 | O29: ②
B30: 7.5.2 소음.진동 | C30: 0.5 | D30: 2.5 | E30: 4.5 | F30: 4.5 | G30: 3.5 | H30: =C30*$M$30*$N$30 -> 0.16940204 | I30: =D30*$M$30*$N$30 -> 0.8470102 | J30: =E30*$M$30*$N$30 -> 1.5246184 | K30: =F30*$M$30*$N$30 -> 1.5246184 | L30: =G30*$M$30*$N$30 -> 1.1858143 | M30: 0.3 | N30: =$T$6*$T$11 -> 1.1293469 | O30: ②/㉰
B31: 7.5.3 위락 | C31: 0.1 | D31: 0.3 | E31: 1 | F31: 1 | G31: 1 | H31: =C31*$M$31*$N$31 -> 0 | I31: =D31*$M$31*$N$31 -> 0 | J31: =E31*$M$31*$N$31 -> 0 | K31: =F31*$M$31*$N$31 -> 0 | L31: =G31*$M$31*$N$31 -> 0 | M31: 0 | N31: =$T$6 -> 1.1293469 | O31: ②
B32: 7.5.4 경관 | C32: 0.5 | D32: 1 | E32: 2.5 | F32: 3 | G32: 2.5 | H32: =C32*$M$32*$N$32 -> 0.33880408 | I32: =D32*$M$32*$N$32 -> 0.67760816 | J32: =E32*$M$32*$N$32 -> 1.6940204 | K32: =F32*$M$32*$N$32 -> 2.0328245 | L32: =G32*$M$32*$N$32 -> 1.6940204 | M32: 0.3 | N32: =$T$6*$T$10 -> 2.2586939 | O32: ②/㉯
B33: 7.5.5 위생.공중 보건 | C33: 0.3 | D33: 1 | E33: 2 | F33: 2 | G33: 2 | H33: =C33*$M$33*$N$33 -> 0.10164122 | I33: =D33*$M$33*$N$33 -> 0.33880408 | J33: =E33*$M$33*$N$33 -> 0.67760816 | K33: =F33*$M$33*$N$33 -> 0.67760816 | L33: =G33*$M$33*$N$33 -> 0.67760816 | M33: 0.3 | N33: =$T$6*$T$11 -> 1.1293469 | O33: ②/㉰
B34: 7.5.6 전파장해 | C34: 0.3 | D34: 1 | E34: 2 | F34: 2 | G34: 1.5 | H34: =C34*$M$34*$N$34 -> 0 | I34: =D34*$M$34*$N$34 -> 0 | J34: =E34*$M$34*$N$34 -> 0 | K34: =F34*$M$34*$N$34 -> 0 | L34: =G34*$M$34*$N$34 -> 0 | M34: 0 | N34: =$T$6 -> 1.1293469 | O34: ②
B35: 7.5.7 일조장해 | C35: 0.5 | D35: 1 | E35: 2 | F35: 2.5 | G35: 2 | H35: =C35*$M$35*$N$35 -> 0 | I35: =D35*$M$35*$N$35 -> 0 | J35: =E35*$M$35*$N$35 -> 0 | K35: =F35*$M$35*$N$35 -> 0 | L35: =G35*$M$35*$N$35 -> 0 | M35: 0 | N35: =$T$6 -> 1.1293469 | O35: ②
A36: 7.6 사회, 경제환경 분야 | B36: 7.6.1 인 구 | C36: 0.2 | D36: 0.3 | E36: 1 | F36: 1 | G36: 1 | H36: =C36*$M$36*$N$36 -> 0.045173877 | I36: =D36*$M$36*$N$36 -> 0.067760816 | J36: =E36*$M$36*$N$36 -> 0.22586939 | K36: =F36*$M$36*$N$36 -> 0.22586939 | L36: =G36*$M$36*$N$36 -> 0.22586939 | M36: 0.2 | N36: =$T$6 -> 1.1293469 | O36: ②
B37: 7.6.2 주 거 | C37: 0.1 | D37: 0.2 | E37: 0.5 | F37: 1 | G37: 1 | H37: =C37*$M$37*$N$37 -> 0.022586939 | I37: =D37*$M$37*$N$37 -> 0.045173877 | J37: =E37*$M$37*$N$37 -> 0.11293469 | K37: =F37*$M$37*$N$37 -> 0.22586939 | L37: =G37*$M$37*$N$37 -> 0.22586939 | M37: 0.2 | N37: =$T$6 -> 1.1293469 | O37: ②
B38: 7.6.3 산 업 | C38: 0.1 | D38: 0.2 | E38: 0.5 | F38: 1 | G38: 1 | H38: =C38*$M$38*$N$38 -> 0.022586939 | I38: =D38*$M$38*$N$38 -> 0.045173877 | J38: =E38*$M$38*$N$38 -> 0.11293469 | K38: =F38*$M$38*$N$38 -> 0.22586939 | L38: =G38*$M$38*$N$38 -> 0.22586939 | M38: 0.2 | N38: =$T$6 -> 1.1293469 | O38: ②
A39: 8. 전략환경영향평가 협의 내용 반영 여부 | C39: 0.2 | D39: 0.5 | E39: 1 | F39: 1 | G39: 1 | H39: =C39*$M$39*$N$39 -> 0.045173877 | I39: =D39*$M$39*$N$39 -> 0.11293469 | J39: =E39*$M$39*$N$39 -> 0.22586939 | K39: =F39*$M$39*$N$39 -> 0.22586939 | L39: =G39*$M$39*$N$39 -> 0.22586939 | M39: 0.2 | N39: =$T$6 -> 1.1293469 | O39: ②
A40: 9. 종합평가 및 결론 | C40: 0.5 | D40: 0.5 | E40: 1 | F40: 1.5 | G40: 1 | H40: =C40*$M$40*$N$40 -> 0.11293469 | I40: =D40*$M$40*$N$40 -> 0.11293469 | J40: =E40*$M$40*$N$40 -> 0.22586939 | K40: =F40*$M$40*$N$40 -> 0.33880408 | L40: =G40*$M$40*$N$40 -> 0.22586939 | M40: 0.2 | N40: =$T$6 -> 1.1293469 | O40: ②
A41: 10. 부록 | C41: =SUM(C42:C44) -> 0 | D41: =SUM(D42:D44) -> 0.2 | E41: =SUM(E42:E44) -> 0.6 | F41: =SUM(F42:F44) -> 1 | G41: =SUM(G42:G44) -> 1 | H41: =SUM(H42:H44) -> 0 | I41: =SUM(I42:I44) -> 0.045173877 | J41: =SUM(J42:J44) -> 0.13552163 | ... L41: =SUM(L42:L44) -> 0.22586939
B42: 10.1 인용 문헌 및 참고 자료 | C42: 0 | D42: 0.1 | E42: 0.3 | F42: 0.5 | G42: 0.5 | H42: =C42*$M$42*$N$42 -> 0 | I42: =D42*$M$42*$N$42 -> 0.022586939 | J42: =E42*$M$42*$N$42 -> 0.067760816 | K42: =F42*$M$42*$N$42 -> 0.11293469 | L42: =G42*$M$42*$N$42 -> 0.11293469 | M42: 0.2 | N42: =$T$6 -> 1.1293469 | O42: ②
B43: 10.2 평가참여자 인적사항 | C43: 0 | D43: 0 | E43: 0.1 | F43: 0.2 | G43: 0.2 | H43: =C43*$M$43*$N$43 -> 0 | I43: =D43*$M$43*$N$43 -> 0 | J43: =E43*$M$43*$N$43 -> 0.022586939 | K43: =F43*$M$43*$N$43 -> 0.045173877 | L43: =G43*$M$43*$N$43 -> 0.045173877 | M43: 0.2 | N43: =$T$6 -> 1.1293469 | O43: ②
B44: 10.3 용어 해설 등 | C44: 0 | D44: 0.1 | E44: 0.2 | F44: 0.3 | G44: 0.3 | H44: =C44*$M$44*$N$44 -> 0 | I44: =D44*$M$44*$N$44 -> 0.022586939 | J44: =E44*$M$44*$N$44 -> 0.045173877 | K44: =F44*$M$44*$N$44 -> 0.067760816 | L44: =G44*$M$44*$N$44 -> 0.067760816 | M44: 0.2 | N44: =$T$6 -> 1.1293469 | O44: ②
A45: 주1) 실소요인력 = 기준인력 * 환산계수 * 보정계수

Sheet <별표 2>직접경비산출내역
A1: <별표 2> 직접경비 산출내역
A2: 규 격 | B2: 수량 | C2: 단위 | D2: 총액 | E2: 재 료 비 | G2: 노 무 비 | I2: 경 비 | K2: 비고
E3: 단가 | F3: 금액 | G3: 단가 | H3: 금액 | I3: 단가 | J3: 금액
A4: 1. 측정시험분석비 | D4: =SUM(D5,D45,D77,D103,D125,D129) -> 10585850
A5: 가) 대기질 | B5: ='<별표 3> 내역서 작성기준'!I19 -> 1 | C5: 회 | D5: =SUM(D6:D14) -> 2142400
A6: 아황산가스(SO2) | B6: ='<별표 3> 내역서 작성기준'!I20 -> 2 | C6: 지점 | D6: =J6 -> 243800 | I6: 121900 | J6: =INT($B$5*B6*I6) -> 243800
A7: 일산화탄소(CO) | B7: =$B$6 -> 2 | C7: 지점 | D7: =J7 -> 120800 | I7: 60400 | J7: =INT($B$5*B7*I7) -> 120800 | M7: 건강항목 선정기준
A8: 이산화질소(NO2) | B8: =$B$6 -> 2 | C8: 지점 | D8: =J8 -> 222600 | I8: 111300 | J8: =INT($B$5*B8*I8) -> 222600
A9: 미세먼지(PM-10) | B9: =$B$6 -> 2 | C9: 지점 | D9: =J9 -> 223800 | I9: 111900 | J9: =INT($B$5*B9*I9) -> 223800
A10: 미세먼지(PM-2.5) | B10: =$B$6 -> 2 | C10: 지점 | D10: =J10 -> 246600 | I10: 123300 | J10: =INT($B$5*B10*I10) -> 246600
A11: 오존(O3) | B11: =$B$6 -> 2 | C11: 지점 | D11: =J11 -> 274800 | I11: 137400 | J11: =INT($B$5*B11*I11) -> 274800
A12: 납(Pb) | B12: =$B$6 -> 2 | C12: 지점 | D12: =J12 -> 241000 | I12: 120500 | J12: =INT($B$5*B12*I12) -> 241000
A13: 벤젠(C6H6) | B13: =$B$6 -> 2 | C13: 지점 | D13: =J13 -> 360000 | I13: 180000 | J13: =INT($B$5*B13*I13) -> 360000
A14: 시료채취대기인건비 | B14: =$B$6 -> 2 | C14: 지점 | D14: =J14 -> 209000 | I14: 104500 | J14: =INT($B$5*B14*I14) -> 209000
A15: 나) 유해대기물질(건강) | B15: ='<별표 3> 내역서 작성기준'!O19 -> 1 | C15: 회 | D15: =SUM(D16:D44) -> 4355600
A16: 수은(Hg) | B16: ='<별표 3> 내역서 작성기준'!O20 -> 2 | C16: 지점 | D16: =J16 -> 369600 | I16: 184800 | J16: =INT($B$5*B16*I16) -> 369600
A17: 포름알데히드(HCHO) | B17: =$B$16 -> 2 | C17: 지점 | D17: =J17 -> 229800 | I17: 114900 | J17: =INT($B$5*B17*I17) -> 229800
A18: 카드뮴 | B18: =$B$16 -> 2 | C18: 지점 | D18: =J18 -> 257200 | I18: 128600 | J18: =INT($B$5*B18*I18) -> 257200
A19: 6가크롬 | B19: =$B$16 -> 2 | C19: 지점 | D19: =J19 -> 257200 | I19: 128600 | J19: =INT($B$5*B19*I19) -> 257200
A20: 니켈 | B20: =$B$16 -> 2 | C20: 지점 | D20: =J20 -> 257200 | I20: 128600 | J20: =INT($B$5*B20*I20) -> 257200
A21: 베릴륨 | B21: 0 | C21: 지점 | D21: =J21 -> 0 | I21: 128600 | J21: =INT($B$5*B21*I21) -> 0
A22: 비소(As) | B22: =$B$16 -> 2 | C22: 지점 | D22: =J22 -> 290200 | I22: 145100 | J22: =INT($B$5*B22*I22) -> 290200
A23: 염화비닐(VC) | B23: =$B$16 -> 2 | C23: 지점 | D23: =J23 -> 186400 | I23: 93200 | J23: =INT($B$5*B23*I23) -> 186400
A24: 에틸벤젠(C8H10) | B24: =$B$16 -> 2 | C24: 지점 | D24: =J24 -> 186400 | I24: 93200 | J24: =INT($B$5*B24*I24) -> 186400
A25: n-헥산 | B25: =$B$16 -> 2 | C25: 지점 | D25: =J25 -> 186400 | I25: 93200 | J25: =INT($B$5*B25*I25) -> 186400
A26: 시클로헥산(C6H12) | B26: =$B$16 -> 2 | C26: 지점 | D26: =J26 -> 186400 | I26: 93200 | J26: =INT($B$5*B26*I26) -> 186400
A27: 1,2-디클로로에탄(C2H4C12) | B27: 0 | C27: 지점 | D27: =J27 -> 0 | I27: 93200 | J27: =INT($B$5*B27*I27) -> 0
A28: 클로로포름(CHC13) | B28: 0 | C28: 지점 | D28: =J28 -> 0 | I28: 93200 | J28: =INT($B$5*B28*I28) -> 0
A29: 트리클로로에틸렌(TCE) | B29: 0 | C29: 지점 | D29: =J29 -> 0 | I29: 93200 | J29: =INT($B$5*B29*I29) -> 0
A30: 사염화탄소(CC14) | B30: 0 | C30: 지점 | D30: =J30 -> 0 | I30: 93200 | J30: =INT($B$5*B30*I30) -> 0
A31: 암모니아(NH3) | B31: 0 | C31: 지점 | D31: =J31 -> 0 | I31: 75500 | J31: =INT($B$5*B31*I31) -> 0
A32: 황화수소(H2S) | B32: 0 | C32: 지점 | D32: =J32 -> 0 | I32: 142600 | J32: =INT($B$5*B32*I32) -> 0
A33: 시안화수소 | B33: =$B$16 -> 2 | C33: 지점 | D33: =J33 -> 182200 | I33: 91100 | J33: =INT($B$5*B33*I33) -> 182200
A34: 염화수소(HCl) | B34: =$B$16 -> 2 | C34: 지점 | D34: =J34 -> 127200 | I34: 63600 | J34: =INT($B$5*B34*I34) -> 127200
A35: 벤젠(C6H6) | B35: =$B$16 -> 2 | C35: 지점 | D35: =J35 -> 357600 | I35: 178800 | J35: =INT($B$5*B35*I35) -> 357600
A36: 스티렌 | B36: =$B$16 -> 2 | C36: 지점 | D36: =J36 -> 357600 | I36: 178800 | J36: =INT($B$5*B36*I36) -> 357600
A37: 복합악취 | B37: 0 | C37: 지점 | D37: =J37 -> 0 | I37: 165100 | J37: =INT($B$5*B37*I37) -> 0
A38: 아세트알데히드 | B38: 0 | C38: 지점 | D38: =J38 -> 0 | I38: 110000 | J38: =INT($B$5*B38*I38) -> 0
A39: 톨루엔 | B39: =$B$16 -> 2 | C39: 지점 | D39: =J39 -> 357600 | I39: 178800 | J39: =INT($B$5*B39*I39) -> 357600
A40: 자일렌 | B40: 0 | C40: 지점 | D40: =J40 -> 0 | I40: 178500 | J40: =INT($B$5*B40*I40) -> 0
A41: m-자일렌 | B41: =$B$16 -> 2 | C41: 지점 | D41: =J41 -> 357600 | I41: 178800 | J41: =INT($B$5*B41*I41) -> 357600
A42: 먼지 | B42: 0 | C42: 지점 | D42: =J42 -> 0 | I42: 210000 | J42: =INT($B$5*B42*I42) -> 0
A43: THC | B43: 0 | C43: 지점 | D43: =J43 -> 0 | I43: 89300 | J43: =INT($B$5*B43*I43) -> 0
A44: 시료채취대기인건비 | B44: =$B$16 -> 2 | C44: 지점 | D44: =J44 -> 209000 | I44: 104500 | J44: =INT($B$5*B44*I44) -> 209000
A45: 나) 지표수질 | B45: ='<별표 3> 내역서 작성기준'!J19 -> 1 | C45: 회 | D45: =SUM(D46:D76) -> 724900
A46: 수소이온농도(pH) | B46: ='<별표 3> 내역서 작성기준'!J20 -> 2 | C46: 지점 | D46: =J46 -> 19400 | I46: 9700 | J46: =INT($B$45*B46*I46) -> 19400
A47: 생물학적산소요구량(BOD) | B47: =$B$46 -> 2 | C47: 지점 | D47: =J47 -> 106400 | I47: 53200 | J47: =INT($B$45*B47*I47) -> 106400
A48: 화학적산소요구량(COD) | B48: =$B$46 -> 2 | C48: 지점 | D48: =J48 -> 67600 | I48: 33800 | J48: =INT($B$45*B48*I48) -> 67600
A49: 용존산소(DO) | B49: =$B$46 -> 2 | C49: 지점 | D49: =J49 -> 16800 | I49: 8400 | J49: =INT($B$45*B49*I49) -> 16800
A50: 총유기탄소(TOC) | B50: =$B$46 -> 2 | C50: 지점 | D50: =J50 -> 120600 | I50: 60300 | J50: =INT($B$45*B50*I50) -> 120600
A51: 총인(T-P) | B51: =$B$46 -> 2 | C51: 지점 | D51: =J51 -> 36800 | I51: 18400 | J51: =INT($B$45*B51*I51) -> 36800
A52: 부유물질(SS) | B52: =$B$46 -> 2 | C52: 지점 | D52: =J52 -> 31800 | I52: 15900 | J52: =INT($B$45*B52*I52) -> 31800
A53: 총 대장균군수 | B53: =$B$46 -> 2 | C53: 지점 | D53: =J53 -> 106200 | I53: 53100 | J53: =INT($B$45*B53*I53) -> 106200
A54: 분원성 대장균군수 | B54: =$B$46 -> 2 | C54: =C61 -> 지점 | D54: =J54 -> 84200 | I54: 42100 | J54: =INT($B$45*B54*I54) -> 84200
A55: 유량 | B55: =$B$46 -> 2 | C55: =C62 -> 지점 | D55: =J55 -> 72400 | I55: 36200 | J55: =INT($B$45*B55*I55) -> 72400
A56: 카드뮴(Cd) | B56: 0 | C56: 지점 | D56: =J56 -> 0 | I56: 37600 | J56: =INT($B$45*B56*I56) -> 0
A57: 비소(As) | B57: 0 | C57: 지점 | D57: =J57 -> 0 | I57: 60300 | J57: =INT($B$45*B57*I57) -> 0
A58: 시안(CN) | B58: 0 | C58: 지점 | D58: =J58 -> 0 | I58: 54700 | J58: =INT($B$45*B58*I58) -> 0
A59: 수은(Hg) | B59: 0 | C59: 지점 | D59: =J59 -> 0 | I59: 50400 | J59: =INT($B$45*B59*I59) -> 0
A60: 유기인 | B60: 0 | C60: 지점 | D60: =J60 -> 0 | I60: 116800 | J60: =INT($B$45*B60*I60) -> 0
A61: PCB | B61: 0 | C61: 지점 | D61: =J61 -> 0 | I61: 229800 | J61: =INT($B$45*B61*I61) -> 0
A62: 납(Pb) | B62: 0 | C62: 지점 | D62: =J62 -> 0 | I62: 37600 | J62: =INT($B$45*B62*I62) -> 0
A63: 6가크롬(Cr+6) | B63: 0 | C63: 지점 | D63: =J63 -> 0 | I63: 39900 | J63: =INT($B$45*B63*I63) -> 0
A64: ABS | B64: 0 | C64: 지점 | D64: =J64 -> 0 | I64: 49500 | J64: =INT($B$45*B64*I64) -> 0
A65: 사염화탄소 | B65: 0 | C65: 지점 | D65: =J65 -> 0 | I65: 118400 | J65: =INT($B$45*B65*I65) -> 0
A66: 1,2 디클로로에탄 | B66: 0 | C66: 지점 | D66: =J66 -> 0 | I66: 122200 | J66: =INT($B$45*B66*I66) -> 0
A67: 테트라클로로에틸렌(PCE) | B67: 0 | C67: 지점 | D67: =J67 -> 0 | I67: 148300 | J67: =INT($B$45*B67*I67) -> 0
... A76: 시료채취대기인건비 | B76: 1 | C76: 지점 | D76: =J76 -> 62700 | I76: 62700 | J76: =INT($B$45*B76*I76) -> 62700
A77: 다) 지하수질 | B77: ='<별표 3> 내역서 작성기준'!K19 -> 1 | C77: 회 | D77: =SUM(D78:D102) -> 2561800
A78: 수소이온농도(pH) | B78: ='<별표 3> 내역서 작성기준'!K20 -> 2 | C78: 지점 | D78: =J78 -> 19400 | I78: 9700 | J78: =INT($B$77*B78*I78) -> 19400
A79: 암모니아성질소(NH3-N) | B79: =$B$78 -> 2 | C79: 지점 | D79: =J79 -> 66400 | I79: 33200 | J79: =INT($B$77*B79*I79) -> 66400
A80: 질산성질소(NO3-N) | B80: =$B$78 -> 2 | C80: 지점 | D80: =J80 -> 57800 | I80: 28900 | J80: =INT($B$77*B80*I80) -> 57800
A81: 망간(Mn) | B81: =$B$78 -> 2 | C81: 지점 | D81: =J81 -> 57000 | I81: 28500 | J81: =INT($B$77*B81*I81) -> 57000
A82: 과망간산칼륨소비량(KMnO4) | B82: =$B$78 -> 2 | C82: 지점 | D82: =J82 -> 57600 | I82: 28800 | J82: =INT($B$77*B82*I82) -> 57600
A83: 시안(CN) | B83: =$B$78 -> 2 | C83: 지점 | D83: =J83 -> 109400 | I83: 54700 | J83: =INT($B$77*B83*I83) -> 109400
A84: 트리클로로에틸렌(TCE) | B84: =$B$78 -> 2 | C84: 지점 | D84: =J84 -> 296600 | I84: 148300 | J84: =INT($B$77*B84*I84) -> 296600
A85: 구리(Cu) | B85: =$B$78 -> 2 | C85: 지점 | D85: =J85 -> 126800 | I85: 63400 | J85: =INT($B$77*B85*I85) -> 126800
A86: 철(Fe) | B86: =$B$78 -> 2 | C86: 지점 | D86: =J86 -> 126800 | I86: 63400 | J86: =INT($B$77*B86*I86) -> 126800
A87: 불소(F) | B87: =$B$78 -> 2 | C87: 지점 | D87: =J87 -> 126800 | I87: 63400 | J87: =INT($B$77*B87*I87) -> 126800
A88: 카드뮴(Cd) | B88: =$B$78 -> 2 | C88: 지점 | D88: =J88 -> 126800 | I88: 63400 | J88: =INT($B$77*B88*I88) -> 126800
A89: 테트라클로로에틸렌(PCE) | B89: =$B$78 -> 2 | C89: 지점 | D89: =J89 -> 296600 | I89: 148300 | J89: =INT($B$77*B89*I89) -> 296600
A90: 납(Pb) | B90: =$B$78 -> 2 | C90: 지점 | D90: =J90 -> 126800 | I90: 63400 | J90: =INT($B$77*B90*I90) -> 126800
... A92: 아연(Zn) | B92: =$B$78 -> 2 | C92: 지점 | D92: =J92 -> 120600 | I92: 60300 | J92: =INT($B$77*B92*I92) -> 120600
A93: 비소(As) | B93: =$B$78 -> 2 | C93: =C91 -> 지점 | D93: =J93 -> 120600 | I93: 60300 | J93: =INT($B$77*B93*I93) -> 120600
A94: 탁도 | B94: =$B$78 -> 2 | C94: =C92 -> 지점 | D94: =J94 -> 35600 | I94: 17800 | J94: =INT($B$77*B94*I94) -> 35600
A95: 색도 | B95: =$B$78 -> 2 | C95: =C93 -> 지점 | D95: =J95 -> 33200 | I95: 16600 | J95: =INT($B$77*B95*I95) -> 33200
A96: 경도 | B96: =$B$78 -> 2 | C96: =C94 -> 지점 | D96: =J96 -> 59200 | I96: 29600 | J96: =INT($B$77*B96*I96) -> 59200
A97: 페놀 | B97: =$B$78 -> 2 | C97: =C95 -> 지점 | D97: =J97 -> 81800 | I97: 40900 | J97: =INT($B$77*B97*I97) -> 81800
A98: 염소이온(Cl-) | B98: =$B$78 -> 2 | C98: =C96 -> 지점 | D98: =J98 -> 51200 | I98: 25600 | J98: =INT($B$77*B98*I98) -> 51200
A99: 황산이온(SO4-2) | B99: =$B$78 -> 2 | C99: =C97 -> 지점 | D99: =J99 -> 85400 | I99: 42700 | J99: =INT($B$77*B99*I99) -> 85400
A100: 일반세균 | B100: =$B$78 -> 2 | C100: =C98 -> 지점 | D100: =J100 -> 65000 | I100: 32500 | J100: =INT($B$77*B100*I100) -> 65000
A101: 대장균군수 | B101: =$B$78 -> 2 | C101: =C99 -> 지점 | D101: =J101 -> 62200 | I101: 31100 | J101: =INT($B$77*B101*I101) -> 62200
A102: 시료채취대기인건비 | B102: =$B$78 -> 2 | C102: =C100 -> 지점 | D102: =J102 -> 125400 | I102: 62700 | J102: =INT($B$77*B102*I102) -> 125400
A103: 라) 토양 | B103: ='<별표 3> 내역서 작성기준'!L19 -> 1 | C103: 회 | D103: =SUM(D104:D124) -> 2081000
A104: 카드뮴(Cd) | B104: ='<별표 3> 내역서 작성기준'!L20 -> 2 | C104: 지점 | D104: =J104 -> 88400 | I104: 44200 | J104: =INT($B$103*B104*I104) -> 88400
A105: 구리(Cu) | B105: =$B$104 -> 2 | C105: 지점 | D105: =J105 -> 88400 | I105: 44200 | J105: =INT($B$103*B105*I105) -> 88400
A106: 비소(As) | B106: =$B$104 -> 2 | C106: 지점 | D106: =J106 -> 88400 | I106: 44200 | J106: =INT($B$103*B106*I106) -> 88400
A107: 수은(Hg) | B107: =$B$104 -> 2 | C107: 지점 | D107: =J107 -> 88400 | I107: 44200 | J107: =INT($B$103*B107*I107) -> 88400
A108: 납(Pb) | B108: =$B$104 -> 2 | C108: 지점 | D108: =J108 -> 88400 | I108: 44200 | J108: =INT($B$103*B108*I108) -> 88400
A109: 6가크롬(Cr+6) | B109: =$B$104 -> 2 | C109: 지점 | D109: =J109 -> 88400 | I109: 44200 | J109: =INT($B$103*B109*I109) -> 88400
...

Sheet <별표 3> 내역서 작성기준
A1: <별표 3> 내역서 작성기준 | P1: [환경부고시 제2025-165호] 환경영향평가등의 대행비용 산정기준
B3: 1. 계획의 규모 (㎡) | M3: =T17 -> 150000 | N3: ㎡
B4: 2. 환산계수 | H4: 3. 보정계수
B5: ① 식 | F5: 1 | H5: ㉮ 동식물상조사 특성 | K5: ▪생태자연도 2, 3등급 권역 | N5: 1 | U5: 사업적용
B6: ② 대상면적 | C6: ▪A ≤ 10,000 | E6: 0.25 | F6: =IF($M$3<=10000,E6) -> FALSE | K6: ▪생태자연도 1등급, 별도관리지역 | N6: 1.2 | S6: ① 식 | U6: =F5 -> 1
C7: ▪10,000 ＜A ≤ 100,000 | E7: (A/100,000)^0.6 | F7: =IF(AND($M$3>10000,$M$3<=100000), (($M$3/100000)^0.6)) -> FALSE | H7: ㉯ 자연경관심의 대상 | K7: ▪미대상 | N7: 1 | S7: ② 대상면적 | U7: =MAX(F6:F9) -> 1.1293469
C8: ▪100,000 ＜A ≤ 1,000,000 | E8: (A/100,000)^0.3 | F8: =IF(AND($M$3>100000,$M$3<=1000000), (($M$3/100000)^0.3)) -> 1.1293469 | K8: ▪대상 | N8: 2 | S8: ③ 동식물상 | U8: =MAX(F10:F12) -> 1.2754245
C9: ▪A ＞ 1,000,000 | E9: 2 | F9: =IF($M$3>1000000,E9) -> FALSE | H9: ㉰ 건강영향평가대상 | K9: ▪미대상 | N9: 1 | S9: ㉮ 동·식물상 조사 특성 | T9: 2등급 | U9: =IF(OR(T9="1등급",T9="별도관리지역"),N6,N5) -> 1
B10: ③ 동식물상 | C10: ▪A ≤ 30,000 | E10: 0.49 | F10: =IF($M$3<=30000,E10) -> FALSE | K10: ▪대상 | N10: 1.15 | S10: ㉯ 자연경관심의 대상 | T10: 대상 | U10: =IF(T10="대상",N8,N7) -> 2
C11: ▪30,000 ＜A ≤ 1,000,000 | E11: (A/100,000)^0.6 | F11: =IF(AND($M$3>30000,$M$3<=1000000), (($M$3/100000)^0.6)) -> 1.2754245 | H11: ㉱ 수질오염총량계획 대상 | K11: ▪미대상 | N11: 1 | S11: ㉰ 건강영향평가 대상 | T11: 미대상 | U11: =IF(T11="대상",N10,N9) -> 1
C12: ▪A ＞ 1,000,000 | E12: 3.98 | F12: =IF($M$3>1000000,E12) -> FALSE | K12: ▪대상 | N12: 1.4 | S12: ㉱ 수질오염총량계획 대상 | T12: 대상 | U12: =IF(T12="대상",N12,N11) -> 1.4
B15: ⑤ 제경비 | C15: (직접인건비의 110~120% 적용) | M15: 110 | N15: % | S15: 하천연장(L) | T15: 0 | U15: m
B16: ⑥ 기술료 | C16: (직접인건비+제경비의 20~40% 적용) | M16: 20 | N16: % | S16: 하천폭(B) | T16: 0 | U16: m
B17: ⑦ 기술인력 노임단가 (원) | H17: ⑧ 환경질 측정 횟수 및 지점 | S17: 사업면적 | T17: 150000 | U17: ㎡
B18: 환경영향평가사 | C18: 특급기술자 | D18: 고급기술자 | E18: 중급기술자 | F18: 초급기술자 | H18: 항목 | I18: 대기질 | J18: 지표수질 | K18: 지하수질 | L18: 토양 | M18: 소음진동 | N18: 악취 | O18: 건강
B19: ='<별표 4>산출근거'!D15 -> 456237 | C19: ='<별표 4>산출근거'!D16 -> 362012 | D19: ='<별표 4>산출근거'!D17 -> 323993 | E19: ='<별표 4>산출근거'!D18 -> 272129 | F19: ='<별표 4>산출근거'!D19 -> 246584 | H19: 횟수 | I19: 1 | J19: 1 | K19: 1 | L19: 1 | M19: 1 | N19: 1 | O19: 1 | T19: =T15/1000 -> 0
B20: (한국엔지니어링협회 기획홍보팀1515호 (2025.12.02)) | H20: 지점수 | I20: 2 | J20: 2 | K20: 2 | L20: 2 | M20: 2 | N20: 2 | O20: 2 | S20: =총괄내역서!D11 -> 76260000

Sheet <별표 4>산출근거
A1: <별표 4> 산출근거
B2: ■ 산출근거1 : 보고서 인쇄비용 (조달청 공문 인쇄기준요금, 2009. 2)
B3: 구 분 | E3: 절 수 | F3: 50부까지 | G3: 10부마다 | H3: 금 액(원) | I3: 비 고
C4: 본문 인쇄비 (경인쇄) | E4: 10절 | F4: 12150 | G4: 157 | I4: 옵셋인쇄비 제외
C5: 조판생략감액 | E5: 10절 | F5: 5150 | I5: 아트지 코팅 4색도 기준
E7: 면 수 | F7: 부 수
B8: 가. | C8: 소규모환경영향평가서 | E8: 250 | F8: 10 | H8: =E8*((F4-F5)+(F8-50)/10*G4) -> 1593000
B9: 나. | C9: - | H9: =E9*((F4-F5)+(F9-50)/10*G4) -> 0
B10: 다. | C10: - | H10: =E10*((F4-F5)+(F10-50)/10*G4) -> 0
C11: 계 | H11: =SUM(H8:H10) -> 1593000
B13: ■ 산출근거2 : 한국엔지니어링협회 기획홍보팀-1515호 (2025.12.02) (단위 : 원)
B14: 구 분 | D14: 환경
B15: 기술사 | D15: 456237
B16: 특급기술자 | D16: 362012
B17: 고급기술자 | D17: 323993
B18: 중급기술자 | D18: 272129
B19: 초급기술자 | D19: 246584
B20: 고급숙련기술자 | D20: 267856
B21: 중급숙련기술자 | D21: 222995
B22: 초급숙련기술자 | D22: 192381
B23: 적용 : 2026년 1월 1일
B25: ■ 산출근거3 : 업무관련 출장비
B26: ① 출장 산출수량
B27: 구 분 | D27: 출장인원(인) | E27: 출장일수(일) | F27: 출장횟수(회) | G27: 기준거리(km) | H27: 숙박(박)
B28: 환경질 측정 | D28: 2 | E28: 2 | F28: 1 | G28: 100 | H28: 0
B29: 현장조사 | D29: 2 | E29: 1 | F29: 1 | G29: =G28 -> 100 | H29: 0
B30: 관계기관 업무협의 | D30: 2 | E30: 1 | F30: 1 | G30: =G28 -> 100 | H30: 0
B31: 수질오염총량 협의 | D31: 1 | E31: 1 | F31: 1 | G31: =G28 -> 100 | H31: 0
B32: 기타 업무관계 회의 | D32: 2 | E32: 1 | F32: 2 | G32: =G28 -> 100 | H32: 0
B33: 계 | D33: =SUM(D28:D32) -> 9 | E33: =SUM(E28:E32) -> 6 | F33: =SUM(F28:F32) -> 6 | G33: - | H33: =SUM(H28:H32) -> 0
B35: ② 여비단가(공무원여비규정 별표2 국내여비정액표 적용, 단위 : 원)
B36: 구 분 | D36: 자동차 운임(10km당) | E36: 일비(1日당) | F36: 숙박료(1夜당) | G36: 식비(1日당)
B37: 여비단가 (제2호 적용) | D37: 1920 | E37: 25000 | F37: 70000 | G37: 25000
B39: ③ 출장비(단위 : 원)
B40: 구 분 | D40: 계 | E40: 자동차 운임(km당) | F40: 일비 | G40: 숙박료 | H40: 식비
B41: 계 | D41: =SUM(D42:D46) -> 765200 | E41: =SUM(E42:E46) -> 115200 | F41: =SUM(F42:F46) -> 325000 | G41: =SUM(G42:G46) -> 0 | H41: =SUM(H42:H46) -> 325000
B42: 환경질 측정 | D42: =SUM(E42:H42) -> 219200 | E42: =$D$37*G28/10*F28 -> 19200 | F42: =$E$37*D28*E28*F28 -> 100000 | G42: =$F$37*H28*F28 -> 0 | H42: =$G$37*D28*E28*F28 -> 100000
B43: 현장조사 | D43: =SUM(E43:H43) -> 119200 | E43: =$D$37*G29/10*F29 -> 19200 | F43: =$E$37*D29*E29*F29 -> 50000 | G43: =$F$37*H29*F29 -> 0 | H43: =$G$37*D29*E29*F29 -> 50000
B44: 관계기관 업무협의 | D44: =SUM(E44:H44) -> 119200 | E44: =$D$37*G30/10*F30 -> 19200 | F44: =$E$37*D30*E30*F30 -> 50000 | G44: =$F$37*H30*F30 -> 0 | H44: =$G$37*D30*E30*F30 -> 50000
B45: 수질오염총량 협의 | D45: =SUM(E45:H45) -> 69200 | E45: =$D$37*G31/10*F31 -> 19200 | F45: =$E$37*D31*E31*F31 -> 25000 | G45: =$F$37*H31*F31 -> 0 | H45: =$G$37*D31*E31*F31 -> 25000
B46: 기타 업무관계 회의 | D46: =SUM(E46:H46) -> 238400 | E46: =$D$37*G32/10*F32 -> 38400 | F46: =$E$37*D32*E32*F32 -> 100000 | G46: =$F$37*H33*F33 -> 0 | H46: =$G$37*D32*E32*F32 -> 100000

Sheet <별표 5>손배료
A1: <손해배상 공제료>
B3: 엔지니어링 손해배상보험·공제 의무가입제도 안내(엔지니어링공제조합)
A5: 1. 공제율
A6: 공 사 종 류 (실시설계) | F6: 용 역 금 액 (계 약 금 액) | AJ6: 표준용역 기 간
F7: 5억원이하 | L7: 5억원초과 10억원이하 | R7: 10억원초과 20억원이하 | X7: 20억원초과 30억원이하 | AD7: 30억원초과 50억원이하
F8: 기본요율 | I8: 가산요율 | L8: 기본요율 | O8: 가산요율 | R8: 기본요율 | U8: 가산요율 | X8: 기본요율 | AA8: 가산요율 | AD8: 기본요율 | AG8: 가산요율
A9: 건설부문(하천항만) | F9: 0.569 | I9: 0.091 | L9: 0.552 | O9: 0.088 | R9: 0.534 | U9: 0.085 | X9: 0.518 | AA9: 0.084 | AD9: 0.5 | AG9: 0.081 | AJ9: 5
A12: 2. 손해배상공제료
A13: - 순계약금액(공급가액) : | H13: =총괄내역서!D8 -> 68831892 | O13: - 용 역 기 간 : | T13: 180 | V13: 일
B15: ⊙ 1단계 공제료
B16: = 순계약금액 x [기본요율 + { 가산요율 X (표준사업기간초과일수/365)}] | T16: = | U16: =SUM(Z17:AC21) -> 391653.47
C17: =H13 -> 68831892 | H17: 억 | I17: x | J17: [ | K17: =F9 -> 0.569 | M17: + | N17: { | O17: =I9 -> 0.091 | Q17: x | R17: ( | S17: =IF(T13>(AJ9*365),(T13-AJ9*365),0) -> 0 | U17: / | V17: =AJ9*365 -> 1825 | X17: )}] | Y17: = | Z17: =C17*(K17/100+(O17/100*(S17/V17))) -> 391653.47
C18: 0 | H18: 억 | I18: x | J18: [ | K18: =L9 -> 0.552 | M18: + | N18: { | O18: =O9 -> 0.088 | Q18: x | R18: ( | S18: =IF(T13>(AJ9*365),(T13-AJ9*365),0) -> 0 | U18: / | V18: =V17 -> 1825 | X18: )}] | Y18: = | Z18: =C18*(K18/100+(O18/100*(S18/V18))) -> 0
C19: 0 | H19: 억 | I19: x | J19: [ | K19: =R9 -> 0.534 | M19: + | N19: { | O19: =U9 -> 0.085 | Q19: x | R19: ( | S19: =IF(T13>(AJ9*365),(T13-AJ9*365),0) -> 0 | U19: / | V19: =V18 -> 1825 | X19: )}] | Y19: = | Z19: =C19*(K19/100+(O19/100*(S19/V19))) -> 0
C20: 0 | H20: 억 | I20: x | J20: [ | K20: =X9 -> 0.518 | M20: + | N20: { | O20: =AA9 -> 0.084 | Q20: x | R20: ( | S20: =IF(T14>(AJ10*365),(T14-AJ10*365),0) -> 0 | U20: / | V20: =V19 -> 1825 | X20: )}] | Y20: = | Z20: =C20*(K20/100+(O20/100*(S20/V20))) -> 0
C21: 0 | H21: 억 | I21: x | J21: [ | K21: =AD9 -> 0.5 | M21: + | N21: { | O21: =AG9 -> 0.081 | Q21: x | R21: ( | S21: =IF(T15>(AJ11*365),(T15-AJ11*365),0) -> 0 | U21: / | V21: =V20 -> 1825 | X21: )}] | Y21: = | Z21: =C21*(K21/100+(O21/100*(S21/V21))) -> 0
B23: ⊙ 2단계 공제료
B24: = 순계약금액 x 0.16%
C25: =H13 -> 68831892 | H25: x | I25: 0.16 | K25: % | L25: = | M25: =C25*I25/100 -> 110131.03
B27: ⊙ 총공제료 | F27: = | G27: 1단계 공제료 | K27: + | L27: 2단계 공제료 | P27: = | Q27: =ROUNDDOWN(M25+U16,0) -> 501784
B28: ⊙ 총공제료 | C28: 손해보상 공제료 자기부담금 (1%) | L28: =ROUND(Q27*0.01,0) -> 5018
B29: ⊙ 최종공제료 | F29: = | G29: =Q27 -> 501784 | L29: - | M29: =L28 -> 5018 | R29: = | S29: =G29-M29 -> 496766 | X29: ≒ | Y29: =ROUNDDOWN(S29,-3) -> 496000
