Workbook
Name __: #REF!
Name __: #REF!
Name ___NMB96: #REF!
Name ___NMB96: #REF!
Name __A100000: #REF!
Name __A100000: #REF!
Name __A66000: #REF!
Name __A66000: #REF!
Name __A67000: #REF!
Name __A67000: #REF!
Name __A68000: #REF!
Name __A68000: #REF!
Name __A80000: #REF!
Name __A80000: #REF!
Name __DemandLoad: TRUE
Name __dmf1: {"'Firr(선)'!$AS$1:$AY$62","'Firr(사)'!$AS$1:$AY$62","'Firr(회)'!$AS$1:$AY$62","'Firr(선)'!$L$1:$V$62","'Firr(사)'!$L$1:$V$62","'Firr(회)'!$L$1:$V$62"}
Name __DOG1: #REF!
Name __DOG1: #REF!
Name __DOG2: #REF!
Name __DOG2: #REF!
Name __DOG22: #REF!
Name __DOG22: #REF!
Name __DOG3: #REF!
Name __DOG3: #REF!
Name __DOG33: #REF!
Name __DOG33: #REF!
Name __DOG4: #REF!
Name __DOG4: #REF!
Name __IntlFixup: TRUE
Name __NMB96: #REF!
Name __NMB96: #REF!
Name __PI48: #REF!
Name __PI48: #REF!
Name __PI60: #REF!
Name __PI60: #REF!
Name __RO110: #REF!
Name __RO110: #REF!
Name __RO22: #REF!
Name __RO22: #REF!
Name __RO35: #REF!
Name __RO35: #REF!
Name __RO45: #REF!
Name __RO45: #REF!
Name __RO60: #REF!
Name __RO60: #REF!
Name __RO80: #REF!
Name __RO80: #REF!
Name __SUB1: #REF!
Name __SUB1: #REF!
Name __SUB2: #REF!
Name __SUB2: #REF!
Name __SUB3: #REF!
Name __SUB3: #REF!
Name __sub4: #REF!
Name __sub4: #REF!
Name __sub5: #REF!
Name __sub5: #REF!
Name __TON1: #REF!
Name __TON1: #REF!
Name __TON2: #REF!

Sheet 갑지
A1: 2026 년 10월 일 | D1: 담당자 | F1: 과 장 | H1: 부 장 | J1: 본부장
B3: 2026년도
A5: 동부하수처리구역 차집관로 정비사업(1공구) 전기 및 계측제어공사 설계내역서
C7: ·공사위치 : | D7: 제주특별자치도 제주시 조천, 구좌읍 일원
C8: ·공사개요 : | D8: 전기 및 계측제어공사 1식
C10: 총공사금액: | D10: =D12+D14+D16+D18+D20 -> 473790000 | G10: ="(금"&NUMBERSTRING(D10,1)&"원)" -> (금사억칠천삼백칠십구만원)
C12: 도 급 금 액: | D12: =M12 -> 243889000 | G12: ="(금"&NUMBERSTRING(D12,1)&"원)" -> (금이억사천삼백팔십팔만구천원) | M12: =원가계산서!E31 -> 243889000
C14: 관급자관급 | D14: =M14 -> 190377000 | G14: ="(금"&NUMBERSTRING(D14,1)&"원)" -> (금일억구천삼십칠만칠천원) | M14: =원가계산서!E32 -> 190377000
C16: 도급자관급 | D16: =M16 -> 25584000 | G16: ="(금"&NUMBERSTRING(D16,1)&"원)" -> (금이천오백오십팔만사천원) | M16: =원가계산서!E33 -> 25584000
C18: 한전수탁비 | D18: =M18 -> 13940000 | G18: ="(금"&NUMBERSTRING(D18,1)&"원)" -> (금일천삼백구십사만원) | M18: =원가계산서!E34 -> 13940000

Sheet 원가계산서
B1: 공 사 원 가 계 산 서
B2: [ 동부하수처리구역 차집관로 정비사업(1공구)_전기및계측 ] | H2: 공사기간 30개월(제비율 26.04.13 기준)
B3: 비 목 | E3: 금 액 | F3: 구 성 비 | H3: 비 고
A4: A1 | B4: 순 공 사 원 가 | C4: 재 료 비 | D4: 직 접 재 료 비 | E4: =공종별집계표!H6 -> 57560653
A5: A2 | D5: 간 접 재 료 비 | E5: 0
A6: A3 | D6: 작업설, 부산물(△) | E6: 0
A7: AS | D7: [ 소 계 ] | E7: =TRUNC(E4+E5-E6, 0) -> 57560653
A8: B1 | C8: 노 무 비 | D8: 직 접 노 무 비 | E8: =공종별집계표!J6 -> 79368248
A9: B2 | D9: 간 접 노 무 비 | E9: =TRUNC(E8*F9, 0) -> 15714913 | F9: 0.198 | G9: x 직접노무비
A10: BS | D10: [ 소 계 ] | E10: =TRUNC(E8+E9, 0) -> 95083161
A11: C2 | C11: 경 비 | D11: 기 계 경 비 | E11: =공종별집계표!L6 -> 4997936
A12: C4 | D12: 산 재 보 험 료 | E12: =TRUNC(E10*F12, 0) -> 3384960 | F12: 0.0356 | G12: x 노무비
A13: C5 | D13: 고 용 보 험 료 | E13: =TRUNC(E10*F13, 0) -> 960339 | F13: 0.0101 | G13: x 노무비
A14: C6 | D14: 국민 건강 보험료 | E14: =TRUNC(E8*F14, 0) -> 2853288 | F14: 0.03595 | G14: x 직접노무비
A15: C7 | D15: 국민 연금 보험료 | E15: =TRUNC(E8*F15, 0) -> 3769991 | F15: 0.0475 | G15: x 직접노무비
A16: CB | D16: 노인장기요양보험료 | E16: =TRUNC(E14*F16, 0) -> 374922 | F16: 0.1314 | G16: x 건강보험료
D17: 퇴직 공제 부금비 | E17: =TRUNC(E8*F17,0) -> 1825469 | F17: 0.023 | G17: x 직접노무비 | H17: 추정금액 1억 이상일 경우 적용
A18: CA | D18: 산업안전보건관리비 | E18: =TRUNC((E7+E8+(E33/1.1))*F18, 0) -> 5045893 | F18: 0.0315 | G18: x (재료비 + 직접노무비 + 도급자관급) a | H18: 총 공사금액 2천만원 이상 건설공사
E19: =TRUNC(((E7+E8)*F19)*1.2, 0) -> 5175912 | F19: 0.0315 | G19: x (재료비 + 직접노무비)* 1.2 b
A20: CG | D20: 석 면 분 담 금 | E20: =TRUNC(E10*F20, 0) -> 5704 | F20: 6e-05 | G20: x 노무비
A21: CG | D21: 임금 채권 부담금 | E21: =TRUNC(E10*F21, 0) -> 85574 | F21: 0.0009 | G21: x 노무비
A22: CG | D22: 기 타 경 비 | E22: =TRUNC((E7+E10)*F22, 0) -> 9311272 | F22: 0.061 | G22: x (재료비+노무비)
A23: CS | D23: [ 소 계 ] | E23: =TRUNC(E11+E12+E13+E14+E15+E16+E17+E20+E21+E22+MIN(E18:E19), 0) -> 32615348
A24: S1 | B24: 계 | E24: =TRUNC(E7+E10+E23, 0) -> 185259162
A25: D1 | B25: 일 반 관 리 비 | E25: =TRUNC(E24*F25, 0) -> 14820732 | F25: 0.08 | G25: x 계
A26: D2 | B26: 이 윤 | E26: =TRUNC((E10+E23+E25)*F26)-6353 -> 21371533 | F26: 0.15 | G26: x (노무비+경비+일반관리비) | H26: - 6,353원
A27: D9 | B27: 고 재 처 리 비 | E27: =고재처리비!F6 -> -381054
A28: D9 | B28: 공 급 가 액 | E28: =TRUNC(E24+E25+E26+E27, 0) -> 221070373
B29: 손 해 배 상 공 제 료 | E29: =TRUNC((E28+(E33/1.1))*F29,-2) -> 646900 | F29: 0.0026477 | G29: x (공급가액+도급자관급)
A30: DB | B30: 부 가 가 치 세 | E30: =TRUNC((E28+E29)*F30, 0) -> 22171727 | F30: 0.1 | G30: x 공급가액
A31: DH | B31: 도 급 액 | E31: =TRUNC(E28+E29+E30, 0) -> 243889000
B32: 관 급 자 재 | D32: 관 급 자 관 급 자 재 비 | E32: =공종별집계표!F30 -> 190377000
A33: DJ | D33: 도 급 자 관 급 자 재 비 | E33: =공종별집계표!F36 -> 25584000
A34: DH | B34: 한 전 수 탁 비 | E34: =공종별집계표!F40 -> 13940000
A35: S2 | B35: 총 공 사 비 | E35: =TRUNC(E31+E32+E33+E34, 0) -> 473790000
D37: 26.07.09 | E37: 26.09.29
D38: 485400601 | E38: 491296988
D39: 485400000 | E39: 491290000
D40: =D38-D39 -> 601 | E40: =E38-E39 -> 6988
D41: =D40/1.1 -> 546.36364 | E41: =E40/1.1 -> 6352.7273

Sheet 공종별집계표
A1: 공 종 별 집 계 표
A2: [ 동부하수처리구역 차집관로 정비사업(1공구)_전기및계측 ]
A3: 품 명 | B3: 규 격 | C3: 단위 | D3: 수량 | E3: 합 계 | G3: 재 료 비 | I3: 노 무 비 | K3: 경 비 | M3: 비 고 | N3: 공종코드 | O3: 변수 | P3: 상위공종 | Q3: 공종구분 | R3: 공종레벨 | S3: 공종소계 | T3: 원가계산서 연결금액
E4: 단 가 | F4: 금 액 | G4: 단 가 | H4: 금 액 | I4: 단 가 | J4: 금 액 | K4: 단 가 | L4: 금 액
A5: 동부하수처리구역 차집관로 정비사업 기본 및 실시설계(전기및계측) | D5: 1 | E5: =G5+I5+K5 -> 371827837 | F5: =H5+J5+L5 -> 371827837 | G5: =H6+H29+H40 -> 287461653 | H5: =G5*D5 -> 287461653 | I5: =J6+J29+J40 -> 79368248 | J5: =I5*D5 -> 79368248 | K5: =L6+L29+L40 -> 4997936 | L5: =K5*D5 -> 4997936 | N5: 01 | R5: 1
A6: 1. 도급공사 | D6: 1 | E6: =G6+I6+K6 -> 141926837 | F6: =H6+J6+L6 -> 141926837 | G6: =H7+H12+H20+H25+H28 -> 57560653 | H6: =G6*D6 -> 57560653 | I6: =J7+J12+J20+J25+J28 -> 79368248 | J6: =I6*D6 -> 79368248 | K6: =L7+L12+L20+L25+L28 -> 4997936 | L6: =K6*D6 -> 4997936 | N6: 0101 | P6: 01 | R6: 2
A7: 1.1 신촌 중계펌프장 | D7: 1 | E7: =G7+I7+K7 -> 7971422 | F7: =H7+J7+L7 -> 7971422 | G7: =H8 -> 1883776 | H7: =G7*D7 -> 1883776 | I7: =J8 -> 6087646 | J7: =I7*D7 -> 6087646 | K7: =L8 -> 0 | L7: =K7*D7 -> 0 | N7: 010101 | P7: 0101 | R7: 3
A8: 1.1.1 전력간선 및 동력설비공사 | D8: 1 | E8: =G8+I8+K8 -> 7971422 | F8: =H8+J8+L8 -> 7971422 | G8: =H9+H10+H11 -> 1883776 | H8: =G8*D8 -> 1883776 | I8: =J9+J10+J11 -> 6087646 | J8: =I8*D8 -> 6087646 | K8: =L9+L10+L11 -> 0 | L8: =K8*D8 -> 0 | N8: 01010101 | P8: 010101 | R8: 4
A9: 1.1.1.1 설치공사 | D9: 1 | E9: =G9+I9+K9 -> 5553186 | F9: =H9+J9+L9 -> 5553186 | G9: =공종별내역서!H29 -> 1466075 | H9: =G9*D9 -> 1466075 | I9: =공종별내역서!J29 -> 4087111 | J9: =I9*D9 -> 4087111 | K9: =공종별내역서!L29 -> 0 | L9: =K9*D9 -> 0 | N9: 0101010101 | P9: 01010101 | R9: 5
A10: 1.1.1.2 철거공사 | D10: 1 | E10: =G10+I10+K10 -> 1513197 | F10: =H10+J10+L10 -> 1513197 | G10: =공종별내역서!H54 -> 43901 | H10: =G10*D10 -> 43901 | I10: =공종별내역서!J54 -> 1469296 | J10: =I10*D10 -> 1469296 | K10: =공종별내역서!L54 -> 0 | L10: =K10*D10 -> 0 | N10: 0101010102 | P10: 01010101 | R10: 5
A11: 1.1.1.3 임시발전기 케이블공사 | D11: 1 | E11: =G11+I11+K11 -> 905039 | F11: =H11+J11+L11 -> 905039 | G11: =공종별내역서!H79 -> 373800 | H11: =G11*D11 -> 373800 | I11: =공종별내역서!J79 -> 531239 | J11: =I11*D11 -> 531239 | K11: =공종별내역서!L79 -> 0 | L11: =K11*D11 -> 0 | N11: 0101010103 | P11: 01010101 | R11: 5
A12: 1.2 조천 중계펌프장 | D12: 1 | E12: =G12+I12+K12 -> 71450281 | F12: =H12+J12+L12 -> 71450281 | G12: =H13+H17 -> 30081061 | H12: =G12*D12 -> 30081061 | I12: =J13+J17 -> 41367167 | J12: =I12*D12 -> 41367167 | K12: =L13+L17 -> 2053 | L12: =K12*D12 -> 2053 | N12: 010102 | P12: 0101 | R12: 3
A13: 1.2.1 전력간선 및 동력설비공사 | D13: 1 | E13: =G13+I13+K13 -> 67081951 | F13: =H13+J13+L13 -> 67081951 | G13: =H14+H15+H16 -> 28721979 | H13: =G13*D13 -> 28721979 | I13: =J14+J15+J16 -> 38357919 | J13: =I13*D13 -> 38357919 | K13: =L14+L15+L16 -> 2053 | L13: =K13*D13 -> 2053 | N13: 01010201 | P13: 010102 | R13: 4
A14: 1.2.1.1 설치공사 | D14: 1 | E14: =G14+I14+K14 -> 51920901 | F14: =H14+J14+L14 -> 51920901 | G14: =공종별내역서!H129 -> 23841108 | H14: =G14*D14 -> 23841108 | I14: =공종별내역서!J129 -> 28077740 | J14: =I14*D14 -> 28077740 | K14: =공종별내역서!L129 -> 2053 | L14: =K14*D14 -> 2053 | N14: 0101020101 | P14: 01010201 | R14: 5
A15: 1.2.1.2 철거공사 | D15: 1 | E15: =G15+I15+K15 -> 8032714 | F15: =H15+J15+L15 -> 8032714 | G15: =공종별내역서!H154 -> 233229 | H15: =G15*D15 -> 233229 | I15: =공종별내역서!J154 -> 7799485 | J15: =I15*D15 -> 7799485 | K15: =공종별내역서!L154 -> 0 | L15: =K15*D15 -> 0 | N15: 0101020102 | P15: 01010201 | R15: 5
A16: 1.2.1.3 임시발전기 케이블공사 | D16: 1 | E16: =G16+I16+K16 -> 7128336 | F16: =H16+J16+L16 -> 7128336 | G16: =공종별내역서!H179 -> 4647642 | H16: =G16*D16 -> 4647642 | I16: =공종별내역서!J179 -> 2480694 | J16: =I16*D16 -> 2480694 | K16: =공종별내역서!L179 -> 0 | L16: =K16*D16 -> 0 | N16: 0101020103 | P16: 01010201 | R16: 5
A17: 1.2.2 케이블트레이공사 | D17: 1 | E17: =G17+I17+K17 -> 4368330 | F17: =H17+J17+L17 -> 4368330 | G17: =H18+H19 -> 1359082 | H17: =G17*D17 -> 1359082 | I17: =J18+J19 -> 3009248 | J17: =I17*D17 -> 3009248 | K17: =L18+L19 -> 0 | L17: =K17*D17 -> 0 | N17: 01010202 | P17: 010102 | R17: 4
A18: 1.2.2.1 설치공사 | D18: 1 | E18: =G18+I18+K18 -> 3188427 | F18: =H18+J18+L18 -> 3188427 | G18: =공종별내역서!H204 -> 1324734 | H18: =G18*D18 -> 1324734 | I18: =공종별내역서!J204 -> 1863693 | J18: =I18*D18 -> 1863693 | K18: =공종별내역서!L204 -> 0 | L18: =K18*D18 -> 0 | N18: 0101020201 | P18: 01010202 | R18: 5
A19: 1.2.2.2 철거공사 | D19: 1 | E19: =G19+I19+K19 -> 1179903 | F19: =H19+J19+L19 -> 1179903 | G19: =공종별내역서!H229 -> 34348 | H19: =G19*D19 -> 34348 | I19: =공종별내역서!J229 -> 1145555 | J19: =I19*D19 -> 1145555 | K19: =공종별내역서!L229 -> 0 | L19: =K19*D19 -> 0 | N19: 0101020202 | P19: 01010202 | R19: 5
A20: 1.3 제수밸브 | D20: 1 | E20: =G20+I20+K20 -> 42454132 | F20: =H20+J20+L20 -> 42454132 | G20: =H21 -> 19476804 | H20: =G20*D20 -> 19476804 | I20: =J21 -> 22882893 | J20: =I20*D20 -> 22882893 | K20: =L21 -> 94435 | L20: =K20*D20 -> 94435 | N20: 010103 | P20: 0101 | R20: 3
A21: 1.3.1 전력간선 및 동력설비공사 | D21: 1 | E21: =G21+I21+K21 -> 42454132 | F21: =H21+J21+L21 -> 42454132 | G21: =H22+H23+H24 -> 19476804 | H21: =G21*D21 -> 19476804 | I21: =J22+J23+J24 -> 22882893 | J21: =I21*D21 -> 22882893 | K21: =L22+L23+L24 -> 94435 | L21: =K21*D21 -> 94435 | N21: 01010301 | P21: 010103 | R21: 4
A22: 1.3.1.1 제수밸브 #1 설치공사 | B22: 2.2kW | D22: 1 | E22: =G22+I22+K22 -> 16676366 | F22: =H22+J22+L22 -> 16676366 | G22: =공종별내역서!H279 -> 6752295 | H22: =G22*D22 -> 6752295 | I22: =공종별내역서!J279 -> 9894501 | J22: =I22*D22 -> 9894501 | K22: =공종별내역서!L279 -> 29570 | L22: =K22*D22 -> 29570 | N22: 0101030101 | P22: 01010301 | R22: 5
A23: 1.3.1.2 제수밸브 #2 설치공사 | B23: 2.2kW | D23: 1 | E23: =G23+I23+K23 -> 17001995 | F23: =H23+J23+L23 -> 17001995 | G23: =공종별내역서!H329 -> 9406727 | H23: =G23*D23 -> 9406727 | I23: =공종별내역서!J329 -> 7544521 | J23: =I23*D23 -> 7544521 | K23: =공종별내역서!L329 -> 50747 | L23: =K23*D23 -> 50747 | N23: 0101030102 | P23: 01010301 | R23: 5
A24: 1.3.1.3 제수밸브 #3 설치공사 | B24: 1.5kW | D24: 1 | E24: =G24+I24+K24 -> 8775771 | F24: =H24+J24+L24 -> 8775771 | G24: =공종별내역서!H354 -> 3317782 | H24: =G24*D24 -> 3317782 | I24: =공종별내역서!J354 -> 5443871 | J24: =I24*D24 -> 5443871 | K24: =공종별내역서!L354 -> 14118 | L24: =K24*D24 -> 14118 | N24: 0101030103 | P24: 01010301 | R24: 5
A25: 1.4 삼양2 중계펌프장 | D25: 1 | E25: =G25+I25+K25 -> 10201022 | F25: =H25+J25+L25 -> 10201022 | G25: =H26 -> 1168836 | H25: =G25*D25 -> 1168836 | I25: =J26 -> 9030542 | J25: =I25*D25 -> 9030542 | K25: =L26 -> 1644 | L25: =K25*D25 -> 1644 | N25: 010104 | P25: 0101 | R25: 3
A26: 1.4.1 전력간선 및 동력설비공사 | D26: 1 | E26: =G26+I26+K26 -> 10201022 | F26: =H26+J26+L26 -> 10201022 | G26: =H27 -> 1168836 | H26: =G26*D26 -> 1168836 | I26: =J27 -> 9030542 | J26: =I26*D26 -> 9030542 | K26: =L27 -> 1644 | L26: =K26*D26 -> 1644 | N26: 01010401 | P26: 010104 | R26: 4
A27: 1.4.1.1 설치공사 | D27: 1 | E27: =G27+I27+K27 -> 10201022 | F27: =H27+J27+L27 -> 10201022 | G27: =공종별내역서!H379 -> 1168836 | H27: =G27*D27 -> 1168836 | I27: =공종별내역서!J379 -> 9030542 | J27: =I27*D27 -> 9030542 | K27: =공종별내역서!L379 -> 1644 | L27: =K27*D27 -> 1644 | N27: 0101040101 | P27: 01010401 | R27: 5
A28: 1.5 폐기물처리비 | D28: 1 | E28: =G28+I28+K28 -> 9849980 | F28: =H28+J28+L28 -> 9849980 | G28: =공종별내역서!H404 -> 4950176 | H28: =G28*D28 -> 4950176 | I28: =공종별내역서!J404 -> 0 | J28: =I28*D28 -> 0 | K28: =공종별내역서!L404 -> 4899804 | L28: =K28*D28 -> 4899804 | N28: 010105 | P28: 0101 | R28: 3
A29: 2. 관급자재 | D29: 1 | E29: =G29+I29+K29 -> 215961000 | F29: =H29+J29+L29 -> 215961000 | G29: =H30+H36 -> 215961000 | H29: =G29*D29 -> 215961000 | I29: =J30+J36 -> 0 | J29: =I29*D29 -> 0 | K29: =L30+L36 -> 0 | L29: =K29*D29 -> 0 | N29: 0102 | P29: 01 | R29: 2
A30: 2.1 관급자관급 | D30: 1 | E30: =G30+I30+K30 -> 190377000 | F30: =H30+J30+L30 -> 190377000 | G30: =H31+H34+H35 -> 190377000 | H30: =G30*D30 -> 190377000 | I30: =J31+J34+J35 -> 0 | J30: =I30*D30 -> 0 | K30: =L31+L34+L35 -> 0 | L30: =K30*D30 -> 0 | N30: 010201 | P30: 0102 | R30: 3
A31: 2.1.1 수배전반 | D31: 1 | E31: =G31+I31+K31 -> 84617000 | F31: =H31+J31+L31 -> 84617000 | G31: =H32+H33 -> 84617000 | H31: =G31*D31 -> 84617000 | I31: =J32+J33 -> 0 | J31: =I31*D31 -> 0 | K31: =L32+L33 -> 0 | L31: =K31*D31 -> 0 | N31: 01020101 | P31: 010201 | R31: 4
A32: 2.1.1.1 설치 | B32: 부가가치세 포함 | D32: 1 | E32: =G32+I32+K32 -> 80183000 | F32: =H32+J32+L32 -> 80183000 | G32: =공종별내역서!H427 -> 80183000 | H32: =G32*D32 -> 80183000 | I32: =공종별내역서!J427 -> 0 | J32: =I32*D32 -> 0 | K32: =공종별내역서!L427 -> 0 | L32: =K32*D32 -> 0 | N32: 0102010101 | P32: 01020101 | R32: 5
A33: 2.1.1.2 철거 | D33: 1 | E33: =G33+I33+K33 -> 4434000 | F33: =H33+J33+L33 -> 4434000 | G33: =공종별내역서!H452 -> 4434000 | H33: =G33*D33 -> 4434000 | I33: =공종별내역서!J452 -> 0 | J33: =I33*D33 -> 0 | K33: =공종별내역서!L452 -> 0 | L33: =K33*D33 -> 0 | N33: 0102010102 | P33: 01020101 | R33: 5
A34: 2.1.2 감시제어 | D34: 1 | E34: =G34+I34+K34 -> 94550000 | F34: =H34+J34+L34 -> 94550000 | G34: =공종별내역서!H477 -> 94550000 | H34: =G34*D34 -> 94550000 | I34: =공종별내역서!J477 -> 0 | J34: =I34*D34 -> 0 | K34: =공종별내역서!L477 -> 0 | L34: =K34*D34 -> 0 | N34: 01020102 | P34: 010201 | R34: 4
A35: 2.1.3 UPS | B35: 부가가치세 포함 | D35: 1 | E35: =G35+I35+K35 -> 11210000 | F35: =H35+J35+L35 -> 11210000 | G35: =공종별내역서!H502 -> 11210000 | H35: =G35*D35 -> 11210000 | I35: =공종별내역서!J502 -> 0 | J35: =I35*D35 -> 0 | K35: =공종별내역서!L502 -> 0 | L35: =K35*D35 -> 0 | N35: 01020103 | P35: 010201 | R35: 4
A36: 2.2 도급자관급 | D36: 1 | E36: =G36+I36+K36 -> 25584000 | F36: =H36+J36+L36 -> 25584000 | G36: =H37+H38+H39 -> 25584000 | H36: =G36*D36 -> 25584000 | I36: =J37+J38+J39 -> 0 | J36: =I36*D36 -> 0 | K36: =L37+L38+L39 -> 0 | L36: =K36*D36 -> 0 | N36: 010202 | P36: 0102 | R36: 3
A37: 2.2.1 분전반 | B37: 부가가치세 포함 | D37: 1 | E37: =G37+I37+K37 -> 11832000 | F37: =H37+J37+L37 -> 11832000 | G37: =공종별내역서!H527 -> 11832000 | H37: =G37*D37 -> 11832000 | I37: =공종별내역서!J527 -> 0 | J37: =I37*D37 -> 0 | K37: =공종별내역서!L527 -> 0 | L37: =K37*D37 -> 0 | N37: 01020201 | P37: 010202 | R37: 4
A38: 2.2.2 임대발전기 | D38: 1 | E38: =G38+I38+K38 -> 12310000 | F38: =H38+J38+L38 -> 12310000 | G38: =공종별내역서!H552 -> 12310000 | H38: =G38*D38 -> 12310000 | I38: =공종별내역서!J552 -> 0 | J38: =I38*D38 -> 0 | K38: =공종별내역서!L552 -> 0 | L38: =K38*D38 -> 0 | N38: 01020202 | P38: 010202 | R38: 4
A39: 2.2.3 조명기구 | B39: 부가가치세 포함 | D39: 1 | E39: =G39+I39+K39 -> 1442000 | F39: =H39+J39+L39 -> 1442000 | G39: =공종별내역서!H577 -> 1442000 | H39: =G39*D39 -> 1442000 | I39: =공종별내역서!J577 -> 0 | J39: =I39*D39 -> 0 | K39: =공종별내역서!L577 -> 0 | L39: =K39*D39 -> 0 | N39: 01020203 | P39: 010202 | R39: 4
A40: 3. 한전수탁비 | D40: 1 | E40: =G40+I40+K40 -> 13940000 | F40: =H40+J40+L40 -> 13940000 | G40: =H41+H46 -> 13940000 | H40: =G40*D40 -> 13940000 | I40: =J41+J46 -> 0 | J40: =I40*D40 -> 0 | K40: =L41+L46 -> 0 | L40: =K40*D40 -> 0 | N40: 0103 | P40: 01 | R40: 2
...

Sheet 공종별내역서
A1: 공 종 별 내 역 서
A2: [ 동부하수처리구역 차집관로 정비사업(1공구)_전기및계측 ]
A3: 품 명 | B3: 규 격 | C3: 단위 | D3: 수량 | E3: 합 계 | G3: 재 료 비 | I3: 노 무 비 | K3: 경 비 | M3: 비 고 | N3: 품목코드 | O3: 변수 | P3: 설정 | Q3: 공종코드 | R3: 일위 | S3: 단산 | T3: 자재 | U3: 손료적용 | V3: 손료저장 | W3: 적용율 | X3: JUK1 | Y3: JUK2 | Z3: JUK3 | AA3: JUK4 | AB3: JUK5 | AC3: JUK6 | AD3: JUK7 | AE3: JUK8 | AF3: JUK9 | AG3: JUK10 | AH3: JUK11 | AI3: JUK12 | AJ3: JUK13 | AK3: JUK14 | AL3: JUK15 | AM3: JUK16 | AN3: JUK17 | AO3: JUK18 | AP3: JUK19 | AQ3: JUK20 | AR3: 자재구분 | AS3: 공종구분 | AT3: 공종레벨 | AU3: 공종+자재 | AV3: 고유번호
E4: 단 가 | F4: 금 액 | G4: 단 가 | H4: 금 액 | I4: 단 가 | J4: 금 액 | K4: 단 가 | L4: 금 액
A5: 1.1.1.1 설치공사 | B5: 1. 도급공사 1.1 신촌 중계펌프장 1.1.1 전력간선 및 동력설비공사 | Q5: 0101010101
A6: 1종금속제가요전선관-노출 | B6: 비닐피복, 36mm, 방수 | C6: M | D6: 14 | E6: =TRUNC(G6+I6+K6, 0) -> 31859 | F6: =TRUNC(H6+J6+L6, 0) -> 446026 | G6: =TRUNC(일위대가목록!F4,0) -> 3144 | H6: =TRUNC(G6*D6, 0) -> 44016 | I6: =TRUNC(일위대가목록!G4,0) -> 28715 | J6: =TRUNC(I6*D6, 0) -> 402010 | K6: =TRUNC(일위대가목록!H4,0) -> 0 | L6: =TRUNC(K6*D6, 0) -> 0 | M6: 호표 1 | N6: 505C016DC05253DCE07E94E19AB87A | Q6: 0101010101 | R6: T | S6: F | T6: F | AU6: 0101010101505C016DC05253DCE07E94E19AB87A | AV6: 610
A7: 1종금속제가요전선관-노출 | B7: 비닐피복, 28mm, 방수 | C7: M | D7: 14 | E7: =TRUNC(G7+I7+K7, 0) -> 25691 | F7: =TRUNC(H7+J7+L7, 0) -> 359674 | G7: =TRUNC(일위대가목록!F5,0) -> 1946 | H7: =TRUNC(G7*D7, 0) -> 27244 | I7: =TRUNC(일위대가목록!G5,0) -> 23745 | J7: =TRUNC(I7*D7, 0) -> 332430 | K7: =TRUNC(일위대가목록!H5,0) -> 0 | L7: =TRUNC(K7*D7, 0) -> 0 | M7: 호표 2 | N7: 505C016DC05253DCE07E94E19AB900 | Q7: 0101010101 | R7: T | S7: F | T7: F | AU7: 0101010101505C016DC05253DCE07E94E19AB900 | AV7: 609
A8: 1종금속제가요전선관-노출 | B8: 비닐피복, 22mm, 방수 | C8: M | D8: 10 | E8: =TRUNC(G8+I8+K8, 0) -> 20860 | F8: =TRUNC(H8+J8+L8, 0) -> 208600 | G8: =TRUNC(일위대가목록!F6,0) -> 1533 | H8: =TRUNC(G8*D8, 0) -> 15330 | I8: =TRUNC(일위대가목록!G6,0) -> 19327 | J8: =TRUNC(I8*D8, 0) -> 193270 | K8: =TRUNC(일위대가목록!H6,0) -> 0 | L8: =TRUNC(K8*D8, 0) -> 0 | M8: 호표 3 | N8: 505C016DC05253DCE07E94E19ABE82 | Q8: 0101010101 | R8: T | S8: F | T8: F | AU8: 0101010101505C016DC05253DCE07E94E19ABE82 | AV8: 611
A9: 1종금속제가요전선관 | B9: 1종금속제가요전선관, 박스커넥터-비닐, 36mm, 방수 | C9: 개 | D9: 4 | E9: =TRUNC(G9+I9+K9, 0) -> 1980 | F9: =TRUNC(H9+J9+L9, 0) -> 7920 | G9: =TRUNC(단가대비표!O99,0) -> 1980 | H9: =TRUNC(G9*D9, 0) -> 7920 | I9: =TRUNC(단가대비표!P99,0) -> 0 | J9: =TRUNC(I9*D9, 0) -> 0 | K9: =TRUNC(단가대비표!V99,0) -> 0 | L9: =TRUNC(K9*D9, 0) -> 0 | N9: 57392168B22B5EDE007FC3802D3A4B79C420DE | Q9: 0101010101 | R9: F | S9: F | T9: T | AU9: 010101010157392168B22B5EDE007FC3802D3A4B79C420DE | AV9: 612
A10: 1종금속제가요전선관 | B10: 1종금속제가요전선관, 박스커넥터-비닐, 28mm, 방수 | C10: 개 | D10: 4 | E10: =TRUNC(G10+I10+K10, 0) -> 1426 | F10: =TRUNC(H10+J10+L10, 0) -> 5704 | G10: =TRUNC(단가대비표!O98,0) -> 1426 | H10: =TRUNC(G10*D10, 0) -> 5704 | I10: =TRUNC(단가대비표!P98,0) -> 0 | J10: =TRUNC(I10*D10, 0) -> 0 | K10: =TRUNC(단가대비표!V98,0) -> 0 | L10: =TRUNC(K10*D10, 0) -> 0 | N10: 57392168B22B5EDE007FC3802D3A4B79C420DF | Q10: 0101010101 | R10: F | S10: F | T10: T | AU10: 010101010157392168B22B5EDE007FC3802D3A4B79C420DF | AV10: 614
A11: 1종금속제가요전선관 | B11: 1종금속제가요전선관, 박스커넥터-비닐, 22mm, 방수 | C11: 개 | D11: 4 | E11: =TRUNC(G11+I11+K11, 0) -> 977 | F11: =TRUNC(H11+J11+L11, 0) -> 3908 | G11: =TRUNC(단가대비표!O97,0) -> 977 | H11: =TRUNC(G11*D11, 0) -> 3908 | I11: =TRUNC(단가대비표!P97,0) -> 0 | J11: =TRUNC(I11*D11, 0) -> 0 | K11: =TRUNC(단가대비표!V97,0) -> 0 | L11: =TRUNC(K11*D11, 0) -> 0 | N11: 57392168B22B5EDE007FC3802D3A4B79C420D0 | Q11: 0101010101 | R11: F | S11: F | T11: T | AU11: 010101010157392168B22B5EDE007FC3802D3A4B79C420D0 | AV11: 613
A12: 0.6/1kv 난연 전력케이블(F-CV) | B12: 3C*6㎟ | C12: M | D12: 35 | E12: =TRUNC(G12+I12+K12, 0) -> 12288 | F12: =TRUNC(H12+J12+L12, 0) -> 430080 | G12: =TRUNC(일위대가목록!F7,0) -> 4325 | H12: =TRUNC(G12*D12, 0) -> 151375 | I12: =TRUNC(일위대가목록!G7,0) -> 7963 | J12: =TRUNC(I12*D12, 0) -> 278705 | K12: =TRUNC(일위대가목록!H7,0) -> 0 | L12: =TRUNC(K12*D12, 0) -> 0 | M12: 호표 4 | N12: 505C016DC07D5170F07293E420FDCF | Q12: 0101010101 | R12: T | S12: F | T12: F | AU12: 0101010101505C016DC07D5170F07293E420FDCF | AV12: 11
A13: 0.6/1kv 난연 전력케이블(F-CV)-옥외 | B13: 4C*16㎟ | C13: M | D13: 34 | E13: =TRUNC(G13+I13+K13, 0) -> 18128 | F13: =TRUNC(H13+J13+L13, 0) -> 616352 | G13: =TRUNC(일위대가목록!F8,0) -> 11553 | H13: =TRUNC(G13*D13, 0) -> 392802 | I13: =TRUNC(일위대가목록!G8,0) -> 6575 | J13: =TRUNC(I13*D13, 0) -> 223550 | K13: =TRUNC(일위대가목록!H8,0) -> 0 | L13: =TRUNC(K13*D13, 0) -> 0 | M13: 호표 5 | N13: 505C016DC07D5170F072948BAAA5E3 | Q13: 0101010101 | R13: T | S13: F | T13: F | AU13: 0101010101505C016DC07D5170F072948BAAA5E3 | AV13: 12
A14: 0.6/1kv 난연 전력케이블(F-CV) | B14: 4C*4㎟ | C14: M | D14: 26 | E14: =TRUNC(G14+I14+K14, 0) -> 12805 | F14: =TRUNC(H14+J14+L14, 0) -> 332930 | G14: =TRUNC(일위대가목록!F9,0) -> 3924 | H14: =TRUNC(G14*D14, 0) -> 102024 | I14: =TRUNC(일위대가목록!G9,0) -> 8881 | J14: =TRUNC(I14*D14, 0) -> 230906 | K14: =TRUNC(일위대가목록!H9,0) -> 0 | L14: =TRUNC(K14*D14, 0) -> 0 | M14: 호표 6 | N14: 505C016DC07D5170F072948BAAA107 | Q14: 0101010101 | R14: T | S14: F | T14: F | AU14: 0101010101505C016DC07D5170F072948BAAA107 | AV14: 13
A15: 0.6/1kv 트레이용 절연난연 제어용케이블(F-CVV) | B15: 2C*2.5㎟ | C15: M | D15: 84 | E15: =TRUNC(G15+I15+K15, 0) -> 5932 | F15: =TRUNC(H15+J15+L15, 0) -> 498288 | G15: =TRUNC(일위대가목록!F10,0) -> 1645 | H15: =TRUNC(G15*D15, 0) -> 138180 | I15: =TRUNC(일위대가목록!G10,0) -> 4287 | J15: =TRUNC(I15*D15, 0) -> 360108 | K15: =TRUNC(일위대가목록!H10,0) -> 0 | L15: =TRUNC(K15*D15, 0) -> 0 | M15: 호표 7 | N15: 505C016DC07D506C507419CC181E81 | Q15: 0101010101 | R15: T | S15: F | T15: F | AU15: 0101010101505C016DC07D506C507419CC181E81 | AV15: 17
A16: 0.6/1kv 트레이용 절연난연 제어용케이블(F-CVV) | B16: 3C*2.5㎟ | C16: M | D16: 10 | E16: =TRUNC(G16+I16+K16, 0) -> 7852 | F16: =TRUNC(H16+J16+L16, 0) -> 78520 | G16: =TRUNC(일위대가목록!F11,0) -> 2033 | H16: =TRUNC(G16*D16, 0) -> 20330 | I16: =TRUNC(일위대가목록!G11,0) -> 5819 | J16: =TRUNC(I16*D16, 0) -> 58190 | K16: =TRUNC(일위대가목록!H11,0) -> 0 | L16: =TRUNC(K16*D16, 0) -> 0 | M16: 호표 8 | N16: 505C016DC07D506C507419CC181A26 | Q16: 0101010101 | R16: T | S16: F | T16: F | AU16: 0101010101505C016DC07D506C507419CC181A26 | AV16: 16
A17: 0.6/1kv 트레이용 절연난연 제어용케이블(F-CVV) | B17: 15C*2.5㎟ | C17: M | D17: 24 | E17: =TRUNC(G17+I17+K17, 0) -> 26225 | F17: =TRUNC(H17+J17+L17, 0) -> 629400 | G17: =TRUNC(일위대가목록!F12,0) -> 7237 | H17: =TRUNC(G17*D17, 0) -> 173688 | I17: =TRUNC(일위대가목록!G12,0) -> 18988 | J17: =TRUNC(I17*D17, 0) -> 455712 | K17: =TRUNC(일위대가목록!H12,0) -> 0 | L17: =TRUNC(K17*D17, 0) -> 0 | M17: 호표 9 | N17: 505C016DC07D506C50741BF90D4DCB | Q17: 0101010101 | R17: T | S17: F | T17: F | AU17: 0101010101505C016DC07D506C50741BF90D4DCB | AV17: 15
A18: 0.6/1kv 트레이용 절연난연 제어용케이블(F-CVV) | B18: 30C*2.5㎟ | C18: M | D18: 9 | E18: =TRUNC(G18+I18+K18, 0) -> 42903 | F18: =TRUNC(H18+J18+L18, 0) -> 386127 | G18: =TRUNC(일위대가목록!F13,0) -> 12889 | H18: =TRUNC(G18*D18, 0) -> 116001 | I18: =TRUNC(일위대가목록!G13,0) -> 30014 | J18: =TRUNC(I18*D18, 0) -> 270126 | K18: =TRUNC(일위대가목록!H13,0) -> 0 | L18: =TRUNC(K18*D18, 0) -> 0 | M18: 호표 10 | N18: 505C016DC07D506C50741BF90CA2E6 | Q18: 0101010101 | R18: T | S18: F | T18: F | AU18: 0101010101505C016DC07D506C50741BF90CA2E6 | AV18: 14
A19: 0.6/1kv 트레이용 제어용케이블(F-CVV-S) | B19: 2C*1.5㎟ | C19: M | D19: 10 | E19: =TRUNC(G19+I19+K19, 0) -> 6904 | F19: =TRUNC(H19+J19+L19, 0) -> 69040 | G19: =TRUNC(일위대가목록!F14,0) -> 1759 | H19: =TRUNC(G19*D19, 0) -> 17590 | I19: =TRUNC(일위대가목록!G14,0) -> 5145 | J19: =TRUNC(I19*D19, 0) -> 51450 | K19: =TRUNC(일위대가목록!H14,0) -> 0 | L19: =TRUNC(K19*D19, 0) -> 0 | M19: 호표 11 | N19: 505C016DC07D506F20799C41CF0C1E | Q19: 0101010101 | R19: T | S19: F | T19: F | AU19: 0101010101505C016DC07D506F20799C41CF0C1E | AV19: 18
A20: 난연 비닐절연접지용전선(F-GV)-관내 | B20: 0.6/1kv, 16㎟ | C20: M | D20: 21 | E20: =TRUNC(G20+I20+K20, 0) -> 5841 | F20: =TRUNC(H20+J20+L20, 0) -> 122661 | G20: =TRUNC(일위대가목록!F15,0) -> 2942 | H20: =TRUNC(G20*D20, 0) -> 61782 | I20: =TRUNC(일위대가목록!G15,0) -> 2899 | J20: =TRUNC(I20*D20, 0) -> 60879 | K20: =TRUNC(일위대가목록!H15,0) -> 0 | L20: =TRUNC(K20*D20, 0) -> 0 | M20: 호표 12 | N20: 505C016DC06C5A01607F62360411AE | Q20: 0101010101 | R20: T | S20: F | T20: F | AU20: 0101010101505C016DC06C5A01607F62360411AE | AV20: 19
A21: 난연 비닐절연접지용전선(F-GV)-관내 | B21: 0.6/1kv, 6㎟ | C21: M | D21: 35 | E21: =TRUNC(G21+I21+K21, 0) -> 3799 | F21: =TRUNC(H21+J21+L21, 0) -> 132965 | G21: =TRUNC(일위대가목록!F16,0) -> 1315 | H21: =TRUNC(G21*D21, 0) -> 46025 | I21: =TRUNC(일위대가목록!G16,0) -> 2484 | J21: =TRUNC(I21*D21, 0) -> 86940 | K21: =TRUNC(일위대가목록!H16,0) -> 0 | L21: =TRUNC(K21*D21, 0) -> 0 | M21: 호표 13 | N21: 505C016DC06C5A01607F6236041737 | Q21: 0101010101 | R21: T | S21: F | T21: F | AU21: 0101010101505C016DC06C5A01607F6236041737 | AV21: 20
A22: 난연 비닐절연접지용전선(F-GV)-관내 | B22: 0.6/1kv, 4㎟ | C22: M | D22: 26 | E22: =TRUNC(G22+I22+K22, 0) -> 3649 | F22: =TRUNC(H22+J22+L22, 0) -> 94874 | G22: =TRUNC(일위대가목록!F17,0) -> 1165 | H22: =TRUNC(G22*D22, 0) -> 30290 | I22: =TRUNC(일위대가목록!G17,0) -> 2484 | J22: =TRUNC(I22*D22, 0) -> 64584 | K22: =TRUNC(일위대가목록!H17,0) -> 0 | L22: =TRUNC(K22*D22, 0) -> 0 | M22: 호표 14 | N22: 505C016DC06C5A01607F6236041610 | Q22: 0101010101 | R22: T | S22: F | T22: F | AU22: 0101010101505C016DC06C5A01607F6236041610 | AV22: 21
A23: 전력케이블 단말처리-저압(1 KV 이하) | B23: 1C, 16㎟ | C23: 개소 | D23: 14 | E23: =TRUNC(G23+I23+K23, 0) -> 25678 | F23: =TRUNC(H23+J23+L23, 0) -> 359492 | G23: =TRUNC(일위대가목록!F18,0) -> 870 | H23: =TRUNC(G23*D23, 0) -> 12180 | I23: =TRUNC(일위대가목록!G18,0) -> 24808 | J23: =TRUNC(I23*D23, 0) -> 347312 | K23: =TRUNC(일위대가목록!H18,0) -> 0 | L23: =TRUNC(K23*D23, 0) -> 0 | M23: 호표 15 | N23: 505C116B7AA854EC10724F7C541BE6 | Q23: 0101010101 | R23: T | S23: F | T23: F | AU23: 0101010101505C116B7AA854EC10724F7C541BE6 | AV23: 22
A24: 전기수전 | B24: 저압(42C) | C24: 식 | D24: 1 | E24: =TRUNC(G24+I24+K24, 0) -> 770625 | F24: =TRUNC(H24+J24+L24, 0) -> 770625 | G24: =TRUNC(일위대가목록!F19,0) -> 99686 | H24: =TRUNC(G24*D24, 0) -> 99686 | I24: =TRUNC(일위대가목록!G19,0) -> 670939 | J24: =TRUNC(I24*D24, 0) -> 670939 | K24: =TRUNC(일위대가목록!H19,0) -> 0 | L24: =TRUNC(K24*D24, 0) -> 0 | M24: 호표 16 | N24: 505C016DC014580D60766011930BF9 | Q24: 0101010101 | R24: T | S24: F | T24: F | AU24: 0101010101505C016DC014580D60766011930BF9 | AV24: 39
Q25: 0101010101
Q26: 0101010101
Q27: 0101010101
Q28: 0101010101
A29: [ 합 계 ] | F29: =SUMIF(Q6:Q28,"0101010101",F6:F28) -> 5553186 | H29: =SUMIF(Q6:Q28,"0101010101",H6:H28) -> 1466075 | J29: =SUMIF(Q6:Q28,"0101010101",J6:J28) -> 4087111 | L29: =SUMIF(Q6:Q28,"0101010101",L6:L28) -> 0 | N29: TOTAL
A30: 1.1.1.2 철거공사 | B30: 1. 도급공사 1.1 신촌 중계펌프장 1.1.1 전력간선 및 동력설비공사 | Q30: 0101010102
A31: 강제전선관-철거 | B31: 아연도, 22mm | C31: M | D31: 4 | E31: =TRUNC(G31+I31+K31, 0) -> 11261 | F31: =TRUNC(H31+J31+L31, 0) -> 45044 | G31: =TRUNC(일위대가목록!F20,0) -> 328 | H31: =TRUNC(G31*D31, 0) -> 1312 | I31: =TRUNC(일위대가목록!G20,0) -> 10933 | J31: =TRUNC(I31*D31, 0) -> 43732 | K31: =TRUNC(일위대가목록!H20,0) -> 0 | L31: =TRUNC(K31*D31, 0) -> 0 | M31: 호표 17 | N31: 505C016DC05253DDF0758A141E119A | Q31: 0101010102 | R31: T | S31: F | T31: F | AU31: 0101010102505C016DC05253DDF0758A141E119A | AV31: 625
A32: 0.6/1kv 난연 전력케이블(F-CV)-철거 | B32: 1C*16㎟ | C32: M | D32: 96 | E32: =TRUNC(G32+I32+K32, 0) -> 3627 | F32: =TRUNC(H32+J32+L32, 0) -> 348192 | G32: =TRUNC(일위대가목록!F21,0) -> 105 | H32: =TRUNC(G32*D32, 0) -> 10080 | I32: =TRUNC(일위대가목록!G21,0) -> 3522 | J32: =TRUNC(I32*D32, 0) -> 338112 | K32: =TRUNC(일위대가목록!H21,0) -> 0 | L32: =TRUNC(K32*D32, 0) -> 0 | M32: 호표 18 | N32: 505C016DC07D5170F0729137ACB6C7 | Q32: 0101010102 | R32: T | S32: F | T32: F | AU32: 0101010102505C016DC07D5170F0729137ACB6C7 | AV32: 78
A33: 0.6/1kv 난연 전력케이블(F-CV)-철거 | B33: 3C*6㎟ | C33: M | D33: 9 | E33: =TRUNC(G33+I33+K33, 0) -> 4100 | F33: =TRUNC(H33+J33+L33, 0) -> 36900 | G33: =TRUNC(일위대가목록!F22,0) -> 119 | H33: =TRUNC(G33*D33, 0) -> 1071 | I33: =TRUNC(일위대가목록!G22,0) -> 3981 | J33: =TRUNC(I33*D33, 0) -> 35829 | K33: =TRUNC(일위대가목록!H22,0) -> 0 | L33: =TRUNC(K33*D33, 0) -> 0 | M33: 호표 19 | N33: 505C016DC07D5170F07293E420FDCE | Q33: 0101010102 | R33: T | S33: F | T33: F | AU33: 0101010102505C016DC07D5170F07293E420FDCE | AV33: 79
A34: 0.6/1kv 난연 전력케이블(F-CV)-옥외-철거 | B34: 4C*25㎟ | C34: M | D34: 34 | E34: =TRUNC(G34+I34+K34, 0) -> 3904 | F34: =TRUNC(H34+J34+L34, 0) -> 132736 | G34: =TRUNC(일위대가목록!F23,0) -> 113 | H34: =TRUNC(G34*D34, 0) -> 3842 | I34: =TRUNC(일위대가목록!G23,0) -> 3791 | J34: =TRUNC(I34*D34, 0) -> 128894 | K34: =TRUNC(일위대가목록!H23,0) -> 0 | L34: =TRUNC(K34*D34, 0) -> 0 | M34: 호표 20 | N34: 505C016DC07D5170F072948BAAAA62 | Q34: 0101010102 | R34: T | S34: F | T34: F | AU34: 0101010102505C016DC07D5170F072948BAAAA62 | AV34: 81
A35: 0.6/1kv 난연 전력케이블(F-CV)-철거 | B35: 4C*4㎟ | C35: M | D35: 24 | E35: =TRUNC(G35+I35+K35, 0) -> 4573 | F35: =TRUNC(H35+J35+L35, 0) -> 109752 | G35: =TRUNC(일위대가목록!F24,0) -> 133 | H35: =TRUNC(G35*D35, 0) -> 3192 | I35: =TRUNC(일위대가목록!G24,0) -> 4440 | J35: =TRUNC(I35*D35, 0) -> 106560 | K35: =TRUNC(일위대가목록!H24,0) -> 0 | L35: =TRUNC(K35*D35, 0) -> 0 | M35: 호표 21 | N35: 505C016DC07D5170F072948BAAA106 | Q35: 0101010102 | R35: T | S35: F | T35: F | AU35: 0101010102505C016DC07D5170F072948BAAA106 | AV35: 80
A36: 0.6/1kv 트레이용 절연난연 제어용케이블(F-CVV)-철거 | B36: 2C*2.5㎟ | C36: M | D36: 78 | E36: =TRUNC(G36+I36+K36, 0) -> 2207 | F36: =TRUNC(H36+J36+L36, 0) -> 172146 | G36: =TRUNC(일위대가목록!F25,0) -> 64 | H36: =TRUNC(G36*D36, 0) -> 4992 | I36: =TRUNC(일위대가목록!G25,0) -> 2143 | J36: =TRUNC(I36*D36, 0) -> 167154 | K36: =TRUNC(일위대가목록!H25,0) -> 0 | L36: =TRUNC(K36*D36, 0) -> 0 | M36: 호표 22 | N36: 505C016DC07D506C507419CC181E80 | Q36: 0101010102 | R36: T | S36: F | T36: F | AU36: 0101010102505C016DC07D506C507419CC181E80 | AV36: 82
A37: 0.6/1kv 트레이용 절연난연 제어용케이블(F-CVV)-철거 | B37: 3C*2.5㎟ | C37: M | D37: 57 | E37: =TRUNC(G37+I37+K37, 0) -> 2996 | F37: =TRUNC(H37+J37+L37, 0) -> 170772 | G37: =TRUNC(일위대가목록!F26,0) -> 87 | H37: =TRUNC(G37*D37, 0) -> 4959 | I37: =TRUNC(일위대가목록!G26,0) -> 2909 | J37: =TRUNC(I37*D37, 0) -> 165813 | K37: =TRUNC(일위대가목록!H26,0) -> 0 | L37: =TRUNC(K37*D37, 0) -> 0 | M37: 호표 23 | N37: 505C016DC07D506C507419CC181A27 | Q37: 0101010102 | R37: T | S37: F | T37: F | AU37: 0101010102505C016DC07D506C507419CC181A27 | AV37: 83
A38: 0.6/1kv 트레이용 절연난연 제어용케이블(F-CVV)-철거 | B38: 15C*2.5㎟ | C38: M | D38: 24 | E38: =TRUNC(G38+I38+K38, 0) -> 9778 | F38: =TRUNC(H38+J38+L38, 0) -> 234672 | G38: =TRUNC(일위대가목록!F27,0) -> 284 | H38: =TRUNC(G38*D38, 0) -> 6816 | I38: =TRUNC(일위대가목록!G27,0) -> 9494 | J38: =TRUNC(I38*D38, 0) -> 227856 | K38: =TRUNC(일위대가목록!H27,0) -> 0 | L38: =TRUNC(K38*D38, 0) -> 0 | M38: 호표 24 | N38: 505C016DC07D506C50741BF90D4DCA | Q38: 0101010102 | R38: T | S38: F | T38: F | AU38: 0101010102505C016DC07D506C50741BF90D4DCA | AV38: 84
A39: 0.6/1kv 트레이용 절연난연 제어용케이블(F-CVV)-철거 | B39: 30C*2.5㎟ | C39: M | D39: 9 | E39: =TRUNC(G39+I39+K39, 0) -> 15457 | F39: =TRUNC(H39+J39+L39, 0) -> 139113 | G39: =TRUNC(일위대가목록!F28,0) -> 450 | H39: =TRUNC(G39*D39, 0) -> 4050 | I39: =TRUNC(일위대가목록!G28,0) -> 15007 | J39: =TRUNC(I39*D39, 0) -> 135063 | K39: =TRUNC(일위대가목록!H28,0) -> 0 | L39: =TRUNC(K39*D39, 0) -> 0 | M39: 호표 25 | N39: 505C016DC07D506C50741BF90CA2E7 | Q39: 0101010102 | R39: T | S39: F | T39: F | AU39: 0101010102505C016DC07D506C50741BF90CA2E7 | AV39: 85
A40: 0.6/1kv 트레이용 제어용케이블(F-CVV-S)-철거 | B40: 2C*1.5㎟ | C40: M | D40: 19 | E40: =TRUNC(G40+I40+K40, 0) -> 2649 | F40: =TRUNC(H40+J40+L40, 0) -> 50331 | G40: =TRUNC(일위대가목록!F29,0) -> 77 | H40: =TRUNC(G40*D40, 0) -> 1463 | I40: =TRUNC(일위대가목록!G29,0) -> 2572 | J40: =TRUNC(I40*D40, 0) -> 48868 | K40: =TRUNC(일위대가목록!H29,0) -> 0 | L40: =TRUNC(K40*D40, 0) -> 0 | M40: 호표 26 | N40: 505C016DC07D506F20799C41CF0C1F | Q40: 0101010102 | R40: T | S40: F | T40: F | AU40: 0101010102505C016DC07D506F20799C41CF0C1F | AV40: 86
...

Sheet 고재처리비
A1: 고 재 처 리 비
A2: [ 동부하수처리구역 차집관로 정비사업(1공구)_전기및계측 ]
A3: 품 명 | B3: 규 격 | C3: 단위 | D3: 수량 | E3: 합 계 | G3: 재 료 비 | I3: 인 건 비 | K3: 경 비 | M3: 비 고 | N3: 품목코드 | O3: 변수 | P3: 설정 | Q3: 공종코드 | R3: 일위 | S3: 단산 | T3: 자 재 | U3: 손료적용 | V3: 손료저장 | W3: 적용율 | X3: JUK1 | Y3: JUK2 | Z3: JUK3 | AA3: JUK4 | AB3: JUK5 | AC3: JUK6 | AD3: JUK7 | AE3: JUK8 | AF3: JUK9 | AG3: JUK10 | AH3: JUK11 | AI3: JUK12 | AJ3: JUK13 | AK3: JUK14 | AL3: JUK15 | AM3: JUK16 | AN3: JUK17 | AO3: JUK18 | AP3: JUK19 | AQ3: JUK20 | AR3: 자재구분 | AS3: 공종구분 | AT3: 공종레벨 | AU3: 공종+자재 | AV3: 고유번호
E4: 단 가 | F4: 금 액 | G4: 단 가 | H4: 금 액 | I4: 단 가 | J4: 금 액 | K4: 단 가 | L4: 금 액
A5: 4. 고재처리비 | Q5: 010101
A6: 고재처리비 | C6: 식 | D6: 1 | E6: =ROUND(G6+I6+K6, 0) -> -381054 | F6: =ROUND(H6+J6+L6, 0) -> -381054 | K6: =단가대비표!O143 -> -381054 | L6: =ROUND(K6*D6, 0) -> -381054 | N6: 57CD418464AFE68F699AAB7DFA58 | Q6: 010101 | R6: T | S6: F | T6: F | AU6: 01010157CD418464AFE68F699AAB7DFA58 | AV6: 4039
N7: 57CD418464AFE68F699AAB7DFA38 | Q7: 010101 | R7: T | S7: F | T7: F | AU7: 01010157CD418464AFE68F699AAB7DFA38 | AV7: 4125
F10: =ROUND(H10+J10+L10, 0) -> 0 | H10: =ROUND(G10*D10, 0) -> 0 | L10: =ROUND(K10*D10, 0) -> 0 | N10: 57CD418464AFE68F699AAA7387F8 | Q10: 010101 | R10: T | S10: F | T10: F | AU10: 01010157CD418464AFE68F699AAA7387F8 | AV10: 4041
F11: =ROUND(H11+J11+L11, 0) -> 0 | H11: =ROUND(G11*D11, 0) -> 0 | L11: =ROUND(K11*D11, 0) -> 0 | N11: 57CD418464AFE68F699AAA7387D8 | Q11: 010101 | R11: T | S11: F | T11: F | AU11: 01010157CD418464AFE68F699AAA7387D8 | AV11: 4042
F12: =ROUND(H12+J12+L12, 0) -> 0 | H12: =ROUND(G12*D12, 0) -> 0 | L12: =ROUND(K12*D12, 0) -> 0 | N12: 57CD418464AFE68F699AAA7387A8 | Q12: 010101 | R12: T | S12: F | T12: F | AU12: 01010157CD418464AFE68F699AAA7387A8 | AV12: 3973
F13: =ROUND(H13+J13+L13, 0) -> 0 | H13: =ROUND(G13*D13, 0) -> 0 | L13: =ROUND(K13*D13, 0) -> 0 | N13: 57CD418464AFE68F699AAA7387B8 | Q13: 010101 | R13: T | S13: F | T13: F | AU13: 01010157CD418464AFE68F699AAA7387B8 | AV13: 4126
F14: =ROUND(H14+J14+L14, 0) -> 0 | H14: =ROUND(G14*D14, 0) -> 0 | L14: =ROUND(K14*D14, 0) -> 0 | N14: 57CDB18F91D6598037B95573D338 | Q14: 010101 | R14: F | S14: F | T14: T | AU14: 01010157CDB18F91D6598037B95573D338 | AV14: 4043
F15: =ROUND(H15+J15+L15, 0) -> 0 | H15: =ROUND(G15*D15, 0) -> 0 | L15: =ROUND(K15*D15, 0) -> 0 | N15: 57CDB18F91D6F98362F5D57EEE28 | Q15: 010101 | R15: F | S15: F | T15: T | AU15: 01010157CDB18F91D6F98362F5D57EEE28 | AV15: 4049
F16: =ROUND(H16+J16+L16, 0) -> 0 | H16: =ROUND(G16*D16, 0) -> 0 | L16: =ROUND(K16*D16, 0) -> 0 | N16: 57CDB18F91D6F98362F5D57EEE18 | Q16: 010101 | R16: F | S16: F | T16: T | AU16: 01010157CDB18F91D6F98362F5D57EEE18 | AV16: 4048
F21: =ROUND(H21+J21+L21, 0) -> 0 | H21: =ROUND(G21*D21, 0) -> 0 | L21: =ROUND(K21*D21, 0) -> 0 | N21: 57CDB18F91D6F98362F5D57EEE28 | Q21: 010101 | R21: F | S21: F | T21: T | AU21: 01010157CDB18F91D6F98362F5D57EEE28 | AV21: 4049
F22: =ROUND(H22+J22+L22, 0) -> 0 | H22: =ROUND(G22*D22, 0) -> 0 | L22: =ROUND(K22*D22, 0) -> 0 | N22: 57CD4184A2386984C50A807FABF8 | Q22: 010101 | R22: T | S22: F | T22: F | AU22: 01010157CD4184A2386984C50A807FABF8 | AV22: 4050
F23: =ROUND(H23+J23+L23, 0) -> 0 | H23: =ROUND(G23*D23, 0) -> 0 | L23: =ROUND(K23*D23, 0) -> 0 | N23: 57CDB18F91D6598037B95573D338 | Q23: 010101 | R23: F | S23: F | T23: T | AU23: 01010157CDB18F91D6598037B95573D338 | AV23: 4043
F24: =ROUND(H24+J24+L24, 0) -> 0 | H24: =ROUND(G24*D24, 0) -> 0 | L24: =ROUND(K24*D24, 0) -> 0 | N24: 57CDB18F91D6F98362F5D57EEE28 | Q24: 010101 | R24: F | S24: F | T24: T | AU24: 01010157CDB18F91D6F98362F5D57EEE28 | AV24: 4049
F25: =ROUND(H25+J25+L25, 0) -> 0 | H25: =ROUND(G25*D25, 0) -> 0 | L25: =ROUND(K25*D25, 0) -> 0 | N25: 57CDB18F91D6F98362F5D57EEE18 | Q25: 010101 | R25: F | S25: F | T25: T | AU25: 01010157CDB18F91D6F98362F5D57EEE18 | AV25: 4048
... F28: =ROUND(H28+J28+L28, 0) -> 0 | H28: =ROUND(G28*D28, 0) -> 0 | L28: =ROUND(K28*D28, 0) -> 0 | N28: 57CD4184A2383D8F77EB1E7042F8 | Q28: 010101 | R28: T | S28: F | T28: F | AU28: 01010157CD4184A2383D8F77EB1E7042F8 | AV28: 4129

Sheet 일위대가목록
B1: 일 위 대 가 목 록
B2: [ 동부하수처리구역 차집관로 정비사업(1공구)_전기및계측 ]
A3: 코 드 | B3: 품 명 | C3: 규 격 | D3: 단위 | E3: 합 계 | F3: 재 료 비 | G3: 노 무 비 | H3: 경 비 | I3: 번 호 | J3: 비 고 | K3: 노임계수 | L3: 할증 | M3: 장비일위
A4: 505C016DC05253DCE07E94E19AB87A | B4: 1종금속제가요전선관-노출 | C4: 비닐피복, 36mm, 방수 | D4: M | E4: =F4+G4+H4 -> 31859 | F4: =일위대가!H10 -> 3144 | G4: =일위대가!J10 -> 28715 | H4: =일위대가!L10 -> 0 | I4: 호표 1 | J4: 전기 5-1
A5: 505C016DC05253DCE07E94E19AB900 | B5: 1종금속제가요전선관-노출 | C5: 비닐피복, 28mm, 방수 | D5: M | E5: =F5+G5+H5 -> 25691 | F5: =일위대가!H17 -> 1946 | G5: =일위대가!J17 -> 23745 | H5: =일위대가!L17 -> 0 | I5: 호표 2 | J5: 전기 5-1
A6: 505C016DC05253DCE07E94E19ABE82 | B6: 1종금속제가요전선관-노출 | C6: 비닐피복, 22mm, 방수 | D6: M | E6: =F6+G6+H6 -> 20860 | F6: =일위대가!H24 -> 1533 | G6: =일위대가!J24 -> 19327 | H6: =일위대가!L24 -> 0 | I6: 호표 3 | J6: 전기 5-1
A7: 505C016DC07D5170F07293E420FDCF | B7: 0.6/1kv 난연 전력케이블(F-CV) | C7: 3C*6㎟ | D7: M | E7: =F7+G7+H7 -> 12288 | F7: =일위대가!H31 -> 4325 | G7: =일위대가!J31 -> 7963 | H7: =일위대가!L31 -> 0 | I7: 호표 4 | J7: 전기 5-13
A8: 505C016DC07D5170F072948BAAA5E3 | B8: 0.6/1kv 난연 전력케이블(F-CV)-옥외 | C8: 4C*16㎟ | D8: M | E8: =F8+G8+H8 -> 18128 | F8: =일위대가!H39 -> 11553 | G8: =일위대가!J39 -> 6575 | H8: =일위대가!L39 -> 0 | I8: 호표 5 | J8: 전기 4-34
A9: 505C016DC07D5170F072948BAAA107 | B9: 0.6/1kv 난연 전력케이블(F-CV) | C9: 4C*4㎟ | D9: M | E9: =F9+G9+H9 -> 12805 | F9: =일위대가!H46 -> 3924 | G9: =일위대가!J46 -> 8881 | H9: =일위대가!L46 -> 0 | I9: 호표 6 | J9: 전기 5-13
A10: 505C016DC07D506C507419CC181E81 | B10: 0.6/1kv 트레이용 절연난연 제어용케이블(F-CVV) | C10: 2C*2.5㎟ | D10: M | E10: =F10+G10+H10 -> 5932 | F10: =일위대가!H53 -> 1645 | G10: =일위대가!J53 -> 4287 | H10: =일위대가!L53 -> 0 | I10: 호표 7 | J10: 전기 5-13
A11: 505C016DC07D506C507419CC181A26 | B11: 0.6/1kv 트레이용 절연난연 제어용케이블(F-CVV) | C11: 3C*2.5㎟ | D11: M | E11: =F11+G11+H11 -> 7852 | F11: =일위대가!H60 -> 2033 | G11: =일위대가!J60 -> 5819 | H11: =일위대가!L60 -> 0 | I11: 호표 8 | J11: 전기 5-13
A12: 505C016DC07D506C50741BF90D4DCB | B12: 0.6/1kv 트레이용 절연난연 제어용케이블(F-CVV) | C12: 15C*2.5㎟ | D12: M | E12: =F12+G12+H12 -> 26225 | F12: =일위대가!H67 -> 7237 | G12: =일위대가!J67 -> 18988 | H12: =일위대가!L67 -> 0 | I12: 호표 9 | J12: 전기 5-13
A13: 505C016DC07D506C50741BF90CA2E6 | B13: 0.6/1kv 트레이용 절연난연 제어용케이블(F-CVV) | C13: 30C*2.5㎟ | D13: M | E13: =F13+G13+H13 -> 42903 | F13: =일위대가!H74 -> 12889 | G13: =일위대가!J74 -> 30014 | H13: =일위대가!L74 -> 0 | I13: 호표 10 | J13: 전기 5-13
A14: 505C016DC07D506F20799C41CF0C1E | B14: 0.6/1kv 트레이용 제어용케이블(F-CVV-S) | C14: 2C*1.5㎟ | D14: M | E14: =F14+G14+H14 -> 6904 | F14: =일위대가!H81 -> 1759 | G14: =일위대가!J81 -> 5145 | H14: =일위대가!L81 -> 0 | I14: 호표 11 | J14: 전기 5-13
A15: 505C016DC06C5A01607F62360411AE | B15: 난연 비닐절연접지용전선(F-GV)-관내 | C15: 0.6/1kv, 16㎟ | D15: M | E15: =F15+G15+H15 -> 5841 | F15: =일위대가!H88 -> 2942 | G15: =일위대가!J88 -> 2899 | H15: =일위대가!L88 -> 0 | I15: 호표 12 | J15: 전기 3-38
A16: 505C016DC06C5A01607F6236041737 | B16: 난연 비닐절연접지용전선(F-GV)-관내 | C16: 0.6/1kv, 6㎟ | D16: M | E16: =F16+G16+H16 -> 3799 | F16: =일위대가!H95 -> 1315 | G16: =일위대가!J95 -> 2484 | H16: =일위대가!L95 -> 0 | I16: 호표 13 | J16: 전기 3-38
A17: 505C016DC06C5A01607F6236041610 | B17: 난연 비닐절연접지용전선(F-GV)-관내 | C17: 0.6/1kv, 4㎟ | D17: M | E17: =F17+G17+H17 -> 3649 | F17: =일위대가!H102 -> 1165 | G17: =일위대가!J102 -> 2484 | H17: =일위대가!L102 -> 0 | I17: 호표 14 | J17: 전기 3-38
A18: 505C116B7AA854EC10724F7C541BE6 | B18: 전력케이블 단말처리-저압(1 KV 이하) | C18: 1C, 16㎟ | D18: 개소 | E18: =F18+G18+H18 -> 25678 | F18: =일위대가!H108 -> 870 | G18: =일위대가!J108 -> 24808 | H18: =일위대가!L108 -> 0 | I18: 호표 15 | J18: 전기 4-37
A19: 505C016DC014580D60766011930BF9 | B19: 전기수전 | C19: 저압(42C) | D19: 식 | E19: =F19+G19+H19 -> 770625 | F19: =일위대가!H115 -> 99686 | G19: =일위대가!J115 -> 670939 | H19: =일위대가!L115 -> 0 | I19: 호표 16 | J19: 전기 4-29, 전기 5-29
A20: 505C016DC05253DDF0758A141E119A | B20: 강제전선관-철거 | C20: 아연도, 22mm | D20: M | E20: =F20+G20+H20 -> 11261 | F20: =일위대가!H120 -> 328 | G20: =일위대가!J120 -> 10933 | H20: =일위대가!L120 -> 0 | I20: 호표 17 | J20: 전기 5-1
A21: 505C016DC07D5170F0729137ACB6C7 | B21: 0.6/1kv 난연 전력케이블(F-CV)-철거 | C21: 1C*16㎟ | D21: M | E21: =F21+G21+H21 -> 3627 | F21: =일위대가!H125 -> 105 | G21: =일위대가!J125 -> 3522 | H21: =일위대가!L125 -> 0 | I21: 호표 18 | J21: 전기 5-11
A22: 505C016DC07D5170F07293E420FDCE | B22: 0.6/1kv 난연 전력케이블(F-CV)-철거 | C22: 3C*6㎟ | D22: M | E22: =F22+G22+H22 -> 4100 | F22: =일위대가!H130 -> 119 | G22: =일위대가!J130 -> 3981 | H22: =일위대가!L130 -> 0 | I22: 호표 19 | J22: 전기 5-13
A23: 505C016DC07D5170F072948BAAAA62 | B23: 0.6/1kv 난연 전력케이블(F-CV)-옥외-철거 | C23: 4C*25㎟ | D23: M | E23: =F23+G23+H23 -> 3904 | F23: =일위대가!H136 -> 113 | G23: =일위대가!J136 -> 3791 | H23: =일위대가!L136 -> 0 | I23: 호표 20 | J23: 전기 4-34
A24: 505C016DC07D5170F072948BAAA106 | B24: 0.6/1kv 난연 전력케이블(F-CV)-철거 | C24: 4C*4㎟ | D24: M | E24: =F24+G24+H24 -> 4573 | F24: =일위대가!H141 -> 133 | G24: =일위대가!J141 -> 4440 | H24: =일위대가!L141 -> 0 | I24: 호표 21 | J24: 전기 5-13
A25: 505C016DC07D506C507419CC181E80 | B25: 0.6/1kv 트레이용 절연난연 제어용케이블(F-CVV)-철거 | C25: 2C*2.5㎟ | D25: M | E25: =F25+G25+H25 -> 2207 | F25: =일위대가!H146 -> 64 | G25: =일위대가!J146 -> 2143 | H25: =일위대가!L146 -> 0 | I25: 호표 22 | J25: 전기 5-13
A26: 505C016DC07D506C507419CC181A27 | B26: 0.6/1kv 트레이용 절연난연 제어용케이블(F-CVV)-철거 | C26: 3C*2.5㎟ | D26: M | E26: =F26+G26+H26 -> 2996 | F26: =일위대가!H151 -> 87 | G26: =일위대가!J151 -> 2909 | H26: =일위대가!L151 -> 0 | I26: 호표 23 | J26: 전기 5-13
A27: 505C016DC07D506C50741BF90D4DCA | B27: 0.6/1kv 트레이용 절연난연 제어용케이블(F-CVV)-철거 | C27: 15C*2.5㎟ | D27: M | E27: =F27+G27+H27 -> 9778 | F27: =일위대가!H156 -> 284 | G27: =일위대가!J156 -> 9494 | H27: =일위대가!L156 -> 0 | I27: 호표 24 | J27: 전기 5-13
A28: 505C016DC07D506C50741BF90CA2E7 | B28: 0.6/1kv 트레이용 절연난연 제어용케이블(F-CVV)-철거 | C28: 30C*2.5㎟ | D28: M | E28: =F28+G28+H28 -> 15457 | F28: =일위대가!H161 -> 450 | G28: =일위대가!J161 -> 15007 | H28: =일위대가!L161 -> 0 | I28: 호표 25 | J28: 전기 5-13
A29: 505C016DC07D506F20799C41CF0C1F | B29: 0.6/1kv 트레이용 제어용케이블(F-CVV-S)-철거 | C29: 2C*1.5㎟ | D29: M | E29: =F29+G29+H29 -> 2649 | F29: =일위대가!H166 -> 77 | G29: =일위대가!J166 -> 2572 | H29: =일위대가!L166 -> 0 | I29: 호표 26 | J29: 전기 5-13
A30: 505C016DC06C5A01607F62360411AF | B30: 난연 비닐절연접지용전선(F-GV)-관내-철거 | C30: 0.6/1kv, 16㎟ | D30: M | E30: =F30+G30+H30 -> 1492 | F30: =일위대가!H171 -> 43 | G30: =일위대가!J171 -> 1449 | H30: =일위대가!L171 -> 0 | I30: 호표 27 | J30: 전기 3-38
A31: 505C016DC06C5A01607F6236041736 | B31: 난연 비닐절연접지용전선(F-GV)-관내-철거 | C31: 0.6/1kv, 6㎟ | D31: M | E31: =F31+G31+H31 -> 1279 | F31: =일위대가!H176 -> 37 | G31: =일위대가!J176 -> 1242 | H31: =일위대가!L176 -> 0 | I31: 호표 28 | J31: 전기 3-38
A32: 505C016DC06C5A01607F6236041611 | B32: 난연 비닐절연접지용전선(F-GV)-관내-철거 | C32: 0.6/1kv, 4㎟ | D32: M | E32: =F32+G32+H32 -> 1279 | F32: =일위대가!H181 -> 37 | G32: =일위대가!J181 -> 1242 | H32: =일위대가!L181 -> 0 | I32: 호표 29 | J32: 전기 3-38
A33: 505C016DC05253DE907C73FEDA5033 | B33: 파상형경질폴리에틸렌전선관-임시발전기(품 50%적용) | C33: 50㎜ | D33: M | E33: =F33+G33+H33 -> 3937 | F33: =일위대가!H190 -> 910 | G33: =일위대가!J190 -> 3027 | H33: =일위대가!L190 -> 0 | I33: 호표 30 | J33: 전기 4-31
A34: 505C016DC07D5170F072948BAAAA61 | B34: 0.6/1kv 난연 전력케이블(F-CV)-임시발전기(품 50%적용) | C34: 4C*25㎟ | D34: M | E34: =F34+G34+H34 -> 32500 | F34: =일위대가!H197 -> 20556 | G34: =일위대가!J197 -> 11944 | H34: =일위대가!L197 -> 0 | I34: 호표 31 | J34: 전기 5-11
A35: 505C016DC06C5A01607F62360411AC | B35: 난연 비닐절연접지용전선(F-GV)-임시발전기(품 50%적용) | C35: 0.6/1kv, 16㎟, 관내 | D35: M | E35: =F35+G35+H35 -> 3720 | F35: =일위대가!H204 -> 2754 | G35: =일위대가!J204 -> 966 | H35: =일위대가!L204 -> 0 | I35: 호표 32 | J35: 전기 3-38
A36: 505C116B7AA854EC10724F7C541AC0 | B36: 전력케이블 단말처리-저압(1 KV 이하) | C36: 1C, 25㎟ | D36: 개소 | E36: =F36+G36+H36 -> 31416 | F36: =일위대가!H210 -> 1095 | G36: =일위대가!J210 -> 30321 | H36: =일위대가!L210 -> 0 | I36: 호표 33 | J36: 전기 4-37
A37: 505C016DC05253DBC0789211742DAA | B37: 합성수지제가요전선관-매입 | C37: 하이렉스-CD, 16㎜ | D37: M | E37: =F37+G37+H37 -> 11640 | F37: =일위대가!H218 -> 596 | G37: =일위대가!J218 -> 11044 | H37: =일위대가!L218 -> 0 | I37: 호표 34 | J37: 전기 5-1
A38: 505C016DC05253DDF0758A141E1198 | B38: 강제전선관-노출 | C38: 아연도, 28mm | D38: M | E38: =F38+G38+H38 -> 52940 | F38: =일위대가!H226 -> 6554 | G38: =일위대가!J226 -> 46386 | H38: =일위대가!L226 -> 0 | I38: 호표 35 | J38: 전기 5-1
A39: 505C016DC05253DDF0758A141E10F1 | B39: 강제전선관-노출 | C39: 아연도, 22mm | D39: M | E39: =F39+G39+H39 -> 41509 | F39: =일위대가!H234 -> 5063 | G39: =일위대가!J234 -> 36446 | H39: =일위대가!L234 -> 0 | I39: 호표 36 | J39: 전기 5-1
A40: 505C016DC05253D1C0745C702AFC1B | B40: 전선관 지지대 | C40: 28C | D40: 개 | E40: =F40+G40+H40 -> 21597 | F40: =일위대가!H244 -> 1718 | G40: =일위대가!J244 -> 19879 | H40: =일위대가!L244 -> 0 | I40: 호표 37 | J40: 전기품셈 5-29
...

Sheet 일위대가
A1: 일 위 대 가
A2: [ 동부하수처리구역 차집관로 정비사업(1공구)_전기및계측 ]
A3: 품 명 | B3: 규 격 | C3: 단위 | D3: 수량 | E3: 합 계 | G3: 재 료 비 | I3: 노 무 비 | K3: 경 비 | M3: 비 고 | N3: 일위대가 | O3: 품목코드 | P3: 일위 | Q3: 단산 | R3: 자재 | S3: 손료적용 | T3: 손료저장 | U3: 적용율 | V3: JUK1 | W3: JUK2 | X3: JUK3 | Y3: JUK4 | Z3: JUK5 | AA3: JUK6 | AB3: JUK7 | AC3: JUK8 | AD3: JUK9 | AE3: JUK10 | AF3: JUK11 | AG3: JUK12 | AH3: JUK13 | AI3: JUK14 | AJ3: JUK15 | AK3: JUK16 | AL3: JUK17 | AM3: JUK18 | AN3: JUK19 | AO3: JUK20 | AP3: 할증적용 | AQ3: 할증저장 | AR3: 할증율 | AS3: HAL1 | AT3: HAL2 | AU3: HAL3 | AV3: 자재구분 | AW3: 일위대가+자재 | AX3: 장비일위 | AY3: 설정 | AZ3: 할증체크
E4: 단 가 | F4: 금 액 | G4: 단 가 | H4: 금 액 | I4: 단 가 | J4: 금 액 | K4: 단 가 | L4: 금 액
A5: 1종금속제가요전선관-노출 비닐피복, 36mm, 방수 M 전기 5-1 ( 호표 1 ) | N5: 505C016DC05253DCE07E94E19AB87A
A6: 1종금속제가요전선관 | B6: 1종금속제가요전선관, 비닐피복, 36mm, 방수 | C6: M | D6: 1.1 | E6: =TRUNC(G6+I6+K6,1) -> 2035 | F6: =TRUNC(H6+J6+L6,1) -> 2238.5 | G6: =단가대비표!O94 -> 2035 | H6: =TRUNC(G6*D6,1) -> 2238.5 | I6: =단가대비표!P94 -> 0 | J6: =TRUNC(I6*D6,1) -> 0 | K6: =단가대비표!V94 -> 0 | L6: =TRUNC(K6*D6,1) -> 0 | N6: 505C016DC05253DCE07E94E19AB87A | O6: 57392168B22B5EDE007FC3802D3A4B79C4267A | P6: F | Q6: F | R6: T | V6: 1 | AW6: 505C016DC05253DCE07E94E19AB87A57392168B22B5EDE007FC3802D3A4B79C4267A
A7: 잡재료비 | B7: 배관배선의 2% | C7: 식 | D7: 1 | E7: =TRUNC(G7+I7+K7,1) -> 44.7 | F7: =TRUNC(H7+J7+L7,1) -> 44.7 | G7: =TRUNC(SUMIF(V6:V9, RIGHTB(O7, 1), H6:H9)*U7, 2) -> 44.77 | H7: =TRUNC(G7*D7,1) -> 44.7 | I7: 0 | J7: =TRUNC(I7*D7,1) -> 0 | K7: 0 | L7: =TRUNC(K7*D7,1) -> 0 | N7: 505C016DC05253DCE07E94E19AB87A | O7: 5103F16E1D12535A407E8F404786001 | P7: F | Q7: F | R7: F | S7: 0 | T7: 0 | U7: 0.02 | AW7: 505C016DC05253DCE07E94E19AB87A5103F16E1D12535A407E8F404785002
A8: 내선전공 | B8: 일반공사 직종 | C8: 인 | D8: 0.104 | E8: =TRUNC(G8+I8+K8,1) -> 276108 | F8: =TRUNC(H8+J8+L8,1) -> 28715.2 | G8: =단가대비표!O149 -> 0 | H8: =TRUNC(G8*D8,1) -> 0 | I8: =단가대비표!P149 -> 276108 | J8: =TRUNC(I8*D8,1) -> 28715.2 | K8: =단가대비표!V149 -> 0 | L8: =TRUNC(K8*D8,1) -> 0 | N8: 505C016DC05253DCE07E94E19AB87A | O8: 50CE4165153F515D00703BA1C8F8C6FA93812B | P8: F | Q8: F | R8: T | W8: 2 | AW8: 505C016DC05253DCE07E94E19AB87A50CE4165153F515D00703BA1C8F8C6FA93812B
A9: 공구손료 | B9: 인력품의 3% | C9: 식 | D9: 1 | E9: =TRUNC(G9+I9+K9,1) -> 861.4 | F9: =TRUNC(H9+J9+L9,1) -> 861.4 | G9: =TRUNC(SUMIF(W6:W9, RIGHTB(O9, 1), J6:J9)*U9, 2) -> 861.45 | H9: =TRUNC(G9*D9,1) -> 861.4 | I9: 0 | J9: =TRUNC(I9*D9,1) -> 0 | K9: 0 | L9: =TRUNC(K9*D9,1) -> 0 | N9: 505C016DC05253DCE07E94E19AB87A | O9: 5103F16E1D12535A407E8F404785002 | P9: F | Q9: F | R9: F | S9: 1 | T9: 0 | U9: 0.03 | AW9: 505C016DC05253DCE07E94E19AB87A5103F16E1D12535A407E8F404784003
A10: [ 합 계 ] | F10: =H10+J10+L10 -> 31859 | H10: =TRUNC(SUMIF(N6:N9, N5, H6:H9),0) -> 3144 | J10: =TRUNC(SUMIF(N6:N9, N5, J6:J9),0) -> 28715 | L10: =TRUNC(SUMIF(N6:N9, N5, L6:L9),0) -> 0 | N10: TOTAL | O10: TOTAL
A12: 1종금속제가요전선관-노출 비닐피복, 28mm, 방수 M 전기 5-1 ( 호표 2 ) | N12: 505C016DC05253DCE07E94E19AB900
A13: 1종금속제가요전선관 | B13: 1종금속제가요전선관, 비닐피복, 28mm, 방수 | C13: M | D13: 1.1 | E13: =TRUNC(G13+I13+K13,1) -> 1100 | F13: =TRUNC(H13+J13+L13,1) -> 1210 | G13: =단가대비표!O93 -> 1100 | H13: =TRUNC(G13*D13,1) -> 1210 | I13: =단가대비표!P93 -> 0 | J13: =TRUNC(I13*D13,1) -> 0 | K13: =단가대비표!V93 -> 0 | L13: =TRUNC(K13*D13,1) -> 0 | N13: 505C016DC05253DCE07E94E19AB900 | O13: 57392168B22B5EDE007FC3802D3A4B79C4267B | P13: F | Q13: F | R13: T | V13: 1 | AW13: 505C016DC05253DCE07E94E19AB90057392168B22B5EDE007FC3802D3A4B79C4267B
A14: 잡재료비 | B14: 배관배선의 2% | C14: 식 | D14: 1 | E14: =TRUNC(G14+I14+K14,1) -> 24.2 | F14: =TRUNC(H14+J14+L14,1) -> 24.2 | G14: =TRUNC(SUMIF(V13:V16, RIGHTB(O14, 1), H13:H16)*U14, 2) -> 24.2 | H14: =TRUNC(G14*D14,1) -> 24.2 | I14: 0 | J14: =TRUNC(I14*D14,1) -> 0 | K14: 0 | L14: =TRUNC(K14*D14,1) -> 0 | N14: 505C016DC05253DCE07E94E19AB900 | O14: 5103F16E1D12535A407E8F404786001 | P14: F | Q14: F | R14: F | S14: 0 | T14: 0 | U14: 0.02 | AW14: 505C016DC05253DCE07E94E19AB9005103F16E1D12535A407E8F404785002
A15: 내선전공 | B15: 일반공사 직종 | C15: 인 | D15: 0.086 | E15: =TRUNC(G15+I15+K15,1) -> 276108 | F15: =TRUNC(H15+J15+L15,1) -> 23745.2 | G15: =단가대비표!O149 -> 0 | H15: =TRUNC(G15*D15,1) -> 0 | I15: =단가대비표!P149 -> 276108 | J15: =TRUNC(I15*D15,1) -> 23745.2 | K15: =단가대비표!V149 -> 0 | L15: =TRUNC(K15*D15,1) -> 0 | N15: 505C016DC05253DCE07E94E19AB900 | O15: 50CE4165153F515D00703BA1C8F8C6FA93812B | P15: F | Q15: F | R15: T | W15: 2 | AW15: 505C016DC05253DCE07E94E19AB90050CE4165153F515D00703BA1C8F8C6FA93812B
A16: 공구손료 | B16: 인력품의 3% | C16: 식 | D16: 1 | E16: =TRUNC(G16+I16+K16,1) -> 712.3 | F16: =TRUNC(H16+J16+L16,1) -> 712.3 | G16: =TRUNC(SUMIF(W13:W16, RIGHTB(O16, 1), J13:J16)*U16, 2) -> 712.35 | H16: =TRUNC(G16*D16,1) -> 712.3 | I16: 0 | J16: =TRUNC(I16*D16,1) -> 0 | K16: 0 | L16: =TRUNC(K16*D16,1) -> 0 | N16: 505C016DC05253DCE07E94E19AB900 | O16: 5103F16E1D12535A407E8F404785002 | P16: F | Q16: F | R16: F | S16: 1 | T16: 0 | U16: 0.03 | AW16: 505C016DC05253DCE07E94E19AB9005103F16E1D12535A407E8F404784003
A17: [ 합 계 ] | F17: =H17+J17+L17 -> 25691 | H17: =TRUNC(SUMIF(N13:N16, N12, H13:H16),0) -> 1946 | J17: =TRUNC(SUMIF(N13:N16, N12, J13:J16),0) -> 23745 | L17: =TRUNC(SUMIF(N13:N16, N12, L13:L16),0) -> 0 | N17: TOTAL | O17: TOTAL
A19: 1종금속제가요전선관-노출 비닐피복, 22mm, 방수 M 전기 5-1 ( 호표 3 ) | N19: 505C016DC05253DCE07E94E19ABE82
A20: 1종금속제가요전선관 | B20: 1종금속제가요전선관, 비닐피복, 22mm, 방수 | C20: M | D20: 1.1 | E20: =TRUNC(G20+I20+K20,1) -> 850 | F20: =TRUNC(H20+J20+L20,1) -> 935 | G20: =단가대비표!O92 -> 850 | H20: =TRUNC(G20*D20,1) -> 935 | I20: =단가대비표!P92 -> 0 | J20: =TRUNC(I20*D20,1) -> 0 | K20: =단가대비표!V92 -> 0 | L20: =TRUNC(K20*D20,1) -> 0 | N20: 505C016DC05253DCE07E94E19ABE82 | O20: 57392168B22B5EDE007FC3802D3A4B79C4267C | P20: F | Q20: F | R20: T | V20: 1 | AW20: 505C016DC05253DCE07E94E19ABE8257392168B22B5EDE007FC3802D3A4B79C4267C
A21: 잡재료비 | B21: 배관배선의 2% | C21: 식 | D21: 1 | E21: =TRUNC(G21+I21+K21,1) -> 18.7 | F21: =TRUNC(H21+J21+L21,1) -> 18.7 | G21: =TRUNC(SUMIF(V20:V23, RIGHTB(O21, 1), H20:H23)*U21, 2) -> 18.7 | H21: =TRUNC(G21*D21,1) -> 18.7 | I21: 0 | J21: =TRUNC(I21*D21,1) -> 0 | K21: 0 | L21: =TRUNC(K21*D21,1) -> 0 | N21: 505C016DC05253DCE07E94E19ABE82 | O21: 5103F16E1D12535A407E8F404786001 | P21: F | Q21: F | R21: F | S21: 0 | T21: 0 | U21: 0.02 | AW21: 505C016DC05253DCE07E94E19ABE825103F16E1D12535A407E8F404785002
A22: 내선전공 | B22: 일반공사 직종 | C22: 인 | D22: 0.07 | E22: =TRUNC(G22+I22+K22,1) -> 276108 | F22: =TRUNC(H22+J22+L22,1) -> 19327.5 | G22: =단가대비표!O149 -> 0 | H22: =TRUNC(G22*D22,1) -> 0 | I22: =단가대비표!P149 -> 276108 | J22: =TRUNC(I22*D22,1) -> 19327.5 | K22: =단가대비표!V149 -> 0 | L22: =TRUNC(K22*D22,1) -> 0 | N22: 505C016DC05253DCE07E94E19ABE82 | O22: 50CE4165153F515D00703BA1C8F8C6FA93812B | P22: F | Q22: F | R22: T | W22: 2 | AW22: 505C016DC05253DCE07E94E19ABE8250CE4165153F515D00703BA1C8F8C6FA93812B
A23: 공구손료 | B23: 인력품의 3% | C23: 식 | D23: 1 | E23: =TRUNC(G23+I23+K23,1) -> 579.8 | F23: =TRUNC(H23+J23+L23,1) -> 579.8 | G23: =TRUNC(SUMIF(W20:W23, RIGHTB(O23, 1), J20:J23)*U23, 2) -> 579.82 | H23: =TRUNC(G23*D23,1) -> 579.8 | I23: 0 | J23: =TRUNC(I23*D23,1) -> 0 | K23: 0 | L23: =TRUNC(K23*D23,1) -> 0 | N23: 505C016DC05253DCE07E94E19ABE82 | O23: 5103F16E1D12535A407E8F404785002 | P23: F | Q23: F | R23: F | S23: 1 | T23: 0 | U23: 0.03 | AW23: 505C016DC05253DCE07E94E19ABE825103F16E1D12535A407E8F404784003
A24: [ 합 계 ] | F24: =H24+J24+L24 -> 20860 | H24: =TRUNC(SUMIF(N20:N23, N19, H20:H23),0) -> 1533 | J24: =TRUNC(SUMIF(N20:N23, N19, J20:J23),0) -> 19327 | L24: =TRUNC(SUMIF(N20:N23, N19, L20:L23),0) -> 0 | N24: TOTAL | O24: TOTAL
A26: 0.6/1kv 난연 전력케이블(F-CV) 3C*6㎟ M 전기 5-13 ( 호표 4 ) | N26: 505C016DC07D5170F07293E420FDCF
A27: 600V폴리에틸렌케이블 | B27: 600V폴리에틸렌케이블, 0.6/1kv, F-CV, 3C*6㎟ | C27: M | D27: 1.05 | E27: =TRUNC(G27+I27+K27,1) -> 3816 | F27: =TRUNC(H27+J27+L27,1) -> 4006.8 | G27: =단가대비표!O35 -> 3816 | H27: =TRUNC(G27*D27,1) -> 4006.8 | I27: =단가대비표!P35 -> 0 | J27: =TRUNC(I27*D27,1) -> 0 | K27: =단가대비표!V35 -> 0 | L27: =TRUNC(K27*D27,1) -> 0 | N27: 505C016DC07D5170F07293E420FDCF | O27: 572F2164E3095918A0770FD923B73CE1244FF7 | P27: F | Q27: F | R27: T | V27: 1 | AW27: 505C016DC07D5170F07293E420FDCF572F2164E3095918A0770FD923B73CE1244FF7
A28: 잡재료비 | B28: 배관배선의 2% | C28: 식 | D28: 1 | E28: =TRUNC(G28+I28+K28,1) -> 80.1 | F28: =TRUNC(H28+J28+L28,1) -> 80.1 | G28: =TRUNC(SUMIF(V27:V30, RIGHTB(O28, 1), H27:H30)*U28, 2) -> 80.13 | H28: =TRUNC(G28*D28,1) -> 80.1 | I28: 0 | J28: =TRUNC(I28*D28,1) -> 0 | K28: 0 | L28: =TRUNC(K28*D28,1) -> 0 | N28: 505C016DC07D5170F07293E420FDCF | O28: 5103F16E1D12535A407E8F404786001 | P28: F | Q28: F | R28: F | S28: 0 | T28: 0 | U28: 0.02 | AW28: 505C016DC07D5170F07293E420FDCF5103F16E1D12535A407E8F404786001
A29: 저압케이블전공 | B29: 일반공사 직종 | C29: 인 | D29: 0.026 | E29: =TRUNC(G29+I29+K29,1) -> 306274 | F29: =TRUNC(H29+J29+L29,1) -> 7963.1 | G29: =단가대비표!O150 -> 0 | H29: =TRUNC(G29*D29,1) -> 0 | I29: =단가대비표!P150 -> 306274 | J29: =TRUNC(I29*D29,1) -> 7963.1 | K29: =단가대비표!V150 -> 0 | L29: =TRUNC(K29*D29,1) -> 0 | N29: 505C016DC07D5170F07293E420FDCF | O29: 50CE4165153F515D00703BA1C8F8C6FA938126 | P29: F | Q29: F | R29: T | W29: 2 | AW29: 505C016DC07D5170F07293E420FDCF50CE4165153F515D00703BA1C8F8C6FA938126
A30: 공구손료 | B30: 인력품의 3% | C30: 식 | D30: 1 | E30: =TRUNC(G30+I30+K30,1) -> 238.8 | F30: =TRUNC(H30+J30+L30,1) -> 238.8 | G30: =TRUNC(SUMIF(W27:W30, RIGHTB(O30, 1), J27:J30)*U30, 2) -> 238.89 | H30: =TRUNC(G30*D30,1) -> 238.8 | I30: 0 | J30: =TRUNC(I30*D30,1) -> 0 | K30: 0 | L30: =TRUNC(K30*D30,1) -> 0 | N30: 505C016DC07D5170F07293E420FDCF | O30: 5103F16E1D12535A407E8F404785002 | P30: F | Q30: F | R30: F | S30: 1 | T30: 0 | U30: 0.03 | AW30: 505C016DC07D5170F07293E420FDCF5103F16E1D12535A407E8F404785002
A31: [ 합 계 ] | F31: =H31+J31+L31 -> 12288 | H31: =TRUNC(SUMIF(N27:N30, N26, H27:H30),0) -> 4325 | J31: =TRUNC(SUMIF(N27:N30, N26, J27:J30),0) -> 7963 | L31: =TRUNC(SUMIF(N27:N30, N26, L27:L30),0) -> 0 | N31: TOTAL | O31: TOTAL
A33: 0.6/1kv 난연 전력케이블(F-CV)-옥외 4C*16㎟ M 전기 4-34 ( 호표 5 ) | N33: 505C016DC07D5170F072948BAAA5E3
A34: 600V폴리에틸렌케이블-옥외 | B34: 600V폴리에틸렌케이블, 0.6/1kv, F-CV, 4C*16㎟ | C34: M | D34: 1.03 | E34: =TRUNC(G34+I34+K34,1) -> 10809 | F34: =TRUNC(H34+J34+L34,1) -> 11133.2 | G34: =단가대비표!O39 -> 10809 | H34: =TRUNC(G34*D34,1) -> 11133.2 | I34: =단가대비표!P39 -> 0 | J34: =TRUNC(I34*D34,1) -> 0 | K34: =단가대비표!V39 -> 0 | L34: =TRUNC(K34*D34,1) -> 0 | N34: 505C016DC07D5170F072948BAAA5E3 | O34: 572F2164E3095918A0770FD923B73CE124484D | P34: F | Q34: F | R34: T | V34: 1 | AW34: 505C016DC07D5170F072948BAAA5E3572F2164E3095918A0770FD923B73CE124484D
A35: 잡재료비 | B35: 배관배선의 2% | C35: 식 | D35: 1 | E35: =TRUNC(G35+I35+K35,1) -> 222.6 | F35: =TRUNC(H35+J35+L35,1) -> 222.6 | G35: =TRUNC(SUMIF(V34:V38, RIGHTB(O35, 1), H34:H38)*U35, 2) -> 222.66 | H35: =TRUNC(G35*D35,1) -> 222.6 | I35: 0 | J35: =TRUNC(I35*D35,1) -> 0 | K35: 0 | L35: =TRUNC(K35*D35,1) -> 0 | N35: 505C016DC07D5170F072948BAAA5E3 | O35: 5103F16E1D12535A407E8F404786001 | P35: F | Q35: F | R35: F | S35: 0 | T35: 0 | U35: 0.02 | AW35: 505C016DC07D5170F072948BAAA5E35103F16E1D12535A407E8F404786001
A36: 보통인부 | B36: 일반공사 직종 | C36: 인 | D36: 0.013728 | E36: =TRUNC(G36+I36+K36,1) -> 172698 | F36: =TRUNC(H36+J36+L36,1) -> 2370.7 | G36: =단가대비표!O144 -> 0 | H36: =TRUNC(G36*D36,1) -> 0 | I36: =단가대비표!P144 -> 172698 | J36: =TRUNC(I36*D36,1) -> 2370.7 | K36: =단가대비표!V144 -> 0 | L36: =TRUNC(K36*D36,1) -> 0 | M36: 0.00528*2.6 | N36: 505C016DC07D5170F072948BAAA5E3 | O36: 50CE4165153F515D00703BA1C8F8C6FA938692 | P36: F | Q36: F | R36: T | W36: 2 | AW36: 505C016DC07D5170F072948BAAA5E350CE4165153F515D00703BA1C8F8C6FA938692
A37: 저압케이블전공 | B37: 일반공사 직종 | C37: 인 | D37: 0.013728 | E37: =TRUNC(G37+I37+K37,1) -> 306274 | F37: =TRUNC(H37+J37+L37,1) -> 4204.5 | G37: =단가대비표!O150 -> 0 | H37: =TRUNC(G37*D37,1) -> 0 | I37: =단가대비표!P150 -> 306274 | J37: =TRUNC(I37*D37,1) -> 4204.5 | K37: =단가대비표!V150 -> 0 | L37: =TRUNC(K37*D37,1) -> 0 | M37: 0.00528*2.6 | N37: 505C016DC07D5170F072948BAAA5E3 | O37: 50CE4165153F515D00703BA1C8F8C6FA938126 | P37: F | Q37: F | R37: T | W37: 2 | AW37: 505C016DC07D5170F072948BAAA5E350CE4165153F515D00703BA1C8F8C6FA938126
A38: 공구손료 | B38: 인력품의 3% | C38: 식 | D38: 1 | E38: =TRUNC(G38+I38+K38,1) -> 197.2 | F38: =TRUNC(H38+J38+L38,1) -> 197.2 | G38: =TRUNC(SUMIF(W34:W38, RIGHTB(O38, 1), J34:J38)*U38, 2) -> 197.25 | H38: =TRUNC(G38*D38,1) -> 197.2 | I38: 0 | J38: =TRUNC(I38*D38,1) -> 0 | K38: 0 | L38: =TRUNC(K38*D38,1) -> 0 | N38: 505C016DC07D5170F072948BAAA5E3 | O38: 5103F16E1D12535A407E8F404785002 | P38: F | Q38: F | R38: F | S38: 1 | T38: 0 | U38: 0.03 | AW38: 505C016DC07D5170F072948BAAA5E35103F16E1D12535A407E8F404785002
A39: [ 합 계 ] | F39: =H39+J39+L39 -> 18128 | H39: =TRUNC(SUMIF(N34:N38, N33, H34:H38),0) -> 11553 | J39: =TRUNC(SUMIF(N34:N38, N33, J34:J38),0) -> 6575 | L39: =TRUNC(SUMIF(N34:N38, N33, L34:L38),0) -> 0 | N39: TOTAL | O39: TOTAL
A41: 0.6/1kv 난연 전력케이블(F-CV) 4C*4㎟ M 전기 5-13 ( 호표 6 ) | N41: 505C016DC07D5170F072948BAAA107
A42: 600V폴리에틸렌케이블 | B42: 600V폴리에틸렌케이블, 0.6/1kv, F-CV, 4C*4㎟ | C42: M | D42: 1.05 | E42: =TRUNC(G42+I42+K42,1) -> 3416 | F42: =TRUNC(H42+J42+L42,1) -> 3586.8 | G42: =단가대비표!O36 -> 3416 | H42: =TRUNC(G42*D42,1) -> 3586.8 | I42: =단가대비표!P36 -> 0 | J42: =TRUNC(I42*D42,1) -> 0 | K42: =단가대비표!V36 -> 0 | L42: =TRUNC(K42*D42,1) -> 0 | N42: 505C016DC07D5170F072948BAAA107 | O42: 572F2164E3095918A0770FD923B73CE1244968 | P42: F | Q42: F | R42: T | V42: 1 | AW42: 505C016DC07D5170F072948BAAA107572F2164E3095918A0770FD923B73CE1244968
A43: 잡재료비 | B43: 배관배선의 2% | C43: 식 | D43: 1 | E43: =TRUNC(G43+I43+K43,1) -> 71.7 | F43: =TRUNC(H43+J43+L43,1) -> 71.7 | G43: =TRUNC(SUMIF(V42:V45, RIGHTB(O43, 1), H42:H45)*U43, 2) -> 71.73 | H43: =TRUNC(G43*D43,1) -> 71.7 | I43: 0 | J43: =TRUNC(I43*D43,1) -> 0 | K43: 0 | L43: =TRUNC(K43*D43,1) -> 0 | N43: 505C016DC07D5170F072948BAAA107 | O43: 5103F16E1D12535A407E8F404786001 | P43: F | Q43: F | R43: F | S43: 0 | T43: 0 | U43: 0.02 | AW43: 505C016DC07D5170F072948BAAA1075103F16E1D12535A407E8F404786001
A44: 저압케이블전공 | B44: 일반공사 직종 | C44: 인 | D44: 0.029 | E44: =TRUNC(G44+I44+K44,1) -> 306274 | F44: =TRUNC(H44+J44+L44,1) -> 8881.9 | G44: =단가대비표!O150 -> 0 | H44: =TRUNC(G44*D44,1) -> 0 | I44: =단가대비표!P150 -> 306274 | J44: =TRUNC(I44*D44,1) -> 8881.9 | K44: =단가대비표!V150 -> 0 | L44: =TRUNC(K44*D44,1) -> 0 | N44: 505C016DC07D5170F072948BAAA107 | O44: 50CE4165153F515D00703BA1C8F8C6FA938126 | P44: F | Q44: F | R44: T | W44: 2 | AW44: 505C016DC07D5170F072948BAAA10750CE4165153F515D00703BA1C8F8C6FA938126
A45: 공구손료 | B45: 인력품의 3% | C45: 식 | D45: 1 | E45: =TRUNC(G45+I45+K45,1) -> 266.4 | F45: =TRUNC(H45+J45+L45,1) -> 266.4 | G45: =TRUNC(SUMIF(W42:W45, RIGHTB(O45, 1), J42:J45)*U45, 2) -> 266.45 | H45: =TRUNC(G45*D45,1) -> 266.4 | I45: 0 | J45: =TRUNC(I45*D45,1) -> 0 | K45: 0 | L45: =TRUNC(K45*D45,1) -> 0 | N45: 505C016DC07D5170F072948BAAA107 | O45: 5103F16E1D12535A407E8F404785002 | P45: F | Q45: F | R45: F | S45: 1 | T45: 0 | U45: 0.03 | AW45: 505C016DC07D5170F072948BAAA1075103F16E1D12535A407E8F404785002
...

Sheet 중기단가목록
B1: 중 기 단 가 목 록
B2: [ 동부하수처리구역 차집관로 정비사업(1공구)_전기및계측 ]
A3: 코 드 | B3: 품 명 | C3: 규 격 | D3: 단위 | E3: 합 계 | F3: 재 료 비 | G3: 노 무 비 | H3: 경 비 | I3: 번 호 | J3: 비 고 | K3: START
A4: 503F316550D3566BA07E3852B5C613 | B4: 터파기/토사 | C4: 보통, 굴삭기 0.7m3 90%, 인력10% | D4: M3 | E4: =중기단가산출서!B27 -> 5019 | F4: =중기단가산출서!C27 -> 325 | G4: =중기단가산출서!D27 -> 4342 | H4: =중기단가산출서!E27 -> 352 | I4: 산근 1 | J4: 공통 8-2-3 | K4: 503F316550D3566BA07E3852B5C613
A5: 503F31658C1B5A15907CE3FF38E558 | B5: 되메우기/토사, 두께 10cm | C5: 보통, 굴삭기 0.7m3+플레이트콤팩터 1.5ton+인력 10% | D5: M3 | E5: =중기단가산출서!B65 -> 7432 | F5: =중기단가산출서!C65 -> 427 | G5: =중기단가산출서!D65 -> 6690 | H5: =중기단가산출서!E65 -> 315 | I5: 산근 2 | J5: 공통 8-2-3+10 | K5: 503F31658C1B5A15907CE3FF38E558

Sheet 중기단가산출서
A1: 중 기 단 가 산 출 서
A2: [ 동부하수처리구역 차집관로 정비사업(1공구)_전기및계측 ]
A3: 산 출 내 역 | B3: 합 계 | C3: 재 료 비 | D3: 노 무 비 | E3: 경 비 | F3: 비 고 | G3: START | H3: 코드 | I3: 품명 | J3: 규격 | K3: 단위 | L3: 수량 | M3: 변수 | N3: 값 | O3: 소계 | P3: 소계 | Q3: 소계 | R3: 소계 | S3: 소계 | T3: 총계
A4: 터파기/토사 보통, 굴삭기 0.7m3 90%, 인력10% M3 공통 8-2-3 ( 산근 1 ) | G4: 503F316550D3566BA07E3852B5C613 | I4: 터파기/토사 | J4: 보통, 굴삭기 0.7m3 90%, 인력10% | K4: M3
G5: 503F316550D3566BA07E3852B5C613 | H5: C | L5: 1
A6: 굴삭기(무한궤도),0.7㎥90%+인력10% M3 | B6: 0 | C6: 0 | D6: 0 | E6: 0 | G6: 503F316550D3566BA07E3852B5C613 | H6: C! | I6: '굴삭기(무한궤도),0.7㎥90%+인력10% M3'
