Workbook
Name __: #REF!
Name __: #REF!
Name ___NMB96: #REF!
Name ___NMB96: #REF!
Name __A100000: #REF!
Name __A100000: #REF!
Name __A66000: #REF!
Name __A66000: #REF!
Name __A67000: #REF!
Name __A67000: #REF!
Name __A68000: #REF!
Name __A68000: #REF!
Name __A80000: #REF!
Name __A80000: #REF!
Name __DemandLoad: TRUE
Name __dmf1: {"'Firr(선)'!$AS$1:$AY$62","'Firr(사)'!$AS$1:$AY$62","'Firr(회)'!$AS$1:$AY$62","'Firr(선)'!$L$1:$V$62","'Firr(사)'!$L$1:$V$62","'Firr(회)'!$L$1:$V$62"}
Name __DOG1: #REF!
Name __DOG1: #REF!
Name __DOG2: #REF!
Name __DOG2: #REF!
Name __DOG22: #REF!
Name __DOG22: #REF!
Name __DOG3: #REF!
Name __DOG3: #REF!
Name __DOG33: #REF!
Name __DOG33: #REF!
Name __DOG4: #REF!
Name __DOG4: #REF!
Name __IntlFixup: TRUE
Name __NMB96: #REF!
Name __NMB96: #REF!
Name __PI48: #REF!
Name __PI48: #REF!
Name __PI60: #REF!
Name __PI60: #REF!
Name __RO110: #REF!
Name __RO110: #REF!
Name __RO22: #REF!
Name __RO22: #REF!
Name __RO35: #REF!
Name __RO35: #REF!
Name __RO45: #REF!
Name __RO45: #REF!
Name __RO60: #REF!
Name __RO60: #REF!
Name __RO80: #REF!
Name __RO80: #REF!
Name __SUB1: #REF!
Name __SUB1: #REF!
Name __SUB2: #REF!
Name __SUB2: #REF!
Name __SUB3: #REF!
Name __SUB3: #REF!
Name __sub4: #REF!
Name __sub4: #REF!
Name __sub5: #REF!
Name __sub5: #REF!
Name __TON1: #REF!
Name __TON1: #REF!
Name __TON2: #REF!

Sheet 갑지
A1: 2026 년 10월 일 | D1: 담당자 | F1: 과 장 | H1: 부 장 | J1: 본부장
B3: 2026년도
A5: 동부하수처리구역 차집관로 정비사업(1공구) 전기 및 계측제어공사 설계내역서
C7: ·공사위치 : | D7: 제주특별자치도 제주시 조천, 구좌읍 일원
C8: ·공사개요 : | D8: 전기 및 계측제어공사 1식
C10: 총공사금액: | D10: =D12+D14+D16+D18+D20 -> 473790000 | G10: ="(금"&NUMBERSTRING(D10,1)&"원)" -> (금사억칠천삼백칠십구만원)
C12: 도 급 금 액: | D12: =M12 -> 243889000 | G12: ="(금"&NUMBERSTRING(D12,1)&"원)" -> (금이억사천삼백팔십팔만구천원) | M12: =원가계산서!E31 -> 243889000
C14: 관급자관급 | D14: =M14 -> 190377000 | G14: ="(금"&NUMBERSTRING(D14,1)&"원)" -> (금일억구천삼십칠만칠천원) | M14: =원가계산서!E32 -> 190377000
C16: 도급자관급 | D16: =M16 -> 25584000 | G16: ="(금"&NUMBERSTRING(D16,1)&"원)" -> (금이천오백오십팔만사천원) | M16: =원가계산서!E33 -> 25584000
C18: 한전수탁비 | D18: =M18 -> 13940000 | G18: ="(금"&NUMBERSTRING(D18,1)&"원)" -> (금일천삼백구십사만원) | M18: =원가계산서!E34 -> 13940000

Sheet 원가계산서
B1: 공 사 원 가 계 산 서
B2: [ 동부하수처리구역 차집관로 정비사업(1공구)_전기및계측 ] | H2: 공사기간 30개월(제비율 26.04.13 기준)
B3: 비 목 | E3: 금 액 | F3: 구 성 비 | H3: 비 고
A4: A1 | B4: 순 공 사 원 가 | C4: 재 료 비 | D4: 직 접 재 료 비 | E4: =공종별집계표!H6 -> 57560653
A5: A2 | D5: 간 접 재 료 비 | E5: 0
A6: A3 | D6: 작업설, 부산물(△) | E6: 0
A7: AS | D7: [ 소 계 ] | E7: =TRUNC(E4+E5-E6, 0) -> 57560653
A8: B1 | C8: 노 무 비 | D8: 직 접 노 무 비 | E8: =공종별집계표!J6 -> 79368248
A9: B2 | D9: 간 접 노 무 비 | E9: =TRUNC(E8*F9, 0) -> 15714913 | F9: 0.198 | G9: x 직접노무비
A10: BS | D10: [ 소 계 ] | E10: =TRUNC(E8+E9, 0) -> 95083161
A11: C2 | C11: 경 비 | D11: 기 계 경 비 | E11: =공종별집계표!L6 -> 4997936
A12: C4 | D12: 산 재 보 험 료 | E12: =TRUNC(E10*F12, 0) -> 3384960 | F12: 0.0356 | G12: x 노무비
A13: C5 | D13: 고 용 보 험 료 | E13: =TRUNC(E10*F13, 0) -> 960339 | F13: 0.0101 | G13: x 노무비
A14: C6 | D14: 국민 건강 보험료 | E14: =TRUNC(E8*F14, 0) -> 2853288 | F14: 0.03595 | G14: x 직접노무비
A15: C7 | D15: 국민 연금 보험료 | E15: =TRUNC(E8*F15, 0) -> 3769991 | F15: 0.0475 | G15: x 직접노무비
A16: CB | D16: 노인장기요양보험료 | E16: =TRUNC(E14*F16, 0) -> 374922 | F16: 0.1314 | G16: x 건강보험료
D17: 퇴직 공제 부금비 | E17: =TRUNC(E8*F17,0) -> 1825469 | F17: 0.023 | G17: x 직접노무비 | H17: 추정금액 1억 이상일 경우 적용
A18: CA | D18: 산업안전보건관리비 | E18: =TRUNC((E7+E8+(E33/1.1))*F18, 0) -> 5045893 | F18: 0.0315 | G18: x (재료비 + 직접노무비 + 도급자관급) a | H18: 총 공사금액 2천만원 이상 건설공사
E19: =TRUNC(((E7+E8)*F19)*1.2, 0) -> 5175912 | F19: 0.0315 | G19: x (재료비 + 직접노무비)* 1.2 b
A20: CG | D20: 석 면 분 담 금 | E20: =TRUNC(E10*F20, 0) -> 5704 | F20: 6e-05 | G20: x 노무비
A21: CG | D21: 임금 채권 부담금 | E21: =TRUNC(E10*F21, 0) -> 85574 | F21: 0.0009 | G21: x 노무비
A22: CG | D22: 기 타 경 비 | E22: =TRUNC((E7+E10)*F22, 0) -> 9311272 | F22: 0.061 | G22: x (재료비+노무비)
A23: CS | D23: [ 소 계 ] | E23: =TRUNC(E11+E12+E13+E14+E15+E16+E17+E20+E21+E22+MIN(E18:E19), 0) -> 32615348
A24: S1 | B24: 계 | E24: =TRUNC(E7+E10+E23, 0) -> 185259162
A25: D1 | B25: 일 반 관 리 비 | E25: =TRUNC(E24*F25, 0) -> 14820732 | F25: 0.08 | G25: x 계
A26: D2 | B26: 이 윤 | E26: =TRUNC((E10+E23+E25)*F26)-6353 -> 21371533 | F26: 0.15 | G26: x (노무비+경비+일반관리비) | H26: - 6,353원
A27: D9 | B27: 고 재 처 리 비 | E27: =고재처리비!F6 -> -381054
A28: D9 | B28: 공 급 가 액 | E28: =TRUNC(E24+E25+E26+E27, 0) -> 221070373
B29: 손 해 배 상 공 제 료 | E29: =TRUNC((E28+(E33/1.1))*F29,-2) -> 646900 | F29: 0.0026477 | G29: x (공급가액+도급자관급)
A30: DB | B30: 부 가 가 치 세 | E30: =TRUNC((E28+E29)*F30, 0) -> 22171727 | F30: 0.1 | G30: x 공급가액
A31: DH | B31: 도 급 액 | E31: =TRUNC(E28+E29+E30, 0) -> 243889000
B32: 관 급 자 재 | D32: 관 급 자 관 급 자 재 비 | E32: =공종별집계표!F30 -> 190377000
A33: DJ | D33: 도 급 자 관 급 자 재 비 | E33: =공종별집계표!F36 -> 25584000
A34: DH | B34: 한 전 수 탁 비 | E34: =공종별집계표!F40 -> 13940000
A35: S2 | B35: 총 공 사 비 | E35: =TRUNC(E31+E32+E33+E34, 0) -> 473790000
D37: 26.07.09 | E37: 26.09.29
D38: 485400601 | E38: 491296988
D39: 485400000 | E39: 491290000
D40: =D38-D39 -> 601 | E40: =E38-E39 -> 6988
D41: =D40/1.1 -> 546.36364 | E41: =E40/1.1 -> 6352.7273

Sheet 공종별집계표
A1: 공 종 별 집 계 표
A2: [ 동부하수처리구역 차집관로 정비사업(1공구)_전기및계측 ]
A3: 품 명 | B3: 규 격 | C3: 단위 | D3: 수량 | E3: 합 계 | G3: 재 료 비 | I3: 노 무 비 | K3: 경 비 | M3: 비 고 | N3: 공종코드 | O3: 변수 | P3: 상위공종 | Q3: 공종구분 | R3: 공종레벨 | S3: 공종소계 | T3: 원가계산서 연결금액
E4: 단 가 | F4: 금 액 | G4: 단 가 | H4: 금 액 | I4: 단 가 | J4: 금 액 | K4: 단 가 | L4: 금 액
A5: 동부하수처리구역 차집관로 정비사업 기본 및 실시설계(전기및계측) | D5: 1 | E5: =G5+I5+K5 -> 371827837 | F5: =H5+J5+L5 -> 371827837 | G5: =H6+H29+H40 -> 287461653 | H5: =G5*D5 -> 287461653 | I5: =J6+J29+J40 -> 79368248 | J5: =I5*D5 -> 79368248 | K5: =L6+L29+L40 -> 4997936 | L5: =K5*D5 -> 4997936 | N5: 01 | R5: 1
A6: 1. 도급공사 | D6: 1 | E6: =G6+I6+K6 -> 141926837 | F6: =H6+J6+L6 -> 141926837 | G6: =H7+H12+H20+H25+H28 -> 57560653 | H6: =G6*D6 -> 57560653 | I6: =J7+J12+J20+J25+J28 -> 79368248 | J6: =I6*D6 -> 79368248 | K6: =L7+L12+L20+L25+L28 -> 4997936 | L6: =K6*D6 -> 4997936 | N6: 0101 | P6: 01 | R6: 2
A7: 1.1 신촌 중계펌프장 | D7: 1 | E7: =G7+I7+K7 -> 7971422 | F7: =H7+J7+L7 -> 7971422 | G7: =H8 -> 1883776 | H7: =G7*D7 -> 1883776 | I7: =J8 -> 6087646 | J7: =I7*D7 -> 6087646 | K7: =L8 -> 0 | L7: =K7*D7 -> 0 | N7: 010101 | P7: 0101 | R7: 3
A8: 1.1.1 전력간선 및 동력설비공사 | D8: 1 | E8: =G8+I8+K8 -> 7971422 | F8: =H8+J8+L8 -> 7971422 | G8: =H9+H10+H11 -> 1883776 | H8: =G8*D8 -> 1883776 | I8: =J9+J10+J11 -> 6087646 | J8: =I8*D8 -> 6087646 | K8: =L9+L10+L11 -> 0 | L8: =K8*D8 -> 0 | N8: 01010101 | P8: 010101 | R8: 4
A9: 1.1.1.1 설치공사 | D9: 1 | E9: =G9+I9+K9 -> 5553186 | F9: =H9+J9+L9 -> 5553186 | G9: =공종별내역서!H29 -> 1466075 | H9: =G9*D9 -> 1466075 | I9: =공종별내역서!J29 -> 4087111 | J9: =I9*D9 -> 4087111 | K9: =공종별내역서!L29 -> 0 | L9: =K9*D9 -> 0 | N9: 0101010101 | P9: 01010101 | R9: 5
A10: 1.1.1.2 철거공사 | D10: 1 | E10: =G10+I10+K10 -> 1513197 | F10: =H10+J10+L10 -> 1513197 | G10: =공종별내역서!H54 -> 43901 | H10: =G10*D10 -> 43901 | I10: =공종별내역서!J54 -> 1469296 | J10: =I10*D10 -> 1469296 | K10: =공종별내역서!L54 -> 0 | L10: =K10*D10 -> 0 | N10: 0101010102 | P10: 01010101 | R10: 5
A11: 1.1.1.3 임시발전기 케이블공사 | D11: 1 | E11: =G11+I11+K11 -> 905039 | F11: =H11+J11+L11 -> 905039 | G11: =공종별내역서!H79 -> 373800 | H11: =G11*D11 -> 373800 | I11: =공종별내역서!J79 -> 531239 | J11: =I11*D11 -> 531239 | K11: =공종별내역서!L79 -> 0 | L11: =K11*D11 -> 0 | N11: 0101010103 | P11: 01010101 | R11: 5
A12: 1.2 조천 중계펌프장 | D12: 1 | E12: =G12+I12+K12 -> 71450281 | F12: =H12+J12+L12 -> 71450281 | G12: =H13+H17 -> 30081061 | H12: =G12*D12 -> 30081061 | I12: =J13+J17 -> 41367167 | J12: =I12*D12 -> 41367167 | K12: =L13+L17 -> 2053 | L12: =K12*D12 -> 2053 | N12: 010102 | P12: 0101 | R12: 3
A13: 1.2.1 전력간선 및 동력설비공사 | D13: 1 | E13: =G13+I13+K13 -> 67081951 | F13: =H13+J13+L13 -> 67081951 | G13: =H14+H15+H16 -> 28721979 | H13: =G13*D13 -> 28721979 | I13: =J14+J15+J16 -> 38357919 | J13: =I13*D13 -> 38357919 | K13: =L14+L15+L16 -> 2053 | L13: =K13*D13 -> 2053 | N13: 01010201 | P13: 010102 | R13: 4
A14: 1.2.1.1 설치공사 | D14: 1 | E14: =G14+I14+K14 -> 51920901 | F14: =H14+J14+L14 -> 51920901 | G14: =공종별내역서!H129 -> 23841108 | H14: =G14*D14 -> 23841108 | I14: =공종별내역서!J129 -> 28077740 | J14: =I14*D14 -> 28077740 | K14: =공종별내역서!L129 -> 2053 | L14: =K14*D14 -> 2053 | N14: 0101020101 | P14: 01010201 | R14: 5
A15: 1.2.1.2 철거공사 | D15: 1 | E15: =G15+I15+K15 -> 8032714 | F15: =H15+J15+L15 -> 8032714 | G15: =공종별내역서!H154 -> 233229 | H15: =G15*D15 -> 233229 | I15: =공종별내역서!J154 -> 7799485 | J15: =I15*D15 -> 7799485 | K15: =공종별내역서!L154 -> 0 | L15: =K15*D15 -> 0 | N15: 0101020102 | P15: 01010201 | R15: 5
A16: 1.2.1.3 임시발전기 케이블공사 | D16: 1 | E16: =G16+I16+K16 -> 7128336 | F16: =H16+J16+L16 -> 7128336 | G16: =공종별내역서!H179 -> 4647642 | H16: =G16*D16 -> 4647642 | I16: =공종별내역서!J179 -> 2480694 | J16: =I16*D16 -> 2480694 | K16: =공종별내역서!L179 -> 0 | L16: =K16*D16 -> 0 | N16: 0101020103 | P16: 01010201 | R16: 5
A17: 1.2.2 케이블트레이공사 | D17: 1 | E17: =G17+I17+K17 -> 4368330 | F17: =H17+J17+L17 -> 4368330 | G17: =H18+H19 -> 1359082 | H17: =G17*D17 -> 1359082 | I17: =J18+J19 -> 3009248 | J17: =I17*D17 -> 3009248 | K17: =L18+L19 -> 0 | L17: =K17*D17 -> 0 | N17: 01010202 | P17: 010102 | R17: 4
A18: 1.2.2.1 설치공사 | D18: 1 | E18: =G18+I18+K18 -> 3188427 | F18: =H18+J18+L18 -> 3188427 | G18: =공종별내역서!H204 -> 1324734 | H18: =G18*D18 -> 1324734 | I18: =공종별내역서!J204 -> 1863693 | J18: =I18*D18 -> 1863693 | K18: =공종별내역서!L204 -> 0 | L18: =K18*D18 -> 0 | N18: 0101020201 | P18: 01010202 | R18: 5
A19: 1.2.2.2 철거공사 | D19: 1 | E19: =G19+I19+K19 -> 1179903 | F19: =H19+J19+L19 -> 1179903 | G19: =공종별내역서!H229 -> 34348 | H19: =G19*D19 -> 34348 | I19: =공종별내역서!J229 -> 1145555 | J19: =I19*D19 -> 1145555 | K19: =공종별내역서!L229 -> 0 | L19: =K19*D19 -> 0 | N19: 0101020202 | P19: 01010202 | R19: 5
A20: 1.3 제수밸브 | D20: 1 | E20: =G20+I20+K20 -> 42454132 | F20: =H20+J20+L20 -> 42454132 | G20: =H21 -> 19476804 | H20: =G20*D20 -> 19476804 | I20: =J21 -> 22882893 | J20: =I20*D20 -> 22882893 | K20: =L21 -> 94435 | L20: =K20*D20 -> 94435 | N20: 010103 | P20: 0101 | R20: 3
A21: 1.3.1 전력간선 및 동력설비공사 | D21: 1 | E21: =G21+I21+K21 -> 42454132 | F21: =H21+J21+L21 -> 42454132 | G21: =H22+H23+H24 -> 19476804 | H21: =G21*D21 -> 19476804 | I21: =J22+J23+J24 -> 22882893 | J21: =I21*D21 -> 22882893 | K21: =L22+L23+L24 -> 94435 | L21: =K21*D21 -> 94435 | N21: 01010301 | P21: 010103 | R21: 4
A22: 1.3.1.1 제수밸브 #1 설치공사 | B22: 2.2kW | D22: 1 | E22: =G22+I22+K22 -> 16676366 | F22: =H22+J22+L22 -> 16676366 | G22: =공종별내역서!H279 -> 6752295 | H22: =G22*D22 -> 6752295 | I22: =공종별내역서!J279 -> 9894501 | J22: =I22*D22 -> 9894501 | K22: =공종별내역서!L279 -> 29570 | L22: =K22*D22 -> 29570 | N22: 0101030101 | P22: 01010301 | R22: 5
A23: 1.3.1.2 제수밸브 #2 설치공사 | B23: 2.2kW | D23: 1 | E23: =G23+I23+K23 -> 17001995 | F23: =H23+J23+L23 -> 17001995 | G23: =공종별내역서!H329 -> 9406727 | H23: =G23*D23 -> 9406727 | I23: =공종별내역서!J329 -> 7544521 | J23: =I23*D23 -> 7544521 | K23: =공종별내역서!L329 -> 50747 | L23: =K23*D23 -> 50747 | N23: 0101030102 | P23: 01010301 | R23: 5
A24: 1.3.1.3 제수밸브 #3 설치공사 | B24: 1.5kW | D24: 1 | E24: =G24+I24+K24 -> 8775771 | F24: =H24+J24+L24 -> 8775771 | G24: =공종별내역서!H354 -> 3317782 | H24: =G24*D24 -> 3317782 | I24: =공종별내역서!J354 -> 5443871 | J24: =I24*D24 -> 5443871 | K24: =공종별내역서!L354 -> 14118 | L24: =K24*D24 -> 14118 | N24: 0101030103 | P24: 01010301 | R24: 5
A25: 1.4 삼양2 중계펌프장 | D25: 1 | E25: =G25+I25+K25 -> 10201022 | F25: =H25+J25+L25 -> 10201022 | G25: =H26 -> 1168836 | H25: =G25*D25 -> 1168836 | I25: =J26 -> 9030542 | J25: =I25*D25 -> 9030542 | K25: =L26 -> 1644 | L25: =K25*D25 -> 1644 | N25: 010104 | P25: 0101 | R25: 3
A26: 1.4.1 전력간선 및 동력설비공사 | D26: 1 | E26: =G26+I26+K26 -> 10201022 | F26: =H26+J26+L26 -> 10201022 | G26: =H27 -> 1168836 | H26: =G26*D26 -> 1168836 | I26: =J27 -> 9030542 | J26: =I26*D26 -> 9030542 | K26: =L27 -> 1644 | L26: =K26*D26 -> 1644 | N26: 01010401 | P26: 010104 | R26: 4
A27: 1.4.1.1 설치공사 | D27: 1 | E27: =G27+I27+K27 -> 10201022 | F27: =H27+J27+L27 -> 10201022 | G27: =공종별내역서!H379 -> 1168836 | H27: =G27*D27 -> 1168836 | I27: =공종별내역서!J379 -> 9030542 | J27: =I27*D27 -> 9030542 | K27: =공종별내역서!L379 -> 1644 | L27: =K27*D27 -> 1644 | N27: 0101040101 | P27: 01010401 | R27: 5
A28: 1.5 폐기물처리비 | D28: 1 | E28: =G28+I28+K28 -> 9849980 | F28: =H28+J28+L28 -> 9849980 | G28: =공종별내역서!H404 -> 4950176 | H28: =G28*D28 -> 4950176 | I28: =공종별내역서!J404 -> 0 | J28: =I28*D28 -> 0 | K28: =공종별내역서!L404 -> 4899804 | L28: =K28*D28 -> 4899804 | N28: 010105 | P28: 0101 | R28: 3
A29: 2. 관급자재 | D29: 1 | E29: =G29+I29+K29 -> 215961000 | F29: =H29+J29+L29 -> 215961000 | G29: =H30+H36 -> 215961000 | H29: =G29*D29 -> 215961000 | I29: =J30+J36 -> 0 | J29: =I29*D29 -> 0 | K29: =L30+L36 -> 0 | L29: =K29*D29 -> 0 | N29: 0102 | P29: 01 | R29: 2
A30: 2.1 관급자관급 | D30: 1 | E30: =G30+I30+K30 -> 190377000 | F30: =H30+J30+L30 -> 190377000 | G30: =H31+H34+H35 -> 190377000 | H30: =G30*D30 -> 190377000 | I30: =J31+J34+J35 -> 0 | J30: =I30*D30 -> 0 | K30: =L31+L34+L35 -> 0 | L30: =K30*D30 -> 0 | N30: 010201 | P30: 0102 | R30: 3
A31: 2.1.1 수배전반 | D31: 1 | E31: =G31+I31+K31 -> 84617000 | F31: =H31+J31+L31 -> 84617000 | G31: =H32+H33 -> 84617000 | H31: =G31*D31 -> 84617000 | I31: =J32+J33 -> 0 | J31: =I31*D31 -> 0 | K31: =L32+L33 -> 0 | L31: =K31*D31 -> 0 | N31: 01020101 | P31: 010201 | R31: 4
A32: 2.1.1.1 설치 | B32: 부가가치세 포함 | D32: 1 | E32: =G32+I32+K32 -> 80183000 | F32: =H32+J32+L32 -> 80183000 | G32: =공종별내역서!H427 -> 80183000 | H32: =G32*D32 -> 80183000 | I32: =공종별내역서!J427 -> 0 | J32: =I32*D32 -> 0 | K32: =공종별내역서!L427 -> 0 | L32: =K32*D32 -> 0 | N32: 0102010101 | P32: 01020101 | R32: 5
A33: 2.1.1.2 철거 | D33: 1 | E33: =G33+I33+K33 -> 4434000 | F33: =H33+J33+L33 -> 4434000 | G33: =공종별내역서!H452 -> 4434000 | H33: =G33*D33 -> 4434000 | I33: =공종별내역서!J452 -> 0 | J33: =I33*D33 -> 0 | K33: =공종별내역서!L452 -> 0 | L33: =K33*D33 -> 0 | N33: 0102010102 | P33: 01020101 | R33: 5
A34: 2.1.2 감시제어 | D34: 1 | E34: =G34+I34+K34 -> 94550000 | F34: =H34+J34+L34 -> 94550000 | G34: =공종별내역서!H477 -> 94550000 | H34: =G34*D34 -> 94550000 | I34: =공종별내역서!J477 -> 0 | J34: =I34*D34 -> 0 | K34: =공종별내역서!L477 -> 0 | L34: =K34*D34 -> 0 | N34: 01020102 | P34: 010201 | R34: 4
A35: 2.1.3 UPS | B35: 부가가치세 포함 | D35: 1 | E35: =G35+I35+K35 -> 11210000 | F35: =H35+J35+L35 -> 11210000 | G35: =공종별내역서!H502 -> 11210000 | H35: =G35*D35 -> 11210000 | I35: =공종별내역서!J502 -> 0 | J35: =I35*D35 -> 0 | K35: =공종별내역서!L502 -> 0 | L35: =K35*D35 -> 0 | N35: 01020103 | P35: 010201 | R35: 4
A36: 2.2 도급자관급 | D36: 1 | E36: =G36+I36+K36 -> 25584000 | F36: =H36+J36+L36 -> 25584000 | G36: =H37+H38+H39 -> 25584000 | H36: =G36*D36 -> 25584000 | I36: =J37+J38+J39 -> 0 | J36: =I36*D36 -> 0 | K36: =L37+L38+L39 -> 0 | L36: =K36*D36 -> 0 | N36: 010202 | P36: 0102 | R36: 3
A37: 2.2.1 분전반 | B37: 부가가치세 포함 | D37: 1 | E37: =G37+I37+K37 -> 11832000 | F37: =H37+J37+L37 -> 11832000 | G37: =공종별내역서!H527 -> 11832000 | H37: =G37*D37 -> 11832000 | I37: =공종별내역서!J527 -> 0 | J37: =I37*D37 -> 0 | K37: =공종별내역서!L527 -> 0 | L37: =K37*D37 -> 0 | N37: 01020201 | P37: 010202 | R37: 4
A38: 2.2.2 임대발전기 | D38: 1 | E38: =G38+I38+K38 -> 12310000 | F38: =H38+J38+L38 -> 12310000 | G38: =공종별내역서!H552 -> 12310000 | H38: =G38*D38 -> 12310000 | I38: =공종별내역서!J552 -> 0 | J38: =I38*D38 -> 0 | K38: =공종별내역서!L552 -> 0 | L38: =K38*D38 -> 0 | N38: 01020202 | P38: 010202 | R38: 4
A39: 2.2.3 조명기구 | B39: 부가가치세 포함 | D39: 1 | E39: =G39+I39+K39 -> 1442000 | F39: =H39+J39+L39 -> 1442000 | G39: =공종별내역서!H577 -> 1442000 | H39: =G39*D39 -> 1442000 | I39: =공종별내역서!J577 -> 0 | J39: =I39*D39 -> 0 | K39: =공종별내역서!L577 -> 0 | L39: =K39*D39 -> 0 | N39: 01020203 | P39: 010202 | R39: 4
A40: 3. 한전수탁비 | D40: 1 | E40: =G40+I40+K40 -> 13940000 | F40: =H40+J40+L40 -> 13940000 | G40: =H41+H46 -> 13940000 | H40: =G40*D40 -> 13940000 | I40: =J41+J46 -> 0 | J40: =I40*D40 -> 0 | K40: =L41+L46 -> 0 | L40: =K40*D40 -> 0 | N40: 0103 | P40: 01 | R40: 2
A41: 3.1 표준시설부담금 | D41: 1 | E41: =G41+I41+K41 -> 13718000 | F41: =H41+J41+L41 -> 13718000 | G41: =H42+H43+H44+H45 -> 13718000 | H41: =G41*D41 -> 13718000 | I41: =J42+J43+J44+J45 -> 0 | J41: =I41*D41 -> 0 | K41: =L42+L43+L44+L45 -> 0 | L41: =K41*D41 -> 0 | N41: 010301 | P41: 0103 | R41: 3
A42: 3.1.1 신촌 중계펌프장 | B42: 기존 계약전력 25kW | D42: 1 | E42: =G42+I42+K42 -> 2263000 | F42: =H42+J42+L42 -> 2263000 | G42: =공종별내역서!H602 -> 2263000 | H42: =G42*D42 -> 2263000 | I42: =공종별내역서!J602 -> 0 | J42: =I42*D42 -> 0 | K42: =공종별내역서!L602 -> 0 | L42: =K42*D42 -> 0 | N42: 01030101 | P42: 010301 | R42: 4
A43: 3.1.2 조천 중계펌프장 | B43: 기존 계약전력 200kW | D43: 1 | E43: =G43+I43+K43 -> 9983000 | F43: =H43+J43+L43 -> 9983000 | G43: =공종별내역서!H627 -> 9983000 | H43: =G43*D43 -> 9983000 | I43: =공종별내역서!J627 -> 0 | J43: =I43*D43 -> 0 | K43: =공종별내역서!L627 -> 0 | L43: =K43*D43 -> 0 | N43: 01030102 | P43: 010301 | R43: 4
A44: 3.1.3 제수밸브 #1 | D44: 1 | E44: =G44+I44+K44 -> 736000 | F44: =H44+J44+L44 -> 736000 | G44: =공종별내역서!H652 -> 736000 | H44: =G44*D44 -> 736000 | I44: =공종별내역서!J652 -> 0 | J44: =I44*D44 -> 0 | K44: =공종별내역서!L652 -> 0 | L44: =K44*D44 -> 0 | N44: 01030103 | P44: 010301 | R44: 4
A45: 3.1.4 제수밸브 #2,#3 | D45: 1 | E45: =G45+I45+K45 -> 736000 | F45: =H45+J45+L45 -> 736000 | G45: =공종별내역서!H677 -> 736000 | H45: =G45*D45 -> 736000 | I45: =공종별내역서!J677 -> 0 | J45: =I45*D45 -> 0 | K45: =공종별내역서!L677 -> 0 | L45: =K45*D45 -> 0 | N45: 01030104 | P45: 010301 | R45: 4
A46: 3.2 사용전검사 수수료 | D46: 1 | E46: =G46+I46+K46 -> 222000 | F46: =H46+J46+L46 -> 222000 | G46: =H47 -> 222000 | H46: =G46*D46 -> 222000 | I46: =J47 -> 0 | J46: =I46*D46 -> 0 | K46: =L47 -> 0 | L46: =K46*D46 -> 0 | N46: 010302 | P46: 0103 | R46: 3
A47: 3.2.1 조천 중계펌프장 | D47: 1 | E47: =G47+I47+K47 -> 222000 | F47: =H47+J47+L47 -> 222000 | G47: =공종별내역서!H702 -> 222000 | H47: =G47*D47 -> 222000 | I47: =공종별내역서!J702 -> 0 | J47: =I47*D47 -> 0 | K47: =공종별내역서!L702 -> 0 | L47: =K47*D47 -> 0 | N47: 01030201 | P47: 010302 | R47: 4

Sheet 공종별내역서
A1: 공 종 별 내 역 서
A2: [ 동부하수처리구역 차집관로 정비사업(1공구)_전기및계측 ]
A3: 품 명 | B3: 규 격 | C3: 단위 | D3: 수량 | E3: 합 계 | G3: 재 료 비 | I3: 노 무 비 | K3: 경 비 | M3: 비 고 | N3: 품목코드 | O3: 변수 | P3: 설정 | Q3: 공종코드 | R3: 일위 | S3: 단산 | T3: 자재 | U3: 손료적용 | V3: 손료저장 | W3: 적용율 | X3: JUK1 | Y3: JUK2 | Z3: JUK3 | AA3: JUK4 | AB3: JUK5 | AC3: JUK6 | AD3: JUK7 | AE3: JUK8 | AF3: JUK9 | AG3: JUK10 | AH3: JUK11 | AI3: JUK12 | AJ3: JUK13 | AK3: JUK14 | AL3: JUK15 | AM3: JUK16 | AN3: JUK17 | AO3: JUK18 | AP3: JUK19 | AQ3: JUK20 | AR3: 자재구분 | AS3: 공종구분 | AT3: 공종레벨 | AU3: 공종+자재 | AV3: 고유번호
E4: 단 가 | F4: 금 액 | G4: 단 가 | H4: 금 액 | I4: 단 가 | J4: 금 액 | K4: 단 가 | L4: 금 액
A5: 1.1.1.1 설치공사 | B5: 1. 도급공사 1.1 신촌 중계펌프장 1.1.1 전력간선 및 동력설비공사 | Q5: 0101010101
A6: 1종금속제가요전선관-노출 | B6: 비닐피복, 36mm, 방수 | C6: M | D6: 14 | E6: =TRUNC(G6+I6+K6, 0) -> 31859 | F6: =TRUNC(H6+J6+L6, 0) -> 446026 | G6: =TRUNC(일위대가목록!F4,0) -> 3144 | H6: =TRUNC(G6*D6, 0) -> 44016 | I6: =TRUNC(일위대가목록!G4,0) -> 28715 | J6: =TRUNC(I6*D6, 0) -> 402010 | K6: =TRUNC(일위대가목록!H4,0) -> 0 | L6: =TRUNC(K6*D6, 0) -> 0 | M6: 호표 1 | N6: 505C016DC05253DCE07E94E19AB87A | Q6: 0101010101 | R6: T | S6: F | T6: F | AU6: 0101010101505C016DC05253DCE07E94E19AB87A | AV6: 610
A7: 1종금속제가요전선관-노출 | B7: 비닐피복, 28mm, 방수 | C7: M | D7: 14 | E7: =TRUNC(G7+I7+K7, 0) -> 25691 | F7: =TRUNC(H7+J7+L7, 0) -> 359674 | G7: =TRUNC(일위대가목록!F5,0) -> 1946 | H7: =TRUNC(G7*D7, 0) -> 27244 | I7: =TRUNC(일위대가목록!G5,0) -> 23745 | J7: =TRUNC(I7*D7, 0) -> 332430 | K7: =TRUNC(일위대가목록!H5,0) -> 0 | L7: =TRUNC(K7*D7, 0) -> 0 | M7: 호표 2 | N7: 505C016DC05253DCE07E94E19AB900 | Q7: 0101010101 | R7: T | S7: F | T7: F | AU7: 0101010101505C016DC05253DCE07E94E19AB900 | AV7: 609
A8: 1종금속제가요전선관-노출 | B8: 비닐피복, 22mm, 방수 | C8: M | D8: 10 | E8: =TRUNC(G8+I8+K8, 0) -> 20860 | F8: =TRUNC(H8+J8+L8, 0) -> 208600 | G8: =TRUNC(일위대가목록!F6,0) -> 1533 | H8: =TRUNC(G8*D8, 0) -> 15330 | I8: =TRUNC(일위대가목록!G6,0) -> 19327 | J8: =TRUNC(I8*D8, 0) -> 193270 | K8: =TRUNC(일위대가목록!H6,0) -> 0 | L8: =TRUNC(K8*D8, 0) -> 0 | M8: 호표 3 | N8: 505C016DC05253DCE07E94E19ABE82 | Q8: 0101010101 | R8: T | S8: F | T8: F | AU8: 0101010101505C016DC05253DCE07E94E19ABE82 | AV8: 611
A9: 1종금속제가요전선관 | B9: 1종금속제가요전선관, 박스커넥터-비닐, 36mm, 방수 | C9: 개 | D9: 4 | E9: =TRUNC(G9+I9+K9, 0) -> 1980 | F9: =TRUNC(H9+J9+L9, 0) -> 7920 | G9: =TRUNC(단가대비표!O99,0) -> 1980 | H9: =TRUNC(G9*D9, 0) -> 7920 | I9: =TRUNC(단가대비표!P99,0) -> 0 | J9: =TRUNC(I9*D9, 0) -> 0 | K9: =TRUNC(단가대비표!V99,0) -> 0 | L9: =TRUNC(K9*D9, 0) -> 0 | N9: 57392168B22B5EDE007FC3802D3A4B79C420DE | Q9: 0101010101 | R9: F | S9: F | T9: T | AU9: 010101010157392168B22B5EDE007FC3802D3A4B79C420DE | AV9: 612
A10: 1종금속제가요전선관 | B10: 1종금속제가요전선관, 박스커넥터-비닐, 28mm, 방수 | C10: 개 | D10: 4 | E10: =TRUNC(G10+I10+K10, 0) -> 1426 | F10: =TRUNC(H10+J10+L10, 0) -> 5704 | G10: =TRUNC(단가대비표!O98,0) -> 1426 | H10: =TRUNC(G10*D10, 0) -> 5704 | I10: =TRUNC(단가대비표!P98,0) -> 0 | J10: =TRUNC(I10*D10, 0) -> 0 | K10: =TRUNC(단가대비표!V98,0) -> 0 | L10: =TRUNC(K10*D10, 0) -> 0 | N10: 57392168B22B5EDE007FC3802D3A4B79C420DF | Q10: 0101010101 | R10: F | S10: F | T10: T | AU10: 010101010157392168B22B5EDE007FC3802D3A4B79C420DF | AV10: 614
A11: 1종금속제가요전선관 | B11: 1종금속제가요전선관, 박스커넥터-비닐, 22mm, 방수 | C11: 개 | D11: 4 | E11: =TRUNC(G11+I11+K11, 0) -> 977 | F11: =TRUNC(H11+J11+L11, 0) -> 3908 | G11: =TRUNC(단가대비표!O97,0) -> 977 | H11: =TRUNC(G11*D11, 0) -> 3908 | I11: =TRUNC(단가대비표!P97,0) -> 0 | J11: =TRUNC(I11*D11, 0) -> 0 | K11: =TRUNC(단가대비표!V97,0) -> 0 | L11: =TRUNC(K11*D11, 0) -> 0 | N11: 57392168B22B5EDE007FC3802D3A4B79C420D0 | Q11: 0101010101 | R11: F | S11: F | T11: T | AU11: 010101010157392168B22B5EDE007FC3802D3A4B79C420D0 | AV11: 613
A12: 0.6/1kv 난연 전력케이블(F-CV) | B12: 3C*6㎟ | C12: M | D12: 35 | E12: =TRUNC(G12+I12+K12, 0) -> 12288 | F12: =TRUNC(H12+J12+L12, 0) -> 430080 | G12: =TRUNC(일위대가목록!F7,0) -> 4325 | H12: =TRUNC(G12*D12, 0) -> 151375 | I12: =TRUNC(일위대가목록!G7,0) -> 7963 | J12: =TRUNC(I12*D12, 0) -> 278705 | K12: =TRUNC(일위대가목록!H7,0) -> 0 | L12: =TRUNC(K12*D12, 0) -> 0 | M12: 호표 4 | N12: 505C016DC07D5170F07293E420FDCF | Q12: 0101010101 | R12: T | S12: F | T12: F | AU12: 0101010101505C016DC07D5170F07293E420FDCF | AV12: 11
A13: 0.6/1kv 난연 전력케이블(F-CV)-옥외 | B13: 4C*16㎟ | C13: M | D13: 34 | E13: =TRUNC(G13+I13+K13, 0) -> 18128 | F13: =TRUNC(H13+J13+L13, 0) -> 616352 | G13: =TRUNC(일위대가목록!F8,0) -> 11553 | H13: =TRUNC(G13*D13, 0) -> 392802 | I13: =TRUNC(일위대가목록!G8,0) -> 6575 | J13: =TRUNC(I13*D13, 0) -> 223550 | K13: =TRUNC(일위대가목록!H8,0) -> 0 | L13: =TRUNC(K13*D13, 0) -> 0 | M13: 호표 5 | N13: 505C016DC07D5170F072948BAAA5E3 | Q13: 0101010101 | R13: T | S13: F | T13: F | AU13: 0101010101505C016DC07D5170F072948BAAA5E3 | AV13: 12
A14: 0.6/1kv 난연 전력케이블(F-CV) | B14: 4C*4㎟ | C14: M | D14: 26 | E14: =TRUNC(G14+I14+K14, 0) -> 12805 | F14: =TRUNC(H14+J14+L14, 0) -> 332930 | G14: =TRUNC(일위대가목록!F9,0) -> 3924 | H14: =TRUNC(G14*D14, 0) -> 102024 | I14: =TRUNC(일위대가목록!G9,0) -> 8881 | J14: =TRUNC(I14*D14, 0) -> 230906 | K14: =TRUNC(일위대가목록!H9,0) -> 0 | L14: =TRUNC(K14*D14, 0) -> 0 | M14: 호표 6 | N14: 505C016DC07D5170F072948BAAA107 | Q14: 0101010101 | R14: T | S14: F | T14: F | AU14: 0101010101505C016DC07D5170F072948BAAA107 | AV14: 13
A15: 0.6/1kv 트레이용 절연난연 제어용케이블(F-CVV) | B15: 2C*2.5㎟ | C15: M | D15: 84 | E15: =TRUNC(G15+I15+K15, 0) -> 5932 | F15: =TRUNC(H15+J15+L15, 0) -> 498288 | G15: =TRUNC(일위대가목록!F10,0) -> 1645 | H15: =TRUNC(G15*D15, 0) -> 138180 | I15: =TRUNC(일위대가목록!G10,0) -> 4287 | J15: =TRUNC(I15*D15, 0) -> 360108 | K15: =TRUNC(일위대가목록!H10,0) -> 0 | L15: =TRUNC(K15*D15, 0) -> 0 | M15: 호표 7 | N15: 505C016DC07D506C507419CC181E81 | Q15: 0101010101 | R15: T | S15: F | T15: F | AU15: 0101010101505C016DC07D506C507419CC181E81 | AV15: 17
A16: 0.6/1kv 트레이용 절연난연 제어용케이블(F-CVV) | B16: 3C*2.5㎟ | C16: M | D16: 10 | E16: =TRUNC(G16+I16+K16, 0) -> 7852 | F16: =TRUNC(H16+J16+L16, 0) -> 78520 | G16: =TRUNC(일위대가목록!F11,0) -> 2033 | H16: =TRUNC(G16*D16, 0) -> 20330 | I16: =TRUNC(일위대가목록!G11,0) -> 5819 | J16: =TRUNC(I16*D16, 0) -> 58190 | K16: =TRUNC(일위대가목록!H11,0) -> 0 | L16: =TRUNC(K16*D16, 0) -> 0 | M16: 호표 8 | N16: 505C016DC07D506C507419CC181A26 | Q16: 0101010101 | R16: T | S16: F | T16: F | AU16: 0101010101505C016DC07D506C507419CC181A26 | AV16: 16
A17: 0.6/1kv 트레이용 절연난연 제어용케이블(F-CVV) | B17: 15C*2.5㎟ | C17: M | D17: 24 | E17: =TRUNC(G17+I17+K17, 0) -> 26225 | F17: =TRUNC(H17+J17+L17, 0) -> 629400 | G17: =TRUNC(일위대가목록!F12,0) -> 7237 | H17: =TRUNC(G17*D17, 0) -> 173688 | I17: =TRUNC(일위대가목록!G12,0) -> 18988 | J17: =TRUNC(I17*D17, 0) -> 455712 | K17: =TRUNC(일위대가목록!H12,0) -> 0 | L17: =TRUNC(K17*D17, 0) -> 0 | M17: 호표 9 | N17: 505C016DC07D506C50741BF90D4DCB | Q17: 0101010101 | R17: T | S17: F | T17: F | AU17: 0101010101505C016DC07D506C50741BF90D4DCB | AV17: 15
A18: 0.6/1kv 트레이용 절연난연 제어용케이블(F-CVV) | B18: 30C*2.5㎟ | C18: M | D18: 9 | E18: =TRUNC(G18+I18+K18, 0) -> 42903 | F18: =TRUNC(H18+J18+L18, 0) -> 386127 | G18: =TRUNC(일위대가목록!F13,0) -> 12889 | H18: =TRUNC(G18*D18, 0) -> 116001 | I18: =TRUNC(일위대가목록!G13,0) -> 30014 | J18: =TRUNC(I18*D18, 0) -> 270126 | K18: =TRUNC(일위대가목록!H13,0) -> 0 | L18: =TRUNC(K18*D18, 0) -> 0 | M18: 호표 10 | N18: 505C016DC07D506C50741BF90CA2E6 | Q18: 0101010101 | R18: T | S18: F | T18: F | AU18: 0101010101505C016DC07D506C50741BF90CA2E6 | AV18: 14
A19: 0.6/1kv 트레이용 제어용케이블(F-CVV-S) | B19: 2C*1.5㎟ | C19: M | D19: 10 | E19: =TRUNC(G19+I19+K19, 0) -> 6904 | F19: =TRUNC(H19+J19+L19, 0) -> 69040 | G19: =TRUNC(일위대가목록!F14,0) -> 1759 | H19: =TRUNC(G19*D19, 0) -> 17590 | I19: =TRUNC(일위대가목록!G14,0) -> 5145 | J19: =TRUNC(I19*D19, 0) -> 51450 | K19: =TRUNC(일위대가목록!H14,0) -> 0 | L19: =TRUNC(K19*D19, 0) -> 0 | M19: 호표 11 | N19: 505C016DC07D506F20799C41CF0C1E | Q19: 0101010101 | R19: T | S19: F | T19: F | AU19: 0101010101505C016DC07D506F20799C41CF0C1E | AV19: 18
A20: 난연 비닐절연접지용전선(F-GV)-관내 | B20: 0.6/1kv, 16㎟ | C20: M | D20: 21 | E20: =TRUNC(G20+I20+K20, 0) -> 5841 | F20: =TRUNC(H20+J20+L20, 0) -> 122661 | G20: =TRUNC(일위대가목록!F15,0) -> 2942 | H20: =TRUNC(G20*D20, 0) -> 61782 | I20: =TRUNC(일위대가목록!G15,0) -> 2899 | J20: =TRUNC(I20*D20, 0) -> 60879 | K20: =TRUNC(일위대가목록!H15,0) -> 0 | L20: =TRUNC(K20*D20, 0) -> 0 | M20: 호표 12 | N20: 505C016DC06C5A01607F62360411AE | Q20: 0101010101 | R20: T | S20: F | T20: F | AU20: 0101010101505C016DC06C5A01607F62360411AE | AV20: 19
A21: 난연 비닐절연접지용전선(F-GV)-관내 | B21: 0.6/1kv, 6㎟ | C21: M | D21: 35 | E21: =TRUNC(G21+I21+K21, 0) -> 3799 | F21: =TRUNC(H21+J21+L21, 0) -> 132965 | G21: =TRUNC(일위대가목록!F16,0) -> 1315 | H21: =TRUNC(G21*D21, 0) -> 46025 | I21: =TRUNC(일위대가목록!G16,0) -> 2484 | J21: =TRUNC(I21*D21, 0) -> 86940 | K21: =TRUNC(일위대가목록!H16,0) -> 0 | L21: =TRUNC(K21*D21, 0) -> 0 | M21: 호표 13 | N21: 505C016DC06C5A01607F6236041737 | Q21: 0101010101 | R21: T | S21: F | T21: F | AU21: 0101010101505C016DC06C5A01607F6236041737 | AV21: 20
A22: 난연 비닐절연접지용전선(F-GV)-관내 | B22: 0.6/1kv, 4㎟ | C22: M | D22: 26 | E22: =TRUNC(G22+I22+K22, 0) -> 3649 | F22: =TRUNC(H22+J22+L22, 0) -> 94874 | G22: =TRUNC(일위대가목록!F17,0) -> 1165 | H22: =TRUNC(G22*D22, 0) -> 30290 | I22: =TRUNC(일위대가목록!G17,0) -> 2484 | J22: =TRUNC(I22*D22, 0) -> 64584 | K22: =TRUNC(일위대가목록!H17,0) -> 0 | L22: =TRUNC(K22*D22, 0) -> 0 | M22: 호표 14 | N22: 505C016DC06C5A01607F6236041610 | Q22: 0101010101 | R22: T | S22: F | T22: F | AU22: 0101010101505C016DC06C5A01607F6236041610 | AV22: 21
A23: 전력케이블 단말처리-저압(1 KV 이하) | B23: 1C, 16㎟ | C23: 개소 | D23: 14 | E23: =TRUNC(G23+I23+K23, 0) -> 25678 | F23: =TRUNC(H23+J23+L23, 0) -> 359492 | G23: =TRUNC(일위대가목록!F18,0) -> 870 | H23: =TRUNC(G23*D23, 0) -> 12180 | I23: =TRUNC(일위대가목록!G18,0) -> 24808 | J23: =TRUNC(I23*D23, 0) -> 347312 | K23: =TRUNC(일위대가목록!H18,0) -> 0 | L23: =TRUNC(K23*D23, 0) -> 0 | M23: 호표 15 | N23: 505C116B7AA854EC10724F7C541BE6 | Q23: 0101010101 | R23: T | S23: F | T23: F | AU23: 0101010101505C116B7AA854EC10724F7C541BE6 | AV23: 22
A24: 전기수전 | B24: 저압(42C) | C24: 식 | D24: 1 | E24: =TRUNC(G24+I24+K24, 0) -> 770625 | F24: =TRUNC(H24+J24+L24, 0) -> 770625 | G24: =TRUNC(일위대가목록!F19,0) -> 99686 | H24: =TRUNC(G24*D24, 0) -> 99686 | I24: =TRUNC(일위대가목록!G19,0) -> 670939 | J24: =TRUNC(I24*D24, 0) -> 670939 | K24: =TRUNC(일위대가목록!H19,0) -> 0 | L24: =TRUNC(K24*D24, 0) -> 0 | M24: 호표 16 | N24: 505C016DC014580D60766011930BF9 | Q24: 0101010101 | R24: T | S24: F | T24: F | AU24: 0101010101505C016DC014580D60766011930BF9 | AV24: 39
Q25: 0101010101
Q26: 0101010101
Q27: 0101010101
Q28: 0101010101
A29: [ 합 계 ] | F29: =SUMIF(Q6:Q28,"0101010101",F6:F28) -> 5553186 | H29: =SUMIF(Q6:Q28,"0101010101",H6:H28) -> 1466075 | J29: =SUMIF(Q6:Q28,"0101010101",J6:J28) -> 4087111 | L29: =SUMIF(Q6:Q28,"0101010101",L6:L28) -> 0 | N29: TOTAL
A30: 1.1.1.2 철거공사 | B30: 1. 도급공사 1.1 신촌 중계펌프장 1.1.1 전력간선 및 동력설비공사 | Q30: 0101010102
A31: 강제전선관-철거 | B31: 아연도, 22mm | C31: M | D31: 4 | E31: =TRUNC(G31+I31+K31, 0) -> 11261 | F31: =TRUNC(H31+J31+L31, 0) -> 45044 | G31: =TRUNC(일위대가목록!F20,0) -> 328 | H31: =TRUNC(G31*D31, 0) -> 1312 | I31: =TRUNC(일위대가목록!G20,0) -> 10933 | J31: =TRUNC(I31*D31, 0) -> 43732 | K31: =TRUNC(일위대가목록!H20,0) -> 0 | L31: =TRUNC(K31*D31, 0) -> 0 | M31: 호표 17 | N31: 505C016DC05253DDF0758A141E119A | Q31: 0101010102 | R31: T | S31: F | T31: F | AU31: 0101010102505C016DC05253DDF0758A141E119A | AV31: 625
A32: 0.6/1kv 난연 전력케이블(F-CV)-철거 | B32: 1C*16㎟ | C32: M | D32: 96 | E32: =TRUNC(G32+I32+K32, 0) -> 3627 | F32: =TRUNC(H32+J32+L32, 0) -> 348192 | G32: =TRUNC(일위대가목록!F21,0) -> 105 | H32: =TRUNC(G32*D32, 0) -> 10080 | I32: =TRUNC(일위대가목록!G21,0) -> 3522 | J32: =TRUNC(I32*D32, 0) -> 338112 | K32: =TRUNC(일위대가목록!H21,0) -> 0 | L32: =TRUNC(K32*D32, 0) -> 0 | M32: 호표 18 | N32: 505C016DC07D5170F0729137ACB6C7 | Q32: 0101010102 | R32: T | S32: F | T32: F | AU32: 0101010102505C016DC07D5170F0729137ACB6C7 | AV32: 78
A33: 0.6/1kv 난연 전력케이블(F-CV)-철거 | B33: 3C*6㎟ | C33: M | D33: 9 | E33: =TRUNC(G33+I33+K33, 0) -> 4100 | F33: =TRUNC(H33+J33+L33, 0) -> 36900 | G33: =TRUNC(일위대가목록!F22,0) -> 119 | H33: =TRUNC(G33*D33, 0) -> 1071 | I33: =TRUNC(일위대가목록!G22,0) -> 3981 | J33: =TRUNC(I33*D33, 0) -> 35829 | K33: =TRUNC(일위대가목록!H22,0) -> 0 | L33: =TRUNC(K33*D33, 0) -> 0 | M33: 호표 19 | N33: 505C016DC07D5170F07293E420FDCE | Q33: 0101010102 | R33: T | S33: F | T33: F | AU33: 0101010102505C016DC07D5170F07293E420FDCE | AV33: 79
A34: 0.6/1kv 난연 전력케이블(F-CV)-옥외-철거 | B34: 4C*25㎟ | C34: M | D34: 34 | E34: =TRUNC(G34+I34+K34, 0) -> 3904 | F34: =TRUNC(H34+J34+L34, 0) -> 132736 | G34: =TRUNC(일위대가목록!F23,0) -> 113 | H34: =TRUNC(G34*D34, 0) -> 3842 | I34: =TRUNC(일위대가목록!G23,0) -> 3791 | J34: =TRUNC(I34*D34, 0) -> 128894 | K34: =TRUNC(일위대가목록!H23,0) -> 0 | L34: =TRUNC(K34*D34, 0) -> 0 | M34: 호표 20 | N34: 505C016DC07D5170F072948BAAAA62 | Q34: 0101010102 | R34: T | S34: F | T34: F | AU34: 0101010102505C016DC07D5170F072948BAAAA62 | AV34: 81
A35: 0.6/1kv 난연 전력케이블(F-CV)-철거 | B35: 4C*4㎟ | C35: M | D35: 24 | E35: =TRUNC(G35+I35+K35, 0) -> 4573 | F35: =TRUNC(H35+J35+L35, 0) -> 109752 | G35: =TRUNC(일위대가목록!F24,0) -> 133 | H35: =TRUNC(G35*D35, 0) -> 3192 | I35: =TRUNC(일위대가목록!G24,0) -> 4440 | J35: =TRUNC(I35*D35, 0) -> 106560 | K35: =TRUNC(일위대가목록!H24,0) -> 0 | L35: =TRUNC(K35*D35, 0) -> 0 | M35: 호표 21 | N35: 505C016DC07D5170F072948BAAA106 | Q35: 0101010102 | R35: T | S35: F | T35: F | AU35: 0101010102505C016DC07D5170F072948BAAA106 | AV35: 80
A36: 0.6/1kv 트레이용 절연난연 제어용케이블(F-CVV)-철거 | B36: 2C*2.5㎟ | C36: M | D36: 78 | E36: =TRUNC(G36+I36+K36, 0) -> 2207 | F36: =TRUNC(H36+J36+L36, 0) -> 172146 | G36: =TRUNC(일위대가목록!F25,0) -> 64 | H36: =TRUNC(G36*D36, 0) -> 4992 | I36: =TRUNC(일위대가목록!G25,0) -> 2143 | J36: =TRUNC(I36*D36, 0) -> 167154 | K36: =TRUNC(일위대가목록!H25,0) -> 0 | L36: =TRUNC(K36*D36, 0) -> 0 | M36: 호표 22 | N36: 505C016DC07D506C507419CC181E80 | Q36: 0101010102 | R36: T | S36: F | T36: F | AU36: 0101010102505C016DC07D506C507419CC181E80 | AV36: 82
A37: 0.6/1kv 트레이용 절연난연 제어용케이블(F-CVV)-철거 | B37: 3C*2.5㎟ | C37: M | D37: 57 | E37: =TRUNC(G37+I37+K37, 0) -> 2996 | F37: =TRUNC(H37+J37+L37, 0) -> 170772 | G37: =TRUNC(일위대가목록!F26,0) -> 87 | H37: =TRUNC(G37*D37, 0) -> 4959 | I37: =TRUNC(일위대가목록!G26,0) -> 2909 | J37: =TRUNC(I37*D37, 0) -> 165813 | K37: =TRUNC(일위대가목록!H26,0) -> 0 | L37: =TRUNC(K37*D37, 0) -> 0 | M37: 호표 23 | N37: 505C016DC07D506C507419CC181A27 | Q37: 0101010102 | R37: T | S37: F | T37: F | AU37: 0101010102505C016DC07D506C507419CC181A27 | AV37: 83
A38: 0.6/1kv 트레이용 절연난연 제어용케이블(F-CVV)-철거 | B38: 15C*2.5㎟ | C38: M | D38: 24 | E38: =TRUNC(G38+I38+K38, 0) -> 9778 | F38: =TRUNC(H38+J38+L38, 0) -> 234672 | G38: =TRUNC(일위대가목록!F27,0) -> 284 | H38: =TRUNC(G38*D38, 0) -> 6816 | I38: =TRUNC(일위대가목록!G27,0) -> 9494 | J38: =TRUNC(I38*D38, 0) -> 227856 | K38: =TRUNC(일위대가목록!H27,0) -> 0 | L38: =TRUNC(K38*D38, 0) -> 0 | M38: 호표 24 | N38: 505C016DC07D506C50741BF90D4DCA | Q38: 0101010102 | R38: T | S38: F | T38: F | AU38: 0101010102505C016DC07D506C50741BF90D4DCA | AV38: 84
A39: 0.6/1kv 트레이용 절연난연 제어용케이블(F-CVV)-철거 | B39: 30C*2.5㎟ | C39: M | D39: 9 | E39: =TRUNC(G39+I39+K39, 0) -> 15457 | F39: =TRUNC(H39+J39+L39, 0) -> 139113 | G39: =TRUNC(일위대가목록!F28,0) -> 450 | H39: =TRUNC(G39*D39, 0) -> 4050 | I39: =TRUNC(일위대가목록!G28,0) -> 15007 | J39: =TRUNC(I39*D39, 0) -> 135063 | K39: =TRUNC(일위대가목록!H28,0) -> 0 | L39: =TRUNC(K39*D39, 0) -> 0 | M39: 호표 25 | N39: 505C016DC07D506C50741BF90CA2E7 | Q39: 0101010102 | R39: T | S39: F | T39: F | AU39: 0101010102505C016DC07D506C50741BF90CA2E7 | AV39: 85
A40: 0.6/1kv 트레이용 제어용케이블(F-CVV-S)-철거 | B40: 2C*1.5㎟ | C40: M | D40: 19 | E40: =TRUNC(G40+I40+K40, 0) -> 2649 | F40: =TRUNC(H40+J40+L40, 0) -> 50331 | G40: =TRUNC(일위대가목록!F29,0) -> 77 | H40: =TRUNC(G40*D40, 0) -> 1463 | I40: =TRUNC(일위대가목록!G29,0) -> 2572 | J40: =TRUNC(I40*D40, 0) -> 48868 | K40: =TRUNC(일위대가목록!H29,0) -> 0 | L40: =TRUNC(K40*D40, 0) -> 0 | M40: 호표 26 | N40: 505C016DC07D506F20799C41CF0C1F | Q40: 0101010102 | R40: T | S40: F | T40: F | AU40: 0101010102505C016DC07D506F20799C41CF0C1F | AV40: 86
A41: 난연 비닐절연접지용전선(F-GV)-관내-철거 | B41: 0.6/1kv, 16㎟ | C41: M | D41: 21 | E41: =TRUNC(G41+I41+K41, 0) -> 1492 | F41: =TRUNC(H41+J41+L41, 0) -> 31332 | G41: =TRUNC(일위대가목록!F30,0) -> 43 | H41: =TRUNC(G41*D41, 0) -> 903 | I41: =TRUNC(일위대가목록!G30,0) -> 1449 | J41: =TRUNC(I41*D41, 0) -> 30429 | K41: =TRUNC(일위대가목록!H30,0) -> 0 | L41: =TRUNC(K41*D41, 0) -> 0 | M41: 호표 27 | N41: 505C016DC06C5A01607F62360411AF | Q41: 0101010102 | R41: T | S41: F | T41: F | AU41: 0101010102505C016DC06C5A01607F62360411AF | AV41: 89
A42: 난연 비닐절연접지용전선(F-GV)-관내-철거 | B42: 0.6/1kv, 6㎟ | C42: M | D42: 9 | E42: =TRUNC(G42+I42+K42, 0) -> 1279 | F42: =TRUNC(H42+J42+L42, 0) -> 11511 | G42: =TRUNC(일위대가목록!F31,0) -> 37 | H42: =TRUNC(G42*D42, 0) -> 333 | I42: =TRUNC(일위대가목록!G31,0) -> 1242 | J42: =TRUNC(I42*D42, 0) -> 11178 | K42: =TRUNC(일위대가목록!H31,0) -> 0 | L42: =TRUNC(K42*D42, 0) -> 0 | M42: 호표 28 | N42: 505C016DC06C5A01607F6236041736 | Q42: 0101010102 | R42: T | S42: F | T42: F | AU42: 0101010102505C016DC06C5A01607F6236041736 | AV42: 88
A43: 난연 비닐절연접지용전선(F-GV)-관내-철거 | B43: 0.6/1kv, 4㎟ | C43: M | D43: 24 | E43: =TRUNC(G43+I43+K43, 0) -> 1279 | F43: =TRUNC(H43+J43+L43, 0) -> 30696 | G43: =TRUNC(일위대가목록!F32,0) -> 37 | H43: =TRUNC(G43*D43, 0) -> 888 | I43: =TRUNC(일위대가목록!G32,0) -> 1242 | J43: =TRUNC(I43*D43, 0) -> 29808 | K43: =TRUNC(일위대가목록!H32,0) -> 0 | L43: =TRUNC(K43*D43, 0) -> 0 | M43: 호표 29 | N43: 505C016DC06C5A01607F6236041611 | Q43: 0101010102 | R43: T | S43: F | T43: F | AU43: 0101010102505C016DC06C5A01607F6236041611 | AV43: 87
Q44: 0101010102
Q45: 0101010102
Q46: 0101010102
Q47: 0101010102
Q48: 0101010102
Q49: 0101010102
Q50: 0101010102
Q51: 0101010102
Q52: 0101010102
Q53: 0101010102
A54: [ 합 계 ] | F54: =SUMIF(Q31:Q53,"0101010102",F31:F53) -> 1513197 | H54: =SUMIF(Q31:Q53,"0101010102",H31:H53) -> 43901 | J54: =SUMIF(Q31:Q53,"0101010102",J31:J53) -> 1469296 | L54: =SUMIF(Q31:Q53,"0101010102",L31:L53) -> 0 | N54: TOTAL
A55: 1.1.1.3 임시발전기 케이블공사 | B55: 1. 도급공사 1.1 신촌 중계펌프장 1.1.1 전력간선 및 동력설비공사 | Q55: 0101010103
A56: 파상형경질폴리에틸렌전선관-임시발전기(품 50%적용) | B56: 50㎜ | C56: M | D56: 15 | E56: =TRUNC(G56+I56+K56, 0) -> 3937 | F56: =TRUNC(H56+J56+L56, 0) -> 59055 | G56: =TRUNC(일위대가목록!F33,0) -> 910 | H56: =TRUNC(G56*D56, 0) -> 13650 | I56: =TRUNC(일위대가목록!G33,0) -> 3027 | J56: =TRUNC(I56*D56, 0) -> 45405 | K56: =TRUNC(일위대가목록!H33,0) -> 0 | L56: =TRUNC(K56*D56, 0) -> 0 | M56: 호표 30 | N56: 505C016DC05253DE907C73FEDA5033 | Q56: 0101010103 | R56: T | S56: F | T56: F | AU56: 0101010103505C016DC05253DE907C73FEDA5033 | AV56: 309
A57: 0.6/1kv 난연 전력케이블(F-CV)-임시발전기(품 50%적용) | B57: 4C*25㎟ | C57: M | D57: 15 | E57: =TRUNC(G57+I57+K57, 0) -> 32500 | F57: =TRUNC(H57+J57+L57, 0) -> 487500 | G57: =TRUNC(일위대가목록!F34,0) -> 20556 | H57: =TRUNC(G57*D57, 0) -> 308340 | I57: =TRUNC(일위대가목록!G34,0) -> 11944 | J57: =TRUNC(I57*D57, 0) -> 179160 | K57: =TRUNC(일위대가목록!H34,0) -> 0 | L57: =TRUNC(K57*D57, 0) -> 0 | M57: 호표 31 | N57: 505C016DC07D5170F072948BAAAA61 | Q57: 0101010103 | R57: T | S57: F | T57: F | AU57: 0101010103505C016DC07D5170F072948BAAAA61 | AV57: 324
A58: 난연 비닐절연접지용전선(F-GV)-임시발전기(품 50%적용) | B58: 0.6/1kv, 16㎟, 관내 | C58: M | D58: 15 | E58: =TRUNC(G58+I58+K58, 0) -> 3720 | F58: =TRUNC(H58+J58+L58, 0) -> 55800 | G58: =TRUNC(일위대가목록!F35,0) -> 2754 | H58: =TRUNC(G58*D58, 0) -> 41310 | I58: =TRUNC(일위대가목록!G35,0) -> 966 | J58: =TRUNC(I58*D58, 0) -> 14490 | K58: =TRUNC(일위대가목록!H35,0) -> 0 | L58: =TRUNC(K58*D58, 0) -> 0 | M58: 호표 32 | N58: 505C016DC06C5A01607F62360411AC | Q58: 0101010103 | R58: T | S58: F | T58: F | AU58: 0101010103505C016DC06C5A01607F62360411AC | AV58: 315
A59: 전력케이블 단말처리-저압(1 KV 이하) | B59: 1C, 25㎟ | C59: 개소 | D59: 8 | E59: =TRUNC(G59+I59+K59, 0) -> 31416 | F59: =TRUNC(H59+J59+L59, 0) -> 251328 | G59: =TRUNC(일위대가목록!F36,0) -> 1095 | H59: =TRUNC(G59*D59, 0) -> 8760 | I59: =TRUNC(일위대가목록!G36,0) -> 30321 | J59: =TRUNC(I59*D59, 0) -> 242568 | K59: =TRUNC(일위대가목록!H36,0) -> 0 | L59: =TRUNC(K59*D59, 0) -> 0 | M59: 호표 33 | N59: 505C116B7AA854EC10724F7C541AC0 | Q59: 0101010103 | R59: T | S59: F | T59: F | AU59: 0101010103505C116B7AA854EC10724F7C541AC0 | AV59: 318
A60: 전력케이블 단말처리-저압(1 KV 이하) | B60: 1C, 16㎟ | C60: 개소 | D60: 2 | E60: =TRUNC(G60+I60+K60, 0) -> 25678 | F60: =TRUNC(H60+J60+L60, 0) -> 51356 | G60: =TRUNC(일위대가목록!F18,0) -> 870 | H60: =TRUNC(G60*D60, 0) -> 1740 | I60: =TRUNC(일위대가목록!G18,0) -> 24808 | J60: =TRUNC(I60*D60, 0) -> 49616 | K60: =TRUNC(일위대가목록!H18,0) -> 0 | L60: =TRUNC(K60*D60, 0) -> 0 | M60: 호표 15 | N60: 505C116B7AA854EC10724F7C541BE6 | Q60: 0101010103 | R60: T | S60: F | T60: F | AU60: 0101010103505C116B7AA854EC10724F7C541BE6 | AV60: 319
Q61: 0101010103
Q62: 0101010103
Q63: 0101010103
Q64: 0101010103
Q65: 0101010103
Q66: 0101010103
Q67: 0101010103
Q68: 0101010103
Q69: 0101010103
Q70: 0101010103
Q71: 0101010103
Q72: 0101010103
... Q78: 0101010103
A79: [ 합 계 ] | F79: =SUMIF(Q56:Q78,"0101010103",F56:F78) -> 905039 | H79: =SUMIF(Q56:Q78,"0101010103",H56:H78) -> 373800 | J79: =SUMIF(Q56:Q78,"0101010103",J56:J78) -> 531239 | L79: =SUMIF(Q56:Q78,"0101010103",L56:L78) -> 0 | N79: TOTAL
A80: 1.2.1.1 설치공사 | B80: 1. 도급공사 1.2 조천 중계펌프장 1.2.1 전력간선 및 동력설비공사 | Q80: 0101020101
A81: 합성수지제가요전선관-매입 | B81: 하이렉스-CD, 16㎜ | C81: M | D81: 70 | E81: =TRUNC(G81+I81+K81, 0) -> 11640 | F81: =TRUNC(H81+J81+L81, 0) -> 814800 | G81: =TRUNC(일위대가목록!F37,0) -> 596 | H81: =TRUNC(G81*D81, 0) -> 41720 | I81: =TRUNC(일위대가목록!G37,0) -> 11044 | J81: =TRUNC(I81*D81, 0) -> 773080 | K81: =TRUNC(일위대가목록!H37,0) -> 0 | L81: =TRUNC(K81*D81, 0) -> 0 | M81: 호표 34 | N81: 505C016DC05253DBC0789211742DAA | Q81: 0101020101 | R81: T | S81: F | T81: F | AU81: 0101020101505C016DC05253DBC0789211742DAA | AV81: 516
A82: 강제전선관-노출 | B82: 아연도, 28mm | C82: M | D82: 57 | E82: =TRUNC(G82+I82+K82, 0) -> 52940 | F82: =TRUNC(H82+J82+L82, 0) -> 3017580 | G82: =TRUNC(일위대가목록!F38,0) -> 6554 | H82: =TRUNC(G82*D82, 0) -> 373578 | I82: =TRUNC(일위대가목록!G38,0) -> 46386 | J82: =TRUNC(I82*D82, 0) -> 2644002 | K82: =TRUNC(일위대가목록!H38,0) -> 0 | L82: =TRUNC(K82*D82, 0) -> 0 | M82: 호표 35 | N82: 505C016DC05253DDF0758A141E1198 | Q82: 0101020101 | R82: T | S82: F | T82: F | AU82: 0101020101505C016DC05253DDF0758A141E1198 | AV82: 361
A83: 강제전선관-노출 | B83: 아연도, 22mm | C83: M | D83: 7 | E83: =TRUNC(G83+I83+K83, 0) -> 41509 | F83: =TRUNC(H83+J83+L83, 0) -> 290563 | G83: =TRUNC(일위대가목록!F39,0) -> 5063 | H83: =TRUNC(G83*D83, 0) -> 35441 | I83: =TRUNC(일위대가목록!G39,0) -> 36446 | J83: =TRUNC(I83*D83, 0) -> 255122 | K83: =TRUNC(일위대가목록!H39,0) -> 0 | L83: =TRUNC(K83*D83, 0) -> 0 | M83: 호표 36 | N83: 505C016DC05253DDF0758A141E10F1 | Q83: 0101020101 | R83: T | S83: F | T83: F | AU83: 0101020101505C016DC05253DDF0758A141E10F1 | AV83: 134
A84: 강재전선관용부품 | B84: 강재전선관용부품, 노말밴드후강전선관용, 아연도, 28mm | C84: 개 | D84: 12 | E84: =TRUNC(G84+I84+K84, 0) -> 3130 | F84: =TRUNC(H84+J84+L84, 0) -> 37560 | G84: =TRUNC(단가대비표!O105,0) -> 3130 | H84: =TRUNC(G84*D84, 0) -> 37560 | I84: =TRUNC(단가대비표!P105,0) -> 0 | J84: =TRUNC(I84*D84, 0) -> 0 | K84: =TRUNC(단가대비표!V105,0) -> 0 | L84: =TRUNC(K84*D84, 0) -> 0 | N84: 57392168B22B5EDE007FCD84612FE0377B2236 | Q84: 0101020101 | R84: F | S84: F | T84: T | AU84: 010102010157392168B22B5EDE007FCD84612FE0377B2236 | AV84: 363
A85: 전선관 지지대 | B85: 28C | C85: 개 | D85: 38 | E85: =TRUNC(G85+I85+K85, 0) -> 21597 | F85: =TRUNC(H85+J85+L85, 0) -> 820686 | G85: =TRUNC(일위대가목록!F40,0) -> 1718 | H85: =TRUNC(G85*D85, 0) -> 65284 | I85: =TRUNC(일위대가목록!G40,0) -> 19879 | J85: =TRUNC(I85*D85, 0) -> 755402 | K85: =TRUNC(일위대가목록!H40,0) -> 0 | L85: =TRUNC(K85*D85, 0) -> 0 | M85: 호표 37 | N85: 505C016DC05253D1C0745C702AFC1B | Q85: 0101020101 | R85: T | S85: F | T85: F | AU85: 0101020101505C016DC05253D1C0745C702AFC1B | AV85: 590
A86: 전선관 지지대 | B86: 22C | C86: 개 | D86: 5 | E86: =TRUNC(G86+I86+K86, 0) -> 21529 | F86: =TRUNC(H86+J86+L86, 0) -> 107645 | G86: =TRUNC(일위대가목록!F41,0) -> 1650 | H86: =TRUNC(G86*D86, 0) -> 8250 | I86: =TRUNC(일위대가목록!G41,0) -> 19879 | J86: =TRUNC(I86*D86, 0) -> 99395 | K86: =TRUNC(일위대가목록!H41,0) -> 0 | L86: =TRUNC(K86*D86, 0) -> 0 | M86: 호표 38 | N86: 505C016DC05253D1C0745C702AFC1A | Q86: 0101020101 | R86: T | S86: F | T86: F | AU86: 0101020101505C016DC05253D1C0745C702AFC1A | AV86: 591
A87: 1종금속제가요전선관-노출 | B87: 22mm, 비방수 | C87: M | D87: 28 | E87: =TRUNC(G87+I87+K87, 0) -> 20972 | F87: =TRUNC(H87+J87+L87, 0) -> 587216 | G87: =TRUNC(일위대가목록!F42,0) -> 1645 | H87: =TRUNC(G87*D87, 0) -> 46060 | I87: =TRUNC(일위대가목록!G42,0) -> 19327 | J87: =TRUNC(I87*D87, 0) -> 541156 | K87: =TRUNC(일위대가목록!H42,0) -> 0 | L87: =TRUNC(K87*D87, 0) -> 0 | M87: 호표 39 | N87: 505C016DC05253DCE07E94E19B40D3 | Q87: 0101020101 | R87: T | S87: F | T87: F | AU87: 0101020101505C016DC05253DCE07E94E19B40D3 | AV87: 333
A88: 0.6/1kv 난연 전력케이블(F-CV)-옥외 | B88: 1C*240㎟ | C88: M | D88: 440 | E88: =TRUNC(G88+I88+K88, 0) -> 44905 | F88: =TRUNC(H88+J88+L88, 0) -> 19758200 | G88: =TRUNC(일위대가목록!F43,0) -> 37386 | H88: =TRUNC(G88*D88, 0) -> 16449840 | I88: =TRUNC(일위대가목록!G43,0) -> 7519 | J88: =TRUNC(I88*D88, 0) -> 3308360 | K88: =TRUNC(일위대가목록!H43,0) -> 0 | L88: =TRUNC(K88*D88, 0) -> 0 | M88: 호표 40 | N88: 505C016DC07D5170F0729137AD52A7 | Q88: 0101020101 | R88: T | S88: F | T88: F | AU88: 0101020101505C016DC07D5170F0729137AD52A7 | AV88: 615
A89: 0.6/1kv 난연 전력케이블(F-CV) | B89: 1C*70㎟ | C89: M | D89: 204 | E89: =TRUNC(G89+I89+K89, 0) -> 30968 | F89: =TRUNC(H89+J89+L89, 0) -> 6317472 | G89: =TRUNC(일위대가목록!F44,0) -> 13511 | H89: =TRUNC(G89*D89, 0) -> 2756244 | I89: =TRUNC(일위대가목록!G44,0) -> 17457 | J89: =TRUNC(I89*D89, 0) -> 3561228 | K89: =TRUNC(일위대가목록!H44,0) -> 0 | L89: =TRUNC(K89*D89, 0) -> 0 | M89: 호표 41 | N89: 505C016DC07D5170F0729137AD5727 | Q89: 0101020101 | R89: T | S89: F | T89: F | AU89: 0101020101505C016DC07D5170F0729137AD5727 | AV89: 425
A90: 0.6/1kv 난연 전력케이블(F-CV) | B90: 4C*6㎟ | C90: M | D90: 66 | E90: =TRUNC(G90+I90+K90, 0) -> 15949 | F90: =TRUNC(H90+J90+L90, 0) -> 1052634 | G90: =TRUNC(일위대가목록!F45,0) -> 5536 | H90: =TRUNC(G90*D90, 0) -> 365376 | I90: =TRUNC(일위대가목록!G45,0) -> 10413 | J90: =TRUNC(I90*D90, 0) -> 687258 | K90: =TRUNC(일위대가목록!H45,0) -> 0 | L90: =TRUNC(K90*D90, 0) -> 0 | M90: 호표 42 | N90: 505C016DC07D5170F072948BAAA688 | Q90: 0101020101 | R90: T | S90: F | T90: F | AU90: 0101020101505C016DC07D5170F072948BAAA688 | AV90: 258
A91: 0.6/1kv 난연 전력케이블(F-CV) | B91: 4C*4㎟ | C91: M | D91: 69 | E91: =TRUNC(G91+I91+K91, 0) -> 12805 | F91: =TRUNC(H91+J91+L91, 0) -> 883545 | G91: =TRUNC(일위대가목록!F9,0) -> 3924 | H91: =TRUNC(G91*D91, 0) -> 270756 | I91: =TRUNC(일위대가목록!G9,0) -> 8881 | J91: =TRUNC(I91*D91, 0) -> 612789 | K91: =TRUNC(일위대가목록!H9,0) -> 0 | L91: =TRUNC(K91*D91, 0) -> 0 | M91: 호표 6 | N91: 505C016DC07D5170F072948BAAA107 | Q91: 0101020101 | R91: T | S91: F | T91: F | AU91: 0101020101505C016DC07D5170F072948BAAA107 | AV91: 27
A92: 0.6/1kv 트레이용 절연난연 제어용케이블(F-CVV) | B92: 2C*2.5㎟ | C92: M | D92: 180 | E92: =TRUNC(G92+I92+K92, 0) -> 5932 | F92: =TRUNC(H92+J92+L92, 0) -> 1067760 | G92: =TRUNC(일위대가목록!F10,0) -> 1645 | H92: =TRUNC(G92*D92, 0) -> 296100 | I92: =TRUNC(일위대가목록!G10,0) -> 4287 | J92: =TRUNC(I92*D92, 0) -> 771660 | K92: =TRUNC(일위대가목록!H10,0) -> 0 | L92: =TRUNC(K92*D92, 0) -> 0 | M92: 호표 7 | N92: 505C016DC07D506C507419CC181E81 | Q92: 0101020101 | R92: T | S92: F | T92: F | AU92: 0101020101505C016DC07D506C507419CC181E81 | AV92: 28
A93: 0.6/1kv 트레이용 절연난연 제어용케이블(F-CVV) | B93: 3C*2.5㎟ | C93: M | D93: 21 | E93: =TRUNC(G93+I93+K93, 0) -> 7852 | F93: =TRUNC(H93+J93+L93, 0) -> 164892 | G93: =TRUNC(일위대가목록!F11,0) -> 2033 | H93: =TRUNC(G93*D93, 0) -> 42693 | I93: =TRUNC(일위대가목록!G11,0) -> 5819 | J93: =TRUNC(I93*D93, 0) -> 122199 | K93: =TRUNC(일위대가목록!H11,0) -> 0 | L93: =TRUNC(K93*D93, 0) -> 0 | M93: 호표 8 | N93: 505C016DC07D506C507419CC181A26 | Q93: 0101020101 | R93: T | S93: F | T93: F | AU93: 0101020101505C016DC07D506C507419CC181A26 | AV93: 137
A94: 0.6/1kv 트레이용 절연난연 제어용케이블(F-CVV) | B94: 15C*2.5㎟ | C94: M | D94: 69 | E94: =TRUNC(G94+I94+K94, 0) -> 26225 | F94: =TRUNC(H94+J94+L94, 0) -> 1809525 | G94: =TRUNC(일위대가목록!F12,0) -> 7237 | H94: =TRUNC(G94*D94, 0) -> 499353 | I94: =TRUNC(일위대가목록!G12,0) -> 18988 | J94: =TRUNC(I94*D94, 0) -> 1310172 | K94: =TRUNC(일위대가목록!H12,0) -> 0 | L94: =TRUNC(K94*D94, 0) -> 0 | M94: 호표 9 | N94: 505C016DC07D506C50741BF90D4DCB | Q94: 0101020101 | R94: T | S94: F | T94: F | AU94: 0101020101505C016DC07D506C50741BF90D4DCB | AV94: 29
A95: 0.6/1kv 트레이용 제어용케이블(F-CVV-S) | B95: 2C*1.5㎟ | C95: M | D95: 33 | E95: =TRUNC(G95+I95+K95, 0) -> 6904 | F95: =TRUNC(H95+J95+L95, 0) -> 227832 | G95: =TRUNC(일위대가목록!F14,0) -> 1759 | H95: =TRUNC(G95*D95, 0) -> 58047 | I95: =TRUNC(일위대가목록!G14,0) -> 5145 | J95: =TRUNC(I95*D95, 0) -> 169785 | K95: =TRUNC(일위대가목록!H14,0) -> 0 | L95: =TRUNC(K95*D95, 0) -> 0 | M95: 호표 11 | N95: 505C016DC07D506F20799C41CF0C1E | Q95: 0101020101 | R95: T | S95: F | T95: F | AU95: 0101020101505C016DC07D506F20799C41CF0C1E | AV95: 30
A96: 꼬임케이블 포설 - RS-485 | C96: M | D96: 25 | E96: =TRUNC(G96+I96+K96, 0) -> 8680 | F96: =TRUNC(H96+J96+L96, 0) -> 217000 | G96: =TRUNC(일위대가목록!F46,0) -> 795 | H96: =TRUNC(G96*D96, 0) -> 19875 | I96: =TRUNC(일위대가목록!G46,0) -> 7885 | J96: =TRUNC(I96*D96, 0) -> 197125 | K96: =TRUNC(일위대가목록!H46,0) -> 0 | L96: =TRUNC(K96*D96, 0) -> 0 | M96: 호표 43 | N96: 5144E167278E594F4076B4F6519876 | Q96: 0101020101 | R96: T | S96: F | T96: F | AU96: 01010201015144E167278E594F4076B4F6519876 | AV96: 344
A97: 450/75OV 저독성난연가교폴리올레핀절연전선(HFIX) | B97: 4㎟ | C97: M | D97: 57 | E97: =TRUNC(G97+I97+K97, 0) -> 3760 | F97: =TRUNC(H97+J97+L97, 0) -> 214320 | G97: =TRUNC(일위대가목록!F47,0) -> 999 | H97: =TRUNC(G97*D97, 0) -> 56943 | I97: =TRUNC(일위대가목록!G47,0) -> 2761 | J97: =TRUNC(I97*D97, 0) -> 157377 | K97: =TRUNC(일위대가목록!H47,0) -> 0 | L97: =TRUNC(K97*D97, 0) -> 0 | M97: 호표 44 | N97: 505C016DC06C5A03107C393AE2480F | Q97: 0101020101 | R97: T | S97: F | T97: F | AU97: 0101020101505C016DC06C5A03107C393AE2480F | AV97: 517
A98: 450/75OV 저독성난연가교폴리올레핀절연전선(HFIX) | B98: 2.5㎟ | C98: M | D98: 191 | E98: =TRUNC(G98+I98+K98, 0) -> 3462 | F98: =TRUNC(H98+J98+L98, 0) -> 661242 | G98: =TRUNC(일위대가목록!F48,0) -> 701 | H98: =TRUNC(G98*D98, 0) -> 133891 | I98: =TRUNC(일위대가목록!G48,0) -> 2761 | J98: =TRUNC(I98*D98, 0) -> 527351 | K98: =TRUNC(일위대가목록!H48,0) -> 0 | L98: =TRUNC(K98*D98, 0) -> 0 | M98: 호표 45 | N98: 505C016DC06C5A03107C393AE24916 | Q98: 0101020101 | R98: T | S98: F | T98: F | AU98: 0101020101505C016DC06C5A03107C393AE24916 | AV98: 518
A99: 난연 비닐절연접지용전선(F-GV)-관내 | B99: 0.6/1kv, 120㎟ | C99: M | D99: 34 | E99: =TRUNC(G99+I99+K99, 0) -> 24216 | F99: =TRUNC(H99+J99+L99, 0) -> 823344 | G99: =TRUNC(일위대가목록!F49,0) -> 19661 | H99: =TRUNC(G99*D99, 0) -> 668474 | I99: =TRUNC(일위대가목록!G49,0) -> 4555 | J99: =TRUNC(I99*D99, 0) -> 154870 | K99: =TRUNC(일위대가목록!H49,0) -> 0 | L99: =TRUNC(K99*D99, 0) -> 0 | M99: 호표 46 | N99: 505C016DC06C5A01607F6236053B0C | Q99: 0101020101 | R99: T | S99: F | T99: F | AU99: 0101020101505C016DC06C5A01607F6236053B0C | AV99: 616
A100: 난연 비닐절연접지용전선(F-GV)-관내 | B100: 0.6/1kv, 35㎟ | C100: M | D100: 32 | E100: =TRUNC(G100+I100+K100, 0) -> 9181 | F100: =TRUNC(H100+J100+L100, 0) -> 293792 | G100: =TRUNC(일위대가목록!F50,0) -> 6282 | H100: =TRUNC(G100*D100, 0) -> 201024 | I100: =TRUNC(일위대가목록!G50,0) -> 2899 | J100: =TRUNC(I100*D100, 0) -> 92768 | K100: =TRUNC(일위대가목록!H50,0) -> 0 | L100: =TRUNC(K100*D100, 0) -> 0 | M100: 호표 47 | N100: 505C016DC06C5A01607F623604135C | Q100: 0101020101 | R100: T | S100: F | T100: F | AU100: 0101020101505C016DC06C5A01607F623604135C | AV100: 337
A101: 난연 비닐절연접지용전선(F-GV)-관내 | B101: 0.6/1kv, 6㎟ | C101: M | D101: 66 | E101: =TRUNC(G101+I101+K101, 0) -> 3799 | F101: =TRUNC(H101+J101+L101, 0) -> 250734 | G101: =TRUNC(일위대가목록!F16,0) -> 1315 | H101: =TRUNC(G101*D101, 0) -> 86790 | I101: =TRUNC(일위대가목록!G16,0) -> 2484 | J101: =TRUNC(I101*D101, 0) -> 163944 | K101: =TRUNC(일위대가목록!H16,0) -> 0 | L101: =TRUNC(K101*D101, 0) -> 0 | M101: 호표 13 | N101: 505C016DC06C5A01607F6236041737 | Q101: 0101020101 | R101: T | S101: F | T101: F | AU101: 0101020101505C016DC06C5A01607F6236041737 | AV101: 138
A102: 난연 비닐절연접지용전선(F-GV)-관내 | B102: 0.6/1kv, 4㎟ | C102: M | D102: 33 | E102: =TRUNC(G102+I102+K102, 0) -> 3649 | F102: =TRUNC(H102+J102+L102, 0) -> 120417 | G102: =TRUNC(일위대가목록!F17,0) -> 1165 | H102: =TRUNC(G102*D102, 0) -> 38445 | I102: =TRUNC(일위대가목록!G17,0) -> 2484 | J102: =TRUNC(I102*D102, 0) -> 81972 | K102: =TRUNC(일위대가목록!H17,0) -> 0 | L102: =TRUNC(K102*D102, 0) -> 0 | M102: 호표 14 | N102: 505C016DC06C5A01607F6236041610 | Q102: 0101020101 | R102: T | S102: F | T102: F | AU102: 0101020101505C016DC06C5A01607F6236041610 | AV102: 31
A103: 전력케이블 단말처리-저압(1 KV 이하) | B103: 1C, 240㎟ | C103: 개소 | D103: 24 | E103: =TRUNC(G103+I103+K103, 0) -> 81298 | F103: =TRUNC(H103+J103+L103, 0) -> 1951152 | G103: =TRUNC(일위대가목록!F51,0) -> 10549 | H103: =TRUNC(G103*D103, 0) -> 253176 | I103: =TRUNC(일위대가목록!G51,0) -> 70749 | J103: =TRUNC(I103*D103, 0) -> 1697976 | K103: =TRUNC(일위대가목록!H51,0) -> 0 | L103: =TRUNC(K103*D103, 0) -> 0 | M103: 호표 48 | N103: 505C116B7AA854EC10724F7C553F3C | Q103: 0101020101 | R103: T | S103: F | T103: F | AU103: 0101020101505C116B7AA854EC10724F7C553F3C | AV103: 617
A104: 전력케이블 단말처리-저압(1 KV 이하) | B104: 1C, 120㎟ | C104: 개소 | D104: 2 | E104: =TRUNC(G104+I104+K104, 0) -> 58113 | F104: =TRUNC(H104+J104+L104, 0) -> 116226 | G104: =TRUNC(일위대가목록!F52,0) -> 5741 | H104: =TRUNC(G104*D104, 0) -> 11482 | I104: =TRUNC(일위대가목록!G52,0) -> 52372 | J104: =TRUNC(I104*D104, 0) -> 104744 | K104: =TRUNC(일위대가목록!H52,0) -> 0 | L104: =TRUNC(K104*D104, 0) -> 0 | M104: 호표 49 | N104: 505C116B7AA854EC10724F7C5411E5 | Q104: 0101020101 | R104: T | S104: F | T104: F | AU104: 0101020101505C116B7AA854EC10724F7C5411E5 | AV104: 618
A105: 전력케이블 단말처리-저압(1 KV 이하) | B105: 1C, 70㎟ | C105: 개소 | D105: 36 | E105: =TRUNC(G105+I105+K105, 0) -> 47069 | F105: =TRUNC(H105+J105+L105, 0) -> 1694484 | G105: =TRUNC(일위대가목록!F53,0) -> 3885 | H105: =TRUNC(G105*D105, 0) -> 139860 | I105: =TRUNC(일위대가목록!G53,0) -> 43184 | J105: =TRUNC(I105*D105, 0) -> 1554624 | K105: =TRUNC(일위대가목록!H53,0) -> 0 | L105: =TRUNC(K105*D105, 0) -> 0 | M105: 호표 50 | N105: 505C116B7AA854EC10724F7C541F43 | Q105: 0101020101 | R105: T | S105: F | T105: F | AU105: 0101020101505C116B7AA854EC10724F7C541F43 | AV105: 340
...

Sheet 고재처리비
A1: 고 재 처 리 비
A2: [ 동부하수처리구역 차집관로 정비사업(1공구)_전기및계측 ]
A3: 품 명 | B3: 규 격 | C3: 단위 | D3: 수량 | E3: 합 계 | G3: 재 료 비 | I3: 인 건 비 | K3: 경 비 | M3: 비 고 | N3: 품목코드 | O3: 변수 | P3: 설정 | Q3: 공종코드 | R3: 일위 | S3: 단산 | T3: 자 재 | U3: 손료적용 | V3: 손료저장 | W3: 적용율 | X3: JUK1 | Y3: JUK2 | Z3: JUK3 | AA3: JUK4 | AB3: JUK5 | AC3: JUK6 | AD3: JUK7 | AE3: JUK8 | AF3: JUK9 | AG3: JUK10 | AH3: JUK11 | AI3: JUK12 | AJ3: JUK13 | AK3: JUK14 | AL3: JUK15 | AM3: JUK16 | AN3: JUK17 | AO3: JUK18 | AP3: JUK19 | AQ3: JUK20 | AR3: 자재구분 | AS3: 공종구분 | AT3: 공종레벨 | AU3: 공종+자재 | AV3: 고유번호
E4: 단 가 | F4: 금 액 | G4: 단 가 | H4: 금 액 | I4: 단 가 | J4: 금 액 | K4: 단 가 | L4: 금 액
A5: 4. 고재처리비 | Q5: 010101
A6: 고재처리비 | C6: 식 | D6: 1 | E6: =ROUND(G6+I6+K6, 0) -> -381054 | F6: =ROUND(H6+J6+L6, 0) -> -381054 | K6: =단가대비표!O143 -> -381054 | L6: =ROUND(K6*D6, 0) -> -381054 | N6: 57CD418464AFE68F699AAB7DFA58 | Q6: 010101 | R6: T | S6: F | T6: F | AU6: 01010157CD418464AFE68F699AAB7DFA58 | AV6: 4039
N7: 57CD418464AFE68F699AAB7DFA38 | Q7: 010101 | R7: T | S7: F | T7: F | AU7: 01010157CD418464AFE68F699AAB7DFA38 | AV7: 4125
F10: =ROUND(H10+J10+L10, 0) -> 0 | H10: =ROUND(G10*D10, 0) -> 0 | L10: =ROUND(K10*D10, 0) -> 0 | N10: 57CD418464AFE68F699AAA7387F8 | Q10: 010101 | R10: T | S10: F | T10: F | AU10: 01010157CD418464AFE68F699AAA7387F8 | AV10: 4041
F11: =ROUND(H11+J11+L11, 0) -> 0 | H11: =ROUND(G11*D11, 0) -> 0 | L11: =ROUND(K11*D11, 0) -> 0 | N11: 57CD418464AFE68F699AAA7387D8 | Q11: 010101 | R11: T | S11: F | T11: F | AU11: 01010157CD418464AFE68F699AAA7387D8 | AV11: 4042
F12: =ROUND(H12+J12+L12, 0) -> 0 | H12: =ROUND(G12*D12, 0) -> 0 | L12: =ROUND(K12*D12, 0) -> 0 | N12: 57CD418464AFE68F699AAA7387A8 | Q12: 010101 | R12: T | S12: F | T12: F | AU12: 01010157CD418464AFE68F699AAA7387A8 | AV12: 3973
F13: =ROUND(H13+J13+L13, 0) -> 0 | H13: =ROUND(G13*D13, 0) -> 0 | L13: =ROUND(K13*D13, 0) -> 0 | N13: 57CD418464AFE68F699AAA7387B8 | Q13: 010101 | R13: T | S13: F | T13: F | AU13: 01010157CD418464AFE68F699AAA7387B8 | AV13: 4126
F14: =ROUND(H14+J14+L14, 0) -> 0 | H14: =ROUND(G14*D14, 0) -> 0 | L14: =ROUND(K14*D14, 0) -> 0 | N14: 57CDB18F91D6598037B95573D338 | Q14: 010101 | R14: F | S14: F | T14: T | AU14: 01010157CDB18F91D6598037B95573D338 | AV14: 4043
F15: =ROUND(H15+J15+L15, 0) -> 0 | H15: =ROUND(G15*D15, 0) -> 0 | L15: =ROUND(K15*D15, 0) -> 0 | N15: 57CDB18F91D6F98362F5D57EEE28 | Q15: 010101 | R15: F | S15: F | T15: T | AU15: 01010157CDB18F91D6F98362F5D57EEE28 | AV15: 4049
F16: =ROUND(H16+J16+L16, 0) -> 0 | H16: =ROUND(G16*D16, 0) -> 0 | L16: =ROUND(K16*D16, 0) -> 0 | N16: 57CDB18F91D6F98362F5D57EEE18 | Q16: 010101 | R16: F | S16: F | T16: T | AU16: 01010157CDB18F91D6F98362F5D57EEE18 | AV16: 4048
F21: =ROUND(H21+J21+L21, 0) -> 0 | H21: =ROUND(G21*D21, 0) -> 0 | L21: =ROUND(K21*D21, 0) -> 0 | N21: 57CDB18F91D6F98362F5D57EEE28 | Q21: 010101 | R21: F | S21: F | T21: T | AU21: 01010157CDB18F91D6F98362F5D57EEE28 | AV21: 4049
F22: =ROUND(H22+J22+L22, 0) -> 0 | H22: =ROUND(G22*D22, 0) -> 0 | L22: =ROUND(K22*D22, 0) -> 0 | N22: 57CD4184A2386984C50A807FABF8 | Q22: 010101 | R22: T | S22: F | T22: F | AU22: 01010157CD4184A2386984C50A807FABF8 | AV22: 4050
F23: =ROUND(H23+J23+L23, 0) -> 0 | H23: =ROUND(G23*D23, 0) -> 0 | L23: =ROUND(K23*D23, 0) -> 0 | N23: 57CDB18F91D6598037B95573D338 | Q23: 010101 | R23: F | S23: F | T23: T | AU23: 01010157CDB18F91D6598037B95573D338 | AV23: 4043
F24: =ROUND(H24+J24+L24, 0) -> 0 | H24: =ROUND(G24*D24, 0) -> 0 | L24: =ROUND(K24*D24, 0) -> 0 | N24: 57CDB18F91D6F98362F5D57EEE28 | Q24: 010101 | R24: F | S24: F | T24: T | AU24: 01010157CDB18F91D6F98362F5D57EEE28 | AV24: 4049
F25: =ROUND(H25+J25+L25, 0) -> 0 | H25: =ROUND(G25*D25, 0) -> 0 | L25: =ROUND(K25*D25, 0) -> 0 | N25: 57CDB18F91D6F98362F5D57EEE18 | Q25: 010101 | R25: F | S25: F | T25: T | AU25: 01010157CDB18F91D6F98362F5D57EEE18 | AV25: 4048
... F28: =ROUND(H28+J28+L28, 0) -> 0 | H28: =ROUND(G28*D28, 0) -> 0 | L28: =ROUND(K28*D28, 0) -> 0 | N28: 57CD4184A2383D8F77EB1E7042F8 | Q28: 010101 | R28: T | S28: F | T28: F | AU28: 01010157CD4184A2383D8F77EB1E7042F8 | AV28: 4129

Sheet 일위대가목록
B1: 일 위 대 가 목 록
B2: [ 동부하수처리구역 차집관로 정비사업(1공구)_전기및계측 ]
A3: 코 드 | B3: 품 명 | C3: 규 격 | D3: 단위 | E3: 합 계 | F3: 재 료 비 | G3: 노 무 비 | H3: 경 비 | I3: 번 호 | J3: 비 고 | K3: 노임계수 | L3: 할증 | M3: 장비일위
A4: 505C016DC05253DCE07E94E19AB87A | B4: 1종금속제가요전선관-노출 | C4: 비닐피복, 36mm, 방수 | D4: M | E4: =F4+G4+H4 -> 31859 | F4: =일위대가!H10 -> 3144 | G4: =일위대가!J10 -> 28715 | H4: =일위대가!L10 -> 0 | I4: 호표 1 | J4: 전기 5-1
A5: 505C016DC05253DCE07E94E19AB900 | B5: 1종금속제가요전선관-노출 | C5: 비닐피복, 28mm, 방수 | D5: M | E5: =F5+G5+H5 -> 25691 | F5: =일위대가!H17 -> 1946 | G5: =일위대가!J17 -> 23745 | H5: =일위대가!L17 -> 0 | I5: 호표 2 | J5: 전기 5-1
A6: 505C016DC05253DCE07E94E19ABE82 | B6: 1종금속제가요전선관-노출 | C6: 비닐피복, 22mm, 방수 | D6: M | E6: =F6+G6+H6 -> 20860 | F6: =일위대가!H24 -> 1533 | G6: =일위대가!J24 -> 19327 | H6: =일위대가!L24 -> 0 | I6: 호표 3 | J6: 전기 5-1
A7: 505C016DC07D5170F07293E420FDCF | B7: 0.6/1kv 난연 전력케이블(F-CV) | C7: 3C*6㎟ | D7: M | E7: =F7+G7+H7 -> 12288 | F7: =일위대가!H31 -> 4325 | G7: =일위대가!J31 -> 7963 | H7: =일위대가!L31 -> 0 | I7: 호표 4 | J7: 전기 5-13
A8: 505C016DC07D5170F072948BAAA5E3 | B8: 0.6/1kv 난연 전력케이블(F-CV)-옥외 | C8: 4C*16㎟ | D8: M | E8: =F8+G8+H8 -> 18128 | F8: =일위대가!H39 -> 11553 | G8: =일위대가!J39 -> 6575 | H8: =일위대가!L39 -> 0 | I8: 호표 5 | J8: 전기 4-34
A9: 505C016DC07D5170F072948BAAA107 | B9: 0.6/1kv 난연 전력케이블(F-CV) | C9: 4C*4㎟ | D9: M | E9: =F9+G9+H9 -> 12805 | F9: =일위대가!H46 -> 3924 | G9: =일위대가!J46 -> 8881 | H9: =일위대가!L46 -> 0 | I9: 호표 6 | J9: 전기 5-13
A10: 505C016DC07D506C507419CC181E81 | B10: 0.6/1kv 트레이용 절연난연 제어용케이블(F-CVV) | C10: 2C*2.5㎟ | D10: M | E10: =F10+G10+H10 -> 5932 | F10: =일위대가!H53 -> 1645 | G10: =일위대가!J53 -> 4287 | H10: =일위대가!L53 -> 0 | I10: 호표 7 | J10: 전기 5-13
A11: 505C016DC07D506C507419CC181A26 | B11: 0.6/1kv 트레이용 절연난연 제어용케이블(F-CVV) | C11: 3C*2.5㎟ | D11: M | E11: =F11+G11+H11 -> 7852 | F11: =일위대가!H60 -> 2033 | G11: =일위대가!J60 -> 5819 | H11: =일위대가!L60 -> 0 | I11: 호표 8 | J11: 전기 5-13
A12: 505C016DC07D506C50741BF90D4DCB | B12: 0.6/1kv 트레이용 절연난연 제어용케이블(F-CVV) | C12: 15C*2.5㎟ | D12: M | E12: =F12+G12+H12 -> 26225 | F12: =일위대가!H67 -> 7237 | G12: =일위대가!J67 -> 18988 | H12: =일위대가!L67 -> 0 | I12: 호표 9 | J12: 전기 5-13
A13: 505C016DC07D506C50741BF90CA2E6 | B13: 0.6/1kv 트레이용 절연난연 제어용케이블(F-CVV) | C13: 30C*2.5㎟ | D13: M | E13: =F13+G13+H13 -> 42903 | F13: =일위대가!H74 -> 12889 | G13: =일위대가!J74 -> 30014 | H13: =일위대가!L74 -> 0 | I13: 호표 10 | J13: 전기 5-13
A14: 505C016DC07D506F20799C41CF0C1E | B14: 0.6/1kv 트레이용 제어용케이블(F-CVV-S) | C14: 2C*1.5㎟ | D14: M | E14: =F14+G14+H14 -> 6904 | F14: =일위대가!H81 -> 1759 | G14: =일위대가!J81 -> 5145 | H14: =일위대가!L81 -> 0 | I14: 호표 11 | J14: 전기 5-13
A15: 505C016DC06C5A01607F62360411AE | B15: 난연 비닐절연접지용전선(F-GV)-관내 | C15: 0.6/1kv, 16㎟ | D15: M | E15: =F15+G15+H15 -> 5841 | F15: =일위대가!H88 -> 2942 | G15: =일위대가!J88 -> 2899 | H15: =일위대가!L88 -> 0 | I15: 호표 12 | J15: 전기 3-38
A16: 505C016DC06C5A01607F6236041737 | B16: 난연 비닐절연접지용전선(F-GV)-관내 | C16: 0.6/1kv, 6㎟ | D16: M | E16: =F16+G16+H16 -> 3799 | F16: =일위대가!H95 -> 1315 | G16: =일위대가!J95 -> 2484 | H16: =일위대가!L95 -> 0 | I16: 호표 13 | J16: 전기 3-38
A17: 505C016DC06C5A01607F6236041610 | B17: 난연 비닐절연접지용전선(F-GV)-관내 | C17: 0.6/1kv, 4㎟ | D17: M | E17: =F17+G17+H17 -> 3649 | F17: =일위대가!H102 -> 1165 | G17: =일위대가!J102 -> 2484 | H17: =일위대가!L102 -> 0 | I17: 호표 14 | J17: 전기 3-38
A18: 505C116B7AA854EC10724F7C541BE6 | B18: 전력케이블 단말처리-저압(1 KV 이하) | C18: 1C, 16㎟ | D18: 개소 | E18: =F18+G18+H18 -> 25678 | F18: =일위대가!H108 -> 870 | G18: =일위대가!J108 -> 24808 | H18: =일위대가!L108 -> 0 | I18: 호표 15 | J18: 전기 4-37
A19: 505C016DC014580D60766011930BF9 | B19: 전기수전 | C19: 저압(42C) | D19: 식 | E19: =F19+G19+H19 -> 770625 | F19: =일위대가!H115 -> 99686 | G19: =일위대가!J115 -> 670939 | H19: =일위대가!L115 -> 0 | I19: 호표 16 | J19: 전기 4-29, 전기 5-29
A20: 505C016DC05253DDF0758A141E119A | B20: 강제전선관-철거 | C20: 아연도, 22mm | D20: M | E20: =F20+G20+H20 -> 11261 | F20: =일위대가!H120 -> 328 | G20: =일위대가!J120 -> 10933 | H20: =일위대가!L120 -> 0 | I20: 호표 17 | J20: 전기 5-1
A21: 505C016DC07D5170F0729137ACB6C7 | B21: 0.6/1kv 난연 전력케이블(F-CV)-철거 | C21: 1C*16㎟ | D21: M | E21: =F21+G21+H21 -> 3627 | F21: =일위대가!H125 -> 105 | G21: =일위대가!J125 -> 3522 | H21: =일위대가!L125 -> 0 | I21: 호표 18 | J21: 전기 5-11
A22: 505C016DC07D5170F07293E420FDCE | B22: 0.6/1kv 난연 전력케이블(F-CV)-철거 | C22: 3C*6㎟ | D22: M | E22: =F22+G22+H22 -> 4100 | F22: =일위대가!H130 -> 119 | G22: =일위대가!J130 -> 3981 | H22: =일위대가!L130 -> 0 | I22: 호표 19 | J22: 전기 5-13
A23: 505C016DC07D5170F072948BAAAA62 | B23: 0.6/1kv 난연 전력케이블(F-CV)-옥외-철거 | C23: 4C*25㎟ | D23: M | E23: =F23+G23+H23 -> 3904 | F23: =일위대가!H136 -> 113 | G23: =일위대가!J136 -> 3791 | H23: =일위대가!L136 -> 0 | I23: 호표 20 | J23: 전기 4-34
A24: 505C016DC07D5170F072948BAAA106 | B24: 0.6/1kv 난연 전력케이블(F-CV)-철거 | C24: 4C*4㎟ | D24: M | E24: =F24+G24+H24 -> 4573 | F24: =일위대가!H141 -> 133 | G24: =일위대가!J141 -> 4440 | H24: =일위대가!L141 -> 0 | I24: 호표 21 | J24: 전기 5-13
A25: 505C016DC07D506C507419CC181E80 | B25: 0.6/1kv 트레이용 절연난연 제어용케이블(F-CVV)-철거 | C25: 2C*2.5㎟ | D25: M | E25: =F25+G25+H25 -> 2207 | F25: =일위대가!H146 -> 64 | G25: =일위대가!J146 -> 2143 | H25: =일위대가!L146 -> 0 | I25: 호표 22 | J25: 전기 5-13
A26: 505C016DC07D506C507419CC181A27 | B26: 0.6/1kv 트레이용 절연난연 제어용케이블(F-CVV)-철거 | C26: 3C*2.5㎟ | D26: M | E26: =F26+G26+H26 -> 2996 | F26: =일위대가!H151 -> 87 | G26: =일위대가!J151 -> 2909 | H26: =일위대가!L151 -> 0 | I26: 호표 23 | J26: 전기 5-13
A27: 505C016DC07D506C50741BF90D4DCA | B27: 0.6/1kv 트레이용 절연난연 제어용케이블(F-CVV)-철거 | C27: 15C*2.5㎟ | D27: M | E27: =F27+G27+H27 -> 9778 | F27: =일위대가!H156 -> 284 | G27: =일위대가!J156 -> 9494 | H27: =일위대가!L156 -> 0 | I27: 호표 24 | J27: 전기 5-13
A28: 505C016DC07D506C50741BF90CA2E7 | B28: 0.6/1kv 트레이용 절연난연 제어용케이블(F-CVV)-철거 | C28: 30C*2.5㎟ | D28: M | E28: =F28+G28+H28 -> 15457 | F28: =일위대가!H161 -> 450 | G28: =일위대가!J161 -> 15007 | H28: =일위대가!L161 -> 0 | I28: 호표 25 | J28: 전기 5-13
A29: 505C016DC07D506F20799C41CF0C1F | B29: 0.6/1kv 트레이용 제어용케이블(F-CVV-S)-철거 | C29: 2C*1.5㎟ | D29: M | E29: =F29+G29+H29 -> 2649 | F29: =일위대가!H166 -> 77 | G29: =일위대가!J166 -> 2572 | H29: =일위대가!L166 -> 0 | I29: 호표 26 | J29: 전기 5-13
A30: 505C016DC06C5A01607F62360411AF | B30: 난연 비닐절연접지용전선(F-GV)-관내-철거 | C30: 0.6/1kv, 16㎟ | D30: M | E30: =F30+G30+H30 -> 1492 | F30: =일위대가!H171 -> 43 | G30: =일위대가!J171 -> 1449 | H30: =일위대가!L171 -> 0 | I30: 호표 27 | J30: 전기 3-38
A31: 505C016DC06C5A01607F6236041736 | B31: 난연 비닐절연접지용전선(F-GV)-관내-철거 | C31: 0.6/1kv, 6㎟ | D31: M | E31: =F31+G31+H31 -> 1279 | F31: =일위대가!H176 -> 37 | G31: =일위대가!J176 -> 1242 | H31: =일위대가!L176 -> 0 | I31: 호표 28 | J31: 전기 3-38
A32: 505C016DC06C5A01607F6236041611 | B32: 난연 비닐절연접지용전선(F-GV)-관내-철거 | C32: 0.6/1kv, 4㎟ | D32: M | E32: =F32+G32+H32 -> 1279 | F32: =일위대가!H181 -> 37 | G32: =일위대가!J181 -> 1242 | H32: =일위대가!L181 -> 0 | I32: 호표 29 | J32: 전기 3-38
A33: 505C016DC05253DE907C73FEDA5033 | B33: 파상형경질폴리에틸렌전선관-임시발전기(품 50%적용) | C33: 50㎜ | D33: M | E33: =F33+G33+H33 -> 3937 | F33: =일위대가!H190 -> 910 | G33: =일위대가!J190 -> 3027 | H33: =일위대가!L190 -> 0 | I33: 호표 30 | J33: 전기 4-31
A34: 505C016DC07D5170F072948BAAAA61 | B34: 0.6/1kv 난연 전력케이블(F-CV)-임시발전기(품 50%적용) | C34: 4C*25㎟ | D34: M | E34: =F34+G34+H34 -> 32500 | F34: =일위대가!H197 -> 20556 | G34: =일위대가!J197 -> 11944 | H34: =일위대가!L197 -> 0 | I34: 호표 31 | J34: 전기 5-11
A35: 505C016DC06C5A01607F62360411AC | B35: 난연 비닐절연접지용전선(F-GV)-임시발전기(품 50%적용) | C35: 0.6/1kv, 16㎟, 관내 | D35: M | E35: =F35+G35+H35 -> 3720 | F35: =일위대가!H204 -> 2754 | G35: =일위대가!J204 -> 966 | H35: =일위대가!L204 -> 0 | I35: 호표 32 | J35: 전기 3-38
A36: 505C116B7AA854EC10724F7C541AC0 | B36: 전력케이블 단말처리-저압(1 KV 이하) | C36: 1C, 25㎟ | D36: 개소 | E36: =F36+G36+H36 -> 31416 | F36: =일위대가!H210 -> 1095 | G36: =일위대가!J210 -> 30321 | H36: =일위대가!L210 -> 0 | I36: 호표 33 | J36: 전기 4-37
A37: 505C016DC05253DBC0789211742DAA | B37: 합성수지제가요전선관-매입 | C37: 하이렉스-CD, 16㎜ | D37: M | E37: =F37+G37+H37 -> 11640 | F37: =일위대가!H218 -> 596 | G37: =일위대가!J218 -> 11044 | H37: =일위대가!L218 -> 0 | I37: 호표 34 | J37: 전기 5-1
A38: 505C016DC05253DDF0758A141E1198 | B38: 강제전선관-노출 | C38: 아연도, 28mm | D38: M | E38: =F38+G38+H38 -> 52940 | F38: =일위대가!H226 -> 6554 | G38: =일위대가!J226 -> 46386 | H38: =일위대가!L226 -> 0 | I38: 호표 35 | J38: 전기 5-1
A39: 505C016DC05253DDF0758A141E10F1 | B39: 강제전선관-노출 | C39: 아연도, 22mm | D39: M | E39: =F39+G39+H39 -> 41509 | F39: =일위대가!H234 -> 5063 | G39: =일위대가!J234 -> 36446 | H39: =일위대가!L234 -> 0 | I39: 호표 36 | J39: 전기 5-1
A40: 505C016DC05253D1C0745C702AFC1B | B40: 전선관 지지대 | C40: 28C | D40: 개 | E40: =F40+G40+H40 -> 21597 | F40: =일위대가!H244 -> 1718 | G40: =일위대가!J244 -> 19879 | H40: =일위대가!L244 -> 0 | I40: 호표 37 | J40: 전기품셈 5-29
A41: 505C016DC05253D1C0745C702AFC1A | B41: 전선관 지지대 | C41: 22C | D41: 개 | E41: =F41+G41+H41 -> 21529 | F41: =일위대가!H254 -> 1650 | G41: =일위대가!J254 -> 19879 | H41: =일위대가!L254 -> 0 | I41: 호표 38 | J41: 전기품셈 5-29
A42: 505C016DC05253DCE07E94E19B40D3 | B42: 1종금속제가요전선관-노출 | C42: 22mm, 비방수 | D42: M | E42: =F42+G42+H42 -> 20972 | F42: =일위대가!H261 -> 1645 | G42: =일위대가!J261 -> 19327 | H42: =일위대가!L261 -> 0 | I42: 호표 39 | J42: 전기 5-1
A43: 505C016DC07D5170F0729137AD52A7 | B43: 0.6/1kv 난연 전력케이블(F-CV)-옥외 | C43: 1C*240㎟ | D43: M | E43: =F43+G43+H43 -> 44905 | F43: =일위대가!H269 -> 37386 | G43: =일위대가!J269 -> 7519 | H43: =일위대가!L269 -> 0 | I43: 호표 40 | J43: 전기 4-34
A44: 505C016DC07D5170F0729137AD5727 | B44: 0.6/1kv 난연 전력케이블(F-CV) | C44: 1C*70㎟ | D44: M | E44: =F44+G44+H44 -> 30968 | F44: =일위대가!H276 -> 13511 | G44: =일위대가!J276 -> 17457 | H44: =일위대가!L276 -> 0 | I44: 호표 41 | J44: 전기 5-11
A45: 505C016DC07D5170F072948BAAA688 | B45: 0.6/1kv 난연 전력케이블(F-CV) | C45: 4C*6㎟ | D45: M | E45: =F45+G45+H45 -> 15949 | F45: =일위대가!H283 -> 5536 | G45: =일위대가!J283 -> 10413 | H45: =일위대가!L283 -> 0 | I45: 호표 42 | J45: 전기 5-13
A46: 5144E167278E594F4076B4F6519876 | B46: 꼬임케이블 포설 - RS-485 | D46: M | E46: =F46+G46+H46 -> 8680 | F46: =일위대가!H289 -> 795 | G46: =일위대가!J289 -> 7885 | H46: =일위대가!L289 -> 0 | I46: 호표 43 | J46: 통신 4-3-1
A47: 505C016DC06C5A03107C393AE2480F | B47: 450/75OV 저독성난연가교폴리올레핀절연전선(HFIX) | C47: 4㎟ | D47: M | E47: =F47+G47+H47 -> 3760 | F47: =일위대가!H296 -> 999 | G47: =일위대가!J296 -> 2761 | H47: =일위대가!L296 -> 0 | I47: 호표 44 | J47: 전기 5-10
A48: 505C016DC06C5A03107C393AE24916 | B48: 450/75OV 저독성난연가교폴리올레핀절연전선(HFIX) | C48: 2.5㎟ | D48: M | E48: =F48+G48+H48 -> 3462 | F48: =일위대가!H303 -> 701 | G48: =일위대가!J303 -> 2761 | H48: =일위대가!L303 -> 0 | I48: 호표 45 | J48: 전기 5-10
A49: 505C016DC06C5A01607F6236053B0C | B49: 난연 비닐절연접지용전선(F-GV)-관내 | C49: 0.6/1kv, 120㎟ | D49: M | E49: =F49+G49+H49 -> 24216 | F49: =일위대가!H310 -> 19661 | G49: =일위대가!J310 -> 4555 | H49: =일위대가!L310 -> 0 | I49: 호표 46 | J49: 전기 3-38
A50: 505C016DC06C5A01607F623604135C | B50: 난연 비닐절연접지용전선(F-GV)-관내 | C50: 0.6/1kv, 35㎟ | D50: M | E50: =F50+G50+H50 -> 9181 | F50: =일위대가!H317 -> 6282 | G50: =일위대가!J317 -> 2899 | H50: =일위대가!L317 -> 0 | I50: 호표 47 | J50: 전기 3-38
A51: 505C116B7AA854EC10724F7C553F3C | B51: 전력케이블 단말처리-저압(1 KV 이하) | C51: 1C, 240㎟ | D51: 개소 | E51: =F51+G51+H51 -> 81298 | F51: =일위대가!H323 -> 10549 | G51: =일위대가!J323 -> 70749 | H51: =일위대가!L323 -> 0 | I51: 호표 48 | J51: 전기 4-37
A52: 505C116B7AA854EC10724F7C5411E5 | B52: 전력케이블 단말처리-저압(1 KV 이하) | C52: 1C, 120㎟ | D52: 개소 | E52: =F52+G52+H52 -> 58113 | F52: =일위대가!H329 -> 5741 | G52: =일위대가!J329 -> 52372 | H52: =일위대가!L329 -> 0 | I52: 호표 49 | J52: 전기 4-37
A53: 505C116B7AA854EC10724F7C541F43 | B53: 전력케이블 단말처리-저압(1 KV 이하) | C53: 1C, 70㎟ | D53: 개소 | E53: =F53+G53+H53 -> 47069 | F53: =일위대가!H335 -> 3885 | G53: =일위대가!J335 -> 43184 | H53: =일위대가!L335 -> 0 | I53: 호표 50 | J53: 전기 4-37
A54: 505C116B7AA854EC10724F7C541D94 | B54: 전력케이블 단말처리-저압(1 KV 이하) | C54: 1C, 35㎟ | D54: 개소 | E54: =F54+G54+H54 -> 34310 | F54: =일위대가!H341 -> 1233 | G54: =일위대가!J341 -> 33077 | H54: =일위대가!L341 -> 0 | I54: 호표 51 | J54: 전기 4-37
A55: 505C016DC0D759B0907FAB38865171 | B55: 풀박스(천장면)-노출 | C55: 600*600*300mm | D55: 개 | E55: =F55+G55+H55 -> 272760 | F55: =일위대가!H347 -> 54083 | G55: =일위대가!J347 -> 218677 | H55: =일위대가!L347 -> 0 | I55: 호표 52 | J55: 전기 5-4
A56: 505C016DC0D759B0907FAB38877BEE | B56: 풀박스(천장면)-노출 | C56: 150*150*150mm | D56: 개 | E56: =F56+G56+H56 -> 78571 | F56: =일위대가!H353 -> 5679 | G56: =일위대가!J353 -> 72892 | H56: =일위대가!L353 -> 0 | I56: 호표 53 | J56: 전기 5-4
A57: 5144916F022C5B6B307844DFE486B7 | B57: 아우트렛박스-매입 | C57: 중형 4각, 54㎜ | D57: 개 | E57: =F57+G57+H57 -> 53904 | F57: =일위대가!H359 -> 2385 | G57: =일위대가!J359 -> 51519 | H57: =일위대가!L359 -> 0 | I57: 호표 54 | J57: 통신 3-2-1
A58: 5144916F022C5B6B307844DFE48135 | B58: 아우트렛박스-매입 | C58: 8각, 54mm | D58: 개 | E58: =F58+G58+H58 -> 53690 | F58: =일위대가!H365 -> 2171 | G58: =일위대가!J365 -> 51519 | H58: =일위대가!L365 -> 0 | I58: 호표 55 | J58: 통신 3-2-1
A59: 505C016AF9745C3D407FD20DF2F238 | B59: 콘센트(접지극부) | C59: 15A, 2P, 2구, 콘센트 포함 | D59: 개 | E59: =F59+G59+H59 -> 24134 | F59: =일위대가!H371 -> 2046 | G59: =일위대가!J371 -> 22088 | H59: =일위대가!L371 -> 0 | I59: 호표 56 | J59: 전기 5-23.가
A60: 505C016DC0D759B0907FAA1285AEDC | B60: 스위치박스-매입 | C60: 1개용 54 mm | D60: 개 | E60: =F60+G60+H60 -> 57468 | F60: =일위대가!H377 -> 2247 | G60: =일위대가!J377 -> 55221 | H60: =일위대가!L377 -> 0 | I60: 호표 57 | J60: 전기 5-3
A61: 505C016DC0D759B2407C7F6887C71E | B61: 단로 스위치 | C61: 1구 | D61: 개 | E61: =F61+G61+H61 -> 25496 | F61: =일위대가!H383 -> 2027 | G61: =일위대가!J383 -> 23469 | H61: =일위대가!L383 -> 0 | I61: 호표 58 | J61: 전기 5-23.2
A62: 505C016AF9DD5402807FAF7A19AA9E | B62: 배관용 구멍뚫기(코어드릴)-Con,c | C62: 두께 30cm 이하 ∮100mm, 벽, 비트포함 | D62: 개소 | E62: =F62+G62+H62 -> 151089 | F62: =일위대가!H391 -> 4565 | G62: =일위대가!J391 -> 145707 | H62: =일위대가!L391 -> 817 | I62: 호표 59 | J62: 전기 5-29-2.나
A63: 505C016AF9DD5402807FAF7A19AA9B | B63: 배관용 구멍뚫기(코어드릴)-Con,c | C63: 두께 20cm 이하 ∮100mm, 벽, 비트포함 | D63: 개소 | E63: =F63+G63+H63 -> 150992 | F63: =일위대가!H399 -> 4468 | G63: =일위대가!J399 -> 145707 | H63: =일위대가!L399 -> 817 | I63: 호표 60 | J63: 전기 5-29-2.나
A64: 505C016AF9DD5402807FAF7A19AA9F | B64: 배관용 구멍뚫기(코어드릴)-Con,c | C64: 두께 15cm 이하 ∮100mm, 벽, 비트포함 | D64: 개소 | E64: =F64+G64+H64 -> 86533 | F64: =일위대가!H407 -> 2583 | G64: =일위대가!J407 -> 83544 | H64: =일위대가!L407 -> 406 | I64: 호표 61 | J64: 전기 5-29-2.나
A65: 501A216C02B45AEBB078863E88FC2A | B65: 콘크리트 복구 | C65: 배관용 구멍뚫기용, Con,c 두께 300mm | D65: M2 | E65: =F65+G65+H65 -> 299937 | F65: =일위대가!H414 -> 162793 | G65: =일위대가!J414 -> 133150 | H65: =일위대가!L414 -> 3994 | I65: 호표 62 | J65: 건축 6-4-1
A66: 501A216C02B45AEBB078863E88FC28 | B66: 콘크리트 복구 | C66: 배관용 구멍뚫기용, Con,c 두께 200mm | D66: M2 | E66: =F66+G66+H66 -> 299937 | F66: =일위대가!H421 -> 162793 | G66: =일위대가!J421 -> 133150 | H66: =일위대가!L421 -> 3994 | I66: 호표 63 | J66: 건축 6-4-1
A67: 501A216C02B45AEBB078863E88FC2B | B67: 콘크리트 복구 | C67: 배관용 구멍뚫기용, Con,c 두께 150mm | D67: M2 | E67: =F67+G67+H67 -> 299937 | F67: =일위대가!H428 -> 162793 | G67: =일위대가!J428 -> 133150 | H67: =일위대가!L428 -> 3994 | I67: 호표 64 | J67: 건축 6-4-1
A68: 505C016AF91253BBE071DA90C8E5BE | B68: LED 등기구 설치 | C68: 펜던트, 40W | D68: 개 | E68: =F68+G68+H68 -> 70812 | F68: =일위대가!H433 -> 2062 | G68: =일위대가!J433 -> 68750 | H68: =일위대가!L433 -> 0 | I68: 호표 65 | J68: 전기 5-25-3
A69: 505C016DFDC15580107F3B84428EE6 | B69: 피난구 유도등(고휘도-LED) | C69: 소형(단면) 60분용 | D69: 개 | E69: =F69+G69+H69 -> 101683 | F69: =일위대가!H439 -> 46462 | G69: =일위대가!J439 -> 55221 | H69: =일위대가!L439 -> 0 | I69: 호표 66 | J69: 전기 10-3-1
A70: 505C016DFD945122E07659A86BABFB | B70: 탈취기 분전반 설치 | D70: 식 | E70: =F70+G70+H70 -> 1889496 | F70: =일위대가!H445 -> 55033 | G70: =일위대가!J445 -> 1834463 | H70: =일위대가!L445 -> 0 | I70: 호표 67 | J70: 전기 6-1
A71: 505C016DC014580D60766011930AD9 | B71: 전기수전 | C71: 저압(104C) | D71: 식 | E71: =F71+G71+H71 -> 4498643 | F71: =일위대가!H452 -> 649723 | G71: =일위대가!J452 -> 3848920 | H71: =일위대가!L452 -> 0 | I71: 호표 68 | J71: 전기 4-29, 전기 5-29
A72: 505C016AF9595E4040789C93C5F8B5 | B72: 전력량계 | C72: 이설 | D72: 개 | E72: =F72+G72+H72 -> 136506 | F72: =일위대가!H457 -> 3975 | G72: =일위대가!J457 -> 132531 | H72: =일위대가!L457 -> 0 | I72: 호표 69 | J72: 전기 5-21
A73: 505C016AF9595E4040789C93C5F22A | B73: 전력량계함 | C73: 설치, W1000*H1600*D500 | D73: 개소 | E73: =F73+G73+H73 -> 91004 | F73: =일위대가!H462 -> 2650 | G73: =일위대가!J462 -> 88354 | H73: =일위대가!L462 -> 0 | I73: 호표 70 | J73: 전기 5-21
A74: 505C016DC05253DDF0758A141E1B9A | B74: 강제전선관-노출-철거 | C74: 아연도, 92mm | D74: M | E74: =F74+G74+H74 -> 102379 | F74: =일위대가!H467 -> 2981 | G74: =일위대가!J467 -> 99398 | H74: =일위대가!L467 -> 0 | I74: 호표 71 | J74: 전기 5-1
A75: 505C016DC05253DCE07E94E19AB901 | B75: 1종금속제가요전선관-노출-철거 | C75: 비닐피복, 28mm, 방수 | D75: M | E75: =F75+G75+H75 -> 7365 | F75: =일위대가!H472 -> 214 | G75: =일위대가!J472 -> 7151 | H75: =일위대가!L472 -> 0 | I75: 호표 72 | J75: 전기 5-1
A76: 505C016DC05253DCE07E94E19ABE83 | B76: 1종금속제가요전선관-노출-철거 | C76: 비닐피복, 22mm, 방수 | D76: M | E76: =F76+G76+H76 -> 6028 | F76: =일위대가!H477 -> 175 | G76: =일위대가!J477 -> 5853 | H76: =일위대가!L477 -> 0 | I76: 호표 73 | J76: 전기 5-1
A77: 505C016DC07D5170F0729137AD52A4 | B77: 0.6/1kv 난연 전력케이블(F-CV)-옥외-철거 | C77: 1C*240㎟ | D77: M | E77: =F77+G77+H77 -> 4562 | F77: =일위대가!H483 -> 132 | G77: =일위대가!J483 -> 4430 | H77: =일위대가!L483 -> 0 | I77: 호표 74 | J77: 전기 4-34
A78: 505C016DC07D5170F0729137AD5726 | B78: 0.6/1kv 난연 전력케이블(F-CV)-철거 | C78: 1C*70㎟ | D78: M | E78: =F78+G78+H78 -> 8989 | F78: =일위대가!H488 -> 261 | G78: =일위대가!J488 -> 8728 | H78: =일위대가!L488 -> 0 | I78: 호표 75 | J78: 전기 5-11
A79: 505C016DC06C5A01607F6236053B0D | B79: 난연 비닐절연접지용전선(F-GV)-관내-철거 | C79: 0.6/1kv, 120㎟ | D79: M | E79: =F79+G79+H79 -> 2345 | F79: =일위대가!H493 -> 68 | G79: =일위대가!J493 -> 2277 | H79: =일위대가!L493 -> 0 | I79: 호표 76 | J79: 전기 3-38
A80: 505C016DC06C5A01607F623604135D | B80: 난연 비닐절연접지용전선(F-GV)-관내-철거 | C80: 0.6/1kv, 35㎟ | D80: M | E80: =F80+G80+H80 -> 1492 | F80: =일위대가!H498 -> 43 | G80: =일위대가!J498 -> 1449 | H80: =일위대가!L498 -> 0 | I80: 호표 77 | J80: 전기 3-38
A81: 505C016DC0D759B0907FAB38865170 | B81: 풀박스(천장면)-노출-철거 | C81: 500*500*400mm | D81: 개 | E81: =F81+G81+H81 -> 67571 | F81: =일위대가!H503 -> 1968 | G81: =일위대가!J503 -> 65603 | H81: =일위대가!L503 -> 0 | I81: 호표 78 | J81: 전기 5-4
A82: 505C016DC05253DE907C73FEDA55B5 | B82: 파상형경질폴리에틸렌전선관-임시발전기(품 50%적용) | C82: 100㎜ | D82: M | E82: =F82+G82+H82 -> 7952 | F82: =일위대가!H512 -> 2318 | G82: =일위대가!J512 -> 5634 | H82: =일위대가!L512 -> 0 | I82: 호표 79 | J82: 전기 4-31
A83: 505C016DC07D5170F0729137AD534E | B83: 0.6/1kv 난연 전력케이블(F-CV)-임시발전기(품 50%적용) | C83: 1C*185㎟ | D83: M | E83: =F83+G83+H83 -> 47744 | F83: =일위대가!H519 -> 33687 | G83: =일위대가!J519 -> 14057 | H83: =일위대가!L519 -> 0 | I83: 호표 80 | J83: 전기 5-11
A84: 505C016DC06C5A01607F6236053A67 | B84: 난연 비닐절연접지용전선(F-GV)-임시발전기(품 50%적용) | C84: 0.6/1kv, 95㎟, 관내 | D84: M | E84: =F84+G84+H84 -> 16378 | F84: =일위대가!H526 -> 15274 | G84: =일위대가!J526 -> 1104 | H84: =일위대가!L526 -> 0 | I84: 호표 81 | J84: 전기 3-38
A85: 505C116B7AA854EC10724F7C5410DC | B85: 전력케이블 단말처리-저압(1 KV 이하) | C85: 1C, 185㎟ | D85: 개소 | E85: =F85+G85+H85 -> 70973 | F85: =일위대가!H532 -> 8494 | G85: =일위대가!J532 -> 62479 | H85: =일위대가!L532 -> 0 | I85: 호표 82 | J85: 전기 4-37
A86: 505C116B7AA854EC10724F7C541EBD | B86: 전력케이블 단말처리-저압(1 KV 이하) | C86: 1C, 95㎟ | D86: 개소 | E86: =F86+G86+H86 -> 50686 | F86: =일위대가!H538 -> 4745 | G86: =일위대가!J538 -> 45941 | H86: =일위대가!L538 -> 0 | I86: 호표 83 | J86: 전기 4-37
A87: 505C016DC00A52A4F07DD08188F9FC | B87: ST 케이블트레이-Straight | C87: 600*100*t2.3mm | D87: M | E87: =F87+G87+H87 -> 118812 | F87: =일위대가!H544 -> 19414 | G87: =일위대가!J544 -> 99398 | H87: =일위대가!L544 -> 0 | I87: 호표 84 | J87: 전기 5-8
A88: 505C016DC00A52A4F07DD08188F9FD | B88: ST 케이블트레이-Straight-4m이상 | C88: 600*100*t2.3mm | D88: M | E88: =F88+G88+H88 -> 139288 | F88: =일위대가!H550 -> 20010 | G88: =일위대가!J550 -> 119278 | H88: =일위대가!L550 -> 0 | I88: 호표 85 | J88: 전기 5-8
A89: 505C016DC00A52A4F07DD08188F9FE | B89: ST 케이블트레이-Straight-COVER | C89: 600*t2.3mm | D89: M | E89: =F89+G89+H89 -> 71778 | F89: =일위대가!H556 -> 51899 | G89: =일위대가!J556 -> 19879 | H89: =일위대가!L556 -> 0 | I89: 호표 86 | J89: 전기 5-8
A90: 505C016DC00A52A4F07DD08188F9FF | B90: ST 케이블트레이-VER. ELBOW | C90: 600*100*t2.3mm | D90: M | E90: =F90+G90+H90 -> 127597 | F90: =일위대가!H562 -> 28199 | G90: =일위대가!J562 -> 99398 | H90: =일위대가!L562 -> 0 | I90: 호표 87 | J90: 전기 5-8
A91: 505C016DC00A52A4F07DD08188F9F8 | B91: ST 케이블트레이-VER. ELBOW-COVER | C91: 600*t2.3mm | D91: M | E91: =F91+G91+H91 -> 97282 | F91: =일위대가!H568 -> 77403 | G91: =일위대가!J568 -> 19879 | H91: =일위대가!L568 -> 0 | I91: 호표 88 | J91: 전기 5-8
A92: 505C016DC05253D1C0745C7029D46B | B92: 트레이지지대-1단 | C92: W:600 | D92: 개소 | E92: =F92+G92+H92 -> 25179 | F92: =일위대가!H577 -> 5300 | G92: =일위대가!J577 -> 19879 | H92: =일위대가!L577 -> 0 | I92: 호표 89 | J92: 전기 5-29
A93: 505C016DC00A52A4F07DD081899662 | B93: ST 케이블트레이-Straight-철거 | C93: 450*75*t2.3mm | D93: M | E93: =F93+G93+H93 -> 42658 | F93: =일위대가!H582 -> 1242 | G93: =일위대가!J582 -> 41416 | H93: =일위대가!L582 -> 0 | I93: 호표 90 | J93: 전기 5-8
A94: 505C016DC00A52A4F07DD081899661 | B94: ST 케이블트레이-Straight-4m이상-철거 | C94: 450*75*t2.3mm | D94: M | E94: =F94+G94+H94 -> 51189 | F94: =일위대가!H587 -> 1490 | G94: =일위대가!J587 -> 49699 | H94: =일위대가!L587 -> 0 | I94: 호표 91 | J94: 전기 5-8
A95: 505C016DC00A52A4F07DD081899660 | B95: ST 케이블트레이-Straight-COVER-철거 | C95: 450*t2.3mm | D95: M | E95: =F95+G95+H95 -> 42658 | F95: =일위대가!H592 -> 1242 | G95: =일위대가!J592 -> 41416 | H95: =일위대가!L592 -> 0 | I95: 호표 92 | J95: 전기 5-8
A96: 505C016DC00A52A4F07DD081899667 | B96: ST 케이블트레이-VER. ELBOW-철거 | C96: 450*75*t2.3mm | D96: M | E96: =F96+G96+H96 -> 42658 | F96: =일위대가!H597 -> 1242 | G96: =일위대가!J597 -> 41416 | H96: =일위대가!L597 -> 0 | I96: 호표 93 | J96: 전기 5-8
A97: 505C016DC00A52A4F07DD081899666 | B97: ST 케이블트레이-VER. ELBOW-COVER-철거 | C97: 450*t2.3mm | D97: M | E97: =F97+G97+H97 -> 42658 | F97: =일위대가!H602 -> 1242 | G97: =일위대가!J602 -> 41416 | H97: =일위대가!L602 -> 0 | I97: 호표 94 | J97: 전기 5-8
A98: 505C016DC05253DE907C73FEDA51D9 | B98: 파상형경질폴리에틸렌전선관-지중포설 | C98: 40㎜ | D98: M | E98: =F98+G98+H98 -> 6865 | F98: =일위대가!H611 -> 810 | G98: =일위대가!J611 -> 6055 | H98: =일위대가!L611 -> 0 | I98: 호표 95 | J98: 전기 4-31
A99: 505C016DC05253DE907C73FEDA52E0 | B99: 파상형경질폴리에틸렌전선관-지중포설 | C99: 30㎜ | D99: M | E99: =F99+G99+H99 -> 5503 | F99: =일위대가!H620 -> 560 | G99: =일위대가!J620 -> 4943 | H99: =일위대가!L620 -> 0 | I99: 호표 96 | J99: 전기 4-31
A100: 505C016DC05253DCE07E94E19B4280 | B100: 1종금속제가요전선관-노출 | C100: 36mm, 비방수 | D100: M | E100: =F100+G100+H100 -> 31786 | F100: =일위대가!H627 -> 3071 | G100: =일위대가!J627 -> 28715 | H100: =일위대가!L627 -> 0 | I100: 호표 97 | J100: 전기 5-1
...

Sheet 일위대가
A1: 일 위 대 가
A2: [ 동부하수처리구역 차집관로 정비사업(1공구)_전기및계측 ]
A3: 품 명 | B3: 규 격 | C3: 단위 | D3: 수량 | E3: 합 계 | G3: 재 료 비 | I3: 노 무 비 | K3: 경 비 | M3: 비 고 | N3: 일위대가 | O3: 품목코드 | P3: 일위 | Q3: 단산 | R3: 자재 | S3: 손료적용 | T3: 손료저장 | U3: 적용율 | V3: JUK1 | W3: JUK2 | X3: JUK3 | Y3: JUK4 | Z3: JUK5 | AA3: JUK6 | AB3: JUK7 | AC3: JUK8 | AD3: JUK9 | AE3: JUK10 | AF3: JUK11 | AG3: JUK12 | AH3: JUK13 | AI3: JUK14 | AJ3: JUK15 | AK3: JUK16 | AL3: JUK17 | AM3: JUK18 | AN3: JUK19 | AO3: JUK20 | AP3: 할증적용 | AQ3: 할증저장 | AR3: 할증율 | AS3: HAL1 | AT3: HAL2 | AU3: HAL3 | AV3: 자재구분 | AW3: 일위대가+자재 | AX3: 장비일위 | AY3: 설정 | AZ3: 할증체크
E4: 단 가 | F4: 금 액 | G4: 단 가 | H4: 금 액 | I4: 단 가 | J4: 금 액 | K4: 단 가 | L4: 금 액
A5: 1종금속제가요전선관-노출 비닐피복, 36mm, 방수 M 전기 5-1 ( 호표 1 ) | N5: 505C016DC05253DCE07E94E19AB87A
A6: 1종금속제가요전선관 | B6: 1종금속제가요전선관, 비닐피복, 36mm, 방수 | C6: M | D6: 1.1 | E6: =TRUNC(G6+I6+K6,1) -> 2035 | F6: =TRUNC(H6+J6+L6,1) -> 2238.5 | G6: =단가대비표!O94 -> 2035 | H6: =TRUNC(G6*D6,1) -> 2238.5 | I6: =단가대비표!P94 -> 0 | J6: =TRUNC(I6*D6,1) -> 0 | K6: =단가대비표!V94 -> 0 | L6: =TRUNC(K6*D6,1) -> 0 | N6: 505C016DC05253DCE07E94E19AB87A | O6: 57392168B22B5EDE007FC3802D3A4B79C4267A | P6: F | Q6: F | R6: T | V6: 1 | AW6: 505C016DC05253DCE07E94E19AB87A57392168B22B5EDE007FC3802D3A4B79C4267A
A7: 잡재료비 | B7: 배관배선의 2% | C7: 식 | D7: 1 | E7: =TRUNC(G7+I7+K7,1) -> 44.7 | F7: =TRUNC(H7+J7+L7,1) -> 44.7 | G7: =TRUNC(SUMIF(V6:V9, RIGHTB(O7, 1), H6:H9)*U7, 2) -> 44.77 | H7: =TRUNC(G7*D7,1) -> 44.7 | I7: 0 | J7: =TRUNC(I7*D7,1) -> 0 | K7: 0 | L7: =TRUNC(K7*D7,1) -> 0 | N7: 505C016DC05253DCE07E94E19AB87A | O7: 5103F16E1D12535A407E8F404786001 | P7: F | Q7: F | R7: F | S7: 0 | T7: 0 | U7: 0.02 | AW7: 505C016DC05253DCE07E94E19AB87A5103F16E1D12535A407E8F404785002
A8: 내선전공 | B8: 일반공사 직종 | C8: 인 | D8: 0.104 | E8: =TRUNC(G8+I8+K8,1) -> 276108 | F8: =TRUNC(H8+J8+L8,1) -> 28715.2 | G8: =단가대비표!O149 -> 0 | H8: =TRUNC(G8*D8,1) -> 0 | I8: =단가대비표!P149 -> 276108 | J8: =TRUNC(I8*D8,1) -> 28715.2 | K8: =단가대비표!V149 -> 0 | L8: =TRUNC(K8*D8,1) -> 0 | N8: 505C016DC05253DCE07E94E19AB87A | O8: 50CE4165153F515D00703BA1C8F8C6FA93812B | P8: F | Q8: F | R8: T | W8: 2 | AW8: 505C016DC05253DCE07E94E19AB87A50CE4165153F515D00703BA1C8F8C6FA93812B
A9: 공구손료 | B9: 인력품의 3% | C9: 식 | D9: 1 | E9: =TRUNC(G9+I9+K9,1) -> 861.4 | F9: =TRUNC(H9+J9+L9,1) -> 861.4 | G9: =TRUNC(SUMIF(W6:W9, RIGHTB(O9, 1), J6:J9)*U9, 2) -> 861.45 | H9: =TRUNC(G9*D9,1) -> 861.4 | I9: 0 | J9: =TRUNC(I9*D9,1) -> 0 | K9: 0 | L9: =TRUNC(K9*D9,1) -> 0 | N9: 505C016DC05253DCE07E94E19AB87A | O9: 5103F16E1D12535A407E8F404785002 | P9: F | Q9: F | R9: F | S9: 1 | T9: 0 | U9: 0.03 | AW9: 505C016DC05253DCE07E94E19AB87A5103F16E1D12535A407E8F404784003
A10: [ 합 계 ] | F10: =H10+J10+L10 -> 31859 | H10: =TRUNC(SUMIF(N6:N9, N5, H6:H9),0) -> 3144 | J10: =TRUNC(SUMIF(N6:N9, N5, J6:J9),0) -> 28715 | L10: =TRUNC(SUMIF(N6:N9, N5, L6:L9),0) -> 0 | N10: TOTAL | O10: TOTAL
A12: 1종금속제가요전선관-노출 비닐피복, 28mm, 방수 M 전기 5-1 ( 호표 2 ) | N12: 505C016DC05253DCE07E94E19AB900
A13: 1종금속제가요전선관 | B13: 1종금속제가요전선관, 비닐피복, 28mm, 방수 | C13: M | D13: 1.1 | E13: =TRUNC(G13+I13+K13,1) -> 1100 | F13: =TRUNC(H13+J13+L13,1) -> 1210 | G13: =단가대비표!O93 -> 1100 | H13: =TRUNC(G13*D13,1) -> 1210 | I13: =단가대비표!P93 -> 0 | J13: =TRUNC(I13*D13,1) -> 0 | K13: =단가대비표!V93 -> 0 | L13: =TRUNC(K13*D13,1) -> 0 | N13: 505C016DC05253DCE07E94E19AB900 | O13: 57392168B22B5EDE007FC3802D3A4B79C4267B | P13: F | Q13: F | R13: T | V13: 1 | AW13: 505C016DC05253DCE07E94E19AB90057392168B22B5EDE007FC3802D3A4B79C4267B
A14: 잡재료비 | B14: 배관배선의 2% | C14: 식 | D14: 1 | E14: =TRUNC(G14+I14+K14,1) -> 24.2 | F14: =TRUNC(H14+J14+L14,1) -> 24.2 | G14: =TRUNC(SUMIF(V13:V16, RIGHTB(O14, 1), H13:H16)*U14, 2) -> 24.2 | H14: =TRUNC(G14*D14,1) -> 24.2 | I14: 0 | J14: =TRUNC(I14*D14,1) -> 0 | K14: 0 | L14: =TRUNC(K14*D14,1) -> 0 | N14: 505C016DC05253DCE07E94E19AB900 | O14: 5103F16E1D12535A407E8F404786001 | P14: F | Q14: F | R14: F | S14: 0 | T14: 0 | U14: 0.02 | AW14: 505C016DC05253DCE07E94E19AB9005103F16E1D12535A407E8F404785002
A15: 내선전공 | B15: 일반공사 직종 | C15: 인 | D15: 0.086 | E15: =TRUNC(G15+I15+K15,1) -> 276108 | F15: =TRUNC(H15+J15+L15,1) -> 23745.2 | G15: =단가대비표!O149 -> 0 | H15: =TRUNC(G15*D15,1) -> 0 | I15: =단가대비표!P149 -> 276108 | J15: =TRUNC(I15*D15,1) -> 23745.2 | K15: =단가대비표!V149 -> 0 | L15: =TRUNC(K15*D15,1) -> 0 | N15: 505C016DC05253DCE07E94E19AB900 | O15: 50CE4165153F515D00703BA1C8F8C6FA93812B | P15: F | Q15: F | R15: T | W15: 2 | AW15: 505C016DC05253DCE07E94E19AB90050CE4165153F515D00703BA1C8F8C6FA93812B
A16: 공구손료 | B16: 인력품의 3% | C16: 식 | D16: 1 | E16: =TRUNC(G16+I16+K16,1) -> 712.3 | F16: =TRUNC(H16+J16+L16,1) -> 712.3 | G16: =TRUNC(SUMIF(W13:W16, RIGHTB(O16, 1), J13:J16)*U16, 2) -> 712.35 | H16: =TRUNC(G16*D16,1) -> 712.3 | I16: 0 | J16: =TRUNC(I16*D16,1) -> 0 | K16: 0 | L16: =TRUNC(K16*D16,1) -> 0 | N16: 505C016DC05253DCE07E94E19AB900 | O16: 5103F16E1D12535A407E8F404785002 | P16: F | Q16: F | R16: F | S16: 1 | T16: 0 | U16: 0.03 | AW16: 505C016DC05253DCE07E94E19AB9005103F16E1D12535A407E8F404784003
A17: [ 합 계 ] | F17: =H17+J17+L17 -> 25691 | H17: =TRUNC(SUMIF(N13:N16, N12, H13:H16),0) -> 1946 | J17: =TRUNC(SUMIF(N13:N16, N12, J13:J16),0) -> 23745 | L17: =TRUNC(SUMIF(N13:N16, N12, L13:L16),0) -> 0 | N17: TOTAL | O17: TOTAL
A19: 1종금속제가요전선관-노출 비닐피복, 22mm, 방수 M 전기 5-1 ( 호표 3 ) | N19: 505C016DC05253DCE07E94E19ABE82
A20: 1종금속제가요전선관 | B20: 1종금속제가요전선관, 비닐피복, 22mm, 방수 | C20: M | D20: 1.1 | E20: =TRUNC(G20+I20+K20,1) -> 850 | F20: =TRUNC(H20+J20+L20,1) -> 935 | G20: =단가대비표!O92 -> 850 | H20: =TRUNC(G20*D20,1) -> 935 | I20: =단가대비표!P92 -> 0 | J20: =TRUNC(I20*D20,1) -> 0 | K20: =단가대비표!V92 -> 0 | L20: =TRUNC(K20*D20,1) -> 0 | N20: 505C016DC05253DCE07E94E19ABE82 | O20: 57392168B22B5EDE007FC3802D3A4B79C4267C | P20: F | Q20: F | R20: T | V20: 1 | AW20: 505C016DC05253DCE07E94E19ABE8257392168B22B5EDE007FC3802D3A4B79C4267C
A21: 잡재료비 | B21: 배관배선의 2% | C21: 식 | D21: 1 | E21: =TRUNC(G21+I21+K21,1) -> 18.7 | F21: =TRUNC(H21+J21+L21,1) -> 18.7 | G21: =TRUNC(SUMIF(V20:V23, RIGHTB(O21, 1), H20:H23)*U21, 2) -> 18.7 | H21: =TRUNC(G21*D21,1) -> 18.7 | I21: 0 | J21: =TRUNC(I21*D21,1) -> 0 | K21: 0 | L21: =TRUNC(K21*D21,1) -> 0 | N21: 505C016DC05253DCE07E94E19ABE82 | O21: 5103F16E1D12535A407E8F404786001 | P21: F | Q21: F | R21: F | S21: 0 | T21: 0 | U21: 0.02 | AW21: 505C016DC05253DCE07E94E19ABE825103F16E1D12535A407E8F404785002
A22: 내선전공 | B22: 일반공사 직종 | C22: 인 | D22: 0.07 | E22: =TRUNC(G22+I22+K22,1) -> 276108 | F22: =TRUNC(H22+J22+L22,1) -> 19327.5 | G22: =단가대비표!O149 -> 0 | H22: =TRUNC(G22*D22,1) -> 0 | I22: =단가대비표!P149 -> 276108 | J22: =TRUNC(I22*D22,1) -> 19327.5 | K22: =단가대비표!V149 -> 0 | L22: =TRUNC(K22*D22,1) -> 0 | N22: 505C016DC05253DCE07E94E19ABE82 | O22: 50CE4165153F515D00703BA1C8F8C6FA93812B | P22: F | Q22: F | R22: T | W22: 2 | AW22: 505C016DC05253DCE07E94E19ABE8250CE4165153F515D00703BA1C8F8C6FA93812B
A23: 공구손료 | B23: 인력품의 3% | C23: 식 | D23: 1 | E23: =TRUNC(G23+I23+K23,1) -> 579.8 | F23: =TRUNC(H23+J23+L23,1) -> 579.8 | G23: =TRUNC(SUMIF(W20:W23, RIGHTB(O23, 1), J20:J23)*U23, 2) -> 579.82 | H23: =TRUNC(G23*D23,1) -> 579.8 | I23: 0 | J23: =TRUNC(I23*D23,1) -> 0 | K23: 0 | L23: =TRUNC(K23*D23,1) -> 0 | N23: 505C016DC05253DCE07E94E19ABE82 | O23: 5103F16E1D12535A407E8F404785002 | P23: F | Q23: F | R23: F | S23: 1 | T23: 0 | U23: 0.03 | AW23: 505C016DC05253DCE07E94E19ABE825103F16E1D12535A407E8F404784003
A24: [ 합 계 ] | F24: =H24+J24+L24 -> 20860 | H24: =TRUNC(SUMIF(N20:N23, N19, H20:H23),0) -> 1533 | J24: =TRUNC(SUMIF(N20:N23, N19, J20:J23),0) -> 19327 | L24: =TRUNC(SUMIF(N20:N23, N19, L20:L23),0) -> 0 | N24: TOTAL | O24: TOTAL
A26: 0.6/1kv 난연 전력케이블(F-CV) 3C*6㎟ M 전기 5-13 ( 호표 4 ) | N26: 505C016DC07D5170F07293E420FDCF
A27: 600V폴리에틸렌케이블 | B27: 600V폴리에틸렌케이블, 0.6/1kv, F-CV, 3C*6㎟ | C27: M | D27: 1.05 | E27: =TRUNC(G27+I27+K27,1) -> 3816 | F27: =TRUNC(H27+J27+L27,1) -> 4006.8 | G27: =단가대비표!O35 -> 3816 | H27: =TRUNC(G27*D27,1) -> 4006.8 | I27: =단가대비표!P35 -> 0 | J27: =TRUNC(I27*D27,1) -> 0 | K27: =단가대비표!V35 -> 0 | L27: =TRUNC(K27*D27,1) -> 0 | N27: 505C016DC07D5170F07293E420FDCF | O27: 572F2164E3095918A0770FD923B73CE1244FF7 | P27: F | Q27: F | R27: T | V27: 1 | AW27: 505C016DC07D5170F07293E420FDCF572F2164E3095918A0770FD923B73CE1244FF7
A28: 잡재료비 | B28: 배관배선의 2% | C28: 식 | D28: 1 | E28: =TRUNC(G28+I28+K28,1) -> 80.1 | F28: =TRUNC(H28+J28+L28,1) -> 80.1 | G28: =TRUNC(SUMIF(V27:V30, RIGHTB(O28, 1), H27:H30)*U28, 2) -> 80.13 | H28: =TRUNC(G28*D28,1) -> 80.1 | I28: 0 | J28: =TRUNC(I28*D28,1) -> 0 | K28: 0 | L28: =TRUNC(K28*D28,1) -> 0 | N28: 505C016DC07D5170F07293E420FDCF | O28: 5103F16E1D12535A407E8F404786001 | P28: F | Q28: F | R28: F | S28: 0 | T28: 0 | U28: 0.02 | AW28: 505C016DC07D5170F07293E420FDCF5103F16E1D12535A407E8F404786001
A29: 저압케이블전공 | B29: 일반공사 직종 | C29: 인 | D29: 0.026 | E29: =TRUNC(G29+I29+K29,1) -> 306274 | F29: =TRUNC(H29+J29+L29,1) -> 7963.1 | G29: =단가대비표!O150 -> 0 | H29: =TRUNC(G29*D29,1) -> 0 | I29: =단가대비표!P150 -> 306274 | J29: =TRUNC(I29*D29,1) -> 7963.1 | K29: =단가대비표!V150 -> 0 | L29: =TRUNC(K29*D29,1) -> 0 | N29: 505C016DC07D5170F07293E420FDCF | O29: 50CE4165153F515D00703BA1C8F8C6FA938126 | P29: F | Q29: F | R29: T | W29: 2 | AW29: 505C016DC07D5170F07293E420FDCF50CE4165153F515D00703BA1C8F8C6FA938126
A30: 공구손료 | B30: 인력품의 3% | C30: 식 | D30: 1 | E30: =TRUNC(G30+I30+K30,1) -> 238.8 | F30: =TRUNC(H30+J30+L30,1) -> 238.8 | G30: =TRUNC(SUMIF(W27:W30, RIGHTB(O30, 1), J27:J30)*U30, 2) -> 238.89 | H30: =TRUNC(G30*D30,1) -> 238.8 | I30: 0 | J30: =TRUNC(I30*D30,1) -> 0 | K30: 0 | L30: =TRUNC(K30*D30,1) -> 0 | N30: 505C016DC07D5170F07293E420FDCF | O30: 5103F16E1D12535A407E8F404785002 | P30: F | Q30: F | R30: F | S30: 1 | T30: 0 | U30: 0.03 | AW30: 505C016DC07D5170F07293E420FDCF5103F16E1D12535A407E8F404785002
A31: [ 합 계 ] | F31: =H31+J31+L31 -> 12288 | H31: =TRUNC(SUMIF(N27:N30, N26, H27:H30),0) -> 4325 | J31: =TRUNC(SUMIF(N27:N30, N26, J27:J30),0) -> 7963 | L31: =TRUNC(SUMIF(N27:N30, N26, L27:L30),0) -> 0 | N31: TOTAL | O31: TOTAL
A33: 0.6/1kv 난연 전력케이블(F-CV)-옥외 4C*16㎟ M 전기 4-34 ( 호표 5 ) | N33: 505C016DC07D5170F072948BAAA5E3
A34: 600V폴리에틸렌케이블-옥외 | B34: 600V폴리에틸렌케이블, 0.6/1kv, F-CV, 4C*16㎟ | C34: M | D34: 1.03 | E34: =TRUNC(G34+I34+K34,1) -> 10809 | F34: =TRUNC(H34+J34+L34,1) -> 11133.2 | G34: =단가대비표!O39 -> 10809 | H34: =TRUNC(G34*D34,1) -> 11133.2 | I34: =단가대비표!P39 -> 0 | J34: =TRUNC(I34*D34,1) -> 0 | K34: =단가대비표!V39 -> 0 | L34: =TRUNC(K34*D34,1) -> 0 | N34: 505C016DC07D5170F072948BAAA5E3 | O34: 572F2164E3095918A0770FD923B73CE124484D | P34: F | Q34: F | R34: T | V34: 1 | AW34: 505C016DC07D5170F072948BAAA5E3572F2164E3095918A0770FD923B73CE124484D
A35: 잡재료비 | B35: 배관배선의 2% | C35: 식 | D35: 1 | E35: =TRUNC(G35+I35+K35,1) -> 222.6 | F35: =TRUNC(H35+J35+L35,1) -> 222.6 | G35: =TRUNC(SUMIF(V34:V38, RIGHTB(O35, 1), H34:H38)*U35, 2) -> 222.66 | H35: =TRUNC(G35*D35,1) -> 222.6 | I35: 0 | J35: =TRUNC(I35*D35,1) -> 0 | K35: 0 | L35: =TRUNC(K35*D35,1) -> 0 | N35: 505C016DC07D5170F072948BAAA5E3 | O35: 5103F16E1D12535A407E8F404786001 | P35: F | Q35: F | R35: F | S35: 0 | T35: 0 | U35: 0.02 | AW35: 505C016DC07D5170F072948BAAA5E35103F16E1D12535A407E8F404786001
A36: 보통인부 | B36: 일반공사 직종 | C36: 인 | D36: 0.013728 | E36: =TRUNC(G36+I36+K36,1) -> 172698 | F36: =TRUNC(H36+J36+L36,1) -> 2370.7 | G36: =단가대비표!O144 -> 0 | H36: =TRUNC(G36*D36,1) -> 0 | I36: =단가대비표!P144 -> 172698 | J36: =TRUNC(I36*D36,1) -> 2370.7 | K36: =단가대비표!V144 -> 0 | L36: =TRUNC(K36*D36,1) -> 0 | M36: 0.00528*2.6 | N36: 505C016DC07D5170F072948BAAA5E3 | O36: 50CE4165153F515D00703BA1C8F8C6FA938692 | P36: F | Q36: F | R36: T | W36: 2 | AW36: 505C016DC07D5170F072948BAAA5E350CE4165153F515D00703BA1C8F8C6FA938692
A37: 저압케이블전공 | B37: 일반공사 직종 | C37: 인 | D37: 0.013728 | E37: =TRUNC(G37+I37+K37,1) -> 306274 | F37: =TRUNC(H37+J37+L37,1) -> 4204.5 | G37: =단가대비표!O150 -> 0 | H37: =TRUNC(G37*D37,1) -> 0 | I37: =단가대비표!P150 -> 306274 | J37: =TRUNC(I37*D37,1) -> 4204.5 | K37: =단가대비표!V150 -> 0 | L37: =TRUNC(K37*D37,1) -> 0 | M37: 0.00528*2.6 | N37: 505C016DC07D5170F072948BAAA5E3 | O37: 50CE4165153F515D00703BA1C8F8C6FA938126 | P37: F | Q37: F | R37: T | W37: 2 | AW37: 505C016DC07D5170F072948BAAA5E350CE4165153F515D00703BA1C8F8C6FA938126
A38: 공구손료 | B38: 인력품의 3% | C38: 식 | D38: 1 | E38: =TRUNC(G38+I38+K38,1) -> 197.2 | F38: =TRUNC(H38+J38+L38,1) -> 197.2 | G38: =TRUNC(SUMIF(W34:W38, RIGHTB(O38, 1), J34:J38)*U38, 2) -> 197.25 | H38: =TRUNC(G38*D38,1) -> 197.2 | I38: 0 | J38: =TRUNC(I38*D38,1) -> 0 | K38: 0 | L38: =TRUNC(K38*D38,1) -> 0 | N38: 505C016DC07D5170F072948BAAA5E3 | O38: 5103F16E1D12535A407E8F404785002 | P38: F | Q38: F | R38: F | S38: 1 | T38: 0 | U38: 0.03 | AW38: 505C016DC07D5170F072948BAAA5E35103F16E1D12535A407E8F404785002
A39: [ 합 계 ] | F39: =H39+J39+L39 -> 18128 | H39: =TRUNC(SUMIF(N34:N38, N33, H34:H38),0) -> 11553 | J39: =TRUNC(SUMIF(N34:N38, N33, J34:J38),0) -> 6575 | L39: =TRUNC(SUMIF(N34:N38, N33, L34:L38),0) -> 0 | N39: TOTAL | O39: TOTAL
A41: 0.6/1kv 난연 전력케이블(F-CV) 4C*4㎟ M 전기 5-13 ( 호표 6 ) | N41: 505C016DC07D5170F072948BAAA107
A42: 600V폴리에틸렌케이블 | B42: 600V폴리에틸렌케이블, 0.6/1kv, F-CV, 4C*4㎟ | C42: M | D42: 1.05 | E42: =TRUNC(G42+I42+K42,1) -> 3416 | F42: =TRUNC(H42+J42+L42,1) -> 3586.8 | G42: =단가대비표!O36 -> 3416 | H42: =TRUNC(G42*D42,1) -> 3586.8 | I42: =단가대비표!P36 -> 0 | J42: =TRUNC(I42*D42,1) -> 0 | K42: =단가대비표!V36 -> 0 | L42: =TRUNC(K42*D42,1) -> 0 | N42: 505C016DC07D5170F072948BAAA107 | O42: 572F2164E3095918A0770FD923B73CE1244968 | P42: F | Q42: F | R42: T | V42: 1 | AW42: 505C016DC07D5170F072948BAAA107572F2164E3095918A0770FD923B73CE1244968
A43: 잡재료비 | B43: 배관배선의 2% | C43: 식 | D43: 1 | E43: =TRUNC(G43+I43+K43,1) -> 71.7 | F43: =TRUNC(H43+J43+L43,1) -> 71.7 | G43: =TRUNC(SUMIF(V42:V45, RIGHTB(O43, 1), H42:H45)*U43, 2) -> 71.73 | H43: =TRUNC(G43*D43,1) -> 71.7 | I43: 0 | J43: =TRUNC(I43*D43,1) -> 0 | K43: 0 | L43: =TRUNC(K43*D43,1) -> 0 | N43: 505C016DC07D5170F072948BAAA107 | O43: 5103F16E1D12535A407E8F404786001 | P43: F | Q43: F | R43: F | S43: 0 | T43: 0 | U43: 0.02 | AW43: 505C016DC07D5170F072948BAAA1075103F16E1D12535A407E8F404786001
A44: 저압케이블전공 | B44: 일반공사 직종 | C44: 인 | D44: 0.029 | E44: =TRUNC(G44+I44+K44,1) -> 306274 | F44: =TRUNC(H44+J44+L44,1) -> 8881.9 | G44: =단가대비표!O150 -> 0 | H44: =TRUNC(G44*D44,1) -> 0 | I44: =단가대비표!P150 -> 306274 | J44: =TRUNC(I44*D44,1) -> 8881.9 | K44: =단가대비표!V150 -> 0 | L44: =TRUNC(K44*D44,1) -> 0 | N44: 505C016DC07D5170F072948BAAA107 | O44: 50CE4165153F515D00703BA1C8F8C6FA938126 | P44: F | Q44: F | R44: T | W44: 2 | AW44: 505C016DC07D5170F072948BAAA10750CE4165153F515D00703BA1C8F8C6FA938126
A45: 공구손료 | B45: 인력품의 3% | C45: 식 | D45: 1 | E45: =TRUNC(G45+I45+K45,1) -> 266.4 | F45: =TRUNC(H45+J45+L45,1) -> 266.4 | G45: =TRUNC(SUMIF(W42:W45, RIGHTB(O45, 1), J42:J45)*U45, 2) -> 266.45 | H45: =TRUNC(G45*D45,1) -> 266.4 | I45: 0 | J45: =TRUNC(I45*D45,1) -> 0 | K45: 0 | L45: =TRUNC(K45*D45,1) -> 0 | N45: 505C016DC07D5170F072948BAAA107 | O45: 5103F16E1D12535A407E8F404785002 | P45: F | Q45: F | R45: F | S45: 1 | T45: 0 | U45: 0.03 | AW45: 505C016DC07D5170F072948BAAA1075103F16E1D12535A407E8F404785002
A46: [ 합 계 ] | F46: =H46+J46+L46 -> 12805 | H46: =TRUNC(SUMIF(N42:N45, N41, H42:H45),0) -> 3924 | J46: =TRUNC(SUMIF(N42:N45, N41, J42:J45),0) -> 8881 | L46: =TRUNC(SUMIF(N42:N45, N41, L42:L45),0) -> 0 | N46: TOTAL | O46: TOTAL
A48: 0.6/1kv 트레이용 절연난연 제어용케이블(F-CVV) 2C*2.5㎟ M 전기 5-13 ( 호표 7 ) | N48: 505C016DC07D506C507419CC181E81
A49: 제어케이블 | B49: 제어케이블, 0.6/1kv, TFR-CVV, 2C*2.5㎟ | C49: M | D49: 1.05 | E49: =TRUNC(G49+I49+K49,1) -> 1416 | F49: =TRUNC(H49+J49+L49,1) -> 1486.8 | G49: =단가대비표!O23 -> 1416 | H49: =TRUNC(G49*D49,1) -> 1486.8 | I49: =단가대비표!P23 -> 0 | J49: =TRUNC(I49*D49,1) -> 0 | K49: =단가대비표!V23 -> 0 | L49: =TRUNC(K49*D49,1) -> 0 | N49: 505C016DC07D506C507419CC181E81 | O49: 572F2164E3095918A0755BD51E98D6D48D1294 | P49: F | Q49: F | R49: T | V49: 1 | AW49: 505C016DC07D506C507419CC181E81572F2164E3095918A0755BD51E98D6D48D1294
A50: 잡재료비 | B50: 배관배선의 2% | C50: 식 | D50: 1 | E50: =TRUNC(G50+I50+K50,1) -> 29.7 | F50: =TRUNC(H50+J50+L50,1) -> 29.7 | G50: =TRUNC(SUMIF(V49:V52, RIGHTB(O50, 1), H49:H52)*U50, 2) -> 29.73 | H50: =TRUNC(G50*D50,1) -> 29.7 | I50: 0 | J50: =TRUNC(I50*D50,1) -> 0 | K50: 0 | L50: =TRUNC(K50*D50,1) -> 0 | N50: 505C016DC07D506C507419CC181E81 | O50: 5103F16E1D12535A407E8F404786001 | P50: F | Q50: F | R50: F | S50: 0 | T50: 0 | U50: 0.02 | AW50: 505C016DC07D506C507419CC181E815103F16E1D12535A407E8F404786001
A51: 저압케이블전공 | B51: 일반공사 직종 | C51: 인 | D51: 0.014 | E51: =TRUNC(G51+I51+K51,1) -> 306274 | F51: =TRUNC(H51+J51+L51,1) -> 4287.8 | G51: =단가대비표!O150 -> 0 | H51: =TRUNC(G51*D51,1) -> 0 | I51: =단가대비표!P150 -> 306274 | J51: =TRUNC(I51*D51,1) -> 4287.8 | K51: =단가대비표!V150 -> 0 | L51: =TRUNC(K51*D51,1) -> 0 | N51: 505C016DC07D506C507419CC181E81 | O51: 50CE4165153F515D00703BA1C8F8C6FA938126 | P51: F | Q51: F | R51: T | W51: 2 | AW51: 505C016DC07D506C507419CC181E8150CE4165153F515D00703BA1C8F8C6FA938126
A52: 공구손료 | B52: 인력품의 3% | C52: 식 | D52: 1 | E52: =TRUNC(G52+I52+K52,1) -> 128.6 | F52: =TRUNC(H52+J52+L52,1) -> 128.6 | G52: =TRUNC(SUMIF(W49:W52, RIGHTB(O52, 1), J49:J52)*U52, 2) -> 128.63 | H52: =TRUNC(G52*D52,1) -> 128.6 | I52: 0 | J52: =TRUNC(I52*D52,1) -> 0 | K52: 0 | L52: =TRUNC(K52*D52,1) -> 0 | N52: 505C016DC07D506C507419CC181E81 | O52: 5103F16E1D12535A407E8F404785002 | P52: F | Q52: F | R52: F | S52: 1 | T52: 0 | U52: 0.03 | AW52: 505C016DC07D506C507419CC181E815103F16E1D12535A407E8F404785002
A53: [ 합 계 ] | F53: =H53+J53+L53 -> 5932 | H53: =TRUNC(SUMIF(N49:N52, N48, H49:H52),0) -> 1645 | J53: =TRUNC(SUMIF(N49:N52, N48, J49:J52),0) -> 4287 | L53: =TRUNC(SUMIF(N49:N52, N48, L49:L52),0) -> 0 | N53: TOTAL | O53: TOTAL
A55: 0.6/1kv 트레이용 절연난연 제어용케이블(F-CVV) 3C*2.5㎟ M 전기 5-13 ( 호표 8 ) | N55: 505C016DC07D506C507419CC181A26
A56: 제어케이블 | B56: 제어케이블, 0.6/1kv, TFR-CVV, 3C*2.5㎟ | C56: M | D56: 1.05 | E56: =TRUNC(G56+I56+K56,1) -> 1736 | F56: =TRUNC(H56+J56+L56,1) -> 1822.8 | G56: =단가대비표!O24 -> 1736 | H56: =TRUNC(G56*D56,1) -> 1822.8 | I56: =단가대비표!P24 -> 0 | J56: =TRUNC(I56*D56,1) -> 0 | K56: =단가대비표!V24 -> 0 | L56: =TRUNC(K56*D56,1) -> 0 | N56: 505C016DC07D506C507419CC181A26 | O56: 572F2164E3095918A0755BD51E98D6D48D13B9 | P56: F | Q56: F | R56: T | V56: 1 | AW56: 505C016DC07D506C507419CC181A26572F2164E3095918A0755BD51E98D6D48D13B9
A57: 잡재료비 | B57: 배관배선의 2% | C57: 식 | D57: 1 | E57: =TRUNC(G57+I57+K57,1) -> 36.4 | F57: =TRUNC(H57+J57+L57,1) -> 36.4 | G57: =TRUNC(SUMIF(V56:V59, RIGHTB(O57, 1), H56:H59)*U57, 2) -> 36.45 | H57: =TRUNC(G57*D57,1) -> 36.4 | I57: 0 | J57: =TRUNC(I57*D57,1) -> 0 | K57: 0 | L57: =TRUNC(K57*D57,1) -> 0 | N57: 505C016DC07D506C507419CC181A26 | O57: 5103F16E1D12535A407E8F404786001 | P57: F | Q57: F | R57: F | S57: 0 | T57: 0 | U57: 0.02 | AW57: 505C016DC07D506C507419CC181A265103F16E1D12535A407E8F404786001
A58: 저압케이블전공 | B58: 일반공사 직종 | C58: 인 | D58: 0.019 | E58: =TRUNC(G58+I58+K58,1) -> 306274 | F58: =TRUNC(H58+J58+L58,1) -> 5819.2 | G58: =단가대비표!O150 -> 0 | H58: =TRUNC(G58*D58,1) -> 0 | I58: =단가대비표!P150 -> 306274 | J58: =TRUNC(I58*D58,1) -> 5819.2 | K58: =단가대비표!V150 -> 0 | L58: =TRUNC(K58*D58,1) -> 0 | N58: 505C016DC07D506C507419CC181A26 | O58: 50CE4165153F515D00703BA1C8F8C6FA938126 | P58: F | Q58: F | R58: T | W58: 2 | AW58: 505C016DC07D506C507419CC181A2650CE4165153F515D00703BA1C8F8C6FA938126
A59: 공구손료 | B59: 인력품의 3% | C59: 식 | D59: 1 | E59: =TRUNC(G59+I59+K59,1) -> 174.5 | F59: =TRUNC(H59+J59+L59,1) -> 174.5 | G59: =TRUNC(SUMIF(W56:W59, RIGHTB(O59, 1), J56:J59)*U59, 2) -> 174.57 | H59: =TRUNC(G59*D59,1) -> 174.5 | I59: 0 | J59: =TRUNC(I59*D59,1) -> 0 | K59: 0 | L59: =TRUNC(K59*D59,1) -> 0 | N59: 505C016DC07D506C507419CC181A26 | O59: 5103F16E1D12535A407E8F404785002 | P59: F | Q59: F | R59: F | S59: 1 | T59: 0 | U59: 0.03 | AW59: 505C016DC07D506C507419CC181A265103F16E1D12535A407E8F404785002
A60: [ 합 계 ] | F60: =H60+J60+L60 -> 7852 | H60: =TRUNC(SUMIF(N56:N59, N55, H56:H59),0) -> 2033 | J60: =TRUNC(SUMIF(N56:N59, N55, J56:J59),0) -> 5819 | L60: =TRUNC(SUMIF(N56:N59, N55, L56:L59),0) -> 0 | N60: TOTAL | O60: TOTAL
A62: 0.6/1kv 트레이용 절연난연 제어용케이블(F-CVV) 15C*2.5㎟ M 전기 5-13 ( 호표 9 ) | N62: 505C016DC07D506C50741BF90D4DCB
A63: 제어케이블 | B63: 제어케이블, 0.6/1kv, TFR-CVV, 15C*2.5㎟ | C63: M | D63: 1.05 | E63: =TRUNC(G63+I63+K63,1) -> 6226 | F63: =TRUNC(H63+J63+L63,1) -> 6537.3 | G63: =단가대비표!O27 -> 6226 | H63: =TRUNC(G63*D63,1) -> 6537.3 | I63: =단가대비표!P27 -> 0 | J63: =TRUNC(I63*D63,1) -> 0 | K63: =단가대비표!V27 -> 0 | L63: =TRUNC(K63*D63,1) -> 0 | N63: 505C016DC07D506C50741BF90D4DCB | O63: 572F2164E3095918A0755BD51E98D6D48D160F | P63: F | Q63: F | R63: T | V63: 1 | AW63: 505C016DC07D506C50741BF90D4DCB572F2164E3095918A0755BD51E98D6D48D160F
A64: 잡재료비 | B64: 배관배선의 2% | C64: 식 | D64: 1 | E64: =TRUNC(G64+I64+K64,1) -> 130.7 | F64: =TRUNC(H64+J64+L64,1) -> 130.7 | G64: =TRUNC(SUMIF(V63:V66, RIGHTB(O64, 1), H63:H66)*U64, 2) -> 130.74 | H64: =TRUNC(G64*D64,1) -> 130.7 | I64: 0 | J64: =TRUNC(I64*D64,1) -> 0 | K64: 0 | L64: =TRUNC(K64*D64,1) -> 0 | N64: 505C016DC07D506C50741BF90D4DCB | O64: 5103F16E1D12535A407E8F404786001 | P64: F | Q64: F | R64: F | S64: 0 | T64: 0 | U64: 0.02 | AW64: 505C016DC07D506C50741BF90D4DCB5103F16E1D12535A407E8F404786001
A65: 저압케이블전공 | B65: 일반공사 직종 | C65: 인 | D65: 0.062 | E65: =TRUNC(G65+I65+K65,1) -> 306274 | F65: =TRUNC(H65+J65+L65,1) -> 18988.9 | G65: =단가대비표!O150 -> 0 | H65: =TRUNC(G65*D65,1) -> 0 | I65: =단가대비표!P150 -> 306274 | J65: =TRUNC(I65*D65,1) -> 18988.9 | K65: =단가대비표!V150 -> 0 | L65: =TRUNC(K65*D65,1) -> 0 | N65: 505C016DC07D506C50741BF90D4DCB | O65: 50CE4165153F515D00703BA1C8F8C6FA938126 | P65: F | Q65: F | R65: T | W65: 2 | AW65: 505C016DC07D506C50741BF90D4DCB50CE4165153F515D00703BA1C8F8C6FA938126
A66: 공구손료 | B66: 인력품의 3% | C66: 식 | D66: 1 | E66: =TRUNC(G66+I66+K66,1) -> 569.6 | F66: =TRUNC(H66+J66+L66,1) -> 569.6 | G66: =TRUNC(SUMIF(W63:W66, RIGHTB(O66, 1), J63:J66)*U66, 2) -> 569.66 | H66: =TRUNC(G66*D66,1) -> 569.6 | I66: 0 | J66: =TRUNC(I66*D66,1) -> 0 | K66: 0 | L66: =TRUNC(K66*D66,1) -> 0 | N66: 505C016DC07D506C50741BF90D4DCB | O66: 5103F16E1D12535A407E8F404785002 | P66: F | Q66: F | R66: F | S66: 1 | T66: 0 | U66: 0.03 | AW66: 505C016DC07D506C50741BF90D4DCB5103F16E1D12535A407E8F404785002
A67: [ 합 계 ] | F67: =H67+J67+L67 -> 26225 | H67: =TRUNC(SUMIF(N63:N66, N62, H63:H66),0) -> 7237 | J67: =TRUNC(SUMIF(N63:N66, N62, J63:J66),0) -> 18988 | L67: =TRUNC(SUMIF(N63:N66, N62, L63:L66),0) -> 0 | N67: TOTAL | O67: TOTAL
A69: 0.6/1kv 트레이용 절연난연 제어용케이블(F-CVV) 30C*2.5㎟ M 전기 5-13 ( 호표 10 ) | N69: 505C016DC07D506C50741BF90CA2E6
A70: 제어케이블 | B70: 제어케이블, 0.6/1kv, TFR-CVV, 30C*2.5㎟ | C70: M | D70: 1.05 | E70: =TRUNC(G70+I70+K70,1) -> 11194 | F70: =TRUNC(H70+J70+L70,1) -> 11753.7 | G70: =단가대비표!O28 -> 11194 | H70: =TRUNC(G70*D70,1) -> 11753.7 | I70: =단가대비표!P28 -> 0 | J70: =TRUNC(I70*D70,1) -> 0 | K70: =단가대비표!V28 -> 0 | L70: =TRUNC(K70*D70,1) -> 0 | N70: 505C016DC07D506C50741BF90CA2E6 | O70: 572F2164E3095918A0755BD51E98D6D48D1715 | P70: F | Q70: F | R70: T | V70: 1 | AW70: 505C016DC07D506C50741BF90CA2E6572F2164E3095918A0755BD51E98D6D48D1715
A71: 잡재료비 | B71: 배관배선의 2% | C71: 식 | D71: 1 | E71: =TRUNC(G71+I71+K71,1) -> 235 | F71: =TRUNC(H71+J71+L71,1) -> 235 | G71: =TRUNC(SUMIF(V70:V73, RIGHTB(O71, 1), H70:H73)*U71, 2) -> 235.07 | H71: =TRUNC(G71*D71,1) -> 235 | I71: 0 | J71: =TRUNC(I71*D71,1) -> 0 | K71: 0 | L71: =TRUNC(K71*D71,1) -> 0 | N71: 505C016DC07D506C50741BF90CA2E6 | O71: 5103F16E1D12535A407E8F404786001 | P71: F | Q71: F | R71: F | S71: 0 | T71: 0 | U71: 0.02 | AW71: 505C016DC07D506C50741BF90CA2E65103F16E1D12535A407E8F404786001
A72: 저압케이블전공 | B72: 일반공사 직종 | C72: 인 | D72: 0.098 | E72: =TRUNC(G72+I72+K72,1) -> 306274 | F72: =TRUNC(H72+J72+L72,1) -> 30014.8 | G72: =단가대비표!O150 -> 0 | H72: =TRUNC(G72*D72,1) -> 0 | I72: =단가대비표!P150 -> 306274 | J72: =TRUNC(I72*D72,1) -> 30014.8 | K72: =단가대비표!V150 -> 0 | L72: =TRUNC(K72*D72,1) -> 0 | N72: 505C016DC07D506C50741BF90CA2E6 | O72: 50CE4165153F515D00703BA1C8F8C6FA938126 | P72: F | Q72: F | R72: T | W72: 2 | AW72: 505C016DC07D506C50741BF90CA2E650CE4165153F515D00703BA1C8F8C6FA938126
A73: 공구손료 | B73: 인력품의 3% | C73: 식 | D73: 1 | E73: =TRUNC(G73+I73+K73,1) -> 900.4 | F73: =TRUNC(H73+J73+L73,1) -> 900.4 | G73: =TRUNC(SUMIF(W70:W73, RIGHTB(O73, 1), J70:J73)*U73, 2) -> 900.44 | H73: =TRUNC(G73*D73,1) -> 900.4 | I73: 0 | J73: =TRUNC(I73*D73,1) -> 0 | K73: 0 | L73: =TRUNC(K73*D73,1) -> 0 | N73: 505C016DC07D506C50741BF90CA2E6 | O73: 5103F16E1D12535A407E8F404785002 | P73: F | Q73: F | R73: F | S73: 1 | T73: 0 | U73: 0.03 | AW73: 505C016DC07D506C50741BF90CA2E65103F16E1D12535A407E8F404785002
A74: [ 합 계 ] | F74: =H74+J74+L74 -> 42903 | H74: =TRUNC(SUMIF(N70:N73, N69, H70:H73),0) -> 12889 | J74: =TRUNC(SUMIF(N70:N73, N69, J70:J73),0) -> 30014 | L74: =TRUNC(SUMIF(N70:N73, N69, L70:L73),0) -> 0 | N74: TOTAL | O74: TOTAL
A76: 0.6/1kv 트레이용 제어용케이블(F-CVV-S) 2C*1.5㎟ M 전기 5-13 ( 호표 11 ) | N76: 505C016DC07D506F20799C41CF0C1E
A77: 제어케이블 | B77: 제어케이블, 0.6/1kv, TFR-CVV-S, 2C*1.5㎟ | C77: M | D77: 1.05 | E77: =TRUNC(G77+I77+K77,1) -> 1499 | F77: =TRUNC(H77+J77+L77,1) -> 1573.9 | G77: =단가대비표!O29 -> 1499 | H77: =TRUNC(G77*D77,1) -> 1573.9 | I77: =단가대비표!P29 -> 0 | J77: =TRUNC(I77*D77,1) -> 0 | K77: =단가대비표!V29 -> 0 | L77: =TRUNC(K77*D77,1) -> 0 | N77: 505C016DC07D506F20799C41CF0C1E | O77: 572F2164E3095918A0755BD51E98D6D48C0D64 | P77: F | Q77: F | R77: T | V77: 1 | AW77: 505C016DC07D506F20799C41CF0C1E572F2164E3095918A0755BD51E98D6D48C0D64
A78: 잡재료비 | B78: 배관배선의 2% | C78: 식 | D78: 1 | E78: =TRUNC(G78+I78+K78,1) -> 31.4 | F78: =TRUNC(H78+J78+L78,1) -> 31.4 | G78: =TRUNC(SUMIF(V77:V80, RIGHTB(O78, 1), H77:H80)*U78, 2) -> 31.47 | H78: =TRUNC(G78*D78,1) -> 31.4 | I78: 0 | J78: =TRUNC(I78*D78,1) -> 0 | K78: 0 | L78: =TRUNC(K78*D78,1) -> 0 | N78: 505C016DC07D506F20799C41CF0C1E | O78: 5103F16E1D12535A407E8F404786001 | P78: F | Q78: F | R78: F | S78: 0 | T78: 0 | U78: 0.02 | AW78: 505C016DC07D506F20799C41CF0C1E5103F16E1D12535A407E8F404786001
A79: 저압케이블전공 | B79: 일반공사 직종 | C79: 인 | D79: 0.0168 | E79: =TRUNC(G79+I79+K79,1) -> 306274 | F79: =TRUNC(H79+J79+L79,1) -> 5145.4 | G79: =단가대비표!O150 -> 0 | H79: =TRUNC(G79*D79,1) -> 0 | I79: =단가대비표!P150 -> 306274 | J79: =TRUNC(I79*D79,1) -> 5145.4 | K79: =단가대비표!V150 -> 0 | L79: =TRUNC(K79*D79,1) -> 0 | M79: 0.014*1.2 | N79: 505C016DC07D506F20799C41CF0C1E | O79: 50CE4165153F515D00703BA1C8F8C6FA938126 | P79: F | Q79: F | R79: T | W79: 2 | AW79: 505C016DC07D506F20799C41CF0C1E50CE4165153F515D00703BA1C8F8C6FA938126
A80: 공구손료 | B80: 인력품의 3% | C80: 식 | D80: 1 | E80: =TRUNC(G80+I80+K80,1) -> 154.3 | F80: =TRUNC(H80+J80+L80,1) -> 154.3 | G80: =TRUNC(SUMIF(W77:W80, RIGHTB(O80, 1), J77:J80)*U80, 2) -> 154.36 | H80: =TRUNC(G80*D80,1) -> 154.3 | I80: 0 | J80: =TRUNC(I80*D80,1) -> 0 | K80: 0 | L80: =TRUNC(K80*D80,1) -> 0 | N80: 505C016DC07D506F20799C41CF0C1E | O80: 5103F16E1D12535A407E8F404785002 | P80: F | Q80: F | R80: F | S80: 1 | T80: 0 | U80: 0.03 | AW80: 505C016DC07D506F20799C41CF0C1E5103F16E1D12535A407E8F404785002
A81: [ 합 계 ] | F81: =H81+J81+L81 -> 6904 | H81: =TRUNC(SUMIF(N77:N80, N76, H77:H80),0) -> 1759 | J81: =TRUNC(SUMIF(N77:N80, N76, J77:J80),0) -> 5145 | L81: =TRUNC(SUMIF(N77:N80, N76, L77:L80),0) -> 0 | N81: TOTAL | O81: TOTAL
A83: 난연 비닐절연접지용전선(F-GV)-관내 0.6/1kv, 16㎟ M 전기 3-38 ( 호표 12 ) | N83: 505C016DC06C5A01607F62360411AE
A84: 접지용비닐절연전선 | B84: 접지용비닐절연전선, F-GV, 16㎟ | C84: M | D84: 1.1 | E84: =TRUNC(G84+I84+K84,1) -> 2545 | F84: =TRUNC(H84+J84+L84,1) -> 2799.5 | G84: =단가대비표!O19 -> 2545 | H84: =TRUNC(G84*D84,1) -> 2799.5 | I84: =단가대비표!P19 -> 0 | J84: =TRUNC(I84*D84,1) -> 0 | K84: =단가대비표!V19 -> 0 | L84: =TRUNC(K84*D84,1) -> 0 | N84: 505C016DC06C5A01607F62360411AE | O84: 572F2164E309591B707BE1E0B4FC5B6EE6D019 | P84: F | Q84: F | R84: T | V84: 1 | AW84: 505C016DC06C5A01607F62360411AE572F2164E309591B707BE1E0B4FC5B6EE6D019
A85: 잡재료비 | B85: 배관배선의 2% | C85: 식 | D85: 1 | E85: =TRUNC(G85+I85+K85,1) -> 55.9 | F85: =TRUNC(H85+J85+L85,1) -> 55.9 | G85: =TRUNC(SUMIF(V84:V87, RIGHTB(O85, 1), H84:H87)*U85, 2) -> 55.99 | H85: =TRUNC(G85*D85,1) -> 55.9 | I85: 0 | J85: =TRUNC(I85*D85,1) -> 0 | K85: 0 | L85: =TRUNC(K85*D85,1) -> 0 | N85: 505C016DC06C5A01607F62360411AE | O85: 5103F16E1D12535A407E8F404786001 | P85: F | Q85: F | R85: F | S85: 0 | T85: 0 | U85: 0.02 | AW85: 505C016DC06C5A01607F62360411AE5103F16E1D12535A407E8F404786001
A86: 내선전공 | B86: 일반공사 직종 | C86: 인 | D86: 0.0105 | E86: =TRUNC(G86+I86+K86,1) -> 276108 | F86: =TRUNC(H86+J86+L86,1) -> 2899.1 | G86: =단가대비표!O149 -> 0 | H86: =TRUNC(G86*D86,1) -> 0 | I86: =단가대비표!P149 -> 276108 | J86: =TRUNC(I86*D86,1) -> 2899.1 | K86: =단가대비표!V149 -> 0 | L86: =TRUNC(K86*D86,1) -> 0 | M86: 0.007*1.5 | N86: 505C016DC06C5A01607F62360411AE | O86: 50CE4165153F515D00703BA1C8F8C6FA93812B | P86: F | Q86: F | R86: T | W86: 2 | AW86: 505C016DC06C5A01607F62360411AE50CE4165153F515D00703BA1C8F8C6FA93812B
A87: 공구손료 | B87: 인력품의 3% | C87: 식 | D87: 1 | E87: =TRUNC(G87+I87+K87,1) -> 86.9 | F87: =TRUNC(H87+J87+L87,1) -> 86.9 | G87: =TRUNC(SUMIF(W84:W87, RIGHTB(O87, 1), J84:J87)*U87, 2) -> 86.97 | H87: =TRUNC(G87*D87,1) -> 86.9 | I87: 0 | J87: =TRUNC(I87*D87,1) -> 0 | K87: 0 | L87: =TRUNC(K87*D87,1) -> 0 | N87: 505C016DC06C5A01607F62360411AE | O87: 5103F16E1D12535A407E8F404785002 | P87: F | Q87: F | R87: F | S87: 1 | T87: 0 | U87: 0.03 | AW87: 505C016DC06C5A01607F62360411AE5103F16E1D12535A407E8F404785002
A88: [ 합 계 ] | F88: =H88+J88+L88 -> 5841 | H88: =TRUNC(SUMIF(N84:N87, N83, H84:H87),0) -> 2942 | J88: =TRUNC(SUMIF(N84:N87, N83, J84:J87),0) -> 2899 | L88: =TRUNC(SUMIF(N84:N87, N83, L84:L87),0) -> 0 | N88: TOTAL | O88: TOTAL
A90: 난연 비닐절연접지용전선(F-GV)-관내 0.6/1kv, 6㎟ M 전기 3-38 ( 호표 13 ) | N90: 505C016DC06C5A01607F6236041737
A91: 접지용비닐절연전선 | B91: 접지용비닐절연전선, F-GV, 6㎟ | C91: M | D91: 1.1 | E91: =TRUNC(G91+I91+K91,1) -> 1106 | F91: =TRUNC(H91+J91+L91,1) -> 1216.6 | G91: =단가대비표!O17 -> 1106 | H91: =TRUNC(G91*D91,1) -> 1216.6 | I91: =단가대비표!P17 -> 0 | J91: =TRUNC(I91*D91,1) -> 0 | K91: =단가대비표!V17 -> 0 | L91: =TRUNC(K91*D91,1) -> 0 | N91: 505C016DC06C5A01607F6236041737 | O91: 572F2164E309591B707BE1E0B4FC5B6EE6D017 | P91: F | Q91: F | R91: T | V91: 1 | AW91: 505C016DC06C5A01607F6236041737572F2164E309591B707BE1E0B4FC5B6EE6D017
A92: 잡재료비 | B92: 배관배선의 2% | C92: 식 | D92: 1 | E92: =TRUNC(G92+I92+K92,1) -> 24.3 | F92: =TRUNC(H92+J92+L92,1) -> 24.3 | G92: =TRUNC(SUMIF(V91:V94, RIGHTB(O92, 1), H91:H94)*U92, 2) -> 24.33 | H92: =TRUNC(G92*D92,1) -> 24.3 | I92: 0 | J92: =TRUNC(I92*D92,1) -> 0 | K92: 0 | L92: =TRUNC(K92*D92,1) -> 0 | N92: 505C016DC06C5A01607F6236041737 | O92: 5103F16E1D12535A407E8F404786001 | P92: F | Q92: F | R92: F | S92: 0 | T92: 0 | U92: 0.02 | AW92: 505C016DC06C5A01607F62360417375103F16E1D12535A407E8F404786001
A93: 내선전공 | B93: 일반공사 직종 | C93: 인 | D93: 0.009 | E93: =TRUNC(G93+I93+K93,1) -> 276108 | F93: =TRUNC(H93+J93+L93,1) -> 2484.9 | G93: =단가대비표!O149 -> 0 | H93: =TRUNC(G93*D93,1) -> 0 | I93: =단가대비표!P149 -> 276108 | J93: =TRUNC(I93*D93,1) -> 2484.9 | K93: =단가대비표!V149 -> 0 | L93: =TRUNC(K93*D93,1) -> 0 | M93: 0.006*1.5 | N93: 505C016DC06C5A01607F6236041737 | O93: 50CE4165153F515D00703BA1C8F8C6FA93812B | P93: F | Q93: F | R93: T | W93: 2 | AW93: 505C016DC06C5A01607F623604173750CE4165153F515D00703BA1C8F8C6FA93812B
A94: 공구손료 | B94: 인력품의 3% | C94: 식 | D94: 1 | E94: =TRUNC(G94+I94+K94,1) -> 74.5 | F94: =TRUNC(H94+J94+L94,1) -> 74.5 | G94: =TRUNC(SUMIF(W91:W94, RIGHTB(O94, 1), J91:J94)*U94, 2) -> 74.54 | H94: =TRUNC(G94*D94,1) -> 74.5 | I94: 0 | J94: =TRUNC(I94*D94,1) -> 0 | K94: 0 | L94: =TRUNC(K94*D94,1) -> 0 | N94: 505C016DC06C5A01607F6236041737 | O94: 5103F16E1D12535A407E8F404785002 | P94: F | Q94: F | R94: F | S94: 1 | T94: 0 | U94: 0.03 | AW94: 505C016DC06C5A01607F62360417375103F16E1D12535A407E8F404785002
A95: [ 합 계 ] | F95: =H95+J95+L95 -> 3799 | H95: =TRUNC(SUMIF(N91:N94, N90, H91:H94),0) -> 1315 | J95: =TRUNC(SUMIF(N91:N94, N90, J91:J94),0) -> 2484 | L95: =TRUNC(SUMIF(N91:N94, N90, L91:L94),0) -> 0 | N95: TOTAL | O95: TOTAL
A97: 난연 비닐절연접지용전선(F-GV)-관내 0.6/1kv, 4㎟ M 전기 3-38 ( 호표 14 ) | N97: 505C016DC06C5A01607F6236041610
A98: 접지용비닐절연전선 | B98: 접지용비닐절연전선, F-GV, 4㎟ | C98: M | D98: 1.1 | E98: =TRUNC(G98+I98+K98,1) -> 972 | F98: =TRUNC(H98+J98+L98,1) -> 1069.2 | G98: =단가대비표!O16 -> 972 | H98: =TRUNC(G98*D98,1) -> 1069.2 | I98: =단가대비표!P16 -> 0 | J98: =TRUNC(I98*D98,1) -> 0 | K98: =단가대비표!V16 -> 0 | L98: =TRUNC(K98*D98,1) -> 0 | N98: 505C016DC06C5A01607F6236041610 | O98: 572F2164E309591B707BE1E0B4FC5B6EE6D016 | P98: F | Q98: F | R98: T | V98: 1 | AW98: 505C016DC06C5A01607F6236041610572F2164E309591B707BE1E0B4FC5B6EE6D016
A99: 잡재료비 | B99: 배관배선의 2% | C99: 식 | D99: 1 | E99: =TRUNC(G99+I99+K99,1) -> 21.3 | F99: =TRUNC(H99+J99+L99,1) -> 21.3 | G99: =TRUNC(SUMIF(V98:V101, RIGHTB(O99, 1), H98:H101)*U99, 2) -> 21.38 | H99: =TRUNC(G99*D99,1) -> 21.3 | I99: 0 | J99: =TRUNC(I99*D99,1) -> 0 | K99: 0 | L99: =TRUNC(K99*D99,1) -> 0 | N99: 505C016DC06C5A01607F6236041610 | O99: 5103F16E1D12535A407E8F404786001 | P99: F | Q99: F | R99: F | S99: 0 | T99: 0 | U99: 0.02 | AW99: 505C016DC06C5A01607F62360416105103F16E1D12535A407E8F404786001
A100: 내선전공 | B100: 일반공사 직종 | C100: 인 | D100: 0.009 | E100: =TRUNC(G100+I100+K100,1) -> 276108 | F100: =TRUNC(H100+J100+L100,1) -> 2484.9 | G100: =단가대비표!O149 -> 0 | H100: =TRUNC(G100*D100,1) -> 0 | I100: =단가대비표!P149 -> 276108 | J100: =TRUNC(I100*D100,1) -> 2484.9 | K100: =단가대비표!V149 -> 0 | L100: =TRUNC(K100*D100,1) -> 0 | M100: 0.006*1.5 | N100: 505C016DC06C5A01607F6236041610 | O100: 50CE4165153F515D00703BA1C8F8C6FA93812B | P100: F | Q100: F | R100: T | W100: 2 | AW100: 505C016DC06C5A01607F623604161050CE4165153F515D00703BA1C8F8C6FA93812B
A101: 공구손료 | B101: 인력품의 3% | C101: 식 | D101: 1 | E101: =TRUNC(G101+I101+K101,1) -> 74.5 | F101: =TRUNC(H101+J101+L101,1) -> 74.5 | G101: =TRUNC(SUMIF(W98:W101, RIGHTB(O101, 1), J98:J101)*U101, 2) -> 74.54 | H101: =TRUNC(G101*D101,1) -> 74.5 | I101: 0 | J101: =TRUNC(I101*D101,1) -> 0 | K101: 0 | L101: =TRUNC(K101*D101,1) -> 0 | N101: 505C016DC06C5A01607F6236041610 | O101: 5103F16E1D12535A407E8F404785002 | P101: F | Q101: F | R101: F | S101: 1 | T101: 0 | U101: 0.03 | AW101: 505C016DC06C5A01607F62360416105103F16E1D12535A407E8F404785002
A102: [ 합 계 ] | F102: =H102+J102+L102 -> 3649 | H102: =TRUNC(SUMIF(N98:N101, N97, H98:H101),0) -> 1165 | J102: =TRUNC(SUMIF(N98:N101, N97, J98:J101),0) -> 2484 | L102: =TRUNC(SUMIF(N98:N101, N97, L98:L101),0) -> 0 | N102: TOTAL | O102: TOTAL
A104: 전력케이블 단말처리-저압(1 KV 이하) 1C, 16㎟ 개소 전기 4-37 ( 호표 15 ) | N104: 505C116B7AA854EC10724F7C541BE6
A105: 압착단자 | B105: 압착단자, 터미널, 16㎟ | C105: 개 | D105: 1 | E105: =TRUNC(G105+I105+K105,1) -> 126 | F105: =TRUNC(H105+J105+L105,1) -> 126 | G105: =단가대비표!O59 -> 126 | H105: =TRUNC(G105*D105,1) -> 126 | I105: =단가대비표!P59 -> 0 | J105: =TRUNC(I105*D105,1) -> 0 | K105: =단가대비표!V59 -> 0 | L105: =TRUNC(K105*D105,1) -> 0 | N105: 505C116B7AA854EC10724F7C541BE6 | O105: 57392168B234575DA07042F0769414A97021BD | P105: F | Q105: F | R105: T | AW105: 505C116B7AA854EC10724F7C541BE657392168B234575DA07042F0769414A97021BD
A106: 저압케이블전공 | B106: 일반공사 직종 | C106: 인 | D106: 0.081 | E106: =TRUNC(G106+I106+K106,1) -> 306274 | F106: =TRUNC(H106+J106+L106,1) -> 24808.1 | G106: =단가대비표!O150 -> 0 | H106: =TRUNC(G106*D106,1) -> 0 | I106: =단가대비표!P150 -> 306274 | J106: =TRUNC(I106*D106,1) -> 24808.1 | K106: =단가대비표!V150 -> 0 | L106: =TRUNC(K106*D106,1) -> 0 | M106: 0.27*0.3 | N106: 505C116B7AA854EC10724F7C541BE6 | O106: 50CE4165153F515D00703BA1C8F8C6FA938126 | P106: F | Q106: F | R106: T | V106: 1 | AW106: 505C116B7AA854EC10724F7C541BE650CE4165153F515D00703BA1C8F8C6FA938126
A107: 공구손료 | B107: 인력품의 3% | C107: 식 | D107: 1 | E107: =TRUNC(G107+I107+K107,1) -> 744.2 | F107: =TRUNC(H107+J107+L107,1) -> 744.2 | G107: =TRUNC(SUMIF(V105:V107, RIGHTB(O107, 1), J105:J107)*U107, 2) -> 744.24 | H107: =TRUNC(G107*D107,1) -> 744.2 | I107: 0 | J107: =TRUNC(I107*D107,1) -> 0 | K107: 0 | L107: =TRUNC(K107*D107,1) -> 0 | N107: 505C116B7AA854EC10724F7C541BE6 | O107: 5103F16E1D12535A407E8F404786001 | P107: F | Q107: F | R107: F | S107: 1 | T107: 0 | U107: 0.03 | AW107: 505C116B7AA854EC10724F7C541BE65103F16E1D12535A407E8F404786001
A108: [ 합 계 ] | F108: =H108+J108+L108 -> 25678 | H108: =TRUNC(SUMIF(N105:N107, N104, H105:H107),0) -> 870 | J108: =TRUNC(SUMIF(N105:N107, N104, J105:J107),0) -> 24808 | L108: =TRUNC(SUMIF(N105:N107, N104, L105:L107),0) -> 0 | N108: TOTAL | O108: TOTAL
A110: 전기수전 저압(42C) 식 전기 4-29, 전기 5-29 ( 호표 16 ) | N110: 505C016DC014580D60766011930BF9
A111: 강제전선관-노출-옥외 | B111: 아연도, 42mm | C111: M | D111: 8 | E111: =TRUNC(G111+I111+K111,1) -> 93018 | F111: =TRUNC(H111+J111+L111,1) -> 744144 | G111: =일위대가목록!F117 -> 10186 | H111: =TRUNC(G111*D111,1) -> 81488 | I111: =일위대가목록!G117 -> 82832 | J111: =TRUNC(I111*D111,1) -> 662656 | K111: =일위대가목록!H117 -> 0 | L111: =TRUNC(K111*D111,1) -> 0 | M111: 호표 114 | N111: 505C016DC014580D60766011930BF9 | O111: 505C016DC05253DDF0758A141F394B | P111: T | Q111: F | R111: F | AW111: 505C016DC014580D60766011930BF9505C016DC05253DDF0758A141F394B
A112: 관구밀폐기-전기수전용 | B112: 관구밀폐기, 이종연결관, ∮40mm | C112: 개 | D112: 1 | E112: =TRUNC(G112+I112+K112,1) -> 1929 | F112: =TRUNC(H112+J112+L112,1) -> 1929 | G112: =단가대비표!O106 -> 1929 | H112: =TRUNC(G112*D112,1) -> 1929 | I112: =단가대비표!P106 -> 0 | J112: =TRUNC(I112*D112,1) -> 0 | K112: =단가대비표!V106 -> 0 | L112: =TRUNC(K112*D112,1) -> 0 | N112: 505C016DC014580D60766011930BF9 | O112: 57392168B22B5EDE007FCD84612792AAA4C17F | P112: F | Q112: F | R112: T | AW112: 505C016DC014580D60766011930BF957392168B22B5EDE007FCD84612792AAA4C17F
A113: 엔트런스 캡 | B113: 2 1/4" (42mm) | C113: 개 | D113: 1 | E113: =TRUNC(G113+I113+K113,1) -> 13189 | F113: =TRUNC(H113+J113+L113,1) -> 13189 | G113: =일위대가목록!F118 -> 4906 | H113: =TRUNC(G113*D113,1) -> 4906 | I113: =일위대가목록!G118 -> 8283 | J113: =TRUNC(I113*D113,1) -> 8283 | K113: =일위대가목록!H118 -> 0 | L113: =TRUNC(K113*D113,1) -> 0 | M113: 호표 115 | N113: 505C016DC014580D60766011930BF9 | O113: 505C016AF9DD5400C072202CB7EBD0 | P113: T | Q113: F | R113: F | AW113: 505C016DC014580D60766011930BF9505C016AF9DD5400C072202CB7EBD0
A114: 필름밴드 | B114: 1,420mm(대) | C114: 개 | D114: 4 | E114: =TRUNC(G114+I114+K114,1) -> 2840.9 | F114: =TRUNC(H114+J114+L114,1) -> 11363.6 | G114: =단가대비표!O140 -> 2840.91 | H114: =TRUNC(G114*D114,1) -> 11363.6 | I114: =단가대비표!P140 -> 0 | J114: =TRUNC(I114*D114,1) -> 0 | K114: =단가대비표!V140 -> 0 | L114: =TRUNC(K114*D114,1) -> 0 | M114: 8/2 | N114: 505C016DC014580D60766011930BF9 | O114: 5792A16B53BD5FA3607EBAC665F11D70EAD86B | P114: F | Q114: F | R114: T | AW114: 505C016DC014580D60766011930BF95792A16B53BD5FA3607EBAC665F11D70EAD86B
A115: [ 합 계 ] | F115: =H115+J115+L115 -> 770625 | H115: =TRUNC(SUMIF(N111:N114, N110, H111:H114),0) -> 99686 | J115: =TRUNC(SUMIF(N111:N114, N110, J111:J114),0) -> 670939 | L115: =TRUNC(SUMIF(N111:N114, N110, L111:L114),0) -> 0 | N115: TOTAL | O115: TOTAL
...

Sheet 중기단가목록
B1: 중 기 단 가 목 록
B2: [ 동부하수처리구역 차집관로 정비사업(1공구)_전기및계측 ]
A3: 코 드 | B3: 품 명 | C3: 규 격 | D3: 단위 | E3: 합 계 | F3: 재 료 비 | G3: 노 무 비 | H3: 경 비 | I3: 번 호 | J3: 비 고 | K3: START
A4: 503F316550D3566BA07E3852B5C613 | B4: 터파기/토사 | C4: 보통, 굴삭기 0.7m3 90%, 인력10% | D4: M3 | E4: =중기단가산출서!B27 -> 5019 | F4: =중기단가산출서!C27 -> 325 | G4: =중기단가산출서!D27 -> 4342 | H4: =중기단가산출서!E27 -> 352 | I4: 산근 1 | J4: 공통 8-2-3 | K4: 503F316550D3566BA07E3852B5C613
A5: 503F31658C1B5A15907CE3FF38E558 | B5: 되메우기/토사, 두께 10cm | C5: 보통, 굴삭기 0.7m3+플레이트콤팩터 1.5ton+인력 10% | D5: M3 | E5: =중기단가산출서!B65 -> 7432 | F5: =중기단가산출서!C65 -> 427 | G5: =중기단가산출서!D65 -> 6690 | H5: =중기단가산출서!E65 -> 315 | I5: 산근 2 | J5: 공통 8-2-3+10 | K5: 503F31658C1B5A15907CE3FF38E558

Sheet 중기단가산출서
A1: 중 기 단 가 산 출 서
A2: [ 동부하수처리구역 차집관로 정비사업(1공구)_전기및계측 ]
A3: 산 출 내 역 | B3: 합 계 | C3: 재 료 비 | D3: 노 무 비 | E3: 경 비 | F3: 비 고 | G3: START | H3: 코드 | I3: 품명 | J3: 규격 | K3: 단위 | L3: 수량 | M3: 변수 | N3: 값 | O3: 소계 | P3: 소계 | Q3: 소계 | R3: 소계 | S3: 소계 | T3: 총계
A4: 터파기/토사 보통, 굴삭기 0.7m3 90%, 인력10% M3 공통 8-2-3 ( 산근 1 ) | G4: 503F316550D3566BA07E3852B5C613 | I4: 터파기/토사 | J4: 보통, 굴삭기 0.7m3 90%, 인력10% | K4: M3
G5: 503F316550D3566BA07E3852B5C613 | H5: C | L5: 1
A6: 굴삭기(무한궤도),0.7㎥90%+인력10% M3 | B6: 0 | C6: 0 | D6: 0 | E6: 0 | G6: 503F316550D3566BA07E3852B5C613 | H6: C! | I6: '굴삭기(무한궤도),0.7㎥90%+인력10% M3'
B7: 0 | C7: 0 | D7: 0 | E7: 0 | G7: 503F316550D3566BA07E3852B5C613 | H7: C!
A8: Q1 바켓용량(M3) =0.70 | B8: 0 | C8: 0 | D8: 0 | E8: 0 | G8: 503F316550D3566BA07E3852B5C613 | H8: C! | I8: q1 '바켓용량(M3)' =0.70
A9: K 바켓계수(양호1.1,보통0.90,불량0.70,파쇄암0.55) = 0.90 | B9: 0 | C9: 0 | D9: 0 | E9: 0 | G9: 503F316550D3566BA07E3852B5C613 | H9: C! | I9: k '바켓계수(양호1.1,보통0.90,불량0.70,파쇄암0.55)'= 0.90
A10: F 토량환산계수(1/L) = 1/1.25= 0.8 | B10: 0 | C10: 0 | D10: 0 | E10: 0 | G10: 503F316550D3566BA07E3852B5C613 | H10: C! | I10: f '토량환산계수(1/L)'= 1/1.25=?
A11: E1 터파기에 대하여 -0.05 =0.05 | B11: 0 | C11: 0 | D11: 0 | E11: 0 | G11: 503F316550D3566BA07E3852B5C613 | H11: C! | I11: E1 '터파기에 대하여 -0.05'=0.05
A12: E 작업효율사질토(양호0.85,보통0.70,불량0.55) = 0.70-E1= 0.65 | B12: 0 | C12: 0 | D12: 0 | E12: 0 | G12: 503F316550D3566BA07E3852B5C613 | H12: C! | I12: E '작업효율사질토(양호0.85,보통0.70,불량0.55)'= 0.70-E1=?
A13: CM 1회 싸이클시간(135˚SEC) =20 | B13: 0 | C13: 0 | D13: 0 | E13: 0 | G13: 503F316550D3566BA07E3852B5C613 | H13: C! | I13: Cm '1회 싸이클시간(135˚SEC)'=20
A14: Q 시간당 작업량 (M3/HR) = 3600*Q1*K*F*E/CM/0.9= 65.52 | B14: 0 | C14: 0 | D14: 0 | E14: 0 | G14: 503F316550D3566BA07E3852B5C613 | H14: C! | I14: Q '시간당 작업량 (M3/Hr)'= 3600*q1*k*f*E/Cm/0.9=?
B15: 0 | C15: 0 | D15: 0 | E15: 0 | G15: 503F316550D3566BA07E3852B5C613 | H15: C!
A16: 재료비: 21305 / 65.52 = 325.1 | B16: 325.1 | C16: 325.1 | D16: 0 | E16: 0 | G16: 503F316550D3566BA07E3852B5C613 | H16: C! | I16: '재료비:' ~00000201007000000.M~ / {Q} =?MA+
A17: 노무비: 59020 / 65.52 = 900.7 | B17: 900.7 | C17: 0 | D17: 900.7 | E17: 0 | G17: 503F316550D3566BA07E3852B5C613 | H17: C! | I17: '노무비:' ~00000201007000000.L~ / {Q} =?LA+
A18: 경 비: 23128 / 65.52 = 352.9 | B18: 352.9 | C18: 0 | D18: 0 | E18: 352.9 | G18: 503F316550D3566BA07E3852B5C613 | H18: C! | I18: '경 비:' ~00000201007000000.E~ / {Q} =?EQ+
A19: 소 계 | B19: 1578.7 | C19: 325.1 | D19: 900.7 | E19: 352.9 | G19: 503F316550D3566BA07E3852B5C613 | H19: C! | I19: >'소 계'
B20: 0 | C20: 0 | D20: 0 | E20: 0 | G20: 503F316550D3566BA07E3852B5C613 | H20: C!
A21: 인력터파기,0-1m,보통인부0.2인*10% | B21: 0 | C21: 0 | D21: 0 | E21: 0 | G21: 503F316550D3566BA07E3852B5C613 | H21: C! | I21: '인력터파기,0-1m,보통인부0.2인*10%'
A22: Q 시간당 작업량 (M3/HR) = 1/8/0.2/0.1= 6.25 | B22: 0 | C22: 0 | D22: 0 | E22: 0 | G22: 503F316550D3566BA07E3852B5C613 | H22: C! | I22: Q '시간당 작업량 (M3/Hr)'= 1/8/0.2/0.1=?
B23: 0 | C23: 0 | D23: 0 | E23: 0 | G23: 503F316550D3566BA07E3852B5C613 | H23: C!
A24: 보통인부 1인/8HR*작업시간 | B24: 0 | C24: 0 | D24: 0 | E24: 0 | G24: 503F316550D3566BA07E3852B5C613 | H24: C! | I24: '보통인부 1인/8HR*작업시간
A25: 노무비: 172068*1/8/6.25 = 3441.3 | B25: 3441.3 | C25: 0 | D25: 3441.3 | E25: 0 | G25: 503F316550D3566BA07E3852B5C613 | H25: C! | I25: '노무비:' ~L001010101000002.L~*1/8/{Q} =?LA+
A26: 소 계 | B26: 3441.3 | C26: 0 | D26: 3441.3 | E26: 0 | G26: 503F316550D3566BA07E3852B5C613 | H26: C! | I26: >'소 계'
A27: 총 계 | B27: 5019 | C27: 325 | D27: 4342 | E27: 352
A29: 되메우기/토사, 두께 10cm 보통, 굴삭기 0.7m3+플레이트콤팩터 1.5ton+인력 10% M3 공통 8-2-3+10 ( 산근 2 ) | G29: 503F31658C1B5A15907CE3FF38E558 | I29: 되메우기/토사, 두께 10cm | J29: 보통, 굴삭기 0.7m3+플레이트콤팩터 1.5ton+인력 10% | K29: M3
G30: 503F31658C1B5A15907CE3FF38E558 | H30: C | K30: M3 | L30: 1
A31: 1.굴삭기 (무한궤도)0.7㎥M3 | B31: 0 | C31: 0 | D31: 0 | E31: 0 | G31: 503F31658C1B5A15907CE3FF38E558 | H31: C! | I31: '1.굴삭기 (무한궤도)0.7㎥M3 '
A32: Q1 바켓용량(M3) = 0.7 | B32: 0 | C32: 0 | D32: 0 | E32: 0 | G32: 503F31658C1B5A15907CE3FF38E558 | H32: C! | I32: q1 '바켓용량(M3)'= 0.7
A33: k 바켓계수 = 1.1 | B33: 0 | C33: 0 | D33: 0 | E33: 0 | G33: 503F31658C1B5A15907CE3FF38E558 | H33: C! | I33: k '바켓계수'= 1.1
A34: L1 흐트러진상태 =1.25 | B34: 0 | C34: 0 | D34: 0 | E34: 0 | G34: 503F31658C1B5A15907CE3FF38E558 | H34: C! | I34: L1 '흐트러진상태' =1.25
A35: C 다져진상태 =0.875 | B35: 0 | C35: 0 | D35: 0 | E35: 0 | G35: 503F31658C1B5A15907CE3FF38E558 | H35: C! | I35: C '다져진상태'=0.875
A36: F 토량환산계(C/L) =C/L1= 0.7 | B36: 0 | C36: 0 | D36: 0 | E36: 0 | G36: 503F31658C1B5A15907CE3FF38E558 | H36: C! | I36: f '토량환산계(C/L)'=C/L1=?
A37: E 작업효율(양호0.9,보통0.75,불량0.6) = 0.75 | B37: 0 | C37: 0 | D37: 0 | E37: 0 | G37: 503F31658C1B5A15907CE3FF38E558 | H37: C! | I37: E '작업효율(양호0.9,보통0.75,불량0.6)'= 0.75
A38: CM 1회 싸이클시간(90˚SEC) =18 | B38: 0 | C38: 0 | D38: 0 | E38: 0 | G38: 503F31658C1B5A15907CE3FF38E558 | H38: C! | I38: Cm '1회 싸이클시간(90˚sec)'=18
A39: Q 시간당 작업량 (M3/HR) = 3600*Q1*K*F*E/CM/0.9= 89.833 | B39: 0 | C39: 0 | D39: 0 | E39: 0 | G39: 503F31658C1B5A15907CE3FF38E558 | H39: C! | I39: Q '시간당 작업량 (M3/Hr)'= 3600*q1*k*f*E/Cm/0.9=?
A40: 재료비: 21305 / 89.833 = 237.1 | B40: 237.1 | C40: 237.1 | D40: 0 | E40: 0 | G40: 503F31658C1B5A15907CE3FF38E558 | H40: C! | I40: '재료비:' ~00000201007000000.M~ / {Q} =?MA+
A41: 노무비: 59020 / 89.833 = 656.9 | B41: 656.9 | C41: 0 | D41: 656.9 | E41: 0 | G41: 503F31658C1B5A15907CE3FF38E558 | H41: C! | I41: '노무비:' ~00000201007000000.L~ / {Q} =?LA+
A42: 경 비: 23128 / 89.833 = 257.4 | B42: 257.4 | C42: 0 | D42: 0 | E42: 257.4 | G42: 503F31658C1B5A15907CE3FF38E558 | H42: C! | I42: '경 비:' ~00000201007000000.E~ / {Q} =?EQ+
A43: 소 계 | B43: 1151.4 | C43: 237.1 | D43: 656.9 | E43: 257.4 | G43: 503F31658C1B5A15907CE3FF38E558 | H43: C! | I43: >'소 계'
B44: 0 | C44: 0 | D44: 0 | E44: 0 | G44: 503F31658C1B5A15907CE3FF38E558 | H44: C!
A45: 2.(인력 흙 다지기): 0.14인*10% | B45: 0 | C45: 0 | D45: 0 | E45: 0 | G45: 503F31658C1B5A15907CE3FF38E558 | H45: C! | I45: '2.(인력 흙 다지기): 0.14인*10%'
A46: Q 시간당 작업량 (M3/HR) = 1/8/0.14/0.1= 8.929 | B46: 0 | C46: 0 | D46: 0 | E46: 0 | G46: 503F31658C1B5A15907CE3FF38E558 | H46: C! | I46: Q '시간당 작업량 (M3/Hr)'= 1/8/0.14/0.1=?
B47: 0 | C47: 0 | D47: 0 | E47: 0 | G47: 503F31658C1B5A15907CE3FF38E558 | H47: C!
A48: 보통인부 1인/8HR*작업시간 | B48: 0 | C48: 0 | D48: 0 | E48: 0 | G48: 503F31658C1B5A15907CE3FF38E558 | H48: C! | I48: '보통인부 1인/8HR*작업시간
A49: 노무비: 172068*1/8/8.929 = 2408.8 | B49: 2408.8 | C49: 0 | D49: 2408.8 | E49: 0 | G49: 503F31658C1B5A15907CE3FF38E558 | H49: C! | I49: '노무비:' ~L001010101000002.L~*1/8/{Q} =?LA+
A50: 소 계 | B50: 2408.8 | C50: 0 | D50: 2408.8 | E50: 0 | G50: 503F31658C1B5A15907CE3FF38E558 | H50: C! | I50: >'소 계'
B51: 0 | C51: 0 | D51: 0 | E51: 0 | G51: 503F31658C1B5A15907CE3FF38E558 | H51: C!
A52: 3.플레이트콤팩터,1.5톤 | B52: 0 | C52: 0 | D52: 0 | E52: 0 | G52: 503F31658C1B5A15907CE3FF38E558 | H52: C! | I52: '3.플레이트콤팩터,1.5톤'
A53: V 다짐속도(KM/HR) =1 | B53: 0 | C53: 0 | D53: 0 | E53: 0 | G53: 503F31658C1B5A15907CE3FF38E558 | H53: C! | I53: V '다짐속도(KM/HR)' =1
A54: W 유효 다짐 폭(M) =0.45 | B54: 0 | C54: 0 | D54: 0 | E54: 0 | G54: 503F31658C1B5A15907CE3FF38E558 | H54: C! | I54: W '유효 다짐 폭(M)' =0.45
A55: D 다짐두께(M) =0.1 | B55: 0 | C55: 0 | D55: 0 | E55: 0 | G55: 503F31658C1B5A15907CE3FF38E558 | H55: C! | I55: D '다짐두께(M)' =0.1
A56: E 작업효율(양호0.8,보통0.6,불량0.4) = 0.6 | B56: 0 | C56: 0 | D56: 0 | E56: 0 | G56: 503F31658C1B5A15907CE3FF38E558 | H56: C! | I56: E '작업효율(양호0.8,보통0.6,불량0.4)'= 0.6
A57: L1 흐트러진상태 =1.25 | B57: 0 | C57: 0 | D57: 0 | E57: 0 | G57: 503F31658C1B5A15907CE3FF38E558 | H57: C! | I57: L1 '흐트러진상태' =1.25
A58: F 토량환산계(L1/L1) =L1/L1= 1 | B58: 0 | C58: 0 | D58: 0 | E58: 0 | G58: 503F31658C1B5A15907CE3FF38E558 | H58: C! | I58: f '토량환산계(L1/L1)'=L1/L1=?
A59: N 소요 다짐회수 =3 | B59: 0 | C59: 0 | D59: 0 | E59: 0 | G59: 503F31658C1B5A15907CE3FF38E558 | H59: C! | I59: N '소요 다짐회수' =3
A60: Q 시간당 작업량(M3/HR) =1000*V*W*D*E*F/N/0.9= 10 | B60: 0 | C60: 0 | D60: 0 | E60: 0 | G60: 503F31658C1B5A15907CE3FF38E558 | H60: C! | I60: Q '시간당 작업량(M3/HR)' =1000*V*W*D*E*f/N/0.9=?
A61: 재료비: 1901 / 10 = 190.1 | B61: 190.1 | C61: 190.1 | D61: 0 | E61: 0 | G61: 503F31658C1B5A15907CE3FF38E558 | H61: C! | I61: '재료비:' ~00001730001500000.M~ / {Q} =?MA+
A62: 노무비: 36248 / 10 = 3624.8 | B62: 3624.8 | C62: 0 | D62: 3624.8 | E62: 0 | G62: 503F31658C1B5A15907CE3FF38E558 | H62: C! | I62: '노무비:' ~00001730001500000.L~ / {Q} =?LA+
A63: 경 비: 582 / 10 = 58.2 | B63: 58.2 | C63: 0 | D63: 0 | E63: 58.2 | G63: 503F31658C1B5A15907CE3FF38E558 | H63: C! | I63: '경 비:' ~00001730001500000.E~ / {Q} =?EQ+
A64: 소 계 | B64: 3873.1 | C64: 190.1 | D64: 3624.8 | E64: 58.2 | G64: 503F31658C1B5A15907CE3FF38E558 | H64: C! | I64: >'소 계'
A65: 총 계 | B65: 7432 | C65: 427 | D65: 6690 | E65: 315

Sheet 단가대비표
A1: 단 가 대 비 표
A2: [ 동부하수처리구역 차집관로 정비사업(1공구)_전기및계측 ]
A3: 코 드 | B3: 품 명 | C3: 규격 | D3: 단위 | E3: 재 료 비 | P3: 노 무 비 | Q3: 경 비 | W3: 번 호 | X3: 비 고 | Y3: 품목구분 | Z3: 노임구분 | AA3: 소수점처리 | AB3: 자재구분
E4: 조달청가격 | F4: PAGE | G4: 거래가격 | H4: PAGE | I4: 유통물가 | J4: PAGE | K4: 물가자료 | L4: PAGE | M4: 물가정보 | N4: PAGE | O4: 적용단가 | Q4: 조달청가격 | R4: 거래가격 | S4: 유통물가 | T4: 물가자료 | U4: 물가정보 | V4: 적용단가
A5: 570C616619B754E3C07B29A0F70B53F633E2A5 | B5: 굴삭기(무한궤도) | C5: 0.7㎥ | D5: 대 | E5: 0 | G5: 0 | I5: 0 | K5: 0 | M5: 0 | O5: 0 | P5: 0 | Q5: 0 | R5: 0 | S5: 0 | T5: 0 | U5: 110926 | V5: =SMALL(Q5:U5,COUNTIF(Q5:U5,0)+1) -> 110926 | W5: 자재 1 | X5: 천원
A6: 570C616619B7558F30741F0357638DCC677311 | B6: 플레이트 콤팩터 | C6: 1.5ton | D6: 대 | E6: 0 | G6: 0 | I6: 0 | K6: 0 | M6: 0 | O6: 0 | P6: 0 | Q6: 0 | R6: 0 | S6: 0 | T6: 0 | U6: 1570 | V6: =SMALL(Q6:U6,COUNTIF(Q6:U6,0)+1) -> 1570 | W6: 자재 2 | X6: 천원
A7: 570C616619B75124B07BB0AD1B09606952A265 | B7: 코어드릴 | C7: 15.24cm | D7: 대 | E7: 0 | G7: 0 | I7: 0 | K7: 0 | M7: 0 | O7: 0 | P7: 0 | Q7: 0 | R7: 0 | S7: 0 | T7: 0 | U7: 831 | V7: =SMALL(Q7:U7,COUNTIF(Q7:U7,0)+1) -> 831 | W7: 자재 3 | X7: 천원 | Y7: C
A8: 571EC16651B65467B07C8AD6C30E267D520FED | B8: 사용전검사 수수료 | C8: 저압, 기본료 | D8: 식 | E8: 94000 | G8: 0 | I8: 0 | K8: 0 | M8: 0 | O8: =SMALL(E8:M8,COUNTIF(E8:M8,0)+1) -> 94000 | P8: 0 | Q8: 0 | R8: 0 | S8: 0 | T8: 0 | U8: 0 | V8: 0 | W8: 자재 4
A9: 571EC16651B65467B07C8AD6C30E267D520FEE | B9: 사용전검사 수수료 | C9: 저압, kW당 요금 | D9: 식 | E9: 391 | G9: 0 | I9: 0 | K9: 0 | M9: 0 | O9: =SMALL(E9:M9,COUNTIF(E9:M9,0)+1) -> 391 | P9: 0 | Q9: 0 | R9: 0 | S9: 0 | T9: 0 | U9: 0 | V9: 0 | W9: 자재 5
A10: 571EC16651B65467B07C8AD6C30E267D520FEF | B10: 표준시설부담금(저압) | C10: 공중공급, 매 계약에 대하여 계약전력 5kW까지 | D10: 식 | E10: 306000 | G10: 0 | I10: 0 | K10: 0 | M10: 0 | O10: =SMALL(E10:M10,COUNTIF(E10:M10,0)+1) -> 306000 | P10: 0 | Q10: 0 | R10: 0 | S10: 0 | T10: 0 | U10: 0 | V10: 0 | W10: 자재 6
A11: 571EC16651B65467B07C8AD6C30E267D520FE8 | B11: 표준시설부담금(저압) | C11: 공중공급, 계약전력 5kW 초과분의 매 1kW에 대하여 | D11: 식 | E11: 121000 | G11: 0 | I11: 0 | K11: 0 | M11: 0 | O11: =SMALL(E11:M11,COUNTIF(E11:M11,0)+1) -> 121000 | P11: 0 | Q11: 0 | R11: 0 | S11: 0 | T11: 0 | U11: 0 | V11: 0 | W11: 자재 7
A12: 571EC16651B65461107594DCA0A5C2AA57E999 | B12: 모래 | C12: 모래, 제주, 도착도 | D12: M3 | E12: 0 | G12: 0 | I12: 0 | K12: 50000 | L12: 63 | M12: 60000 | N12: 55 | O12: =SMALL(E12:M12,COUNTIF(E12:M12,0)+1) -> 50000 | P12: 0 | Q12: 0 | R12: 0 | S12: 0 | T12: 0 | U12: 0 | V12: 0 | W12: 자재 8
A13: 571E816889C153E2507C61B3D894D039E969B7 | B13: 경유 | C13: 경유, 저유황 | D13: L | E13: 0 | G13: 1505.45 | H13: 1451 | I13: 1510.9 | J13: 1189 | K13: 1550 | L13: 32 | M13: 1748 | N13: 1438 | O13: =SMALL(E13:M13,COUNTIF(E13:M13,0)+1) -> 1505.45 | P13: 0 | Q13: 0 | R13: 0 | S13: 0 | T13: 0 | U13: 0 | V13: 0 | W13: 자재 9
A14: 571E816889C153E2507C625A42E506599E9E8B | B14: 공업용휘발유 | C14: 공업용휘발유, 무연 | D14: L | E14: 0 | G14: 1584.54 | H14: 1451 | I14: 1587.27 | J14: 1189 | K14: 1680 | L14: 32 | M14: 1804 | N14: 1438 | O14: =SMALL(E14:M14,COUNTIF(E14:M14,0)+1) -> 1584.54 | P14: 0 | Q14: 0 | R14: 0 | S14: 0 | T14: 0 | U14: 0 | V14: 0 | W14: 자재 10
A15: 572F61628F9357317074D4EB2C6CCC64C64FE6 | B15: 조달수수료 | C15: 2천만원까지 | D15: 식 | E15: 210000 | G15: 0 | I15: 0 | K15: 0 | M15: 0 | O15: =SMALL(E15:M15,COUNTIF(E15:M15,0)+1) -> 210000 | P15: 0 | Q15: 0 | R15: 0 | S15: 0 | T15: 0 | U15: 0 | V15: 0 | W15: 자재 11
A16: 572F2164E309591B707BE1E0B4FC5B6EE6D016 | B16: 접지용비닐절연전선 | C16: 접지용비닐절연전선, F-GV, 4㎟ | D16: M | E16: 972 | G16: 1183 | H16: 994 | I16: 1353 | J16: 833 | K16: 1172 | L16: 1075 | M16: 1193 | N16: 1165 | O16: =SMALL(E16:M16,COUNTIF(E16:M16,0)+1) -> 972 | P16: 0 | Q16: 0 | R16: 0 | S16: 0 | T16: 0 | U16: 0 | V16: 0 | W16: 자재 12
A17: 572F2164E309591B707BE1E0B4FC5B6EE6D017 | B17: 접지용비닐절연전선 | C17: 접지용비닐절연전선, F-GV, 6㎟ | D17: M | E17: 1106 | G17: 1395 | H17: 994 | I17: 1554 | J17: 833 | K17: 1535 | L17: 1075 | M17: 1358 | N17: 1165 | O17: =SMALL(E17:M17,COUNTIF(E17:M17,0)+1) -> 1106 | P17: 0 | Q17: 0 | R17: 0 | S17: 0 | T17: 0 | U17: 0 | V17: 0 | W17: 자재 13
A18: 572F2164E309591B707BE1E0B4FC5B6EE6D018 | B18: 접지용비닐절연전선 | C18: 접지용비닐절연전선, F-GV, 10㎟ | D18: M | E18: 1909 | G18: 2205 | H18: 994 | I18: 2616 | J18: 833 | K18: 2330 | L18: 1075 | M18: 2288 | N18: 1165 | O18: =SMALL(E18:M18,COUNTIF(E18:M18,0)+1) -> 1909 | P18: 0 | Q18: 0 | R18: 0 | S18: 0 | T18: 0 | U18: 0 | V18: 0 | W18: 자재 14
A19: 572F2164E309591B707BE1E0B4FC5B6EE6D019 | B19: 접지용비닐절연전선 | C19: 접지용비닐절연전선, F-GV, 16㎟ | D19: M | E19: 2545 | G19: 3370 | H19: 994 | I19: 3572 | J19: 833 | K19: 3274 | L19: 1075 | M19: 3124 | N19: 1165 | O19: =SMALL(E19:M19,COUNTIF(E19:M19,0)+1) -> 2545 | P19: 0 | Q19: 0 | R19: 0 | S19: 0 | T19: 0 | U19: 0 | V19: 0 | W19: 자재 15
A20: 572F2164E309591B707BE1E0B4FC5B6EE7FF0E | B20: 접지용비닐절연전선 | C20: 접지용비닐절연전선, F-GV, 35㎟ | D20: M | E20: 5522 | G20: 6690 | H20: 994 | I20: 7770 | J20: 833 | K20: 6905 | L20: 1075 | M20: 6777 | N20: 1165 | O20: =SMALL(E20:M20,COUNTIF(E20:M20,0)+1) -> 5522 | P20: 0 | Q20: 0 | R20: 0 | S20: 0 | T20: 0 | U20: 0 | V20: 0 | W20: 자재 16
A21: 572F2164E309591B707BE1E0B4FC5B6EE7FF0B | B21: 접지용비닐절연전선 | C21: 접지용비닐절연전선, F-GV, 95㎟ | D21: M | E21: 14231 | G21: 17738 | H21: 994 | I21: 20048 | J21: 833 | K21: 18029 | L21: 1075 | M21: 17463 | N21: 1165 | O21: =SMALL(E21:M21,COUNTIF(E21:M21,0)+1) -> 14231 | P21: 0 | Q21: 0 | R21: 0 | S21: 0 | T21: 0 | U21: 0 | V21: 0 | W21: 자재 17
A22: 572F2164E309591B707BE1E0B4FC5B6EE7FF0A | B22: 접지용비닐절연전선 | C22: 접지용비닐절연전선, F-GV, 120㎟ | D22: M | E22: 17402 | G22: 21110 | H22: 994 | I22: 24534 | J22: 833 | K22: 22701 | L22: 1075 | M22: 21353 | N22: 1165 | O22: =SMALL(E22:M22,COUNTIF(E22:M22,0)+1) -> 17402 | P22: 0 | Q22: 0 | R22: 0 | S22: 0 | T22: 0 | U22: 0 | V22: 0 | W22: 자재 18
A23: 572F2164E3095918A0755BD51E98D6D48D1294 | B23: 제어케이블 | C23: 제어케이블, 0.6/1kv, TFR-CVV, 2C*2.5㎟ | D23: M | E23: 1416 | G23: 1718 | H23: 995 | I23: 2412 | J23: 834 | K23: 1830 | L23: 1076 | M23: 2174 | N23: 1171 | O23: =SMALL(E23:M23,COUNTIF(E23:M23,0)+1) -> 1416 | P23: 0 | Q23: 0 | R23: 0 | S23: 0 | T23: 0 | U23: 0 | V23: 0 | W23: 자재 19
A24: 572F2164E3095918A0755BD51E98D6D48D13B9 | B24: 제어케이블 | C24: 제어케이블, 0.6/1kv, TFR-CVV, 3C*2.5㎟ | D24: M | E24: 1736 | G24: 2107 | H24: 995 | I24: 2951 | J24: 834 | K24: 2277 | L24: 1076 | M24: 2663 | N24: 1171 | O24: =SMALL(E24:M24,COUNTIF(E24:M24,0)+1) -> 1736 | P24: 0 | Q24: 0 | R24: 0 | S24: 0 | T24: 0 | U24: 0 | V24: 0 | W24: 자재 20
A25: 572F2164E3095918A0755BD51E98D6D48D13B1 | B25: 제어케이블 | C25: 제어케이블, 0.6/1kv, TFR-CVV, 5C*2.5㎟ | D25: M | E25: 2435 | G25: 2954 | H25: 995 | I25: 4148 | J25: 834 | K25: 3210 | L25: 1076 | M25: 3740 | N25: 1171 | O25: =SMALL(E25:M25,COUNTIF(E25:M25,0)+1) -> 2435 | P25: 0 | Q25: 0 | R25: 0 | S25: 0 | T25: 0 | U25: 0 | V25: 0 | W25: 자재 21
A26: 572F2164E3095918A0755BD51E98D6D48D1561 | B26: 제어케이블 | C26: 제어케이블, 0.6/1kv, TFR-CVV, 10C*1.5㎟ | D26: M | E26: 3392 | G26: 4115 | H26: 995 | I26: 5783 | J26: 834 | K26: 4565 | L26: 1076 | M26: 5214 | N26: 1171 | O26: =SMALL(E26:M26,COUNTIF(E26:M26,0)+1) -> 3392 | P26: 0 | Q26: 0 | R26: 0 | S26: 0 | T26: 0 | U26: 0 | V26: 0 | W26: 자재 22
A27: 572F2164E3095918A0755BD51E98D6D48D160F | B27: 제어케이블 | C27: 제어케이블, 0.6/1kv, TFR-CVV, 15C*2.5㎟ | D27: M | E27: 6226 | G27: 7351 | H27: 995 | I27: 10337 | J27: 834 | K27: 8523 | L27: 1076 | M27: 9322 | N27: 1171 | O27: =SMALL(E27:M27,COUNTIF(E27:M27,0)+1) -> 6226 | P27: 0 | Q27: 0 | R27: 0 | S27: 0 | T27: 0 | U27: 0 | V27: 0 | W27: 자재 23
... A43: 572F2164E3095918A0770FD92184B0AED24E45 | B43: 저독성난연케이블 | C43: HFIX, 4㎟ | D43: M | E43: 817 | G43: 871 | H43: 993 | I43: 1337 | J43: 833 | K43: 977 | L43: 1074 | M43: 1238 | N43: 1165 | O43: =SMALL(E43:M43,COUNTIF(E43:M43,0)+1) -> 817 | P43: 0 | Q43: 0 | R43: 0 | S43: 0 | T43: 0 | U43: 0 | V43: 0 | W43: 자재 39
A44: 572F2164E309591940759AF6CC90666A93E718 | B44: 통신케이블어셈블리 | C44: 통신케이블어셈블리, 24AWG, 표준형, 다목적형, 4심, 마이크케이블 | D44: M | E44: 0 | G44: 0 | I44: 585 | J44: 841 | K44: 520 | L44: 1082 | M44: 641 | N44: 1171 | O44: =SMALL(E44:M44,COUNTIF(E44:M44,0)+1) -> 520 | P44: 0 | Q44: 0 | R44: 0 | S44: 0 | T44: 0 | U44: 0 | V44: 0 | W44: 자재 40
A45: 5739B16E6DF05507C07FBD38D0990AD7ED6E34 | B45: 시멘트 | C45: 시멘트, 제주, 분공장도, -부가세 별도- | D45: kg | E45: 0 | G45: 231.81 | H45: 103 | I45: 211.36 | J45: 62 | K45: 222.5 | L45: 65 | M45: 212.5 | N45: 58 | O45: =SMALL(E45:M45,COUNTIF(E45:M45,0)+1) -> 211.36 | P45: 0 | Q45: 0 | R45: 0 | S45: 0 | T45: 0 | U45: 0 | V45: 0 | W45: 자재 41
A46: 5739A16C1E4A54DA8075CA09C6ABBE969D1BA0 | B46: 육각너트 | C46: 육각너트, M10 | D46: 개 | E46: 0 | G46: 30 | H46: 97 | I46: 21.3 | J46: 56 | K46: 30.2 | L46: 51 | M46: 28.7 | N46: 39 | O46: =SMALL(E46:M46,COUNTIF(E46:M46,0)+1) -> 21.3 | P46: 0 | Q46: 0 | R46: 0 | S46: 0 | T46: 0 | U46: 0 | V46: 0 | W46: 자재 42
A47: 5739A16C1E4A54D50074DAB9F5778B0DA098D2 | B47: 스프링와셔 | C47: 스프링와셔, 용융아연도, 호칭경 10mm | D47: 개 | E47: 0 | G47: 9.6 | H47: 94 | I47: 9.3 | J47: 56 | K47: 15.72 | L47: 48 | M47: 9.2 | N47: 43 | O47: =SMALL(E47:M47,COUNTIF(E47:M47,0)+1) -> 9.2 | P47: 0 | Q47: 0 | R47: 0 | S47: 0 | T47: 0 | U47: 0 | V47: 0 | W47: 자재 43
A48: 5739A16C1E4A5790707BFF4B71163E8CCECE14 | B48: 세트앵커 | C48: 세트앵커, M10*L75mm | D48: 개 | E48: 0 | G48: 170 | H48: 94 | I48: 160 | J48: 53 | K48: 160 | L48: 52 | M48: 550 | N48: 48 | O48: =SMALL(E48:M48,COUNTIF(E48:M48,0)+1) -> 160 | P48: 0 | Q48: 0 | R48: 0 | S48: 0 | T48: 0 | U48: 0 | V48: 0 | W48: 자재 44
A49: 57392168B20F531E507CEA0376332B08A8CA58 | B49: 유도등 | C49: 유도등, 소형(단면), 60분용, 피난구유도등, 고휘도, LED | D49: 개 | E49: 44806 | G49: 120000 | H49: 1194 | I49: 100000 | J49: 756 | K49: 100000 | L49: 968 | M49: 100000 | N49: 1389 | O49: =SMALL(E49:M49,COUNTIF(E49:M49,0)+1) -> 44806 | P49: 0 | Q49: 0 | R49: 0 | S49: 0 | T49: 0 | U49: 0 | V49: 0 | W49: 자재 45
A50: 57392168B234575AE07F6E5155C7E4B8325493 | B50: 풀박스 | C50: 풀박스, 300*300*150mm | D50: 개 | E50: 9996 | G50: 20100 | H50: 1028 | I50: 11760 | J50: 873 | K50: 11880 | L50: 1105 | M50: 11760 | N50: 1206 | O50: =SMALL(E50:M50,COUNTIF(E50:M50,0)+1) -> 9996 | P50: 0 | Q50: 0 | R50: 0 | S50: 0 | T50: 0 | U50: 0 | V50: 0 | W50: 자재 46
A51: 57392168B234575AE07F6E5155C7E4B83255BE | B51: 풀박스 | C51: 풀박스, 600*600*300mm | D51: 개 | E51: 47523 | G51: 0 | I51: 55910 | J51: 873 | K51: 0 | M51: 55910 | N51: 1206 | O51: =SMALL(E51:M51,COUNTIF(E51:M51,0)+1) -> 47523 | P51: 0 | Q51: 0 | R51: 0 | S51: 0 | T51: 0 | U51: 0 | V51: 0 | W51: 자재 47
A52: 57392168B234575AE07F6E515428F7E86054F1 | B52: 풀박스 | C52: 풀박스, 150*150*150mm | D52: 개 | E52: 3493 | G52: 0 | I52: 4110 | J52: 873 | K52: 4750 | L52: 1105 | M52: 4110 | N52: 1206 | O52: =SMALL(E52:M52,COUNTIF(E52:M52,0)+1) -> 3493 | P52: 0 | Q52: 0 | R52: 0 | S52: 0 | T52: 0 | U52: 0 | V52: 0 | W52: 자재 48
A53: 57392168B234575AE07F6B9EB5C209B80B1B12 | B53: 스위치박스 | C53: 스위치박스, 1개용, 54mm | D53: 개 | E53: 591 | G53: 650 | H53: 1028 | I53: 700 | J53: 873 | K53: 650 | L53: 1105 | M53: 700 | N53: 1206 | O53: =SMALL(E53:M53,COUNTIF(E53:M53,0)+1) -> 591 | P53: 0 | Q53: 0 | R53: 0 | S53: 0 | T53: 0 | U53: 0 | V53: 0 | W53: 자재 49
A54: 57392168B234575AE07F6576D831E47F63C5D3 | B54: 아웃렛박스 | C54: 아웃렛박스, 8각, 54mm | D54: 개 | E54: 626 | G54: 721 | H54: 1020 | I54: 845 | J54: 873 | K54: 790 | L54: 1105 | M54: 871 | N54: 1206 | O54: =SMALL(E54:M54,COUNTIF(E54:M54,0)+1) -> 626 | P54: 0 | Q54: 0 | R54: 0 | S54: 0 | T54: 0 | U54: 0 | V54: 0 | W54: 자재 50
A55: 57392168B234575AE07F6576D831E47F63C5D0 | B55: 아웃렛박스 | C55: 아웃렛박스, 중형4각, 54mm | D55: 개 | E55: 0 | G55: 840 | H55: 1020 | I55: 0 | K55: 3100 | L55: 1105 | M55: 0 | O55: =SMALL(E55:M55,COUNTIF(E55:M55,0)+1) -> 840 | P55: 0 | Q55: 0 | R55: 0 | S55: 0 | T55: 0 | U55: 0 | V55: 0 | W55: 자재 51
A56: 57392168B234575AE0767945F9D552B7D3CEDB | B56: 경고테이프 | C56: 폭 200㎜ | D56: M | E56: 0 | G56: 297 | H56: 1134 | I56: 110 | J56: 539 | K56: 160 | L56: 747 | M56: 0 | O56: =SMALL(E56:M56,COUNTIF(E56:M56,0)+1) -> 110 | P56: 0 | Q56: 0 | R56: 0 | S56: 0 | T56: 0 | U56: 0 | V56: 0 | W56: 자재 52
A57: 57392168B234575DA07312F71B402EE9B704D0 | B57: 콘센트 | C57: 콘센트, 2구, 15A, 250V, 매입형, 접지 | D57: 개 | E57: 1384 | G57: 2834 | H57: 1099 | I57: 0 | K57: 2760 | L57: 1205 | M57: 2273 | N57: 1280 | O57: =SMALL(E57:M57,COUNTIF(E57:M57,0)+1) -> 1384 | P57: 0 | Q57: 0 | R57: 0 | S57: 0 | T57: 0 | U57: 0 | V57: 0 | W57: 자재 53
A58: 57392168B234575DA07042F0769414A97021BC | B58: 압착단자 | C58: 압착단자, 터미널, 10㎟ | D58: 개 | E58: 101 | G58: 102 | H58: 1019 | I58: 0 | K58: 94.1 | L58: 1100 | M58: 155 | N58: 1198 | O58: =SMALL(E58:M58,COUNTIF(E58:M58,0)+1) -> 94.1 | P58: 0 | Q58: 0 | R58: 0 | S58: 0 | T58: 0 | U58: 0 | V58: 0 | W58: 자재 54
A59: 57392168B234575DA07042F0769414A97021BD | B59: 압착단자 | C59: 압착단자, 터미널, 16㎟ | D59: 개 | E59: 126 | G59: 150 | H59: 1019 | I59: 0 | K59: 147.1 | L59: 1100 | M59: 297 | N59: 1198 | O59: =SMALL(E59:M59,COUNTIF(E59:M59,0)+1) -> 126 | P59: 0 | Q59: 0 | R59: 0 | S59: 0 | T59: 0 | U59: 0 | V59: 0 | W59: 자재 55
A60: 57392168B234575DA07042F0769414A97021BE | B60: 압착단자 | C60: 압착단자, 터미널, 25㎟ | D60: 개 | E60: 186 | G60: 225 | H60: 1019 | I60: 0 | K60: 200 | L60: 1100 | M60: 450 | N60: 1198 | O60: =SMALL(E60:M60,COUNTIF(E60:M60,0)+1) -> 186 | P60: 0 | Q60: 0 | R60: 0 | S60: 0 | T60: 0 | U60: 0 | V60: 0 | W60: 자재 56
A61: 57392168B234575DA07042F0769414A97021BF | B61: 압착단자 | C61: 압착단자, 터미널, 35㎟ | D61: 개 | E61: 241 | G61: 291 | H61: 1019 | I61: 0 | K61: 305.8 | L61: 1100 | M61: 779 | N61: 1198 | O61: =SMALL(E61:M61,COUNTIF(E61:M61,0)+1) -> 241 | P61: 0 | Q61: 0 | R61: 0 | S61: 0 | T61: 0 | U61: 0 | V61: 0 | W61: 자재 57
A62: 57392168B234575DA07042F11FCBAEB5C31A45 | B62: 러그단자 | C62: 러그단자, 동관단자, 2홀, 70㎟ | D62: 개 | E62: 0 | G62: 2737 | H62: 1019 | I62: 4088 | J62: 858 | K62: 2590 | L62: 1100 | M62: 4088 | N62: 1198 | O62: =SMALL(E62:M62,COUNTIF(E62:M62,0)+1) -> 2590 | P62: 0 | Q62: 0 | R62: 0 | S62: 0 | T62: 0 | U62: 0 | V62: 0 | W62: 자재 58
A63: 57392168B234575DA07042F11FCBAEB5C31A47 | B63: 러그단자 | C63: 러그단자, 동관단자, 2홀, 95㎟ | D63: 개 | E63: 0 | G63: 3367 | H63: 1019 | I63: 5559 | J63: 858 | K63: 3520 | L63: 1100 | M63: 5559 | N63: 1198 | O63: =SMALL(E63:M63,COUNTIF(E63:M63,0)+1) -> 3367 | P63: 0 | Q63: 0 | R63: 0 | S63: 0 | T63: 0 | U63: 0 | V63: 0 | W63: 자재 59
A64: 57392168B234575DA07042F11FCBAEB5C31A41 | B64: 러그단자 | C64: 러그단자, 동관단자, 2홀, 120㎟ | D64: 개 | E64: 0 | G64: 4213 | H64: 1019 | I64: 6573 | J64: 858 | K64: 4170 | L64: 1100 | M64: 6573 | N64: 1198 | O64: =SMALL(E64:M64,COUNTIF(E64:M64,0)+1) -> 4170 | P64: 0 | Q64: 0 | R64: 0 | S64: 0 | T64: 0 | U64: 0 | V64: 0 | W64: 자재 60
A65: 57392168B234575DA07042F11FCBAEB5C31A4D | B65: 러그단자 | C65: 러그단자, 동관단자, 2홀, 185㎟ | D65: 개 | E65: 0 | G65: 7364 | H65: 1019 | I65: 10383 | J65: 858 | K65: 6620 | L65: 1100 | M65: 10383 | N65: 1198 | O65: =SMALL(E65:M65,COUNTIF(E65:M65,0)+1) -> 6620 | P65: 0 | Q65: 0 | R65: 0 | S65: 0 | T65: 0 | U65: 0 | V65: 0 | W65: 자재 61
A66: 57392168B234575DA07042F11FCBAEB5C319BE | B66: 러그단자 | C66: 러그단자, 동관단자, 2홀, 240㎟ | D66: 개 | E66: 0 | G66: 8427 | H66: 1019 | I66: 16493 | J66: 858 | K66: 10920 | L66: 1100 | M66: 16493 | N66: 1198 | O66: =SMALL(E66:M66,COUNTIF(E66:M66,0)+1) -> 8427 | P66: 0 | Q66: 0 | R66: 0 | S66: 0 | T66: 0 | U66: 0 | V66: 0 | W66: 자재 62
A67: 57392168B234575F5071F37F134391D69C1CFB | B67: 접지봉 | C67: 접지봉, 14∮*1000mm | D67: 개 | E67: 3316 | G67: 15000 | H67: 1074 | I67: 3900 | J67: 925 | K67: 8000 | L67: 1199 | M67: 10500 | N67: 1270 | O67: =SMALL(E67:M67,COUNTIF(E67:M67,0)+1) -> 3316 | P67: 0 | Q67: 0 | R67: 0 | S67: 0 | T67: 0 | U67: 0 | V67: 0 | W67: 자재 63
A68: 57392168B2345FA6407B5CC8FDBC74323470F0 | B68: 와이드스위치 | C68: 단로, 15A 250V, 1구 | D68: 개 | E68: 1323 | G68: 3920 | H68: 1098 | I68: 3967 | J68: 930 | K68: 1880 | L68: 1204 | M68: 2333 | N68: 1280 | O68: =SMALL(E68:M68,COUNTIF(E68:M68,0)+1) -> 1323 | P68: 0 | Q68: 0 | R68: 0 | S68: 0 | T68: 0 | U68: 0 | V68: 0 | W68: 자재 64
A69: 57392168B22B5EDE007FC1D733B5E6F4D315B2 | B69: 케이블트레이 | C69: 케이블트레이, Straight, 스틸, 600*100*t2.3mm | D69: M | E69: 15650 | G69: 0 | I69: 31470 | J69: 869 | K69: 29830 | L69: 1111 | M69: 30750 | N69: 1212 | O69: =SMALL(E69:M69,COUNTIF(E69:M69,0)+1) -> 15650 | P69: 0 | Q69: 0 | R69: 0 | S69: 0 | T69: 0 | U69: 0 | V69: 0 | W69: 자재 65
A70: 57392168B22B5EDE007FC1D733B5E6F4D31658 | B70: 케이블트레이-COVER | C70: 케이블트레이, Straight, 스틸, 600*t2.3mm | D70: M | E70: 0 | G70: 0 | I70: 48860 | J70: 869 | K70: 61740 | L70: 1111 | M70: 62700 | N70: 1212 | O70: =SMALL(E70:M70,COUNTIF(E70:M70,0)+1) -> 48860 | P70: 0 | Q70: 0 | R70: 0 | S70: 0 | T70: 0 | U70: 0 | V70: 0 | W70: 자재 66
A71: 57392168B22B5EDE007FC0CC662C17A015608B | B71: 케이블트레이부속품 | C71: 케이블트레이부속품, Vertical elbow, 스틸, 600*100*t2.3mm | D71: 개 | E71: 24017 | G71: 79690 | H71: 1038 | I71: 49200 | J71: 868 | K71: 56190 | L71: 1111 | M71: 49200 | N71: 1212 | O71: =SMALL(E71:M71,COUNTIF(E71:M71,0)+1) -> 24017 | P71: 0 | Q71: 0 | R71: 0 | S71: 0 | T71: 0 | U71: 0 | V71: 0 | W71: 자재 67
A72: 57392168B22B5EDE007FC0CC662C17A0145E15 | B72: 케이블트레이부속품 | C72: 케이블트레이부속품, Joint connector, 아연도, 100*t2.3mm | D72: M | E72: 1006 | G72: 0 | I72: 0 | K72: 2100 | L72: 1114 | M72: 5350 | N72: 1212 | O72: =SMALL(E72:M72,COUNTIF(E72:M72,0)+1) -> 1006 | P72: 0 | Q72: 0 | R72: 0 | S72: 0 | T72: 0 | U72: 0 | V72: 0 | W72: 자재 68
A73: 57392168B22B5EDE007FC0CC662C17A0145D76 | B73: 케이블트레이부속품 | C73: 케이블트레이부속품, Shank bolt and nut, 스테인리스 | D73: M | E73: 310 | G73: 0 | I73: 0 | K73: 750 | L73: 1113 | M73: 590 | N73: 1212 | O73: =SMALL(E73:M73,COUNTIF(E73:M73,0)+1) -> 310 | P73: 0 | Q73: 0 | R73: 0 | S73: 0 | T73: 0 | U73: 0 | V73: 0 | W73: 자재 69
A74: 57392168B22B5EDE007FC0CC662C17A0145D73 | B74: 케이블트레이부속품 | C74: 케이블트레이부속품, Bonding jumper, 38㎟ | D74: M | E74: 3471 | G74: 0 | I74: 0 | K74: 2800 | L74: 1113 | M74: 2900 | N74: 1212 | O74: =SMALL(E74:M74,COUNTIF(E74:M74,0)+1) -> 2800 | P74: 0 | Q74: 0 | R74: 0 | S74: 0 | T74: 0 | U74: 0 | V74: 0 | W74: 자재 70
A75: 57392168B22B5EDE007FC0CC662C17A0145D72 | B75: 케이블트레이부속품 | C75: 케이블트레이부속품, Hold down clamp, 아연도 | D75: M | E75: 376 | G75: 0 | I75: 0 | K75: 2800 | L75: 1113 | M75: 650 | N75: 1212 | O75: =SMALL(E75:M75,COUNTIF(E75:M75,0)+1) -> 376 | P75: 0 | Q75: 0 | R75: 0 | S75: 0 | T75: 0 | U75: 0 | V75: 0 | W75: 자재 71
A76: 57392168B22B5EDE007FC0CC662C17A0145D7F | B76: 케이블트레이부속품 | C76: 케이블트레이부속품, U Channel, 41*41*t2.6mm | D76: M | E76: 6176 | G76: 0 | I76: 0 | K76: 9100 | L76: 1114 | M76: 10500 | N76: 1212 | O76: =SMALL(E76:M76,COUNTIF(E76:M76,0)+1) -> 6176 | P76: 0 | Q76: 0 | R76: 0 | S76: 0 | T76: 0 | U76: 0 | V76: 0 | W76: 자재 72
A77: 57392168B22B5EDE007FC0CC662C17A0145D7E | B77: 케이블트레이부속품-COVER | C77: 케이블트레이부속품, Vertical elbow, 스틸, 600*t2.3mm | D77: 개 | E77: 0 | G77: 0 | I77: 0 | K77: 73150 | L77: 1111 | M77: 102230 | N77: 1212 | O77: =SMALL(E77:M77,COUNTIF(E77:M77,0)+1) -> 73150 | P77: 0 | Q77: 0 | R77: 0 | S77: 0 | T77: 0 | U77: 0 | V77: 0 | W77: 자재 73
A78: 57392168B22B5EDE007FC0CC662C17A0118C6A | B78: 케이블트레이피팅및액세서리 | C78: 덕트형케이블트레이부속품, Z Hold cover clamp | D78: 개 | E78: 0 | G78: 0 | I78: 0 | K78: 1300 | L78: 1113 | M78: 0 | O78: =SMALL(E78:M78,COUNTIF(E78:M78,0)+1) -> 1300 | P78: 0 | Q78: 0 | R78: 0 | S78: 0 | T78: 0 | U78: 0 | V78: 0 | W78: 자재 74
A79: 57392168B22B5EDE007FC383E1A00F378F493A | B79: 강제전선관 | C79: 강제전선관, 후강전선관, 아연도, 22mm | D79: M | E79: 3085 | G79: 3630 | H79: 1029 | I79: 4412 | J79: 864 | K79: 3770 | L79: 1101 | M79: 4800 | N79: 1201 | O79: =SMALL(E79:M79,COUNTIF(E79:M79,0)+1) -> 3085 | P79: 0 | Q79: 0 | R79: 0 | S79: 0 | T79: 0 | U79: 0 | V79: 0 | W79: 자재 75
A80: 57392168B22B5EDE007FC383E1A00F378F493D | B80: 강제전선관 | C80: 강제전선관, 후강전선관, 아연도, 28mm | D80: M | E80: 4012 | G80: 4720 | H80: 1029 | I80: 5766 | J80: 864 | K80: 4750 | L80: 1101 | M80: 6270 | N80: 1201 | O80: =SMALL(E80:M80,COUNTIF(E80:M80,0)+1) -> 4012 | P80: 0 | Q80: 0 | R80: 0 | S80: 0 | T80: 0 | U80: 0 | V80: 0 | W80: 자재 76
A81: 57392168B22B5EDE007FC383E1A00F378F4EB9 | B81: 강제전선관-옥외 | C81: 강제전선관, 후강전선관, 아연도, 36mm | D81: M | E81: 5475 | G81: 6441 | H81: 1029 | I81: 7379 | J81: 864 | K81: 6110 | L81: 1101 | M81: 8030 | N81: 1201 | O81: =SMALL(E81:M81,COUNTIF(E81:M81,0)+1) -> 5475 | P81: 0 | Q81: 0 | R81: 0 | S81: 0 | T81: 0 | U81: 0 | V81: 0 | W81: 자재 77
A82: 57392168B22B5EDE007FC383E1A00F378F4EBE | B82: 강제전선관-옥외 | C82: 강제전선관, 후강전선관, 아연도, 42mm | D82: M | E82: 6269 | G82: 7404 | H82: 1029 | I82: 8486 | J82: 864 | K82: 6880 | L82: 1101 | M82: 9240 | N82: 1201 | O82: =SMALL(E82:M82,COUNTIF(E82:M82,0)+1) -> 6269 | P82: 0 | Q82: 0 | R82: 0 | S82: 0 | T82: 0 | U82: 0 | V82: 0 | W82: 자재 78
A83: 57392168B22B5EDE007FC383E1A00F378F4EB2 | B83: 강제전선관-옥외 | C83: 강제전선관, 후강전선관, 아연도, 104mm | D83: M | E83: 20843 | G83: 24612 | H83: 1029 | I83: 28262 | J83: 864 | K83: 23310 | L83: 1101 | M83: 30780 | N83: 1201 | O83: =SMALL(E83:M83,COUNTIF(E83:M83,0)+1) -> 20843 | P83: 0 | Q83: 0 | R83: 0 | S83: 0 | T83: 0 | U83: 0 | V83: 0 | W83: 자재 79
A84: 57392168B22B5EDE007FC383E1A00F36E61195 | B84: 파상형경질폴리에틸렌전선관 | C84: 파상형경질폴리에틸렌전선관, ELP, 30mm | D84: M | E84: 342 | G84: 391 | H84: 1025 | I84: 480 | J84: 861 | K84: 360 | L84: 1106 | M84: 485 | N84: 1203 | O84: =SMALL(E84:M84,COUNTIF(E84:M84,0)+1) -> 342 | P84: 0 | Q84: 0 | R84: 0 | S84: 0 | T84: 0 | U84: 0 | V84: 0 | W84: 자재 80
A85: 57392168B22B5EDE007FC383E1A00F36E61196 | B85: 파상형경질폴리에틸렌전선관 | C85: 파상형경질폴리에틸렌전선관, ELP, 40mm | D85: M | E85: 522 | G85: 563 | H85: 1025 | I85: 607 | J85: 861 | K85: 550 | L85: 1106 | M85: 613 | N85: 1203 | O85: =SMALL(E85:M85,COUNTIF(E85:M85,0)+1) -> 522 | P85: 0 | Q85: 0 | R85: 0 | S85: 0 | T85: 0 | U85: 0 | V85: 0 | W85: 자재 81
A86: 57392168B22B5EDE007FC383E1A00F36E61197 | B86: 파상형경질폴리에틸렌전선관 | C86: 파상형경질폴리에틸렌전선관, ELP, 50mm | D86: M | E86: 680 | G86: 750 | H86: 1025 | I86: 860 | J86: 861 | K86: 730 | L86: 1106 | M86: 869 | N86: 1203 | O86: =SMALL(E86:M86,COUNTIF(E86:M86,0)+1) -> 680 | P86: 0 | Q86: 0 | R86: 0 | S86: 0 | T86: 0 | U86: 0 | V86: 0 | W86: 자재 82
A87: 57392168B22B5EDE007FC383E1A00F36E61192 | B87: 파상형경질폴리에틸렌전선관 | C87: 파상형경질폴리에틸렌전선관, ELP, 100mm | D87: M | E87: 1784 | G87: 2188 | H87: 1025 | I87: 2214 | J87: 861 | K87: 1980 | L87: 1106 | M87: 2236 | N87: 1203 | O87: =SMALL(E87:M87,COUNTIF(E87:M87,0)+1) -> 1784 | P87: 0 | Q87: 0 | R87: 0 | S87: 0 | T87: 0 | U87: 0 | V87: 0 | W87: 자재 83
A88: 57392168B22B5EDE007FC383E1A00F36E6146D | B88: 합성수지제가요전선관 | C88: 합성수지제가요전선관, HL-CD16, 하이렉스-CD, 16mm | D88: M | E88: 170 | G88: 267 | H88: 1025 | I88: 267 | J88: 860 | K88: 200 | L88: 1104 | M88: 278 | N88: 1203 | O88: =SMALL(E88:M88,COUNTIF(E88:M88,0)+1) -> 170 | P88: 0 | Q88: 0 | R88: 0 | S88: 0 | T88: 0 | U88: 0 | V88: 0 | W88: 자재 84
A89: 57392168B22B5EDE007FC3802D3A4B79C42559 | B89: 1종금속제가요전선관 | C89: 1종금속제가요전선관, 22mm, 비방수 | D89: M | E89: 0 | G89: 1740 | H89: 1027 | I89: 0 | K89: 950 | L89: 1101 | M89: 1042 | N89: 1204 | O89: =SMALL(E89:M89,COUNTIF(E89:M89,0)+1) -> 950 | P89: 0 | Q89: 0 | R89: 0 | S89: 0 | T89: 0 | U89: 0 | V89: 0 | W89: 자재 85
A90: 57392168B22B5EDE007FC3802D3A4B79C4255A | B90: 1종금속제가요전선관 | C90: 1종금속제가요전선관, 28mm, 비방수 | D90: M | E90: 0 | G90: 2180 | H90: 1027 | I90: 0 | K90: 1380 | L90: 1101 | M90: 1595 | N90: 1204 | O90: =SMALL(E90:M90,COUNTIF(E90:M90,0)+1) -> 1380 | P90: 0 | Q90: 0 | R90: 0 | S90: 0 | T90: 0 | U90: 0 | V90: 0 | W90: 자재 86
A91: 57392168B22B5EDE007FC3802D3A4B79C4255B | B91: 1종금속제가요전선관 | C91: 1종금속제가요전선관, 36mm, 비방수 | D91: M | E91: 0 | G91: 2870 | H91: 1027 | I91: 0 | K91: 1970 | L91: 1101 | M91: 2420 | N91: 1204 | O91: =SMALL(E91:M91,COUNTIF(E91:M91,0)+1) -> 1970 | P91: 0 | Q91: 0 | R91: 0 | S91: 0 | T91: 0 | U91: 0 | V91: 0 | W91: 자재 87
A92: 57392168B22B5EDE007FC3802D3A4B79C4267C | B92: 1종금속제가요전선관 | C92: 1종금속제가요전선관, 비닐피복, 22mm, 방수 | D92: M | E92: 1348 | G92: 2880 | H92: 1027 | I92: 850 | J92: 860 | K92: 850 | L92: 1101 | M92: 935 | N92: 1204 | O92: =SMALL(E92:M92,COUNTIF(E92:M92,0)+1) -> 850 | P92: 0 | Q92: 0 | R92: 0 | S92: 0 | T92: 0 | U92: 0 | V92: 0 | W92: 자재 88
A93: 57392168B22B5EDE007FC3802D3A4B79C4267B | B93: 1종금속제가요전선관 | C93: 1종금속제가요전선관, 비닐피복, 28mm, 방수 | D93: M | E93: 1634 | G93: 3470 | H93: 1027 | I93: 0 | K93: 1100 | L93: 1101 | M93: 1265 | N93: 1204 | O93: =SMALL(E93:M93,COUNTIF(E93:M93,0)+1) -> 1100 | P93: 0 | Q93: 0 | R93: 0 | S93: 0 | T93: 0 | U93: 0 | V93: 0 | W93: 자재 89
A94: 57392168B22B5EDE007FC3802D3A4B79C4267A | B94: 1종금속제가요전선관 | C94: 1종금속제가요전선관, 비닐피복, 36mm, 방수 | D94: M | E94: 2492 | G94: 5280 | H94: 1027 | I94: 0 | K94: 2200 | L94: 1101 | M94: 2035 | N94: 1204 | O94: =SMALL(E94:M94,COUNTIF(E94:M94,0)+1) -> 2035 | P94: 0 | Q94: 0 | R94: 0 | S94: 0 | T94: 0 | U94: 0 | V94: 0 | W94: 자재 90
A95: 57392168B22B5EDE007FC3802D3A4B79C42700 | B95: 1종금속제가요전선관 | C95: 1종금속제가요전선관, 박스커넥터, 28mm, 비방수 | D95: 개 | E95: 944 | G95: 1830 | H95: 1027 | I95: 0 | K95: 880 | L95: 1101 | M95: 869 | N95: 1204 | O95: =SMALL(E95:M95,COUNTIF(E95:M95,0)+1) -> 869 | P95: 0 | Q95: 0 | R95: 0 | S95: 0 | T95: 0 | U95: 0 | V95: 0 | W95: 자재 91
A96: 57392168B22B5EDE007FC3802D3A4B79C42701 | B96: 1종금속제가요전선관 | C96: 1종금속제가요전선관, 박스커넥터, 36mm, 비방수 | D96: 개 | E96: 1351 | G96: 2650 | H96: 1027 | I96: 0 | K96: 0 | M96: 0 | O96: =SMALL(E96:M96,COUNTIF(E96:M96,0)+1) -> 1351 | P96: 0 | Q96: 0 | R96: 0 | S96: 0 | T96: 0 | U96: 0 | V96: 0 | W96: 자재 92
A97: 57392168B22B5EDE007FC3802D3A4B79C420D0 | B97: 1종금속제가요전선관 | C97: 1종금속제가요전선관, 박스커넥터-비닐, 22mm, 방수 | D97: 개 | E97: 2164 | G97: 3300 | H97: 1027 | I97: 1000 | J97: 860 | K97: 1000 | L97: 1101 | M97: 977 | N97: 1204 | O97: =SMALL(E97:M97,COUNTIF(E97:M97,0)+1) -> 977 | P97: 0 | Q97: 0 | R97: 0 | S97: 0 | T97: 0 | U97: 0 | V97: 0 | W97: 자재 93
A98: 57392168B22B5EDE007FC3802D3A4B79C420DF | B98: 1종금속제가요전선관 | C98: 1종금속제가요전선관, 박스커넥터-비닐, 28mm, 방수 | D98: 개 | E98: 2722 | G98: 3980 | H98: 1027 | I98: 0 | K98: 1500 | L98: 1101 | M98: 1426 | N98: 1204 | O98: =SMALL(E98:M98,COUNTIF(E98:M98,0)+1) -> 1426 | P98: 0 | Q98: 0 | R98: 0 | S98: 0 | T98: 0 | U98: 0 | V98: 0 | W98: 자재 94
A99: 57392168B22B5EDE007FC3802D3A4B79C420DE | B99: 1종금속제가요전선관 | C99: 1종금속제가요전선관, 박스커넥터-비닐, 36mm, 방수 | D99: 개 | E99: 3739 | G99: 5290 | H99: 1027 | I99: 0 | K99: 1980 | L99: 1101 | M99: 23268 | N99: 1204 | O99: =SMALL(E99:M99,COUNTIF(E99:M99,0)+1) -> 1980 | P99: 0 | Q99: 0 | R99: 0 | S99: 0 | T99: 0 | U99: 0 | V99: 0 | W99: 자재 95
A100: 57392168B22B5EDE007FCD87358C7A78897341 | B100: 강재전선관용부품 | C100: 강재전선관용부품, 파이프크램프, 22C | D100: 개 | E100: 139 | G100: 160 | H100: 1029 | I100: 181 | J100: 864 | K100: 180 | L100: 1101 | M100: 233 | N100: 1202 | O100: =SMALL(E100:M100,COUNTIF(E100:M100,0)+1) -> 139 | P100: 0 | Q100: 0 | R100: 0 | S100: 0 | T100: 0 | U100: 0 | V100: 0 | W100: 자재 96
A101: 57392168B22B5EDE007FCD87358C7A78897342 | B101: 강재전선관용부품 | C101: 강재전선관용부품, 파이프크램프, 28C | D101: 개 | E101: 165 | G101: 190 | H101: 1029 | I101: 217 | J101: 864 | K101: 220 | L101: 1101 | M101: 256 | N101: 1202 | O101: =SMALL(E101:M101,COUNTIF(E101:M101,0)+1) -> 165 | P101: 0 | Q101: 0 | R101: 0 | S101: 0 | T101: 0 | U101: 0 | V101: 0 | W101: 자재 97
A102: 57392168B22B5EDE007FCD84612FE0377B23D0 | B102: 강재전선관용부품 | C102: 강재전선관용부품, 위샤캡, 36C | D102: 개 | E102: 4392 | G102: 5240 | H102: 1029 | I102: 0 | K102: 4780 | L102: 1101 | M102: 5940 | N102: 1202 | O102: =SMALL(E102:M102,COUNTIF(E102:M102,0)+1) -> 4392 | P102: 0 | Q102: 0 | R102: 0 | S102: 0 | T102: 0 | U102: 0 | V102: 0 | W102: 자재 98
A103: 57392168B22B5EDE007FCD84612FE0377B2233 | B103: 강재전선관용부품 | C103: 강재전선관용부품, 위샤캡, 42C | D103: 개 | E103: 4658 | G103: 5560 | H103: 1029 | I103: 0 | K103: 5070 | L103: 1101 | M103: 6996 | N103: 1202 | O103: =SMALL(E103:M103,COUNTIF(E103:M103,0)+1) -> 4658 | P103: 0 | Q103: 0 | R103: 0 | S103: 0 | T103: 0 | U103: 0 | V103: 0 | W103: 자재 99
A104: 57392168B22B5EDE007FCD84612FE0377B2237 | B104: 강재전선관용부품 | C104: 강재전선관용부품, 위샤캡, 104C | D104: 개 | E104: 45509 | G104: 0 | I104: 0 | K104: 61400 | L104: 1101 | M104: 59400 | N104: 1202 | O104: =SMALL(E104:M104,COUNTIF(E104:M104,0)+1) -> 45509 | P104: 0 | Q104: 0 | R104: 0 | S104: 0 | T104: 0 | U104: 0 | V104: 0 | W104: 자재 100
A105: 57392168B22B5EDE007FCD84612FE0377B2236 | B105: 강재전선관용부품 | C105: 강재전선관용부품, 노말밴드후강전선관용, 아연도, 28mm | D105: 개 | E105: 3130 | G105: 3500 | H105: 1029 | I105: 4031 | J105: 864 | K105: 4500 | L105: 1101 | M105: 4031 | N105: 1202 | O105: =SMALL(E105:M105,COUNTIF(E105:M105,0)+1) -> 3130 | P105: 0 | Q105: 0 | R105: 0 | S105: 0 | T105: 0 | U105: 0 | V105: 0 | W105: 자재 101
A106: 57392168B22B5EDE007FCD84612792AAA4C17F | B106: 관구밀폐기-전기수전용 | C106: 관구밀폐기, 이종연결관, ∮40mm | D106: 개 | E106: 1929 | G106: 0 | I106: 0 | K106: 2700 | L106: 1229 | M106: 0 | O106: =SMALL(E106:M106,COUNTIF(E106:M106,0)+1) -> 1929 | P106: 0 | Q106: 0 | R106: 0 | S106: 0 | T106: 0 | U106: 0 | V106: 0 | W106: 자재 102
A107: 57392168B22B5EDE007FCD84612792AAA4C178 | B107: 관구밀폐기-전기수전용 | C107: 관구밀폐기, 이종연결관, ∮125mm | D107: 개 | E107: 5419 | G107: 0 | I107: 0 | K107: 9900 | L107: 1229 | M107: 0 | O107: =SMALL(E107:M107,COUNTIF(E107:M107,0)+1) -> 5419 | P107: 0 | Q107: 0 | R107: 0 | S107: 0 | T107: 0 | U107: 0 | V107: 0 | W107: 자재 103
A108: 5754D163BA465C29A07EEE0A3AF13580A103D5 | B108: LP-M(조천) | C108: W800*H2550*D1500 | D108: 면 | E108: 15552000 | F108: A사 | G108: 16139234 | H108: B사 | I108: 16389753 | J108: C사 | K108: 0 | M108: 0 | O108: =SMALL(E108:M108,COUNTIF(E108:M108,0)+1) -> 15552000 | P108: 0 | Q108: 0 | R108: 0 | S108: 0 | T108: 0 | U108: 0 | V108: 0 | W108: 자재 104
A109: 5754D163BA465C29A07EEE0A3AF13580A103D7 | B109: MCC-MP-31(신촌) | C109: W800*H1900*D600 | D109: 면 | E109: 21669000 | F109: A사 | G109: 22647160 | H109: B사 | I109: 22291736 | J109: C사 | K109: 0 | M109: 0 | O109: =SMALL(E109:M109,COUNTIF(E109:M109,0)+1) -> 21669000 | P109: 0 | Q109: 0 | R109: 0 | S109: 0 | T109: 0 | U109: 0 | V109: 0 | W109: 자재 105
A110: 5754D163BA465C29A07EEE0A3AF13580A103D0 | B110: MCC-MP-32(조천) | C110: W600*H2350*D600(5) | D110: 식 | E110: 42113000 | F110: A사 | G110: 44890216 | H110: B사 | I110: 44358957 | J110: C사 | K110: 0 | M110: 0 | O110: =SMALL(E110:M110,COUNTIF(E110:M110,0)+1) -> 42113000 | P110: 0 | Q110: 0 | R110: 0 | S110: 0 | T110: 0 | U110: 0 | V110: 0 | W110: 자재 106
A111: 5754D163BA465C29A07EEE0A3AF13580A103D2 | B111: WHM(조천) | C111: W1200*H1900*D300 | D111: 면 | E111: 7132000 | F111: A사 | G111: 7323739 | H111: B사 | I111: 7463608 | J111: C사 | K111: 0 | M111: 0 | O111: =SMALL(E111:M111,COUNTIF(E111:M111,0)+1) -> 7132000 | P111: 0 | Q111: 0 | R111: 0 | S111: 0 | T111: 0 | U111: 0 | V111: 0 | W111: 자재 107
A112: 5754D163BA465C29A07EEE0A3AF13580A103DC | B112: 수배전반 설치비 | C112: 부가가치세 포함 | D112: 식 | E112: 0 | F112: A사 | G112: 3618484 | H112: B사 | I112: 3618484 | J112: C사 | K112: 0 | M112: 0 | O112: =SMALL(E112:M112,COUNTIF(E112:M112,0)+0) -> 0 | P112: 0 | Q112: 0 | R112: 0 | S112: 0 | T112: 0 | U112: 0 | V112: 0 | W112: 자재 108
A113: 5754D163BA465C29A07EEE0A3AF13580A103DD | B113: 전동기제어반 설치비 | C113: 부가가치세 포함 | D113: 식 | E113: 0 | F113: A사 | G113: 16681513 | H113: B사 | I113: 16681513 | J113: C사 | K113: 0 | M113: 0 | O113: =SMALL(E113:M113,COUNTIF(E113:M113,0)+0) -> 0 | P113: 0 | Q113: 0 | R113: 0 | S113: 0 | T113: 0 | U113: 0 | V113: 0 | W113: 자재 109
A114: 5754D163BA465C29A07EEE0A3AF13580A102CB | B114: 신촌 철거비 | C114: MCC-MP-31 | D114: 식 | E114: 368441 | F114: A사 | G114: 402044 | H114: B사 | I114: 417187 | J114: C사 | K114: 0 | M114: 0 | O114: =SMALL(E114:M114,COUNTIF(E114:M114,0)+1) -> 368441 | P114: 0 | Q114: 0 | R114: 0 | S114: 0 | T114: 0 | U114: 0 | V114: 0 | W114: 자재 110
A115: 5754D163BA465C29A07EEE0A3AF13580A102CA | B115: 조천 철거비 | C115: LP-M, MCC-MP-32, 전력량계함 | D115: 식 | E115: 2851707 | F115: A사 | G115: 3111783 | H115: B사 | I115: 3228986 | J115: C사 | K115: 0 | M115: 0 | O115: =SMALL(E115:M115,COUNTIF(E115:M115,0)+1) -> 2851707 | P115: 0 | Q115: 0 | R115: 0 | S115: 0 | T115: 0 | U115: 0 | V115: 0 | W115: 자재 111
...

Sheet  공사설정 
A1: 이 Sheet는 수정하지 마십시요
A2: 공사구분 | B2: D | C2: 타이틀 | D2: T
A3: 확정내역 | B3: 원내역
A4: 자재단가적용 | B4: 5
A5: 경비단가적용 | B5: 5
A6: 품목코드형식 | B6: XXXX-XXXX-XXXXXXXXX
A7: 내역금액소수점처리 | B7: C | C7: 1
A8: 일위대가내역소수점처리 | B8: C | C8: 2
A9: 단가명 | B9: 조달청가격 | C9: 거래가격 | D9: 유통물가 | E9: 물가자료 | F9: 물가정보 | G9: TTTTT
A10: 환율 | B10: 1289 | C10: 0 | D10: 0
A11: 시간당작업량 | B11: R | C11: 4
A12: 1회 사이클시간 | B12: R | C12: 4
A13: 시간당 작업사이클 | B13: R | C13: 3
A14: 일반변수 | B14: R | C14: 5
A15: 시간당 노임산출 계수 | B15: A | C15: 1/8*16/12*25/20 | D15: 1/8*16/12*25/20 | E15: 1/8*16/12*25/20 | F15: 1
A16: 재료비 할증 계수 | B16: 1.11 | C16: 1.12
A17: 노무비 할증 계수 | B17: 1 | C17: 1.5 | D17: 1.16 | E17: 1.6 | F17: 1.6 | G17: 1.6 | H17: 1.94 | I17: 1.94 | J17: 1.94 | K17: 1 | L17: 1 | M17: 1
A18: 경비 할증 계수 | B18: 1.25 | C18: 1.071
A19: 내역,일위대가 품명,규격,단위 따로적용
A20: 내역단가 소수점처리 | B20: C | C20: 1
A21: 코드 | B21: 공종구분명 | C21: 원가비목코드
A22: 1 | B22: 작 업 부 산 물 | C22: A3
A23: 2 | B23: 운 반 비 | C23: C1
A24: 3 | B24: 관 급 자 재 비 | C24: DJ
A25: 4 | B25: 사 급 자 재 비 | C25: D3
A26: 5 | B26: 외 자 재
A27: 6 | B27: 한 전 수 탁 비
A28: 7 | B28: 기 술 지 원 비
A29: 8 | B29: ...
A30: 9 | B30: ...
A43: 단가 순서 | B43: 4123
