Workbook

Sheet 표지 
A3: 통합대학 학생상담센터 환경개선 전기공사
A12: 2026
D20: 목 차
D25: 설계예산서
D27: 내역서
D29: 관급자재내역서
D31: 일위대가표
D33: 단가대비표
D35: 견적서
D37: 수 량 산 출 서
D39: 공량산출서

Sheet 예산서표지
A3: ='표지 '!A3:L3 -> 통합대학 학생상담센터 환경개선 전기공사
A6: 설 계 예 산 서
A12: ='표지 '!A12 -> 2026

Sheet 설계서용지 
C1: 설 계 서 용 지 ( 갑 지 )
A6: 과 장 | C6: 담 당 | F6: 검산자 | H6: 설계자 | J6: 2026 년 월 일 설계
B11: 2026 년
A15: ='표지 '!A3:L3 -> 통합대학 학생상담센터 환경개선 전기공사
B19: 공사 개요 : | C19: 1. | D19: 전력간선 설비 공사
C20: 2. | D20: 전등설비 공사
C21: 3. | D21: 전열설비 공사
C22: 4. | D22: 냉.난방설비 공사
C23: 5. | D23: 기타설비 공사
C25: 6. | D25: 철거 공사
C27: 총 공사비 : | D27: =" 일금"&NUMBERSTRING(I27,1)&"원" -> 일금영원 | I27: =F33 -> 0
A30: 내 역 | B30: 내 역 | C30: 도급예정액 | F30: ='원가계산 '!E29 -> 0
C31: 관급자재대 | F31: ='원가계산 '!E30 -> 0
C33: 계 | F33: =SUM(F30,F31,F32,K30,K31,K32) -> 0

Sheet 원가계산 
B1: 공 사 원 가 계 산 서
B2: 공사명 : | D2: ='설계서용지 '!A15 -> 통합대학 학생상담센터 환경개선 전기공사 | J2: 전체공사비 | K2: 금 액 | M2: =K8 -> 0 | N2: 간접노무비,기타경비 요율근거(직접비)
B3: 비 목 | E3: 금 액 | F3: 구 성 비 | H3: 비 고 | J3: 재 료 비 | K3: =E4 -> 0 | M3: =K3+K4+K6 -> 0 | N3: 안전관리비 요율근거금액(재(도관급포함)+직노)
B4: 순 공 사 원 가 | C4: 재료비 | D4: 직 접 재 료 비 | E4: =공종별집계표!F5 -> 0 | J4: 노 무 비 | K4: =E8 -> 0 | M4: =E7+E10+E22 -> 0 | N4: 일반관리비,이윤근거금액(추정가격)
D5: 간 접 재 료 비 | J5: 경비 | K5: =E11 -> 0 | M5: =M4+K6+E28 -> 0 | N5: 고용보험료,퇴직공제부금비 요율근거(추정금액)
D6: 작업실,부산물등(△) | J6: 도급자관급자재 | K6: =E30 -> 0 | M6: ▶추정가격 = 부가가치세와 관급재료(시가환산액) 제외
D7: 소 계 | E7: =TRUNC(E4+E6,0) -> 0 | J7: 관급자관급자재 | M7: ▶추정금액 = 추정가격+도급자관급(시가환산액)+부가세
C8: 노무비 | D8: 직 접 노 무 비 | E8: =공종별집계표!H5 -> 0 | J8: 직접비 총계 | K8: =K3+K4+K5 -> 0 | M8: ▶공사금액 = 도급금액+도급자관급금액
A9: 0.175 | D9: 간 접 노 무 비 | E9: =TRUNC(E8*($A$9),0) -> 0 | F9: 직접노무비의 | G9: =A9 -> 0.175 | J9: 관급비 총계
D10: 소 계 | E10: =TRUNC(E8+E9,0) -> 0 | J10: 합 계 | K10: =K8+K9 -> 0
C11: 경 비 | D11: 기 계 경 비 | E11: =공종별집계표!J5 -> 0 | J11: [산업안전보건관리비](관급자관급 금액은 산업안전관리비와는 해당사항이없음)
A12: 0.0356 | D12: 산 재 보 험 료 | E12: =TRUNC(E10*($A$12),0) -> 0 | F12: 노무비의 | G12: =A12 -> 0.0356 | J12: - 도급자관급자재가 없는 경우: (재료비+직접노무비)×적용율
A13: 0.0101 | D13: 고 용 보 험 료 | E13: =TRUNC(E10*($A$13),0) -> 0 | F13: 노무비의 | G13: =A13 -> 0.0101 | J13: - 도급자관급자재가 있는 경우: 아래“a”와“b”비교하여 적은 금액적용
A14: 0.03595 | D14: 건 강 보 험 료 | E14: =TRUNC(E8*($A$14),0) -> 0 | F14: 직접노무비의 | G14: =A14 -> 0.03595 | J14: a. (재료비+직접노무비)×적용율×1.2 | N14: =INT(((K3+K4)*A17))*1.2 -> 0
A15: 0.0475 | D15: 연 금 보 험 료 | E15: =TRUNC(E8*($A$15),0) -> 0 | F15: 직접노무비의 | G15: =A15 -> 0.0475 | J15: b. (재료비+직접노무비+도급자관급자재금액)×적용율 | N15: =INT(((K3+K4+K6/1.1)*A17)) -> 0
A16: 0.1314 | D16: 노인장기요양보험료 | E16: =TRUNC((E14)*($A$16),0) -> 0 | F16: (건강보험료)의 | G16: =A16 -> 0.1314
A17: 0.0311 | D17: 산업안전보건관리비 | E17: =TRUNC((($E$4+$E$8))*($A17))*1.2 -> 0 | F17: (직접재료비+직노)의 | G17: =A17 -> 0.0311 | H17: 관급미포 1.2배
D18: 퇴직공제부금비 | E18: =TRUNC((E8)*($A$18)) -> 0 | F18: (직노)의 | G18: =A18 -> 0
A19: 0.05 | D19: 기 타 경 비 | E19: =TRUNC((E7+E10)*($A$19),0) -> 0 | F19: (재료비+노무비)의 | G19: =A19 -> 0.05
A20: 6e-05 | D20: 석 면 분 담 금 | E20: =TRUNC(E10*($A$20),0) -> 0 | F20: 노무비의 | G20: =A20 -> 6e-05
A21: 0.0009 | D21: 임 금 채 권 부 담 금 | E21: =TRUNC(E10*($A$21),0) -> 0 | F21: 노무비의 | G21: =A21 -> 0.0009
D22: 소 계 | E22: =TRUNC(SUM(E11:E21),0) -> 0
B23: 합 계 | E23: =TRUNC(E7+E10+E22,0) -> 0
A24: 0.08 | B24: 일반관리비 | E24: =TRUNC((E23)*($A$24),0) -> 0 | F24: 합계의 | G24: =A24 -> 0.08
A25: 0.15 | B25: 이윤 | F25: (노무비+경비+일반관리비)의 | G25: =A25 -> 0.15
A26: 0.0026477 | B26: 전기공사손해배상공제 | F26: (합계+일반관리비+이윤)의 | G26: =A26 -> 0.0026477
B27: 총원가
A28: 0.1 | B28: 부가가치세 | F28: 총원가의 | G28: 0.1
B29: 도급예정액
B30: 도급자관급자재
B31: 총공사비 | I31: 240
E33: =I31/1.1 -> 218.18182
E34: 1

Sheet 내역표지
A3: ='표지 '!A3:L3 -> 통합대학 학생상담센터 환경개선 전기공사
A6: 내 역 서
A12: ='표지 '!A12 -> 2026

Sheet 공종별집계표
A1: 공 종 별 집 계 표
A2: [ 통합대학 학생상담센터 환경개선 전기공사 ]
A3: 품 명 | B3: 규 격 | C3: 단위 | D3: 수량 | E3: 재 료 비 | G3: 노 무 비 | I3: 경 비 | K3: 합 계 | M3: 비 고 | N3: 공종코드 | O3: 변수 | P3: 상위공종 | Q3: 공종구분 | R3: 공종레벨 | S3: 공종소계 | T3: 원가계산서 연결금액
E4: 단 가 | F4: 금 액 | G4: 단 가 | H4: 금 액 | I4: 단 가 | J4: 금 액 | K4: 단 가 | L4: 금 액
A5: 01 통합대학 학생상담센터 환경개선 전기공사 | D5: 1
A6: 0101 전력간선설비 공사 | D6: 1
A7: 0102 전등설비 공사 | D7: 1
A8: 0103 전열설비 공사 | D8: 1
A9: 0104 냉.난방설비 공사 | D9: 1
A10: 0105 기타설비 공사 | D10: 1
A11: 0106 철거 공사 | D11: 1
N13: 010701 | P13: 0107 | R13: 3
A27: [ 합 계 ] | F27: =F5 -> 0 | H27: =H5 -> 0 | J27: =J5 -> 0 | L27: =L5 -> 0

Sheet 공종별내역서
A1: 공 종 별 내 역 서
A2: [ 통합대학 학생상담센터 환경개선 전기공사 ]
A3: 품 명 | B3: 규 격 | C3: 단위 | D3: 수량 | E3: 재 료 비 | G3: 노 무 비 | I3: 경 비 | K3: 합 계 | M3: 비 고 | N3: 품목코드 | O3: 변수 | P3: 설정 | Q3: 공종코드 | R3: 일위 | S3: 단산 | T3: 자재 | U3: 손료적용 | V3: 손료저장 | W3: 적용율 | X3: JUK1 | Y3: JUK2 | Z3: JUK3 | AA3: JUK4 | AB3: JUK5 | AC3: JUK6 | AD3: JUK7 | AE3: JUK8 | AF3: JUK9 | AG3: JUK10 | AH3: JUK11 | AI3: JUK12 | AJ3: JUK13 | AK3: JUK14 | AL3: JUK15 | AM3: JUK16 | AN3: JUK17 | AO3: JUK18 | AP3: JUK19 | AQ3: JUK20 | AR3: 자재구분 | AS3: 공종구분 | AT3: 공종레벨 | AU3: 공종+자재 | AV3: 고유번호
E4: 단 가 | F4: 금 액 | G4: 단 가 | H4: 금 액 | I4: 단 가 | J4: 금 액 | K4: 단 가 | L4: 금 액
A5: 0101 전력간선설비 공사 | Q5: 0101
A6: 1종금속제가요전선관 | B6: 1종금속제가요전선관, 비닐피복, 36mm, 방수 | C6: M | D6: 23
A7: 전선관부속품비 | B7: 전선관의 15% | C7: 식 | D7: 1
A8: 1종금속제가요전선관 | B8: 1종금속제가요전선관, 박스커넥터-비닐, 36mm, 방수 | C8: 개 | D8: 2
A9: 600V폴리에틸렌케이블 | B9: 600V폴리에틸렌케이블, 0.6/1kv, F-CV, 4C*6㎟ | C9: M | D9: 26
A10: 접지용비닐절연전선 | B10: 접지용비닐절연전선, F-GV, 6㎟ | C10: M | D10: 28
A11: 잡재료비 | B11: 배관배선의 2% | C11: 식 | D11: 1
A12: 분전함(차단기함) | B12: 옥내노출 W300xH400xD150 | C12: 면 | D12: 1
A13: 분전함(L-2-B) | B13: 옥내매입 W600xH700xD150 | C13: 면 | D13: 1
A14: 배관용 구멍뚫기(코어드릴)-Con,c | B14: 두께 15cm 이하 ∮50mm, 벽 | C14: 개소 | D14: 1
A15: 내선전공 | B15: 일반공사 직종 | C15: 인 | D15: =공량산출근거서!K10 -> 0
A16: 저압케이블전공 | B16: 일반공사 직종 | C16: 인 | D16: =공량산출근거서!K11 -> 0
A17: 공구손료 | B17: 인력품의 3% | C17: 식 | D17: 1
A27: [ 합 계 ]
A28: 0102 전등설비 공사
A29: 1종금속제가요전선관 | B29: 1종금속제가요전선관, 비닐피복, 16mm, 방수 | C29: M | D29: 223
A30: 1종금속제가요전선관 | B30: 1종금속제가요전선관, 비닐피복, 22mm, 방수 | C30: M | D30: 11
A31: 전선관부속품비 | B31: 전선관의 15% | C31: 식 | D31: 1
A32: 1종금속제가요전선관 | B32: 1종금속제가요전선관, 박스커넥터-비닐, 16mm, 방수 | C32: 개 | D32: 116
A33: 1종금속제가요전선관 | B33: 1종금속제가요전선관, 박스커넥터-비닐, 22mm, 방수 | C33: 개 | D33: 6
A34: 600V폴리에틸렌케이블 | B34: 600V폴리에틸렌케이블, 0.6/1kv, F-CV, 3C*2.5㎟ | C34: M | D34: 144
A35: 저독성난연케이블 | B35: HFIX, 1.78㎜(2.5㎟) | C35: M | D35: 773
A36: 잡재료비 | B36: 배관배선의 2% | C36: 식 | D36: 1
A37: 아웃렛박스 | B37: 아웃렛박스, 중형4각, 54mm | C37: 개 | D37: 50
A38: 아웃렛박스 | B38: 아웃렛박스, 커버, 4각, 평 | C38: 개 | D38: 50
A39: 스위치박스 | B39: 스위치박스, 1개용, 54mm | C39: 개 | D39: 13
A40: 와이드스위치 | B40: 단로, 15A 250V, 1구 | C40: 개 | D40: 3
... A53: 배관용 구멍뚫기(코어드릴)-Con,c | B53: 두께 15cm 이하 ∮100mm, 벽 | C53: 개소 | D53: 1
A54: 내선전공 | B54: 일반공사 직종 | C54: 인 | D54: =공량산출근거서!K32 -> 0
A55: 저압케이블전공 | B55: 일반공사 직종 | C55: 인 | D55: =공량산출근거서!K33 -> 0
A56: 공구손료 | B56: 인력품의 3% | C56: 식 | D56: 1
A73: [ 합 계 ]
A74: 0103 전열설비 공사
A75: 1종금속제가요전선관 | B75: 1종금속제가요전선관, 비닐피복, 16mm, 방수 | C75: M | D75: 312
A76: 전선관부속품비 | B76: 전선관의 15% | C76: 식 | D76: 1
A77: 1종금속제가요전선관 | B77: 1종금속제가요전선관, 박스커넥터-비닐, 16mm, 방수 | C77: 개 | D77: 108
A78: 저독성난연케이블 | B78: HFIX, 2.25㎜(4㎟) | C78: M | D78: 937
A79: 잡재료비 | B79: 배관배선의 2% | C79: 식 | D79: 1
A80: 아웃렛박스 | B80: 아웃렛박스, 중형4각, 54mm | C80: 개 | D80: 25
A81: 아웃렛박스 | B81: 아웃렛박스, 커버, 4각, 평 | C81: 개 | D81: 25
A82: 스위치박스 | B82: 스위치박스, 1개용, 54mm | C82: 개 | D82: 29
A83: 콘센트 | B83: 콘센트, 2구, 15A, 250V, 매입형, 접지 | C83: 개 | D83: 35
A84: 시스템 박스 | B84: 전선관용(매입), 전열 2구 | C84: 개 | D84: 2
A85: 배관용홈파기 | B85: 바닥 22C | C85: M | D85: 6
A86: 내선전공 | B86: 일반공사 직종 | C86: 인 | D86: =공량산출근거서!K41 -> 0
A87: 공구손료 | B87: 인력품의 3% | C87: 식 | D87: 1
A96: [ 합 계 ]
A97: 0104 냉.난방설비 공사
A98: 1종금속제가요전선관 | B98: 1종금속제가요전선관, 비닐피복, 16mm, 방수 | C98: M | D98: 90
A99: 전선관부속품비 | B99: 전선관의 15% | C99: 식 | D99: 1
A100: 1종금속제가요전선관 | B100: 1종금속제가요전선관, 박스커넥터-비닐, 16mm, 방수 | C100: 개 | D100: 34
A101: 600V폴리에틸렌케이블 | B101: 600V폴리에틸렌케이블, 0.6/1kv, F-CV, 3C*2.5㎟ | C101: M | D101: 35
A102: 저독성난연케이블 | B102: HFIX, 1.78㎜(2.5㎟) | C102: M | D102: 205
A103: 잡재료비 | B103: 배관배선의 2% | C103: 식 | D103: 1
A104: 아웃렛박스 | B104: 아웃렛박스, 중형4각, 54mm | C104: 개 | D104: 12
A105: 아웃렛박스 | B105: 아웃렛박스, 커버, 4각, 평 | C105: 개 | D105: 12
A106: 스위치박스 | B106: 스위치박스, 1개용, 54mm | C106: 개 | D106: 12
A107: 내선전공 | B107: 일반공사 직종 | C107: 인 | D107: =공량산출근거서!K48 -> 0
A108: 저압케이블전공 | B108: 일반공사 직종 | C108: 인 | D108: =공량산출근거서!K49 -> 0
A109: 공구손료 | B109: 인력품의 3% | C109: 식 | D109: 1
A119: [ 합 계 ]
A120: 0105 기타설비 공사
A121: 1종금속제가요전선관 | B121: 1종금속제가요전선관, 비닐피복, 16mm, 방수 | C121: M | D121: 84
A122: 1종금속제가요전선관 | B122: 1종금속제가요전선관, 비닐피복, 28mm, 방수 | C122: M | D122: 34
A123: 전선관부속품비 | B123: 전선관의 15% | C123: 식 | D123: 1
A124: 1종금속제가요전선관 | B124: 1종금속제가요전선관, 박스커넥터-비닐, 16mm, 방수 | C124: 개 | D124: 24
A125: 1종금속제가요전선관 | B125: 1종금속제가요전선관, 박스커넥터-비닐, 28mm, 방수 | C125: 개 | D125: 4
A126: 내화전선 | B126: 내화전선, 0.6/1kv, F-FR-8, 4C*2.5㎟ | C126: M | D126: 35
A127: 저독성난연케이블 | B127: HFIX, 1.38㎜(1.5㎟) | C127: M | D127: 224
A128: 저독성난연케이블 | B128: HFIX, 1.78㎜(2.5㎟) | C128: M | D128: 83
A129: 잡재료비 | B129: 배관배선의 2% | C129: 식 | D129: 1
A130: 아웃렛박스 | B130: 아웃렛박스, 중형4각, 54mm | C130: 개 | D130: 8
A131: 아웃렛박스 | B131: 아웃렛박스, 커버, 4각, 평 | C131: 개 | D131: 14
A132: 풀박스 | B132: 풀박스, 100*100*100mm | C132: 개 | D132: 1
... A138: 화재경보장치 | B138: 수동발신기, 시각경보기, 15cd | C138: 개 | D138: 1
A139: 자동폐쇄장치 | C139: 개 | D139: 2
A140: 순위조절기 | C140: 개 | D140: 1
A141: 배관용 구멍뚫기(코어드릴)-Con,c | B141: 두께 15cm 이하 ∮50mm, 벽 | C141: 개소 | D141: 3
A142: 보통인부 | B142: 일반공사 직종 | C142: 인 | D142: =공량산출근거서!K66 -> 0
A143: 창호공 | B143: 일반공사 직종 | C143: 인 | D143: =공량산출근거서!K67 -> 0
A144: 내선전공 | B144: 일반공사 직종 | C144: 인 | D144: =공량산출근거서!K68 -> 0
A145: 저압케이블전공 | B145: 일반공사 직종 | C145: 인 | D145: =공량산출근거서!K69 -> 0
A146: 공구손료 | B146: 인력품의 3% | C146: 식 | D146: 1
A165: [ 합 계 ]
A166: 0106 철거 공사
A167: 비닐전열전선 (철거) | B167: HIV 2.5㎟ | C167: M | D167: 891.5
A168: F-CV 케이블 (철거) | B168: F-CV 3C 2.5㎟ | C168: M | D168: 79
A169: 등기구 (철거) | B169: LED 40W 매입등 | C169: SET | D169: 41
A170: 등기구 (철거) | B170: LED 10W 비상다운라이트 | C170: SET | D170: 8
A171: 1로스위치 (철거) | B171: 15A 250V 1,2,3,4구 | C171: 개 | D171: 5
A172: 1로+3로 스위치 (철거) | B172: 단로1구+삼로1구 | C172: 개 | D172: 2
A173: 접지콘센트 (철거) | B173: 15A 250V 2구 | C173: 개 | D173: 16
A174: 감지기 (철거) | B174: 차동식 | C174: 개 | D174: 10
A175: 감지기 (철거) | B175: 연기식 | C175: 개 | D175: 1
A176: 유도등 (철거) | C176: 개 | D176: 4
A177: 시각경보기 (철거) | C177: 개 | D177: 1
...

Sheet 관급표지
A3: ='표지 '!A3:L3 -> 통합대학 학생상담센터 환경개선 전기공사
A6: 관 급 자 재 내 역 서
A12: ='표지 '!A12 -> 2026

Sheet 관급집계
A1: 관 급 자 재 집 계 표
A2: [ 통합대학 학생상담센터 환경개선 전기공사 ]
A3: 품 명 | B3: 규 격 | C3: 단위 | D3: 수량 | E3: 재 료 비 | G3: 노 무 비 | I3: 경 비 | K3: 합 계 | M3: 비 고 | N3: 공종코드 | O3: 변수 | P3: 상위공종 | Q3: 공종구분 | R3: 공종레벨 | S3: 공종소계 | T3: 원가계산서 연결금액
E4: 단 가 | F4: 금 액 | G4: 단 가 | H4: 금 액 | I4: 단 가 | J4: 금 액 | K4: 단 가 | L4: 금 액
A5: 01 통합대학 학생상담센터 환경개선 전기공사 | D5: 1
A6: 0107 관급자재비 | D6: 1
A7: 010701 LED 조명기구 구매 | D7: 1
A27: [ 합 계 ] | F27: =F5 -> 0 | H27: =H5 -> 0 | J27: =J5 -> 0 | L27: =L5 -> 0

Sheet 관급내역
A1: 관 급 자 재 내 역 서
A2: [ 통합대학 학생상담센터 환경개선 전기공사 ]
A3: 품 명 | B3: 규 격 | C3: 단위 | D3: 수량 | E3: 재 료 비 | G3: 노 무 비 | I3: 경 비 | K3: 합 계 | M3: 비 고 | N3: 품목코드 | O3: 변수 | P3: 설정 | Q3: 공종코드 | R3: 일위 | S3: 단산 | T3: 자재 | U3: 손료적용 | V3: 손료저장 | W3: 적용율 | X3: JUK1 | Y3: JUK2 | Z3: JUK3 | AA3: JUK4 | AB3: JUK5 | AC3: JUK6 | AD3: JUK7 | AE3: JUK8 | AF3: JUK9 | AG3: JUK10 | AH3: JUK11 | AI3: JUK12 | AJ3: JUK13 | AK3: JUK14 | AL3: JUK15 | AM3: JUK16 | AN3: JUK17 | AO3: JUK18 | AP3: JUK19 | AQ3: JUK20 | AR3: 자재구분 | AS3: 공종구분 | AT3: 공종레벨 | AU3: 공종+자재 | AV3: 고유번호
E4: 단 가 | F4: 금 액 | G4: 단 가 | H4: 금 액 | I4: 단 가 | J4: 금 액 | K4: 단 가 | L4: 금 액
A5: 010701 LED 조명기구 구매 | B5: 관급자재비 | Q5: 010701
A6: 등기구 "A" TYPE | B6: LED 40W 매입등 300*1200 M바 | C6: SET | D6: 22
A7: 등기구 "B" TYPE | B7: LED 10W 다운라이트 | C7: SET | D7: 17
A8: 등기구 "C" TYPE | B8: LED 30W 다운라이트 | C8: SET | D8: 28
Q13: 010701
Q14: 010701
Q15: 010701
Q16: 010701
Q17: 010701
Q18: 010701
Q19: 010701
Q20: 010701
Q21: 010701
Q22: 010701
Q23: 010701
Q24: 010701
... Q26: 010701
A27: [ 합 계 ] | F27: =SUMIF(Q6:Q26,"010701",F6:F26) -> 0 | H27: =SUMIF(Q6:Q26,"010701",H6:H26) -> 0 | J27: =SUMIF(Q6:Q26,"010701",J6:J26) -> 0 | L27: =SUMIF(Q6:Q26,"010701",L6:L26) -> 0 | N27: TOTAL

Sheet 일위표지
A3: ='표지 '!A3:L3 -> 통합대학 학생상담센터 환경개선 전기공사
A6: 일 위 대 가 표
A12: ='표지 '!A12 -> 2026

Sheet 일위대가목록
B1: 일 위 대 가 목 록
B2: [ 통합대학 학생상담센터 환경개선 전기공사 ]
A3: 코 드 | B3: 품 명 | C3: 규 격 | D3: 단위 | E3: 재 료 비 | F3: 노 무 비 | G3: 경 비 | H3: 합 계 | I3: 번 호 | J3: 비 고 | K3: 노임계수 | L3: 할증 | M3: 품셈개요 | N3: 장비일위
A4: 5E4E3577D8434B45045FCDC77D8C95630A13E76C | B4: 코아드릴 | C4: 15.24cm | D4: HR
A5: 595D957CB04FA6487952C8D7153B2A | B5: 모르타르 배합(배합품 포함) | C5: 배합용적비 1:3, 시멘트, 모래 별도 | D5: M3
A6: 595D957CB04FB04FE353CCF7C1AAAA | B6: 모르타르 바름 | C6: 3.6m 이하, 1회(T=24mm 이하 기준) | D6: M2
A7: 595D957CB04FB04D365A8EE7B192E3 | B7: 모르타르 바름 | C7: 내벽, 9mm(초벌), 3.6m 이하 | D7: M2
A8: 59146586FD4765437B5BB0375BB4DC | B8: 배관용홈파기 | C8: 바닥 22C | D8: M
A9: 59146586FD4765414E54487780FEAE | B9: 배관용 구멍뚫기(코어드릴)-Con,c | C9: 두께 15cm 이하 ∮50mm, 벽 | D9: 개소
A10: 59146586FD4765414E54487780F806 | B10: 배관용 구멍뚫기(코어드릴)-Con,c | C10: 두께 15cm 이하 ∮100mm, 벽 | D10: 개소

Sheet 일위대가
A1: 일 위 대 가
A2: [ 통합대학 학생상담센터 환경개선 전기공사 ]
A3: 품 명 | B3: 규 격 | C3: 단위 | D3: 수량 | E3: 재 료 비 | G3: 노 무 비 | I3: 경 비 | K3: 합 계 | M3: 비 고 | N3: 일위대가 | O3: 품목코드 | P3: 일위 | Q3: 단산 | R3: 자재 | S3: 손료적용 | T3: 손료저장 | U3: 적용율 | V3: JUK1 | W3: JUK2 | X3: JUK3 | Y3: JUK4 | Z3: JUK5 | AA3: JUK6 | AB3: JUK7 | AC3: JUK8 | AD3: JUK9 | AE3: JUK10 | AF3: JUK11 | AG3: JUK12 | AH3: JUK13 | AI3: JUK14 | AJ3: JUK15 | AK3: JUK16 | AL3: JUK17 | AM3: JUK18 | AN3: JUK19 | AO3: JUK20 | AP3: 할증적용 | AQ3: 할증저장 | AR3: 할증율 | AS3: HAL1 | AT3: HAL2 | AU3: HAL3 | AV3: 자재구분 | AW3: 일위대가+자재 | AX3: 장비일위 | AY3: 설정 | AZ3: 할증체크
E4: 단 가 | F4: 금 액 | G4: 단 가 | H4: 금 액 | I4: 단 가 | J4: 금 액 | K4: 단 가 | L4: 금 액
A5: 코아드릴 15.24cm HR 공통 8-3(5901) ( 호표 1 ) | N5: 5E4E3577D8434B45045FCDC77D8C95630A13E76C
A6: 코어드릴 | B6: 15.24cm | C6: 대 | D6: 0.5268
A7: [ 합 계 ]
A9: 모르타르 배합(배합품 포함) 배합용적비 1:3, 시멘트, 모래 별도 M3 건축 9-1-1 ( 호표 2 )
A10: 시멘트 | B10: 시멘트(별도) | C10: kg | D10: 510
A11: 모래 | B11: (별도) | C11: M3 | D11: 1.1
A12: 보통인부 | B12: 일반공사 직종 | C12: 인 | D12: 0.66
A13: [ 합 계 ]
A15: 모르타르 바름 3.6m 이하, 1회(T=24mm 이하 기준) M2 건축 9-1-2 ( 호표 3 )
A16: 미장공 | B16: 일반공사 직종 | C16: 인 | D16: 0.05
A17: 보통인부 | B17: 일반공사 직종 | C17: 인 | D17: 0.025
A18: 공구손료 | B18: 인력품의 2% | C18: 식 | D18: 1
A19: [ 합 계 ]
A21: 모르타르 바름 내벽, 9mm(초벌), 3.6m 이하 M2 건축 9-1-2 ( 호표 4 )
A22: 모르타르 배합(배합품 포함) | B22: 배합용적비 1:3, 시멘트, 모래 별도 | C22: M3 | D22: 0.009
A23: 모르타르 바름 | B23: 3.6m 이하, 1회(T=24mm 이하 기준) | C23: M2 | D23: 1
A24: [ 합 계 ]
A26: 배관용홈파기 바닥 22C M 전기 5-29 ( 호표 5 )
A27: 모르타르 바름 | B27: 내벽, 9mm(초벌), 3.6m 이하 | C27: M2 | D27: 0.05
A28: 보통인부 | B28: 일반공사 직종 | C28: 인 | D28: 0.08
A29: 공구손료 | B29: 인력품의 3% | C29: 식 | D29: 1
A30: [ 합 계 ]
A32: 배관용 구멍뚫기(코어드릴)-Con,c 두께 15cm 이하 ∮50mm, 벽 개소 전기 5-29-2.나 ( 호표 6 )
A33: 코아드릴 | B33: 15.24cm | C33: HR | D33: 0.55
A34: 착암공 | B34: 일반공사 직종 | C34: 인 | D34: 0.152
A35: 보통인부 | B35: 일반공사 직종 | C35: 인 | D35: 0.152
A36: 공구손료 | B36: 인력품의 3% | C36: 식 | D36: 1
A37: [ 합 계 ]
A39: 배관용 구멍뚫기(코어드릴)-Con,c 두께 15cm 이하 ∮100mm, 벽 개소 전기 5-29-2.나 ( 호표 7 )
A40: 코아드릴 | B40: 15.24cm | C40: HR | D40: 0.93
A41: 착암공 | B41: 일반공사 직종 | C41: 인 | D41: 0.211
A42: 보통인부 | B42: 일반공사 직종 | C42: 인 | D42: 0.211
A43: 공구손료 | B43: 인력품의 3% | C43: 식 | D43: 1
A44: [ 합 계 ]

Sheet 단가표지
A3: ='표지 '!A3:L3 -> 통합대학 학생상담센터 환경개선 전기공사
A6: 단 가 대 비 표
A12: ='표지 '!A12 -> 2026

Sheet 단가대비표
A1: 단 가 대 비 표
A2: [ 통합대학 학생상담센터 환경개선 전기공사 ]
A3: 코 드 | B3: 품 명 | C3: 규격 | D3: 단위 | E3: 재 료 비 | P3: 노 무 비 | Q3: 경 비 | W3: 번 호 | X3: 비 고 | Y3: 품목구분 | Z3: 노임구분 | AA3: 소수점처리 | AB3: 자재구분
E4: 조달청가격 | F4: PAGE | G4: 물가자료 | H4: PAGE | I4: 물가정보 | J4: PAGE | K4: 조사가격1 | L4: PAGE | M4: 조사가격2 | N4: PAGE | O4: 적용단가 | Q4: 조달청가격 | R4: 물가자료 | S4: 물가정보 | T4: 조사가격1 | U4: 조사가격2 | V4: 적용단가
A5: 5E4E3577D8434B45045FCDC77D8C95630A13E7 | B5: 코어드릴 | C5: 15.24cm | D5: 대 | Q5: 0 | R5: 0 | S5: 0 | T5: 0 | U5: 896 | V5: =SMALL(Q5:U5,COUNTIF(Q5:U5,0)+1) -> 896 | W5: 자재 1 | X5: 천원
A6: 5E58B5897844444AAB5071D72720F1C7502021 | B6: 모래 | C6: (별도) | D6: M3 | Q6: 0 | R6: 0 | S6: 0 | T6: 0 | U6: 0 | V6: 0 | W6: 자재 2 | X6: 별도
A7: 5E69757AD54EA9416452E537E75D13F92E481A | B7: 비닐전열전선 (철거) | C7: HIV 2.5㎟ | D7: M | Q7: 0 | R7: 0 | S7: 0 | T7: 0 | U7: 0 | V7: 0 | W7: 자재 3
A8: 5E69757AD54EA9416452E51739249461B28791 | B8: 접지용비닐절연전선 | C8: 접지용비닐절연전선, F-GV, 6㎟ | D8: M | Q8: 0 | R8: 0 | S8: 0 | T8: 0 | U8: 0 | V8: 0 | W8: 자재 4
A9: 5E69757AD54EA9420E5601179E33D07B636D76 | B9: F-CV 케이블 (철거) | C9: F-CV 3C 2.5㎟ | D9: M | Q9: 0 | R9: 0 | S9: 0 | T9: 0 | U9: 0 | V9: 0 | W9: 자재 5
A10: 5E69757AD54EA9420E5601374CA999BEB4DC7B | B10: 600V폴리에틸렌케이블 | C10: 600V폴리에틸렌케이블, 0.6/1kv, F-CV, 3C*2.5㎟ | D10: M | Q10: 0 | R10: 0 | S10: 0 | T10: 0 | U10: 0 | V10: 0 | W10: 자재 6
A11: 5E69757AD54EA9420E5601374CA999BEB4DA48 | B11: 600V폴리에틸렌케이블 | C11: 600V폴리에틸렌케이블, 0.6/1kv, F-CV, 4C*6㎟ | D11: M | Q11: 0 | R11: 0 | S11: 0 | T11: 0 | U11: 0 | V11: 0 | W11: 자재 7
A12: 5E69757AD54EA9420E5601374E5C88F4A598A5 | B12: 저독성난연케이블 | C12: HFIX, 1.38㎜(1.5㎟) | D12: M | Q12: 0 | R12: 0 | S12: 0 | T12: 0 | U12: 0 | V12: 0 | W12: 자재 8
A13: 5E69757AD54EA9420E5601374E5C88F4A598A4 | B13: 저독성난연케이블 | C13: HFIX, 1.78㎜(2.5㎟) | D13: M | Q13: 0 | R13: 0 | S13: 0 | T13: 0 | U13: 0 | V13: 0 | W13: 자재 9
A14: 5E69757AD54EA9420E5601374E5C88F4A598AB | B14: 저독성난연케이블 | C14: HFIX, 2.25㎜(4㎟) | D14: M | Q14: 0 | R14: 0 | S14: 0 | T14: 0 | U14: 0 | V14: 0 | W14: 자재 10
A15: 5E69757AD54EA942085C028770367B6B27956C | B15: 내화전선 | C15: 내화전선, 0.6/1kv, F-FR-8, 4C*2.5㎟ | D15: M | Q15: 0 | R15: 0 | S15: 0 | T15: 0 | U15: 0 | V15: 0 | W15: 자재 11
A16: 5E7B75D46B4CFF4230587B8706785D820A9BBA | B16: 시멘트 | C16: 시멘트(별도) | D16: kg | Q16: 0 | R16: 0 | S16: 0 | T16: 0 | U16: 0 | V16: 0 | W16: 자재 12 | X16: 별도
A17: 5E7BE504014B96438850A677B5AAA21013049F | B17: 등기구 "A" TYPE | C17: LED 40W 매입등 300*1200 M바 | D17: SET | Q17: 0 | R17: 0 | S17: 0 | T17: 0 | U17: 0 | V17: 0 | W17: 자재 13 | X17: 24790063 | AB17: 2
A18: 5E7BE504014B96438850A677B5AAA210130494 | B18: 등기구 "B" TYPE | C18: LED 10W 다운라이트 | D18: SET | Q18: 0 | R18: 0 | S18: 0 | T18: 0 | U18: 0 | V18: 0 | W18: 자재 14 | X18: 25904928 | AB18: 2
A19: 5E7BE504014B96438850A677B5AAA2101303F5 | B19: 등기구 "C" TYPE | C19: LED 30W 다운라이트 | D19: SET | Q19: 0 | R19: 0 | S19: 0 | T19: 0 | U19: 0 | V19: 0 | W19: 자재 15 | X19: 25904933 | AB19: 2
A20: 5E7BE504014B96438850A677B5AAA2101303FE | B20: 등기구 "1" TYPE | C20: LED 40W 라인등 | D20: SET | Q20: 0 | R20: 0 | S20: 0 | T20: 0 | U20: 0 | V20: 0 | W20: 자재 16
A21: 5E7BE504014B96438850A677B5AAA2101302EC | B21: 등기구 "2" TYPE | C21: LED 12W T5 | D21: SET | Q21: 0 | R21: 0 | S21: 0 | T21: 0 | U21: 0 | V21: 0 | W21: 자재 17
A22: 5E7BE504014B96438850A677B5AAA2101302E7 | B22: 등기구 "3" TYPE | C22: LED 20W T5 | D22: SET | Q22: 0 | R22: 0 | S22: 0 | T22: 0 | U22: 0 | V22: 0 | W22: 자재 18
A23: 5E7BE504014B96438850A677B5AAA2101301CB | B23: 등기구 "4" TYPE | C23: LED 50W 플랙시블튜브,5M,SMPS 포함 | D23: SET | Q23: 0 | R23: 0 | S23: 0 | T23: 0 | U23: 0 | V23: 0 | W23: 자재 19
A24: 5E7BE504014B96438850A677B5AAA2101301C0 | B24: 비상조명등 | C24: LED 6W, 60분 | D24: SET | Q24: 0 | R24: 0 | S24: 0 | T24: 0 | U24: 0 | V24: 0 | W24: 자재 20
A25: 5E7BE504014B96438850A677B5AAA217475833 | B25: 등기구 (철거) | C25: LED 40W 매입등 | D25: SET | Q25: 0 | R25: 0 | S25: 0 | T25: 0 | U25: 0 | V25: 0 | W25: 자재 21
A26: 5E7BE504014B96438850A677B5AAA217475836 | B26: 등기구 (철거) | C26: LED 10W 비상다운라이트 | D26: SET | Q26: 0 | R26: 0 | S26: 0 | T26: 0 | U26: 0 | V26: 0 | W26: 자재 22
A27: 5E7BE504014B9641C05083F7670253274DD152 | B27: 유도등 | C27: 유도등, 소형(단면), 60분용, 피난구유도등, 고휘도, LED | D27: 개 | Q27: 0 | R27: 0 | S27: 0 | T27: 0 | U27: 0 | V27: 0 | W27: 자재 23
A28: 5E7BE504014B9641C05083F7670253274DD27D | B28: 유도등 | C28: 유도등, 거실통로유도등, 고휘도, LED, 천장양면 | D28: 개 | Q28: 0 | R28: 0 | S28: 0 | T28: 0 | U28: 0 | V28: 0 | W28: 자재 24
A29: 5E7BE504014B9641C05083F7670253274DD278 | B29: 유도등 | C29: 유도등, 대형(단면), 60분용, 피난구유도등, 고휘도, LED | D29: 개 | Q29: 0 | R29: 0 | S29: 0 | T29: 0 | U29: 0 | V29: 0 | W29: 자재 25
A30: 5E7BE5040245E2400A537D8783DCFA256F8CC0 | B30: 풀박스 | C30: 풀박스, 100*100*100mm | D30: 개 | Q30: 0 | R30: 0 | S30: 0 | T30: 0 | U30: 0 | V30: 0 | W30: 자재 26
A31: 5E7BE5040245E2400A537DA7B1D776A6594C3D | B31: 분전함(차단기함) | C31: 옥내노출 W300xH400xD150 | D31: 면 | Q31: 0 | R31: 0 | S31: 0 | T31: 0 | U31: 0 | V31: 0 | W31: 자재 27
... A55: 5E00E571A046A144AF5D2797E109D54C4132D0 | B55: 감지기 (철거) | C55: 연기식 | D55: 개 | Q55: 0 | R55: 0 | S55: 0 | T55: 0 | U55: 0 | V55: 0 | W55: 자재 51
A56: 5E00E571A046A144AF5D2797E109D54C4132DD | B56: 유도등 (철거) | D56: 개 | Q56: 0 | R56: 0 | S56: 0 | T56: 0 | U56: 0 | V56: 0 | W56: 자재 52
A57: 5E00E571A046A144AF5D2797E109D54C4133FF | B57: 시각경보기 (철거) | D57: 개 | Q57: 0 | R57: 0 | S57: 0 | T57: 0 | U57: 0 | V57: 0 | W57: 자재 53
A58: 5E00E571A046A144AF5D27B7AF9C2343FA3E7E | B58: 차동식감지기 | C58: 열감지기, 차동식스포트형 | D58: 개 | Q58: 0 | R58: 0 | S58: 0 | T58: 0 | U58: 0 | V58: 0 | W58: 자재 54
A59: 5E00E571A046A144AF5D27B7AF9C2343FA3D56 | B59: 연기감지기 | C59: 연기감지기, 광전식 2종-비축적 | D59: 개 | Q59: 0 | R59: 0 | S59: 0 | T59: 0 | U59: 0 | V59: 0 | W59: 자재 55
A60: 5E00E571A046A144AF5D6D679EB9D2456364C9 | B60: 화재경보장치 | C60: 수동발신기, 시각경보기, 15cd | D60: 개 | Q60: 0 | R60: 0 | S60: 0 | T60: 0 | U60: 0 | V60: 0 | W60: 자재 56
A61: 5E2355D9314B324C6C56E40753120A6F0925FB | B61: 자동폐쇄장치 | D61: 개 | Q61: 0 | R61: 0 | S61: 0 | T61: 0 | U61: 0 | V61: 0 | W61: 자재 57
A62: 5E2355D9314B324C6C56E40753120A6F0924EB | B62: 순위조절기 | D62: 개 | Q62: 0 | R62: 0 | S62: 0 | T62: 0 | U62: 0 | V62: 0 | W62: 자재 58
A63: 598635199A42794534559DA778F43333758E81 | B63: 보통인부 | C63: 일반공사 직종 | D63: 인 | Q63: 0 | R63: 0 | S63: 0 | T63: 0 | U63: 0 | V63: 0 | W63: 노임 1 | Y63: B
A64: 598635199A42794534559DA778F43333758FAC | B64: 착암공 | C64: 일반공사 직종 | D64: 인 | Q64: 0 | R64: 0 | S64: 0 | T64: 0 | U64: 0 | V64: 0 | W64: 노임 2 | Y64: B
A65: 598635199A42794534559DA778F43333758CD1 | B65: 창호공 | C65: 일반공사 직종 | D65: 인 | Q65: 0 | R65: 0 | S65: 0 | T65: 0 | U65: 0 | V65: 0 | W65: 노임 3 | Y65: B
A66: 598635199A42794534559DA778F43333758CD2 | B66: 미장공 | C66: 일반공사 직종 | D66: 인 | Q66: 0 | R66: 0 | S66: 0 | T66: 0 | U66: 0 | V66: 0 | W66: 노임 4 | Y66: B
A67: 598635199A42794534559DA778F43333758904 | B67: 내선전공 | C67: 일반공사 직종 | D67: 인 | Q67: 0 | R67: 0 | S67: 0 | T67: 0 | U67: 0 | V67: 0 | W67: 노임 5 | Y67: B
A68: 598635199A42794534559DA778F43333758909 | B68: 저압케이블전공 | C68: 일반공사 직종 | D68: 인 | Q68: 0 | R68: 0 | S68: 0 | T68: 0 | U68: 0 | V68: 0 | W68: 노임 6 | Y68: B

Sheet 견적서표지(별도첨부) 
A3: ='표지 '!A3:L3 -> 통합대학 학생상담센터 환경개선 전기공사
A6: 견 적 서
A12: ='표지 '!A12 -> 2026

Sheet 수량표지(별도첨부)
A3: ='표지 '!A3:L3 -> 통합대학 학생상담센터 환경개선 전기공사
A6: 수 량 산 출 서
A12: ='표지 '!A12 -> 2026

Sheet 공량표지
A3: ='표지 '!A3:L3 -> 통합대학 학생상담센터 환경개선 전기공사
A6: 공 량 산 출 서
A12: ='표지 '!A12 -> 2026

Sheet 공량산출근거서
A1: 공 량 산 출 근 거 서
A2: [ 통합대학 학생상담센터 환경개선 전기공사 ]
A3: 코 드 | B3: 품 명 | C3: 규 격 | D3: 단위 | E3: 품 셈 목 록 | F3: 수 량 | G3: 할증 | H3: 노임할증-1 | I3: 노임할증-2 | J3: 노임할증-3 | K3: 내역수량 | L3: 직 종 명 | M3: 공 량 | N3: 계 | O3: 번 호 | P3: 비 고 | T3: 공종+자재 | V3: 내선전공 | W3: 저압케이블전공 | X3: 보통인부 | Y3: 창호공
B4: 01 전력간선설비 공사
A5: 5E7BE50403467C45FE50C2774A507137080282 | B5: 1종금속제가요전선관 | C5: 1종금속제가요전선관, 비닐피복, 36mm, 방수 | D5: M | E5: 전기 5-1.11 | F5: 21 | Q5: 0101 | R5: 598635199A42794534559DA778F43333758904 | S5: 0.06264 | T5: 01015E7BE50403467C45FE50C2774A507137080282 | V5: =N5 -> 0
A6: 5E69757AD54EA9420E5601374CA999BEB4DA48 | B6: 600V폴리에틸렌케이블 | C6: 600V폴리에틸렌케이블, 0.6/1kv, F-CV, 4C*6㎟ | D6: M | E6: 전기 5-13 | F6: 25 | Q6: 0101 | R6: 598635199A42794534559DA778F43333758909 | S6: 0.0272 | T6: 01015E69757AD54EA9420E5601374CA999BEB4DA48 | W6: =N6 -> 0
A7: 5E69757AD54EA9416452E51739249461B28791 | B7: 접지용비닐절연전선 | C7: 접지용비닐절연전선, F-GV, 6㎟ | D7: M | E7: 전기 3-38.11 | F7: 25 | Q7: 0101 | R7: 598635199A42794534559DA778F43333758904 | S7: 0.0072 | T7: 01015E69757AD54EA9416452E51739249461B28791 | V7: =N7 -> 0
A8: 5E7BE5040245E2400A537DA7B1D776A6594C3D | B8: 분전함(차단기함) | C8: 옥내노출 W300xH400xD150 | D8: 면 | E8: 전기 5-4 | F8: 1 | Q8: 0101 | R8: 598635199A42794534559DA778F43333758904 | S8: 0.528 | T8: 01015E7BE5040245E2400A537DA7B1D776A6594C3D | V8: =N8 -> 0
A9: 5E7BE5040245E2400A537DA7B1D776A6594C3F | B9: 분전함(L-2-B) | C9: 옥내매입 W600xH700xD150 | D9: 면 | E9: 전기 5-4 | F9: 1 | Q9: 0101 | R9: 598635199A42794534559DA778F43333758904 | S9: 0.76 | T9: 01015E7BE5040245E2400A537DA7B1D776A6594C3F | V9: =N9 -> 0
A10: 598635199A42794534559DA778F43333758904 | B10: 내선전공 | C10: 일반공사 직종 | D10: 인 | F10: =SUM(V5:V9) -> 0 | Q10: 0101 | T10: 0101598635199A42794534559DA778F43333758904
A11: 598635199A42794534559DA778F43333758909 | B11: 저압케이블전공 | C11: 일반공사 직종 | D11: 인 | F11: =SUM(W5:W9) -> 0 | Q11: 0101 | T11: 0101598635199A42794534559DA778F43333758909
B12: 02 전등설비 공사
A13: 5E7BE50403467C45FE50C2774A507137080285 | B13: 1종금속제가요전선관 | C13: 1종금속제가요전선관, 비닐피복, 16mm, 방수 | D13: M | E13: 전기 5-1. | F13: 203 | Q13: 0102 | R13: 598635199A42794534559DA778F43333758904 | S13: 0.03168 | T13: 01025E7BE50403467C45FE50C2774A507137080285 | V13: =N13 -> 0
A14: 5E7BE50403467C45FE50C2774A507137080284 | B14: 1종금속제가요전선관 | C14: 1종금속제가요전선관, 비닐피복, 22mm, 방수 | D14: M | E14: 전기 5-1.11 | F14: 10 | Q14: 0102 | R14: 598635199A42794534559DA778F43333758904 | S14: 0.04248 | T14: 01025E7BE50403467C45FE50C2774A507137080284 | V14: =N14 -> 0
A15: 5E69757AD54EA9420E5601374CA999BEB4DC7B | B15: 600V폴리에틸렌케이블 | C15: 600V폴리에틸렌케이블, 0.6/1kv, F-CV, 3C*2.5㎟ | D15: M | E15: 전기 5-13 | F15: 137 | Q15: 0102 | R15: 598635199A42794534559DA778F43333758909 | S15: 0.0152 | T15: 01025E69757AD54EA9420E5601374CA999BEB4DC7B | W15: =N15 -> 0
A16: 5E69757AD54EA9420E5601374E5C88F4A598A4 | B16: 저독성난연케이블 | C16: HFIX, 1.78㎜(2.5㎟) | D16: M | E16: 전기 5-10 | F16: 703 | Q16: 0102 | R16: 598635199A42794534559DA778F43333758904 | S16: 0.008 | T16: 01025E69757AD54EA9420E5601374E5C88F4A598A4 | V16: =N16 -> 0
A17: 5E7BE5040245E2400A53C5B7E4463DA505003F | B17: 아웃렛박스 | C17: 아웃렛박스, 중형4각, 54mm | D17: 개 | E17: 전기 5-3.6 | F17: 50 | Q17: 0102 | R17: 598635199A42794534559DA778F43333758904 | S17: 0.0864 | T17: 01025E7BE5040245E2400A53C5B7E4463DA505003F | V17: =N17 -> 0
A18: 5E7BE5040245E2400A5325678949E404703C67 | B18: 스위치박스 | C18: 스위치박스, 1개용, 54mm | D18: 개 | E18: 전기 5-3.6 | F18: 13 | Q18: 0102 | R18: 598635199A42794534559DA778F43333758904 | S18: 0.144 | T18: 01025E7BE5040245E2400A5325678949E404703C67 | V18: =N18 -> 0
A19: 5E7BE50402456E44E85D14E7F791250CDBD443 | B19: 와이드스위치 | C19: 단로, 15A 250V, 1구 | D19: 개 | E19: 전기 5-23-2 | F19: 3 | Q19: 0102 | R19: 598635199A42794534559DA778F43333758904 | S19: 0.068 | T19: 01025E7BE50402456E44E85D14E7F791250CDBD443 | V19: =N19 -> 0
A20: 5E7BE50402456E44E85D14E7F791250CDBD44C | B20: 와이드스위치 | C20: 단로, 15A 250V, 2구 | D20: 개 | E20: 전기 5-23-2 | F20: 2 | Q20: 0102 | R20: 598635199A42794534559DA778F43333758904 | S20: 0.068 | T20: 01025E7BE50402456E44E85D14E7F791250CDBD44C | V20: =N20 -> 0
A21: 5E7BE50402456E44E85D14E7F791250CDBD44D | B21: 와이드스위치 | C21: 단로, 15A 250V, 3구 | D21: 개 | E21: 전기 5-23-2 | F21: 7 | Q21: 0102 | R21: 598635199A42794534559DA778F43333758904 | S21: 0.068 | T21: 01025E7BE50402456E44E85D14E7F791250CDBD44D | V21: =N21 -> 0
A22: 5E7BE50402456E44E85D14E7F681D3D46F032D | B22: 와이드스위치 | C22: 단로, 15A 250V, 4구 | D22: 개 | E22: 전기 5-23-2 | F22: 1 | Q22: 0102 | R22: 598635199A42794534559DA778F43333758904 | S22: 0.068 | T22: 01025E7BE50402456E44E85D14E7F681D3D46F032D | V22: =N22 -> 0
A23: 5E7BE50402456E44E85D14E7F681D3D46F0320 | B23: 와이드스위치 | C23: 단로1구 + 삼로1구, 15A 250V | D23: 개 | E23: 전기 5-23-2 | F23: 2 | Q23: 0102 | R23: 598635199A42794534559DA778F43333758904 | S23: 0.068 | T23: 01025E7BE50402456E44E85D14E7F681D3D46F0320 | V23: =N23 -> 0
A24: 5E7BE504014B96438850A677B5AAA21013049F | B24: 등기구 "A" TYPE | C24: LED 40W 매입등 300*1200 M바 | D24: SET | E24: 전기 5-25-3.8 | F24: 22 | Q24: 0102 | R24: 598635199A42794534559DA778F43333758904 | S24: 0.18936 | T24: 01025E7BE504014B96438850A677B5AAA21013049F | V24: =N24 -> 0
A25: 5E7BE504014B96438850A677B5AAA210130494 | B25: 등기구 "B" TYPE | C25: LED 10W 다운라이트 | D25: SET | E25: 전기 5-25-3.8 | F25: 17 | Q25: 0102 | R25: 598635199A42794534559DA778F43333758904 | S25: 0.1116 | T25: 01025E7BE504014B96438850A677B5AAA210130494 | V25: =N25 -> 0
A26: 5E7BE504014B96438850A677B5AAA2101303F5 | B26: 등기구 "C" TYPE | C26: LED 30W 다운라이트 | D26: SET | E26: 전기 5-25-3.8 | F26: 28 | Q26: 0102 | R26: 598635199A42794534559DA778F43333758904 | S26: 0.14976 | T26: 01025E7BE504014B96438850A677B5AAA2101303F5 | V26: =N26 -> 0
A27: 5E7BE504014B96438850A677B5AAA2101303FE | B27: 등기구 "1" TYPE | C27: LED 40W 라인등 | D27: SET | E27: 전기 5-26-5 | F27: 14 | Q27: 0102 | R27: 598635199A42794534559DA778F43333758904 | S27: 0.0456 | T27: 01025E7BE504014B96438850A677B5AAA2101303FE | V27: =N27 -> 0
... A31: 5E7BE504014B96438850A677B5AAA2101301C0 | B31: 비상조명등 | C31: LED 6W, 60분 | D31: SET | E31: 전기 10-3-4 | F31: 4 | Q31: 0102 | R31: 598635199A42794534559DA778F43333758904 | S31: 0.088 | T31: 01025E7BE504014B96438850A677B5AAA2101301C0 | V31: =N31 -> 0
A32: 598635199A42794534559DA778F43333758904 | B32: 내선전공 | C32: 일반공사 직종 | D32: 인 | F32: =SUM(V13:V31) -> 0 | Q32: 0102 | T32: 0102598635199A42794534559DA778F43333758904
A33: 598635199A42794534559DA778F43333758909 | B33: 저압케이블전공 | C33: 일반공사 직종 | D33: 인 | F33: =SUM(W13:W31) -> 0 | Q33: 0102 | T33: 0102598635199A42794534559DA778F43333758909
B34: 03 전열설비 공사
A35: 5E7BE50403467C45FE50C2774A507137080285 | B35: 1종금속제가요전선관 | C35: 1종금속제가요전선관, 비닐피복, 16mm, 방수 | D35: M | E35: 전기 5-1. | F35: 284 | Q35: 0103 | R35: 598635199A42794534559DA778F43333758904 | S35: 0.03168 | T35: 01035E7BE50403467C45FE50C2774A507137080285 | V35: =N35 -> 0
A36: 5E69757AD54EA9420E5601374E5C88F4A598AB | B36: 저독성난연케이블 | C36: HFIX, 2.25㎜(4㎟) | D36: M | E36: 전기 5-10 | F36: 852 | Q36: 0103 | R36: 598635199A42794534559DA778F43333758904 | S36: 0.008 | T36: 01035E69757AD54EA9420E5601374E5C88F4A598AB | V36: =N36 -> 0
A37: 5E7BE5040245E2400A53C5B7E4463DA505003F | B37: 아웃렛박스 | C37: 아웃렛박스, 중형4각, 54mm | D37: 개 | E37: 전기 5-3.6 | F37: 25 | Q37: 0103 | R37: 598635199A42794534559DA778F43333758904 | S37: 0.0864 | T37: 01035E7BE5040245E2400A53C5B7E4463DA505003F | V37: =N37 -> 0
A38: 5E7BE5040245E2400A5325678949E404703C67 | B38: 스위치박스 | C38: 스위치박스, 1개용, 54mm | D38: 개 | E38: 전기 5-3.6 | F38: 29 | Q38: 0103 | R38: 598635199A42794534559DA778F43333758904 | S38: 0.144 | T38: 01035E7BE5040245E2400A5325678949E404703C67 | V38: =N38 -> 0
A39: 5E7BE5040245E247B9524EE752CE03F33CF528 | B39: 콘센트 | C39: 콘센트, 2구, 15A, 250V, 매입형, 접지 | D39: 개 | E39: 전기 5-23-1 | F39: 35 | Q39: 0103 | R39: 598635199A42794534559DA778F43333758904 | S39: 0.064 | T39: 01035E7BE5040245E247B9524EE752CE03F33CF528 | V39: =N39 -> 0
A40: 5E7BE5040245E2400B5DAA57A729734F9F82E1 | B40: 시스템 박스 | C40: 전선관용(매입), 전열 2구 | D40: 개 | E40: 전기 5-5 | F40: 2 | Q40: 0103 | R40: 598635199A42794534559DA778F43333758904 | S40: 0.504 | T40: 01035E7BE5040245E2400B5DAA57A729734F9F82E1 | V40: =N40 -> 0
A41: 598635199A42794534559DA778F43333758904 | B41: 내선전공 | C41: 일반공사 직종 | D41: 인 | F41: =SUM(V35:V40) -> 0 | Q41: 0103 | T41: 0103598635199A42794534559DA778F43333758904
B42: 04 냉.난방설비 공사
A43: 5E7BE50403467C45FE50C2774A507137080285 | B43: 1종금속제가요전선관 | C43: 1종금속제가요전선관, 비닐피복, 16mm, 방수 | D43: M | E43: 전기 5-1. | F43: 82 | Q43: 0104 | R43: 598635199A42794534559DA778F43333758904 | S43: 0.03168 | T43: 01045E7BE50403467C45FE50C2774A507137080285 | V43: =N43 -> 0
A44: 5E69757AD54EA9420E5601374CA999BEB4DC7B | B44: 600V폴리에틸렌케이블 | C44: 600V폴리에틸렌케이블, 0.6/1kv, F-CV, 3C*2.5㎟ | D44: M | E44: 전기 5-13 | F44: 33.5 | Q44: 0104 | R44: 598635199A42794534559DA778F43333758909 | S44: 0.0152 | T44: 01045E69757AD54EA9420E5601374CA999BEB4DC7B | W44: =N44 -> 0
A45: 5E69757AD54EA9420E5601374E5C88F4A598A4 | B45: 저독성난연케이블 | C45: HFIX, 1.78㎜(2.5㎟) | D45: M | E45: 전기 5-10 | F45: 186 | Q45: 0104 | R45: 598635199A42794534559DA778F43333758904 | S45: 0.008 | T45: 01045E69757AD54EA9420E5601374E5C88F4A598A4 | V45: =N45 -> 0
A46: 5E7BE5040245E2400A53C5B7E4463DA505003F | B46: 아웃렛박스 | C46: 아웃렛박스, 중형4각, 54mm | D46: 개 | E46: 전기 5-3.6 | F46: 12 | Q46: 0104 | R46: 598635199A42794534559DA778F43333758904 | S46: 0.0864 | T46: 01045E7BE5040245E2400A53C5B7E4463DA505003F | V46: =N46 -> 0
A47: 5E7BE5040245E2400A5325678949E404703C67 | B47: 스위치박스 | C47: 스위치박스, 1개용, 54mm | D47: 개 | E47: 전기 5-3.6 | F47: 12 | Q47: 0104 | R47: 598635199A42794534559DA778F43333758904 | S47: 0.144 | T47: 01045E7BE5040245E2400A5325678949E404703C67 | V47: =N47 -> 0
A48: 598635199A42794534559DA778F43333758904 | B48: 내선전공 | C48: 일반공사 직종 | D48: 인 | F48: =SUM(V43:V47) -> 0 | Q48: 0104 | T48: 0104598635199A42794534559DA778F43333758904
A49: 598635199A42794534559DA778F43333758909 | B49: 저압케이블전공 | C49: 일반공사 직종 | D49: 인 | F49: =SUM(W43:W47) -> 0 | Q49: 0104 | T49: 0104598635199A42794534559DA778F43333758909
B50: 05 기타설비 공사
A51: 5E7BE50403467C45FE50C2774A507137080285 | B51: 1종금속제가요전선관 | C51: 1종금속제가요전선관, 비닐피복, 16mm, 방수 | D51: M | E51: 전기 5-1. | F51: 76 | Q51: 0105 | R51: 598635199A42794534559DA778F43333758904 | S51: 0.03168 | T51: 01055E7BE50403467C45FE50C2774A507137080285 | V51: =N51 -> 0
A52: 5E7BE50403467C45FE50C2774A507137080283 | B52: 1종금속제가요전선관 | C52: 1종금속제가요전선관, 비닐피복, 28mm, 방수 | D52: M | E52: 전기 5-1.11 | F52: 31 | Q52: 0105 | R52: 598635199A42794534559DA778F43333758904 | S52: 0.05184 | T52: 01055E7BE50403467C45FE50C2774A507137080283 | V52: =N52 -> 0
A53: 5E69757AD54EA942085C028770367B6B27956C | B53: 내화전선 | C53: 내화전선, 0.6/1kv, F-FR-8, 4C*2.5㎟ | D53: M | E53: 전기 5-13 | F53: 33 | Q53: 0105 | R53: 598635199A42794534559DA778F43333758909 | S53: 0.0208 | T53: 01055E69757AD54EA942085C028770367B6B27956C | W53: =N53 -> 0
A54: 5E69757AD54EA9420E5601374E5C88F4A598A5 | B54: 저독성난연케이블 | C54: HFIX, 1.38㎜(1.5㎟) | D54: M | E54: 전기 5-10 | F54: 204 | Q54: 0105 | R54: 598635199A42794534559DA778F43333758904 | S54: 0.008 | T54: 01055E69757AD54EA9420E5601374E5C88F4A598A5 | V54: =N54 -> 0
A55: 5E69757AD54EA9420E5601374E5C88F4A598A4 | B55: 저독성난연케이블 | C55: HFIX, 1.78㎜(2.5㎟) | D55: M | E55: 전기 5-10 | F55: 75 | Q55: 0105 | R55: 598635199A42794534559DA778F43333758904 | S55: 0.008 | T55: 01055E69757AD54EA9420E5601374E5C88F4A598A4 | V55: =N55 -> 0
A56: 5E7BE5040245E2400A53C5B7E4463DA505003F | B56: 아웃렛박스 | C56: 아웃렛박스, 중형4각, 54mm | D56: 개 | E56: 전기 5-3.6 | F56: 8 | Q56: 0105 | R56: 598635199A42794534559DA778F43333758904 | S56: 0.0864 | T56: 01055E7BE5040245E2400A53C5B7E4463DA505003F | V56: =N56 -> 0
A57: 5E7BE5040245E2400A537D8783DCFA256F8CC0 | B57: 풀박스 | C57: 풀박스, 100*100*100mm | D57: 개 | E57: 전기 5-4 | F57: 1 | Q57: 0105 | R57: 598635199A42794534559DA778F43333758904 | S57: 0.032 | T57: 01055E7BE5040245E2400A537D8783DCFA256F8CC0 | V57: =N57 -> 0
A58: 5E00E571A046A144AF5D27B7AF9C2343FA3E7E | B58: 차동식감지기 | C58: 열감지기, 차동식스포트형 | D58: 개 | E58: 전기 10-2-1 | F58: 13 | Q58: 0105 | R58: 598635199A42794534559DA778F43333758904 | S58: 0.104 | T58: 01055E00E571A046A144AF5D27B7AF9C2343FA3E7E | V58: =N58 -> 0
A59: 5E00E571A046A144AF5D27B7AF9C2343FA3D56 | B59: 연기감지기 | C59: 연기감지기, 광전식 2종-비축적 | D59: 개 | E59: 전기 10-2-1 | F59: 1 | Q59: 0105 | R59: 598635199A42794534559DA778F43333758904 | S59: 0.104 | T59: 01055E00E571A046A144AF5D27B7AF9C2343FA3D56 | V59: =N59 -> 0
A60: 5E7BE504014B9641C05083F7670253274DD152 | B60: 유도등 | C60: 유도등, 소형(단면), 60분용, 피난구유도등, 고휘도, LED | D60: 개 | E60: 전기 10-3-1 | F60: 4 | Q60: 0105 | R60: 598635199A42794534559DA778F43333758904 | S60: 0.16 | T60: 01055E7BE504014B9641C05083F7670253274DD152 | V60: =N60 -> 0
A61: 5E7BE504014B9641C05083F7670253274DD278 | B61: 유도등 | C61: 유도등, 대형(단면), 60분용, 피난구유도등, 고휘도, LED | D61: 개 | E61: 전기 10-3-1 | F61: 2 | Q61: 0105 | R61: 598635199A42794534559DA778F43333758904 | S61: 0.16 | T61: 01055E7BE504014B9641C05083F7670253274DD278 | V61: =N61 -> 0
A62: 5E7BE504014B9641C05083F7670253274DD27D | B62: 유도등 | C62: 유도등, 거실통로유도등, 고휘도, LED, 천장양면 | D62: 개 | E62: 전기 10-3-1 | F62: 1 | Q62: 0105 | R62: 598635199A42794534559DA778F43333758904 | S62: 0.16 | T62: 01055E7BE504014B9641C05083F7670253274DD27D | V62: =N62 -> 0
A63: 5E00E571A046A144AF5D6D679EB9D2456364C9 | B63: 화재경보장치 | C63: 수동발신기, 시각경보기, 15cd | D63: 개 | E63: 전기 10-2-12 | F63: 1 | Q63: 0105 | R63: 598635199A42794534559DA778F43333758904 | S63: 0.08 | T63: 01055E00E571A046A144AF5D6D679EB9D2456364C9 | V63: =N63 -> 0
A64: 5E2355D9314B324C6C56E40753120A6F0925FB | B64: 자동폐쇄장치 | D64: 개 | E64: 건축 10-2-1 | F64: 2 | Q64: 0105 | R64: 598635199A42794534559DA778F43333758E81 | S64: 0.0248 | T64: 01055E2355D9314B324C6C56E40753120A6F0925FB | X64: =N64 -> 0
Q65: 0105 | R65: 598635199A42794534559DA778F43333758CD1 | S65: 0.0496 | T65: 01055E2355D9314B324C6C56E40753120A6F0925FB | Y65: =N65 -> 0
A66: 598635199A42794534559DA778F43333758E81 | B66: 보통인부 | C66: 일반공사 직종 | D66: 인 | F66: =SUM(X51:X65) -> 0 | Q66: 0105 | T66: 0105598635199A42794534559DA778F43333758E81
A67: 598635199A42794534559DA778F43333758CD1 | B67: 창호공 | C67: 일반공사 직종 | D67: 인 | F67: =SUM(Y51:Y65) -> 0 | Q67: 0105 | T67: 0105598635199A42794534559DA778F43333758CD1
A68: 598635199A42794534559DA778F43333758904 | B68: 내선전공 | C68: 일반공사 직종 | D68: 인 | F68: =SUM(V51:V65) -> 0 | Q68: 0105 | T68: 0105598635199A42794534559DA778F43333758904
A69: 598635199A42794534559DA778F43333758909 | B69: 저압케이블전공 | C69: 일반공사 직종 | D69: 인 | F69: =SUM(W51:W65) -> 0 | Q69: 0105 | T69: 0105598635199A42794534559DA778F43333758909
B70: 06 철거 공사
A71: 5E69757AD54EA9416452E537E75D13F92E481A | B71: 비닐전열전선 (철거) | C71: HIV 2.5㎟ | D71: M | E71: 전기 5-10.6 | F71: 891.5 | Q71: 0106 | R71: 598635199A42794534559DA778F43333758904 | S71: 0.0024 | T71: 01065E69757AD54EA9416452E537E75D13F92E481A | V71: =N71 -> 0
A72: 5E69757AD54EA9420E5601179E33D07B636D76 | B72: F-CV 케이블 (철거) | C72: F-CV 3C 2.5㎟ | D72: M | E72: 전기 5-13.10 | F72: 79 | Q72: 0106 | R72: 598635199A42794534559DA778F43333758909 | S72: 0.0076 | T72: 01065E69757AD54EA9420E5601179E33D07B636D76 | W72: =N72 -> 0
A73: 5E7BE504014B96438850A677B5AAA217475833 | B73: 등기구 (철거) | C73: LED 40W 매입등 | D73: SET | E73: 전기 5-25-3.7.8 | F73: 41 | Q73: 0106 | R73: 598635199A42794534559DA778F43333758904 | S73: 0.056808 | T73: 01065E7BE504014B96438850A677B5AAA217475833 | V73: =N73 -> 0
A74: 5E7BE504014B96438850A677B5AAA217475836 | B74: 등기구 (철거) | C74: LED 10W 비상다운라이트 | D74: SET | E74: 전기 5-25-3.7.8 | F74: 8 | Q74: 0106 | R74: 598635199A42794534559DA778F43333758904 | S74: 0.033768 | T74: 01065E7BE504014B96438850A677B5AAA217475836 | V74: =N74 -> 0
A75: 5E7BE50402456E44E85D14C7C99491BF06538B | B75: 1로스위치 (철거) | C75: 15A 250V 1,2,3,4구 | D75: 개 | E75: 전기 5-23-2.3 | F75: 5 | Q75: 0106 | R75: 598635199A42794534559DA778F43333758904 | S75: 0.0204 | T75: 01065E7BE50402456E44E85D14C7C99491BF06538B | V75: =N75 -> 0
A76: 5E7BE50402456E44E85D14C7C99491BF06538A | B76: 1로+3로 스위치 (철거) | C76: 단로1구+삼로1구 | D76: 개 | E76: 전기 5-23-2.3 | F76: 2 | Q76: 0106 | R76: 598635199A42794534559DA778F43333758904 | S76: 0.0204 | T76: 01065E7BE50402456E44E85D14C7C99491BF06538A | V76: =N76 -> 0
A77: 5E7BE5040245E247B9524EC7A453C1534414D1 | B77: 접지콘센트 (철거) | C77: 15A 250V 2구 | D77: 개 | E77: 전기 5-23-1.4 | F77: 16 | Q77: 0106 | R77: 598635199A42794534559DA778F43333758904 | S77: 0.0192 | T77: 01065E7BE5040245E247B9524EC7A453C1534414D1 | V77: =N77 -> 0
A78: 5E00E571A046A144AF5D2797E109D54C4132D4 | B78: 감지기 (철거) | C78: 차동식 | D78: 개 | E78: 전기 5-30.6 | F78: 10 | Q78: 0106 | R78: 598635199A42794534559DA778F43333758904 | S78: 0.0312 | T78: 01065E00E571A046A144AF5D2797E109D54C4132D4 | V78: =N78 -> 0
A79: 5E00E571A046A144AF5D2797E109D54C4132D0 | B79: 감지기 (철거) | C79: 연기식 | D79: 개 | E79: 전기 5-30.6 | F79: 1 | Q79: 0106 | R79: 598635199A42794534559DA778F43333758904 | S79: 0.0312 | T79: 01065E00E571A046A144AF5D2797E109D54C4132D0 | V79: =N79 -> 0
A80: 5E00E571A046A144AF5D2797E109D54C4132DD | B80: 유도등 (철거) | D80: 개 | E80: 전기 10-3-1.2 | F80: 4 | Q80: 0106 | R80: 598635199A42794534559DA778F43333758904 | S80: 0.048 | T80: 01065E00E571A046A144AF5D2797E109D54C4132DD | V80: =N80 -> 0
A81: 5E00E571A046A144AF5D2797E109D54C4133FF | B81: 시각경보기 (철거) | D81: 개 | E81: 전기 10-2-14.3 | F81: 1 | Q81: 0106 | R81: 598635199A42794534559DA778F43333758904 | S81: 0.024 | T81: 01065E00E571A046A144AF5D2797E109D54C4133FF | V81: =N81 -> 0
A82: 598635199A42794534559DA778F43333758904 | B82: 내선전공 | C82: 일반공사 직종 | D82: 인 | F82: =SUM(V71:V81) -> 0 | Q82: 0106 | T82: 0106598635199A42794534559DA778F43333758904
A83: 598635199A42794534559DA778F43333758909 | B83: 저압케이블전공 | C83: 일반공사 직종 | D83: 인 | F83: =SUM(W71:W81) -> 0 | Q83: 0106 | T83: 0106598635199A42794534559DA778F43333758909
B84: 07 관급자재비
B85: 07 관급자재비 - 01 LED 조명기구 구매
A86: 5E7BE504014B96438850A677B5AAA21013049F | B86: 등기구 "A" TYPE | C86: LED 40W 매입등 300*1200 M바 | D86: SET | E86: 전기 5-25-3.8 | F86: 22 | Q86: 010701 | R86: 598635199A42794534559DA778F43333758904 | S86: 0.263 | T86: 0107015E7BE504014B96438850A677B5AAA21013049F | V86: =N86 -> 0
A87: 5E7BE504014B96438850A677B5AAA210130494 | B87: 등기구 "B" TYPE | C87: LED 10W 다운라이트 | D87: SET | E87: 전기 5-25-3.8 | F87: 17 | Q87: 010701 | R87: 598635199A42794534559DA778F43333758904 | S87: 0.155 | T87: 0107015E7BE504014B96438850A677B5AAA210130494 | V87: =N87 -> 0
A88: 5E7BE504014B96438850A677B5AAA2101303F5 | B88: 등기구 "C" TYPE | C88: LED 30W 다운라이트 | D88: SET | E88: 전기 5-25-3.8 | F88: 28 | Q88: 010701 | R88: 598635199A42794534559DA778F43333758904 | S88: 0.208 | T88: 0107015E7BE504014B96438850A677B5AAA2101303F5 | V88: =N88 -> 0
A89: 598635199A42794534559DA778F43333758904 | B89: 내선전공 | C89: 일반공사 직종 | D89: 인 | F89: 14.245 | Q89: 010701 | T89: 010701598635199A42794534559DA778F43333758904

Sheet Sheet1

Sheet 공량설정
A1: 공종명 | B1: 적용율(%) | C1: 소수점이하자릿수 | D1: 공종코드
A2: 0101 전력간선설비 공사 | B2: 100 | D2: 0101
A3: 내선전공 | C3: 2 | D3: 0101598635199A42794534559DA778F43333758904
A4: 저압케이블전공 | C4: 2 | D4: 0101598635199A42794534559DA778F43333758909
A5: 0102 전등설비 공사 | B5: 100 | D5: 0102
A6: 내선전공 | C6: 2 | D6: 0102598635199A42794534559DA778F43333758904
A7: 저압케이블전공 | C7: 2 | D7: 0102598635199A42794534559DA778F43333758909
A8: 0103 전열설비 공사 | B8: 100 | D8: 0103
A9: 내선전공 | C9: 1 | D9: 0103598635199A42794534559DA778F43333758904
A10: 0104 냉.난방설비 공사 | B10: 100 | D10: 0104
A11: 내선전공 | C11: 2 | D11: 0104598635199A42794534559DA778F43333758904
A12: 저압케이블전공 | C12: 2 | D12: 0104598635199A42794534559DA778F43333758909
A13: 0105 기타설비 공사 | B13: 100 | D13: 0105
A14: 보통인부 | C14: 2 | D14: 0105598635199A42794534559DA778F43333758E81
A15: 창호공 | C15: 1 | D15: 0105598635199A42794534559DA778F43333758CD1
A16: 내선전공 | C16: 2 | D16: 0105598635199A42794534559DA778F43333758904
A17: 저압케이블전공 | C17: 2 | D17: 0105598635199A42794534559DA778F43333758909
A18: 0106 철거 공사 | B18: 100 | D18: 0106
A19: 내선전공 | C19: 2 | D19: 0106598635199A42794534559DA778F43333758904
A20: 저압케이블전공 | C20: 1 | D20: 0106598635199A42794534559DA778F43333758909
A21: 010701 LED 조명기구 구매 | B21: 100 | D21: 010701

Sheet  공사설정 
A1: 이 Sheet는 수정하지 마십시요
A2: 공사구분 | B2: D | C2: 타이틀 | D2: T
A3: 확정내역 | B3: 원내역
A4: 자재단가적용 | B4: 5
A5: 경비단가적용 | B5: 5
A6: 품목코드형식 | B6: XXXX-XXXX-XXXXXXXXX
A7: 내역금액소수점처리 | B7: C | C7: 1
A8: 일위대가내역소수점처리 | B8: C | C8: 2
A9: 단가명 | B9: 조달청가격 | C9: 물가자료 | D9: 물가정보 | E9: 조사가격1 | F9: 조사가격2 | G9: TTTTT
A10: 환율 | B10: 1472 | C10: 0 | D10: 0
A11: 시간당작업량 | B11: R | C11: 4
A12: 1회 사이클시간 | B12: R | C12: 4
A13: 시간당 작업사이클 | B13: R | C13: 3
A14: 일반변수 | B14: R | C14: 5
A15: 시간당 노임산출 계수 | B15: A | C15: 1/8*16/12*25/20 | D15: 1/8*16/12*25/20 | E15: 1/8*16/12*25/20 | F15: 1
A16: 재료비 할증 계수 | B16: 1.11 | C16: 1.12
A17: 노무비 할증 계수 | B17: 1 | C17: 1.5 | D17: 1.16 | E17: 1.6 | F17: 1.6 | G17: 1.6 | H17: 1.94 | I17: 1.94 | J17: 1.94 | K17: 1 | L17: 1 | M17: 1
A18: 경비 할증 계수 | B18: 1.25 | C18: 1.071
A19: 내역,일위대가 품명,규격,단위 따로적용
A20: 내역단가 소수점처리 | B20: C | C20: 1
A21: 코드 | B21: 공종구분명 | C21: 원가비목코드
A22: 1 | B22: 작 업 부 산 물 | C22: A3
A23: 2 | B23: 운 반 비 | C23: C1
A24: 3 | B24: 관 급 자 재 비 | C24: DJ
A25: 4 | B25: 사 급 자 재 비 | C25: D3
A26: 5 | B26: 외 자 재
A27: 6 | B27: 폐기물처리비
A28: 7 | B28: ...
A29: 8 | B29: ...
A30: 9 | B30: ...
A31: A | B31: ....
A32: B | B32: .....
A33: C | B33: ....
A34: D | B34: ....
A35: E | B35: ....
A36: F | B36: ....
A37: G | B37: ....
A38: H | B38: ....
A39: I | B39: ....
A40: J | B40: ....
A43: 단가 순서 | B43: 1234
