Workbook

Sheet 원가계산
A1: 공 사 원 가 계 산 서
A2: =집계표!A3 -> ■ 공사명 : 군위군 농산물산지유통센터 스마트화시설 개선공사 실시설계용역(소방)
A3: 구 분 | D3: 금 액 | E3: 구 성 비 | G3: 비 고
A4: 순 공 사 원 가 | B4: 재 | C4: 직 접 재 료 비
B5: 료 | C5: 작 업 부 산 물
B6: 비 | C6: 소 계 (A)
B7: 노 | C7: 직 접 노 무 비
B8: 무 | C8: 간 접 노 무 비 | E8: 0.175 | F8: x 직접노무비 | I8: A | J8: B
B9: 비 | C9: 소 계 (B) | I9: =INT((D4+D7+(#REF!/1.1))*2.93%) -> #REF! | J9: =INT((D4+D7)*E16*1.2) -> 0
C10: 경 비
B11: 경 | C11: 산 재 보 험 료 | E11: 0.0356 | F11: x 노무비
C12: 고 용 보 험 료 | E12: 0.0101 | F12: x 노무비
C13: 건 강 보 험 료 | E13: 0.03595 | F13: x 직접노무비
C14: 노인장기요양보험료 | E14: 0.1314 | F14: x 건강보험료
C15: 연 금 보 험 료 | E15: 0.0475 | F15: x 직접노무비
C16: 산업안전보건관리비 | E16: 0.0311 | F16: x (재료비+직노)
C17: 퇴직공제부금비 | F17: x (직접노무비)
C18: 기 타 경 비 | E18: 0.05 | F18: x (재료비+노무비)
C19: 석면분담금 | E19: 6e-05 | F19: x 노무비
B20: 비 | C20: 임금채권부담금 | E20: 0.0009 | F20: x 노무비
C21: 소 계 (C)
B22: 합 계 | F22: A+B+C
A23: 일 반 관 리 비 (D) | E23: 0.08 | F23: x (A+B+C)
A24: 이 윤 (E) | E24: 0.15 | F24: x (B+C+D) | H24: =D22+D23+(INT((D9+D21+D23)*E24))+D25 -> 0 | I24: =RIGHT(H24,4) -> 0
A25: 작 업 부 산 물
A26: 총 원 가
A27: 소방공사 손해배상공제보험료 | E27: 0.00364
A28: 부 가 가 치 세 | E28: 0.1 | F28: x (A+B+C+D+E)
A29: 도 급 금 액
A30: 총 공 사 금 액

Sheet 집계표
A1: 품 명 | B1: 규 격 | C1: 단위 | D1: 수 량 | E1: 재 료 비 | G1: 노 무 비 | I1: 경 비 | K1: 총 계 | L1: 비 고
E2: 단가 | F2: 금액 | G2: 단가 | H2: 금액 | I2: 단가 | J2: 금액
A3: =" ■ 공사명"&" : "&[1]표지1!A3 -> ■ 공사명 : 군위군 농산물산지유통센터 스마트화시설 개선공사 실시설계용역(소방) | K3: =F3+H3+J3 -> 0
A5: =내역서!A3 -> 1. 소방간선설비공사 | C5: 식 | D5: 1 | F5: =내역서!F34 -> 0 | H5: =내역서!H34 -> 0 | J5: =내역서!J34 -> 0 | K5: =F5+H5+J5 -> 0
A6: =내역서!A53 -> 2. 화재감지기설비공사 | C6: 식 | D6: 1 | F6: =내역서!F67 -> 0 | H6: =내역서!H67 -> 0 | J6: =내역서!J67 -> 0 | K6: =F6+H6+J6 -> 0
A7: =내역서!A78 -> 3. 유도등 설비공사 | C7: 식 | D7: 1 | F7: =내역서!F93 -> 0 | H7: =내역서!H93 -> 0 | J7: =내역서!J93 -> 0 | K7: =F7+H7+J7 -> 0
A8: =내역서!A103 -> 4. 소화기구 설비공사 | C8: 식 | D8: 1 | F8: =내역서!F107 -> 0 | H8: =내역서!H107 -> 0 | J8: =내역서!J102 -> 0 | K8: =F8+H8+J8 -> 0
A10: 합 계 | F10: =SUM(F5:F9) -> 0 | H10: =SUM(H5:H9) -> 0 | J10: =SUM(J5:J9) -> 0 | K10: =F10+H10+J10 -> 0

Sheet 내역서
A1: 품 명 | B1: 규 격 | C1: 단위 | D1: 수 량 | E1: 재 료 비 | G1: 노 무 비 | I1: 경 비 | K1: 총 계 | L1: 비 고
E2: 단가 | F2: 금액 | G2: 단가 | H2: 금액 | I2: 단가 | J2: 금액
A3: ='[1]1.간선'!A1:B1 -> 1. 소방간선설비공사
A4: ='[1]1.간선'!A4 -> 경질비닐전선관 | B4: ='[1]1.간선'!B4 -> HI 36C | C4: ='[1]1.간선'!C4 -> m | D4: ='[1]1.간선'!M4 -> 117
A5: ='[1]1.간선'!A5 -> 강제전선관 | B5: ='[1]1.간선'!B5 -> 아연도 16C | C5: ='[1]1.간선'!C5 -> m | D5: ='[1]1.간선'!M5 -> 28
A6: ='[1]1.간선'!A6 -> 강제전선관 | B6: ='[1]1.간선'!B6 -> 아연도 22C | C6: ='[1]1.간선'!C6 -> m | D6: ='[1]1.간선'!M6 -> 105
A7: ='[1]1.간선'!A7 -> 강제전선관 | B7: ='[1]1.간선'!B7 -> 아연도 28C | C7: ='[1]1.간선'!C7 -> m | D7: ='[1]1.간선'!M7 -> 18
A8: ='[1]1.간선'!A8 -> 강제전선관 | B8: ='[1]1.간선'!B8 -> 아연도 36C | C8: ='[1]1.간선'!C8 -> m | D8: ='[1]1.간선'!M8 -> 62
A9: ='[1]1.간선'!A9 -> 1종금속가요전선관 | B9: ='[1]1.간선'!B9 -> 일반비방수 16C | C9: ='[1]1.간선'!C9 -> m | D9: ='[1]1.간선'!M9 -> 13
A10: ='[1]1.간선'!A10 -> 내열절연전선 | B10: ='[1]1.간선'!B10 -> HFIX 1.5㎟ | C10: ='[1]1.간선'!C10 -> m | D10: ='[1]1.간선'!M10 -> 371
A11: ='[1]1.간선'!A11 -> 내열절연전선 | B11: ='[1]1.간선'!B11 -> HFIX 2.5㎟ | C11: ='[1]1.간선'!C11 -> m | D11: ='[1]1.간선'!M11 -> 662
A12: ='[1]1.간선'!A12 -> 0.6/1KV내화케이블 | B12: ='[1]1.간선'!B12 -> FR-8 15/C 2.5㎟ | C12: ='[1]1.간선'!C12 -> m | D12: ='[1]1.간선'!M12 -> 173
A13: ='[1]1.간선'!A13 -> 콘크리트박스(아연도) | B13: ='[1]1.간선'!B13 -> 54mm 8각 | C13: ='[1]1.간선'!C13 -> EA | D13: ='[1]1.간선'!M13 -> 8
A14: ='[1]1.간선'!A14 -> 화재감지기 | B14: ='[1]1.간선'!B14 -> 정온식 | C14: ='[1]1.간선'!C14 -> EA | D14: ='[1]1.간선'!M14 -> 4
A15: ='[1]1.간선'!A15 -> 화재감지기 | B15: ='[1]1.간선'!B15 -> 연기식 | C15: ='[1]1.간선'!C15 -> EA | D15: ='[1]1.간선'!M15 -> 4
... A27: ='[1]1.간선'!A27 -> 후렉시블콘넥터 | B27: ='[1]1.간선'!B27 -> 16C 비방수 | C27: ='[1]1.간선'!C27 -> EA | D27: ='[1]1.간선'!M27 -> 16
A28: 전선관 부속품비 | B28: 배관의 15% | C28: 식 | D28: 1
A29: 잡재료비 | B29: 선,배관의 2% | C29: 식 | D29: 1
A30: 노무비 | B30: 내선전공 | C30: 인 | D30: ='[1]1.간선'!O28 -> 44
A31: 노무비 | B31: 저압케이블공 | C31: 인 | D31: ='[1]1.간선'!Q28 -> 4.6
A32: 공구손료 | B32: 노무비의 3% | C32: 식 | D32: 1
A34: 합 계
A53: ='[1]2.감지기'!A1:B1 -> 2. 화재감지기설비공사
A54: ='[1]2.감지기'!A4 -> 강제전선관 | B54: ='[1]2.감지기'!B4 -> 아연도 16C | C54: ='[1]2.감지기'!C4 -> m | D54: ='[1]2.감지기'!L4 -> 162
A55: ='[1]2.감지기'!A5 -> 1종금속가요전선관 | B55: ='[1]2.감지기'!B5 -> 일반비방수 16C | C55: ='[1]2.감지기'!C5 -> m | D55: ='[1]2.감지기'!L5 -> 26
A56: ='[1]2.감지기'!A6 -> 내열절연전선 | B56: ='[1]2.감지기'!B6 -> HFIX 1.5㎟ | C56: ='[1]2.감지기'!C6 -> m | D56: ='[1]2.감지기'!L6 -> 190
A57: ='[1]2.감지기'!A7 -> 콘크리트박스(아연도) | B57: ='[1]2.감지기'!B7 -> 54mm 8각 | C57: ='[1]2.감지기'!C7 -> EA | D57: ='[1]2.감지기'!L7 -> 16
A58: ='[1]2.감지기'!A8 -> 아날로그 감지기 | B58: ='[1]2.감지기'!B8 -> 연기식 | C58: ='[1]2.감지기'!C8 -> EA | D58: ='[1]2.감지기'!L8 -> 16
A59: ='[1]2.감지기'!A9 -> 후렉시블콘넥터 | B59: ='[1]2.감지기'!B9 -> 16C 비방수 | C59: ='[1]2.감지기'!C9 -> EA | D59: ='[1]2.감지기'!L9 -> 32
A60: ='[1]2.감지기'!A10 -> 전선관지지행거 | B60: ='[1]2.감지기'!B10 -> 16C | C60: ='[1]2.감지기'!C10 -> EA | D60: ='[1]2.감지기'!L10 -> 98
A61: 전선관 부속품비 | B61: 배관의 15% | C61: 식 | D61: 1
A62: 잡재료비 | B62: 선,배관의 2% | C62: 식 | D62: 1
A63: 노무비 | B63: 내선전공 | C63: 인 | D63: ='[1]2.감지기'!N28 -> 14.8
A64: 노무비 | B64: 저압케이블공 | C64: 인 | D64: ='[1]2.감지기'!P28 -> 0
A65: 공구손료 | B65: 노무비의 3% | C65: 식 | D65: 1
A67: 합 계
A78: ='[1]3.유도등'!A1:B1 -> 3. 유도등 설비공사
A79: ='[1]3.유도등'!A4 -> 강제전선관 | B79: ='[1]3.유도등'!B4 -> 아연도 16C | C79: ='[1]3.유도등'!C4 -> m | D79: ='[1]3.유도등'!M4 -> 122
A80: ='[1]3.유도등'!A5 -> 1종금속가요전선관 | B80: ='[1]3.유도등'!B5 -> 일반비방수 16C | C80: ='[1]3.유도등'!C5 -> m | D80: ='[1]3.유도등'!M5 -> 30
A81: ='[1]3.유도등'!A6 -> 내열절연전선 | B81: ='[1]3.유도등'!B6 -> HFIX 2.5㎟ | C81: ='[1]3.유도등'!C6 -> m | D81: ='[1]3.유도등'!M6 -> 457
A82: ='[1]3.유도등'!A7 -> 콘크리트박스(아연도) | B82: ='[1]3.유도등'!B7 -> 54mm 8각 | C82: ='[1]3.유도등'!C7 -> EA | D82: ='[1]3.유도등'!M7 -> 13
A83: ='[1]3.유도등'!A8 -> 고휘도피난구유도등 | B83: ='[1]3.유도등'!B8 -> LED TYPE, 60분용, 대형 | C83: ='[1]3.유도등'!C8 -> EA | D83: ='[1]3.유도등'!M8 -> 6
A84: ='[1]3.유도등'!A9 -> 천정형피난구유도등(양면형) | B84: ='[1]3.유도등'!B9 -> LED TYPE, 60분용, 대형 | C84: ='[1]3.유도등'!C9 -> EA | D84: ='[1]3.유도등'!M9 -> 3
A85: ='[1]3.유도등'!A10 -> 고휘도계단통로유도등 | B85: ='[1]3.유도등'!B10 -> LED TYPE, 60분용 | C85: ='[1]3.유도등'!C10 -> EA | D85: ='[1]3.유도등'!M10 -> 2
A86: ='[1]3.유도등'!A11 -> 후렉시블콘넥터 | B86: ='[1]3.유도등'!B11 -> 16C 비방수 | C86: ='[1]3.유도등'!C11 -> EA | D86: ='[1]3.유도등'!M11 -> 18
A87: ='[1]3.유도등'!A12 -> 전선관지지행거 | B87: ='[1]3.유도등'!B12 -> 16C | C87: ='[1]3.유도등'!C12 -> EA | D87: ='[1]3.유도등'!M12 -> 73
A88: 전선관 부속품비 | B88: 배관의 15% | C88: 식 | D88: 1
A89: 잡재료비 | B89: 선,배관의 2% | C89: 식 | D89: 1
A90: 노무비 | B90: 내선전공 | C90: 인 | D90: ='[1]3.유도등'!O28 -> 14.3
A91: 공구손료 | B91: 노무비의 3% | C91: 식 | D91: 1
A93: 합 계
A103: {='[1]4.소화기구'!A1:B1} -> 4. 소화기구 설비공사 | B103: 0
A104: ='[1]4.소화기구'!A4 -> A.B.C 분말 소화기 | B104: ='[1]4.소화기구'!B4 -> 3.3Kg / 받침대 포함 | C104: ='[1]4.소화기구'!C4 -> EA | D104: ='[1]4.소화기구'!M4 -> 7
A105: ='[1]4.소화기구'!A5 -> 소공간 자동소화장치 | B105: ='[1]4.소화기구'!B5 -> HFC-125 / 9KG | C105: ='[1]4.소화기구'!C5 -> EA | D105: ='[1]4.소화기구'!M5 -> 3
A107: 합 계
