Workbook
Name 간접노무비: 원가계산서!$G$11
Name 건강보험료: 원가계산서!$G$14
Name 공급가액: 원가계산서!$D$5
Name 부가가치세: 원가계산서!$D$24
Name 순공사원가: 원가계산서!$D$6
Name 이윤: 원가계산서!$G$23
Name 일반관리비: 원가계산서!$G$22
Name 재료비: 원가계산서!$F$7
Name 직접공사비: 원가계산서!$D$7
Name 직접노무비: 원가계산서!$H$7

Sheet 요약서
A1: 설계 요약서
A3: ㅇ 용 역 명 : | B3: =G3&"권역 국도제설 및 결빙제거작업" -> 계룡-세종권역 국도제설 및 결빙제거작업 | E3: 권역명 | G3: 계룡-세종 | H3: 권역
A4: ㅇ 작업구간 : | B4: =G3&"권역 L="&G4&"km (환산연장 L="&TEXT(G5,"###.0")&"km)" -> 계룡-세종권역 L=28.8km (환산연장 L=63.1km) | E4: 작업구간연장 | G4: 28.8 | H4: km
A5: ㅇ 투입장비 : | B5: ="15톤 덤프 "&G6&"대 (삽날 "&G6&" + 살포기 "&G6&")" -> 15톤 덤프 4대 (삽날 4 + 살포기 4) | E5: 환산작업연장 | G5: 63.1 | H5: km
B6: =IF(G8=0,"","2.5톤 덤프 "&G8&"대") -> 2.5톤 덤프 1대 | E6: 투입장비 | F6: 덤프 | G6: 4 | H6: 대
B7: =IF(G7=0,"","굴삭기(0.6 m3) "&G7&"대") -> 굴삭기(0.6 m3) 1대 | F7: 굴삭기 | G7: 1 | H7: 대
A8: ㅇ 대기장소 : | B8: 공주시 반포면 봉곡리 301-1(반포제설창고) | F8: 순찰 | G8: 1 | H8: 대
A9: ㅇ 용역기간 : | B9: 2026.11.15. ~ 2027.03.25. (131일간) (전체) 2026.11.15. ~ 2026.12.31. (47일간) (1차) 2027.01.01. ~ 2027.03.25. (84일간) (2차)
A10: ㅇ 용역금액 : | B10: =내역서!G3 -> 593835000 | E10: 작업일수(주간) | G10: 11 | H10: 일
B11: (실 작업내용에 따라 정산) | E11: 작업일수(야간) | G11: 11 | H11: 일
E14: =_xlfn.DAYS("2024-03-15","2023-11-15")+1 -> 122

Sheet 전체입력표
B3: 노임단가 | C3: 금액 | D3: 비고
B4: 보통인부 | C4: 172698 | D4: 현장인부, 순찰인원
B5: 화물차운전사 | C5: 240042 | D5: 순찰차 운전자
B6: 건설기계운전사 | C6: 283323 | D6: 15톤덤프, 굴착기
B9: 차량가격 | C9: 금액 | D9: 비고
B10: 굴삭기 | C10: 112342000 | D10: 제설차량 소금적재용
B11: 덤프트럭(15ton) | C11: 90653000 | D11: 제설용
B12: 덤프트럭(2.5ton) | C12: 21982000 | D12: 순찰용
B15: 유류가격 | C15: 조달청 9월 중기기초단가 | D15: 적용
B16: 경유 | C16: 1590 | D16: =TRUNC(C16) -> 1590 | E16: 9월 최저단가
B17: 휘발유 | D17: =TRUNC(C17/1.1) -> 0

Sheet 표지2
A1: 2026년 10월 | B1: 설 계 자 | D1: 심 사 자 | E1: 과 장 | G1: 소 장
A4: 2026-2027년도
A5: =요약서!B3 -> 계룡-세종권역 국도제설 및 결빙제거작업
A6: 설 계 서
A9: < 용 역 개 요 > | D9: < 용 역 금 액 >
A11: 1. 도로제설 및 결빙제거작업 : 1 식 | D11: I. 도 급 예 정 액 : | E11: =예산갑지!G13 -> 593835000 | J11: =132800000+13280000 -> 146080000
A12: 2. 제설장비대기 : 1 식 | D12: 1. 공 급 가 액 : | E12: =예산갑지!G14 -> 539850000
A13: 3. 정기점검 : 1식 | D13: 2. 부 가 가 치 세 : | E13: =원가계산서!E24 -> 53985000
A14: 4. 도로순찰 : 1식
A15: 5. 제설자재 운반작업 : 1식
A17: 논 산 국 토 관 리 사 무 소

Sheet 예정동원
A1: 예정공정표
A2: 구분 | B2: 보할(%) | C2: 용역기간 | H2: 비고
C3: 착수30일 | D3: 착수60일 | E3: 착수90일 | F3: 착수121일 | G3: 착수131일
A4: 제설 및 결빙제거 | B4: 100 | C4: 25 | D4: 25 | E4: 25 | F4: 20 | G4: 5 행정서류준비
A5: 누 계 | C5: =C4 -> 25 | D5: =C5+D4 -> 50 | E5: =D5+E4 -> 75 | F5: 95 | G5: 100 | K5: `
A9: 동원인원계획표
A10: 구분 | B10: 계 | C10: 용역기간 | H10: 비고
C11: =C3 -> 착수30일 | D11: =D3 -> 착수60일 | E11: =E3 -> 착수90일 | F11: 착수121일 | G11: 착수131일
A12: 조종원 | B12: =SUM(C12:F12) -> 610 | C12: 150 | D12: =C12 -> 150 | E12: =C12 -> 150 | F12: 160 | G12: -
A13: 제설원 | B13: =SUM(C13:F13) -> 610 | C13: 150 | D13: =C13 -> 150 | E13: =C13 -> 150 | F13: 160 | G13: -
A14: 계 | B14: =SUM(B12:B13) -> 1220 | C14: =SUM(C12:C13) -> 300 | D14: =SUM(D12:D13) -> 300 | E14: =SUM(E12:E13) -> 300 | F14: 320 | G14: -
A15: 누계 | C15: =C14 -> 300 | D15: =C15+D14 -> 600 | E15: =D15+E14 -> 900 | F15: 1220 | G15: 1220

Sheet 예산갑지
A4: =표지2!A4 -> 2026-2027년도
A7: =표지2!A5 -> 계룡-세종권역 국도제설 및 결빙제거작업
A8: 설 계 내 역 서
A11: < 용 역 개 요 > | F11: < 용 역 금 액 >
A13: 1. 도로제설 및 결빙제거작업 : 1 식 | F13: I. 도 급 예 정 액 : | G13: =원가계산서!D4 -> 593835000
A14: 2. 제설장비대기 : 1 식 | F14: 1. 공 급 가 액 : | G14: =원가계산서!공급가액 -> 539850000
A15: 3. 정기점검 : 1식 | F15: 2. 부 가 가 치 세 : | G15: =원가계산서!E24 -> 53985000
A16: 4. 도로순찰 : 1식
A17: 5. 제설자재 운반작업 : 1식
A20: =표지2!A17 -> 논 산 국 토 관 리 사 무 소

Sheet 원가계산서
A1: `
B2: 원 가 계 산 서
B4: I. 도급 예정액 | D4: =공급가액+E24 -> 593835000
B5: 1. 공급가액 | D5: =순공사원가+E22+E23 -> 539850000 | F5: 41400000
B6: 가. 순공사원가 | D6: =D7+E11+E12+E13+E14+E15+E16+E17+E18+E19+E20+E21 -> 452200188 | E6: 재료비
B7: (1) 직접공사비 | D7: =설계내역서!G4 -> 333180188 | E7: =설계내역서!M4 -> 53831641
B8: (가) 재료비 | D8: =설계내역서!I4 -> 30022635 | E8: =설계내역서!M5 -> 9115312
B9: (나) 직접노무비 | D9: =설계내역서!K4 -> 249325912 | E9: =설계내역서!M6 -> 1817992
B10: (다) 경 비 | D10: =설계내역서!M4 -> 53831641 | E10: =설계내역서!M7 -> 1817992
B11: (2) 간접노무비 | D11: 직접노무비 × 0.191 = | E11: =ROUNDDOWN(D9*0.191,-3) -> 47621000
B12: (3) 산재보험료 | D12: (직접노무비 + 간접노무비) × 0.0356 = | E12: =ROUNDDOWN((D9+E11)*0.0356,-3) -> 10571000
B13: (4) 고용보험료 | D13: (직접노무비 + 간접노무비) × 0.0101 = | E13: =ROUNDDOWN((D9+E11)*0.0101,-3) -> 2999000
B14: (5) 건강보험료 | D14: 직접노무비 × 0.03595 = | E14: =ROUNDDOWN(D9*0.03595,-3) -> 8963000
B15: (6) 연금보험료 | D15: 직접노무비 × 0.0475 = | E15: =ROUNDDOWN(D9*0.0475,-3) -> 11842000
B16: (7) 노인장기요양보험료 | D16: 건강보험료 × 0.1314 = | E16: =ROUNDDOWN(E14*0.1314,-3) -> 1177000
B17: (8) 건설기계대여금보증서발급금액 | D17: (재료비 + 직접노무비 + 산출경비) × 0.0010 = | E17: =ROUNDDOWN(직접공사비*0.001,-3) -> 333000
B18: (9) 산업안전보건관리비 | D18: (재료비 + 직접노무비)×0.0315 = | E18: =ROUNDDOWN((D8+D9)*0.0315,-3) -> 8799000
B19: (10) 기타 경비 | D19: (재료비 + 직접노무비 + 간접노무비) × 0.055 = | E19: =ROUNDDOWN((D8+D9+E11)*0.055,-3) -> 17983000
B20: (11) 환경보전비 | D20: (재료비 + 직접노무비 + 산출경비) × 0.009 = | E20: =ROUNDDOWN((D8+D9+D10)*0.009,-3) -> 2998000 | I20: =$D$4-TRUNC($E$24,-5)*11 -> 935000
B21: (12) 퇴직공제부금비 | D21: 직접노무비 × 0.023 = | E21: =ROUNDDOWN(D9*0.023,-3) -> 5734000 | I21: =$I$20/1.1 -> 850000 | K21: =D4/1.1 -> 539850000
B22: 나. 일반관리비 | D22: (재료비 + 노무비 + 경비) × 0.08 = | E22: =ROUNDDOWN((D8+D9+E11+D10)*0.08,-3) -> 30464000
B23: 다. 이 윤 | D23: (노무비 + 경비 + 일반관리비) × 0.15= | E23: =TRUNC((D9+E11+D10+E22)*0.15,0)-570 -> 57185812 | G23: 15%상한 | I23: 7177 | J23: =(D4-TRUNC(E24,-4)*11)/1.1 -> 50000
B24: 2. 부가가치세 | D24: 공급가액 × 10% = | E24: =공급가액*0.1 -> 53985000

Sheet 내역서
A1: 공 종 | C1: 규 격 | D1: 수량 | E1: 단위 | F1: 단 가 | G1: 금 액 | H1: 비 고
A2: ="□ "&표지2!A5&" 설계내역서" -> □ 계룡-세종권역 국도제설 및 결빙제거작업 설계내역서
A3: Ⅰ | B3: 도 급 예 정 액 | G3: =G4+G47 -> 593835000
A4: 1 | B4: 공 급 가 액 | G4: =G5+G45+G46 -> 539850000
A5: 가 | B5: 순공사원가 | G5: =G6+G34+G35+G36+G37+G38+G39+G40+G41+G42+G43+G44 -> 452200188
A6: (1) | B6: 직접공사비 | G6: =G7+G13+G19+G25+G32+G30 -> 333180188
A7: 1. | B7: 제설 및 결빙제거작업 | C7: 주간 | G7: =SUM(G8:G12) -> 57221770 | J7: ※기계경비+연료비+노무비(주간작업)
A8: =설계내역서!A6 -> 1.01 | B8: =설계내역서!B6 -> 덤프+제설기+살포기+염수 | C8: =설계내역서!C6 -> 사용(인부1명)/덤프1대 | D8: =설계내역서!D6 -> 11 | E8: =설계내역서!E6 -> 일 | F8: =설계내역서!F6 -> 1089266 | G8: =INT(F8*D8) -> 11981926
A9: =설계내역서!A7 -> 1.02 | B9: =설계내역서!B7 -> 덤프+제설기+살포기+염수 | C9: =설계내역서!C7 -> 사용(인부1명)/덤프1대 | D9: =설계내역서!D7 -> 11 | E9: =설계내역서!E7 -> 일 | F9: =설계내역서!F7 -> 1089266 | G9: =INT(F9*D9) -> 11981926
A10: =설계내역서!A8 -> 1.03 | B10: =설계내역서!B8 -> 덤프+제설기+살포기+염수 | C10: =설계내역서!C8 -> 사용(인부1명)/덤프1대 | D10: =설계내역서!D8 -> 11 | E10: =설계내역서!E8 -> 일 | F10: =설계내역서!F8 -> 1089266 | G10: =INT(F10*D10) -> 11981926
A11: =설계내역서!A9 -> 1.04 | B11: =설계내역서!B9 -> 덤프+제설기+살포기+염수 | C11: =설계내역서!C9 -> 사용(인부1명)/덤프1대 | D11: =설계내역서!D9 -> 11 | E11: =설계내역서!E9 -> 일 | F11: =설계내역서!F9 -> 1089266 | G11: =INT(F11*D11) -> 11981926
A12: =설계내역서!A10 -> 1.05 | B12: =설계내역서!B10 -> 굴삭기 | C12: =설계내역서!C10 -> 사용(인부1명)/0.6㎡ | D12: =설계내역서!D10 -> 9 | E12: =설계내역서!E10 -> 일 | F12: =설계내역서!F10 -> 1032674 | G12: =INT(F12*D12) -> 9294066
A13: =설계내역서!A11 -> 2 | B13: =설계내역서!B11 -> 제설 및 결빙제거작업 | C13: =설계내역서!C11 -> 야간 | G13: =SUM(G14:G18) -> 72943531 | J13: ※기계경비+연료비+노무비(야간작업)
A14: =설계내역서!A12 -> 2.01 | B14: =설계내역서!B12 -> 덤프+제설기+살포기+염수 | C14: =설계내역서!C12 -> 사용(인부1명)/덤프1대 | D14: =설계내역서!D12 -> 11 | E14: =설계내역서!E12 -> 일 | F14: =설계내역서!F12 -> 1385903 | G14: =INT(F14*D14) -> 15244933 | J14: - 보통인부의 추가할증 50% 적용
A15: =설계내역서!A13 -> 2.02 | B15: =설계내역서!B13 -> 덤프+제설기+살포기+염수 | C15: =설계내역서!C13 -> 사용(인부1명)/덤프1대 | D15: =설계내역서!D13 -> 11 | E15: =설계내역서!E13 -> 일 | F15: =설계내역서!F13 -> 1385903 | G15: =INT(F15*D15) -> 15244933
A16: =설계내역서!A14 -> 2.03 | B16: =설계내역서!B14 -> 덤프+제설기+살포기+염수 | C16: =설계내역서!C14 -> 사용(인부1명)/덤프1대 | D16: =설계내역서!D14 -> 11 | E16: =설계내역서!E14 -> 일 | F16: =설계내역서!F14 -> 1385903 | G16: =INT(F16*D16) -> 15244933
A17: =설계내역서!A15 -> 2.04 | B17: =설계내역서!B15 -> 덤프+제설기+살포기+염수 | C17: =설계내역서!C15 -> 사용(인부1명)/덤프1대 | D17: =설계내역서!D15 -> 11 | E17: =설계내역서!E15 -> 일 | F17: =설계내역서!F15 -> 1385903 | G17: =INT(F17*D17) -> 15244933
A18: =설계내역서!A16 -> 2.05 | B18: =설계내역서!B16 -> 굴삭기 | C18: =설계내역서!C16 -> 사용(인부1명)/0.6㎡ | D18: =설계내역서!D16 -> 9 | E18: =설계내역서!E16 -> 일 | F18: =설계내역서!F16 -> 1329311 | G18: =INT(F18*D18) -> 11963799
A19: =설계내역서!A17 -> 3 | B19: =설계내역서!B17 -> 제설작업 대기 | G19: =SUM(G20:G24) -> 148388544 | J19: ※기계경비+노무비(대기)
A20: =설계내역서!A18 -> 3.01 | B20: =설계내역서!B18 -> 덤프+제설기+살포기+염수 | C20: 사용(인부1명)/덤프1대 | D20: =설계내역서!D18 -> 99 | E20: =설계내역서!E18 -> 일 | F20: =설계내역서!F18 -> 365952 | G20: =F20*D20 -> 36229248
A21: =설계내역서!A19 -> 3.02 | B21: =설계내역서!B19 -> 덤프+제설기+살포기+염수 | C21: 사용(인부1명)/덤프1대 | D21: =설계내역서!D19 -> 99 | E21: =설계내역서!E19 -> 일 | F21: =설계내역서!F19 -> 365952 | G21: =F21*D21 -> 36229248
A22: =설계내역서!A20 -> 3.03 | B22: =설계내역서!B20 -> 덤프+제설기+살포기+염수 | C22: 사용(인부1명)/덤프1대 | D22: =설계내역서!D20 -> 99 | E22: =설계내역서!E20 -> 일 | F22: =설계내역서!F20 -> 365952 | G22: =F22*D22 -> 36229248
A23: =설계내역서!A21 -> 3.04 | B23: =설계내역서!B21 -> 덤프+제설기+살포기+염수 | C23: 사용(인부1명)/덤프1대 | D23: =설계내역서!D21 -> 99 | E23: =설계내역서!E21 -> 일 | F23: =설계내역서!F21 -> 365952 | G23: =F23*D23 -> 36229248
A24: =설계내역서!A22 -> 3.05 | B24: =설계내역서!B22 -> 굴삭기 | C24: =설계내역서!C22 -> 사용(인부1명)/0.6㎡ | D24: =설계내역서!D22 -> 9 | E24: =설계내역서!E22 -> 일 | F24: =설계내역서!F22 -> 385728 | G24: =INT(F24*D24) -> 3471552
A25: =설계내역서!A23 -> 4 | B25: =설계내역서!B23 -> 정비점검 | G25: =SUM(G26:G29) -> 18132480
A26: =설계내역서!A24 -> 4.01 | B26: =설계내역서!B24 -> 덤프+제설기+살포기+염수 | C26: =설계내역서!C24 -> 월4회 | D26: =설계내역서!D24 -> 4 | E26: =설계내역서!E24 -> 월 | F26: =설계내역서!F24 -> 1133280 | G26: =INT(F26*D26) -> 4533120
A27: =설계내역서!A25 -> 4.02 | B27: =설계내역서!B25 -> 덤프+제설기+살포기+염수 | C27: =설계내역서!C25 -> 월4회 | D27: =설계내역서!D25 -> 4 | E27: =설계내역서!E25 -> 월 | F27: =설계내역서!F25 -> 1133280 | G27: =INT(F27*D27) -> 4533120
A28: =설계내역서!A25 -> 4.02 | B28: =설계내역서!B25 -> 덤프+제설기+살포기+염수 | C28: =설계내역서!C25 -> 월4회 | D28: =설계내역서!D25 -> 4 | E28: =설계내역서!E25 -> 월 | F28: =설계내역서!F25 -> 1133280 | G28: =INT(F28*D28) -> 4533120
A29: =설계내역서!A26 -> 4.03 | B29: =설계내역서!B26 -> 덤프+제설기+살포기+염수 | C29: =설계내역서!C26 -> 월4회 | D29: =설계내역서!D26 -> 4 | E29: =설계내역서!E26 -> 월 | F29: =설계내역서!F26 -> 1133280 | G29: =INT(F29*D29) -> 4533120
A30: =설계내역서!A28 -> 5 | B30: =설계내역서!B28 -> 제설자재 운반작업 | G30: =SUM(G31:G31) -> 916568
A31: =설계내역서!A29 -> 5.01 | B31: =설계내역서!B29 -> 덤프운반 | C31: =설계내역서!C29 -> 15ton(1대) | D31: =설계내역서!D29 -> 1 | E31: =설계내역서!E29 -> 일 | F31: =설계내역서!F29 -> 916568 | G31: =INT(F31*D31) -> 916568
A32: =설계내역서!A30 -> 6 | B32: =설계내역서!B30 -> 도로순찰 | G32: =SUM(G33:G33) -> 35577295
A33: =설계내역서!A31 -> 6.01 | B33: =설계내역서!B31 -> 도로순찰 | C33: =설계내역서!C31 -> 2.5ton(1대) | D33: =설계내역서!D31 -> 297 | E33: =설계내역서!E31 -> 시간 | F33: =설계내역서!F31 -> 119788.88 | G33: =INT(F33*D33) -> 35577295
A34: (2) | B34: 간접노무비 | D34: 1 | E34: 식 | G34: =원가계산서!E11 -> 47621000
A35: (3) | B35: 산재보험료 | D35: 1 | E35: 식 | G35: =원가계산서!E12 -> 10571000
A36: (4) | B36: 고용보험료 | D36: 1 | E36: 식 | G36: =원가계산서!E13 -> 2999000
A37: (5) | B37: 건강보험료 | D37: 1 | E37: 식 | G37: =원가계산서!E14 -> 8963000
A38: (6) | B38: 연금보험료 | D38: 1 | E38: 식 | G38: =원가계산서!E15 -> 11842000
A39: (7) | B39: 노인장기요양보험료 | D39: 1 | E39: 식 | G39: =원가계산서!E16 -> 1177000
A40: (8) | B40: 건설기계대여금보증서발급금액 | D40: 1 | E40: 식 | G40: =원가계산서!E17 -> 333000
A41: (9) | B41: 산업안전보건관리비 | D41: 1 | E41: 식 | G41: =원가계산서!E18 -> 8799000
A42: (10) | B42: 기타경비 | D42: 1 | E42: 식 | G42: =원가계산서!E19 -> 17983000
A43: (11) | B43: 환경보전비 | D43: 1 | E43: 식 | G43: =원가계산서!E20 -> 2998000
A44: (12) | B44: 퇴직공제부금비 | D44: 1 | E44: 식 | G44: =원가계산서!E21 -> 5734000
A45: 나. | B45: 일반관리비 | D45: 1 | E45: 식 | G45: =원가계산서!E22 -> 30464000
A46: 다. | B46: 이 윤 | D46: 1 | E46: 식 | G46: =원가계산서!E23 -> 57185812
A47: Ⅱ | B47: 부가가치세 | G47: =원가계산서!E24 -> 53985000

Sheet 설계내역서
A1: ="□ "&표지2!A5 -> □ 계룡-세종권역 국도제설 및 결빙제거작업
A2: 공 종 | C2: 규 격 | D2: 수 량 | E2: 단위 | F2: 합 계 | H2: 재료비 | J2: 노 무 비 | L2: 경 비 | N2: 비 고
F3: 단 가 | G3: 금 액 | H3: 단 가 | I3: 금 액 | J3: 단 가 | K3: 금 액 | L3: 단 가 | M3: 금 액
A4: (1) | B4: 직접공사비 | F4: 0 | G4: =G5+G11+G17+G23+G30+G28 -> 333180188 | H4: 0 | I4: =I5+I11+I17+I23+I30+I28 -> 30022635 | J4: 0 | K4: =K5+K11+K17+K23+K30+K28 -> 249325912 | L4: 0 | M4: =M5+M11+M17+M23+M30+M28 -> 53831641 | P4: E5_1 | Q4: E7_1 | AC4: =M4+I4+K4 -> 333180188
A5: 1 | B5: 제설 및 결빙제거작업 | C5: 주간 | F5: 0 | G5: =K5+M5+I5 -> 57221770 | H5: 0 | I5: =SUM(I6:I10) -> 13926864 | J5: 0 | K5: =SUM(K6:K10) -> 34179594 | L5: 0 | M5: =SUM(M6:M10) -> 9115312 | P5: E4_1 | Q5: E5_1 | AG5: 대기 노무비 제거 | AH5: 투입장비 | AI5: 덤프 | AJ5: =요약서!G6 -> 4 | AK5: 대
A6: =A5+0.01 -> 1.01 | B6: 덤프+제설기+살포기+염수 | C6: 사용(인부1명)/덤프1대 | D6: =요약서!G10 -> 11 | E6: 일 | F6: =J6+L6+H6 -> 1089266 | G6: =K6+M6+I6 -> 11981926 | H6: =INT('15t 덤프'!D23) -> 279096 | I6: =ROUNDDOWN(H6*D6,0) -> 3070056 | J6: =INT('15t 덤프'!E23) -> 644898 | K6: =ROUNDDOWN(J6*D6,0) -> 7093878 | L6: =INT('15t 덤프'!F23) -> 165272 | M6: =ROUNDDOWN(L6*D6,0) -> 1817992 | P6: E3_1 | Q6: E4_1 | AG6: 1 | AI6: 굴삭기 | AJ6: =요약서!G7 -> 1 | AK6: 대
A7: =A6+0.01 -> 1.02 | B7: 덤프+제설기+살포기+염수 | C7: 사용(인부1명)/덤프1대 | D7: =IF($AJ$5>=2,$D$6) -> 11 | E7: 일 | F7: =J7+L7+H7 -> 1089266 | G7: =K7+M7+I7 -> 11981926 | H7: =IF($AJ$5>=2,H$6,FALSE) -> 279096 | I7: =ROUNDDOWN(H7*D7,0) -> 3070056 | J7: =IF($AJ$5>=2,J$6,FALSE) -> 644898 | K7: =ROUNDDOWN(J7*D7,0) -> 7093878 | L7: =IF($AJ$5>=2,L$6,FALSE) -> 165272 | M7: =ROUNDDOWN(L7*D7,0) -> 1817992 | AI7: 순찰 | AJ7: =요약서!G8 -> 1 | AK7: 대
A8: =A7+0.01 -> 1.03 | B8: 덤프+제설기+살포기+염수 | C8: 사용(인부1명)/덤프1대 | D8: =D6 -> 11 | E8: 일 | F8: =J8+L8+H8 -> 1089266 | G8: =K8+M8+I8 -> 11981926 | H8: =IF($AJ$5>=3,H$6,FALSE) -> 279096 | I8: =ROUNDDOWN(H8*D8,0) -> 3070056 | J8: =IF($AJ$5>=3,J$6,FALSE) -> 644898 | K8: =ROUNDDOWN(J8*D8,0) -> 7093878 | L8: =IF($AJ$5>=3,L$6,FALSE) -> 165272 | M8: =ROUNDDOWN(L8*D8,0) -> 1817992
A9: =A8+0.01 -> 1.04 | B9: 덤프+제설기+살포기+염수 | C9: 사용(인부1명)/덤프1대 | D9: =D7 -> 11 | E9: 일 | F9: =J9+L9+H9 -> 1089266 | G9: =K9+M9+I9 -> 11981926 | H9: =IF($AJ$5>=3,H$6,FALSE) -> 279096 | I9: =ROUNDDOWN(H9*D9,0) -> 3070056 | J9: =IF($AJ$5>=3,J$6,FALSE) -> 644898 | K9: =ROUNDDOWN(J9*D9,0) -> 7093878 | L9: =IF($AJ$5>=3,L$6,FALSE) -> 165272 | M9: =ROUNDDOWN(L9*D9,0) -> 1817992
A10: =A9+0.01 -> 1.05 | B10: 굴삭기 | C10: 사용(인부1명)/0.6㎡ | D10: 9 | E10: 일 | F10: =J10+L10+H10 -> 1032674 | G10: =K10+M10+I10 -> 9294066 | H10: =IF($AJ$6=0,FALSE,'굴삭기0.6'!D22) -> 182960 | I10: =ROUNDDOWN(H10*D10,0) -> 1646640 | J10: =IF($AJ$6=0,FALSE,'굴삭기0.6'!E22) -> 644898 | K10: =ROUNDDOWN(J10*D10,0) -> 5804082 | L10: =IF($AJ$6=0,FALSE,'굴삭기0.6'!F22) -> 204816 | M10: =ROUNDDOWN(L10*D10,0) -> 1843344
A11: =A5+1 -> 2 | B11: 제설 및 결빙제거작업 | C11: 야간 | G11: =K11+M11+I11 -> 72943531 | I11: =SUM(I12:I16) -> 13926864 | K11: =SUM(K12:K16) -> 49901355 | M11: =SUM(M12:M16) -> 9115312
A12: =A11+0.01 -> 2.01 | B12: 덤프+제설기+살포기+염수 | C12: 사용(인부1명)/덤프1대 | D12: =요약서!G11 -> 11 | E12: 일 | F12: =J12+L12+H12 -> 1385903 | G12: =K12+M12+I12 -> 15244933 | H12: =INT('15t 덤프'!D37) -> 279096 | I12: =ROUNDDOWN(H12*D12,0) -> 3070056 | J12: =INT('15t 덤프'!E37) -> 941535 | K12: =ROUNDDOWN(J12*D12,0) -> 10356885 | L12: =INT('15t 덤프'!F37) -> 165272 | M12: =ROUNDDOWN(L12*D12,0) -> 1817992
A13: =A12+0.01 -> 2.02 | B13: 덤프+제설기+살포기+염수 | C13: 사용(인부1명)/덤프1대 | D13: =D12 -> 11 | E13: 일 | F13: =J13+L13+H13 -> 1385903 | G13: =K13+M13+I13 -> 15244933 | H13: =IF($AJ$5>=2,H$12,FALSE) -> 279096 | I13: =ROUNDDOWN(H13*D13,0) -> 3070056 | J13: =IF($AJ$5>=2,J$12,FALSE) -> 941535 | K13: =ROUNDDOWN(J13*D13,0) -> 10356885 | L13: =IF($AJ$5>=2,L$12,FALSE) -> 165272 | M13: =ROUNDDOWN(L13*D13,0) -> 1817992
A14: =A13+0.01 -> 2.03 | B14: 덤프+제설기+살포기+염수 | C14: 사용(인부1명)/덤프1대 | D14: =D12 -> 11 | E14: 일 | F14: =J14+L14+H14 -> 1385903 | G14: =K14+M14+I14 -> 15244933 | H14: =IF($AJ$5>=3,H$12,FALSE) -> 279096 | I14: =ROUNDDOWN(H14*D14,0) -> 3070056 | J14: =IF($AJ$5>=3,J$12,FALSE) -> 941535 | K14: =ROUNDDOWN(J14*D14,0) -> 10356885 | L14: =IF($AJ$5>=3,L$12,FALSE) -> 165272 | M14: =ROUNDDOWN(L14*D14,0) -> 1817992
A15: =A14+0.01 -> 2.04 | B15: 덤프+제설기+살포기+염수 | C15: 사용(인부1명)/덤프1대 | D15: =D13 -> 11 | E15: 일 | F15: =J15+L15+H15 -> 1385903 | G15: =K15+M15+I15 -> 15244933 | H15: =IF($AJ$5>=3,H$12,FALSE) -> 279096 | I15: =ROUNDDOWN(H15*D15,0) -> 3070056 | J15: =IF($AJ$5>=3,J$12,FALSE) -> 941535 | K15: =ROUNDDOWN(J15*D15,0) -> 10356885 | L15: =IF($AJ$5>=3,L$12,FALSE) -> 165272 | M15: =ROUNDDOWN(L15*D15,0) -> 1817992
A16: =A15+0.01 -> 2.05 | B16: 굴삭기 | C16: 사용(인부1명)/0.6㎡ | D16: 9 | E16: 일 | F16: =J16+L16+H16 -> 1329311 | G16: =K16+M16+I16 -> 11963799 | H16: =IF($AJ$6=0,FALSE,'굴삭기0.6'!D36) -> 182960 | I16: =ROUNDDOWN(H16*D16,0) -> 1646640 | J16: =IF($AJ$6=0,FALSE,'굴삭기0.6'!E36) -> 941535 | K16: =ROUNDDOWN(J16*D16,0) -> 8473815 | L16: =IF($AJ$6=0,FALSE,'굴삭기0.6'!F36) -> 204816 | M16: =ROUNDDOWN(L16*D16,0) -> 1843344
A17: =A11+1 -> 3 | B17: 제설작업 대기 | G17: =K17+M17+I17 -> 148388544 | I17: =SUM(I18:I22) -> 0 | K17: =SUM(K18:K22) -> 114744600 | M17: =SUM(M18:M22) -> 33643944 | P17: E4_1 | Q17: E5_1
A18: =A17+0.01 -> 3.01 | B18: 덤프+제설기+살포기+염수 | C18: 제설기 지원 살포기 지원 | D18: =121-D6-D12 -> 99 | E18: 일 | F18: =J18+L18+H18 -> 365952 | G18: =K18+M18+I18 -> 36229248 | H18: =INT('15t 덤프'!D9) -> 0 | I18: =ROUNDDOWN(H18*D18,0) -> 0 | J18: =INT('15t 덤프'!C6) -> 283320 | K18: =ROUNDDOWN(J18*D18,0) -> 28048680 | L18: =INT('15t 덤프'!F9) -> 82632 | M18: =ROUNDDOWN(L18*D18,0) -> 8180568
A19: =A18+0.01 -> 3.02 | B19: 덤프+제설기+살포기+염수 | C19: 제설기 지원 살포기 지원 | D19: =D18 -> 99 | E19: 일 | F19: =J19+L19+H19 -> 365952 | G19: =K19+M19+I19 -> 36229248 | H19: =IF($AJ$5>=2,H$18,FALSE) -> 0 | I19: =ROUNDDOWN(H19*D19,0) -> 0 | J19: =IF($AJ$5>=2,J$18,FALSE) -> 283320 | K19: =ROUNDDOWN(J19*D19,0) -> 28048680 | L19: =IF($AJ$5>=2,L$18,FALSE) -> 82632 | M19: =ROUNDDOWN(L19*D19,0) -> 8180568
A20: =A19+0.01 -> 3.03 | B20: 덤프+제설기+살포기+염수 | C20: 제설기 지원 살포기 지원 | D20: =D18 -> 99 | E20: 일 | F20: =J20+L20+H20 -> 365952 | G20: =K20+M20+I20 -> 36229248 | H20: =IF($AJ$5>=3,H$18,FALSE) -> 0 | I20: =ROUNDDOWN(H20*D20,0) -> 0 | J20: =IF($AJ$5>=3,J$18,FALSE) -> 283320 | K20: =ROUNDDOWN(J20*D20,0) -> 28048680 | L20: =IF($AJ$5>=3,L$18,FALSE) -> 82632 | M20: =ROUNDDOWN(L20*D20,0) -> 8180568
A21: =A20+0.01 -> 3.04 | B21: 덤프+제설기+살포기+염수 | C21: 제설기 지원 살포기 지원 | D21: =D19 -> 99 | E21: 일 | F21: =J21+L21+H21 -> 365952 | G21: =K21+M21+I21 -> 36229248 | H21: =IF($AJ$5>=3,H$18,FALSE) -> 0 | I21: =ROUNDDOWN(H21*D21,0) -> 0 | J21: =IF($AJ$5>=3,J$18,FALSE) -> 283320 | K21: =ROUNDDOWN(J21*D21,0) -> 28048680 | L21: =IF($AJ$5>=3,L$18,FALSE) -> 82632 | M21: =ROUNDDOWN(L21*D21,0) -> 8180568
A22: =A21+0.01 -> 3.05 | B22: 굴삭기 | C22: 사용(인부1명)/0.6㎡ | D22: 9 | E22: 일 | F22: =J22+L22+H22 -> 385728 | G22: =K22+M22+I22 -> 3471552 | H22: =IF($AJ$6=0,FALSE,'굴삭기0.6'!D10) -> 0 | I22: =ROUNDDOWN(H22*D22,0) -> 0 | J22: =IF($AJ$6=0,FALSE,'굴삭기0.6'!E10) -> 283320 | K22: =ROUNDDOWN(J22*D22,0) -> 2549880 | L22: =IF($AJ$6=0,FALSE,'굴삭기0.6'!F10) -> 102408 | M22: =ROUNDDOWN(L22*D22,0) -> 921672
A23: =A17+1 -> 4 | B23: 정비점검 | F23: 0 | G23: =K23+M23+I23 -> 18132480 | H23: 0 | I23: =SUM(I24:I26) -> 0 | J23: 0 | K23: =SUM(K24:K27) -> 18132480 | L23: 0 | M23: =SUM(M24:M26) -> 0 | P23: E4_1 | Q23: E5_1
A24: =A23+0.01 -> 4.01 | B24: 덤프+제설기+살포기+염수 | C24: 월4회 | D24: 4 | E24: 월 | F24: =J24+L24+H24 -> 1133280 | G24: =K24+M24+I24 -> 4533120 | H24: =점검단가!F7 -> 0 | I24: =ROUNDDOWN(H24*D24,0) -> 0 | J24: =INT(점검단가!E7) -> 1133280 | K24: =ROUNDDOWN(J24*D24,0) -> 4533120 | L24: =점검단가!D7 -> 0 | M24: =ROUNDDOWN(L24*D24,0) -> 0
A25: =A24+0.01 -> 4.02 | B25: 덤프+제설기+살포기+염수 | C25: 월4회 | D25: 4 | E25: 월 | F25: =J25+L25+H25 -> 1133280 | G25: =K25+M25+I25 -> 4533120 | H25: =IF($AJ$5>=2,H$24,FALSE) -> 0 | I25: =ROUNDDOWN(H25*D25,0) -> 0 | J25: =IF($AJ$5>=2,J$24,FALSE) -> 1133280 | K25: =ROUNDDOWN(J25*D25,0) -> 4533120 | L25: =IF($AJ$5>=2,L$24,FALSE) -> 0 | M25: =ROUNDDOWN(L25*D25,0) -> 0
A26: =A25+0.01 -> 4.03 | B26: 덤프+제설기+살포기+염수 | C26: 월4회 | D26: 4 | E26: 월 | F26: =J26+L26+H26 -> 1133280 | G26: =K26+M26+I26 -> 4533120 | H26: =IF($AJ$5>=3,H$24,FALSE) -> 0 | I26: =ROUNDDOWN(H26*D26,0) -> 0 | J26: =IF($AJ$5>=3,J$24,FALSE) -> 1133280 | K26: =ROUNDDOWN(J26*D26,0) -> 4533120 | L26: =IF($AJ$5>=3,L$24,FALSE) -> 0 | M26: =ROUNDDOWN(L26*D26,0) -> 0
A27: =A26+0.01 -> 4.04 | B27: 덤프+제설기+살포기+염수 | C27: 월4회 | D27: 4 | E27: 월 | F27: =J27+L27+H27 -> 1133280 | G27: =K27+M27+I27 -> 4533120 | H27: =IF($AJ$5>=3,H$24,FALSE) -> 0 | I27: =ROUNDDOWN(H27*D27,0) -> 0 | J27: =IF($AJ$5>=3,J$24,FALSE) -> 1133280 | K27: =ROUNDDOWN(J27*D27,0) -> 4533120 | L27: =IF($AJ$5>=3,L$24,FALSE) -> 0 | M27: =ROUNDDOWN(L27*D27,0) -> 0
A28: =A23+1 -> 5 | B28: 제설자재 운반작업 | F28: 0 | G28: =K28+M28+I28 -> 916568 | H28: 0 | I28: =I29 -> 279096 | J28: 0 | K28: =K29 -> 472200 | L28: 0 | M28: =M29 -> 165272
A29: =A28+0.01 -> 5.01 | B29: 덤프운반 | C29: 15ton(1대) | D29: 1 | E29: 일 | F29: =J29+L29+H29 -> 916568 | G29: =K29+M29+I29 -> 916568 | H29: =INT(운반!D10) -> 279096 | I29: =ROUNDDOWN(H29*D29,0) -> 279096 | J29: =INT(운반!E10) -> 472200 | K29: =ROUNDDOWN(J29*D29,0) -> 472200 | L29: =INT(운반!F10) -> 165272 | M29: =ROUNDDOWN(L29*D29,0) -> 165272
A30: =A28+1 -> 6 | B30: 도로순찰 | F30: 0 | G30: =K30+M30+I30 -> 35577295 | H30: 0 | I30: =I31 -> 1889811 | J30: 0 | K30: =K31 -> 31895683 | L30: 0 | M30: =M31 -> 1791801
A31: =A30+0.01 -> 6.01 | B31: 도로순찰 | C31: 2.5ton(1대) | D31: =TRUNC((121-D6-D12)*3,0) -> 297 | E31: 시간 | F31: =J31+L31+H31 -> 119788.88 | G31: =K31+M31+I31 -> 35577295 | H31: =순찰!D15 -> 6363 | I31: =ROUNDDOWN(H31*D31,0) -> 1889811 | J31: =순찰!E15 -> 107392.88 | K31: =ROUNDDOWN(J31*D31,0) -> 31895683 | L31: =순찰!F15 -> 6033 | M31: =ROUNDDOWN(L31*D31,0) -> 1791801

Sheet 수량산출서
A1: 수 량 산 출 서
A3: 공 종 | B3: 산 출 근 거 | F3: 비 고
A4: =요약서!G3&"권역" -> 계룡-세종권역 | B4: ="1. 제설기간 : "&LEFT(요약서!B9,FIND(CHAR(10),요약서!B9)-1) -> 1. 제설기간 : 2026.11.15. ~ 2027.03.25. (131일간) (전체)
B7: 2. 제설작업 지역 : 설계설명서(나. 과업의 개요) 참조
B9: 3. 제설용 투입 장비
B10: =" 제설삽날(15톤용, 상,하,좌,우 조작가능 한것) : "&요약서!G6&"대 (관 지원 : "&요약서!G6&"대)" -> 제설삽날(15톤용, 상,하,좌,우 조작가능 한것) : 4대 (관 지원 : 4대) | F10: 15톤덤프(주간작업) : 1일/8시간 x 88시간(추정시간) = 11일
B11: =" 살포기 : "&요약서!G6&"대 (관 지원 : "&요약서!G6&"대)" -> 살포기 : 4대 (관 지원 : 4대) | F11: 15톤덤프(야간작업) : 1일/8시간 x 88시간(추정시간) = 11일
B12: =" 15톤 덤프(제설, 운반) : "&요약서!G6&"대 " -> 15톤 덤프(제설, 운반) : 4대 | F12: 15톤덤프(대기) : 1일/8시간 x 792시간(추정시간) = 99일
B13: =IF(요약서!G7=0,""," 굴삭기(0.6 m3) : "&요약서!G7&" 대") -> 굴삭기(0.6 m3) : 1 대 | F13: 0.6㎥굴삭기(주간작업) : 1일/8시간 x 72시간(추정시간) = 9일
B14: =" 제설인부 : "&(요약서!G6+요약서!G7)*2&"명(작업원 "&(요약서!G6+요약서!G7)&"명, 조종원 "&(요약서!G6+요약서!G7)&"명)" -> 제설인부 : 10명(작업원 5명, 조종원 5명) | F14: 0.6㎥굴삭기(야간작업) : 1일/8시간 x 72시간(추정시간) = 9일
B15: =IF(요약서!G6=0,""," 2.5톤 덤프 : "&요약서!G8&" 대") -> 2.5톤 덤프 : 1 대 | F15: 0.6㎥굴삭기(대기) : 1일/8시간 x 72시간(추정시간) = 9일
B16: =" 순찰인부 : "&요약서!G8*2&"명(작업원 "&요약서!G8&"명, 조종원 "&요약서!G8&"명)" -> 순찰인부 : 2명(작업원 1명, 조종원 1명) | F16: 15톤덤프(운반) : 1일/8시간 x 8시간(추정시간) = 1일
B18: 4. 제설자재(염화물수용액, 염화칼슘, 모래)는 우리소에서 지급하고
B19: 사용량에 따라 부족분은 추후에 추가 지급한다.

Sheet 15t 덤프
A1: 공 종 | B1: 산 출 근 거 | D1: 재료비 | E1: 노무비 | F1: 경 비
A3: 덤프트럭 | B3: 15톤덤프 제설작업용(제설기, 살포기 지원)
A4: (대기료) | B4: 1. 덤프대기료 | K4: 보통인부노임
A5: (원/일) | B5: =" 재료비 "&REPT(" ",7-LEN(I5))&I5&" * 8시간 * 1.00=" -> 재료비 0 * 8시간 * 1.00= | C5: =기계경비!N14*8 -> 0 | D5: =C5 -> 0 | G5: 재료비 | H5: =기계경비!N14 -> 0 | I5: =TEXT(H5,"###,###,##0") -> 0 | K5: =노임단가!C4 -> 172698
B6: =" 노무비 "&REPT(" ",7-LEN(I6))&I6&" * 8시간 * 1.00=" -> 노무비 35,415 * 8시간 * 1.00= | C6: =기계경비!O14*8 -> 283320 | E6: =C6*설계내역서!AG6 -> 283320 | G6: 노무비 | H6: =기계경비!O14 -> 35415 | I6: =TEXT(H6,"###,###,##0") -> 35,415
B7: =" 경 비 "&REPT(" ",7-LEN(I7))&I7&" * 8시간 * 1.00=" -> 경 비 10,329 * 8시간 * 1.00= | C7: =기계경비!P14*8 -> 82632 | F7: =C7 -> 82632 | G7: 경 비 | H7: =기계경비!P14 -> 10329 | I7: =TEXT(H7,"###,###,##0") -> 10,329
B9: 계 | C9: =SUM(D9:F9) -> 365952 | D9: =SUM(D5:D8) -> 0 | E9: =SUM(E5:E8) -> 283320 | F9: =SUM(F5:F8) -> 82632
A12: 덤프트럭 | B12: =B3 -> 15톤덤프 제설작업용(제설기, 살포기 지원)
A13: (사용료) | B13: 1. 덤프사용료 (1일 8시간 기준)
A14: (원/일) | B14: =" 재료비 "&REPT(" ",7-LEN(I14))&I14&" * 8시간 * 1.00=" -> 재료비 34,887 * 8시간 * 1.00= | C14: =기계경비!N19*8 -> 279096 | D14: =C14 -> 279096 | G14: 재료비 | H14: =기계경비!N19 -> 34887 | I14: =TEXT(H14,"###,###,##0") -> 34,887
A15: 주간작업시 | B15: =" 노무비 "&REPT(" ",7-LEN(I15))&I15&" * 8시간 * 1.00=" -> 노무비 59,025 * 8시간 * 1.00= | C15: =기계경비!O19*8 -> 472200 | E15: =C15 -> 472200 | G15: 노무비 | H15: =기계경비!O19 -> 59025 | I15: =TEXT(H15,"###,###,##0") -> 59,025
B16: =" 경 비 "&REPT(" ",7-LEN(I16))&I16&" * 8시간 * 1.00=" -> 경 비 20,659 * 8시간 * 1.00= | C16: =기계경비!P19*8 -> 165272 | F16: =C16 -> 165272 | G16: 경 비 | H16: =기계경비!P19 -> 20659 | I16: =TEXT(H16,"###,###,##0") -> 20,659
B18: 2. 제설인원 (15톤 덤프1대당 1인) : 주간작업시
B19: 제설인원 (15톤 덤프1대당 1인)
B20: 보통인부 : 1 인 / 일
B21: =" "&TEXT(K5,"###,###,##0")&" * 1(인) * 1.00 = " -> 172,698 * 1(인) * 1.00 = | C21: =K5*1*1 -> 172698 | E21: =C21 -> 172698
B23: 계 | C23: =SUM(D23:F23) -> 1089266 | D23: =SUM(D14:D22) -> 279096 | E23: =SUM(E14:E22) -> 644898 | F23: =SUM(F14:F22) -> 165272
A25: 덤프트럭 | B25: =B12 -> 15톤덤프 제설작업용(제설기, 살포기 지원)
A26: (사용료) | B26: 1. 덤프사용료 (1일 야간 8시간 기준, 야간작업시 운전자 할증50%)
A27: (원/일) | B27: =" 재료비 "&REPT(" ",7-LEN(I14))&I14&" * 8시간 * 1.00=" -> 재료비 34,887 * 8시간 * 1.00= | C27: =기계경비!N19*8*1 -> 279096 | D27: =C27 -> 279096
A28: 야간작업시 | B28: =" 노무비 "&REPT(" ",7-LEN(I15))&I15&" * 8시간 * 1.00*1.5=" -> 노무비 59,025 * 8시간 * 1.00*1.5= | C28: 682488 | E28: =C28 -> 682488
B29: =" 경 비 "&REPT(" ",7-LEN(I16))&I16&" * 8시간 * 1.00=" -> 경 비 20,659 * 8시간 * 1.00= | C29: =기계경비!P19*8 -> 165272 | F29: =C29 -> 165272
B31: 3. 제설인원 (15톤 덤프1대당 1인) : 야간작업시
B32: (야간,휴일,춥고차가운장소에서 행하는 작업 할증50%)
B33: 제설인원 (15톤 덤프1대당 1인)
B34: 보통인부 : 1 인 / 일
B35: =" "&TEXT(K5,"###,###,##0")&" * 1(인) * 1.50 = " -> 172,698 * 1(인) * 1.50 = | C35: =K5*1*1.5 -> 259047 | E35: =C35 -> 259047
B37: 계 | C37: =SUM(D37:F37) -> 1385903 | D37: =SUM(D27:D36) -> 279096 | E37: =SUM(E27:E36) -> 941535 | F37: =SUM(F27:F36) -> 165272

Sheet 굴삭기0.6
A1: 공 종 | B1: 산 출 근 거 | D1: 재료비 | E1: 노무비 | F1: 경 비
A3: 굴삭기 | B3: 굴삭기(타이어, 0.6㎥) 제설자재 상차 및 결빙제거용
A4: (대기료) | B4: 1. 굴삭기 (0.6㎥) 사용료 (원/일 1대기준) | K4: 보통인부노임
A5: (1일) | B5: =" 재료비 "&REPT(" ",7-LEN(I5))&I5&" * 8시간 * 1.00=" -> 재료비 0 * 8시간 * 1.00= | C5: =기계경비!N4*8*1 -> 0 | D5: =C5 -> 0 | G5: 재료비 | H5: =기계경비!N4 -> 0 | I5: =TEXT(H5,"###,###,##0") -> 0 | K5: =노임단가!C4 -> 172698
B6: =" 노무비 "&REPT(" ",7-LEN(I6))&I6&" * 8시간 * 1.00=" -> 노무비 35,415 * 8시간 * 1.00= | C6: =기계경비!O4*8 -> 283320 | E6: =C6*설계내역서!AG6 -> 283320 | G6: 노무비 | H6: =기계경비!O4 -> 35415 | I6: =TEXT(H6,"###,###,##0") -> 35,415
B7: =" 경 비 "&REPT(" ",7-LEN(I7))&I7&" * 8시간 * 1.00=" -> 경 비 12,801 * 8시간 * 1.00= | C7: =H7*8*1 -> 102408 | F7: =C7 -> 102408 | G7: 경 비 | H7: =기계경비!P4 -> 12801 | I7: =TEXT(H7,"###,###,##0") -> 12,801
B10: 계 | C10: =SUM(D10:F10) -> 385728 | D10: =SUM(D5:D9) -> 0 | E10: =SUM(E5:E9) -> 283320 | F10: =SUM(F5:F9) -> 102408
A12: 굴삭기 | B12: 굴삭기(타이어, 0.6㎥) 제설자재 상차 및 결빙제거용
A13: (사용료) | B13: 1. 굴삭기(0.6 ㎥) 사용료 (1일 8시간 기준)
A14: (원/일) | B14: =" 재료비 "&REPT(" ",7-LEN(I14))&I14&" * 8시간 * 1.00=" -> 재료비 22,870 * 8시간 * 1.00= | C14: =기계경비!N9*8*1 -> 182960 | D14: =C14 -> 182960 | G14: 재료비 | H14: =기계경비!N9 -> 22870 | I14: =TEXT(H14,"###,###,##0") -> 22,870
A15: 주간작업시 | B15: =" 노무비 "&REPT(" ",7-LEN(I15))&I15&" * 8시간 * 1.00=" -> 노무비 59,025 * 8시간 * 1.00= | C15: =기계경비!O9*8 -> 472200 | E15: =C15 -> 472200 | G15: 노무비 | H15: =기계경비!O9 -> 59025 | I15: =TEXT(H15,"###,###,##0") -> 59,025
B16: =" 경 비 "&REPT(" ",7-LEN(I16))&I16&" * 8시간 * 1.00=" -> 경 비 25,602 * 8시간 * 1.00= | C16: =기계경비!P9*8 -> 204816 | F16: =C16 -> 204816 | G16: 경 비 | H16: =기계경비!P9 -> 25602 | I16: =TEXT(H16,"###,###,##0") -> 25,602
B18: 2. 제설인원 (굴삭기 1대당 1인) : 주간작업시
B19: 제설인원 (굴삭기 1대당 1인)
B20: 보통인부 : 1 인 / 일
B21: =" "&TEXT(K5,"###,###,##0")&" * 1(인) * 1.00 = " -> 172,698 * 1(인) * 1.00 = | C21: =ROUNDDOWN(K5*1*1,0) -> 172698 | E21: =C21 -> 172698
B22: 계 | C22: =SUM(D22:F22) -> 1032674 | D22: =SUM(D14:D21) -> 182960 | E22: =SUM(E14:E21) -> 644898 | F22: =SUM(F14:F21) -> 204816
A25: 굴삭기 | B25: 굴삭기(타이어, 0.6㎥) 제설자재 상차 및 결빙제거용
A26: (사용료) | B26: 1. 굴삭기(0.6 ㎥) 사용료 (1일 8시간 기준, 야간작업시 운전자 할증50%)
A27: (원/일) | B27: =" 재료비 "&REPT(" ",7-LEN(I14))&I14&" * 8시간 * 1.00=" -> 재료비 22,870 * 8시간 * 1.00= | C27: =기계경비!N9*8*1*1 -> 182960 | D27: =C27 -> 182960
A28: 야간작업시 | B28: =" 노무비 "&REPT(" ",7-LEN(I15))&I15&" * 8시간 * 1.00*1.5=" -> 노무비 59,025 * 8시간 * 1.00*1.5= | C28: 682488 | E28: =C28 -> 682488
B29: =" 경 비 "&REPT(" ",7-LEN(I16))&I16&" * 8시간 * 1.00=" -> 경 비 25,602 * 8시간 * 1.00= | C29: =기계경비!P9*8*1 -> 204816 | F29: =C29 -> 204816
B31: 2. 제설인원 (굴삭기 1대당 1인) : 야간작업시
B32: (야간,휴일,춥고차가운장소에서 행하는 작업 할증50%)
B33: 제설인원 (굴삭기 1대당 1인)
B34: 보통인부 : 1 인 / 일
B35: =" "&TEXT(K5,"###,###,##0")&" * 1(인) * 1.50 = " -> 172,698 * 1(인) * 1.50 = | C35: =ROUNDDOWN(K5*1*1.5,) -> 259047 | E35: =INT(C35) -> 259047
B36: 계 | C36: =SUM(D36:F36) -> 1329311 | D36: =SUM(D27:D35) -> 182960 | E36: =SUM(E27:E35) -> 941535 | F36: =SUM(F27:F35) -> 204816

Sheet 점검단가
A1: 공 종 | B1: 산 출 근 거 | D1: 재료비 | E1: 노무비 | F1: 경비
A3: 덤프트럭 | B3: 15톤덤프 제설작업용
A4: (정비점검) | B4: 1. 정비및점검(4회/월)
A5: (원/월) | B5: =" 노무비 "&TEXT(G5,"###,###,##0")&" * 8시간 * 4회 =" -> 노무비 35,415 * 8시간 * 4회 = | C5: =기계경비!O14*8*4 -> 1133280 | E5: =C5 -> 1133280 | G5: =기계경비!O14 -> 35415
B7: 계 | C7: =SUM(D7:F7) -> 1133280 | D7: =D5 -> 0 | E7: =E5 -> 1133280 | F7: =F5 -> 0

Sheet 순찰
A1: 공 종 | B1: 산 출 근 거 | D1: 재료비 | E1: 노무비 | F1: 경비
A3: 도로순찰 | B3: 도로순찰
A4: 원/시 | B4: (야간, 주말, 원거리, 분산작업 등을 고려 할증 50%) | K4: 보통인부노임
B5: 1. 트럭사용료 (1일 8시간 기준) | K5: =노임단가!C4 -> 172698
B6: =" 재료비 "&REPT(" ",7-LEN(I6))&I6&" * 8시간 * 1.00=" -> 재료비 6,363 * 8시간 * 1.00= | C6: =H6*1*1 -> 6363 | D6: =C6 -> 6363 | G6: 재료비 | H6: =기계경비!N29 -> 6363 | I6: =TEXT(H6,"###,###,##0") -> 6,363
B7: =" 노무비 "&REPT(" ",7-LEN(I7))&I7&" * 8시간 * 1.50=" -> 노무비 50,008 * 8시간 * 1.50= | C7: =H7*1*1.5 -> 75012 | E7: =C7 -> 75012 | G7: 노무비 | H7: =기계경비!O29 -> 50008 | I7: =TEXT(H7,"###,###,##0") -> 50,008
B8: =" 경 비 "&REPT(" ",7-LEN(I8))&I8&" * 8시간 * 1.00=" -> 경 비 6,033 * 8시간 * 1.00= | C8: =H8*1*1 -> 6033 | F8: =C8 -> 6033 | G8: 경비 | H8: =기계경비!P29 -> 6033 | I8: =TEXT(H8,"###,###,##0") -> 6,033
B10: 2. 순찰인원 (2.5톤트럭 1대당 1인)
B11: 순찰인원 (2.5톤트럭 1대당 1인)
B12: 보통인부 : 1 인 / 시간
B13: =" "&TEXT(K5,"###,###,##0")&" * 1(인) / 8시간 * 1.50=" -> 172,698 * 1(인) / 8시간 * 1.50= | C13: =K5*1/8*1.5 -> 32380.875 | E13: =C13 -> 32380.875
B15: 소 계 | C15: =SUM(D15:F15) -> 119788.88 | D15: =SUM(D6:D14) -> 6363 | E15: =SUM(E6:E14) -> 107392.88 | F15: =SUM(F6:F14) -> 6033

Sheet 운반
A1: 공 종 | B1: 산 출 근 거 | D1: 재료비 | E1: 노무비 | F1: 경 비
A3: 덤프트럭 | B3: 15톤덤프 제설재 운반 작업용
A4: 원/일 | B4: 1. 덤프사용료 (1일 8시간 기준)
B5: =" 재료비 "&REPT(" ",7-LEN(I5))&I5&" * 8시간 * 1.00=" -> 재료비 34,887 * 8시간 * 1.00= | C5: =H5*8 -> 279096 | D5: =C5 -> 279096 | G5: 재료비 | H5: =기계경비!N24 -> 34887 | I5: =TEXT(H5,"###,###,##0") -> 34,887
B6: =" 노무비 "&REPT(" ",7-LEN(I6))&I6&" * 8시간 * 1.00=" -> 노무비 59,025 * 8시간 * 1.00= | C6: =H6*8 -> 472200 | E6: =C6 -> 472200 | G6: 노무비 | H6: =기계경비!O24 -> 59025 | I6: =TEXT(H6,"###,###,##0") -> 59,025
B7: =" 경 비 "&REPT(" ",7-LEN(I7))&I7&" * 8시간 * 1.00=" -> 경 비 20,659 * 8시간 * 1.00= | C7: =H7*8 -> 165272 | F7: =C7 -> 165272 | G7: 경비 | H7: =기계경비!P24 -> 20659 | I7: =TEXT(H7,"###,###,##0") -> 20,659
B10: 계 | C10: =SUM(D10:F10) -> 916568 | D10: =SUM(D5:D8) -> 279096 | E10: =SUM(E5:E8) -> 472200 | F10: =SUM(F5:F8) -> 165272

Sheet 기계경비
A3: 산 출 근 거 | M3: 합 계 | N3: 재료비 | O3: 노무비 | P3: 경 비 | Q3: 비 고
A4: 1.굴삭기(타이어형)0.6㎥ (대기) | M4: =SUM(N4:P4) -> 48216 | N4: =SUM(N5:N8) -> 0 | O4: =SUM(O5:O8) -> 35415 | P4: =SUM(P5:P8) -> 12801 | R4: 상각비 | S4: 정비비 | T4: 관리비
A5: 손 료 | B5: =전체입력표!C10 -> 112342000 | C5: ￦ × | D5: =S6+T6+R6 -> 2279 | E5: × | F5: =POWER(10,-7) -> 1e-07 | G5: x | H5: 0.5 | M5: =SUM(N5:P5) -> 12801 | P5: =INT(B5*D5*F5*H5) -> 12801 | Q5: 상긱비 900 정비비 700 관리비 679 | R5: 900 | S5: 700 | T5: 679 | U5: 덤프(15t)
A6: 주연료 | B6: 경유 | D6: 0 | E6: ℓ × | F6: =자재단가!R5 -> 1590 | M6: =SUM(N6:P6) -> 0 | N6: =D6*F6*0 -> 0 | R6: 900 | S6: 700 | T6: 679 | U6: 굴삭기
A7: 잡 품 | B7: 주연료의 | D7: 24 | E7: % × | F7: =N6 -> 0 | M7: =SUM(N7:P7) -> 0 | N7: =INT(D7*0.01*F7) -> 0
A8: 건설기계운전기사 | D8: 1 | E8: 인 × | F8: =노임단가!C5 -> 283323 | M8: =SUM(N8:P8) -> 35415 | O8: =INT((F8/8)) -> 35415 | Q8: 순수노무비
A9: 2.굴삭기(타이어형)0.6㎥ (사용) | M9: =O9+P9+N9 -> 107497 | N9: =SUM(N10:N13) -> 22870 | O9: =SUM(O10:O13) -> 59025 | P9: =SUM(P10:P13) -> 25602
A10: 손 료 | B10: =B5 -> 112342000 | C10: ￦ × | D10: =R6+S6+T6 -> 2279 | E10: × | F10: =POWER(10,-7) -> 1e-07 | M10: =SUM(N10:P10) -> 25602 | P10: =INT(B10*D10*F10) -> 25602 | Q10: 상긱비 900 정비비 700 관리비 679
A11: 주연료 | B11: 경유 | D11: 11.6 | E11: ℓ × | F11: =F6 -> 1590 | M11: =SUM(N11:P11) -> 18444 | N11: =INT(D11*F11) -> 18444
A12: 잡 품 | B12: 주연료의 | D12: 24 | E12: % × | F12: =N11 -> 18444 | M12: =SUM(N12:P12) -> 4426 | N12: =INT(D12*0.01*F12) -> 4426
A13: 건설기계운전기사 | D13: 1 | E13: 인 × | F13: =F8 -> 283323 | G13: ×1/8*16/12*25/20 | M13: =SUM(N13:P13) -> 59025 | O13: =INT(F13/8*16/12*25/20) -> 59025 | Q13: 순수노무비
A14: 3.덤프트럭15Ton(대기) | M14: =O14+P14+N14 -> 45744 | N14: =SUM(N15:N18) -> 0 | O14: =SUM(O15:O18) -> 35415 | P14: =SUM(P15:P18) -> 10329
A15: 손 료 | B15: =전체입력표!C11 -> 90653000 | C15: ￦ × | D15: =R5+S5+T5 -> 2279 | E15: × | F15: =POWER(10,-7) -> 1e-07 | G15: x | H15: 0.5 | M15: =SUM(N15:P15) -> 10329 | P15: =INT(B15*D15*F15*H15) -> 10329 | Q15: 상긱비 900 정비비 700 관리비 679
A16: 주연료 | B16: . | D16: 0 | E16: ℓ × | F16: =F11 -> 1590 | M16: =SUM(N16:P16) -> 0 | N16: =D16*F16*0 -> 0
A17: 잡 품 | B17: 주연료의 | D17: 38 | E17: % × | F17: 0 | M17: =SUM(N17:P17) -> 0 | N17: =INT(D17*0.01*F17) -> 0
A18: 건설기계운전기사 | D18: 1 | E18: 인 × | F18: =F13 -> 283323 | G18: ×1/8 | M18: =SUM(N18:P18) -> 35415 | O18: =INT((F18/8)) -> 35415 | Q18: 순수노무비
A19: 4.덤프트럭15Ton(사용) | M19: =O19+P19+N19 -> 114571 | N19: =SUM(N20:N23) -> 34887 | O19: =SUM(O20:O23) -> 59025 | P19: =SUM(P20:P23) -> 20659
A20: 손 료 | B20: =B15 -> 90653000 | C20: ￦ × | D20: =R5+S5+T5 -> 2279 | E20: × | F20: =POWER(10,-7) -> 1e-07 | M20: =SUM(N20:P20) -> 20659 | P20: =INT(B20*D20*F20) -> 20659 | Q20: 상긱비 900 정비비 700 관리비 679
A21: 주연료 | B21: 경유 | D21: 15.9 | E21: ℓ × | F21: =F16 -> 1590 | M21: =SUM(N21:P21) -> 25281 | N21: =INT(D21*F21) -> 25281
A22: 잡 품 | B22: 주연료의 | D22: 38 | E22: % × | F22: =N21 -> 25281 | M22: =SUM(N22:P22) -> 9606 | N22: =INT(D22*0.01*F22) -> 9606
A23: 건설기계운전기사 | D23: 1 | E23: 인 × | F23: =F18 -> 283323 | G23: ×1/8*16/12*25/20 | M23: =SUM(N23:P23) -> 59025 | O23: =INT(F23/8*16/12*25/20) -> 59025 | Q23: 순수노무비
A24: 5.덤프트럭15Ton(운반) | M24: =O24+P24+N24 -> 114571 | N24: =SUM(N25:N28) -> 34887 | O24: =SUM(O25:O28) -> 59025 | P24: =SUM(P25:P28) -> 20659
A25: 손 료 | B25: =B20 -> 90653000 | C25: ￦ × | D25: =R5+S5+T5 -> 2279 | E25: × | F25: =POWER(10,-7) -> 1e-07 | M25: =SUM(N25:P25) -> 20659 | P25: =INT(B25*D25*F25) -> 20659 | Q25: 상각비 900 정비비 700 관리비 679
A26: 주연료 | B26: 경유 | D26: 15.9 | E26: ℓ × | F26: =F21 -> 1590 | M26: =SUM(N26:P26) -> 25281 | N26: =INT(D26*F26) -> 25281
A27: 잡 품 | B27: 주연료의 | D27: 38 | E27: % × | F27: =N26 -> 25281 | M27: =SUM(N27:P27) -> 9606 | N27: =INT(D27*0.01*F27) -> 9606
A28: 건설기계운전기사 | D28: 1 | E28: 인 × | F28: =F23 -> 283323 | G28: ×1/8*16/12*25/20 | M28: =SUM(N28:P28) -> 59025 | O28: =INT(F28/8*16/12*25/20) -> 59025 | Q28: 순수노무비
A29: 6.덤프트럭2.5Ton(순찰) | M29: =O29+P29+N29 -> 62404 | N29: =SUM(N30:N33) -> 6363 | O29: =SUM(O30:O33) -> 50008 | P29: =SUM(P30:P33) -> 6033 | R29: 상각비 | S29: 정비비 | T29: 관리비
A30: 손 료 | B30: 20334000 | C30: ￦ × | D30: =R30+S30+T30 -> 2967 | E30: × | F30: =POWER(10,-7) -> 1e-07 | M30: =SUM(N30:P30) -> 6033 | P30: =INT(B30*D30*F30) -> 6033 | Q30: 상각비 1200 정비비 1067 관리비 700 | R30: 1200 | S30: 1067 | T30: 700 | U30: 상각비 - 표준품셈상의 2.5톤 덤프트럭 적용
A31: 주연료 | B31: 경유 | D31: 2.9 | E31: ℓ × | F31: =F21 -> 1590 | M31: =SUM(N31:P31) -> 4611 | N31: =INT(D31*F31) -> 4611
A32: 잡 품 | B32: 주연료의 | D32: 38 | E32: % × | F32: =N31 -> 4611 | M32: =SUM(N32:P32) -> 1752 | N32: =INT(D32*0.01*F32) -> 1752
A33: 보통인부 | B33: 화물차운전사 | D33: 1 | E33: 인 × | F33: =전체입력표!C5 -> 240042 | G33: ×1/8*16/12*25/20 | M33: =SUM(N33:P33) -> 50008 | O33: =INT(F33/8*16/12*25/20) -> 50008 | Q33: 순수노무비

Sheet 자재단가
B1: 자재단가
B3: No | C3: 품 명 | D3: 규 격 | E3: 단위 | F3: 가격정보 | H3: 물가자료 | J3: 유통물가 | L3: 물가정보 | N3: 거래가격 | P3: 견적가1 | R3: 적용단가 | S3: 비 고 | W3: 당초합계 | X3: 당초노무비 | Y3: 당초재료비 | Z3: 당초경비
F4: 단 가 | G4: page | H4: 단 가 | I4: page | J4: 단 가 | K4: page | L4: 단 가 | M4: page | N4: 단 가 | O4: page | P4: 단 가 | Q4: page
B5: 1 | C5: 경 유 | E5: ℓ | J5: 1590 | K5: 2026.9. | R5: =MIN(F5,H5,J5,L5,N5,P5) -> 1590
B6: 2 | C6: 휘 발 유 | E6: ℓ | J6: =전체입력표!D17 -> 0 | K6: 2025.9. | R6: =MIN(F6,H6,J6,L6,N6,P6) -> 0
B7: 10 | C7: 포장보수재 | D7: 20kg | E7: 포 | F7: 20500 | G7: 조달 | R7: =MIN(F7,H7,J7,L7,N7,P7) -> 20500

Sheet 노임단가
A1: 2025 상반기 노임단가
A2: 공 표 일 | C2: 2025.1.1 | D2: 비고
A3: 번 호 | B3: 직 종 명
A4: 1002 | B4: 보통인부 | C4: =전체입력표!C4 -> 172698
A5: 1048 | B5: 건설기계운전사 | C5: =전체입력표!C6 -> 283323
A6: 1049 | B6: 화물차운전사 | C6: =전체입력표!C5 -> 240042
