Workbook

Sheet 원가계산서
B1: 공 사 원 가 계 산 서
B2: [공사명] : 부산공업고등학교 냉난방개선 기계설비공사
B3: 비 목 | E3: 금 액 | F3: 구 성 비 | G3: 비 고
B4: 순 공 사 원 가 | C4: 재 료 비 | D4: 직 접 재 료 비 | E4: =집계표!F6+집계표!F10 -> 0
D5: 간 접 재 료 비 | E5: 0
D6: 작업설, 부산물(△) | E6: 0
D7: [ 소 계 ] | E7: =TRUNC(E4+E5-E6, 0) -> 0
C8: 노 무 비 | D8: 직 접 노 무 비 | E8: =집계표!H6+집계표!H10 -> 0
D9: 간 접 노 무 비 | E9: =TRUNC(E8*0.175,0) -> 0 | F9: 직접노무비 * 17.5%
D10: [ 소 계 ] | E10: =TRUNC(E8+E9,0) -> 0
C11: 경 비 | D11: 경 비 | E11: =집계표!J6+집계표!J10 -> 0
D12: 산 재 보 험 료 | E12: =TRUNC(E10*0.0356,0) -> 0 | F12: 노무비 * 3.56% | H12: 모든 건설공사
D13: 고 용 보 험 료 | E13: =TRUNC(E10*0.0101,0) -> 0 | F13: 노무비 * 1.01% | H13: 모든 건설공사
D14: 국민 건강 보험료 | E14: =TRUNC(E8*0.03595,0) -> 0 | F14: 직접노무비 * 3.595% | H14: 30일 이상
D15: 국민 연금 보험료 | E15: =TRUNC(E8*0.0475,0) -> 0 | F15: 직접노무비 * 4.75% | H15: 30일 이상
D16: 퇴직 공제 부금비 | F16: 직접노무비 * 2.3% | H16: 1억 이상
D17: 산업안전보건관리비 | E17: =TRUNC((E7+E30+E8+(0/1.1))*0.0311,0) -> 0 | F17: (재료비+장비대+직.노) * 3.11% | H17: 2천만원 이상
D18: 노인장기요양보험료 | E18: =TRUNC(E14*0.1314,0) -> 0 | F18: 건강보험료 * 13.14% | H18: 30일 이상
D19: 기 타 경 비 | E19: =TRUNC((E7+E10)*0.05,0) -> 0 | F19: (재료비+노무비) * 5.0%
D20: 환 경 보 전 비 | E20: =TRUNC((E7+E8+E11)*0,0) -> 0 | F20: (재료비+직노+경비) * 0.0%
D21: 하도급지급보증수수료 | E21: =TRUNC((E7+E8+E11)*0,0) -> 0 | F21: (재료비+직노+경비) * 0.000%
D22: 건설기계대여금지급보증서발급수수료 | E22: =TRUNC((E7+E8+E11)*0.001,0) -> 0 | F22: (재료비+직노+경비) * 0.1% | H22: 모든 건설공사
D23: 석 면 분 담 금 | E23: =TRUNC(E10*0.006%,0) -> 0 | F23: 노무비 * 0.006% | H23: 모든 건설공사
D24: 임금채권부담금 | E24: =TRUNC(E10*0.09%,0) -> 0 | F24: 노무비 * 0.09% | H24: 모든 건설공사
D25: [ 소 계 ] | E25: =TRUNC(E11+E12+E13+E14+E15+E16+E17+E18+E19+E20+E21+E22+E23+E24, 0) -> 0
B26: 계 | E26: =TRUNC(E7+E10+E25, 0) -> 0
B27: 일 반 관 리 비 | E27: =TRUNC(E26*0.08, 0) -> 0 | F27: 계 * 8%
B28: 이 윤 | E28: =TRUNC((E10+E25+E27)*0.15, 0) -> 0 | F28: (노무비+경비+일반관리비) * 15%
B29: 공 급 가 액 | E29: =TRUNC(E26+E27+E28, 0) -> 0
B30: 냉 난 방 장 비 대 | E30: =집계표!L7+집계표!L11+집계표!L14 -> 0 | G30: 현장납품(하차)
B31: 부 가 가 치 세 | E31: =TRUNC((E29+E30)*0.1, 0) -> 0 | F31: 공급가액 * 10%
B32: 도 급 액 | E32: =E29+E30+E31 -> 0

Sheet 집계표
A1: 공 종 별 집 계 표
A2: =원가계산서!B2 -> [공사명] : 부산공업고등학교 냉난방개선 기계설비공사
A3: 품 명 | B3: 규 격 | C3: 단위 | D3: 수량 | E3: 재 료 비 | G3: 노 무 비 | I3: 경 비 | K3: 합 계 | M3: 비 고 | N3: 공종코드 | O3: 변수 | P3: 상위공종 | Q3: 공종구분 | R3: 공종레벨 | S3: 공종소계 | T3: 원가계산서 연결금액
E4: 단 가 | F4: 금 액 | G4: 단 가 | H4: 금 액 | I4: 단 가 | J4: 금 액 | K4: 단 가 | L4: 금 액
A5: 1. 부산공업고등학교 냉난방시설 개선공사 | E5: =F6+F7 -> 0 | G5: =H6+H7 -> 0 | I5: =J6+J7 -> 0 | K5: =L6+L7 -> 0 | N5: 01 | R5: 1
A6: 1.1. 냉난방설치 부대공사 | C6: 식 | D6: 1 | E6: ='1.1 부대공사(부산공고)'!F26 -> 0 | F6: =D6*E6 -> 0 | G6: ='1.1 부대공사(부산공고)'!H26 -> 0 | H6: =D6*G6 -> 0 | I6: ='1.1 부대공사(부산공고)'!J26 -> 0 | J6: =D6*I6 -> 0 | K6: =TRUNC(E6+G6+I6, 0) -> 0 | L6: =TRUNC(F6+H6+J6, 0) -> 0 | N6: 0101 | P6: 01 | R6: 2
A7: 1.2. 냉난방 장비대 | C7: 식 | D7: 1 | E7: ='1.2 장비대(부산공고)'!F26 -> 0 | F7: =D7*E7 -> 0 | G7: ='1.1 부대공사(부산공고)'!H27 -> 0 | H7: =D7*G7 -> 0 | I7: ='1.1 부대공사(부산공고)'!J27 -> 0 | J7: =D7*I7 -> 0 | K7: =TRUNC(E7+G7+I7, 0) -> 0 | L7: =TRUNC(F7+H7+J7, 0) -> 0 | N7: 010101 | P7: 0101 | R7: 3
N9: 01010101 | P9: 010101 | R9: 4
N10: 01010102 | P10: 010101 | R10: 4
N11: 010102 | P11: 0101 | R11: 3
N13: 01010201 | P13: 010102 | R13: 4
N14: 01010202 | P14: 010102 | R14: 4
N16: 01010203 | P16: 010102 | R16: 4
N17: 01010204 | P17: 010102 | R17: 4
N18: 01010201 | P18: 010102 | R18: 4
N19: 01010206 | P19: 010102 | R19: 4
N20: 01010207 | P20: 010102 | R20: 4
N21: 010103 | P21: 0101 | R21: 3
N22: 01010301 | P22: 010103 | R22: 4
... N26: 01010501 | P26: 010105 | R26: 4
G30: 현장납품(하차)

Sheet 1.1 부대공사(부산공고)
A1: 공 종 별 내 역 서
A2: =원가계산서!B2 -> [공사명] : 부산공업고등학교 냉난방개선 기계설비공사
A3: 품 명 | B3: 규 격 | C3: 단위 | D3: 수량 | E3: 재 료 비 | G3: 노 무 비 | I3: 경 비 | K3: 합 계 | M3: 비 고
E4: 단 가 | F4: 금 액 | G4: 단 가 | H4: 금 액 | I4: 단 가 | J4: 금 액 | K4: 단 가 | L4: 금 액
A5: 1.1. 부산공업고등학교 냉난방설치 부대공사
A6: 구멍뚫기 (100A, 150mm, 바닥) | B6: Φ100mm | C6: 개소 | D6: 2
A7: 구멍뚫기 (75A, 150mm, 벽체) | B7: Φ75mm | C7: 개소 | D7: 4
A8: 구멍뚫기 (100A, 150mm, 벽체) | B8: Φ100mm | C8: 개소 | D8: 4
A9: 텍스철거 및 재설치 (600*300) | C9: ㎡ | D9: 9 | M9: 50장
A10: 16실 중앙제어기 함 | B10: 1구 | C10: EA | D10: 1
A11: 실내기 천장타공 | B11: 900B*900W | C11: ㎡ | D11: 4 | M11: 4개소
A12: 실외기 패드 설치 | B12: 3600*1000*H200 | C12: ㎡ | D12: 3.6 | M12: 교육청대가
A13: 공동실습소 기존장비 철거 | C13: 대 | D13: 5
A14: 공동실습소 기존장비 운반 | C14: 식 | D14: 1
A15: 공기조절장치설치용크레인, 50톤 | C15: 대 | D15: 1 | M15: 공동실습소 실외기 철거
F18: =TRUNC(E18*B18, 0) -> 0 | H18: =TRUNC(G18*D18, 0) -> 0 | J18: =TRUNC(I18*F18, 0) -> 0 | L18: =TRUNC(K18*H18, 0) -> 0
F19: =TRUNC(E19*B19, 0) -> 0 | H19: =TRUNC(G19*D19, 0) -> 0 | J19: =TRUNC(I19*F19, 0) -> 0 | L19: =TRUNC(K19*H19, 0) -> 0
F20: =TRUNC(E20*B20, 0) -> 0 | H20: =TRUNC(G20*D20, 0) -> 0 | J20: =TRUNC(I20*F20, 0) -> 0 | L20: =TRUNC(K20*H20, 0) -> 0
F21: =TRUNC(E21*B21, 0) -> 0 | H21: =TRUNC(G21*D21, 0) -> 0 | J21: =TRUNC(I21*F21, 0) -> 0 | L21: =TRUNC(K21*H21, 0) -> 0
F22: =TRUNC(E22*B22, 0) -> 0 | H22: =TRUNC(G22*D22, 0) -> 0 | J22: =TRUNC(I22*F22, 0) -> 0 | L22: =TRUNC(K22*H22, 0) -> 0
F23: =TRUNC(E23*B23, 0) -> 0 | H23: =TRUNC(G23*D23, 0) -> 0 | J23: =TRUNC(I23*F23, 0) -> 0 | L23: =TRUNC(K23*H23, 0) -> 0
F24: =TRUNC(E24*B24, 0) -> 0 | H24: =TRUNC(G24*D24, 0) -> 0 | J24: =TRUNC(I24*F24, 0) -> 0 | L24: =TRUNC(K24*H24, 0) -> 0
F25: =TRUNC(E25*B25, 0) -> 0 | H25: =TRUNC(G25*D25, 0) -> 0 | J25: =TRUNC(I25*F25, 0) -> 0 | L25: =TRUNC(K25*H25, 0) -> 0
A26: [ 합 계 ] | F26: =SUM(F5:F25) -> 0 | H26: =SUM(H5:H25) -> 0 | J26: =SUM(J5:J25) -> 0 | L26: =SUM(L5:L25) -> 0
G30: 현장납품(하차)

Sheet 1.2 장비대(부산공고)
A1: 공 종 별 내 역 서
A2: =원가계산서!B2 -> [공사명] : 부산공업고등학교 냉난방개선 기계설비공사
A3: 품 명 | B3: 규 격 | C3: 단위 | D3: 수량 | E3: 재 료 비 | G3: 노 무 비 | I3: 경 비 | K3: 합 계 | M3: 비 고
E4: 단 가 | F4: 금 액 | G4: 단 가 | H4: 금 액 | I4: 단 가 | J4: 금 액 | K4: 단 가 | L4: 금 액
A5: 1.2. 부산공업고등학교 냉난방 장비대
A6: 실외기 1등급 _ 14HP | B6: 냉방40.6kw/난방45.7kw | C6: 대 | D6: 1
A7: 실외기 1등급 _ 24HP | B7: 냉방69.6kw/난방78.4kw | C7: 대 | D7: 1
A8: 실내기 판넬포함 _ 4.0HP | B8: 냉방11.0kw/난방12.8kw, 4way | C8: 대 | D8: 10
A9: 유선리모컨 | C9: 대 | D9: =SUM(D8:D8) -> 10
A10: 중앙제어기 | C10: 대 | D10: 1
F13: =D13*E13 -> 0 | H13: =F13*G13 -> 0 | J13: =H13*I13 -> 0 | K13: =TRUNC(E13+G13+I13, 0) -> 0 | L13: =TRUNC(F13+H13+J13, 0) -> 0
F14: =D14*E14 -> 0 | H14: =F14*G14 -> 0 | J14: =H14*I14 -> 0 | K14: =TRUNC(E14+G14+I14, 0) -> 0 | L14: =TRUNC(F14+H14+J14, 0) -> 0
F15: =D15*E15 -> 0 | H15: =F15*G15 -> 0 | J15: =H15*I15 -> 0 | K15: =TRUNC(E15+G15+I15, 0) -> 0 | L15: =TRUNC(F15+H15+J15, 0) -> 0
F16: =D16*E16 -> 0 | H16: =F16*G16 -> 0 | J16: =H16*I16 -> 0 | K16: =TRUNC(E16+G16+I16, 0) -> 0 | L16: =TRUNC(F16+H16+J16, 0) -> 0
F17: =D17*E17 -> 0 | H17: =F17*G17 -> 0 | J17: =H17*I17 -> 0 | K17: =TRUNC(E17+G17+I17, 0) -> 0 | L17: =TRUNC(F17+H17+J17, 0) -> 0
F18: =D18*E18 -> 0 | H18: =F18*G18 -> 0 | J18: =H18*I18 -> 0 | K18: =TRUNC(E18+G18+I18, 0) -> 0 | L18: =TRUNC(F18+H18+J18, 0) -> 0
F19: =D19*E19 -> 0 | H19: =F19*G19 -> 0 | J19: =H19*I19 -> 0 | K19: =TRUNC(E19+G19+I19, 0) -> 0 | L19: =TRUNC(F19+H19+J19, 0) -> 0
F20: =D20*E20 -> 0 | H20: =F20*G20 -> 0 | J20: =H20*I20 -> 0 | K20: =TRUNC(E20+G20+I20, 0) -> 0 | L20: =TRUNC(F20+H20+J20, 0) -> 0
F21: =D21*E21 -> 0 | H21: =F21*G21 -> 0 | J21: =H21*I21 -> 0 | K21: =TRUNC(E21+G21+I21, 0) -> 0 | L21: =TRUNC(F21+H21+J21, 0) -> 0
F22: =D22*E22 -> 0 | H22: =F22*G22 -> 0 | J22: =H22*I22 -> 0 | K22: =TRUNC(E22+G22+I22, 0) -> 0 | L22: =TRUNC(F22+H22+J22, 0) -> 0
F23: =D23*E23 -> 0 | H23: =F23*G23 -> 0 | J23: =H23*I23 -> 0 | K23: =TRUNC(E23+G23+I23, 0) -> 0 | L23: =TRUNC(F23+H23+J23, 0) -> 0
F24: =D24*E24 -> 0 | H24: =F24*G24 -> 0 | J24: =H24*I24 -> 0 | K24: =TRUNC(E24+G24+I24, 0) -> 0 | L24: =TRUNC(F24+H24+J24, 0) -> 0
F25: =D25*E25 -> 0 | H25: =F25*G25 -> 0 | J25: =H25*I25 -> 0 | K25: =TRUNC(E25+G25+I25, 0) -> 0 | L25: =TRUNC(F25+H25+J25, 0) -> 0
A26: [ 합 계 ] | F26: =SUM(F5:F25) -> 0 | H26: =SUM(H5:H25) -> 0 | J26: =SUM(J5:J25) -> 0 | L26: =SUM(L5:L25) -> 0
G30: 현장납품(하차)

Sheet 일위대가
A1: [ 부산시립시민도서관개보수 ]
A2: 품 명 | B2: 규 격 | C2: 단위 | D2: 수량 | E2: 재 료 비 | G2: 노 무 비 | I2: 경 비 | K2: 합 계 | M2: 비 고 | N2: 일위대가 | O2: 품목코드 | P2: 일위 | Q2: 단산 | R2: 자재 | S2: 손료적용 | T2: 손료저장 | U2: 적용율 | V2: JUK1 | W2: JUK2 | X2: JUK3 | Y2: JUK4 | Z2: JUK5 | AA2: JUK6 | AB2: JUK7 | AC2: JUK8 | AD2: JUK9 | AE2: JUK10 | AF2: JUK11 | AG2: JUK12 | AH2: JUK13 | AI2: JUK14 | AJ2: JUK15 | AK2: JUK16 | AL2: JUK17 | AM2: JUK18 | AN2: JUK19 | AO2: JUK20 | AP2: 할증적용 | AQ2: 할증저장 | AR2: 할증율 | AS2: HAL1 | AT2: HAL2 | AU2: HAL3 | AV2: 자재구분 | AW2: 일위대가+자재 | AX2: 장비일위 | AY2: 설정
E3: 단 가 | F3: 금 액 | G3: 단 가 | H3: 금 액 | I3: 단 가 | J3: 금 액 | K3: 단 가 | L3: 금 액
A4: 크레인(타이어) 25ton HR 공통 8-3,4(2104) ( 호표 1 ) | N4: 586F1417A62739B807FA6B00740D680BAD914AB5
A5: 크레인(타이어) | B5: 25ton | C5: 대 | D5: 0.2057 | E5: =단가대비표!O7 -> 0 | F5: =TRUNC(E5*D5,1) -> 0 | G5: =단가대비표!P7 -> 0 | H5: =TRUNC(G5*D5,1) -> 0 | I5: =단가대비표!V7 -> 272390 | J5: =TRUNC(I5*D5,1) -> 56030.6 | K5: =TRUNC(E5+G5+I5,1) -> 272390 | L5: =TRUNC(F5+H5+J5,1) -> 56030.6 | M5: 천원 | N5: 586F1417A62739B807FA6B00740D680BAD914AB5 | O5: 586F1417A62739B807FA6B00740D680BAD914A | P5: F | Q5: F | R5: T | AW5: 586F1417A62739B807FA6B00740D680BAD914AB5586F1417A62739B807FA6B00740D680BAD914A
A6: 경유 | B6: 경유, 저유황 | C6: L | D6: 6.1 | E6: =단가대비표!O14 -> 1410.9 | F6: =TRUNC(E6*D6,1) -> 8606.4 | G6: =단가대비표!P14 -> 0 | H6: =TRUNC(G6*D6,1) -> 0 | I6: =단가대비표!V14 -> 0 | J6: =TRUNC(I6*D6,1) -> 0 | K6: =TRUNC(E6+G6+I6,1) -> 1410.9 | L6: =TRUNC(F6+H6+J6,1) -> 8606.4 | N6: 586F1417A62739B807FA6B00740D680BAD914AB5 | O6: 5879D402E66C98886BF3350078F41975BF7B2F | P6: F | Q6: F | R6: T | V6: 1 | AW6: 586F1417A62739B807FA6B00740D680BAD914AB55879D402E66C98886BF3350078F41975BF7B2F
A7: 잡재료 | B7: 주연료비의 39% | C7: 식 | D7: 1 | E7: =TRUNC(SUMIF(V5:V8, RIGHTB(O7, 1), F5:F8)*U7, 2) -> 3356.49 | F7: =TRUNC(E7*D7,1) -> 3356.4 | G7: 0 | H7: =TRUNC(G7*D7,1) -> 0 | I7: 0 | J7: =TRUNC(I7*D7,1) -> 0 | K7: =TRUNC(E7+G7+I7,1) -> 3356.4 | L7: =TRUNC(F7+H7+J7,1) -> 3356.4 | N7: 586F1417A62739B807FA6B00740D680BAD914AB5 | O7: 5E6194352674A0088E0A79D07C20001 | P7: F | Q7: F | R7: F | S7: 0 | T7: 0 | U7: 0.39 | AW7: 586F1417A62739B807FA6B00740D680BAD914AB55E6194352674A0088E0A79D07C20001
A8: 건설기계운전사 | B8: 일반공사 직종 | C8: 인 | D8: 1 | E8: =TRUNC(단가대비표!O203*1/8*16/12*25/20, 1) -> 0 | F8: =TRUNC(E8*D8,1) -> 0 | G8: =TRUNC(단가대비표!P203*1/8*16/12*25/20, 1) -> 50686.4 | H8: =TRUNC(G8*D8,1) -> 50686.4 | I8: =TRUNC(단가대비표!V203*1/8*16/12*25/20, 1) -> 0 | J8: =TRUNC(I8*D8,1) -> 0 | K8: =TRUNC(E8+G8+I8,1) -> 50686.4 | L8: =TRUNC(F8+H8+J8,1) -> 50686.4 | N8: 586F1417A62739B807FA6B00740D680BAD914AB5 | O8: 5FA604A726EC80C864B2BCC07E0B8DFA5C34C0 | P8: F | Q8: F | R8: T | AW8: 586F1417A62739B807FA6B00740D680BAD914AB55FA604A726EC80C864B2BCC07E0B8DFA5C34C0 | AX8: T
A9: [ 합 계 ] | F9: =TRUNC(SUMIF(N5:N8, N4, F5:F8),0) -> 11962 | H9: =TRUNC(SUMIF(N5:N8, N4, H5:H8),0) -> 50686 | J9: =TRUNC(SUMIF(N5:N8, N4, J5:J8),0) -> 56030 | L9: =F9+H9+J9 -> 118678 | N9: TOTAL | O9: TOTAL
A11: 냉온수기(철거), 폐수처리 포함 흡수식, 210USRT 대 기계 8-1-2 ( 호표 2 ) | N11: 5FB7A4F9F6D3CA38BFFE6CA07742C8
A12: 비계공 | B12: 일반공사 직종 | C12: 인 | D12: 4.2 | E12: =단가대비표!O190 -> 0 | F12: =TRUNC(E12*D12,1) -> 0 | G12: =단가대비표!P190 -> 278151 | H12: =TRUNC(G12*D12,1) -> 1168234.2 | I12: =단가대비표!V190 -> 0 | J12: =TRUNC(I12*D12,1) -> 0 | K12: =TRUNC(E12+G12+I12,1) -> 278151 | L12: =TRUNC(F12+H12+J12,1) -> 1168234.2 | N12: 5FB7A4F9F6D3CA38BFFE6CA07742C8 | O12: 5FA604A726EC80C864B2BCC07E0B8DFA5C3068 | P12: F | Q12: F | R12: T | V12: 1 | AW12: 5FB7A4F9F6D3CA38BFFE6CA07742C85FA604A726EC80C864B2BCC07E0B8DFA5C3068
A13: 특별인부 | B13: 일반공사 직종 | C13: 인 | D13: 8.4 | E13: =단가대비표!O189 -> 0 | F13: =TRUNC(E13*D13,1) -> 0 | G13: =단가대비표!P189 -> 197450 | H13: =TRUNC(G13*D13,1) -> 1658580 | I13: =단가대비표!V189 -> 0 | J13: =TRUNC(I13*D13,1) -> 0 | K13: =TRUNC(E13+G13+I13,1) -> 197450 | L13: =TRUNC(F13+H13+J13,1) -> 1658580 | N13: 5FB7A4F9F6D3CA38BFFE6CA07742C8 | O13: 5FA604A726EC80C864B2BCC07E0B8DFA5C306D | P13: F | Q13: F | R13: T | V13: 1 | AW13: 5FB7A4F9F6D3CA38BFFE6CA07742C85FA604A726EC80C864B2BCC07E0B8DFA5C306D
A14: 공구손료 | B14: 인력품의 3% | C14: 식 | D14: 1 | E14: =TRUNC(SUMIF(V12:V14, RIGHTB(O14, 1), H12:H14)*U14, 2) -> 84804.42 | F14: =TRUNC(E14*D14,1) -> 84804.4 | G14: 0 | H14: =TRUNC(G14*D14,1) -> 0 | I14: 0 | J14: =TRUNC(I14*D14,1) -> 0 | K14: =TRUNC(E14+G14+I14,1) -> 84804.4 | L14: =TRUNC(F14+H14+J14,1) -> 84804.4 | N14: 5FB7A4F9F6D3CA38BFFE6CA07742C8 | O14: 5E6194352674A0088E0A79D07C20001 | P14: F | Q14: F | R14: F | S14: 1 | T14: 0 | U14: 0.03 | AW14: 5FB7A4F9F6D3CA38BFFE6CA07742C85E6194352674A0088E0A79D07C20001
A15: [ 합 계 ] | F15: =TRUNC(SUMIF(N12:N14, N11, F12:F14),0) -> 84804 | H15: =TRUNC(SUMIF(N12:N14, N11, H12:H14),0) -> 2826814 | J15: =TRUNC(SUMIF(N12:N14, N11, J12:J14),0) -> 0 | L15: =F15+H15+J15 -> 2911618 | N15: TOTAL | O15: TOTAL
A17: 보일러(철거), 폐수처리 포함 관류형, 300kg/hr 대 기계 8-3-4 ( 호표 3 ) | N17: 5FB7A4F9F6D3CA38BFFE6CA07742C9
A18: 보일러공 | B18: 일반공사 직종 | C18: 인 | D18: 1.818 | E18: =단가대비표!O200 -> 0 | F18: =TRUNC(E18*D18,1) -> 0 | G18: =단가대비표!P200 -> 210465 | H18: =TRUNC(G18*D18,1) -> 382625.3 | I18: =단가대비표!V200 -> 0 | J18: =TRUNC(I18*D18,1) -> 0 | K18: =TRUNC(E18+G18+I18,1) -> 210465 | L18: =TRUNC(F18+H18+J18,1) -> 382625.3 | N18: 5FB7A4F9F6D3CA38BFFE6CA07742C9 | O18: 5FA604A726EC80C864B2BCC07E0B8DFA5C34C9 | P18: F | Q18: F | R18: T | V18: 1 | AW18: 5FB7A4F9F6D3CA38BFFE6CA07742C95FA604A726EC80C864B2BCC07E0B8DFA5C34C9
A19: 특별인부 | B19: 일반공사 직종 | C19: 인 | D19: 0.732 | E19: =단가대비표!O189 -> 0 | F19: =TRUNC(E19*D19,1) -> 0 | G19: =단가대비표!P189 -> 197450 | H19: =TRUNC(G19*D19,1) -> 144533.4 | I19: =단가대비표!V189 -> 0 | J19: =TRUNC(I19*D19,1) -> 0 | K19: =TRUNC(E19+G19+I19,1) -> 197450 | L19: =TRUNC(F19+H19+J19,1) -> 144533.4 | N19: 5FB7A4F9F6D3CA38BFFE6CA07742C9 | O19: 5FA604A726EC80C864B2BCC07E0B8DFA5C306D | P19: F | Q19: F | R19: T | V19: 1 | AW19: 5FB7A4F9F6D3CA38BFFE6CA07742C95FA604A726EC80C864B2BCC07E0B8DFA5C306D
A20: 공구손료 | B20: 인력품의 3% | C20: 식 | D20: 1 | E20: =TRUNC(SUMIF(V18:V20, RIGHTB(O20, 1), H18:H20)*U20, 2) -> 15814.76 | F20: =TRUNC(E20*D20,1) -> 15814.7 | G20: 0 | H20: =TRUNC(G20*D20,1) -> 0 | I20: 0 | J20: =TRUNC(I20*D20,1) -> 0 | K20: =TRUNC(E20+G20+I20,1) -> 15814.7 | L20: =TRUNC(F20+H20+J20,1) -> 15814.7 | N20: 5FB7A4F9F6D3CA38BFFE6CA07742C9 | O20: 5E6194352674A0088E0A79D07C20001 | P20: F | Q20: F | R20: F | S20: 1 | T20: 0 | U20: 0.03 | AW20: 5FB7A4F9F6D3CA38BFFE6CA07742C95E6194352674A0088E0A79D07C20001
A21: [ 합 계 ] | F21: =TRUNC(SUMIF(N18:N20, N17, F18:F20),0) -> 15814 | H21: =TRUNC(SUMIF(N18:N20, N17, H18:H20),0) -> 527158 | J21: =TRUNC(SUMIF(N18:N20, N17, J18:J20),0) -> 0 | L21: =F21+H21+J21 -> 542972 | N21: TOTAL | O21: TOTAL
A23: 냉각수 순환펌프(철거) 3,500lpm, 20M, 22Kw 대 기계 4-1-1 ( 호표 4 ) | N23: 5FB7A4F9F6D3CA38BFFE6CA07742CA
A24: 기계설비공 | B24: 일반공사 직종 | C24: 인 | D24: 2.206 | E24: =단가대비표!O205 -> 0 | F24: =TRUNC(E24*D24,1) -> 0 | G24: =단가대비표!P205 -> 213337 | H24: =TRUNC(G24*D24,1) -> 470621.4 | I24: =단가대비표!V205 -> 0 | J24: =TRUNC(I24*D24,1) -> 0 | K24: =TRUNC(E24+G24+I24,1) -> 213337 | L24: =TRUNC(F24+H24+J24,1) -> 470621.4 | N24: 5FB7A4F9F6D3CA38BFFE6CA07742CA | O24: 5FA604A726EC80C864B2BCC07E0B8DFA5C35EE | P24: F | Q24: F | R24: T | V24: 1 | AW24: 5FB7A4F9F6D3CA38BFFE6CA07742CA5FA604A726EC80C864B2BCC07E0B8DFA5C35EE
A25: 보통인부 | B25: 일반공사 직종 | C25: 인 | D25: 0.731 | E25: =단가대비표!O188 -> 0 | F25: =TRUNC(E25*D25,1) -> 0 | G25: =단가대비표!P188 -> 157068 | H25: =TRUNC(G25*D25,1) -> 114816.7 | I25: =단가대비표!V188 -> 0 | J25: =TRUNC(I25*D25,1) -> 0 | K25: =TRUNC(E25+G25+I25,1) -> 157068 | L25: =TRUNC(F25+H25+J25,1) -> 114816.7 | N25: 5FB7A4F9F6D3CA38BFFE6CA07742CA | O25: 5FA604A726EC80C864B2BCC07E0B8DFA5C306C | P25: F | Q25: F | R25: T | V25: 1 | AW25: 5FB7A4F9F6D3CA38BFFE6CA07742CA5FA604A726EC80C864B2BCC07E0B8DFA5C306C
A26: 공구손료 | B26: 인력품의 3% | C26: 식 | D26: 1 | E26: =TRUNC(SUMIF(V24:V26, RIGHTB(O26, 1), H24:H26)*U26, 2) -> 17563.14 | F26: =TRUNC(E26*D26,1) -> 17563.1 | G26: 0 | H26: =TRUNC(G26*D26,1) -> 0 | I26: 0 | J26: =TRUNC(I26*D26,1) -> 0 | K26: =TRUNC(E26+G26+I26,1) -> 17563.1 | L26: =TRUNC(F26+H26+J26,1) -> 17563.1 | N26: 5FB7A4F9F6D3CA38BFFE6CA07742CA | O26: 5E6194352674A0088E0A79D07C20001 | P26: F | Q26: F | R26: F | S26: 1 | T26: 0 | U26: 0.03 | AW26: 5FB7A4F9F6D3CA38BFFE6CA07742CA5E6194352674A0088E0A79D07C20001
A27: [ 합 계 ] | F27: =TRUNC(SUMIF(N24:N26, N23, F24:F26),0) -> 17563 | H27: =TRUNC(SUMIF(N24:N26, N23, H24:H26),0) -> 585438 | J27: =TRUNC(SUMIF(N24:N26, N23, J24:J26),0) -> 0 | L27: =F27+H27+J27 -> 603001 | N27: TOTAL | O27: TOTAL
A29: 냉온수 순환펌프(철거) 2,117lpm, 25M, 18.5Kw 대 기계 4-1-1 ( 호표 5 ) | N29: 5FB7A4F9F6D3CA38BFFE6CA07742CB
A30: 기계설비공 | B30: 일반공사 직종 | C30: 인 | D30: 2.206 | E30: =단가대비표!O205 -> 0 | F30: =TRUNC(E30*D30,1) -> 0 | G30: =단가대비표!P205 -> 213337 | H30: =TRUNC(G30*D30,1) -> 470621.4 | I30: =단가대비표!V205 -> 0 | J30: =TRUNC(I30*D30,1) -> 0 | K30: =TRUNC(E30+G30+I30,1) -> 213337 | L30: =TRUNC(F30+H30+J30,1) -> 470621.4 | N30: 5FB7A4F9F6D3CA38BFFE6CA07742CB | O30: 5FA604A726EC80C864B2BCC07E0B8DFA5C35EE | P30: F | Q30: F | R30: T | V30: 1 | AW30: 5FB7A4F9F6D3CA38BFFE6CA07742CB5FA604A726EC80C864B2BCC07E0B8DFA5C35EE
A31: 보통인부 | B31: 일반공사 직종 | C31: 인 | D31: 0.731 | E31: =단가대비표!O188 -> 0 | F31: =TRUNC(E31*D31,1) -> 0 | G31: =단가대비표!P188 -> 157068 | H31: =TRUNC(G31*D31,1) -> 114816.7 | I31: =단가대비표!V188 -> 0 | J31: =TRUNC(I31*D31,1) -> 0 | K31: =TRUNC(E31+G31+I31,1) -> 157068 | L31: =TRUNC(F31+H31+J31,1) -> 114816.7 | N31: 5FB7A4F9F6D3CA38BFFE6CA07742CB | O31: 5FA604A726EC80C864B2BCC07E0B8DFA5C306C | P31: F | Q31: F | R31: T | V31: 1 | AW31: 5FB7A4F9F6D3CA38BFFE6CA07742CB5FA604A726EC80C864B2BCC07E0B8DFA5C306C
A32: 공구손료 | B32: 인력품의 3% | C32: 식 | D32: 1 | E32: =TRUNC(SUMIF(V30:V32, RIGHTB(O32, 1), H30:H32)*U32, 2) -> 17563.14 | F32: =TRUNC(E32*D32,1) -> 17563.1 | G32: 0 | H32: =TRUNC(G32*D32,1) -> 0 | I32: 0 | J32: =TRUNC(I32*D32,1) -> 0 | K32: =TRUNC(E32+G32+I32,1) -> 17563.1 | L32: =TRUNC(F32+H32+J32,1) -> 17563.1 | N32: 5FB7A4F9F6D3CA38BFFE6CA07742CB | O32: 5E6194352674A0088E0A79D07C20001 | P32: F | Q32: F | R32: F | S32: 1 | T32: 0 | U32: 0.03 | AW32: 5FB7A4F9F6D3CA38BFFE6CA07742CB5E6194352674A0088E0A79D07C20001
A33: [ 합 계 ] | F33: =TRUNC(SUMIF(N30:N32, N29, F30:F32),0) -> 17563 | H33: =TRUNC(SUMIF(N30:N32, N29, H30:H32),0) -> 585438 | J33: =TRUNC(SUMIF(N30:N32, N29, J30:J32),0) -> 0 | L33: =F33+H33+J33 -> 603001 | N33: TOTAL | O33: TOTAL
A35: 공기조화기1, 급기팬포함(철거) 냉 213,000 kcal/hr,온 212,000 kcal/hr 대 기계 8-2-3 ( 호표 6 ) | N35: 5FB7A4F9F6D3CA38BFFE6CA07742CC
A36: 기계설비공 | B36: 일반공사 직종 | C36: 인 | D36: 8.4 | E36: =단가대비표!O205 -> 0 | F36: =TRUNC(E36*D36,1) -> 0 | G36: =단가대비표!P205 -> 213337 | H36: =TRUNC(G36*D36,1) -> 1792030.8 | I36: =단가대비표!V205 -> 0 | J36: =TRUNC(I36*D36,1) -> 0 | K36: =TRUNC(E36+G36+I36,1) -> 213337 | L36: =TRUNC(F36+H36+J36,1) -> 1792030.8 | N36: 5FB7A4F9F6D3CA38BFFE6CA07742CC | O36: 5FA604A726EC80C864B2BCC07E0B8DFA5C35EE | P36: F | Q36: F | R36: T | V36: 1 | AW36: 5FB7A4F9F6D3CA38BFFE6CA07742CC5FA604A726EC80C864B2BCC07E0B8DFA5C35EE
A37: 보통인부 | B37: 일반공사 직종 | C37: 인 | D37: 3.78 | E37: =단가대비표!O188 -> 0 | F37: =TRUNC(E37*D37,1) -> 0 | G37: =단가대비표!P188 -> 157068 | H37: =TRUNC(G37*D37,1) -> 593717 | I37: =단가대비표!V188 -> 0 | J37: =TRUNC(I37*D37,1) -> 0 | K37: =TRUNC(E37+G37+I37,1) -> 157068 | L37: =TRUNC(F37+H37+J37,1) -> 593717 | N37: 5FB7A4F9F6D3CA38BFFE6CA07742CC | O37: 5FA604A726EC80C864B2BCC07E0B8DFA5C306C | P37: F | Q37: F | R37: T | V37: 1 | AW37: 5FB7A4F9F6D3CA38BFFE6CA07742CC5FA604A726EC80C864B2BCC07E0B8DFA5C306C
A38: 공구손료 | B38: 인력품의 3% | C38: 식 | D38: 1 | E38: =TRUNC(SUMIF(V36:V38, RIGHTB(O38, 1), H36:H38)*U38, 2) -> 71572.43 | F38: =TRUNC(E38*D38,1) -> 71572.4 | G38: 0 | H38: =TRUNC(G38*D38,1) -> 0 | I38: 0 | J38: =TRUNC(I38*D38,1) -> 0 | K38: =TRUNC(E38+G38+I38,1) -> 71572.4 | L38: =TRUNC(F38+H38+J38,1) -> 71572.4 | N38: 5FB7A4F9F6D3CA38BFFE6CA07742CC | O38: 5E6194352674A0088E0A79D07C20001 | P38: F | Q38: F | R38: F | S38: 1 | T38: 0 | U38: 0.03 | AW38: 5FB7A4F9F6D3CA38BFFE6CA07742CC5E6194352674A0088E0A79D07C20001
A39: [ 합 계 ] | F39: =TRUNC(SUMIF(N36:N38, N35, F36:F38),0) -> 71572 | H39: =TRUNC(SUMIF(N36:N38, N35, H36:H38),0) -> 2385747 | J39: =TRUNC(SUMIF(N36:N38, N35, J36:J38),0) -> 0 | L39: =F39+H39+J39 -> 2457319 | N39: TOTAL | O39: TOTAL
A41: 공기조화기2, 급기팬포함(철거) 냉 185,000 kcal/hr,온 140,000 kcal/hr 대 기계 8-2-3 ( 호표 7 ) | N41: 5FB7A4F9F6D3CA38BFFE6CA07742CD
A42: 기계설비공 | B42: 일반공사 직종 | C42: 인 | D42: 8.4 | E42: =단가대비표!O205 -> 0 | F42: =TRUNC(E42*D42,1) -> 0 | G42: =단가대비표!P205 -> 213337 | H42: =TRUNC(G42*D42,1) -> 1792030.8 | I42: =단가대비표!V205 -> 0 | J42: =TRUNC(I42*D42,1) -> 0 | K42: =TRUNC(E42+G42+I42,1) -> 213337 | L42: =TRUNC(F42+H42+J42,1) -> 1792030.8 | N42: 5FB7A4F9F6D3CA38BFFE6CA07742CD | O42: 5FA604A726EC80C864B2BCC07E0B8DFA5C35EE | P42: F | Q42: F | R42: T | V42: 1 | AW42: 5FB7A4F9F6D3CA38BFFE6CA07742CD5FA604A726EC80C864B2BCC07E0B8DFA5C35EE
A43: 보통인부 | B43: 일반공사 직종 | C43: 인 | D43: 3.78 | E43: =단가대비표!O188 -> 0 | F43: =TRUNC(E43*D43,1) -> 0 | G43: =단가대비표!P188 -> 157068 | H43: =TRUNC(G43*D43,1) -> 593717 | I43: =단가대비표!V188 -> 0 | J43: =TRUNC(I43*D43,1) -> 0 | K43: =TRUNC(E43+G43+I43,1) -> 157068 | L43: =TRUNC(F43+H43+J43,1) -> 593717 | N43: 5FB7A4F9F6D3CA38BFFE6CA07742CD | O43: 5FA604A726EC80C864B2BCC07E0B8DFA5C306C | P43: F | Q43: F | R43: T | V43: 1 | AW43: 5FB7A4F9F6D3CA38BFFE6CA07742CD5FA604A726EC80C864B2BCC07E0B8DFA5C306C
A44: 공구손료 | B44: 인력품의 3% | C44: 식 | D44: 1 | E44: =TRUNC(SUMIF(V42:V44, RIGHTB(O44, 1), H42:H44)*U44, 2) -> 71572.43 | F44: =TRUNC(E44*D44,1) -> 71572.4 | G44: 0 | H44: =TRUNC(G44*D44,1) -> 0 | I44: 0 | J44: =TRUNC(I44*D44,1) -> 0 | K44: =TRUNC(E44+G44+I44,1) -> 71572.4 | L44: =TRUNC(F44+H44+J44,1) -> 71572.4 | N44: 5FB7A4F9F6D3CA38BFFE6CA07742CD | O44: 5E6194352674A0088E0A79D07C20001 | P44: F | Q44: F | R44: F | S44: 1 | T44: 0 | U44: 0.03 | AW44: 5FB7A4F9F6D3CA38BFFE6CA07742CD5E6194352674A0088E0A79D07C20001
A45: [ 합 계 ] | F45: =TRUNC(SUMIF(N42:N44, N41, F42:F44),0) -> 71572 | H45: =TRUNC(SUMIF(N42:N44, N41, H42:H44),0) -> 2385747 | J45: =TRUNC(SUMIF(N42:N44, N41, J42:J44),0) -> 0 | L45: =F45+H45+J45 -> 2457319 | N45: TOTAL | O45: TOTAL
A47: 급탕 탱크(철거) 800LIT, STS 304 대 기계 8-4-1 ( 호표 8 ) | N47: 5FB7A4F9F6D3CA38BFFE6CA07742CE
A48: 보일러공 | B48: 일반공사 직종 | C48: 인 | D48: 2.743 | E48: =단가대비표!O200 -> 0 | F48: =TRUNC(E48*D48,1) -> 0 | G48: =단가대비표!P200 -> 210465 | H48: =TRUNC(G48*D48,1) -> 577305.4 | I48: =단가대비표!V200 -> 0 | J48: =TRUNC(I48*D48,1) -> 0 | K48: =TRUNC(E48+G48+I48,1) -> 210465 | L48: =TRUNC(F48+H48+J48,1) -> 577305.4 | N48: 5FB7A4F9F6D3CA38BFFE6CA07742CE | O48: 5FA604A726EC80C864B2BCC07E0B8DFA5C34C9 | P48: F | Q48: F | R48: T | V48: 1 | AW48: 5FB7A4F9F6D3CA38BFFE6CA07742CE5FA604A726EC80C864B2BCC07E0B8DFA5C34C9
A49: 비계공 | B49: 일반공사 직종 | C49: 인 | D49: 0.411 | E49: =단가대비표!O190 -> 0 | F49: =TRUNC(E49*D49,1) -> 0 | G49: =단가대비표!P190 -> 278151 | H49: =TRUNC(G49*D49,1) -> 114320 | I49: =단가대비표!V190 -> 0 | J49: =TRUNC(I49*D49,1) -> 0 | K49: =TRUNC(E49+G49+I49,1) -> 278151 | L49: =TRUNC(F49+H49+J49,1) -> 114320 | N49: 5FB7A4F9F6D3CA38BFFE6CA07742CE | O49: 5FA604A726EC80C864B2BCC07E0B8DFA5C3068 | P49: F | Q49: F | R49: T | V49: 1 | AW49: 5FB7A4F9F6D3CA38BFFE6CA07742CE5FA604A726EC80C864B2BCC07E0B8DFA5C3068
A50: 공구손료 | B50: 인력품의 3% | C50: 식 | D50: 1 | E50: =TRUNC(SUMIF(V48:V50, RIGHTB(O50, 1), H48:H50)*U50, 2) -> 20748.76 | F50: =TRUNC(E50*D50,1) -> 20748.7 | G50: 0 | H50: =TRUNC(G50*D50,1) -> 0 | I50: 0 | J50: =TRUNC(I50*D50,1) -> 0 | K50: =TRUNC(E50+G50+I50,1) -> 20748.7 | L50: =TRUNC(F50+H50+J50,1) -> 20748.7 | N50: 5FB7A4F9F6D3CA38BFFE6CA07742CE | O50: 5E6194352674A0088E0A79D07C20001 | P50: F | Q50: F | R50: F | S50: 1 | T50: 0 | U50: 0.03 | AW50: 5FB7A4F9F6D3CA38BFFE6CA07742CE5E6194352674A0088E0A79D07C20001
A51: [ 합 계 ] | F51: =TRUNC(SUMIF(N48:N50, N47, F48:F50),0) -> 20748 | H51: =TRUNC(SUMIF(N48:N50, N47, H48:H50),0) -> 691625 | J51: =TRUNC(SUMIF(N48:N50, N47, J48:J50),0) -> 0 | L51: =F51+H51+J51 -> 712373 | N51: TOTAL | O51: TOTAL
A53: 응축수 탱크(철거) 300LIT, STS 304 대 기계 8-4-1 ( 호표 9 ) | N53: 5FB7A4F9F6D3CA38BFFE6CA07742CF
A54: 보일러공 | B54: 일반공사 직종 | C54: 인 | D54: 1.029 | E54: =단가대비표!O200 -> 0 | F54: =TRUNC(E54*D54,1) -> 0 | G54: =단가대비표!P200 -> 210465 | H54: =TRUNC(G54*D54,1) -> 216568.4 | I54: =단가대비표!V200 -> 0 | J54: =TRUNC(I54*D54,1) -> 0 | K54: =TRUNC(E54+G54+I54,1) -> 210465 | L54: =TRUNC(F54+H54+J54,1) -> 216568.4 | N54: 5FB7A4F9F6D3CA38BFFE6CA07742CF | O54: 5FA604A726EC80C864B2BCC07E0B8DFA5C34C9 | P54: F | Q54: F | R54: T | V54: 1 | AW54: 5FB7A4F9F6D3CA38BFFE6CA07742CF5FA604A726EC80C864B2BCC07E0B8DFA5C34C9
A55: 비계공 | B55: 일반공사 직종 | C55: 인 | D55: 0.154 | E55: =단가대비표!O190 -> 0 | F55: =TRUNC(E55*D55,1) -> 0 | G55: =단가대비표!P190 -> 278151 | H55: =TRUNC(G55*D55,1) -> 42835.2 | I55: =단가대비표!V190 -> 0 | J55: =TRUNC(I55*D55,1) -> 0 | K55: =TRUNC(E55+G55+I55,1) -> 278151 | L55: =TRUNC(F55+H55+J55,1) -> 42835.2 | N55: 5FB7A4F9F6D3CA38BFFE6CA07742CF | O55: 5FA604A726EC80C864B2BCC07E0B8DFA5C3068 | P55: F | Q55: F | R55: T | V55: 1 | AW55: 5FB7A4F9F6D3CA38BFFE6CA07742CF5FA604A726EC80C864B2BCC07E0B8DFA5C3068
A56: 공구손료 | B56: 인력품의 3% | C56: 식 | D56: 1 | E56: =TRUNC(SUMIF(V54:V56, RIGHTB(O56, 1), H54:H56)*U56, 2) -> 7782.1 | F56: =TRUNC(E56*D56,1) -> 7782.1 | G56: 0 | H56: =TRUNC(G56*D56,1) -> 0 | I56: 0 | J56: =TRUNC(I56*D56,1) -> 0 | K56: =TRUNC(E56+G56+I56,1) -> 7782.1 | L56: =TRUNC(F56+H56+J56,1) -> 7782.1 | N56: 5FB7A4F9F6D3CA38BFFE6CA07742CF | O56: 5E6194352674A0088E0A79D07C20001 | P56: F | Q56: F | R56: F | S56: 1 | T56: 0 | U56: 0.03 | AW56: 5FB7A4F9F6D3CA38BFFE6CA07742CF5E6194352674A0088E0A79D07C20001
A57: [ 합 계 ] | F57: =TRUNC(SUMIF(N54:N56, N53, F54:F56),0) -> 7782 | H57: =TRUNC(SUMIF(N54:N56, N53, H54:H56),0) -> 259403 | J57: =TRUNC(SUMIF(N54:N56, N53, J54:J56),0) -> 0 | L57: =F57+H57+J57 -> 267185 | N57: TOTAL | O57: TOTAL
A59: 냉온수 헤더(철거) ø350 x 5,000L 대 기계 1-1-1 ( 호표 10 ) | N59: 5FB7A4F9F6D3CA38BFFE6CA07742C0
A60: 배관공 | B60: 일반공사 직종 | C60: 인 | D60: 0.459 | E60: =단가대비표!O199 -> 0 | F60: =TRUNC(E60*D60,1) -> 0 | G60: =단가대비표!P199 -> 214118 | H60: =TRUNC(G60*D60,1) -> 98280.1 | I60: =단가대비표!V199 -> 0 | J60: =TRUNC(I60*D60,1) -> 0 | K60: =TRUNC(E60+G60+I60,1) -> 214118 | L60: =TRUNC(F60+H60+J60,1) -> 98280.1 | N60: 5FB7A4F9F6D3CA38BFFE6CA07742C0 | O60: 5FA604A726EC80C864B2BCC07E0B8DFA5C332B | P60: F | Q60: F | R60: T | V60: 1 | AW60: 5FB7A4F9F6D3CA38BFFE6CA07742C05FA604A726EC80C864B2BCC07E0B8DFA5C332B
A61: 보통인부 | B61: 일반공사 직종 | C61: 인 | D61: 0.166 | E61: =단가대비표!O188 -> 0 | F61: =TRUNC(E61*D61,1) -> 0 | G61: =단가대비표!P188 -> 157068 | H61: =TRUNC(G61*D61,1) -> 26073.2 | I61: =단가대비표!V188 -> 0 | J61: =TRUNC(I61*D61,1) -> 0 | K61: =TRUNC(E61+G61+I61,1) -> 157068 | L61: =TRUNC(F61+H61+J61,1) -> 26073.2 | N61: 5FB7A4F9F6D3CA38BFFE6CA07742C0 | O61: 5FA604A726EC80C864B2BCC07E0B8DFA5C306C | P61: F | Q61: F | R61: T | V61: 1 | AW61: 5FB7A4F9F6D3CA38BFFE6CA07742C05FA604A726EC80C864B2BCC07E0B8DFA5C306C
A62: 공구손료 | B62: 인력품의 3% | C62: 식 | D62: 1 | E62: =TRUNC(SUMIF(V60:V62, RIGHTB(O62, 1), H60:H62)*U62, 2) -> 3730.59 | F62: =TRUNC(E62*D62,1) -> 3730.5 | G62: 0 | H62: =TRUNC(G62*D62,1) -> 0 | I62: 0 | J62: =TRUNC(I62*D62,1) -> 0 | K62: =TRUNC(E62+G62+I62,1) -> 3730.5 | L62: =TRUNC(F62+H62+J62,1) -> 3730.5 | N62: 5FB7A4F9F6D3CA38BFFE6CA07742C0 | O62: 5E6194352674A0088E0A79D07C20001 | P62: F | Q62: F | R62: F | S62: 1 | T62: 0 | U62: 0.03 | AW62: 5FB7A4F9F6D3CA38BFFE6CA07742C05E6194352674A0088E0A79D07C20001
A63: [ 합 계 ] | F63: =TRUNC(SUMIF(N60:N62, N59, F60:F62),0) -> 3730 | H63: =TRUNC(SUMIF(N60:N62, N59, H60:H62),0) -> 124353 | J63: =TRUNC(SUMIF(N60:N62, N59, J60:J62),0) -> 0 | L63: =F63+H63+J63 -> 128083 | N63: TOTAL | O63: TOTAL
A65: 증기 헤더(철거) ø125 x 1,500L 대 기계 1-1-1 ( 호표 11 ) | N65: 5FB7A4F9F6D3CA38BFFE6CA07742C1
A66: 배관공 | B66: 일반공사 직종 | C66: 인 | D66: 0.12 | E66: =단가대비표!O199 -> 0 | F66: =TRUNC(E66*D66,1) -> 0 | G66: =단가대비표!P199 -> 214118 | H66: =TRUNC(G66*D66,1) -> 25694.1 | I66: =단가대비표!V199 -> 0 | J66: =TRUNC(I66*D66,1) -> 0 | K66: =TRUNC(E66+G66+I66,1) -> 214118 | L66: =TRUNC(F66+H66+J66,1) -> 25694.1 | N66: 5FB7A4F9F6D3CA38BFFE6CA07742C1 | O66: 5FA604A726EC80C864B2BCC07E0B8DFA5C332B | P66: F | Q66: F | R66: T | V66: 1 | AW66: 5FB7A4F9F6D3CA38BFFE6CA07742C15FA604A726EC80C864B2BCC07E0B8DFA5C332B
A67: 보통인부 | B67: 일반공사 직종 | C67: 인 | D67: 0.049 | E67: =단가대비표!O188 -> 0 | F67: =TRUNC(E67*D67,1) -> 0 | G67: =단가대비표!P188 -> 157068 | H67: =TRUNC(G67*D67,1) -> 7696.3 | I67: =단가대비표!V188 -> 0 | J67: =TRUNC(I67*D67,1) -> 0 | K67: =TRUNC(E67+G67+I67,1) -> 157068 | L67: =TRUNC(F67+H67+J67,1) -> 7696.3 | N67: 5FB7A4F9F6D3CA38BFFE6CA07742C1 | O67: 5FA604A726EC80C864B2BCC07E0B8DFA5C306C | P67: F | Q67: F | R67: T | V67: 1 | AW67: 5FB7A4F9F6D3CA38BFFE6CA07742C15FA604A726EC80C864B2BCC07E0B8DFA5C306C
A68: 공구손료 | B68: 인력품의 3% | C68: 식 | D68: 1 | E68: =TRUNC(SUMIF(V66:V68, RIGHTB(O68, 1), H66:H68)*U68, 2) -> 1001.71 | F68: =TRUNC(E68*D68,1) -> 1001.7 | G68: 0 | H68: =TRUNC(G68*D68,1) -> 0 | I68: 0 | J68: =TRUNC(I68*D68,1) -> 0 | K68: =TRUNC(E68+G68+I68,1) -> 1001.7 | L68: =TRUNC(F68+H68+J68,1) -> 1001.7 | N68: 5FB7A4F9F6D3CA38BFFE6CA07742C1 | O68: 5E6194352674A0088E0A79D07C20001 | P68: F | Q68: F | R68: F | S68: 1 | T68: 0 | U68: 0.03 | AW68: 5FB7A4F9F6D3CA38BFFE6CA07742C15E6194352674A0088E0A79D07C20001
A69: [ 합 계 ] | F69: =TRUNC(SUMIF(N66:N68, N65, F66:F68),0) -> 1001 | H69: =TRUNC(SUMIF(N66:N68, N65, H66:H68),0) -> 33390 | J69: =TRUNC(SUMIF(N66:N68, N65, J66:J68),0) -> 0 | L69: =F69+H69+J69 -> 34391 | N69: TOTAL | O69: TOTAL
A71: 공조기1 리턴팬(철거) SIROCO25,000m/hr 대 기계 4-2-1 ( 호표 12 ) | N71: 5FB7A4F9F6D3CA38BFFE6CA07743EE
A72: 기계설비공 | B72: 일반공사 직종 | C72: 인 | D72: 1.808 | E72: =단가대비표!O205 -> 0 | F72: =TRUNC(E72*D72,1) -> 0 | G72: =단가대비표!P205 -> 213337 | H72: =TRUNC(G72*D72,1) -> 385713.2 | I72: =단가대비표!V205 -> 0 | J72: =TRUNC(I72*D72,1) -> 0 | K72: =TRUNC(E72+G72+I72,1) -> 213337 | L72: =TRUNC(F72+H72+J72,1) -> 385713.2 | N72: 5FB7A4F9F6D3CA38BFFE6CA07743EE | O72: 5FA604A726EC80C864B2BCC07E0B8DFA5C35EE | P72: F | Q72: F | R72: T | V72: 1 | AW72: 5FB7A4F9F6D3CA38BFFE6CA07743EE5FA604A726EC80C864B2BCC07E0B8DFA5C35EE
A73: 보통인부 | B73: 일반공사 직종 | C73: 인 | D73: 0.538 | E73: =단가대비표!O188 -> 0 | F73: =TRUNC(E73*D73,1) -> 0 | G73: =단가대비표!P188 -> 157068 | H73: =TRUNC(G73*D73,1) -> 84502.5 | I73: =단가대비표!V188 -> 0 | J73: =TRUNC(I73*D73,1) -> 0 | K73: =TRUNC(E73+G73+I73,1) -> 157068 | L73: =TRUNC(F73+H73+J73,1) -> 84502.5 | N73: 5FB7A4F9F6D3CA38BFFE6CA07743EE | O73: 5FA604A726EC80C864B2BCC07E0B8DFA5C306C | P73: F | Q73: F | R73: T | V73: 1 | AW73: 5FB7A4F9F6D3CA38BFFE6CA07743EE5FA604A726EC80C864B2BCC07E0B8DFA5C306C
A74: 공구손료 | B74: 인력품의 3% | C74: 식 | D74: 1 | E74: =TRUNC(SUMIF(V72:V74, RIGHTB(O74, 1), H72:H74)*U74, 2) -> 14106.47 | F74: =TRUNC(E74*D74,1) -> 14106.4 | G74: 0 | H74: =TRUNC(G74*D74,1) -> 0 | I74: 0 | J74: =TRUNC(I74*D74,1) -> 0 | K74: =TRUNC(E74+G74+I74,1) -> 14106.4 | L74: =TRUNC(F74+H74+J74,1) -> 14106.4 | N74: 5FB7A4F9F6D3CA38BFFE6CA07743EE | O74: 5E6194352674A0088E0A79D07C20001 | P74: F | Q74: F | R74: F | S74: 1 | T74: 0 | U74: 0.03 | AW74: 5FB7A4F9F6D3CA38BFFE6CA07743EE5E6194352674A0088E0A79D07C20001
A75: [ 합 계 ] | F75: =TRUNC(SUMIF(N72:N74, N71, F72:F74),0) -> 14106 | H75: =TRUNC(SUMIF(N72:N74, N71, H72:H74),0) -> 470215 | J75: =TRUNC(SUMIF(N72:N74, N71, J72:J74),0) -> 0 | L75: =F75+H75+J75 -> 484321 | N75: TOTAL | O75: TOTAL
A77: 공조기2 리턴팬(철거) SIROCO(SS), 22,000 m/hr 대 기계 4-2-1 ( 호표 13 ) | N77: 5FB7A4F9F6D3CA38BFFE6CA07743EF
A78: 기계설비공 | B78: 일반공사 직종 | C78: 인 | D78: 1.808 | E78: =단가대비표!O205 -> 0 | F78: =TRUNC(E78*D78,1) -> 0 | G78: =단가대비표!P205 -> 213337 | H78: =TRUNC(G78*D78,1) -> 385713.2 | I78: =단가대비표!V205 -> 0 | J78: =TRUNC(I78*D78,1) -> 0 | K78: =TRUNC(E78+G78+I78,1) -> 213337 | L78: =TRUNC(F78+H78+J78,1) -> 385713.2 | N78: 5FB7A4F9F6D3CA38BFFE6CA07743EF | O78: 5FA604A726EC80C864B2BCC07E0B8DFA5C35EE | P78: F | Q78: F | R78: T | V78: 1 | AW78: 5FB7A4F9F6D3CA38BFFE6CA07743EF5FA604A726EC80C864B2BCC07E0B8DFA5C35EE
A79: 보통인부 | B79: 일반공사 직종 | C79: 인 | D79: 0.538 | E79: =단가대비표!O188 -> 0 | F79: =TRUNC(E79*D79,1) -> 0 | G79: =단가대비표!P188 -> 157068 | H79: =TRUNC(G79*D79,1) -> 84502.5 | I79: =단가대비표!V188 -> 0 | J79: =TRUNC(I79*D79,1) -> 0 | K79: =TRUNC(E79+G79+I79,1) -> 157068 | L79: =TRUNC(F79+H79+J79,1) -> 84502.5 | N79: 5FB7A4F9F6D3CA38BFFE6CA07743EF | O79: 5FA604A726EC80C864B2BCC07E0B8DFA5C306C | P79: F | Q79: F | R79: T | V79: 1 | AW79: 5FB7A4F9F6D3CA38BFFE6CA07743EF5FA604A726EC80C864B2BCC07E0B8DFA5C306C
A80: 공구손료 | B80: 인력품의 3% | C80: 식 | D80: 1 | E80: =TRUNC(SUMIF(V78:V80, RIGHTB(O80, 1), H78:H80)*U80, 2) -> 14106.47 | F80: =TRUNC(E80*D80,1) -> 14106.4 | G80: 0 | H80: =TRUNC(G80*D80,1) -> 0 | I80: 0 | J80: =TRUNC(I80*D80,1) -> 0 | K80: =TRUNC(E80+G80+I80,1) -> 14106.4 | L80: =TRUNC(F80+H80+J80,1) -> 14106.4 | N80: 5FB7A4F9F6D3CA38BFFE6CA07743EF | O80: 5E6194352674A0088E0A79D07C20001 | P80: F | Q80: F | R80: F | S80: 1 | T80: 0 | U80: 0.03 | AW80: 5FB7A4F9F6D3CA38BFFE6CA07743EF5E6194352674A0088E0A79D07C20001
A81: [ 합 계 ] | F81: =TRUNC(SUMIF(N78:N80, N77, F78:F80),0) -> 14106 | H81: =TRUNC(SUMIF(N78:N80, N77, H78:H80),0) -> 470215 | J81: =TRUNC(SUMIF(N78:N80, N77, J78:J80),0) -> 0 | L81: =F81+H81+J81 -> 484321 | N81: TOTAL | O81: TOTAL
A83: 급수가압 펌프(철거) 500lpm, 37M, 5.5Kw 대 기계 4-2-1 ( 호표 14 ) | N83: 5FB7A4F9F6D3CA38BFFE6CA07743EC
A84: 기계설비공 | B84: 일반공사 직종 | C84: 인 | D84: 0.432 | E84: =단가대비표!O205 -> 0 | F84: =TRUNC(E84*D84,1) -> 0 | G84: =단가대비표!P205 -> 213337 | H84: =TRUNC(G84*D84,1) -> 92161.5 | I84: =단가대비표!V205 -> 0 | J84: =TRUNC(I84*D84,1) -> 0 | K84: =TRUNC(E84+G84+I84,1) -> 213337 | L84: =TRUNC(F84+H84+J84,1) -> 92161.5 | N84: 5FB7A4F9F6D3CA38BFFE6CA07743EC | O84: 5FA604A726EC80C864B2BCC07E0B8DFA5C35EE | P84: F | Q84: F | R84: T | V84: 1 | AW84: 5FB7A4F9F6D3CA38BFFE6CA07743EC5FA604A726EC80C864B2BCC07E0B8DFA5C35EE
A85: 보통인부 | B85: 일반공사 직종 | C85: 인 | D85: 0.288 | E85: =단가대비표!O188 -> 0 | F85: =TRUNC(E85*D85,1) -> 0 | G85: =단가대비표!P188 -> 157068 | H85: =TRUNC(G85*D85,1) -> 45235.5 | I85: =단가대비표!V188 -> 0 | J85: =TRUNC(I85*D85,1) -> 0 | K85: =TRUNC(E85+G85+I85,1) -> 157068 | L85: =TRUNC(F85+H85+J85,1) -> 45235.5 | N85: 5FB7A4F9F6D3CA38BFFE6CA07743EC | O85: 5FA604A726EC80C864B2BCC07E0B8DFA5C306C | P85: F | Q85: F | R85: T | V85: 1 | AW85: 5FB7A4F9F6D3CA38BFFE6CA07743EC5FA604A726EC80C864B2BCC07E0B8DFA5C306C
A86: 공구손료 | B86: 인력품의 3% | C86: 식 | D86: 1 | E86: =TRUNC(SUMIF(V84:V86, RIGHTB(O86, 1), H84:H86)*U86, 2) -> 4121.91 | F86: =TRUNC(E86*D86,1) -> 4121.9 | G86: 0 | H86: =TRUNC(G86*D86,1) -> 0 | I86: 0 | J86: =TRUNC(I86*D86,1) -> 0 | K86: =TRUNC(E86+G86+I86,1) -> 4121.9 | L86: =TRUNC(F86+H86+J86,1) -> 4121.9 | N86: 5FB7A4F9F6D3CA38BFFE6CA07743EC | O86: 5E6194352674A0088E0A79D07C20001 | P86: F | Q86: F | R86: F | S86: 1 | T86: 0 | U86: 0.03 | AW86: 5FB7A4F9F6D3CA38BFFE6CA07743EC5E6194352674A0088E0A79D07C20001
A87: [ 합 계 ] | F87: =TRUNC(SUMIF(N84:N86, N83, F84:F86),0) -> 4121 | H87: =TRUNC(SUMIF(N84:N86, N83, H84:H86),0) -> 137397 | J87: =TRUNC(SUMIF(N84:N86, N83, J84:J86),0) -> 0 | L87: =F87+H87+J87 -> 141518 | N87: TOTAL | O87: TOTAL
A89: 냉온수기 전원철거 식 ( 호표 15 ) | N89: 5ECFF40746AB114804E656F078BAE0
A90: 내선전공 | B90: 일반공사 직종 | C90: 인 | D90: 1 | E90: =단가대비표!O206 -> 0 | F90: =TRUNC(E90*D90,1) -> 0 | G90: =단가대비표!P206 -> 265406 | H90: =TRUNC(G90*D90,1) -> 265406 | I90: =단가대비표!V206 -> 0 | J90: =TRUNC(I90*D90,1) -> 0 | K90: =TRUNC(E90+G90+I90,1) -> 265406 | L90: =TRUNC(F90+H90+J90,1) -> 265406 | N90: 5ECFF40746AB114804E656F078BAE0 | O90: 5FA604A726EC80C864B2BCC07E0B8DFA5C3798 | P90: F | Q90: F | R90: T | V90: 1 | AW90: 5ECFF40746AB114804E656F078BAE05FA604A726EC80C864B2BCC07E0B8DFA5C3798
A91: 보통인부 | B91: 일반공사 직종 | C91: 인 | D91: 1 | E91: =단가대비표!O188 -> 0 | F91: =TRUNC(E91*D91,1) -> 0 | G91: =단가대비표!P188 -> 157068 | H91: =TRUNC(G91*D91,1) -> 157068 | I91: =단가대비표!V188 -> 0 | J91: =TRUNC(I91*D91,1) -> 0 | K91: =TRUNC(E91+G91+I91,1) -> 157068 | L91: =TRUNC(F91+H91+J91,1) -> 157068 | N91: 5ECFF40746AB114804E656F078BAE0 | O91: 5FA604A726EC80C864B2BCC07E0B8DFA5C306C | P91: F | Q91: F | R91: T | V91: 1 | AW91: 5ECFF40746AB114804E656F078BAE05FA604A726EC80C864B2BCC07E0B8DFA5C306C
A92: 공구손료 | B92: 인력품의 3% | C92: 식 | D92: 1 | E92: =TRUNC(SUMIF(V90:V92, RIGHTB(O92, 1), H90:H92)*U92, 2) -> 12674.22 | F92: =TRUNC(E92*D92,1) -> 12674.2 | G92: 0 | H92: =TRUNC(G92*D92,1) -> 0 | I92: 0 | J92: =TRUNC(I92*D92,1) -> 0 | K92: =TRUNC(E92+G92+I92,1) -> 12674.2 | L92: =TRUNC(F92+H92+J92,1) -> 12674.2 | N92: 5ECFF40746AB114804E656F078BAE0 | O92: 5E6194352674A0088E0A79D07C20001 | P92: F | Q92: F | R92: F | S92: 1 | T92: 0 | U92: 0.03 | AW92: 5ECFF40746AB114804E656F078BAE05E6194352674A0088E0A79D07C20001
A93: [ 합 계 ] | F93: =TRUNC(SUMIF(N90:N92, N89, F90:F92),0) -> 12674 | H93: =TRUNC(SUMIF(N90:N92, N89, H90:H92),0) -> 422474 | J93: =TRUNC(SUMIF(N90:N92, N89, J90:J92),0) -> 0 | L93: =F93+H93+J93 -> 435148 | N93: TOTAL | O93: TOTAL
A95: 보일러 전원철거 식 ( 호표 16 ) | N95: 5ECFF40746AB114804E656F078BAE3
A96: 내선전공 | B96: 일반공사 직종 | C96: 인 | D96: 1 | E96: =단가대비표!O206 -> 0 | F96: =TRUNC(E96*D96,1) -> 0 | G96: =단가대비표!P206 -> 265406 | H96: =TRUNC(G96*D96,1) -> 265406 | I96: =단가대비표!V206 -> 0 | J96: =TRUNC(I96*D96,1) -> 0 | K96: =TRUNC(E96+G96+I96,1) -> 265406 | L96: =TRUNC(F96+H96+J96,1) -> 265406 | N96: 5ECFF40746AB114804E656F078BAE3 | O96: 5FA604A726EC80C864B2BCC07E0B8DFA5C3798 | P96: F | Q96: F | R96: T | V96: 1 | AW96: 5ECFF40746AB114804E656F078BAE35FA604A726EC80C864B2BCC07E0B8DFA5C3798
A97: 보통인부 | B97: 일반공사 직종 | C97: 인 | D97: 1 | E97: =단가대비표!O188 -> 0 | F97: =TRUNC(E97*D97,1) -> 0 | G97: =단가대비표!P188 -> 157068 | H97: =TRUNC(G97*D97,1) -> 157068 | I97: =단가대비표!V188 -> 0 | J97: =TRUNC(I97*D97,1) -> 0 | K97: =TRUNC(E97+G97+I97,1) -> 157068 | L97: =TRUNC(F97+H97+J97,1) -> 157068 | N97: 5ECFF40746AB114804E656F078BAE3 | O97: 5FA604A726EC80C864B2BCC07E0B8DFA5C306C | P97: F | Q97: F | R97: T | V97: 1 | AW97: 5ECFF40746AB114804E656F078BAE35FA604A726EC80C864B2BCC07E0B8DFA5C306C
A98: 공구손료 | B98: 인력품의 3% | C98: 식 | D98: 1 | E98: =TRUNC(SUMIF(V96:V98, RIGHTB(O98, 1), H96:H98)*U98, 2) -> 12674.22 | F98: =TRUNC(E98*D98,1) -> 12674.2 | G98: 0 | H98: =TRUNC(G98*D98,1) -> 0 | I98: 0 | J98: =TRUNC(I98*D98,1) -> 0 | K98: =TRUNC(E98+G98+I98,1) -> 12674.2 | L98: =TRUNC(F98+H98+J98,1) -> 12674.2 | N98: 5ECFF40746AB114804E656F078BAE3 | O98: 5E6194352674A0088E0A79D07C20001 | P98: F | Q98: F | R98: F | S98: 1 | T98: 0 | U98: 0.03 | AW98: 5ECFF40746AB114804E656F078BAE35E6194352674A0088E0A79D07C20001
A99: [ 합 계 ] | F99: =TRUNC(SUMIF(N96:N98, N95, F96:F98),0) -> 12674 | H99: =TRUNC(SUMIF(N96:N98, N95, H96:H98),0) -> 422474 | J99: =TRUNC(SUMIF(N96:N98, N95, J96:J98),0) -> 0 | L99: =F99+H99+J99 -> 435148 | N99: TOTAL | O99: TOTAL
A101: 냉각수펌프 전원철거 식 ( 호표 17 ) | N101: 5ECFF40746AB114804E656F078BAE2
A102: 내선전공 | B102: 일반공사 직종 | C102: 인 | D102: 1 | E102: =단가대비표!O206 -> 0 | F102: =TRUNC(E102*D102,1) -> 0 | G102: =단가대비표!P206 -> 265406 | H102: =TRUNC(G102*D102,1) -> 265406 | I102: =단가대비표!V206 -> 0 | J102: =TRUNC(I102*D102,1) -> 0 | K102: =TRUNC(E102+G102+I102,1) -> 265406 | L102: =TRUNC(F102+H102+J102,1) -> 265406 | N102: 5ECFF40746AB114804E656F078BAE2 | O102: 5FA604A726EC80C864B2BCC07E0B8DFA5C3798 | P102: F | Q102: F | R102: T | V102: 1 | AW102: 5ECFF40746AB114804E656F078BAE25FA604A726EC80C864B2BCC07E0B8DFA5C3798
A103: 보통인부 | B103: 일반공사 직종 | C103: 인 | D103: 1 | E103: =단가대비표!O188 -> 0 | F103: =TRUNC(E103*D103,1) -> 0 | G103: =단가대비표!P188 -> 157068 | H103: =TRUNC(G103*D103,1) -> 157068 | I103: =단가대비표!V188 -> 0 | J103: =TRUNC(I103*D103,1) -> 0 | K103: =TRUNC(E103+G103+I103,1) -> 157068 | L103: =TRUNC(F103+H103+J103,1) -> 157068 | N103: 5ECFF40746AB114804E656F078BAE2 | O103: 5FA604A726EC80C864B2BCC07E0B8DFA5C306C | P103: F | Q103: F | R103: T | V103: 1 | AW103: 5ECFF40746AB114804E656F078BAE25FA604A726EC80C864B2BCC07E0B8DFA5C306C
A104: 공구손료 | B104: 인력품의 3% | C104: 식 | D104: 1 | E104: =TRUNC(SUMIF(V102:V104, RIGHTB(O104, 1), H102:H104)*U104, 2) -> 12674.22 | F104: =TRUNC(E104*D104,1) -> 12674.2 | G104: 0 | H104: =TRUNC(G104*D104,1) -> 0 | I104: 0 | J104: =TRUNC(I104*D104,1) -> 0 | K104: =TRUNC(E104+G104+I104,1) -> 12674.2 | L104: =TRUNC(F104+H104+J104,1) -> 12674.2 | N104: 5ECFF40746AB114804E656F078BAE2 | O104: 5E6194352674A0088E0A79D07C20001 | P104: F | Q104: F | R104: F | S104: 1 | T104: 0 | U104: 0.03 | AW104: 5ECFF40746AB114804E656F078BAE25E6194352674A0088E0A79D07C20001
A105: [ 합 계 ] | F105: =TRUNC(SUMIF(N102:N104, N101, F102:F104),0) -> 12674 | H105: =TRUNC(SUMIF(N102:N104, N101, H102:H104),0) -> 422474 | J105: =TRUNC(SUMIF(N102:N104, N101, J102:J104),0) -> 0 | L105: =F105+H105+J105 -> 435148 | N105: TOTAL | O105: TOTAL
A107: 냉온수펌프 전원철거 식 ( 호표 18 ) | N107: 5ECFF40746AB114804E656F078BAE5
A108: 내선전공 | B108: 일반공사 직종 | C108: 인 | D108: 1 | E108: =단가대비표!O206 -> 0 | F108: =TRUNC(E108*D108,1) -> 0 | G108: =단가대비표!P206 -> 265406 | H108: =TRUNC(G108*D108,1) -> 265406 | I108: =단가대비표!V206 -> 0 | J108: =TRUNC(I108*D108,1) -> 0 | K108: =TRUNC(E108+G108+I108,1) -> 265406 | L108: =TRUNC(F108+H108+J108,1) -> 265406 | N108: 5ECFF40746AB114804E656F078BAE5 | O108: 5FA604A726EC80C864B2BCC07E0B8DFA5C3798 | P108: F | Q108: F | R108: T | V108: 1 | AW108: 5ECFF40746AB114804E656F078BAE55FA604A726EC80C864B2BCC07E0B8DFA5C3798
A109: 보통인부 | B109: 일반공사 직종 | C109: 인 | D109: 1 | E109: =단가대비표!O188 -> 0 | F109: =TRUNC(E109*D109,1) -> 0 | G109: =단가대비표!P188 -> 157068 | H109: =TRUNC(G109*D109,1) -> 157068 | I109: =단가대비표!V188 -> 0 | J109: =TRUNC(I109*D109,1) -> 0 | K109: =TRUNC(E109+G109+I109,1) -> 157068 | L109: =TRUNC(F109+H109+J109,1) -> 157068 | N109: 5ECFF40746AB114804E656F078BAE5 | O109: 5FA604A726EC80C864B2BCC07E0B8DFA5C306C | P109: F | Q109: F | R109: T | V109: 1 | AW109: 5ECFF40746AB114804E656F078BAE55FA604A726EC80C864B2BCC07E0B8DFA5C306C
A110: 공구손료 | B110: 인력품의 3% | C110: 식 | D110: 1 | E110: =TRUNC(SUMIF(V108:V110, RIGHTB(O110, 1), H108:H110)*U110, 2) -> 12674.22 | F110: =TRUNC(E110*D110,1) -> 12674.2 | G110: 0 | H110: =TRUNC(G110*D110,1) -> 0 | I110: 0 | J110: =TRUNC(I110*D110,1) -> 0 | K110: =TRUNC(E110+G110+I110,1) -> 12674.2 | L110: =TRUNC(F110+H110+J110,1) -> 12674.2 | N110: 5ECFF40746AB114804E656F078BAE5 | O110: 5E6194352674A0088E0A79D07C20001 | P110: F | Q110: F | R110: F | S110: 1 | T110: 0 | U110: 0.03 | AW110: 5ECFF40746AB114804E656F078BAE55E6194352674A0088E0A79D07C20001
A111: [ 합 계 ] | F111: =TRUNC(SUMIF(N108:N110, N107, F108:F110),0) -> 12674 | H111: =TRUNC(SUMIF(N108:N110, N107, H108:H110),0) -> 422474 | J111: =TRUNC(SUMIF(N108:N110, N107, J108:J110),0) -> 0 | L111: =F111+H111+J111 -> 435148 | N111: TOTAL | O111: TOTAL
A113: 공기조화기1 전원철거 식 ( 호표 19 ) | N113: 5ECFF40746AB114804E656F078BAE4
A114: 내선전공 | B114: 일반공사 직종 | C114: 인 | D114: 1 | E114: =단가대비표!O206 -> 0 | F114: =TRUNC(E114*D114,1) -> 0 | G114: =단가대비표!P206 -> 265406 | H114: =TRUNC(G114*D114,1) -> 265406 | I114: =단가대비표!V206 -> 0 | J114: =TRUNC(I114*D114,1) -> 0 | K114: =TRUNC(E114+G114+I114,1) -> 265406 | L114: =TRUNC(F114+H114+J114,1) -> 265406 | N114: 5ECFF40746AB114804E656F078BAE4 | O114: 5FA604A726EC80C864B2BCC07E0B8DFA5C3798 | P114: F | Q114: F | R114: T | V114: 1 | AW114: 5ECFF40746AB114804E656F078BAE45FA604A726EC80C864B2BCC07E0B8DFA5C3798
A115: 보통인부 | B115: 일반공사 직종 | C115: 인 | D115: 1 | E115: =단가대비표!O188 -> 0 | F115: =TRUNC(E115*D115,1) -> 0 | G115: =단가대비표!P188 -> 157068 | H115: =TRUNC(G115*D115,1) -> 157068 | I115: =단가대비표!V188 -> 0 | J115: =TRUNC(I115*D115,1) -> 0 | K115: =TRUNC(E115+G115+I115,1) -> 157068 | L115: =TRUNC(F115+H115+J115,1) -> 157068 | N115: 5ECFF40746AB114804E656F078BAE4 | O115: 5FA604A726EC80C864B2BCC07E0B8DFA5C306C | P115: F | Q115: F | R115: T | V115: 1 | AW115: 5ECFF40746AB114804E656F078BAE45FA604A726EC80C864B2BCC07E0B8DFA5C306C
A116: 공구손료 | B116: 인력품의 3% | C116: 식 | D116: 1 | E116: =TRUNC(SUMIF(V114:V116, RIGHTB(O116, 1), H114:H116)*U116, 2) -> 12674.22 | F116: =TRUNC(E116*D116,1) -> 12674.2 | G116: 0 | H116: =TRUNC(G116*D116,1) -> 0 | I116: 0 | J116: =TRUNC(I116*D116,1) -> 0 | K116: =TRUNC(E116+G116+I116,1) -> 12674.2 | L116: =TRUNC(F116+H116+J116,1) -> 12674.2 | N116: 5ECFF40746AB114804E656F078BAE4 | O116: 5E6194352674A0088E0A79D07C20001 | P116: F | Q116: F | R116: F | S116: 1 | T116: 0 | U116: 0.03 | AW116: 5ECFF40746AB114804E656F078BAE45E6194352674A0088E0A79D07C20001
A117: [ 합 계 ] | F117: =TRUNC(SUMIF(N114:N116, N113, F114:F116),0) -> 12674 | H117: =TRUNC(SUMIF(N114:N116, N113, H114:H116),0) -> 422474 | J117: =TRUNC(SUMIF(N114:N116, N113, J114:J116),0) -> 0 | L117: =F117+H117+J117 -> 435148 | N117: TOTAL | O117: TOTAL
A119: 공기조화기2 전원철거 식 ( 호표 20 ) | N119: 5ECFF40746AB114804E656F078BAE7
...

Sheet 단가대비표
A1: 단 가 대 비 표
A2: [ 부산시립시민도서관개보수 ]
A3: 코 드 | B3: 품 명 | C3: 규격 | D3: 단위 | E3: 재 료 비 | P3: 노 무 비 | Q3: 경 비 | W3: 번 호 | X3: 비 고 | Y3: 품목구분 | Z3: 노임구분 | AA3: 소수점처리 | AB3: 자재구분
E4: 조달청가격 | F4: PAGE | G4: 거래가격 | H4: PAGE | I4: 유통물가 | J4: PAGE | K4: 조사가격1 | L4: PAGE | M4: 조사가격2 | N4: PAGE | O4: 적용단가 | Q4: 조달청가격 | R4: 거래가격 | S4: 유통물가 | T4: 조사가격1 | U4: 조사가격2 | V4: 적용단가
A5: 586F1417A6271EF859B0E0907DC7389F816CE6 | B5: 굴삭기(무한궤도) | C5: 0.7㎥ | D5: 대 | E5: 0 | G5: 0 | I5: 0 | K5: 0 | M5: 0 | O5: 0 | P5: 0 | Q5: 0 | R5: 0 | S5: 0 | T5: 0 | U5: 108021 | V5: =SMALL(Q5:U5,COUNTIF(Q5:U5,0)+1) -> 108021 | W5: 자재 1 | X5: 천원
A6: 586F1417A6270C180335231079BD77E9E59A1B | B6: 플레이트 콤팩터 | C6: 1.5ton | D6: 대 | E6: 0 | G6: 0 | I6: 0 | K6: 0 | M6: 0 | O6: 0 | P6: 0 | Q6: 0 | R6: 0 | S6: 0 | T6: 0 | U6: 1522 | V6: =SMALL(Q6:U6,COUNTIF(Q6:U6,0)+1) -> 1522 | W6: 자재 2 | X6: 천원
A7: 586F1417A62739B807FA6B00740D680BAD914A | B7: 크레인(타이어) | C7: 25ton | D7: 대 | E7: 0 | G7: 0 | I7: 0 | K7: 0 | M7: 0 | O7: 0 | P7: 0 | Q7: 0 | R7: 0 | S7: 0 | T7: 0 | U7: 272390 | V7: =SMALL(Q7:U7,COUNTIF(Q7:U7,0)+1) -> 272390 | W7: 자재 3 | X7: 천원
A8: 586F1417A6276688B78F298079F34C0B8E1DB1 | B8: 용접기(교류) | C8: 500Amp | D8: 대 | E8: 0 | G8: 0 | I8: 0 | K8: 0 | M8: 0 | O8: 0 | P8: 0 | Q8: 0 | R8: 0 | S8: 0 | T8: 0 | U8: 612 | V8: =SMALL(Q8:U8,COUNTIF(Q8:U8,0)+1) -> 612 | W8: 자재 4 | X8: 천원
A9: 587994A9662FFE68D9FF38F07E227C1BC5C803 | B9: 자갈 | C9: 자갈, 서울, 도착도, #57 | D9: M3 | E9: 0 | G9: 32000 | H9: 103 | I9: 0 | K9: 0 | M9: 0 | O9: =SMALL(E9:M9,COUNTIF(E9:M9,0)+1) -> 32000 | P9: 0 | Q9: 0 | R9: 0 | S9: 0 | T9: 0 | U9: 0 | V9: 0 | W9: 자재 5
A10: 587994A9662FFE78FFE0CEE07A917A23D76EA4 | B10: 모래 | C10: 모래, 서울, 세척사, 도착도 | D10: M3 | E10: 0 | G10: 0 | I10: 35000 | J10: 61 | K10: 0 | M10: 0 | O10: =SMALL(E10:M10,COUNTIF(E10:M10,0)+1) -> 35000 | P10: 0 | Q10: 0 | R10: 0 | S10: 0 | T10: 0 | U10: 0 | V10: 0 | W10: 자재 6
A11: 587994A9665B1F88DB7403A07D2A0D3F5A6142 | B11: 스테인리스 망 | C11: 스테인리스망, STS304, 14mesh*∮0.6*1m | D11: M2 | E11: 0 | G11: 27140 | H11: 101 | I11: 0 | K11: 0 | M11: 0 | O11: =SMALL(E11:M11,COUNTIF(E11:M11,0)+1) -> 27140 | P11: 0 | Q11: 0 | R11: 0 | S11: 0 | T11: 0 | U11: 0 | V11: 0 | W11: 자재 7
A12: 5879A44E36BB96183CEEF96075F9AD55A4073D | B12: 산소가스 | C12: 기체 | D12: L | E12: 2 | G12: 4.16 | H12: 1451 | I12: 3.03 | J12: 1190 | K12: 0 | M12: 0 | O12: =SMALL(E12:M12,COUNTIF(E12:M12,0)+1) -> 2 | P12: 0 | Q12: 0 | R12: 0 | S12: 0 | T12: 0 | U12: 0 | V12: 0 | W12: 자재 8 | X12: 대기압상태기준
A13: 5879A44E36BBA0F8D65455E076111CEC327BFC | B13: 아르곤가스 | C13: 아르곤가스, 건설용알곤가스 | D13: L | E13: 0 | G13: 6.38 | H13: 1451 | I13: 6.05 | J13: 1190 | K13: 0 | M13: 0 | O13: =SMALL(E13:M13,COUNTIF(E13:M13,0)+1) -> 6.05 | P13: 0 | Q13: 0 | R13: 0 | S13: 0 | T13: 0 | U13: 0 | V13: 0 | W13: 자재 9
A14: 5879D402E66C98886BF3350078F41975BF7B2F | B14: 경유 | C14: 경유, 저유황 | D14: L | E14: 0 | G14: 1602.72 | H14: 1451 | I14: 1410.9 | J14: 1189 | K14: 0 | M14: 0 | O14: =SMALL(E14:M14,COUNTIF(E14:M14,0)+1) -> 1410.9 | P14: 0 | Q14: 0 | R14: 0 | S14: 0 | T14: 0 | U14: 0 | V14: 0 | W14: 자재 10
A15: 5879D402E66C98886BF060807371D12647A789 | B15: 공업용휘발유 | C15: 공업용휘발유, 무연 | D15: L | E15: 0 | G15: 1696.36 | H15: 1451 | I15: 1438.18 | J15: 1189 | K15: 0 | M15: 0 | O15: =SMALL(E15:M15,COUNTIF(E15:M15,0)+1) -> 1438.18 | P15: 0 | Q15: 0 | R15: 0 | S15: 0 | T15: 0 | U15: 0 | V15: 0 | W15: 자재 11
A16: 5879D402E67EFF584DC58600738280E2608169 | B16: 아세틸렌가스 | C16: 아세틸렌가스, kg | D16: kg | E16: 14869 | G16: 45000 | H16: 1451 | I16: 23700 | J16: 1190 | K16: 0 | M16: 0 | O16: =SMALL(E16:M16,COUNTIF(E16:M16,0)+1) -> 14869 | P16: 0 | Q16: 0 | R16: 0 | S16: 0 | T16: 0 | U16: 0 | V16: 0 | W16: 자재 12
A17: 5879D402E67EFF584DC58600738280E260816A | B17: 아세틸렌가스 | C17: 아세틸렌가스, g | D17: g | E17: 0 | G17: 45 | H17: 1451 | I17: 23.7 | J17: 1190 | K17: 0 | M17: 0 | O17: =SMALL(E17:M17,COUNTIF(E17:M17,0)+1) -> 23.7 | P17: 0 | Q17: 0 | R17: 0 | S17: 0 | T17: 0 | U17: 0 | V17: 0 | W17: 자재 13
A18: 584C74F586DF2FF80CF7D3307E9BD026A6E92A | B18: 용접용 용재 | C18: 후락스 | D18: g | E18: 0 | G18: 10.5 | H18: 1458 | I18: 0 | K18: 0 | M18: 0 | O18: =SMALL(E18:M18,COUNTIF(E18:M18,0)+1) -> 10.5 | P18: 0 | Q18: 0 | R18: 0 | S18: 0 | T18: 0 | U18: 0 | V18: 0 | W18: 자재 14
A19: 584C74F586DF2FF80CF41E9072E0A460B407D7 | B19: 연강용피복아크용접봉 | C19: 연강용피복아크용접봉, CS-200, ∮3.2mm | D19: kg | E19: 0 | G19: 3150 | H19: 1326 | I19: 0 | K19: 0 | M19: 0 | O19: =SMALL(E19:M19,COUNTIF(E19:M19,0)+1) -> 3150 | P19: 0 | Q19: 0 | R19: 0 | S19: 0 | T19: 0 | U19: 0 | V19: 0 | W19: 자재 15
A20: 584C74F586DF2FF80CF41E9072E0A460B407D8 | B20: 연강용피복아크용접봉 | C20: 연강용피복아크용접봉, CS-200, ∮4.0mm | D20: kg | E20: 0 | G20: 3050 | H20: 1326 | I20: 0 | K20: 0 | M20: 0 | O20: =SMALL(E20:M20,COUNTIF(E20:M20,0)+1) -> 3050 | P20: 0 | Q20: 0 | R20: 0 | S20: 0 | T20: 0 | U20: 0 | V20: 0 | W20: 자재 16
A21: 584C74F586DF2FF80CF41E9072E0A460B40AA4 | B21: 용접봉(연강용) | C21: 3.2(KSE4301) | D21: kg | E21: 0 | G21: 2980 | H21: 1326 | I21: 3080 | J21: 1132 | K21: 0 | M21: 0 | O21: =SMALL(E21:M21,COUNTIF(E21:M21,0)+1) -> 2980 | P21: 0 | Q21: 0 | R21: 0 | S21: 0 | T21: 0 | U21: 0 | V21: 0 | W21: 자재 17
A22: 584C74F586DF2FF80CF41E9072E0A460B7D33C | B22: 동 및 동합금용 용접봉 | C22: 동 및 동합금용 용접봉, 동, ∮2.4mm, BCUP3 | D22: g | E22: 72.38 | G22: 153.2 | H22: 1327 | I22: 0 | K22: 0 | M22: 0 | O22: =SMALL(E22:M22,COUNTIF(E22:M22,0)+1) -> 72.38 | P22: 0 | Q22: 0 | R22: 0 | S22: 0 | T22: 0 | U22: 0 | V22: 0 | W22: 자재 18
A23: 584C74F586DF2FF80CF41E9072E0A460B6CF9B | B23: 스테인리스강용알곤용접봉 | C23: 스테인리스강용알곤용접봉, ∮3.2mm, T-308 | D23: kg | E23: 0 | G23: 0 | I23: 0 | K23: 0 | M23: 9160 | N23: 설비협회 | O23: =SMALL(E23:M23,COUNTIF(E23:M23,0)+1) -> 9160 | P23: 0 | Q23: 0 | R23: 0 | S23: 0 | T23: 0 | U23: 0 | V23: 0 | W23: 자재 19
A24: 584C044696D2A5881F4DD4C071F33B2BB58806 | B24: (신설)물탱크, 40톤, 현장설치도 | C24: SMC물탱크(보온), 5,000 X 4,000 X 2,000(H) | D24: 대 | E24: 14920000 | G24: 0 | I24: 0 | K24: 0 | M24: 0 | O24: =SMALL(E24:M24,COUNTIF(E24:M24,0)+1) -> 14920000 | P24: 0 | Q24: 0 | R24: 0 | S24: 0 | T24: 0 | U24: 0 | V24: 0 | W24: 자재 20 | X24: 식별번호 24237285
A25: 584C044696D2A5881F4DD4C071F33B2BB58916 | B25: (신설)물탱크, 8톤, 현장설치도 | C25: SMC물탱크(보온), 2,000 X 2,000 X 2,000(H) | D25: 대 | E25: 2486000 | G25: 0 | I25: 0 | K25: 0 | M25: 0 | O25: =SMALL(E25:M25,COUNTIF(E25:M25,0)+1) -> 2486000 | P25: 0 | Q25: 0 | R25: 0 | S25: 0 | T25: 0 | U25: 0 | V25: 0 | W25: 자재 21 | X25: 식별번호 21938698
A26: 585EB4CD36ADCFA892F897907BBBF2EC2A748B | B26: 코너앵글 | C26: 코너앵글, 앵글(STS), 50*50*4 | D26: kg | E26: 0 | G26: 6200 | H26: 75 | I26: 4955 | J26: 40 | K26: 0 | M26: 0 | O26: =SMALL(E26:M26,COUNTIF(E26:M26,0)+1) -> 4955 | P26: 0 | Q26: 0 | R26: 0 | S26: 0 | T26: 0 | U26: 0 | V26: 0 | W26: 자재 22
A27: 585EB4CD36ADCF988AED91C07FAB03258C15AC | B27: 철근콘크리트용봉강 | C27: 철근콘크리트용봉강, 이형봉강(SD300), D-13, 지정장소도 | D27: TON | E27: 0 | G27: 1000000 | H27: 49 | I27: 0 | K27: 0 | M27: 0 | O27: =SMALL(E27:M27,COUNTIF(E27:M27,0)+1) -> 1000000 | P27: 0 | Q27: 0 | R27: 0 | S27: 0 | T27: 0 | U27: 0 | V27: 0 | W27: 자재 23
A28: 585EB4CD36ADFB182D6D8A1071DD93A690D6E4 | B28: 도장용융아연도강판 | C28: 도장용융아연도강판, 폴리에스터(양면), 0.80mm | D28: kg | E28: 0 | G28: 1719 | H28: 66 | I28: 1747.47 | J28: 29 | K28: 0 | M28: 0 | O28: =SMALL(E28:M28,COUNTIF(E28:M28,0)+1) -> 1719 | P28: 0 | Q28: 0 | R28: 0 | S28: 0 | T28: 0 | U28: 0 | V28: 0 | W28: 자재 24
A29: 585EB4CD36ADFB182D6D8A1071DD93A690D6E6 | B29: 도장용융아연도강판 | C29: 도장용융아연도강판, 폴리에스터(양면), 1.00mm | D29: kg | E29: 0 | G29: 1695 | H29: 66 | I29: 1725.96 | J29: 29 | K29: 0 | M29: 0 | O29: =SMALL(E29:M29,COUNTIF(E29:M29,0)+1) -> 1695 | P29: 0 | Q29: 0 | R29: 0 | S29: 0 | T29: 0 | U29: 0 | V29: 0 | W29: 자재 25
A30: 585EB4CD36ADFB182D6D8A107030CF08049944 | B30: 착색아연도강판 | C30: 0.3t*914*1829 | D30: M2 | E30: 0 | G30: 5503.28 | H30: 66 | I30: 5601.75 | J30: 29 | K30: 0 | M30: 0 | O30: =SMALL(E30:M30,COUNTIF(E30:M30,0)+1) -> 5503.28 | P30: 0 | Q30: 0 | R30: 0 | S30: 0 | T30: 0 | U30: 0 | V30: 0 | W30: 자재 26
A31: 585EB4CD36BE5988187AA2507092AFE8F2FD60 | B31: 시멘트 | C31: 시멘트, 분공장도 | D31: kg | E31: 0 | G31: 140.9 | H31: 104 | I31: 143.18 | J31: 62 | K31: 0 | M31: 0 | O31: =SMALL(E31:M31,COUNTIF(E31:M31,0)+1) -> 140.9 | P31: 0 | Q31: 0 | R31: 0 | S31: 0 | T31: 0 | U31: 0 | V31: 0 | W31: 자재 27
A32: 585EA424C6109A68D00769E075E968CCD47EE9 | B32: 철선 | C32: 철선, 어닐링, ∮0.9mm | D32: kg | E32: 1730 | G32: 1780 | H32: 85 | I32: 1830 | J32: 42 | K32: 0 | M32: 0 | O32: =SMALL(E32:M32,COUNTIF(E32:M32,0)+1) -> 1730 | P32: 0 | Q32: 0 | R32: 0 | S32: 0 | T32: 0 | U32: 0 | V32: 0 | W32: 자재 28
A33: 585EA424C6226B389C4517F076832C9BB8A3D8 | B33: U볼트 | C33: U볼트, 절연, ∮25mm | D33: 개 | E33: 370 | G33: 760 | H33: 95 | I33: 1006 | J33: 50 | K33: 0 | M33: 0 | O33: =SMALL(E33:M33,COUNTIF(E33:M33,0)+1) -> 370 | P33: 0 | Q33: 0 | R33: 0 | S33: 0 | T33: 0 | U33: 0 | V33: 0 | W33: 자재 29
A34: 585EA424C6226B389C4517F076832C9BB8A2C9 | B34: U볼트 | C34: U볼트, 절연, ∮40mm | D34: 개 | E34: 450 | G34: 920 | H34: 95 | I34: 1248 | J34: 50 | K34: 0 | M34: 0 | O34: =SMALL(E34:M34,COUNTIF(E34:M34,0)+1) -> 450 | P34: 0 | Q34: 0 | R34: 0 | S34: 0 | T34: 0 | U34: 0 | V34: 0 | W34: 자재 30
A35: 585EA424C6226B389C4517F076832C9BB8A2CD | B35: U볼트 | C35: U볼트, 절연, ∮100mm | D35: 개 | E35: 880 | G35: 1840 | H35: 95 | I35: 2351 | J35: 50 | K35: 0 | M35: 0 | O35: =SMALL(E35:M35,COUNTIF(E35:M35,0)+1) -> 880 | P35: 0 | Q35: 0 | R35: 0 | S35: 0 | T35: 0 | U35: 0 | V35: 0 | W35: 자재 31
A36: 585EA424C6226B389C4517F076832C9BB8A2CC | B36: U볼트 | C36: U볼트, 절연, ∮125mm | D36: 개 | E36: 1590 | G36: 2170 | H36: 95 | I36: 2739 | J36: 50 | K36: 0 | M36: 0 | O36: =SMALL(E36:M36,COUNTIF(E36:M36,0)+1) -> 1590 | P36: 0 | Q36: 0 | R36: 0 | S36: 0 | T36: 0 | U36: 0 | V36: 0 | W36: 자재 32
A37: 585EA424C6226B389C4517F076832C9BB8A598 | B37: U볼트 | C37: U볼트, 비절연, ∮100mm | D37: 개 | E37: 440 | G37: 702 | H37: 95 | I37: 0 | K37: 0 | M37: 0 | O37: =SMALL(E37:M37,COUNTIF(E37:M37,0)+1) -> 440 | P37: 0 | Q37: 0 | R37: 0 | S37: 0 | T37: 0 | U37: 0 | V37: 0 | W37: 자재 33
A38: 585EA424C6226B38940553207852122F2FEA1A | B38: 행어볼트 | C38: 행어볼트, 아연도금, M10*1000 | D38: 개 | E38: 570 | G38: 0 | I38: 0 | K38: 0 | M38: 0 | O38: =SMALL(E38:M38,COUNTIF(E38:M38,0)+1) -> 570 | P38: 0 | Q38: 0 | R38: 0 | S38: 0 | T38: 0 | U38: 0 | V38: 0 | W38: 자재 34
A39: 585EA424C6226B38940553207852122F2FEA1C | B39: 행어볼트 | C39: 행어볼트, 아연도금, M14*1000 | D39: EA | E39: 0 | G39: 0 | I39: 0 | K39: 0 | M39: 2452 | N39: 설비협회 | O39: =SMALL(E39:M39,COUNTIF(E39:M39,0)+1) -> 2452 | P39: 0 | Q39: 0 | R39: 0 | S39: 0 | T39: 0 | U39: 0 | V39: 0 | W39: 자재 35
A40: 585EA424C6226B28F5DE9600725875B408F3E5 | B40: 육각너트 | C40: 육각너트, M10 | D40: 개 | E40: 0 | G40: 32.8 | H40: 98 | I40: 0 | K40: 0 | M40: 0 | O40: =SMALL(E40:M40,COUNTIF(E40:M40,0)+1) -> 32.8 | P40: 0 | Q40: 0 | R40: 0 | S40: 0 | T40: 0 | U40: 0 | V40: 0 | W40: 자재 36
A41: 585EA424C6226B28F5DE9600725875B408F3E6 | B41: 육각너트 | C41: 육각너트, M16 | D41: 개 | E41: 0 | G41: 96 | H41: 98 | I41: 0 | K41: 0 | M41: 0 | O41: =SMALL(E41:M41,COUNTIF(E41:M41,0)+1) -> 96 | P41: 0 | Q41: 0 | R41: 0 | S41: 0 | T41: 0 | U41: 0 | V41: 0 | W41: 자재 37
A42: 585EA424C6226BD88181D1707223394BE861B2 | B42: 평와셔 | C42: 평와셔, 스테인리스, 호칭경 16mm | D42: 개 | E42: 0 | G42: 10.4 | H42: 96 | I42: 102.8 | J42: 56 | K42: 0 | M42: 0 | O42: =SMALL(E42:M42,COUNTIF(E42:M42,0)+1) -> 10.4 | P42: 0 | Q42: 0 | R42: 0 | S42: 0 | T42: 0 | U42: 0 | V42: 0 | W42: 자재 38
A43: 585EA424C6226BD88181D1707223394BE861B0 | B43: 평와셔 | C43: 평와셔, 스테인리스, 호칭경 20mm | D43: 개 | E43: 0 | G43: 120.1 | H43: 96 | I43: 155.5 | J43: 56 | K43: 0 | M43: 0 | O43: =SMALL(E43:M43,COUNTIF(E43:M43,0)+1) -> 120.1 | P43: 0 | Q43: 0 | R43: 0 | S43: 0 | T43: 0 | U43: 0 | V43: 0 | W43: 자재 39
A44: 585EA424C6226BD88181D21079ACDFB7CA25E8 | B44: 평와셔 | C44: 평와셔, 호칭경 16mm | D44: 개 | E44: 0 | G44: 59.3 | H44: 96 | I44: 41.6 | J44: 56 | K44: 0 | M44: 0 | O44: =SMALL(E44:M44,COUNTIF(E44:M44,0)+1) -> 41.6 | P44: 0 | Q44: 0 | R44: 0 | S44: 0 | T44: 0 | U44: 0 | V44: 0 | W44: 자재 40
A45: 585EA424C6226BD88181D21079ACDFB7CA25E6 | B45: 평와셔 | C45: 평와셔, 호칭경 20mm | D45: 개 | E45: 0 | G45: 96.7 | H45: 96 | I45: 60.1 | J45: 56 | K45: 0 | M45: 0 | O45: =SMALL(E45:M45,COUNTIF(E45:M45,0)+1) -> 60.1 | P45: 0 | Q45: 0 | R45: 0 | S45: 0 | T45: 0 | U45: 0 | V45: 0 | W45: 자재 41
A46: 585EA424C6226BD88181D21079ACDFB7CA24C9 | B46: 평와셔 | C46: 평와셔, 호칭경 22mm | D46: 개 | E46: 0 | G46: 135.7 | H46: 96 | I46: 62.5 | J46: 56 | K46: 0 | M46: 0 | O46: =SMALL(E46:M46,COUNTIF(E46:M46,0)+1) -> 62.5 | P46: 0 | Q46: 0 | R46: 0 | S46: 0 | T46: 0 | U46: 0 | V46: 0 | W46: 자재 42
A47: 585EA424C6226BD88181D320709FBB20A2D7C0 | B47: 볼트+너트 | C47: M16*60L | D47: SET | E47: 0 | G47: 0 | I47: 0 | K47: 0 | M47: 307.8 | N47: 설비협회 | O47: =SMALL(E47:M47,COUNTIF(E47:M47,0)+1) -> 307.8 | P47: 0 | Q47: 0 | R47: 0 | S47: 0 | T47: 0 | U47: 0 | V47: 0 | W47: 자재 43
A48: 585EA424C6226BD88181D320709FBB20A2D7C1 | B48: 볼트+너트 | C48: M16*65L | D48: SET | E48: 0 | G48: 0 | I48: 0 | K48: 0 | M48: 325.8 | N48: 설비협회 | O48: =SMALL(E48:M48,COUNTIF(E48:M48,0)+1) -> 325.8 | P48: 0 | Q48: 0 | R48: 0 | S48: 0 | T48: 0 | U48: 0 | V48: 0 | W48: 자재 44
A49: 585EA424C6226BD88181D320709FBB20A2D7C3 | B49: 볼트+너트 | C49: M22*90L | D49: SET | E49: 0 | G49: 0 | I49: 0 | K49: 0 | M49: 869.2 | N49: 설비협회 | O49: =SMALL(E49:M49,COUNTIF(E49:M49,0)+1) -> 869.2 | P49: 0 | Q49: 0 | R49: 0 | S49: 0 | T49: 0 | U49: 0 | V49: 0 | W49: 자재 45
A50: 585EA424C6226BD88181D320709FBB20A2D638 | B50: 절연(볼트+너트) | C50: M16*65L | D50: SET | E50: 0 | G50: 0 | I50: 0 | K50: 0 | M50: 1021.8 | N50: 설비협회 | O50: =SMALL(E50:M50,COUNTIF(E50:M50,0)+1) -> 1021.8 | P50: 0 | Q50: 0 | R50: 0 | S50: 0 | T50: 0 | U50: 0 | V50: 0 | W50: 자재 46
A51: 585EA424C6226BD88181D320709FBB20A2D63B | B51: 절연(볼트+너트) | C51: M20*75L | D51: SET | E51: 0 | G51: 0 | I51: 0 | K51: 0 | M51: 1777 | N51: 설비협회 | O51: =SMALL(E51:M51,COUNTIF(E51:M51,0)+1) -> 1777 | P51: 0 | Q51: 0 | R51: 0 | S51: 0 | T51: 0 | U51: 0 | V51: 0 | W51: 자재 47
A52: 585EA424C6226BD88181D320709FBB20A2D1BE | B52: SUS(볼트+너트) | C52: M16*65L | D52: SET | E52: 0 | G52: 0 | I52: 0 | K52: 0 | M52: 1481.4 | N52: 설비협회 | O52: =SMALL(E52:M52,COUNTIF(E52:M52,0)+1) -> 1481.4 | P52: 0 | Q52: 0 | R52: 0 | S52: 0 | T52: 0 | U52: 0 | V52: 0 | W52: 자재 48
A53: 585EA424C6226BD88181D320709FBB20A2D1BD | B53: SUS(볼트+너트) | C53: M20*75L | D53: SET | E53: 0 | G53: 0 | I53: 0 | K53: 0 | M53: 2848.2 | N53: 설비협회 | O53: =SMALL(E53:M53,COUNTIF(E53:M53,0)+1) -> 2848.2 | P53: 0 | Q53: 0 | R53: 0 | S53: 0 | T53: 0 | U53: 0 | V53: 0 | W53: 자재 49
A54: 585EA424C6226BD88181D320709FBB20A1CE27 | B54: 소요전력 | D54: kwh | E54: 0 | G54: 0 | I54: 0 | K54: 0 | M54: 99.4 | N54: 설비협회 | O54: =SMALL(E54:M54,COUNTIF(E54:M54,0)+1) -> 99.4 | P54: 0 | Q54: 0 | R54: 0 | S54: 0 | T54: 0 | U54: 0 | V54: 0 | W54: 자재 50
A55: 585EA424C6225AF86062EE9074498D1CC425BF | B55: 스트롱앵커 | C55: 스트롱앵커, M10, 9.5mm | D55: 개 | E55: 0 | G55: 94 | H55: 96 | I55: 0 | K55: 0 | M55: 0 | O55: =SMALL(E55:M55,COUNTIF(E55:M55,0)+1) -> 94 | P55: 0 | Q55: 0 | R55: 0 | S55: 0 | T55: 0 | U55: 0 | V55: 0 | W55: 자재 51
A56: 585EA424C6225AF86062EE9074498D1CC425BE | B56: 스트롱앵커 | C56: 스트롱앵커, M13, 12.7mm | D56: 개 | E56: 0 | G56: 187 | H56: 96 | I56: 0 | K56: 0 | M56: 0 | O56: =SMALL(E56:M56,COUNTIF(E56:M56,0)+1) -> 187 | P56: 0 | Q56: 0 | R56: 0 | S56: 0 | T56: 0 | U56: 0 | V56: 0 | W56: 자재 52
A57: 585EA424C6225AD8B282CB007A6D90A79849E6 | B57: 지지행어 | C57: 지지행어, 파이프행어(일반), ∮125mm | D57: 개 | E57: 1540 | G57: 1820 | H57: 827 | I57: 1980 | J57: 622 | K57: 0 | M57: 0 | O57: =SMALL(E57:M57,COUNTIF(E57:M57,0)+1) -> 1540 | P57: 0 | Q57: 0 | R57: 0 | S57: 0 | T57: 0 | U57: 0 | V57: 0 | W57: 자재 53
A58: 585EA424C6225AD8B282CB007A6D90A79849E1 | B58: 지지행어 | C58: 지지행어, 파이프행어(일반), ∮150mm | D58: 개 | E58: 3210 | G58: 3110 | H58: 827 | I58: 3960 | J58: 622 | K58: 0 | M58: 0 | O58: =SMALL(E58:M58,COUNTIF(E58:M58,0)+1) -> 3110 | P58: 0 | Q58: 0 | R58: 0 | S58: 0 | T58: 0 | U58: 0 | V58: 0 | W58: 자재 54
A59: 585EA424C6225AD8B282CB007A6D90A79848DA | B59: 지지행어 | C59: 지지행어, 절연행어, ∮40mm | D59: 개 | E59: 770 | G59: 780 | H59: 827 | I59: 990 | J59: 622 | K59: 0 | M59: 0 | O59: =SMALL(E59:M59,COUNTIF(E59:M59,0)+1) -> 770 | P59: 0 | Q59: 0 | R59: 0 | S59: 0 | T59: 0 | U59: 0 | V59: 0 | W59: 자재 55
A60: 585EA424C6225AD8B282CB007A6D90A79848D6 | B60: 지지행어 | C60: 지지행어, 절연행어, ∮100mm | D60: 개 | E60: 2200 | G60: 2230 | H60: 827 | I60: 2840 | J60: 622 | K60: 0 | M60: 0 | O60: =SMALL(E60:M60,COUNTIF(E60:M60,0)+1) -> 2200 | P60: 0 | Q60: 0 | R60: 0 | S60: 0 | T60: 0 | U60: 0 | V60: 0 | W60: 자재 56
A61: 585EA424C6225AD8B282CB007A6D90A79848D7 | B61: 지지행어 | C61: 지지행어, 절연행어, ∮125mm | D61: 개 | E61: 2540 | G61: 2590 | H61: 827 | I61: 3300 | J61: 622 | K61: 0 | M61: 0 | O61: =SMALL(E61:M61,COUNTIF(E61:M61,0)+1) -> 2540 | P61: 0 | Q61: 0 | R61: 0 | S61: 0 | T61: 0 | U61: 0 | V61: 0 | W61: 자재 57
A62: 585EA424C6225AD8B282CA607488640ABEFB91 | B62: 고철 | D62: Kg | E62: 0 | G62: 540 | H62: 1472 | I62: 504 | J62: 1198 | K62: 0 | M62: 0 | O62: =SMALL(E62:M62,COUNTIF(E62:M62,0)+1) -> 504 | P62: 0 | Q62: 0 | R62: 0 | S62: 0 | T62: 0 | U62: 0 | V62: 0 | W62: 자재 58
A63: 585EA424C6225AD8B282CA607488640ABEFB90 | B63: 고스텐 | D63: Kg | E63: 0 | G63: 1950 | H63: 1472 | I63: 1750 | J63: 1198 | K63: 0 | M63: 0 | O63: =SMALL(E63:M63,COUNTIF(E63:M63,0)+1) -> 1750 | P63: 0 | Q63: 0 | R63: 0 | S63: 0 | T63: 0 | U63: 0 | V63: 0 | W63: 자재 59
A64: 585EA424C6225AD8B282CA607488640ABEFCB9 | B64: 고철 | C64: 냉온수기 2대 철거 | D64: Kg | E64: 0 | G64: 540 | H64: 1472 | I64: 504 | J64: 1198 | K64: 0 | M64: 0 | O64: =SMALL(E64:M64,COUNTIF(E64:M64,0)+1) -> 504 | P64: 0 | Q64: 0 | R64: 0 | S64: 0 | T64: 0 | U64: 0 | V64: 0 | W64: 자재 60
A65: 585EA424C6225AD8B282CA607488640ABEFCBA | B65: 고철 | C65: 보일러 1대 철거 | D65: Kg | E65: 0 | G65: 540 | H65: 1472 | I65: 504 | J65: 1198 | K65: 0 | M65: 0 | O65: =SMALL(E65:M65,COUNTIF(E65:M65,0)+1) -> 504 | P65: 0 | Q65: 0 | R65: 0 | S65: 0 | T65: 0 | U65: 0 | V65: 0 | W65: 자재 61
A66: 585EA424C6225AD8B282CA607488640ABEFCBB | B66: 고동 | C66: 보일러 1대 철거 | D66: Kg | E66: 0 | G66: 10950 | H66: 1472 | I66: 10800 | J66: 1198 | K66: 0 | M66: 0 | O66: =SMALL(E66:M66,COUNTIF(E66:M66,0)+1) -> 10800 | P66: 0 | Q66: 0 | R66: 0 | S66: 0 | T66: 0 | U66: 0 | V66: 0 | W66: 자재 62
A67: 585EA424C6225AD8B282CA607488640ABEFCBC | B67: 고철 | C67: 냉각수 펌프 3대 철거 | D67: Kg | E67: 0 | G67: 540 | H67: 1472 | I67: 504 | J67: 1198 | K67: 0 | M67: 0 | O67: =SMALL(E67:M67,COUNTIF(E67:M67,0)+1) -> 504 | P67: 0 | Q67: 0 | R67: 0 | S67: 0 | T67: 0 | U67: 0 | V67: 0 | W67: 자재 63
A68: 585EA424C6225AD8B282CA607488640ABEFCBD | B68: 고동 | C68: 냉각수 펌프 3대 철거 | D68: Kg | E68: 0 | G68: 10950 | H68: 1472 | I68: 10800 | J68: 1198 | K68: 0 | M68: 0 | O68: =SMALL(E68:M68,COUNTIF(E68:M68,0)+1) -> 10800 | P68: 0 | Q68: 0 | R68: 0 | S68: 0 | T68: 0 | U68: 0 | V68: 0 | W68: 자재 64
A69: 585EA424C6225AD8B282CA607488640ABEFCBE | B69: 고철 | C69: 냉온수 펌프 3대 철거 | D69: Kg | E69: 0 | G69: 540 | H69: 1472 | I69: 504 | J69: 1198 | K69: 0 | M69: 0 | O69: =SMALL(E69:M69,COUNTIF(E69:M69,0)+1) -> 504 | P69: 0 | Q69: 0 | R69: 0 | S69: 0 | T69: 0 | U69: 0 | V69: 0 | W69: 자재 65
A70: 585EA424C6225AD8B282CA607488640ABEFCBF | B70: 고동 | C70: 냉온수 펌프 3대 철거 | D70: Kg | E70: 0 | G70: 10950 | H70: 1472 | I70: 10800 | J70: 1198 | K70: 0 | M70: 0 | O70: =SMALL(E70:M70,COUNTIF(E70:M70,0)+1) -> 10800 | P70: 0 | Q70: 0 | R70: 0 | S70: 0 | T70: 0 | U70: 0 | V70: 0 | W70: 자재 66
A71: 585EA424C6225AD8B282CA607488640ABEFCB0 | B71: 고철 | C71: 공기조화기 1 1대 철거 | D71: Kg | E71: 0 | G71: 540 | H71: 1472 | I71: 504 | J71: 1198 | K71: 0 | M71: 0 | O71: =SMALL(E71:M71,COUNTIF(E71:M71,0)+1) -> 504 | P71: 0 | Q71: 0 | R71: 0 | S71: 0 | T71: 0 | U71: 0 | V71: 0 | W71: 자재 67
A72: 585EA424C6225AD8B282CA607488640ABEFCB1 | B72: 고철 | C72: 공기조화기 2 1대 철거 | D72: Kg | E72: 0 | G72: 540 | H72: 1472 | I72: 504 | J72: 1198 | K72: 0 | M72: 0 | O72: =SMALL(E72:M72,COUNTIF(E72:M72,0)+1) -> 504 | P72: 0 | Q72: 0 | R72: 0 | S72: 0 | T72: 0 | U72: 0 | V72: 0 | W72: 자재 68
A73: 585EA424C6225AD8B282CA607488640ABEFD5F | B73: 고스텐 | C73: 급탕탱크 1대 철거 | D73: Kg | E73: 0 | G73: 1950 | H73: 1472 | I73: 1750 | J73: 1198 | K73: 0 | M73: 0 | O73: =SMALL(E73:M73,COUNTIF(E73:M73,0)+1) -> 1750 | P73: 0 | Q73: 0 | R73: 0 | S73: 0 | T73: 0 | U73: 0 | V73: 0 | W73: 자재 69
A74: 585EA424C6225AD8B282CA607488640ABEFD5E | B74: 고스텐 | C74: 응축수탱크 1대 철거 | D74: Kg | E74: 0 | G74: 1950 | H74: 1472 | I74: 1750 | J74: 1198 | K74: 0 | M74: 0 | O74: =SMALL(E74:M74,COUNTIF(E74:M74,0)+1) -> 1750 | P74: 0 | Q74: 0 | R74: 0 | S74: 0 | T74: 0 | U74: 0 | V74: 0 | W74: 자재 70
A75: 585EA424C6225AD8B282CA607488640ABEFD5D | B75: 고철 | C75: 냉온수 헤더 2대 철거 | D75: Kg | E75: 0 | G75: 540 | H75: 1472 | I75: 504 | J75: 1198 | K75: 0 | M75: 0 | O75: =SMALL(E75:M75,COUNTIF(E75:M75,0)+1) -> 504 | P75: 0 | Q75: 0 | R75: 0 | S75: 0 | T75: 0 | U75: 0 | V75: 0 | W75: 자재 71
... A93: 585EA424C6225AD8B282CA607488640ABF87E2 | B93: 고철 | C93: 공조 덕트류 | D93: Kg | E93: 0 | G93: 540 | H93: 1472 | I93: 504 | J93: 1198 | K93: 0 | M93: 0 | O93: =SMALL(E93:M93,COUNTIF(E93:M93,0)+1) -> 504 | P93: 0 | Q93: 0 | R93: 0 | S93: 0 | T93: 0 | U93: 0 | V93: 0 | W93: 자재 89
A94: 585EA424C6C2B97857F2E9B072198ED45D3460 | B94: 패킹 | C94: 패킹, 플랜지용, ∮32mm | D94: 개 | E94: 0 | G94: 0 | I94: 0 | K94: 0 | M94: 399 | N94: 설비협회 | O94: =SMALL(E94:M94,COUNTIF(E94:M94,0)+1) -> 399 | P94: 0 | Q94: 0 | R94: 0 | S94: 0 | T94: 0 | U94: 0 | V94: 0 | W94: 자재 90
A95: 585EA424C6C2B97857F2E9B072198ED45D3463 | B95: 패킹 | C95: 패킹, 플랜지용, ∮40mm | D95: 개 | E95: 0 | G95: 0 | I95: 0 | K95: 0 | M95: 459 | N95: 설비협회 | O95: =SMALL(E95:M95,COUNTIF(E95:M95,0)+1) -> 459 | P95: 0 | Q95: 0 | R95: 0 | S95: 0 | T95: 0 | U95: 0 | V95: 0 | W95: 자재 91
A96: 585EA424C6C2B97857F2E9B072198ED45D3462 | B96: 패킹 | C96: 패킹, 플랜지용, ∮50mm | D96: 개 | E96: 0 | G96: 0 | I96: 0 | K96: 0 | M96: 624 | N96: 설비협회 | O96: =SMALL(E96:M96,COUNTIF(E96:M96,0)+1) -> 624 | P96: 0 | Q96: 0 | R96: 0 | S96: 0 | T96: 0 | U96: 0 | V96: 0 | W96: 자재 92
A97: 585EA424C6C2B97857F2E9B072198ED45D346D | B97: 패킹 | C97: 패킹, 플랜지용, ∮65mm | D97: 개 | E97: 0 | G97: 0 | I97: 0 | K97: 0 | M97: 900 | N97: 설비협회 | O97: =SMALL(E97:M97,COUNTIF(E97:M97,0)+1) -> 900 | P97: 0 | Q97: 0 | R97: 0 | S97: 0 | T97: 0 | U97: 0 | V97: 0 | W97: 자재 93
A98: 585EA424C6C2B97857F2E9B072198ED45D346C | B98: 패킹 | C98: 패킹, 플랜지용, ∮80mm | D98: 개 | E98: 0 | G98: 0 | I98: 0 | K98: 0 | M98: 1290 | N98: 설비협회 | O98: =SMALL(E98:M98,COUNTIF(E98:M98,0)+1) -> 1290 | P98: 0 | Q98: 0 | R98: 0 | S98: 0 | T98: 0 | U98: 0 | V98: 0 | W98: 자재 94
A99: 585EA424C6C2B97857F2E9B072198ED45D350B | B99: 패킹 | C99: 패킹, 플랜지용, ∮100mm | D99: 개 | E99: 0 | G99: 0 | I99: 0 | K99: 0 | M99: 2130 | N99: 설비협회 | O99: =SMALL(E99:M99,COUNTIF(E99:M99,0)+1) -> 2130 | P99: 0 | Q99: 0 | R99: 0 | S99: 0 | T99: 0 | U99: 0 | V99: 0 | W99: 자재 95
A100: 585EA424C6C2B97857F2E9B072198ED45D350A | B100: 패킹 | C100: 패킹, 플랜지용, ∮125mm | D100: 개 | E100: 0 | G100: 0 | I100: 0 | K100: 0 | M100: 2850 | N100: 설비협회 | O100: =SMALL(E100:M100,COUNTIF(E100:M100,0)+1) -> 2850 | P100: 0 | Q100: 0 | R100: 0 | S100: 0 | T100: 0 | U100: 0 | V100: 0 | W100: 자재 96
A101: 585EA424C6C2B97857F2E9B072198ED45D3509 | B101: 패킹 | C101: 패킹, 플랜지용, ∮150mm | D101: 개 | E101: 0 | G101: 0 | I101: 0 | K101: 0 | M101: 3450 | N101: 설비협회 | O101: =SMALL(E101:M101,COUNTIF(E101:M101,0)+1) -> 3450 | P101: 0 | Q101: 0 | R101: 0 | S101: 0 | T101: 0 | U101: 0 | V101: 0 | W101: 자재 97
A102: 585EA424C6C2B97857F2E9B072198ED45D350F | B102: 패킹 | C102: 패킹, 플랜지용, ∮250mm | D102: 개 | E102: 0 | G102: 0 | I102: 0 | K102: 0 | M102: 5748 | N102: 설비협회 | O102: =SMALL(E102:M102,COUNTIF(E102:M102,0)+1) -> 5748 | P102: 0 | Q102: 0 | R102: 0 | S102: 0 | T102: 0 | U102: 0 | V102: 0 | W102: 자재 98
A103: 585EA424C6C2B97857F2E9B072198ED45D350E | B103: 패킹 | C103: 패킹, 플랜지용, ∮300mm | D103: 개 | E103: 0 | G103: 0 | I103: 0 | K103: 0 | M103: 6416 | N103: 설비협회 | O103: =SMALL(E103:M103,COUNTIF(E103:M103,0)+1) -> 6416 | P103: 0 | Q103: 0 | R103: 0 | S103: 0 | T103: 0 | U103: 0 | V103: 0 | W103: 자재 99
A104: 585EA424C6C2B97857F2E8A07B2736654097AB | B104: 슈퍼매직 303 | C104: 0.2t, 100mm*15m | D104: M2 | E104: 1660 | G104: 0 | I104: 0 | K104: 0 | M104: 1279 | N104: 설비협회 | O104: =SMALL(E104:M104,COUNTIF(E104:M104,0)+1) -> 1279 | P104: 0 | Q104: 0 | R104: 0 | S104: 0 | T104: 0 | U104: 0 | V104: 0 | W104: 자재 100
A105: 585EA424C6C2B97857F2E8A07B273665409686 | B105: AL 밴드 | C105: 0.3*30w | D105: M | E105: 310 | G105: 360 | H105: 991 | I105: 360 | J105: 683 | K105: 0 | M105: 0 | O105: =SMALL(E105:M105,COUNTIF(E105:M105,0)+1) -> 310 | P105: 0 | Q105: 0 | R105: 0 | S105: 0 | T105: 0 | U105: 0 | V105: 0 | W105: 자재 101
A106: 585EA4279695B048E618AE7075E34D3CDA4019 | B106: 에폭시페인트 | C106: EP1730 비철금속용 프라이머(회색) | D106: L | E106: 0 | G106: 11250 | H106: 618 | I106: 0 | K106: 0 | M106: 0 | O106: =SMALL(E106:M106,COUNTIF(E106:M106,0)+1) -> 11250 | P106: 0 | Q106: 0 | R106: 0 | S106: 0 | T106: 0 | U106: 0 | V106: 0 | W106: 자재 102
A107: 585EA4279695B048E618AE7075E34D3CDA4122 | B107: 유니폭시 투명라이닝 | C107: 후막형 투명 에폭시 바닥마감재(2~3mm) | D107: L | E107: 0 | G107: 12281.25 | H107: 618 | I107: 0 | K107: 0 | M107: 0 | O107: =SMALL(E107:M107,COUNTIF(E107:M107,0)+1) -> 12281.25 | P107: 0 | Q107: 0 | R107: 0 | S107: 0 | T107: 0 | U107: 0 | V107: 0 | W107: 자재 103
A108: 585EA4279695B0986857F050702C31790CE300 | B108: 에폭시계시너 | C108: 024 | D108: L | E108: 0 | G108: 0 | I108: 0 | K108: 7178 | L108: 634 | M108: 0 | O108: =SMALL(E108:M108,COUNTIF(E108:M108,0)+1) -> 7178 | P108: 0 | Q108: 0 | R108: 0 | S108: 0 | T108: 0 | U108: 0 | V108: 0 | W108: 자재 104
A109: 58216489E6E98AF82CA0B2E076FA1225FA7138 | B109: 관보온재 | C109: 관보온재, 유리솜보온통, ∮25*25mm | D109: M | E109: 0 | G109: 1790 | H109: 989 | I109: 2157 | J109: 681 | K109: 0 | M109: 0 | O109: =SMALL(E109:M109,COUNTIF(E109:M109,0)+1) -> 1790 | P109: 0 | Q109: 0 | R109: 0 | S109: 0 | T109: 0 | U109: 0 | V109: 0 | W109: 자재 105
A110: 58216489E6E98AF82CA0B2E076FA1225FA713A | B110: 관보온재 | C110: 관보온재, 유리솜보온통, ∮40*25mm | D110: M | E110: 0 | G110: 2130 | H110: 989 | I110: 2566 | J110: 681 | K110: 0 | M110: 0 | O110: =SMALL(E110:M110,COUNTIF(E110:M110,0)+1) -> 2130 | P110: 0 | Q110: 0 | R110: 0 | S110: 0 | T110: 0 | U110: 0 | V110: 0 | W110: 자재 106
A111: 58216489E6E98AF82CA0B2E076FA1225FA73EF | B111: 관보온재 | C111: 관보온재, 유리솜보온통, ∮100*40mm | D111: M | E111: 0 | G111: 6170 | H111: 989 | I111: 7424 | J111: 681 | K111: 0 | M111: 0 | O111: =SMALL(E111:M111,COUNTIF(E111:M111,0)+1) -> 6170 | P111: 0 | Q111: 0 | R111: 0 | S111: 0 | T111: 0 | U111: 0 | V111: 0 | W111: 자재 107
A112: 58216489E6E98AF82CA0B2E076FA1225FA73EC | B112: 관보온재 | C112: 관보온재, 유리솜보온통, ∮125*40mm | D112: M | E112: 0 | G112: 7190 | H112: 989 | I112: 8648 | J112: 681 | K112: 0 | M112: 0 | O112: =SMALL(E112:M112,COUNTIF(E112:M112,0)+1) -> 7190 | P112: 0 | Q112: 0 | R112: 0 | S112: 0 | T112: 0 | U112: 0 | V112: 0 | W112: 자재 108
A113: 58216489E6E98AF82CA0B2E076FA1225F4E993 | B113: 관보온재 | C113: 관보온재, 아티론, 난연, ∮40*25mm | D113: M | E113: 2280 | G113: 2417 | H113: 990 | I113: 0 | K113: 0 | M113: 0 | O113: =SMALL(E113:M113,COUNTIF(E113:M113,0)+1) -> 2280 | P113: 0 | Q113: 0 | R113: 0 | S113: 0 | T113: 0 | U113: 0 | V113: 0 | W113: 자재 109
A114: 58216489E6E98AF82CA0B2E076FA1225F4EE1F | B114: 관보온재 | C114: 관보온재, 아티론, 난연, ∮100*40mm | D114: M | E114: 7392 | G114: 7990 | H114: 990 | I114: 0 | K114: 0 | M114: 0 | O114: =SMALL(E114:M114,COUNTIF(E114:M114,0)+1) -> 7392 | P114: 0 | Q114: 0 | R114: 0 | S114: 0 | T114: 0 | U114: 0 | V114: 0 | W114: 자재 110
A115: 58216489E6E98AF82CA0B2E076FA1225F4EE1E | B115: 관보온재 | C115: 관보온재, 아티론, 난연, ∮125*40mm | D115: M | E115: 10137 | G115: 10594 | H115: 990 | I115: 0 | K115: 0 | M115: 0 | O115: =SMALL(E115:M115,COUNTIF(E115:M115,0)+1) -> 10137 | P115: 0 | Q115: 0 | R115: 0 | S115: 0 | T115: 0 | U115: 0 | V115: 0 | W115: 자재 111
A116: 58216489E6E98AF82CA0B2E076FA1225F4EE11 | B116: 관보온재 | C116: 관보온재, 아티론, 난연, ∮150*40mm | D116: M | E116: 12720 | G116: 13758 | H116: 990 | I116: 0 | K116: 0 | M116: 0 | O116: =SMALL(E116:M116,COUNTIF(E116:M116,0)+1) -> 12720 | P116: 0 | Q116: 0 | R116: 0 | S116: 0 | T116: 0 | U116: 0 | V116: 0 | W116: 자재 112
A117: 58216489E6A3F638DB358FF07F3292B946E26A | B117: 볼밸브 | C117: 볼밸브, ∮25mm*0.98MPa, 수동식, STS | D117: 개 | E117: 22400 | G117: 20000 | H117: 830 | I117: 0 | K117: 0 | M117: 0 | O117: =SMALL(E117:M117,COUNTIF(E117:M117,0)+1) -> 20000 | P117: 0 | Q117: 0 | R117: 0 | S117: 0 | T117: 0 | U117: 0 | V117: 0 | W117: 자재 113
...
