Workbook

Sheet 원가계산서
B1: 공 사 원 가 계 산 서
B2: [공사명] : 부산공업고등학교 냉난방개선 기계설비공사
B3: 비 목 | E3: 금 액 | F3: 구 성 비 | G3: 비 고
B4: 순 공 사 원 가 | C4: 재 료 비 | D4: 직 접 재 료 비 | E4: =집계표!F6+집계표!F10 -> 0
D5: 간 접 재 료 비 | E5: 0
D6: 작업설, 부산물(△) | E6: 0
D7: [ 소 계 ] | E7: =TRUNC(E4+E5-E6, 0) -> 0
C8: 노 무 비 | D8: 직 접 노 무 비 | E8: =집계표!H6+집계표!H10 -> 0
D9: 간 접 노 무 비 | E9: =TRUNC(E8*0.175,0) -> 0 | F9: 직접노무비 * 17.5%
D10: [ 소 계 ] | E10: =TRUNC(E8+E9,0) -> 0
C11: 경 비 | D11: 경 비 | E11: =집계표!J6+집계표!J10 -> 0
D12: 산 재 보 험 료 | E12: =TRUNC(E10*0.0356,0) -> 0 | F12: 노무비 * 3.56% | H12: 모든 건설공사
D13: 고 용 보 험 료 | E13: =TRUNC(E10*0.0101,0) -> 0 | F13: 노무비 * 1.01% | H13: 모든 건설공사
D14: 국민 건강 보험료 | E14: =TRUNC(E8*0.03595,0) -> 0 | F14: 직접노무비 * 3.595% | H14: 30일 이상
D15: 국민 연금 보험료 | E15: =TRUNC(E8*0.0475,0) -> 0 | F15: 직접노무비 * 4.75% | H15: 30일 이상
D16: 퇴직 공제 부금비 | F16: 직접노무비 * 2.3% | H16: 1억 이상
D17: 산업안전보건관리비 | E17: =TRUNC((E7+E30+E8+(0/1.1))*0.0311,0) -> 0 | F17: (재료비+장비대+직.노) * 3.11% | H17: 2천만원 이상
D18: 노인장기요양보험료 | E18: =TRUNC(E14*0.1314,0) -> 0 | F18: 건강보험료 * 13.14% | H18: 30일 이상
D19: 기 타 경 비 | E19: =TRUNC((E7+E10)*0.05,0) -> 0 | F19: (재료비+노무비) * 5.0%
D20: 환 경 보 전 비 | E20: =TRUNC((E7+E8+E11)*0,0) -> 0 | F20: (재료비+직노+경비) * 0.0%
D21: 하도급지급보증수수료 | E21: =TRUNC((E7+E8+E11)*0,0) -> 0 | F21: (재료비+직노+경비) * 0.000%
D22: 건설기계대여금지급보증서발급수수료 | E22: =TRUNC((E7+E8+E11)*0.001,0) -> 0 | F22: (재료비+직노+경비) * 0.1% | H22: 모든 건설공사
D23: 석 면 분 담 금 | E23: =TRUNC(E10*0.006%,0) -> 0 | F23: 노무비 * 0.006% | H23: 모든 건설공사
D24: 임금채권부담금 | E24: =TRUNC(E10*0.09%,0) -> 0 | F24: 노무비 * 0.09% | H24: 모든 건설공사
D25: [ 소 계 ] | E25: =TRUNC(E11+E12+E13+E14+E15+E16+E17+E18+E19+E20+E21+E22+E23+E24, 0) -> 0
B26: 계 | E26: =TRUNC(E7+E10+E25, 0) -> 0
B27: 일 반 관 리 비 | E27: =TRUNC(E26*0.08, 0) -> 0 | F27: 계 * 8%
B28: 이 윤 | E28: =TRUNC((E10+E25+E27)*0.15, 0) -> 0 | F28: (노무비+경비+일반관리비) * 15%
B29: 공 급 가 액 | E29: =TRUNC(E26+E27+E28, 0) -> 0
B30: 냉 난 방 장 비 대 | E30: =집계표!L7+집계표!L11+집계표!L14 -> 0 | G30: 현장납품(하차)
B31: 부 가 가 치 세 | E31: =TRUNC((E29+E30)*0.1, 0) -> 0 | F31: 공급가액 * 10%
B32: 도 급 액 | E32: =E29+E30+E31 -> 0

Sheet 집계표
A1: 공 종 별 집 계 표
A2: =원가계산서!B2 -> [공사명] : 부산공업고등학교 냉난방개선 기계설비공사
A3: 품 명 | B3: 규 격 | C3: 단위 | D3: 수량 | E3: 재 료 비 | G3: 노 무 비 | I3: 경 비 | K3: 합 계 | M3: 비 고 | N3: 공종코드 | O3: 변수 | P3: 상위공종 | Q3: 공종구분 | R3: 공종레벨 | S3: 공종소계 | T3: 원가계산서 연결금액
E4: 단 가 | F4: 금 액 | G4: 단 가 | H4: 금 액 | I4: 단 가 | J4: 금 액 | K4: 단 가 | L4: 금 액
A5: 1. 부산공업고등학교 냉난방시설 개선공사 | E5: =F6+F7 -> 0 | G5: =H6+H7 -> 0 | I5: =J6+J7 -> 0 | K5: =L6+L7 -> 0 | N5: 01 | R5: 1
A6: 1.1. 냉난방설치 부대공사 | C6: 식 | D6: 1 | E6: ='1.1 부대공사(부산공고)'!F26 -> 0 | F6: =D6*E6 -> 0 | G6: ='1.1 부대공사(부산공고)'!H26 -> 0 | H6: =D6*G6 -> 0 | I6: ='1.1 부대공사(부산공고)'!J26 -> 0 | J6: =D6*I6 -> 0 | K6: =TRUNC(E6+G6+I6, 0) -> 0 | L6: =TRUNC(F6+H6+J6, 0) -> 0 | N6: 0101 | P6: 01 | R6: 2
A7: 1.2. 냉난방 장비대 | C7: 식 | D7: 1 | E7: ='1.2 장비대(부산공고)'!F26 -> 0 | F7: =D7*E7 -> 0 | G7: ='1.1 부대공사(부산공고)'!H27 -> 0 | H7: =D7*G7 -> 0 | I7: ='1.1 부대공사(부산공고)'!J27 -> 0 | J7: =D7*I7 -> 0 | K7: =TRUNC(E7+G7+I7, 0) -> 0 | L7: =TRUNC(F7+H7+J7, 0) -> 0 | N7: 010101 | P7: 0101 | R7: 3
N9: 01010101 | P9: 010101 | R9: 4
N10: 01010102 | P10: 010101 | R10: 4
N11: 010102 | P11: 0101 | R11: 3
N13: 01010201 | P13: 010102 | R13: 4
N14: 01010202 | P14: 010102 | R14: 4
N16: 01010203 | P16: 010102 | R16: 4
N17: 01010204 | P17: 010102 | R17: 4
N18: 01010201 | P18: 010102 | R18: 4
N19: 01010206 | P19: 010102 | R19: 4
N20: 01010207 | P20: 010102 | R20: 4
N21: 010103 | P21: 0101 | R21: 3
N22: 01010301 | P22: 010103 | R22: 4
... N26: 01010501 | P26: 010105 | R26: 4
G30: 현장납품(하차)

Sheet 1.1 부대공사(부산공고)
A1: 공 종 별 내 역 서
A2: =원가계산서!B2 -> [공사명] : 부산공업고등학교 냉난방개선 기계설비공사
A3: 품 명 | B3: 규 격 | C3: 단위 | D3: 수량 | E3: 재 료 비 | G3: 노 무 비 | I3: 경 비 | K3: 합 계 | M3: 비 고
E4: 단 가 | F4: 금 액 | G4: 단 가 | H4: 금 액 | I4: 단 가 | J4: 금 액 | K4: 단 가 | L4: 금 액
A5: 1.1. 부산공업고등학교 냉난방설치 부대공사
A6: 구멍뚫기 (100A, 150mm, 바닥) | B6: Φ100mm | C6: 개소 | D6: 2
A7: 구멍뚫기 (75A, 150mm, 벽체) | B7: Φ75mm | C7: 개소 | D7: 4
A8: 구멍뚫기 (100A, 150mm, 벽체) | B8: Φ100mm | C8: 개소 | D8: 4
A9: 텍스철거 및 재설치 (600*300) | C9: ㎡ | D9: 9 | M9: 50장
A10: 16실 중앙제어기 함 | B10: 1구 | C10: EA | D10: 1
A11: 실내기 천장타공 | B11: 900B*900W | C11: ㎡ | D11: 4 | M11: 4개소
A12: 실외기 패드 설치 | B12: 3600*1000*H200 | C12: ㎡ | D12: 3.6 | M12: 교육청대가
A13: 공동실습소 기존장비 철거 | C13: 대 | D13: 5
A14: 공동실습소 기존장비 운반 | C14: 식 | D14: 1
A15: 공기조절장치설치용크레인, 50톤 | C15: 대 | D15: 1 | M15: 공동실습소 실외기 철거
F18: =TRUNC(E18*B18, 0) -> 0 | H18: =TRUNC(G18*D18, 0) -> 0 | J18: =TRUNC(I18*F18, 0) -> 0 | L18: =TRUNC(K18*H18, 0) -> 0
F19: =TRUNC(E19*B19, 0) -> 0 | H19: =TRUNC(G19*D19, 0) -> 0 | J19: =TRUNC(I19*F19, 0) -> 0 | L19: =TRUNC(K19*H19, 0) -> 0
F20: =TRUNC(E20*B20, 0) -> 0 | H20: =TRUNC(G20*D20, 0) -> 0 | J20: =TRUNC(I20*F20, 0) -> 0 | L20: =TRUNC(K20*H20, 0) -> 0
F21: =TRUNC(E21*B21, 0) -> 0 | H21: =TRUNC(G21*D21, 0) -> 0 | J21: =TRUNC(I21*F21, 0) -> 0 | L21: =TRUNC(K21*H21, 0) -> 0
F22: =TRUNC(E22*B22, 0) -> 0 | H22: =TRUNC(G22*D22, 0) -> 0 | J22: =TRUNC(I22*F22, 0) -> 0 | L22: =TRUNC(K22*H22, 0) -> 0
F23: =TRUNC(E23*B23, 0) -> 0 | H23: =TRUNC(G23*D23, 0) -> 0 | J23: =TRUNC(I23*F23, 0) -> 0 | L23: =TRUNC(K23*H23, 0) -> 0
F24: =TRUNC(E24*B24, 0) -> 0 | H24: =TRUNC(G24*D24, 0) -> 0 | J24: =TRUNC(I24*F24, 0) -> 0 | L24: =TRUNC(K24*H24, 0) -> 0
F25: =TRUNC(E25*B25, 0) -> 0 | H25: =TRUNC(G25*D25, 0) -> 0 | J25: =TRUNC(I25*F25, 0) -> 0 | L25: =TRUNC(K25*H25, 0) -> 0
A26: [ 합 계 ] | F26: =SUM(F5:F25) -> 0 | H26: =SUM(H5:H25) -> 0 | J26: =SUM(J5:J25) -> 0 | L26: =SUM(L5:L25) -> 0
G30: 현장납품(하차)

Sheet 1.2 장비대(부산공고)
A1: 공 종 별 내 역 서
A2: =원가계산서!B2 -> [공사명] : 부산공업고등학교 냉난방개선 기계설비공사
A3: 품 명 | B3: 규 격 | C3: 단위 | D3: 수량 | E3: 재 료 비 | G3: 노 무 비 | I3: 경 비 | K3: 합 계 | M3: 비 고
E4: 단 가 | F4: 금 액 | G4: 단 가 | H4: 금 액 | I4: 단 가 | J4: 금 액 | K4: 단 가 | L4: 금 액
A5: 1.2. 부산공업고등학교 냉난방 장비대
A6: 실외기 1등급 _ 14HP | B6: 냉방40.6kw/난방45.7kw | C6: 대 | D6: 1
A7: 실외기 1등급 _ 24HP | B7: 냉방69.6kw/난방78.4kw | C7: 대 | D7: 1
A8: 실내기 판넬포함 _ 4.0HP | B8: 냉방11.0kw/난방12.8kw, 4way | C8: 대 | D8: 10
A9: 유선리모컨 | C9: 대 | D9: =SUM(D8:D8) -> 10
A10: 중앙제어기 | C10: 대 | D10: 1
F13: =D13*E13 -> 0 | H13: =F13*G13 -> 0 | J13: =H13*I13 -> 0 | K13: =TRUNC(E13+G13+I13, 0) -> 0 | L13: =TRUNC(F13+H13+J13, 0) -> 0
F14: =D14*E14 -> 0 | H14: =F14*G14 -> 0 | J14: =H14*I14 -> 0 | K14: =TRUNC(E14+G14+I14, 0) -> 0 | L14: =TRUNC(F14+H14+J14, 0) -> 0
F15: =D15*E15 -> 0 | H15: =F15*G15 -> 0 | J15: =H15*I15 -> 0 | K15: =TRUNC(E15+G15+I15, 0) -> 0 | L15: =TRUNC(F15+H15+J15, 0) -> 0
F16: =D16*E16 -> 0 | H16: =F16*G16 -> 0 | J16: =H16*I16 -> 0 | K16: =TRUNC(E16+G16+I16, 0) -> 0 | L16: =TRUNC(F16+H16+J16, 0) -> 0
F17: =D17*E17 -> 0 | H17: =F17*G17 -> 0 | J17: =H17*I17 -> 0 | K17: =TRUNC(E17+G17+I17, 0) -> 0 | L17: =TRUNC(F17+H17+J17, 0) -> 0
F18: =D18*E18 -> 0 | H18: =F18*G18 -> 0 | J18: =H18*I18 -> 0 | K18: =TRUNC(E18+G18+I18, 0) -> 0 | L18: =TRUNC(F18+H18+J18, 0) -> 0
F19: =D19*E19 -> 0 | H19: =F19*G19 -> 0 | J19: =H19*I19 -> 0 | K19: =TRUNC(E19+G19+I19, 0) -> 0 | L19: =TRUNC(F19+H19+J19, 0) -> 0
F20: =D20*E20 -> 0 | H20: =F20*G20 -> 0 | J20: =H20*I20 -> 0 | K20: =TRUNC(E20+G20+I20, 0) -> 0 | L20: =TRUNC(F20+H20+J20, 0) -> 0
F21: =D21*E21 -> 0 | H21: =F21*G21 -> 0 | J21: =H21*I21 -> 0 | K21: =TRUNC(E21+G21+I21, 0) -> 0 | L21: =TRUNC(F21+H21+J21, 0) -> 0
F22: =D22*E22 -> 0 | H22: =F22*G22 -> 0 | J22: =H22*I22 -> 0 | K22: =TRUNC(E22+G22+I22, 0) -> 0 | L22: =TRUNC(F22+H22+J22, 0) -> 0
F23: =D23*E23 -> 0 | H23: =F23*G23 -> 0 | J23: =H23*I23 -> 0 | K23: =TRUNC(E23+G23+I23, 0) -> 0 | L23: =TRUNC(F23+H23+J23, 0) -> 0
F24: =D24*E24 -> 0 | H24: =F24*G24 -> 0 | J24: =H24*I24 -> 0 | K24: =TRUNC(E24+G24+I24, 0) -> 0 | L24: =TRUNC(F24+H24+J24, 0) -> 0
F25: =D25*E25 -> 0 | H25: =F25*G25 -> 0 | J25: =H25*I25 -> 0 | K25: =TRUNC(E25+G25+I25, 0) -> 0 | L25: =TRUNC(F25+H25+J25, 0) -> 0
A26: [ 합 계 ] | F26: =SUM(F5:F25) -> 0 | H26: =SUM(H5:H25) -> 0 | J26: =SUM(J5:J25) -> 0 | L26: =SUM(L5:L25) -> 0
G30: 현장납품(하차)

Sheet 일위대가
A1: [ 부산시립시민도서관개보수 ]
A2: 품 명 | B2: 규 격 | C2: 단위 | D2: 수량 | E2: 재 료 비 | G2: 노 무 비 | I2: 경 비 | K2: 합 계 | M2: 비 고 | N2: 일위대가 | O2: 품목코드 | P2: 일위 | Q2: 단산 | R2: 자재 | S2: 손료적용 | T2: 손료저장 | U2: 적용율 | V2: JUK1 | W2: JUK2 | X2: JUK3 | Y2: JUK4 | Z2: JUK5 | AA2: JUK6 | AB2: JUK7 | AC2: JUK8 | AD2: JUK9 | AE2: JUK10 | AF2: JUK11 | AG2: JUK12 | AH2: JUK13 | AI2: JUK14 | AJ2: JUK15 | AK2: JUK16 | AL2: JUK17 | AM2: JUK18 | AN2: JUK19 | AO2: JUK20 | AP2: 할증적용 | AQ2: 할증저장 | AR2: 할증율 | AS2: HAL1 | AT2: HAL2 | AU2: HAL3 | AV2: 자재구분 | AW2: 일위대가+자재 | AX2: 장비일위 | AY2: 설정
E3: 단 가 | F3: 금 액 | G3: 단 가 | H3: 금 액 | I3: 단 가 | J3: 금 액 | K3: 단 가 | L3: 금 액
A4: 크레인(타이어) 25ton HR 공통 8-3,4(2104) ( 호표 1 ) | N4: 586F1417A62739B807FA6B00740D680BAD914AB5
A5: 크레인(타이어) | B5: 25ton | C5: 대 | D5: 0.2057 | E5: =단가대비표!O7 -> 0 | F5: =TRUNC(E5*D5,1) -> 0 | G5: =단가대비표!P7 -> 0 | H5: =TRUNC(G5*D5,1) -> 0 | I5: =단가대비표!V7 -> 272390 | J5: =TRUNC(I5*D5,1) -> 56030.6 | K5: =TRUNC(E5+G5+I5,1) -> 272390 | L5: =TRUNC(F5+H5+J5,1) -> 56030.6 | M5: 천원 | N5: 586F1417A62739B807FA6B00740D680BAD914AB5 | O5: 586F1417A62739B807FA6B00740D680BAD914A | P5: F | Q5: F | R5: T | AW5: 586F1417A62739B807FA6B00740D680BAD914AB5586F1417A62739B807FA6B00740D680BAD914A
A6: 경유 | B6: 경유, 저유황 | C6: L | D6: 6.1 | E6: =단가대비표!O14 -> 1410.9 | F6: =TRUNC(E6*D6,1) -> 8606.4 | G6: =단가대비표!P14 -> 0 | H6: =TRUNC(G6*D6,1) -> 0 | I6: =단가대비표!V14 -> 0 | J6: =TRUNC(I6*D6,1) -> 0 | K6: =TRUNC(E6+G6+I6,1) -> 1410.9 | L6: =TRUNC(F6+H6+J6,1) -> 8606.4 | N6: 586F1417A62739B807FA6B00740D680BAD914AB5 | O6: 5879D402E66C98886BF3350078F41975BF7B2F | P6: F | Q6: F | R6: T | V6: 1 | AW6: 586F1417A62739B807FA6B00740D680BAD914AB55879D402E66C98886BF3350078F41975BF7B2F
A7: 잡재료 | B7: 주연료비의 39% | C7: 식 | D7: 1 | E7: =TRUNC(SUMIF(V5:V8, RIGHTB(O7, 1), F5:F8)*U7, 2) -> 3356.49 | F7: =TRUNC(E7*D7,1) -> 3356.4 | G7: 0 | H7: =TRUNC(G7*D7,1) -> 0 | I7: 0 | J7: =TRUNC(I7*D7,1) -> 0 | K7: =TRUNC(E7+G7+I7,1) -> 3356.4 | L7: =TRUNC(F7+H7+J7,1) -> 3356.4 | N7: 586F1417A62739B807FA6B00740D680BAD914AB5 | O7: 5E6194352674A0088E0A79D07C20001 | P7: F | Q7: F | R7: F | S7: 0 | T7: 0 | U7: 0.39 | AW7: 586F1417A62739B807FA6B00740D680BAD914AB55E6194352674A0088E0A79D07C20001
A8: 건설기계운전사 | B8: 일반공사 직종 | C8: 인 | D8: 1 | E8: =TRUNC(단가대비표!O203*1/8*16/12*25/20, 1) -> 0 | F8: =TRUNC(E8*D8,1) -> 0 | G8: =TRUNC(단가대비표!P203*1/8*16/12*25/20, 1) -> 50686.4 | H8: =TRUNC(G8*D8,1) -> 50686.4 | I8: =TRUNC(단가대비표!V203*1/8*16/12*25/20, 1) -> 0 | J8: =TRUNC(I8*D8,1) -> 0 | K8: =TRUNC(E8+G8+I8,1) -> 50686.4 | L8: =TRUNC(F8+H8+J8,1) -> 50686.4 | N8: 586F1417A62739B807FA6B00740D680BAD914AB5 | O8: 5FA604A726EC80C864B2BCC07E0B8DFA5C34C0 | P8: F | Q8: F | R8: T | AW8: 586F1417A62739B807FA6B00740D680BAD914AB55FA604A726EC80C864B2BCC07E0B8DFA5C34C0 | AX8: T
A9: [ 합 계 ] | F9: =TRUNC(SUMIF(N5:N8, N4, F5:F8),0) -> 11962 | H9: =TRUNC(SUMIF(N5:N8, N4, H5:H8),0) -> 50686 | J9: =TRUNC(SUMIF(N5:N8, N4, J5:J8),0) -> 56030 | L9: =F9+H9+J9 -> 118678 | N9: TOTAL | O9: TOTAL
A11: 냉온수기(철거), 폐수처리 포함 흡수식, 210USRT 대 기계 8-1-2 ( 호표 2 ) | N11: 5FB7A4F9F6D3CA38BFFE6CA07742C8
A12: 비계공 | B12: 일반공사 직종 | C12: 인 | D12: 4.2 | E12: =단가대비표!O190 -> 0 | F12: =TRUNC(E12*D12,1) -> 0 | G12: =단가대비표!P190 -> 278151 | H12: =TRUNC(G12*D12,1) -> 1168234.2 | I12: =단가대비표!V190 -> 0 | J12: =TRUNC(I12*D12,1) -> 0 | K12: =TRUNC(E12+G12+I12,1) -> 278151 | L12: =TRUNC(F12+H12+J12,1) -> 1168234.2 | N12: 5FB7A4F9F6D3CA38BFFE6CA07742C8 | O12: 5FA604A726EC80C864B2BCC07E0B8DFA5C3068 | P12: F | Q12: F | R12: T | V12: 1 | AW12: 5FB7A4F9F6D3CA38BFFE6CA07742C85FA604A726EC80C864B2BCC07E0B8DFA5C3068
A13: 특별인부 | B13: 일반공사 직종 | C13: 인 | D13: 8.4 | E13: =단가대비표!O189 -> 0 | F13: =TRUNC(E13*D13,1) -> 0 | G13: =단가대비표!P189 -> 197450 | H13: =TRUNC(G13*D13,1) -> 1658580 | I13: =단가대비표!V189 -> 0 | J13: =TRUNC(I13*D13,1) -> 0 | K13: =TRUNC(E13+G13+I13,1) -> 197450 | L13: =TRUNC(F13+H13+J13,1) -> 1658580 | N13: 5FB7A4F9F6D3CA38BFFE6CA07742C8 | O13: 5FA604A726EC80C864B2BCC07E0B8DFA5C306D | P13: F | Q13: F | R13: T | V13: 1 | AW13: 5FB7A4F9F6D3CA38BFFE6CA07742C85FA604A726EC80C864B2BCC07E0B8DFA5C306D
A14: 공구손료 | B14: 인력품의 3% | C14: 식 | D14: 1 | E14: =TRUNC(SUMIF(V12:V14, RIGHTB(O14, 1), H12:H14)*U14, 2) -> 84804.42 | F14: =TRUNC(E14*D14,1) -> 84804.4 | G14: 0 | H14: =TRUNC(G14*D14,1) -> 0 | I14: 0 | J14: =TRUNC(I14*D14,1) -> 0 | K14: =TRUNC(E14+G14+I14,1) -> 84804.4 | L14: =TRUNC(F14+H14+J14,1) -> 84804.4 | N14: 5FB7A4F9F6D3CA38BFFE6CA07742C8 | O14: 5E6194352674A0088E0A79D07C20001 | P14: F | Q14: F | R14: F | S14: 1 | T14: 0 | U14: 0.03 | AW14: 5FB7A4F9F6D3CA38BFFE6CA07742C85E6194352674A0088E0A79D07C20001
A15: [ 합 계 ] | F15: =TRUNC(SUMIF(N12:N14, N11, F12:F14),0) -> 84804 | H15: =TRUNC(SUMIF(N12:N14, N11, H12:H14),0) -> 2826814 | J15: =TRUNC(SUMIF(N12:N14, N11, J12:J14),0) -> 0 | L15: =F15+H15+J15 -> 2911618 | N15: TOTAL | O15: TOTAL
A17: 보일러(철거), 폐수처리 포함 관류형, 300kg/hr 대 기계 8-3-4 ( 호표 3 ) | N17: 5FB7A4F9F6D3CA38BFFE6CA07742C9
A18: 보일러공 | B18: 일반공사 직종 | C18: 인 | D18: 1.818 | E18: =단가대비표!O200 -> 0 | F18: =TRUNC(E18*D18,1) -> 0 | G18: =단가대비표!P200 -> 210465 | H18: =TRUNC(G18*D18,1) -> 382625.3 | I18: =단가대비표!V200 -> 0 | J18: =TRUNC(I18*D18,1) -> 0 | K18: =TRUNC(E18+G18+I18,1) -> 210465 | L18: =TRUNC(F18+H18+J18,1) -> 382625.3 | N18: 5FB7A4F9F6D3CA38BFFE6CA07742C9 | O18: 5FA604A726EC80C864B2BCC07E0B8DFA5C34C9 | P18: F | Q18: F | R18: T | V18: 1 | AW18: 5FB7A4F9F6D3CA38BFFE6CA07742C95FA604A726EC80C864B2BCC07E0B8DFA5C34C9
A19: 특별인부 | B19: 일반공사 직종 | C19: 인 | D19: 0.732 | E19: =단가대비표!O189 -> 0 | F19: =TRUNC(E19*D19,1) -> 0 | G19: =단가대비표!P189 -> 197450 | H19: =TRUNC(G19*D19,1) -> 144533.4 | I19: =단가대비표!V189 -> 0 | J19: =TRUNC(I19*D19,1) -> 0 | K19: =TRUNC(E19+G19+I19,1) -> 197450 | L19: =TRUNC(F19+H19+J19,1) -> 144533.4 | N19: 5FB7A4F9F6D3CA38BFFE6CA07742C9 | O19: 5FA604A726EC80C864B2BCC07E0B8DFA5C306D | P19: F | Q19: F | R19: T | V19: 1 | AW19: 5FB7A4F9F6D3CA38BFFE6CA07742C95FA604A726EC80C864B2BCC07E0B8DFA5C306D
A20: 공구손료 | B20: 인력품의 3% | C20: 식 | D20: 1 | E20: =TRUNC(SUMIF(V18:V20, RIGHTB(O20, 1), H18:H20)*U20, 2) -> 15814.76 | F20: =TRUNC(E20*D20,1) -> 15814.7 | G20: 0 | H20: =TRUNC(G20*D20,1) -> 0 | I20: 0 | J20: =TRUNC(I20*D20,1) -> 0 | K20: =TRUNC(E20+G20+I20,1) -> 15814.7 | L20: =TRUNC(F20+H20+J20,1) -> 15814.7 | N20: 5FB7A4F9F6D3CA38BFFE6CA07742C9 | O20: 5E6194352674A0088E0A79D07C20001 | P20: F | Q20: F | R20: F | S20: 1 | T20: 0 | U20: 0.03 | AW20: 5FB7A4F9F6D3CA38BFFE6CA07742C95E6194352674A0088E0A79D07C20001
A21: [ 합 계 ] | F21: =TRUNC(SUMIF(N18:N20, N17, F18:F20),0) -> 15814 | H21: =TRUNC(SUMIF(N18:N20, N17, H18:H20),0) -> 527158 | J21: =TRUNC(SUMIF(N18:N20, N17, J18:J20),0) -> 0 | L21: =F21+H21+J21 -> 542972 | N21: TOTAL | O21: TOTAL
A23: 냉각수 순환펌프(철거) 3,500lpm, 20M, 22Kw 대 기계 4-1-1 ( 호표 4 ) | N23: 5FB7A4F9F6D3CA38BFFE6CA07742CA
A24: 기계설비공 | B24: 일반공사 직종 | C24: 인 | D24: 2.206 | E24: =단가대비표!O205 -> 0 | F24: =TRUNC(E24*D24,1) -> 0 | G24: =단가대비표!P205 -> 213337 | H24: =TRUNC(G24*D24,1) -> 470621.4 | I24: =단가대비표!V205 -> 0 | J24: =TRUNC(I24*D24,1) -> 0 | K24: =TRUNC(E24+G24+I24,1) -> 213337 | L24: =TRUNC(F24+H24+J24,1) -> 470621.4 | N24: 5FB7A4F9F6D3CA38BFFE6CA07742CA | O24: 5FA604A726EC80C864B2BCC07E0B8DFA5C35EE | P24: F | Q24: F | R24: T | V24: 1 | AW24: 5FB7A4F9F6D3CA38BFFE6CA07742CA5FA604A726EC80C864B2BCC07E0B8DFA5C35EE
A25: 보통인부 | B25: 일반공사 직종 | C25: 인 | D25: 0.731 | E25: =단가대비표!O188 -> 0 | F25: =TRUNC(E25*D25,1) -> 0 | G25: =단가대비표!P188 -> 157068 | H25: =TRUNC(G25*D25,1) -> 114816.7 | I25: =단가대비표!V188 -> 0 | J25: =TRUNC(I25*D25,1) -> 0 | K25: =TRUNC(E25+G25+I25,1) -> 157068 | L25: =TRUNC(F25+H25+J25,1) -> 114816.7 | N25: 5FB7A4F9F6D3CA38BFFE6CA07742CA | O25: 5FA604A726EC80C864B2BCC07E0B8DFA5C306C | P25: F | Q25: F | R25: T | V25: 1 | AW25: 5FB7A4F9F6D3CA38BFFE6CA07742CA5FA604A726EC80C864B2BCC07E0B8DFA5C306C
A26: 공구손료 | B26: 인력품의 3% | C26: 식 | D26: 1 | E26: =TRUNC(SUMIF(V24:V26, RIGHTB(O26, 1), H24:H26)*U26, 2) -> 17563.14 | F26: =TRUNC(E26*D26,1) -> 17563.1 | G26: 0 | H26: =TRUNC(G26*D26,1) -> 0 | I26: 0 | J26: =TRUNC(I26*D26,1) -> 0 | K26: =TRUNC(E26+G26+I26,1) -> 17563.1 | L26: =TRUNC(F26+H26+J26,1) -> 17563.1 | N26: 5FB7A4F9F6D3CA38BFFE6CA07742CA | O26: 5E6194352674A0088E0A79D07C20001 | P26: F | Q26: F | R26: F | S26: 1 | T26: 0 | U26: 0.03 | AW26: 5FB7A4F9F6D3CA38BFFE6CA07742CA5E6194352674A0088E0A79D07C20001
A27: [ 합 계 ] | F27: =TRUNC(SUMIF(N24:N26, N23, F24:F26),0) -> 17563 | H27: =TRUNC(SUMIF(N24:N26, N23, H24:H26),0) -> 585438 | J27: =TRUNC(SUMIF(N24:N26, N23, J24:J26),0) -> 0 | L27: =F27+H27+J27 -> 603001 | N27: TOTAL | O27: TOTAL
A29: 냉온수 순환펌프(철거) 2,117lpm, 25M, 18.5Kw 대 기계 4-1-1 ( 호표 5 ) | N29: 5FB7A4F9F6D3CA38BFFE6CA07742CB
A30: 기계설비공 | B30: 일반공사 직종 | C30: 인 | D30: 2.206 | E30: =단가대비표!O205 -> 0 | F30: =TRUNC(E30*D30,1) -> 0 | G30: =단가대비표!P205 -> 213337 | H30: =TRUNC(G30*D30,1) -> 470621.4 | I30: =단가대비표!V205 -> 0 | J30: =TRUNC(I30*D30,1) -> 0 | K30: =TRUNC(E30+G30+I30,1) -> 213337 | L30: =TRUNC(F30+H30+J30,1) -> 470621.4 | N30: 5FB7A4F9F6D3CA38BFFE6CA07742CB | O30: 5FA604A726EC80C864B2BCC07E0B8DFA5C35EE | P30: F | Q30: F | R30: T | V30: 1 | AW30: 5FB7A4F9F6D3CA38BFFE6CA07742CB5FA604A726EC80C864B2BCC07E0B8DFA5C35EE
A31: 보통인부 | B31: 일반공사 직종 | C31: 인 | D31: 0.731 | E31: =단가대비표!O188 -> 0 | F31: =TRUNC(E31*D31,1) -> 0 | G31: =단가대비표!P188 -> 157068 | H31: =TRUNC(G31*D31,1) -> 114816.7 | I31: =단가대비표!V188 -> 0 | J31: =TRUNC(I31*D31,1) -> 0 | K31: =TRUNC(E31+G31+I31,1) -> 157068 | L31: =TRUNC(F31+H31+J31,1) -> 114816.7 | N31: 5FB7A4F9F6D3CA38BFFE6CA07742CB | O31: 5FA604A726EC80C864B2BCC07E0B8DFA5C306C | P31: F | Q31: F | R31: T | V31: 1 | AW31: 5FB7A4F9F6D3CA38BFFE6CA07742CB5FA604A726EC80C864B2BCC07E0B8DFA5C306C
A32: 공구손료 | B32: 인력품의 3% | C32: 식 | D32: 1 | E32: =TRUNC(SUMIF(V30:V32, RIGHTB(O32, 1), H30:H32)*U32, 2) -> 17563.14 | F32: =TRUNC(E32*D32,1) -> 17563.1 | G32: 0 | H32: =TRUNC(G32*D32,1) -> 0 | I32: 0 | J32: =TRUNC(I32*D32,1) -> 0 | K32: =TRUNC(E32+G32+I32,1) -> 17563.1 | L32: =TRUNC(F32+H32+J32,1) -> 17563.1 | N32: 5FB7A4F9F6D3CA38BFFE6CA07742CB | O32: 5E6194352674A0088E0A79D07C20001 | P32: F | Q32: F | R32: F | S32: 1 | T32: 0 | U32: 0.03 | AW32: 5FB7A4F9F6D3CA38BFFE6CA07742CB5E6194352674A0088E0A79D07C20001
A33: [ 합 계 ] | F33: =TRUNC(SUMIF(N30:N32, N29, F30:F32),0) -> 17563 | H33: =TRUNC(SUMIF(N30:N32, N29, H30:H32),0) -> 585438 | J33: =TRUNC(SUMIF(N30:N32, N29, J30:J32),0) -> 0 | L33: =F33+H33+J33 -> 603001 | N33: TOTAL | O33: TOTAL
A35: 공기조화기1, 급기팬포함(철거) 냉 213,000 kcal/hr,온 212,000 kcal/hr 대 기계 8-2-3 ( 호표 6 ) | N35: 5FB7A4F9F6D3CA38BFFE6CA07742CC
A36: 기계설비공 | B36: 일반공사 직종 | C36: 인 | D36: 8.4 | E36: =단가대비표!O205 -> 0 | F36: =TRUNC(E36*D36,1) -> 0 | G36: =단가대비표!P205 -> 213337 | H36: =TRUNC(G36*D36,1) -> 1792030.8 | I36: =단가대비표!V205 -> 0 | J36: =TRUNC(I36*D36,1) -> 0 | K36: =TRUNC(E36+G36+I36,1) -> 213337 | L36: =TRUNC(F36+H36+J36,1) -> 1792030.8 | N36: 5FB7A4F9F6D3CA38BFFE6CA07742CC | O36: 5FA604A726EC80C864B2BCC07E0B8DFA5C35EE | P36: F | Q36: F | R36: T | V36: 1 | AW36: 5FB7A4F9F6D3CA38BFFE6CA07742CC5FA604A726EC80C864B2BCC07E0B8DFA5C35EE
A37: 보통인부 | B37: 일반공사 직종 | C37: 인 | D37: 3.78 | E37: =단가대비표!O188 -> 0 | F37: =TRUNC(E37*D37,1) -> 0 | G37: =단가대비표!P188 -> 157068 | H37: =TRUNC(G37*D37,1) -> 593717 | I37: =단가대비표!V188 -> 0 | J37: =TRUNC(I37*D37,1) -> 0 | K37: =TRUNC(E37+G37+I37,1) -> 157068 | L37: =TRUNC(F37+H37+J37,1) -> 593717 | N37: 5FB7A4F9F6D3CA38BFFE6CA07742CC | O37: 5FA604A726EC80C864B2BCC07E0B8DFA5C306C | P37: F | Q37: F | R37: T | V37: 1 | AW37: 5FB7A4F9F6D3CA38BFFE6CA07742CC5FA604A726EC80C864B2BCC07E0B8DFA5C306C
A38: 공구손료 | B38: 인력품의 3% | C38: 식 | D38: 1 | E38: =TRUNC(SUMIF(V36:V38, RIGHTB(O38, 1), H36:H38)*U38, 2) -> 71572.43 | F38: =TRUNC(E38*D38,1) -> 71572.4 | G38: 0 | H38: =TRUNC(G38*D38,1) -> 0 | I38: 0 | J38: =TRUNC(I38*D38,1) -> 0 | K38: =TRUNC(E38+G38+I38,1) -> 71572.4 | L38: =TRUNC(F38+H38+J38,1) -> 71572.4 | N38: 5FB7A4F9F6D3CA38BFFE6CA07742CC | O38: 5E6194352674A0088E0A79D07C20001 | P38: F | Q38: F | R38: F | S38: 1 | T38: 0 | U38: 0.03 | AW38: 5FB7A4F9F6D3CA38BFFE6CA07742CC5E6194352674A0088E0A79D07C20001
A39: [ 합 계 ] | F39: =TRUNC(SUMIF(N36:N38, N35, F36:F38),0) -> 71572 | H39: =TRUNC(SUMIF(N36:N38, N35, H36:H38),0) -> 2385747 | J39: =TRUNC(SUMIF(N36:N38, N35, J36:J38),0) -> 0 | L39: =F39+H39+J39 -> 2457319 | N39: TOTAL | O39: TOTAL
A41: 공기조화기2, 급기팬포함(철거) 냉 185,000 kcal/hr,온 140,000 kcal/hr 대 기계 8-2-3 ( 호표 7 ) | N41: 5FB7A4F9F6D3CA38BFFE6CA07742CD
A42: 기계설비공 | B42: 일반공사 직종 | C42: 인 | D42: 8.4 | E42: =단가대비표!O205 -> 0 | F42: =TRUNC(E42*D42,1) -> 0 | G42: =단가대비표!P205 -> 213337 | H42: =TRUNC(G42*D42,1) -> 1792030.8 | I42: =단가대비표!V205 -> 0 | J42: =TRUNC(I42*D42,1) -> 0 | K42: =TRUNC(E42+G42+I42,1) -> 213337 | L42: =TRUNC(F42+H42+J42,1) -> 1792030.8 | N42: 5FB7A4F9F6D3CA38BFFE6CA07742CD | O42: 5FA604A726EC80C864B2BCC07E0B8DFA5C35EE | P42: F | Q42: F | R42: T | V42: 1 | AW42: 5FB7A4F9F6D3CA38BFFE6CA07742CD5FA604A726EC80C864B2BCC07E0B8DFA5C35EE
A43: 보통인부 | B43: 일반공사 직종 | C43: 인 | D43: 3.78 | E43: =단가대비표!O188 -> 0 | F43: =TRUNC(E43*D43,1) -> 0 | G43: =단가대비표!P188 -> 157068 | H43: =TRUNC(G43*D43,1) -> 593717 | I43: =단가대비표!V188 -> 0 | J43: =TRUNC(I43*D43,1) -> 0 | K43: =TRUNC(E43+G43+I43,1) -> 157068 | L43: =TRUNC(F43+H43+J43,1) -> 593717 | N43: 5FB7A4F9F6D3CA38BFFE6CA07742CD | O43: 5FA604A726EC80C864B2BCC07E0B8DFA5C306C | P43: F | Q43: F | R43: T | V43: 1 | AW43: 5FB7A4F9F6D3CA38BFFE6CA07742CD5FA604A726EC80C864B2BCC07E0B8DFA5C306C
A44: 공구손료 | B44: 인력품의 3% | C44: 식 | D44: 1 | E44: =TRUNC(SUMIF(V42:V44, RIGHTB(O44, 1), H42:H44)*U44, 2) -> 71572.43 | F44: =TRUNC(E44*D44,1) -> 71572.4 | G44: 0 | H44: =TRUNC(G44*D44,1) -> 0 | I44: 0 | J44: =TRUNC(I44*D44,1) -> 0 | K44: =TRUNC(E44+G44+I44,1) -> 71572.4 | L44: =TRUNC(F44+H44+J44,1) -> 71572.4 | N44: 5FB7A4F9F6D3CA38BFFE6CA07742CD | O44: 5E6194352674A0088E0A79D07C20001 | P44: F | Q44: F | R44: F | S44: 1 | T44: 0 | U44: 0.03 | AW44: 5FB7A4F9F6D3CA38BFFE6CA07742CD5E6194352674A0088E0A79D07C20001
A45: [ 합 계 ] | F45: =TRUNC(SUMIF(N42:N44, N41, F42:F44),0) -> 71572 | H45: =TRUNC(SUMIF(N42:N44, N41, H42:H44),0) -> 2385747 | J45: =TRUNC(SUMIF(N42:N44, N41, J42:J44),0) -> 0 | L45: =F45+H45+J45 -> 2457319 | N45: TOTAL | O45: TOTAL
A47: 급탕 탱크(철거) 800LIT, STS 304 대 기계 8-4-1 ( 호표 8 ) | N47: 5FB7A4F9F6D3CA38BFFE6CA07742CE
...

Sheet 단가대비표
A1: 단 가 대 비 표
A2: [ 부산시립시민도서관개보수 ]
A3: 코 드 | B3: 품 명 | C3: 규격 | D3: 단위 | E3: 재 료 비 | P3: 노 무 비 | Q3: 경 비 | W3: 번 호 | X3: 비 고 | Y3: 품목구분 | Z3: 노임구분 | AA3: 소수점처리 | AB3: 자재구분
E4: 조달청가격 | F4: PAGE | G4: 거래가격 | H4: PAGE | I4: 유통물가 | J4: PAGE | K4: 조사가격1 | L4: PAGE | M4: 조사가격2 | N4: PAGE | O4: 적용단가 | Q4: 조달청가격 | R4: 거래가격 | S4: 유통물가 | T4: 조사가격1 | U4: 조사가격2 | V4: 적용단가
A5: 586F1417A6271EF859B0E0907DC7389F816CE6 | B5: 굴삭기(무한궤도) | C5: 0.7㎥ | D5: 대 | E5: 0 | G5: 0 | I5: 0 | K5: 0 | M5: 0 | O5: 0 | P5: 0 | Q5: 0 | R5: 0 | S5: 0 | T5: 0 | U5: 108021 | V5: =SMALL(Q5:U5,COUNTIF(Q5:U5,0)+1) -> 108021 | W5: 자재 1 | X5: 천원
A6: 586F1417A6270C180335231079BD77E9E59A1B | B6: 플레이트 콤팩터 | C6: 1.5ton | D6: 대 | E6: 0 | G6: 0 | I6: 0 | K6: 0 | M6: 0 | O6: 0 | P6: 0 | Q6: 0 | R6: 0 | S6: 0 | T6: 0 | U6: 1522 | V6: =SMALL(Q6:U6,COUNTIF(Q6:U6,0)+1) -> 1522 | W6: 자재 2 | X6: 천원
A7: 586F1417A62739B807FA6B00740D680BAD914A | B7: 크레인(타이어) | C7: 25ton | D7: 대 | E7: 0 | G7: 0 | I7: 0 | K7: 0 | M7: 0 | O7: 0 | P7: 0 | Q7: 0 | R7: 0 | S7: 0 | T7: 0 | U7: 272390 | V7: =SMALL(Q7:U7,COUNTIF(Q7:U7,0)+1) -> 272390 | W7: 자재 3 | X7: 천원
A8: 586F1417A6276688B78F298079F34C0B8E1DB1 | B8: 용접기(교류) | C8: 500Amp | D8: 대 | E8: 0 | G8: 0 | I8: 0 | K8: 0 | M8: 0 | O8: 0 | P8: 0 | Q8: 0 | R8: 0 | S8: 0 | T8: 0 | U8: 612 | V8: =SMALL(Q8:U8,COUNTIF(Q8:U8,0)+1) -> 612 | W8: 자재 4 | X8: 천원
A9: 587994A9662FFE68D9FF38F07E227C1BC5C803 | B9: 자갈 | C9: 자갈, 서울, 도착도, #57 | D9: M3 | E9: 0 | G9: 32000 | H9: 103 | I9: 0 | K9: 0 | M9: 0 | O9: =SMALL(E9:M9,COUNTIF(E9:M9,0)+1) -> 32000 | P9: 0 | Q9: 0 | R9: 0 | S9: 0 | T9: 0 | U9: 0 | V9: 0 | W9: 자재 5
A10: 587994A9662FFE78FFE0CEE07A917A23D76EA4 | B10: 모래 | C10: 모래, 서울, 세척사, 도착도 | D10: M3 | E10: 0 | G10: 0 | I10: 35000 | J10: 61 | K10: 0 | M10: 0 | O10: =SMALL(E10:M10,COUNTIF(E10:M10,0)+1) -> 35000 | P10: 0 | Q10: 0 | R10: 0 | S10: 0 | T10: 0 | U10: 0 | V10: 0 | W10: 자재 6
A11: 587994A9665B1F88DB7403A07D2A0D3F5A6142 | B11: 스테인리스 망 | C11: 스테인리스망, STS304, 14mesh*∮0.6*1m | D11: M2 | E11: 0 | G11: 27140 | H11: 101 | I11: 0 | K11: 0 | M11: 0 | O11: =SMALL(E11:M11,COUNTIF(E11:M11,0)+1) -> 27140 | P11: 0 | Q11: 0 | R11: 0 | S11: 0 | T11: 0 | U11: 0 | V11: 0 | W11: 자재 7
A12: 5879A44E36BB96183CEEF96075F9AD55A4073D | B12: 산소가스 | C12: 기체 | D12: L | E12: 2 | G12: 4.16 | H12: 1451 | I12: 3.03 | J12: 1190 | K12: 0 | M12: 0 | O12: =SMALL(E12:M12,COUNTIF(E12:M12,0)+1) -> 2 | P12: 0 | Q12: 0 | R12: 0 | S12: 0 | T12: 0 | U12: 0 | V12: 0 | W12: 자재 8 | X12: 대기압상태기준
A13: 5879A44E36BBA0F8D65455E076111CEC327BFC | B13: 아르곤가스 | C13: 아르곤가스, 건설용알곤가스 | D13: L | E13: 0 | G13: 6.38 | H13: 1451 | I13: 6.05 | J13: 1190 | K13: 0 | M13: 0 | O13: =SMALL(E13:M13,COUNTIF(E13:M13,0)+1) -> 6.05 | P13: 0 | Q13: 0 | R13: 0 | S13: 0 | T13: 0 | U13: 0 | V13: 0 | W13: 자재 9
A14: 5879D402E66C98886BF3350078F41975BF7B2F | B14: 경유 | C14: 경유, 저유황 | D14: L | E14: 0 | G14: 1602.72 | H14: 1451 | I14: 1410.9 | J14: 1189 | K14: 0 | M14: 0 | O14: =SMALL(E14:M14,COUNTIF(E14:M14,0)+1) -> 1410.9 | P14: 0 | Q14: 0 | R14: 0 | S14: 0 | T14: 0 | U14: 0 | V14: 0 | W14: 자재 10
A15: 5879D402E66C98886BF060807371D12647A789 | B15: 공업용휘발유 | C15: 공업용휘발유, 무연 | D15: L | E15: 0 | G15: 1696.36 | H15: 1451 | I15: 1438.18 | J15: 1189 | K15: 0 | M15: 0 | O15: =SMALL(E15:M15,COUNTIF(E15:M15,0)+1) -> 1438.18 | P15: 0 | Q15: 0 | R15: 0 | S15: 0 | T15: 0 | U15: 0 | V15: 0 | W15: 자재 11
A16: 5879D402E67EFF584DC58600738280E2608169 | B16: 아세틸렌가스 | C16: 아세틸렌가스, kg | D16: kg | E16: 14869 | G16: 45000 | H16: 1451 | I16: 23700 | J16: 1190 | K16: 0 | M16: 0 | O16: =SMALL(E16:M16,COUNTIF(E16:M16,0)+1) -> 14869 | P16: 0 | Q16: 0 | R16: 0 | S16: 0 | T16: 0 | U16: 0 | V16: 0 | W16: 자재 12
A17: 5879D402E67EFF584DC58600738280E260816A | B17: 아세틸렌가스 | C17: 아세틸렌가스, g | D17: g | E17: 0 | G17: 45 | H17: 1451 | I17: 23.7 | J17: 1190 | K17: 0 | M17: 0 | O17: =SMALL(E17:M17,COUNTIF(E17:M17,0)+1) -> 23.7 | P17: 0 | Q17: 0 | R17: 0 | S17: 0 | T17: 0 | U17: 0 | V17: 0 | W17: 자재 13
A18: 584C74F586DF2FF80CF7D3307E9BD026A6E92A | B18: 용접용 용재 | C18: 후락스 | D18: g | E18: 0 | G18: 10.5 | H18: 1458 | I18: 0 | K18: 0 | M18: 0 | O18: =SMALL(E18:M18,COUNTIF(E18:M18,0)+1) -> 10.5 | P18: 0 | Q18: 0 | R18: 0 | S18: 0 | T18: 0 | U18: 0 | V18: 0 | W18: 자재 14
A19: 584C74F586DF2FF80CF41E9072E0A460B407D7 | B19: 연강용피복아크용접봉 | C19: 연강용피복아크용접봉, CS-200, ∮3.2mm | D19: kg | E19: 0 | G19: 3150 | H19: 1326 | I19: 0 | K19: 0 | M19: 0 | O19: =SMALL(E19:M19,COUNTIF(E19:M19,0)+1) -> 3150 | P19: 0 | Q19: 0 | R19: 0 | S19: 0 | T19: 0 | U19: 0 | V19: 0 | W19: 자재 15
A20: 584C74F586DF2FF80CF41E9072E0A460B407D8 | B20: 연강용피복아크용접봉 | C20: 연강용피복아크용접봉, CS-200, ∮4.0mm | D20: kg | E20: 0 | G20: 3050 | H20: 1326 | I20: 0 | K20: 0 | M20: 0 | O20: =SMALL(E20:M20,COUNTIF(E20:M20,0)+1) -> 3050 | P20: 0 | Q20: 0 | R20: 0 | S20: 0 | T20: 0 | U20: 0 | V20: 0 | W20: 자재 16
A21: 584C74F586DF2FF80CF41E9072E0A460B40AA4 | B21: 용접봉(연강용) | C21: 3.2(KSE4301) | D21: kg | E21: 0 | G21: 2980 | H21: 1326 | I21: 3080 | J21: 1132 | K21: 0 | M21: 0 | O21: =SMALL(E21:M21,COUNTIF(E21:M21,0)+1) -> 2980 | P21: 0 | Q21: 0 | R21: 0 | S21: 0 | T21: 0 | U21: 0 | V21: 0 | W21: 자재 17
A22: 584C74F586DF2FF80CF41E9072E0A460B7D33C | B22: 동 및 동합금용 용접봉 | C22: 동 및 동합금용 용접봉, 동, ∮2.4mm, BCUP3 | D22: g | E22: 72.38 | G22: 153.2 | H22: 1327 | I22: 0 | K22: 0 | M22: 0 | O22: =SMALL(E22:M22,COUNTIF(E22:M22,0)+1) -> 72.38 | P22: 0 | Q22: 0 | R22: 0 | S22: 0 | T22: 0 | U22: 0 | V22: 0 | W22: 자재 18
A23: 584C74F586DF2FF80CF41E9072E0A460B6CF9B | B23: 스테인리스강용알곤용접봉 | C23: 스테인리스강용알곤용접봉, ∮3.2mm, T-308 | D23: kg | E23: 0 | G23: 0 | I23: 0 | K23: 0 | M23: 9160 | N23: 설비협회 | O23: =SMALL(E23:M23,COUNTIF(E23:M23,0)+1) -> 9160 | P23: 0 | Q23: 0 | R23: 0 | S23: 0 | T23: 0 | U23: 0 | V23: 0 | W23: 자재 19
A24: 584C044696D2A5881F4DD4C071F33B2BB58806 | B24: (신설)물탱크, 40톤, 현장설치도 | C24: SMC물탱크(보온), 5,000 X 4,000 X 2,000(H) | D24: 대 | E24: 14920000 | G24: 0 | I24: 0 | K24: 0 | M24: 0 | O24: =SMALL(E24:M24,COUNTIF(E24:M24,0)+1) -> 14920000 | P24: 0 | Q24: 0 | R24: 0 | S24: 0 | T24: 0 | U24: 0 | V24: 0 | W24: 자재 20 | X24: 식별번호 24237285
A25: 584C044696D2A5881F4DD4C071F33B2BB58916 | B25: (신설)물탱크, 8톤, 현장설치도 | C25: SMC물탱크(보온), 2,000 X 2,000 X 2,000(H) | D25: 대 | E25: 2486000 | G25: 0 | I25: 0 | K25: 0 | M25: 0 | O25: =SMALL(E25:M25,COUNTIF(E25:M25,0)+1) -> 2486000 | P25: 0 | Q25: 0 | R25: 0 | S25: 0 | T25: 0 | U25: 0 | V25: 0 | W25: 자재 21 | X25: 식별번호 21938698
A26: 585EB4CD36ADCFA892F897907BBBF2EC2A748B | B26: 코너앵글 | C26: 코너앵글, 앵글(STS), 50*50*4 | D26: kg | E26: 0 | G26: 6200 | H26: 75 | I26: 4955 | J26: 40 | K26: 0 | M26: 0 | O26: =SMALL(E26:M26,COUNTIF(E26:M26,0)+1) -> 4955 | P26: 0 | Q26: 0 | R26: 0 | S26: 0 | T26: 0 | U26: 0 | V26: 0 | W26: 자재 22
A27: 585EB4CD36ADCF988AED91C07FAB03258C15AC | B27: 철근콘크리트용봉강 | C27: 철근콘크리트용봉강, 이형봉강(SD300), D-13, 지정장소도 | D27: TON | E27: 0 | G27: 1000000 | H27: 49 | I27: 0 | K27: 0 | M27: 0 | O27: =SMALL(E27:M27,COUNTIF(E27:M27,0)+1) -> 1000000 | P27: 0 | Q27: 0 | R27: 0 | S27: 0 | T27: 0 | U27: 0 | V27: 0 | W27: 자재 23
A28: 585EB4CD36ADFB182D6D8A1071DD93A690D6E4 | B28: 도장용융아연도강판 | C28: 도장용융아연도강판, 폴리에스터(양면), 0.80mm | D28: kg | E28: 0 | G28: 1719 | H28: 66 | I28: 1747.47 | J28: 29 | K28: 0 | M28: 0 | O28: =SMALL(E28:M28,COUNTIF(E28:M28,0)+1) -> 1719 | P28: 0 | Q28: 0 | R28: 0 | S28: 0 | T28: 0 | U28: 0 | V28: 0 | W28: 자재 24
A29: 585EB4CD36ADFB182D6D8A1071DD93A690D6E6 | B29: 도장용융아연도강판 | C29: 도장용융아연도강판, 폴리에스터(양면), 1.00mm | D29: kg | E29: 0 | G29: 1695 | H29: 66 | I29: 1725.96 | J29: 29 | K29: 0 | M29: 0 | O29: =SMALL(E29:M29,COUNTIF(E29:M29,0)+1) -> 1695 | P29: 0 | Q29: 0 | R29: 0 | S29: 0 | T29: 0 | U29: 0 | V29: 0 | W29: 자재 25
A30: 585EB4CD36ADFB182D6D8A107030CF08049944 | B30: 착색아연도강판 | C30: 0.3t*914*1829 | D30: M2 | E30: 0 | G30: 5503.28 | H30: 66 | I30: 5601.75 | J30: 29 | K30: 0 | M30: 0 | O30: =SMALL(E30:M30,COUNTIF(E30:M30,0)+1) -> 5503.28 | P30: 0 | Q30: 0 | R30: 0 | S30: 0 | T30: 0 | U30: 0 | V30: 0 | W30: 자재 26
A31: 585EB4CD36BE5988187AA2507092AFE8F2FD60 | B31: 시멘트 | C31: 시멘트, 분공장도 | D31: kg | E31: 0 | G31: 140.9 | H31: 104 | I31: 143.18 | J31: 62 | K31: 0 | M31: 0 | O31: =SMALL(E31:M31,COUNTIF(E31:M31,0)+1) -> 140.9 | P31: 0 | Q31: 0 | R31: 0 | S31: 0 | T31: 0 | U31: 0 | V31: 0 | W31: 자재 27
A32: 585EA424C6109A68D00769E075E968CCD47EE9 | B32: 철선 | C32: 철선, 어닐링, ∮0.9mm | D32: kg | E32: 1730 | G32: 1780 | H32: 85 | I32: 1830 | J32: 42 | K32: 0 | M32: 0 | O32: =SMALL(E32:M32,COUNTIF(E32:M32,0)+1) -> 1730 | P32: 0 | Q32: 0 | R32: 0 | S32: 0 | T32: 0 | U32: 0 | V32: 0 | W32: 자재 28
A33: 585EA424C6226B389C4517F076832C9BB8A3D8 | B33: U볼트 | C33: U볼트, 절연, ∮25mm | D33: 개 | E33: 370 | G33: 760 | H33: 95 | I33: 1006 | J33: 50 | K33: 0 | M33: 0 | O33: =SMALL(E33:M33,COUNTIF(E33:M33,0)+1) -> 370 | P33: 0 | Q33: 0 | R33: 0 | S33: 0 | T33: 0 | U33: 0 | V33: 0 | W33: 자재 29
A34: 585EA424C6226B389C4517F076832C9BB8A2C9 | B34: U볼트 | C34: U볼트, 절연, ∮40mm | D34: 개 | E34: 450 | G34: 920 | H34: 95 | I34: 1248 | J34: 50 | K34: 0 | M34: 0 | O34: =SMALL(E34:M34,COUNTIF(E34:M34,0)+1) -> 450 | P34: 0 | Q34: 0 | R34: 0 | S34: 0 | T34: 0 | U34: 0 | V34: 0 | W34: 자재 30
A35: 585EA424C6226B389C4517F076832C9BB8A2CD | B35: U볼트 | C35: U볼트, 절연, ∮100mm | D35: 개 | E35: 880 | G35: 1840 | H35: 95 | I35: 2351 | J35: 50 | K35: 0 | M35: 0 | O35: =SMALL(E35:M35,COUNTIF(E35:M35,0)+1) -> 880 | P35: 0 | Q35: 0 | R35: 0 | S35: 0 | T35: 0 | U35: 0 | V35: 0 | W35: 자재 31
A36: 585EA424C6226B389C4517F076832C9BB8A2CC | B36: U볼트 | C36: U볼트, 절연, ∮125mm | D36: 개 | E36: 1590 | G36: 2170 | H36: 95 | I36: 2739 | J36: 50 | K36: 0 | M36: 0 | O36: =SMALL(E36:M36,COUNTIF(E36:M36,0)+1) -> 1590 | P36: 0 | Q36: 0 | R36: 0 | S36: 0 | T36: 0 | U36: 0 | V36: 0 | W36: 자재 32
A37: 585EA424C6226B389C4517F076832C9BB8A598 | B37: U볼트 | C37: U볼트, 비절연, ∮100mm | D37: 개 | E37: 440 | G37: 702 | H37: 95 | I37: 0 | K37: 0 | M37: 0 | O37: =SMALL(E37:M37,COUNTIF(E37:M37,0)+1) -> 440 | P37: 0 | Q37: 0 | R37: 0 | S37: 0 | T37: 0 | U37: 0 | V37: 0 | W37: 자재 33
A38: 585EA424C6226B38940553207852122F2FEA1A | B38: 행어볼트 | C38: 행어볼트, 아연도금, M10*1000 | D38: 개 | E38: 570 | G38: 0 | I38: 0 | K38: 0 | M38: 0 | O38: =SMALL(E38:M38,COUNTIF(E38:M38,0)+1) -> 570 | P38: 0 | Q38: 0 | R38: 0 | S38: 0 | T38: 0 | U38: 0 | V38: 0 | W38: 자재 34
A39: 585EA424C6226B38940553207852122F2FEA1C | B39: 행어볼트 | C39: 행어볼트, 아연도금, M14*1000 | D39: EA | E39: 0 | G39: 0 | I39: 0 | K39: 0 | M39: 2452 | N39: 설비협회 | O39: =SMALL(E39:M39,COUNTIF(E39:M39,0)+1) -> 2452 | P39: 0 | Q39: 0 | R39: 0 | S39: 0 | T39: 0 | U39: 0 | V39: 0 | W39: 자재 35
A40: 585EA424C6226B28F5DE9600725875B408F3E5 | B40: 육각너트 | C40: 육각너트, M10 | D40: 개 | E40: 0 | G40: 32.8 | H40: 98 | I40: 0 | K40: 0 | M40: 0 | O40: =SMALL(E40:M40,COUNTIF(E40:M40,0)+1) -> 32.8 | P40: 0 | Q40: 0 | R40: 0 | S40: 0 | T40: 0 | U40: 0 | V40: 0 | W40: 자재 36
...
