Workbook

Sheet 원가계산서
B1: 공 사 원 가 계 산 서
B2: 공사명 : 소담스퀘어 울산 구축 설계 용역(소방) | F2: 금액 : 육천구백구십삼만원(￦69,930,000)
B3: 비 목 | E3: 금 액 | F3: 구 성 비 | G3: 비 고
A4: A1 | B4: 순 공 사 원 가 | C4: 재 료 비 | D4: 직 접 재 료 비
A5: A2 | D5: 간 접 재 료 비
A6: A3 | D6: 작업설, 부산물(△)
A7: AS | D7: [ 소 계 ]
A8: B1 | C8: 노 무 비 | D8: 직 접 노 무 비
A9: B2 | D9: 간 접 노 무 비
A10: BS | D10: [ 소 계 ]
A11: C4 | C11: 경 비 | D11: 산 재 보 험 료
A12: C5 | D12: 고 용 보 험 료
A13: C6 | D13: 국민 건강 보험료
A14: C7 | D14: 국민 연금 보험료
A15: CB | D15: 노인장기요양보험료
A16: CA | D16: 산업안전보건관리비
A17: CC | D17: 석면분담금
A18: CD | D18: 임금채권부담금
A19: CG | D19: 기 타 경 비
A20: CS | D20: [ 소 계 ]
A21: S1 | B21: 계
A22: D1 | B22: 일 반 관 리 비 | F22: 계 * 8%
A23: D2 | B23: 이 윤 | F23: (노무비+경비+일반관리비) * 15%
A24: D9 | B24: 공 급 가 액
A25: DA | B25: 소방사업자손해배상보험
A26: DB | B26: 부 가 가 치 세 | F26: 공급가액 * 10%
A27: DH | B27: 도 급 액
A28: S2 | B28: 총 공 사 비

Sheet 공종별집계표
A1: 공 종 별 집 계 표
A2: [ 소담스퀘어 울산 구축 설계 용역(소방) ]
A3: 품 명 | B3: 규 격 | C3: 단위 | D3: 수량 | E3: 재 료 비 | G3: 노 무 비 | I3: 경 비 | K3: 합 계 | M3: 비 고 | N3: 공종코드 | O3: 변수 | P3: 상위공종 | Q3: 공종구분 | R3: 공종레벨 | S3: 공종소계 | T3: 원가계산서 연결금액
E4: 단 가 | F4: 금 액 | G4: 단 가 | H4: 금 액 | I4: 단 가 | J4: 금 액 | K4: 단 가 | L4: 금 액
A5: 소담스퀘어 울산 구축 설계 용역(소방) | D5: 1 | N5: 01 | R5: 1
A6: 1.소방설비공사 | D6: 1 | N6: 0101 | P6: 01 | R6: 2
A7: 1-1.전기소방설비공사 | D7: 1 | N7: 010101 | P7: 0101 | R7: 3
A8: 1-1-1.철거설비공사 | D8: 1 | N8: 01010101 | P8: 010101 | R8: 4
A9: 1-1-2.자동화재탐지설비공사 | D9: 1 | N9: 01010102 | P9: 010101 | R9: 4
A10: 1-1-3.유도등설비공사 | D10: 1 | N10: 01010103 | P10: 010101 | R10: 4
A11: 1-1-4.비상방송설비공사 | D11: 1 | N11: 01010104 | P11: 010101 | R11: 4
A12: 1-1-5.비상조명설비공사 | D12: 1 | N12: 01010105 | P12: 010101 | R12: 4
A13: 1-2.기계소방설비공사 | D13: 1 | N13: 010102 | P13: 0101 | R13: 3
A27: [ 합 계 ]

Sheet 공종별내역서
A1: [ 소담스퀘어 울산 구축 설계 용역(소방) ]
A2: 품 명 | B2: 규 격 | C2: 단위 | D2: 수량 | E2: 재 료 비 | G2: 노 무 비 | I2: 경 비 | K2: 합 계 | M2: 비 고 | N2: 품목코드 | O2: 변수 | P2: 설정 | Q2: 공종코드 | R2: 일위 | S2: 단산 | T2: 자재 | U2: 손료적용 | V2: 손료저장 | W2: 적용율 | X2: JUK1 | Y2: JUK2 | Z2: JUK3 | AA2: JUK4 | AB2: JUK5 | AC2: JUK6 | AD2: JUK7 | AE2: JUK8 | AF2: JUK9 | AG2: JUK10 | AH2: JUK11 | AI2: JUK12 | AJ2: JUK13 | AK2: JUK14 | AL2: JUK15 | AM2: JUK16 | AN2: JUK17 | AO2: JUK18 | AP2: JUK19 | AQ2: JUK20 | AR2: 자재구분 | AS2: 공종구분 | AT2: 공종레벨 | AU2: 공종+자재 | AV2: 고유번호
E3: 단 가 | F3: 금 액 | G3: 단 가 | H3: 금 액 | I3: 단 가 | J3: 금 액 | K3: 단 가 | L3: 금 액
A4: 1-1-1.철거설비공사 | Q4: 01010101
A5: 수동발신기 철거 | B5: 소화전상부 | C5: SET | D5: 1 | M5: 호표 1 | N5: 5BCC768A63E3D9879996227EE7C227 | Q5: 01010101 | R5: T | S5: F | T5: F | AU5: 010101015BCC768A63E3D9879996227EE7C227 | AV5: 14
A6: 화재감지기 철거 | B6: 기존 | C6: 개 | D6: 31 | M6: 호표 2 | N6: 5BCCB653FC33CB843FCDE676CDFEE7 | Q6: 01010101 | R6: T | S6: F | T6: F | AU6: 010101015BCCB653FC33CB843FCDE676CDFEE7 | AV6: 15
A7: 스피커 철거 | B7: 기존 | C7: 개 | D7: 4 | M7: 호표 3 | N7: 5BCDA6D9CA33A48E2E72C77C836CA7 | Q7: 01010101 | R7: T | S7: F | T7: F | AU7: 010101015BCDA6D9CA33A48E2E72C77C836CA7 | AV7: 16
A8: 시각경보장치 재사용철거 | B8: 기존 | C8: 개 | D8: 3 | M8: 호표 4 | N8: 5BCC768A63E3D9879994767205D487 | Q8: 01010101 | R8: T | S8: F | T8: F | AU8: 010101015BCC768A63E3D9879994767205D487 | AV8: 18
A9: 유도등 재사용 철거 | B9: 기존 | C9: 개 | D9: 4 | M9: 호표 5 | N9: 5BCCB653FDC33C87F54A1079827F87 | Q9: 01010101 | R9: T | S9: F | T9: F | AU9: 010101015BCCB653FDC33C87F54A1079827F87 | AV9: 19
A10: 음성점멸유도등 재사용 철거 | B10: 기존 | C10: 개 | D10: 1 | M10: 호표 6 | N10: 5BCCB653FDC33C87F54A1079827F97 | Q10: 01010101 | R10: T | S10: F | T10: F | AU10: 010101015BCCB653FDC33C87F54A1079827F97 | AV10: 20
A11: 비상조명 재사용 철거 | B11: 기존 | C11: 개 | D11: 4 | M11: 호표 7 | N11: 5CCD867A2C83AB8F83A668790C0747 | Q11: 01010101 | R11: T | S11: F | T11: F | AU11: 010101015CCD867A2C83AB8F83A668790C0747 | AV11: 21
Q12: 01010101
Q13: 01010101
Q14: 01010101
Q15: 01010101
Q16: 01010101
Q17: 01010101
Q18: 01010101
Q19: 01010101
Q20: 01010101
Q21: 01010101
Q22: 01010101
Q23: 01010101
... Q26: 01010101
A27: [ 합 계 ] | N27: TOTAL
A28: 1-1-2.자동화재탐지설비공사 | Q28: 01010102
A29: 나사없는전선관-노출 | B29: E19 | C29: M | D29: 247 | M29: 호표 8 | N29: 5BCC76F84C8357846DC83B735496F7 | Q29: 01010102 | R29: T | S29: F | T29: F | AU29: 010101025BCC76F84C8357846DC83B735496F7 | AV29: 27
A30: 1종금속제가요전선관-노출 | B30: 16mm, 비방수 | C30: M | D30: 63 | M30: 호표 9 | N30: 5BCC76894143568A2F248E7A26BA57 | Q30: 01010102 | R30: T | S30: F | T30: F | AU30: 010101025BCC76894143568A2F248E7A26BA57 | AV30: 28
A31: 옥내용원터치방식이음쇠- 커플링, JIS | B31: E19 | C31: 개 | D31: 71 | N31: 5CA196A7B12364809147D57A88DAF7C8525C38 | Q31: 01010102 | R31: F | S31: F | T31: T | AU31: 010101025CA196A7B12364809147D57A88DAF7C8525C38 | AV31: 29
A32: 옥내용원터치방식이음쇠- 커넥터, JIS | B32: E19 | C32: 개 | D32: 132 | N32: 5CA196A7B12364809147D57A88DAF7C8525DC1 | Q32: 01010102 | R32: F | S32: F | T32: T | AU32: 010101025CA196A7B12364809147D57A88DAF7C8525DC1 | AV32: 30
A33: 1종금속제가요전선관 | B33: 1종금속제가요전선관, 박스커넥터, 16mm, 비방수 | C33: 개 | D33: 84 | N33: 5CA196A7B12364809149867D8327E740516935 | Q33: 01010102 | R33: F | S33: F | T33: T | AU33: 010101025CA196A7B12364809149867D8327E740516935 | AV33: 31
A34: 450/75OV 저독성난연가교폴리올레핀절연전선(HFIX) | B34: 1.38㎜(1.5㎟) | C34: M | D34: 920 | M34: 호표 10 | N34: 5BCC76894263C7897B56827C8989D7 | Q34: 01010102 | R34: T | S34: F | T34: F | AU34: 010101025BCC76894263C7897B56827C8989D7 | AV34: 32
A35: 450/75OV 저독성난연가교폴리올레핀절연전선(HFIX) | B35: 1.78㎜(2.5㎟) | C35: M | D35: 174 | M35: 호표 11 | N35: 5BCC76894263C7897B56827C89B517 | Q35: 01010102 | R35: T | S35: F | T35: F | AU35: 010101025BCC76894263C7897B56827C89B517 | AV35: 33
A36: 아우트렛박스-노출 | B36: 8각 54mm | C36: 개 | D36: 42 | M36: 호표 12 | N36: 5BCC76894993BC86B568AB74817097 | Q36: 01010102 | R36: T | S36: F | T36: F | AU36: 010101025BCC76894993BC86B568AB74817097 | AV36: 34
A37: 아우트렛박스-노출 | B37: 중형 4각 54㎜ | C37: 개 | D37: 3 | M37: 호표 13 | N37: 5BCC76894993BC86B568AB74816607 | Q37: 01010102 | R37: T | S37: F | T37: F | AU37: 010101025BCC76894993BC86B568AB74816607 | AV37: 35
A38: 스위치박스-노출 | B38: 1개용 54 mm | C38: 개 | D38: 12 | M38: 호표 14 | N38: 5BCC76894993BC86B568AB74938887 | Q38: 01010102 | R38: T | S38: F | T38: F | AU38: 010101025BCC76894993BC86B568AB74938887 | AV38: 36
A39: 아웃렛박스 | B39: 아웃렛박스, 커버, 8각, 평형 | C39: 개 | D39: 42 | N39: 5CA196A7B0031688BE29697640701738442103 | Q39: 01010102 | R39: F | S39: F | T39: T | AU39: 010101025CA196A7B0031688BE29697640701738442103 | AV39: 37
A40: 아웃렛박스 | B40: 아웃렛박스, 커버, 4각, 평 | C40: 개 | D40: 3 | N40: 5CA196A7B0031688BE29697640701738442100 | Q40: 01010102 | R40: F | S40: F | T40: T | AU40: 010101025CA196A7B0031688BE29697640701738442100 | AV40: 38
A41: 아웃렛박스 | B41: 아웃렛박스, 커버, 4각, 1개용S/W, 평 | C41: 개 | D41: 12 | N41: 5CA196A7B0031688BE29697640701738442104 | Q41: 01010102 | R41: F | S41: F | T41: T | AU41: 010101025CA196A7B0031688BE29697640701738442104 | AV41: 39
A42: 화재감지기 | B42: 열감지기, 차동식분포형 | C42: 개 | D42: 32 | M42: 호표 15 | N42: 5BCC768A63E3D9879996237F56F817 | Q42: 01010102 | R42: T | S42: F | T42: F | AU42: 010101025BCC768A63E3D9879996237F56F817 | AV42: 40
A43: 화재감지기 | B43: 열감지기, 정온식스포트형 | C43: 개 | D43: 4 | M43: 호표 16 | N43: 5BCC768A63E3D9879996237F56CCD7 | Q43: 01010102 | R43: T | S43: F | T43: F | AU43: 010101025BCC768A63E3D9879996237F56CCD7 | AV43: 41
A44: 화재감지기 | B44: 연기감지기, 광전식 2종-비축적 | C44: 개 | D44: 6 | M44: 호표 17 | N44: 5BCC768A63E3D9879996237F44AA57 | Q44: 01010102 | R44: T | S44: F | T44: F | AU44: 010101025BCC768A63E3D9879996237F44AA57 | AV44: 84
A45: 수동발신기 | B45: 소화전상부 | C45: SET | D45: 1 | M45: 호표 18 | N45: 5BCC768A63E3D9879996227EE7C237 | Q45: 01010102 | R45: T | S45: F | T45: F | AU45: 010101025BCC768A63E3D9879996227EE7C237 | AV45: 43
A46: 시각경보장치 | B46: 15cd | C46: 개 | D46: 9 | M46: 호표 19 | N46: 5BCC768A63E3D9879994767205D497 | Q46: 01010102 | R46: T | S46: F | T46: F | AU46: 010101025BCC768A63E3D9879994767205D497 | AV46: 44
A47: 시각경보장치 재설치 | B47: 기존 | C47: 개 | D47: 3 | M47: 호표 20 | N47: 5BCC768A63E3D9879994767205D4B7 | Q47: 01010102 | R47: T | S47: F | T47: F | AU47: 010101025BCC768A63E3D9879994767205D4B7 | AV47: 45
A48: 화재 수신기 | B48: 중계기, 4/4, 감시/제어 | C48: 대 | D48: 2 | M48: 호표 21 | N48: 5BCC768A63E3D98799936F7CC2D307 | Q48: 01010102 | R48: T | S48: F | T48: F | AU48: 010101025BCC768A63E3D98799936F7CC2D307 | AV48: 46
A49: 옥내소화전 간선 재연결 | B49: 배관배선 재사용 | C49: 식 | D49: 1 | M49: 호표 22 | N49: 5BCC768A63E3D98799936F7CC2D337 | Q49: 01010102 | R49: T | S49: F | T49: F | AU49: 010101025BCC768A63E3D98799936F7CC2D337 | AV49: 47
Q50: 01010102
A51: [ 합 계 ] | N51: TOTAL
A52: 1-1-3.유도등설비공사 | Q52: 01010103
A53: 나사없는전선관-노출 | B53: E19 | C53: M | D53: 62 | M53: 호표 8 | N53: 5BCC76F84C8357846DC83B735496F7 | Q53: 01010103 | R53: T | S53: F | T53: F | AU53: 010101035BCC76F84C8357846DC83B735496F7 | AV53: 49
A54: 1종금속제가요전선관-노출 | B54: 16mm, 비방수 | C54: M | D54: 8 | M54: 호표 9 | N54: 5BCC76894143568A2F248E7A26BA57 | Q54: 01010103 | R54: T | S54: F | T54: F | AU54: 010101035BCC76894143568A2F248E7A26BA57 | AV54: 50
A55: 옥내용원터치방식이음쇠- 커플링, JIS | B55: E19 | C55: 개 | D55: 12 | N55: 5CA196A7B12364809147D57A88DAF7C8525C38 | Q55: 01010103 | R55: F | S55: F | T55: T | AU55: 010101035CA196A7B12364809147D57A88DAF7C8525C38 | AV55: 52
A56: 옥내용원터치방식이음쇠- 커넥터, JIS | B56: E19 | C56: 개 | D56: 22 | N56: 5CA196A7B12364809147D57A88DAF7C8525DC1 | Q56: 01010103 | R56: F | S56: F | T56: T | AU56: 010101035CA196A7B12364809147D57A88DAF7C8525DC1 | AV56: 53
A57: 1종금속제가요전선관 | B57: 1종금속제가요전선관, 박스커넥터, 16mm, 비방수 | C57: 개 | D57: 10 | N57: 5CA196A7B12364809149867D8327E740516935 | Q57: 01010103 | R57: F | S57: F | T57: T | AU57: 010101035CA196A7B12364809149867D8327E740516935 | AV57: 54
A58: 450/75OV 저독성난연가교폴리올레핀절연전선(HFIX) | B58: 1.78㎜(2.5㎟) | C58: M | D58: 139 | M58: 호표 11 | N58: 5BCC76894263C7897B56827C89B517 | Q58: 01010103 | R58: T | S58: F | T58: F | AU58: 010101035BCC76894263C7897B56827C89B517 | AV58: 55
A59: 아우트렛박스-노출 | B59: 8각 54mm | C59: 개 | D59: 4 | M59: 호표 12 | N59: 5BCC76894993BC86B568AB74817097 | Q59: 01010103 | R59: T | S59: F | T59: F | AU59: 010101035BCC76894993BC86B568AB74817097 | AV59: 56
A60: 아우트렛박스-노출 | B60: 중형 4각 54㎜ | C60: 개 | D60: 17 | M60: 호표 13 | N60: 5BCC76894993BC86B568AB74816607 | Q60: 01010103 | R60: T | S60: F | T60: F | AU60: 010101035BCC76894993BC86B568AB74816607 | AV60: 57
A61: 아웃렛박스 | B61: 아웃렛박스, 커버, 8각, 평형 | C61: 개 | D61: 4 | N61: 5CA196A7B0031688BE29697640701738442103 | Q61: 01010103 | R61: F | S61: F | T61: T | AU61: 010101035CA196A7B0031688BE29697640701738442103 | AV61: 58
A62: 아웃렛박스 | B62: 아웃렛박스, 커버, 4각, 평 | C62: 개 | D62: 9 | N62: 5CA196A7B0031688BE29697640701738442100 | Q62: 01010103 | R62: F | S62: F | T62: T | AU62: 010101035CA196A7B0031688BE29697640701738442100 | AV62: 59
A63: 아웃렛박스 | B63: 아웃렛박스, 커버, 4각, 둥근구멍, 오목 | C63: 개 | D63: 8 | N63: 5CA196A7B0031688BE29697640701738442107 | Q63: 01010103 | R63: F | S63: F | T63: T | AU63: 010101035CA196A7B0031688BE29697640701738442107 | AV63: 60
A64: 피난구 유도등(고휘도) | B64: 소형(단면) 60분용, 벽부형 | C64: 개 | D64: 7 | M64: 호표 23 | N64: 5BCC768A63E3D98799951C78379047 | Q64: 01010103 | R64: T | S64: F | T64: F | AU64: 010101035BCC768A63E3D98799951C78379047 | AV64: 61
A65: 피난구 유도등(고휘도) | B65: 소형(양면) 60분용, 천정형 | C65: 개 | D65: 2 | M65: 호표 24 | N65: 5BCC768A63E3D98799951C7837A2B7 | Q65: 01010103 | R65: T | S65: F | T65: F | AU65: 010101035BCC768A63E3D98799951C7837A2B7 | AV65: 62
A66: 피난구 유도등 재설치 | B66: 소형 | C66: 개 | D66: 3 | M66: 호표 25 | N66: 5BCC768A63E3D98799951C7837A2A7 | Q66: 01010103 | R66: T | S66: F | T66: F | AU66: 010101035BCC768A63E3D98799951C7837A2A7 | AV66: 63
A67: 음성점멸유도등 재설치 | B67: 기존 | C67: 개 | D67: 1 | M67: 호표 26 | N67: 5BCCB653FDC33C87F54A1079827FA7 | Q67: 01010103 | R67: T | S67: F | T67: F | AU67: 010101035BCCB653FDC33C87F54A1079827FA7 | AV67: 64
Q68: 01010103
Q69: 01010103
Q70: 01010103
Q71: 01010103
Q72: 01010103
Q73: 01010103
Q74: 01010103
A75: [ 합 계 ] | N75: TOTAL
A76: 1-1-4.비상방송설비공사 | Q76: 01010104
A77: 나사없는전선관-노출 | B77: E19 | C77: M | D77: 52 | M77: 호표 8 | N77: 5BCC76F84C8357846DC83B735496F7 | Q77: 01010104 | R77: T | S77: F | T77: F | AU77: 010101045BCC76F84C8357846DC83B735496F7 | AV77: 65
A78: 1종금속제가요전선관-노출 | B78: 16mm, 비방수 | C78: M | D78: 17 | M78: 호표 9 | N78: 5BCC76894143568A2F248E7A26BA57 | Q78: 01010104 | R78: T | S78: F | T78: F | AU78: 010101045BCC76894143568A2F248E7A26BA57 | AV78: 66
A79: 옥내용원터치방식이음쇠- 커플링, JIS | B79: E19 | C79: 개 | D79: 15 | N79: 5CA196A7B12364809147D57A88DAF7C8525C38 | Q79: 01010104 | R79: F | S79: F | T79: T | AU79: 010101045CA196A7B12364809147D57A88DAF7C8525C38 | AV79: 67
A80: 옥내용원터치방식이음쇠- 커넥터, JIS | B80: E19 | C80: 개 | D80: 22 | N80: 5CA196A7B12364809147D57A88DAF7C8525DC1 | Q80: 01010104 | R80: F | S80: F | T80: T | AU80: 010101045CA196A7B12364809147D57A88DAF7C8525DC1 | AV80: 68
A81: 1종금속제가요전선관 | B81: 1종금속제가요전선관, 박스커넥터, 16mm, 비방수 | C81: 개 | D81: 22 | N81: 5CA196A7B12364809149867D8327E740516935 | Q81: 01010104 | R81: F | S81: F | T81: T | AU81: 010101045CA196A7B12364809149867D8327E740516935 | AV81: 69
A82: 450/75OV 저독성난연가교폴리올레핀절연전선(HFIX) | B82: 1.38㎜(1.5㎟) | C82: M | D82: 137 | M82: 호표 10 | N82: 5BCC76894263C7897B56827C8989D7 | Q82: 01010104 | R82: T | S82: F | T82: F | AU82: 010101045BCC76894263C7897B56827C8989D7 | AV82: 75
A83: 아우트렛박스-노출 | B83: 8각 54mm | C83: 개 | D83: 11 | M83: 호표 12 | N83: 5BCC76894993BC86B568AB74817097 | Q83: 01010104 | R83: T | S83: F | T83: F | AU83: 010101045BCC76894993BC86B568AB74817097 | AV83: 70
A84: 아우트렛박스-노출 | B84: 중형 4각 54㎜ | C84: 개 | D84: 4 | M84: 호표 13 | N84: 5BCC76894993BC86B568AB74816607 | Q84: 01010104 | R84: T | S84: F | T84: F | AU84: 010101045BCC76894993BC86B568AB74816607 | AV84: 71
A85: 아웃렛박스 | B85: 아웃렛박스, 커버, 8각, 평형 | C85: 개 | D85: 11 | N85: 5CA196A7B0031688BE29697640701738442103 | Q85: 01010104 | R85: F | S85: F | T85: T | AU85: 010101045CA196A7B0031688BE29697640701738442103 | AV85: 72
A86: 아웃렛박스 | B86: 아웃렛박스, 커버, 4각, 평 | C86: 개 | D86: 4 | N86: 5CA196A7B0031688BE29697640701738442100 | Q86: 01010104 | R86: F | S86: F | T86: T | AU86: 010101045CA196A7B0031688BE29697640701738442100 | AV86: 73
A87: 천정형 스피커 | B87: 천정형(3W) | C87: 개 | D87: 11 | M87: 호표 27 | N87: 5CCD867A2F53E18D653FE77C96FC27 | Q87: 01010104 | R87: T | S87: F | T87: F | AU87: 010101045CCD867A2F53E18D653FE77C96FC27 | AV87: 74
Q88: 01010104
Q89: 01010104
Q90: 01010104
Q91: 01010104
Q92: 01010104
Q93: 01010104
Q94: 01010104
Q95: 01010104
Q96: 01010104
Q97: 01010104
Q98: 01010104
A99: [ 합 계 ] | N99: TOTAL
A100: 1-1-5.비상조명설비공사 | Q100: 01010105
A101: 나사없는전선관-노출 | B101: E19 | C101: M | D101: 91 | M101: 호표 8 | N101: 5BCC76F84C8357846DC83B735496F7 | Q101: 01010105 | R101: T | S101: F | T101: F | AU101: 010101055BCC76F84C8357846DC83B735496F7 | AV101: 76
A102: 옥내용원터치방식이음쇠- 커플링, JIS | B102: E19 | C102: 개 | D102: 14 | N102: 5CA196A7B12364809147D57A88DAF7C8525C38 | Q102: 01010105 | R102: F | S102: F | T102: T | AU102: 010101055CA196A7B12364809147D57A88DAF7C8525C38 | AV102: 77
...

Sheet 일위대가목록
A1: 일 위 대 가 목 록
A2: [ 소담스퀘어 울산 구축 설계 용역(소방) ]
A3: 품 명 | B3: 규 격 | C3: 단위 | D3: 재 료 비 | E3: 노 무 비 | F3: 경 비 | G3: 합 계 | H3: 번 호 | I3: 비 고 | J3: 노임계수 | K3: 할증 | L3: 품셈개요 | M3: 장비일위
A4: 수동발신기 철거 | B4: 소화전상부 | C4: SET | H4: 호표 1 | L4: 전기 10-2-5
A5: 화재감지기 철거 | B5: 기존 | C5: 개 | H5: 호표 2 | L5: 전기 10-2-1
A6: 스피커 철거 | B6: 기존 | C6: 개 | H6: 호표 3 | L6: 통신 7-11-5
A7: 시각경보장치 재사용철거 | B7: 기존 | C7: 개 | H7: 호표 4 | L7: 전기 10-2-12
A8: 유도등 재사용 철거 | B8: 기존 | C8: 개 | H8: 호표 5 | L8: 전기 10-3-1
A9: 음성점멸유도등 재사용 철거 | B9: 기존 | C9: 개 | H9: 호표 6 | L9: 전기 10-3-1
A10: 비상조명 재사용 철거 | B10: 기존 | C10: 개 | H10: 호표 7 | L10: 전기 10-3-4
A11: 나사없는전선관-노출 | B11: E19 | C11: M | H11: 호표 8 | L11: 전기 5-1
A12: 1종금속제가요전선관-노출 | B12: 16mm, 비방수 | C12: M | H12: 호표 9 | L12: 전기 5-1
A13: 450/75OV 저독성난연가교폴리올레핀절연전선(HFIX) | B13: 1.38㎜(1.5㎟) | C13: M | H13: 호표 10 | L13: 전기 5-10
A14: 450/75OV 저독성난연가교폴리올레핀절연전선(HFIX) | B14: 1.78㎜(2.5㎟) | C14: M | H14: 호표 11 | L14: 전기 5-10
A15: 아우트렛박스-노출 | B15: 8각 54mm | C15: 개 | H15: 호표 12 | L15: 전기 5-3
... A32: 비상조명 재설치 | B32: 기존 | C32: 개 | H32: 호표 29 | L32: 전기 10-3-4

Sheet 일위대가
A1: [ 소담스퀘어 울산 구축 설계 용역(소방) ]
A2: 품 명 | B2: 규 격 | C2: 단위 | D2: 수량 | E2: 재 료 비 | G2: 노 무 비 | I2: 경 비 | K2: 합 계 | M2: 비 고 | N2: 일위대가 | O2: 품목코드 | P2: 일위 | Q2: 단산 | R2: 자재 | S2: 손료적용 | T2: 손료저장 | U2: 적용율 | V2: JUK1 | W2: JUK2 | X2: JUK3 | Y2: JUK4 | Z2: JUK5 | AA2: JUK6 | AB2: JUK7 | AC2: JUK8 | AD2: JUK9 | AE2: JUK10 | AF2: JUK11 | AG2: JUK12 | AH2: JUK13 | AI2: JUK14 | AJ2: JUK15 | AK2: JUK16 | AL2: JUK17 | AM2: JUK18 | AN2: JUK19 | AO2: JUK20 | AP2: 할증적용 | AQ2: 할증저장 | AR2: 할증율 | AS2: HAL1 | AT2: HAL2 | AU2: HAL3 | AV2: 자재구분 | AW2: 일위대가+자재 | AX2: 장비일위 | AY2: 설정 | AZ2: 할증체크
E3: 단 가 | F3: 금 액 | G3: 단 가 | H3: 금 액 | I3: 단 가 | J3: 금 액 | K3: 단 가 | L3: 금 액
A4: 수동발신기 철거 소화전상부 SET 전기 10-2-5 ( 호표 1 ) | N4: 5BCC768A63E3D9879996227EE7C227
A5: 화재경보장치 | B5: 수동발신기 | C5: 개 | D5: 1 | N5: 5BCC768A63E3D9879996227EE7C227 | O5: 5CDE263800E3A187A203EF7B363787154F62EE | P5: F | Q5: F | R5: T | AW5: 5BCC768A63E3D9879996227EE7C2275CDE263800E3A187A203EF7B363787154F62EE
A6: 화재경보장치 | B6: 수동발신기, 경종, DC24V | C6: 개 | D6: 1 | N6: 5BCC768A63E3D9879996227EE7C227 | O6: 5CDE263800E3A187A203EF7B363787154F62ED | P6: F | Q6: F | R6: T | AW6: 5BCC768A63E3D9879996227EE7C2275CDE263800E3A187A203EF7B363787154F62ED
A7: 화재경보장치 | B7: 수동발신기, 표시등, DC24V | C7: 개 | D7: 1 | N7: 5BCC768A63E3D9879996227EE7C227 | O7: 5CDE263800E3A187A203EF7B363787154F62EC | P7: F | Q7: F | R7: T | AW7: 5BCC768A63E3D9879996227EE7C2275CDE263800E3A187A203EF7B363787154F62EC
A8: 내선전공 | B8: 일반공사 직종 | C8: 인 | D8: =공량산출근거서_일위대가!K8 -> 0.195 | N8: 5BCC768A63E3D9879996227EE7C227 | O8: 5B5026D63D83388940BE8B7AA90877683DF851 | P8: F | Q8: F | R8: T | V8: 1 | AW8: 5BCC768A63E3D9879996227EE7C2275B5026D63D83388940BE8B7AA90877683DF851
A9: 공구손료 | B9: 인력품의 3% | C9: 식 | D9: 1 | N9: 5BCC768A63E3D9879996227EE7C227 | O9: 5A93167637D36C88579C74701167001 | P9: F | Q9: F | R9: F | S9: 1 | T9: 0 | U9: 0.03 | AW9: 5BCC768A63E3D9879996227EE7C2275A93167637D36C88579C74701167001
A10: [ 합 계 ] | N10: TOTAL | O10: TOTAL
A12: 화재감지기 철거 기존 개 전기 10-2-1 ( 호표 2 ) | N12: 5BCCB653FC33CB843FCDE676CDFEE7
A13: 감지기 | B13: 기존 | C13: EA | D13: 1 | N13: 5BCCB653FC33CB843FCDE676CDFEE7 | O13: 5CDE263800E3A187A2074B78AEF827160E45CD | P13: F | Q13: F | R13: T | AW13: 5BCCB653FC33CB843FCDE676CDFEE75CDE263800E3A187A2074B78AEF827160E45CD
A14: 내선전공 | B14: 일반공사 직종 | C14: 인 | D14: =공량산출근거서_일위대가!K11 -> 0.039 | N14: 5BCCB653FC33CB843FCDE676CDFEE7 | O14: 5B5026D63D83388940BE8B7AA90877683DF851 | P14: F | Q14: F | R14: T | V14: 1 | AW14: 5BCCB653FC33CB843FCDE676CDFEE75B5026D63D83388940BE8B7AA90877683DF851
A15: 공구손료 | B15: 인력품의 3% | C15: 식 | D15: 1 | N15: 5BCCB653FC33CB843FCDE676CDFEE7 | O15: 5A93167637D36C88579C74701167001 | P15: F | Q15: F | R15: F | S15: 1 | T15: 0 | U15: 0.03 | AW15: 5BCCB653FC33CB843FCDE676CDFEE75A93167637D36C88579C74701167001
A16: [ 합 계 ] | N16: TOTAL | O16: TOTAL
A18: 스피커 철거 기존 개 통신 7-11-5 ( 호표 3 ) | N18: 5BCDA6D9CA33A48E2E72C77C836CA7
A19: 스피커 | B19: 천정형 | C19: 개 | D19: 1 | N19: 5BCDA6D9CA33A48E2E72C77C836CA7 | O19: 5CF9663D3583588A71851E761958979D872F68 | P19: F | Q19: F | R19: T | AW19: 5BCDA6D9CA33A48E2E72C77C836CA75CF9663D3583588A71851E761958979D872F68
A20: 통신설비공 | B20: 일반공사 직종 | C20: 인 | D20: =공량산출근거서_일위대가!K14 -> 0.063 | N20: 5BCDA6D9CA33A48E2E72C77C836CA7 | O20: 5B5026D63D83388940BE8B7AA90877683DF74A | P20: F | Q20: F | R20: T | V20: 1 | AW20: 5BCDA6D9CA33A48E2E72C77C836CA75B5026D63D83388940BE8B7AA90877683DF74A
A21: 공구손료 | B21: 인력품의 3% | C21: 식 | D21: 1 | N21: 5BCDA6D9CA33A48E2E72C77C836CA7 | O21: 5A93167637D36C88579C74701167001 | P21: F | Q21: F | R21: F | S21: 1 | T21: 0 | U21: 0.03 | AW21: 5BCDA6D9CA33A48E2E72C77C836CA75A93167637D36C88579C74701167001
A22: [ 합 계 ] | N22: TOTAL | O22: TOTAL
A24: 시각경보장치 재사용철거 기존 개 전기 10-2-12 ( 호표 4 ) | N24: 5BCC768A63E3D9879994767205D487
A25: 화재경보장치 | B25: 시각경보기 | C25: 개 | D25: 1 | N25: 5BCC768A63E3D9879994767205D487 | O25: 5CDE263800E3A187A203EF7B36C507D0FF6DF1 | P25: F | Q25: F | R25: T | AW25: 5BCC768A63E3D9879994767205D4875CDE263800E3A187A203EF7B36C507D0FF6DF1
A26: 내선전공 | B26: 일반공사 직종 | C26: 인 | D26: =공량산출근거서_일위대가!K17 -> 0.045 | N26: 5BCC768A63E3D9879994767205D487 | O26: 5B5026D63D83388940BE8B7AA90877683DF851 | P26: F | Q26: F | R26: T | V26: 1 | AW26: 5BCC768A63E3D9879994767205D4875B5026D63D83388940BE8B7AA90877683DF851
A27: 공구손료 | B27: 인력품의 3% | C27: 식 | D27: 1 | N27: 5BCC768A63E3D9879994767205D487 | O27: 5A93167637D36C88579C74701167001 | P27: F | Q27: F | R27: F | S27: 1 | T27: 0 | U27: 0.03 | AW27: 5BCC768A63E3D9879994767205D4875A93167637D36C88579C74701167001
A28: [ 합 계 ] | N28: TOTAL | O28: TOTAL
A30: 유도등 재사용 철거 기존 개 전기 10-3-1 ( 호표 5 ) | N30: 5BCCB653FDC33C87F54A1079827F87
A31: 유도등 | B31: 기존 | C31: 개 | D31: 1 | N31: 5BCCB653FDC33C87F54A1079827F87 | O31: 5CA196A7B3D3588EDEA33C77503C9706601E6D | P31: F | Q31: F | R31: T | AW31: 5BCCB653FDC33C87F54A1079827F875CA196A7B3D3588EDEA33C77503C9706601E6D
A32: 내선전공 | B32: 일반공사 직종 | C32: 인 | D32: =공량산출근거서_일위대가!K20 -> 0.1 | N32: 5BCCB653FDC33C87F54A1079827F87 | O32: 5B5026D63D83388940BE8B7AA90877683DF851 | P32: F | Q32: F | R32: T | V32: 1 | AW32: 5BCCB653FDC33C87F54A1079827F875B5026D63D83388940BE8B7AA90877683DF851
A33: 공구손료 | B33: 인력품의 3% | C33: 식 | D33: 1 | N33: 5BCCB653FDC33C87F54A1079827F87 | O33: 5A93167637D36C88579C74701167001 | P33: F | Q33: F | R33: F | S33: 1 | T33: 0 | U33: 0.03 | AW33: 5BCCB653FDC33C87F54A1079827F875A93167637D36C88579C74701167001
A34: [ 합 계 ] | N34: TOTAL | O34: TOTAL
A36: 음성점멸유도등 재사용 철거 기존 개 전기 10-3-1 ( 호표 6 ) | N36: 5BCCB653FDC33C87F54A1079827F97
A37: 음성점멸유도등 | B37: 기존 | C37: 개 | D37: 1 | N37: 5BCCB653FDC33C87F54A1079827F97 | O37: 5CA196A7B3D3588EDEA33C77503C9706601D5E | P37: F | Q37: F | R37: T | AW37: 5BCCB653FDC33C87F54A1079827F975CA196A7B3D3588EDEA33C77503C9706601D5E
A38: 내선전공 | B38: 일반공사 직종 | C38: 인 | D38: =공량산출근거서_일위대가!K23 -> 0.06 | N38: 5BCCB653FDC33C87F54A1079827F97 | O38: 5B5026D63D83388940BE8B7AA90877683DF851 | P38: F | Q38: F | R38: T | V38: 1 | AW38: 5BCCB653FDC33C87F54A1079827F975B5026D63D83388940BE8B7AA90877683DF851
A39: 공구손료 | B39: 인력품의 3% | C39: 식 | D39: 1 | N39: 5BCCB653FDC33C87F54A1079827F97 | O39: 5A93167637D36C88579C74701167001 | P39: F | Q39: F | R39: F | S39: 1 | T39: 0 | U39: 0.03 | AW39: 5BCCB653FDC33C87F54A1079827F975A93167637D36C88579C74701167001
A40: [ 합 계 ] | N40: TOTAL | O40: TOTAL
A42: 비상조명 재사용 철거 기존 개 전기 10-3-4 ( 호표 7 ) | N42: 5CCD867A2C83AB8F83A668790C0747
A43: 비상조명 | B43: 기존 | C43: 개 | D43: 1 | N43: 5CCD867A2C83AB8F83A668790C0747 | O43: 5CA196A7B3D3588EDEA21576BBDA67DCA26FD4 | P43: F | Q43: F | R43: T | AW43: 5CCD867A2C83AB8F83A668790C07475CA196A7B3D3588EDEA21576BBDA67DCA26FD4
A44: 내선전공 | B44: 일반공사 직종 | C44: 인 | D44: =공량산출근거서_일위대가!K26 -> 0.055 | N44: 5CCD867A2C83AB8F83A668790C0747 | O44: 5B5026D63D83388940BE8B7AA90877683DF851 | P44: F | Q44: F | R44: T | V44: 1 | AW44: 5CCD867A2C83AB8F83A668790C07475B5026D63D83388940BE8B7AA90877683DF851
A45: 공구손료 | B45: 인력품의 3% | C45: 식 | D45: 1 | N45: 5CCD867A2C83AB8F83A668790C0747 | O45: 5A93167637D36C88579C74701167001 | P45: F | Q45: F | R45: F | S45: 1 | T45: 0 | U45: 0.03 | AW45: 5CCD867A2C83AB8F83A668790C07475A93167637D36C88579C74701167001
A46: [ 합 계 ] | N46: TOTAL | O46: TOTAL
A48: 나사없는전선관-노출 E19 M 전기 5-1 ( 호표 8 ) | N48: 5BCC76F84C8357846DC83B735496F7
A49: 나사 없는 전선관 | B49: E19 | C49: M | D49: 1.1 | N49: 5BCC76F84C8357846DC83B735496F7 | O49: 5CA196A7B12364809149877FFDD237F1B77744 | P49: F | Q49: F | R49: T | V49: 1 | W49: 2 | AW49: 5BCC76F84C8357846DC83B735496F75CA196A7B12364809149877FFDD237F1B77744
A50: 전선관부속품비 | B50: 전선관의 15% | C50: 식 | D50: 1 | N50: 5BCC76F84C8357846DC83B735496F7 | O50: 5A93167637D36C88579C74701167001 | P50: F | Q50: F | R50: F | S50: 0 | T50: 0 | U50: 0.15 | AW50: 5BCC76F84C8357846DC83B735496F75A93167637D36C88579C74701157002
A51: 잡재료비 | B51: 배관배선의 2% | C51: 식 | D51: 1 | N51: 5BCC76F84C8357846DC83B735496F7 | O51: 5A93167637D36C88579C74701157002 | P51: F | Q51: F | R51: F | S51: 0 | T51: 0 | U51: 0.02 | AW51: 5BCC76F84C8357846DC83B735496F75A93167637D36C88579C74701167001
A52: 내선전공 | B52: 일반공사 직종 | C52: 인 | D52: =공량산출근거서_일위대가!K29 -> 0.06 | N52: 5BCC76F84C8357846DC83B735496F7 | O52: 5B5026D63D83388940BE8B7AA90877683DF851 | P52: F | Q52: F | R52: T | X52: 3 | AW52: 5BCC76F84C8357846DC83B735496F75B5026D63D83388940BE8B7AA90877683DF851
A53: 공구손료 | B53: 인력품의 3% | C53: 식 | D53: 1 | N53: 5BCC76F84C8357846DC83B735496F7 | O53: 5A93167637D36C88579C74701147003 | P53: F | Q53: F | R53: F | S53: 1 | T53: 0 | U53: 0.03 | AW53: 5BCC76F84C8357846DC83B735496F75A93167637D36C88579C74701167001
A54: [ 합 계 ] | N54: TOTAL | O54: TOTAL
A56: 1종금속제가요전선관-노출 16mm, 비방수 M 전기 5-1 ( 호표 9 ) | N56: 5BCC76894143568A2F248E7A26BA57
A57: 1종금속제가요전선관 | B57: 1종금속제가요전선관, 16mm, 비방수 | C57: M | D57: 1.1 | N57: 5BCC76894143568A2F248E7A26BA57 | O57: 5CA196A7B12364809149867D8327E740516BFE | P57: F | Q57: F | R57: T | V57: 1 | AW57: 5BCC76894143568A2F248E7A26BA575CA196A7B12364809149867D8327E740516BFE
A58: 잡재료비 | B58: 배관배선의 2% | C58: 식 | D58: 1 | N58: 5BCC76894143568A2F248E7A26BA57 | O58: 5A93167637D36C88579C74701167001 | P58: F | Q58: F | R58: F | S58: 0 | T58: 0 | U58: 0.02 | AW58: 5BCC76894143568A2F248E7A26BA575A93167637D36C88579C74701157002
A59: 내선전공 | B59: 일반공사 직종 | C59: 인 | D59: =공량산출근거서_일위대가!K32 -> 0.052 | N59: 5BCC76894143568A2F248E7A26BA57 | O59: 5B5026D63D83388940BE8B7AA90877683DF851 | P59: F | Q59: F | R59: T | W59: 2 | AW59: 5BCC76894143568A2F248E7A26BA575B5026D63D83388940BE8B7AA90877683DF851
A60: 공구손료 | B60: 인력품의 3% | C60: 식 | D60: 1 | N60: 5BCC76894143568A2F248E7A26BA57 | O60: 5A93167637D36C88579C74701157002 | P60: F | Q60: F | R60: F | S60: 1 | T60: 0 | U60: 0.03 | AW60: 5BCC76894143568A2F248E7A26BA575A93167637D36C88579C74701147003
A61: [ 합 계 ] | N61: TOTAL | O61: TOTAL
A63: 450/75OV 저독성난연가교폴리올레핀절연전선(HFIX) 1.38㎜(1.5㎟) M 전기 5-10 ( 호표 10 ) | N63: 5BCC76894263C7897B56827C8989D7
A64: 저독성난연케이블 | B64: HFIX, 1.38㎜ | C64: M | D64: 1.1 | N64: 5BCC76894263C7897B56827C8989D7 | O64: 5CB316CB0753028AF8489375681F17F5F81C3E | P64: F | Q64: F | R64: T | V64: 1 | AW64: 5BCC76894263C7897B56827C8989D75CB316CB0753028AF8489375681F17F5F81C3E
A65: 잡재료비 | B65: 배관배선의 2% | C65: 식 | D65: 1 | N65: 5BCC76894263C7897B56827C8989D7 | O65: 5A93167637D36C88579C74701167001 | P65: F | Q65: F | R65: F | S65: 0 | T65: 0 | U65: 0.02 | AW65: 5BCC76894263C7897B56827C8989D75A93167637D36C88579C74701167001
A66: 내선전공 | B66: 일반공사 직종 | C66: 인 | D66: =공량산출근거서_일위대가!K35 -> 0.01 | N66: 5BCC76894263C7897B56827C8989D7 | O66: 5B5026D63D83388940BE8B7AA90877683DF851 | P66: F | Q66: F | R66: T | W66: 2 | AW66: 5BCC76894263C7897B56827C8989D75B5026D63D83388940BE8B7AA90877683DF851
A67: 공구손료 | B67: 인력품의 3% | C67: 식 | D67: 1 | N67: 5BCC76894263C7897B56827C8989D7 | O67: 5A93167637D36C88579C74701157002 | P67: F | Q67: F | R67: F | S67: 1 | T67: 0 | U67: 0.03 | AW67: 5BCC76894263C7897B56827C8989D75A93167637D36C88579C74701157002
A68: [ 합 계 ] | N68: TOTAL | O68: TOTAL
A70: 450/75OV 저독성난연가교폴리올레핀절연전선(HFIX) 1.78㎜(2.5㎟) M 전기 5-10 ( 호표 11 ) | N70: 5BCC76894263C7897B56827C89B517
A71: 저독성난연케이블 | B71: HFIX, 1.78㎜ | C71: M | D71: 1.1 | N71: 5BCC76894263C7897B56827C89B517 | O71: 5CB316CB0753028AF8489375681F17F5F81C3F | P71: F | Q71: F | R71: T | V71: 1 | AW71: 5BCC76894263C7897B56827C89B5175CB316CB0753028AF8489375681F17F5F81C3F
A72: 잡재료비 | B72: 배관배선의 2% | C72: 식 | D72: 1 | N72: 5BCC76894263C7897B56827C89B517 | O72: 5A93167637D36C88579C74701167001 | P72: F | Q72: F | R72: F | S72: 0 | T72: 0 | U72: 0.02 | AW72: 5BCC76894263C7897B56827C89B5175A93167637D36C88579C74701167001
A73: 내선전공 | B73: 일반공사 직종 | C73: 인 | D73: =공량산출근거서_일위대가!K38 -> 0.01 | N73: 5BCC76894263C7897B56827C89B517 | O73: 5B5026D63D83388940BE8B7AA90877683DF851 | P73: F | Q73: F | R73: T | W73: 2 | AW73: 5BCC76894263C7897B56827C89B5175B5026D63D83388940BE8B7AA90877683DF851
A74: 공구손료 | B74: 인력품의 3% | C74: 식 | D74: 1 | N74: 5BCC76894263C7897B56827C89B517 | O74: 5A93167637D36C88579C74701157002 | P74: F | Q74: F | R74: F | S74: 1 | T74: 0 | U74: 0.03 | AW74: 5BCC76894263C7897B56827C89B5175A93167637D36C88579C74701157002
A75: [ 합 계 ] | N75: TOTAL | O75: TOTAL
A77: 아우트렛박스-노출 8각 54mm 개 전기 5-3 ( 호표 12 ) | N77: 5BCC76894993BC86B568AB74817097
A78: 아웃렛박스 | B78: 아웃렛박스, 8각, 54mm | C78: 개 | D78: 1 | N78: 5BCC76894993BC86B568AB74817097 | O78: 5CA196A7B0031688BE296A70BF0AC7B57B7963 | P78: F | Q78: F | R78: T | AW78: 5BCC76894993BC86B568AB748170975CA196A7B0031688BE296A70BF0AC7B57B7963
A79: 내선전공 | B79: 일반공사 직종 | C79: 인 | D79: =공량산출근거서_일위대가!K41 -> 0.24 | N79: 5BCC76894993BC86B568AB74817097 | O79: 5B5026D63D83388940BE8B7AA90877683DF851 | P79: F | Q79: F | R79: T | V79: 1 | AW79: 5BCC76894993BC86B568AB748170975B5026D63D83388940BE8B7AA90877683DF851
A80: 공구손료 | B80: 인력품의 3% | C80: 식 | D80: 1 | N80: 5BCC76894993BC86B568AB74817097 | O80: 5A93167637D36C88579C74701167001 | P80: F | Q80: F | R80: F | S80: 1 | T80: 0 | U80: 0.03 | AW80: 5BCC76894993BC86B568AB748170975A93167637D36C88579C74701167001
A81: [ 합 계 ] | N81: TOTAL | O81: TOTAL
A83: 아우트렛박스-노출 중형 4각 54㎜ 개 전기 5-3 ( 호표 13 ) | N83: 5BCC76894993BC86B568AB74816607
A84: 아웃렛박스 | B84: 아웃렛박스, 중형4각, 54mm | C84: 개 | D84: 1 | N84: 5BCC76894993BC86B568AB74816607 | O84: 5CA196A7B0031688BE296A70BF0AC7B57B7960 | P84: F | Q84: F | R84: T | AW84: 5BCC76894993BC86B568AB748166075CA196A7B0031688BE296A70BF0AC7B57B7960
A85: 내선전공 | B85: 일반공사 직종 | C85: 인 | D85: =공량산출근거서_일위대가!K44 -> 0.24 | N85: 5BCC76894993BC86B568AB74816607 | O85: 5B5026D63D83388940BE8B7AA90877683DF851 | P85: F | Q85: F | R85: T | V85: 1 | AW85: 5BCC76894993BC86B568AB748166075B5026D63D83388940BE8B7AA90877683DF851
A86: 공구손료 | B86: 인력품의 3% | C86: 식 | D86: 1 | N86: 5BCC76894993BC86B568AB74816607 | O86: 5A93167637D36C88579C74701167001 | P86: F | Q86: F | R86: F | S86: 1 | T86: 0 | U86: 0.03 | AW86: 5BCC76894993BC86B568AB748166075A93167637D36C88579C74701167001
A87: [ 합 계 ] | N87: TOTAL | O87: TOTAL
A89: 스위치박스-노출 1개용 54 mm 개 전기 5-3 ( 호표 14 ) | N89: 5BCC76894993BC86B568AB74938887
A90: 스위치박스 | B90: 스위치박스, 1개용, 54mm | C90: 개 | D90: 1 | N90: 5BCC76894993BC86B568AB74938887 | O90: 5CA196A7B0031688BE27BF763AEEE7C1FFFC03 | P90: F | Q90: F | R90: T | AW90: 5BCC76894993BC86B568AB749388875CA196A7B0031688BE27BF763AEEE7C1FFFC03
A91: 내선전공 | B91: 일반공사 직종 | C91: 인 | D91: =공량산출근거서_일위대가!K47 -> 0.24 | N91: 5BCC76894993BC86B568AB74938887 | O91: 5B5026D63D83388940BE8B7AA90877683DF851 | P91: F | Q91: F | R91: T | V91: 1 | AW91: 5BCC76894993BC86B568AB749388875B5026D63D83388940BE8B7AA90877683DF851
A92: 공구손료 | B92: 인력품의 3% | C92: 식 | D92: 1 | N92: 5BCC76894993BC86B568AB74938887 | O92: 5A93167637D36C88579C74701167001 | P92: F | Q92: F | R92: F | S92: 1 | T92: 0 | U92: 0.03 | AW92: 5BCC76894993BC86B568AB749388875A93167637D36C88579C74701167001
A93: [ 합 계 ] | N93: TOTAL | O93: TOTAL
A95: 화재감지기 열감지기, 차동식분포형 개 전기 10-2-1 ( 호표 15 ) | N95: 5BCC768A63E3D9879996237F56F817
A96: 연기감지기 | B96: 연기감지기, 열감지기, 차동식스포트형 | C96: 개 | D96: 1 | N96: 5BCC768A63E3D9879996237F56F817 | O96: 5CDE263800E3A187A2074A7E4098779373D3DF | P96: F | Q96: F | R96: T | AW96: 5BCC768A63E3D9879996237F56F8175CDE263800E3A187A2074A7E4098779373D3DF
A97: 내선전공 | B97: 일반공사 직종 | C97: 인 | D97: =공량산출근거서_일위대가!K50 -> 0.13 | N97: 5BCC768A63E3D9879996237F56F817 | O97: 5B5026D63D83388940BE8B7AA90877683DF851 | P97: F | Q97: F | R97: T | V97: 1 | AW97: 5BCC768A63E3D9879996237F56F8175B5026D63D83388940BE8B7AA90877683DF851
A98: 공구손료 | B98: 인력품의 3% | C98: 식 | D98: 1 | N98: 5BCC768A63E3D9879996237F56F817 | O98: 5A93167637D36C88579C74701167001 | P98: F | Q98: F | R98: F | S98: 1 | T98: 0 | U98: 0.03 | AW98: 5BCC768A63E3D9879996237F56F8175A93167637D36C88579C74701167001
A99: [ 합 계 ] | N99: TOTAL | O99: TOTAL
A101: 화재감지기 열감지기, 정온식스포트형 개 전기 10-2-1 ( 호표 16 ) | N101: 5BCC768A63E3D9879996237F56CCD7
A102: 연기감지기 | B102: 연기감지기, 열감지기, 정온식스포트형 | C102: 개 | D102: 1 | N102: 5BCC768A63E3D9879996237F56CCD7 | O102: 5CDE263800E3A187A2074A7E4098779373D3D8 | P102: F | Q102: F | R102: T | AW102: 5BCC768A63E3D9879996237F56CCD75CDE263800E3A187A2074A7E4098779373D3D8
A103: 내선전공 | B103: 일반공사 직종 | C103: 인 | D103: =공량산출근거서_일위대가!K53 -> 0.13 | N103: 5BCC768A63E3D9879996237F56CCD7 | O103: 5B5026D63D83388940BE8B7AA90877683DF851 | P103: F | Q103: F | R103: T | V103: 1 | AW103: 5BCC768A63E3D9879996237F56CCD75B5026D63D83388940BE8B7AA90877683DF851
A104: 공구손료 | B104: 인력품의 3% | C104: 식 | D104: 1 | N104: 5BCC768A63E3D9879996237F56CCD7 | O104: 5A93167637D36C88579C74701167001 | P104: F | Q104: F | R104: F | S104: 1 | T104: 0 | U104: 0.03 | AW104: 5BCC768A63E3D9879996237F56CCD75A93167637D36C88579C74701167001
A105: [ 합 계 ] | N105: TOTAL | O105: TOTAL
A107: 화재감지기 연기감지기, 광전식 2종-비축적 개 전기 10-2-1 ( 호표 17 ) | N107: 5BCC768A63E3D9879996237F44AA57
A108: 연기감지기 | B108: 연기감지기, 광전식 2종-비축적 | C108: 개 | D108: 1 | N108: 5BCC768A63E3D9879996237F44AA57 | O108: 5CDE263800E3A187A2074A7E4098779373D00B | P108: F | Q108: F | R108: T | AW108: 5BCC768A63E3D9879996237F44AA575CDE263800E3A187A2074A7E4098779373D00B
A109: 내선전공 | B109: 일반공사 직종 | C109: 인 | D109: =공량산출근거서_일위대가!K56 -> 0.13 | N109: 5BCC768A63E3D9879996237F44AA57 | O109: 5B5026D63D83388940BE8B7AA90877683DF851 | P109: F | Q109: F | R109: T | V109: 1 | AW109: 5BCC768A63E3D9879996237F44AA575B5026D63D83388940BE8B7AA90877683DF851
A110: 공구손료 | B110: 인력품의 3% | C110: 식 | D110: 1 | N110: 5BCC768A63E3D9879996237F44AA57 | O110: 5A93167637D36C88579C74701167001 | P110: F | Q110: F | R110: F | S110: 1 | T110: 0 | U110: 0.03 | AW110: 5BCC768A63E3D9879996237F44AA575A93167637D36C88579C74701167001
A111: [ 합 계 ] | N111: TOTAL | O111: TOTAL
A113: 수동발신기 소화전상부 SET 전기 10-2-5 ( 호표 18 ) | N113: 5BCC768A63E3D9879996227EE7C237
A114: 화재경보장치 | B114: 수동발신기 | C114: 개 | D114: 1 | N114: 5BCC768A63E3D9879996227EE7C237 | O114: 5CDE263800E3A187A203EF7B363787154F6DFF | P114: F | Q114: F | R114: T | V114: 1 | AW114: 5BCC768A63E3D9879996227EE7C2375CDE263800E3A187A203EF7B363787154F6DFF
A115: 화재경보장치 | B115: 수동발신기, 경종, DC24V | C115: 개 | D115: 1 | N115: 5BCC768A63E3D9879996227EE7C237 | O115: 5CDE263800E3A187A203EF7B363787154F6DFE | P115: F | Q115: F | R115: T | V115: 1 | AW115: 5BCC768A63E3D9879996227EE7C2375CDE263800E3A187A203EF7B363787154F6DFE
A116: 화재경보장치 | B116: 수동발신기, 표시등, DC24V | C116: 개 | D116: 1 | N116: 5BCC768A63E3D9879996227EE7C237 | O116: 5CDE263800E3A187A203EF7B363787154F6DF1 | P116: F | Q116: F | R116: T | V116: 1 | AW116: 5BCC768A63E3D9879996227EE7C2375CDE263800E3A187A203EF7B363787154F6DF1
A117: 기동표시램프 | B117: 25mm(PILOT LAMP) | C117: 개 | D117: 1 | N117: 5BCC768A63E3D9879996227EE7C237 | O117: 5CF916B9CDE37F83D4B42B730E93C7D4895C91 | P117: F | Q117: F | R117: T | V117: 1 | AW117: 5BCC768A63E3D9879996227EE7C2375CF916B9CDE37F83D4B42B730E93C7D4895C91
...

Sheet 단가산출목록
B1: 단 가 산 출 목 록
B2: [ 소담스퀘어 울산 구축 설계 용역(소방) ]
A3: 코 드 | B3: 품 명 | C3: 규 격 | D3: 단위 | E3: 재 료 비 | F3: 노 무 비 | G3: 경 비 | H3: 합 계 | I3: 번 호 | J3: 비 고 | K3: START | L3: 품셈개요

Sheet 단가산출서
A1: 단 가 산 출 서
A2: [ 소담스퀘어 울산 구축 설계 용역(소방) ]
A3: 산 출 내 역 | B3: 재 료 비 | C3: 노 무 비 | D3: 경 비 | E3: 합 계 | F3: 비 고 | G3: START | H3: 코드 | I3: 품명 | J3: 규격 | K3: 단위 | L3: 수량 | M3: 변수 | N3: 값 | O3: 소계 | P3: 소계 | Q3: 소계 | R3: 소계 | S3: 소계 | T3: 총계
A4: ( )
A6: 총 계 | B6: =TRUNC(SUMIF(T5:T5, "TT", B5:B5), 0) -> 0 | C6: =TRUNC(SUMIF(T5:T5, "TT", C5:C5), 0) -> 0 | D6: =TRUNC(SUMIF(T5:T5, "TT", D5:D5), 0) -> 0 | E6: =TRUNC(SUM(B6,C6, D6), 0) -> 0

Sheet 단가대비표
A1: 단 가 대 비 표
A2: [ 소담스퀘어 울산 구축 설계 용역(소방) ]
A3: 코 드 | B3: 품 명 | C3: 규격 | D3: 단위 | E3: 재 료 비 | P3: 노 무 비 | Q3: 경 비 | W3: 번 호 | X3: 비 고 | Y3: 품목구분 | Z3: 노임구분 | AA3: 소수점처리 | AB3: 자재구분
E4: 조달청가격 | F4: PAGE | G4: 물가자료 | H4: PAGE | I4: 유통물가 | J4: PAGE | K4: 조사가격1 | L4: PAGE | M4: 조사가격2 | N4: PAGE | O4: 적용단가 | Q4: 조달청가격 | R4: 물가자료 | S4: 유통물가 | T4: 조사가격1 | U4: 조사가격2 | V4: 적용단가
A5: 5CB316CB0753028AF8489375681F17F5F81C3E | B5: 저독성난연케이블 | C5: HFIX, 1.38㎜ | D5: M | W5: 자재 1
A6: 5CB316CB0753028AF8489375681F17F5F81C3F | B6: 저독성난연케이블 | C6: HFIX, 1.78㎜ | D6: M | W6: 자재 2
A7: 5CA196A7B3D3588EDEA33C774789773C04AEFE | B7: 유도등 | C7: 유도등, 소형(단면), 60분용, 피난구유도등, 고휘도 | D7: 개 | W7: 자재 3
A8: 5CA196A7B3D3588EDEA33C774789773C04AEF1 | B8: 유도등 | C8: 유도등, 소형(양면), 60분용, 피난구유도등, 고휘도 | D8: 개 | W8: 자재 4
A9: 5CA196A7B3D3588EDEA33C774789773C04A126 | B9: 유도등 | C9: 기존 | D9: 개 | W9: 자재 5
A10: 5CA196A7B3D3588EDEA33C77503C9706601E6D | B10: 유도등 | C10: 기존 | D10: 개 | W10: 자재 6
A11: 5CA196A7B3D3588EDEA33C77503C9706601D5E | B11: 음성점멸유도등 | C11: 기존 | D11: 개 | W11: 자재 7
A12: 5CA196A7B3D3588EDEA21576BBDA67DCA26FD5 | B12: 비상조명(축전지 내장형) | C12: LED 8W | D12: 개 | W12: 자재 8
A13: 5CA196A7B3D3588EDEA21576BBDA67DCA26FD4 | B13: 비상조명 | C13: 기존 | D13: 개 | W13: 자재 9
A14: 5CA196A7B0031688BE27BF763AEEE7C1FFFC03 | B14: 스위치박스 | C14: 스위치박스, 1개용, 54mm | D14: 개 | W14: 자재 10
A15: 5CA196A7B0031688BE296A70BF0AC7B57B7963 | B15: 아웃렛박스 | C15: 아웃렛박스, 8각, 54mm | D15: 개 | W15: 자재 11
A16: 5CA196A7B0031688BE296A70BF0AC7B57B7960 | B16: 아웃렛박스 | C16: 아웃렛박스, 중형4각, 54mm | D16: 개 | W16: 자재 12
... A42: 5CF9663D3583588A71851E761958979D872F68 | B42: 스피커 | C42: 천정형 | D42: 개 | W42: 자재 38
A43: 5C0246DE7F73508717D0137F77733732D27A69 | B43: 소화설비공사 | D43: 식 | W43: 자재 39
A44: 5B5026D63D83388940BE8B7AA90877683DF851 | B44: 내선전공 | C44: 일반공사 직종 | D44: 인 | W44: 노임 1 | Y44: B
A45: 5B5026D63D83388940BE8B7AA90877683DF74A | B45: 통신설비공 | C45: 일반공사 직종 | D45: 인 | W45: 노임 2 | Y45: B

Sheet 공량산출근거서_일위대가
A1: 공 량 산 출 근 거 서
A2: [ 소담스퀘어 울산 구축 설계 용역(소방) ]
A3: 코 드 | B3: 품 명 | C3: 규 격 | D3: 단위 | E3: 품 셈 목 록 | F3: 수 량 | G3: 할증 | H3: 노임할증-1 | I3: 노임할증-2 | J3: 노임할증-3 | K3: 내역수량 | L3: 직 종 명 | M3: 공 량 | N3: 계 | O3: 번 호 | P3: 비 고 | T3: 일위대가목록+자재 | V3: 내선전공 | W3: 일반공사 직종 | X3: 통신설비공
B4: 수동발신기 철거 소화전상부 SET (호표 1)
A5: 5CDE263800E3A187A203EF7B363787154F62EE | B5: 화재경보장치 | C5: 수동발신기 | D5: 개 | E5: 전기 10-2-5 | F5: 1 | G5: 0 | H5: -70 | K5: 1 | L5: 내선전공 | M5: =0.3*(H5+100)/100*(I5+100)/100*(J5+100)/100 -> 0.09 | N5: =F5*M5 -> 0.09 | O5: 노임 1 | P5: 0.3*1 * 30% | Q5: 5BCC768A63E3D9879996227EE7C227 | R5: 5B5026D63D83388940BE8B7AA90877683DF851 | S5: 0.3 | T5: 5BCC768A63E3D9879996227EE7C2275CDE263800E3A187A203EF7B363787154F62EE | V5: =N5 -> 0.09
A6: 5CDE263800E3A187A203EF7B363787154F62ED | B6: 화재경보장치 | C6: 수동발신기, 경종, DC24V | D6: 개 | E6: 전기 10-2-5 | F6: 1 | G6: 0 | H6: -70 | K6: 1 | L6: 내선전공 | M6: =0.15*(H6+100)/100*(I6+100)/100*(J6+100)/100 -> 0.045 | N6: =F6*M6 -> 0.045 | O6: 노임 1 | P6: 0.15*1 * 30% | Q6: 5BCC768A63E3D9879996227EE7C227 | R6: 5B5026D63D83388940BE8B7AA90877683DF851 | S6: 0.15 | T6: 5BCC768A63E3D9879996227EE7C2275CDE263800E3A187A203EF7B363787154F62ED | V6: =N6 -> 0.045
A7: 5CDE263800E3A187A203EF7B363787154F62EC | B7: 화재경보장치 | C7: 수동발신기, 표시등, DC24V | D7: 개 | E7: 전기 10-2-5 | F7: 1 | G7: 0 | H7: -70 | K7: 1 | L7: 내선전공 | M7: =0.2*(H7+100)/100*(I7+100)/100*(J7+100)/100 -> 0.06 | N7: =F7*M7 -> 0.06 | O7: 노임 1 | P7: 0.2*1 * 30% | Q7: 5BCC768A63E3D9879996227EE7C227 | R7: 5B5026D63D83388940BE8B7AA90877683DF851 | S7: 0.2 | T7: 5BCC768A63E3D9879996227EE7C2275CDE263800E3A187A203EF7B363787154F62EC | V7: =N7 -> 0.06
A8: 5B5026D63D83388940BE8B7AA90877683DF851 | B8: 내선전공 | C8: 일반공사 직종 | D8: 인 | F8: =SUM(V5:V7) -> 0.195 | K8: =TRUNC(ROUNDDOWN(F8,공량설정_일위대가!C3+1)*공량설정_일위대가!B2/100, 공량설정_일위대가!C3) -> 0.195 | O8: 노임 1 | Q8: 5BCC768A63E3D9879996227EE7C227 | T8: 5BCC768A63E3D9879996227EE7C2275B5026D63D83388940BE8B7AA90877683DF851
B9: 화재감지기 철거 기존 개 (호표 2)
A10: 5CDE263800E3A187A2074B78AEF827160E45CD | B10: 감지기 | C10: 기존 | D10: EA | E10: 전기품셈 10-2-1 | F10: 1 | G10: 0 | H10: -70 | K10: 1 | L10: 내선전공 | M10: =0.13*(H10+100)/100*(I10+100)/100*(J10+100)/100 -> 0.039 | N10: =F10*M10 -> 0.039 | O10: 노임 1 | P10: 0.13*1 * 30% | Q10: 5BCCB653FC33CB843FCDE676CDFEE7 | R10: 5B5026D63D83388940BE8B7AA90877683DF851 | S10: 0.13 | T10: 5BCCB653FC33CB843FCDE676CDFEE75CDE263800E3A187A2074B78AEF827160E45CD | V10: =N10 -> 0.039
A11: 5B5026D63D83388940BE8B7AA90877683DF851 | B11: 내선전공 | C11: 일반공사 직종 | D11: 인 | F11: =SUM(V10:V10) -> 0.039 | K11: =TRUNC(ROUNDDOWN(F11,공량설정_일위대가!C5+1)*공량설정_일위대가!B4/100, 공량설정_일위대가!C5) -> 0.039 | O11: 노임 1 | Q11: 5BCCB653FC33CB843FCDE676CDFEE7 | T11: 5BCCB653FC33CB843FCDE676CDFEE75B5026D63D83388940BE8B7AA90877683DF851
B12: 스피커 철거 기존 개 (호표 3)
A13: 5CF9663D3583588A71851E761958979D872F68 | B13: 스피커 | C13: 천정형 | D13: 개 | E13: 통신 7-11-5 | F13: 1 | G13: 0 | H13: -70 | K13: 1 | L13: 통신설비공 | M13: =0.21*(H13+100)/100*(I13+100)/100*(J13+100)/100 -> 0.063 | N13: =F13*M13 -> 0.063 | O13: 노임 2 | P13: 0.21*1 * 30% | Q13: 5BCDA6D9CA33A48E2E72C77C836CA7 | R13: 5B5026D63D83388940BE8B7AA90877683DF74A | S13: 0.21 | T13: 5BCDA6D9CA33A48E2E72C77C836CA75CF9663D3583588A71851E761958979D872F68 | X13: =N13 -> 0.063
A14: 5B5026D63D83388940BE8B7AA90877683DF74A | B14: 통신설비공 | C14: 일반공사 직종 | D14: 인 | F14: =SUM(X13:X13) -> 0.063 | K14: =TRUNC(ROUNDDOWN(F14,공량설정_일위대가!C7+1)*공량설정_일위대가!B6/100, 공량설정_일위대가!C7) -> 0.063 | O14: 노임 2 | Q14: 5BCDA6D9CA33A48E2E72C77C836CA7 | T14: 5BCDA6D9CA33A48E2E72C77C836CA75B5026D63D83388940BE8B7AA90877683DF74A
B15: 시각경보장치 재사용철거 기존 개 (호표 4)
A16: 5CDE263800E3A187A203EF7B36C507D0FF6DF1 | B16: 화재경보장치 | C16: 시각경보기 | D16: 개 | E16: 전기 10-2-12 | F16: 1 | G16: 0 | H16: -50 | K16: 1 | L16: 내선전공 | M16: =0.09*(H16+100)/100*(I16+100)/100*(J16+100)/100 -> 0.045 | N16: =F16*M16 -> 0.045 | O16: 노임 1 | P16: 0.09*1 * 50% | Q16: 5BCC768A63E3D9879994767205D487 | R16: 5B5026D63D83388940BE8B7AA90877683DF851 | S16: 0.09 | T16: 5BCC768A63E3D9879994767205D4875CDE263800E3A187A203EF7B36C507D0FF6DF1 | V16: =N16 -> 0.045
A17: 5B5026D63D83388940BE8B7AA90877683DF851 | B17: 내선전공 | C17: 일반공사 직종 | D17: 인 | F17: =SUM(V16:V16) -> 0.045 | K17: =TRUNC(ROUNDDOWN(F17,공량설정_일위대가!C9+1)*공량설정_일위대가!B8/100, 공량설정_일위대가!C9) -> 0.045 | O17: 노임 1 | Q17: 5BCC768A63E3D9879994767205D487 | T17: 5BCC768A63E3D9879994767205D4875B5026D63D83388940BE8B7AA90877683DF851
B18: 유도등 재사용 철거 기존 개 (호표 5)
A19: 5CA196A7B3D3588EDEA33C77503C9706601E6D | B19: 유도등 | C19: 기존 | D19: 개 | E19: 전기품셈 10-3-1 | F19: 1 | G19: 0 | H19: -50 | K19: 1 | L19: 내선전공 | M19: =0.2*(H19+100)/100*(I19+100)/100*(J19+100)/100 -> 0.1 | N19: =F19*M19 -> 0.1 | O19: 노임 1 | P19: 0.2*1 * 50% | Q19: 5BCCB653FDC33C87F54A1079827F87 | R19: 5B5026D63D83388940BE8B7AA90877683DF851 | S19: 0.2 | T19: 5BCCB653FDC33C87F54A1079827F875CA196A7B3D3588EDEA33C77503C9706601E6D | V19: =N19 -> 0.1
A20: 5B5026D63D83388940BE8B7AA90877683DF851 | B20: 내선전공 | C20: 일반공사 직종 | D20: 인 | F20: =SUM(V19:V19) -> 0.1 | K20: =TRUNC(ROUNDDOWN(F20,공량설정_일위대가!C11+1)*공량설정_일위대가!B10/100, 공량설정_일위대가!C11) -> 0.1 | O20: 노임 1 | Q20: 5BCCB653FDC33C87F54A1079827F87 | T20: 5BCCB653FDC33C87F54A1079827F875B5026D63D83388940BE8B7AA90877683DF851
B21: 음성점멸유도등 재사용 철거 기존 개 (호표 6)
A22: 5CA196A7B3D3588EDEA33C77503C9706601D5E | B22: 음성점멸유도등 | C22: 기존 | D22: 개 | E22: 전기품셈 10-3-2 | F22: 1 | G22: 0 | H22: -50 | K22: 1 | L22: 내선전공 | M22: =0.12*(H22+100)/100*(I22+100)/100*(J22+100)/100 -> 0.06 | N22: =F22*M22 -> 0.06 | O22: 노임 1 | P22: 0.12*1 * 50% | Q22: 5BCCB653FDC33C87F54A1079827F97 | R22: 5B5026D63D83388940BE8B7AA90877683DF851 | S22: 0.12 | T22: 5BCCB653FDC33C87F54A1079827F975CA196A7B3D3588EDEA33C77503C9706601D5E | V22: =N22 -> 0.06
A23: 5B5026D63D83388940BE8B7AA90877683DF851 | B23: 내선전공 | C23: 일반공사 직종 | D23: 인 | F23: =SUM(V22:V22) -> 0.06 | K23: =TRUNC(ROUNDDOWN(F23,공량설정_일위대가!C13+1)*공량설정_일위대가!B12/100, 공량설정_일위대가!C13) -> 0.06 | O23: 노임 1 | Q23: 5BCCB653FDC33C87F54A1079827F97 | T23: 5BCCB653FDC33C87F54A1079827F975B5026D63D83388940BE8B7AA90877683DF851
B24: 비상조명 재사용 철거 기존 개 (호표 7)
A25: 5CA196A7B3D3588EDEA21576BBDA67DCA26FD4 | B25: 비상조명 | C25: 기존 | D25: 개 | E25: 전기품셈 10-3-4 | F25: 1 | G25: 0 | H25: -50 | K25: 1 | L25: 내선전공 | M25: =0.11*(H25+100)/100*(I25+100)/100*(J25+100)/100 -> 0.055 | N25: =F25*M25 -> 0.055 | O25: 노임 1 | P25: 0.11*1 * 50% | Q25: 5CCD867A2C83AB8F83A668790C0747 | R25: 5B5026D63D83388940BE8B7AA90877683DF851 | S25: 0.11 | T25: 5CCD867A2C83AB8F83A668790C07475CA196A7B3D3588EDEA21576BBDA67DCA26FD4 | V25: =N25 -> 0.055
A26: 5B5026D63D83388940BE8B7AA90877683DF851 | B26: 내선전공 | C26: 일반공사 직종 | D26: 인 | F26: =SUM(V25:V25) -> 0.055 | K26: =TRUNC(ROUNDDOWN(F26,공량설정_일위대가!C15+1)*공량설정_일위대가!B14/100, 공량설정_일위대가!C15) -> 0.055 | O26: 노임 1 | Q26: 5CCD867A2C83AB8F83A668790C0747 | T26: 5CCD867A2C83AB8F83A668790C07475B5026D63D83388940BE8B7AA90877683DF851
B27: 나사없는전선관-노출 E19 M (호표 8)
A28: 5CA196A7B12364809149877FFDD237F1B77744 | B28: 나사 없는 전선관 | C28: E19 | D28: M | E28: 전기품셈 5-1 | F28: 1 | G28: 10 | H28: 20 | K28: 1.1 | L28: 내선전공 | M28: =0.05*(H28+100)/100*(I28+100)/100*(J28+100)/100 -> 0.06 | N28: =F28*M28 -> 0.06 | O28: 노임 1 | P28: 0.05*1 * 120% | Q28: 5BCC76F84C8357846DC83B735496F7 | R28: 5B5026D63D83388940BE8B7AA90877683DF851 | S28: 0.05 | T28: 5BCC76F84C8357846DC83B735496F75CA196A7B12364809149877FFDD237F1B77744 | V28: =N28 -> 0.06
A29: 5B5026D63D83388940BE8B7AA90877683DF851 | B29: 내선전공 | C29: 일반공사 직종 | D29: 인 | F29: =SUM(V28:V28) -> 0.06 | K29: =TRUNC(ROUNDDOWN(F29,공량설정_일위대가!C17+1)*공량설정_일위대가!B16/100, 공량설정_일위대가!C17) -> 0.06 | O29: 노임 1 | Q29: 5BCC76F84C8357846DC83B735496F7 | T29: 5BCC76F84C8357846DC83B735496F75B5026D63D83388940BE8B7AA90877683DF851
B30: 1종금속제가요전선관-노출 16mm, 비방수 M (호표 9)
A31: 5CA196A7B12364809149867D8327E740516BFE | B31: 1종금속제가요전선관 | C31: 1종금속제가요전선관, 16mm, 비방수 | D31: M | E31: 전기품셈 5-1 | F31: 1 | G31: 10 | H31: 20 | K31: 1.1 | L31: 내선전공 | M31: =0.044*(H31+100)/100*(I31+100)/100*(J31+100)/100 -> 0.0528 | N31: =F31*M31 -> 0.0528 | O31: 노임 1 | P31: 0.044*1 * 120% | Q31: 5BCC76894143568A2F248E7A26BA57 | R31: 5B5026D63D83388940BE8B7AA90877683DF851 | S31: 0.044 | T31: 5BCC76894143568A2F248E7A26BA575CA196A7B12364809149867D8327E740516BFE | V31: =N31 -> 0.0528
A32: 5B5026D63D83388940BE8B7AA90877683DF851 | B32: 내선전공 | C32: 일반공사 직종 | D32: 인 | F32: =SUM(V31:V31) -> 0.0528 | K32: =TRUNC(ROUNDDOWN(F32,공량설정_일위대가!C19+1)*공량설정_일위대가!B18/100, 공량설정_일위대가!C19) -> 0.052 | O32: 노임 1 | Q32: 5BCC76894143568A2F248E7A26BA57 | T32: 5BCC76894143568A2F248E7A26BA575B5026D63D83388940BE8B7AA90877683DF851
B33: 450/75OV 저독성난연가교폴리올레핀절연전선(HFIX) 1.38㎜(1.5㎟) M (호표 10)
A34: 5CB316CB0753028AF8489375681F17F5F81C3E | B34: 저독성난연케이블 | C34: HFIX, 1.38㎜ | D34: M | E34: 전기품셈 5-10 | F34: 1 | G34: 10 | K34: 1.1 | L34: 내선전공 | M34: =0.01*(H34+100)/100*(I34+100)/100*(J34+100)/100 -> 0.01 | N34: =F34*M34 -> 0.01 | O34: 노임 1 | P34: 0.01*1 | Q34: 5BCC76894263C7897B56827C8989D7 | R34: 5B5026D63D83388940BE8B7AA90877683DF851 | S34: 0.01 | T34: 5BCC76894263C7897B56827C8989D75CB316CB0753028AF8489375681F17F5F81C3E | V34: =N34 -> 0.01
A35: 5B5026D63D83388940BE8B7AA90877683DF851 | B35: 내선전공 | C35: 일반공사 직종 | D35: 인 | F35: =SUM(V34:V34) -> 0.01 | K35: =TRUNC(ROUNDDOWN(F35,공량설정_일위대가!C21+1)*공량설정_일위대가!B20/100, 공량설정_일위대가!C21) -> 0.01 | O35: 노임 1 | Q35: 5BCC76894263C7897B56827C8989D7 | T35: 5BCC76894263C7897B56827C8989D75B5026D63D83388940BE8B7AA90877683DF851
B36: 450/75OV 저독성난연가교폴리올레핀절연전선(HFIX) 1.78㎜(2.5㎟) M (호표 11)
A37: 5CB316CB0753028AF8489375681F17F5F81C3F | B37: 저독성난연케이블 | C37: HFIX, 1.78㎜ | D37: M | E37: 전기품셈 5-10 | F37: 1 | G37: 10 | K37: 1.1 | L37: 내선전공 | M37: =0.01*(H37+100)/100*(I37+100)/100*(J37+100)/100 -> 0.01 | N37: =F37*M37 -> 0.01 | O37: 노임 1 | P37: 0.01*1 | Q37: 5BCC76894263C7897B56827C89B517 | R37: 5B5026D63D83388940BE8B7AA90877683DF851 | S37: 0.01 | T37: 5BCC76894263C7897B56827C89B5175CB316CB0753028AF8489375681F17F5F81C3F | V37: =N37 -> 0.01
A38: 5B5026D63D83388940BE8B7AA90877683DF851 | B38: 내선전공 | C38: 일반공사 직종 | D38: 인 | F38: =SUM(V37:V37) -> 0.01 | K38: =TRUNC(ROUNDDOWN(F38,공량설정_일위대가!C23+1)*공량설정_일위대가!B22/100, 공량설정_일위대가!C23) -> 0.01 | O38: 노임 1 | Q38: 5BCC76894263C7897B56827C89B517 | T38: 5BCC76894263C7897B56827C89B5175B5026D63D83388940BE8B7AA90877683DF851
B39: 아우트렛박스-노출 8각 54mm 개 (호표 12)
A40: 5CA196A7B0031688BE296A70BF0AC7B57B7963 | B40: 아웃렛박스 | C40: 아웃렛박스, 8각, 54mm | D40: 개 | E40: 전기품셈 5-3 | F40: 1 | G40: 0 | H40: 20 | K40: 1 | L40: 내선전공 | M40: =0.2*(H40+100)/100*(I40+100)/100*(J40+100)/100 -> 0.24 | N40: =F40*M40 -> 0.24 | O40: 노임 1 | P40: 0.2*1 * 120% | Q40: 5BCC76894993BC86B568AB74817097 | R40: 5B5026D63D83388940BE8B7AA90877683DF851 | S40: 0.2 | T40: 5BCC76894993BC86B568AB748170975CA196A7B0031688BE296A70BF0AC7B57B7963 | V40: =N40 -> 0.24
A41: 5B5026D63D83388940BE8B7AA90877683DF851 | B41: 내선전공 | C41: 일반공사 직종 | D41: 인 | F41: =SUM(V40:V40) -> 0.24 | K41: =TRUNC(ROUNDDOWN(F41,공량설정_일위대가!C25+1)*공량설정_일위대가!B24/100, 공량설정_일위대가!C25) -> 0.24 | O41: 노임 1 | Q41: 5BCC76894993BC86B568AB74817097 | T41: 5BCC76894993BC86B568AB748170975B5026D63D83388940BE8B7AA90877683DF851
B42: 아우트렛박스-노출 중형 4각 54㎜ 개 (호표 13)
A43: 5CA196A7B0031688BE296A70BF0AC7B57B7960 | B43: 아웃렛박스 | C43: 아웃렛박스, 중형4각, 54mm | D43: 개 | E43: 전기품셈 5-3 | F43: 1 | G43: 0 | H43: 20 | K43: 1 | L43: 내선전공 | M43: =0.2*(H43+100)/100*(I43+100)/100*(J43+100)/100 -> 0.24 | N43: =F43*M43 -> 0.24 | O43: 노임 1 | P43: 0.2*1 * 120% | Q43: 5BCC76894993BC86B568AB74816607 | R43: 5B5026D63D83388940BE8B7AA90877683DF851 | S43: 0.2 | T43: 5BCC76894993BC86B568AB748166075CA196A7B0031688BE296A70BF0AC7B57B7960 | V43: =N43 -> 0.24
A44: 5B5026D63D83388940BE8B7AA90877683DF851 | B44: 내선전공 | C44: 일반공사 직종 | D44: 인 | F44: =SUM(V43:V43) -> 0.24 | K44: =TRUNC(ROUNDDOWN(F44,공량설정_일위대가!C27+1)*공량설정_일위대가!B26/100, 공량설정_일위대가!C27) -> 0.24 | O44: 노임 1 | Q44: 5BCC76894993BC86B568AB74816607 | T44: 5BCC76894993BC86B568AB748166075B5026D63D83388940BE8B7AA90877683DF851
B45: 스위치박스-노출 1개용 54 mm 개 (호표 14)
A46: 5CA196A7B0031688BE27BF763AEEE7C1FFFC03 | B46: 스위치박스 | C46: 스위치박스, 1개용, 54mm | D46: 개 | E46: 전기품셈 5-3 | F46: 1 | G46: 0 | H46: 20 | K46: 1 | L46: 내선전공 | M46: =0.2*(H46+100)/100*(I46+100)/100*(J46+100)/100 -> 0.24 | N46: =F46*M46 -> 0.24 | O46: 노임 1 | P46: 0.2*1 * 120% | Q46: 5BCC76894993BC86B568AB74938887 | R46: 5B5026D63D83388940BE8B7AA90877683DF851 | S46: 0.2 | T46: 5BCC76894993BC86B568AB749388875CA196A7B0031688BE27BF763AEEE7C1FFFC03 | V46: =N46 -> 0.24
A47: 5B5026D63D83388940BE8B7AA90877683DF851 | B47: 내선전공 | C47: 일반공사 직종 | D47: 인 | F47: =SUM(V46:V46) -> 0.24 | K47: =TRUNC(ROUNDDOWN(F47,공량설정_일위대가!C29+1)*공량설정_일위대가!B28/100, 공량설정_일위대가!C29) -> 0.24 | O47: 노임 1 | Q47: 5BCC76894993BC86B568AB74938887 | T47: 5BCC76894993BC86B568AB749388875B5026D63D83388940BE8B7AA90877683DF851
B48: 화재감지기 열감지기, 차동식분포형 개 (호표 15)
A49: 5CDE263800E3A187A2074A7E4098779373D3DF | B49: 연기감지기 | C49: 연기감지기, 열감지기, 차동식스포트형 | D49: 개 | E49: 전기품셈 10-2-1 | F49: 1 | G49: 0 | K49: 1 | L49: 내선전공 | M49: =0.13*(H49+100)/100*(I49+100)/100*(J49+100)/100 -> 0.13 | N49: =F49*M49 -> 0.13 | O49: 노임 1 | P49: 0.13*1 | Q49: 5BCC768A63E3D9879996237F56F817 | R49: 5B5026D63D83388940BE8B7AA90877683DF851 | S49: 0.13 | T49: 5BCC768A63E3D9879996237F56F8175CDE263800E3A187A2074A7E4098779373D3DF | V49: =N49 -> 0.13
A50: 5B5026D63D83388940BE8B7AA90877683DF851 | B50: 내선전공 | C50: 일반공사 직종 | D50: 인 | F50: =SUM(V49:V49) -> 0.13 | K50: =TRUNC(ROUNDDOWN(F50,공량설정_일위대가!C31+1)*공량설정_일위대가!B30/100, 공량설정_일위대가!C31) -> 0.13 | O50: 노임 1 | Q50: 5BCC768A63E3D9879996237F56F817 | T50: 5BCC768A63E3D9879996237F56F8175B5026D63D83388940BE8B7AA90877683DF851
B51: 화재감지기 열감지기, 정온식스포트형 개 (호표 16)
A52: 5CDE263800E3A187A2074A7E4098779373D3D8 | B52: 연기감지기 | C52: 연기감지기, 열감지기, 정온식스포트형 | D52: 개 | E52: 전기품셈 10-2-1 | F52: 1 | G52: 0 | K52: 1 | L52: 내선전공 | M52: =0.13*(H52+100)/100*(I52+100)/100*(J52+100)/100 -> 0.13 | N52: =F52*M52 -> 0.13 | O52: 노임 1 | P52: 0.13*1 | Q52: 5BCC768A63E3D9879996237F56CCD7 | R52: 5B5026D63D83388940BE8B7AA90877683DF851 | S52: 0.13 | T52: 5BCC768A63E3D9879996237F56CCD75CDE263800E3A187A2074A7E4098779373D3D8 | V52: =N52 -> 0.13
A53: 5B5026D63D83388940BE8B7AA90877683DF851 | B53: 내선전공 | C53: 일반공사 직종 | D53: 인 | F53: =SUM(V52:V52) -> 0.13 | K53: =TRUNC(ROUNDDOWN(F53,공량설정_일위대가!C33+1)*공량설정_일위대가!B32/100, 공량설정_일위대가!C33) -> 0.13 | O53: 노임 1 | Q53: 5BCC768A63E3D9879996237F56CCD7 | T53: 5BCC768A63E3D9879996237F56CCD75B5026D63D83388940BE8B7AA90877683DF851
B54: 화재감지기 연기감지기, 광전식 2종-비축적 개 (호표 17)
A55: 5CDE263800E3A187A2074A7E4098779373D00B | B55: 연기감지기 | C55: 연기감지기, 광전식 2종-비축적 | D55: 개 | E55: 전기품셈 10-2-1 | F55: 1 | G55: 0 | K55: 1 | L55: 내선전공 | M55: =0.13*(H55+100)/100*(I55+100)/100*(J55+100)/100 -> 0.13 | N55: =F55*M55 -> 0.13 | O55: 노임 1 | P55: 0.13*1 | Q55: 5BCC768A63E3D9879996237F44AA57 | R55: 5B5026D63D83388940BE8B7AA90877683DF851 | S55: 0.13 | T55: 5BCC768A63E3D9879996237F44AA575CDE263800E3A187A2074A7E4098779373D00B | V55: =N55 -> 0.13
A56: 5B5026D63D83388940BE8B7AA90877683DF851 | B56: 내선전공 | C56: 일반공사 직종 | D56: 인 | F56: =SUM(V55:V55) -> 0.13 | K56: =TRUNC(ROUNDDOWN(F56,공량설정_일위대가!C35+1)*공량설정_일위대가!B34/100, 공량설정_일위대가!C35) -> 0.13 | O56: 노임 1 | Q56: 5BCC768A63E3D9879996237F44AA57 | T56: 5BCC768A63E3D9879996237F44AA575B5026D63D83388940BE8B7AA90877683DF851
B57: 수동발신기 소화전상부 SET (호표 18)
A58: 5CDE263800E3A187A203EF7B363787154F6DFF | B58: 화재경보장치 | C58: 수동발신기 | D58: 개 | E58: 전기 10-2-5 | F58: 1 | G58: 0 | K58: 1 | L58: 내선전공 | M58: =0.3*(H58+100)/100*(I58+100)/100*(J58+100)/100 -> 0.3 | N58: =F58*M58 -> 0.3 | O58: 노임 1 | P58: 0.3*1 | Q58: 5BCC768A63E3D9879996227EE7C237 | R58: 5B5026D63D83388940BE8B7AA90877683DF851 | S58: 0.3 | T58: 5BCC768A63E3D9879996227EE7C2375CDE263800E3A187A203EF7B363787154F6DFF | V58: =N58 -> 0.3
A59: 5CDE263800E3A187A203EF7B363787154F6DFE | B59: 화재경보장치 | C59: 수동발신기, 경종, DC24V | D59: 개 | E59: 전기 10-2-5 | F59: 1 | G59: 0 | K59: 1 | L59: 내선전공 | M59: =0.15*(H59+100)/100*(I59+100)/100*(J59+100)/100 -> 0.15 | N59: =F59*M59 -> 0.15 | O59: 노임 1 | P59: 0.15*1 | Q59: 5BCC768A63E3D9879996227EE7C237 | R59: 5B5026D63D83388940BE8B7AA90877683DF851 | S59: 0.15 | T59: 5BCC768A63E3D9879996227EE7C2375CDE263800E3A187A203EF7B363787154F6DFE | V59: =N59 -> 0.15
A60: 5CDE263800E3A187A203EF7B363787154F6DF1 | B60: 화재경보장치 | C60: 수동발신기, 표시등, DC24V | D60: 개 | E60: 전기 10-2-5 | F60: 1 | G60: 0 | K60: 1 | L60: 내선전공 | M60: =0.2*(H60+100)/100*(I60+100)/100*(J60+100)/100 -> 0.2 | N60: =F60*M60 -> 0.2 | O60: 노임 1 | P60: 0.2*1 | Q60: 5BCC768A63E3D9879996227EE7C237 | R60: 5B5026D63D83388940BE8B7AA90877683DF851 | S60: 0.2 | T60: 5BCC768A63E3D9879996227EE7C2375CDE263800E3A187A203EF7B363787154F6DF1 | V60: =N60 -> 0.2
A61: 5B5026D63D83388940BE8B7AA90877683DF851 | B61: 내선전공 | C61: 일반공사 직종 | D61: 인 | F61: =SUM(V58:V60) -> 0.65 | K61: =TRUNC(ROUNDDOWN(F61,공량설정_일위대가!C37+1)*공량설정_일위대가!B36/100, 공량설정_일위대가!C37) -> 0.65 | O61: 노임 1 | Q61: 5BCC768A63E3D9879996227EE7C237 | T61: 5BCC768A63E3D9879996227EE7C2375B5026D63D83388940BE8B7AA90877683DF851
B62: 시각경보장치 15cd 개 (호표 19)
A63: 5CDE263800E3A187A203EF7B36C507D0FF6DF0 | B63: 화재경보장치 | C63: 수동발신기, 시각경보기, 15cd | D63: 개 | E63: 전기 10-2-12 | F63: 1 | G63: 0 | K63: 1 | L63: 내선전공 | M63: =0.09*(H63+100)/100*(I63+100)/100*(J63+100)/100 -> 0.09 | N63: =F63*M63 -> 0.09 | O63: 노임 1 | P63: 0.09*1 | Q63: 5BCC768A63E3D9879994767205D497 | R63: 5B5026D63D83388940BE8B7AA90877683DF851 | S63: 0.09 | T63: 5BCC768A63E3D9879994767205D4975CDE263800E3A187A203EF7B36C507D0FF6DF0 | V63: =N63 -> 0.09
A64: 5B5026D63D83388940BE8B7AA90877683DF851 | B64: 내선전공 | C64: 일반공사 직종 | D64: 인 | F64: =SUM(V63:V63) -> 0.09 | K64: =TRUNC(ROUNDDOWN(F64,공량설정_일위대가!C39+1)*공량설정_일위대가!B38/100, 공량설정_일위대가!C39) -> 0.09 | O64: 노임 1 | Q64: 5BCC768A63E3D9879994767205D497 | T64: 5BCC768A63E3D9879994767205D4975B5026D63D83388940BE8B7AA90877683DF851
B65: 시각경보장치 재설치 기존 개 (호표 20)
A66: 5CDE263800E3A187A203EF7B36C507D0FF6DF1 | B66: 화재경보장치 | C66: 시각경보기 | D66: 개 | E66: 전기 10-2-12 | F66: 1 | G66: 0 | K66: 1 | L66: 내선전공 | M66: =0.09*(H66+100)/100*(I66+100)/100*(J66+100)/100 -> 0.09 | N66: =F66*M66 -> 0.09 | O66: 노임 1 | P66: 0.09*1 | Q66: 5BCC768A63E3D9879994767205D4B7 | R66: 5B5026D63D83388940BE8B7AA90877683DF851 | S66: 0.09 | T66: 5BCC768A63E3D9879994767205D4B75CDE263800E3A187A203EF7B36C507D0FF6DF1 | V66: =N66 -> 0.09
A67: 5B5026D63D83388940BE8B7AA90877683DF851 | B67: 내선전공 | C67: 일반공사 직종 | D67: 인 | F67: =SUM(V66:V66) -> 0.09 | K67: =TRUNC(ROUNDDOWN(F67,공량설정_일위대가!C41+1)*공량설정_일위대가!B40/100, 공량설정_일위대가!C41) -> 0.09 | O67: 노임 1 | Q67: 5BCC768A63E3D9879994767205D4B7 | T67: 5BCC768A63E3D9879994767205D4B75B5026D63D83388940BE8B7AA90877683DF851
B68: 화재 수신기 중계기, 4/4, 감시/제어 대 (호표 21)
A69: 5CDE26380E43B482F8B0E5799A750759F6A6FF | B69: 화재수신기 | C69: 중계기, 4/4, 감시/제어 | D69: 대 | E69: 전기품셈 10-2-8 | F69: 1 | G69: 0 | K69: 1 | L69: 내선전공 | M69: =0.3*(H69+100)/100*(I69+100)/100*(J69+100)/100 -> 0.3 | N69: =F69*M69 -> 0.3 | O69: 노임 1 | P69: 0.3*1 | Q69: 5BCC768A63E3D98799936F7CC2D307 | R69: 5B5026D63D83388940BE8B7AA90877683DF851 | S69: 0.3 | T69: 5BCC768A63E3D98799936F7CC2D3075CDE26380E43B482F8B0E5799A750759F6A6FF | V69: =N69 -> 0.3
A70: 5B5026D63D83388940BE8B7AA90877683DF851 | B70: 내선전공 | C70: 일반공사 직종 | D70: 인 | F70: =SUM(V69:V69) -> 0.3 | K70: =TRUNC(ROUNDDOWN(F70,공량설정_일위대가!C43+1)*공량설정_일위대가!B42/100, 공량설정_일위대가!C43) -> 0.3 | O70: 노임 1 | Q70: 5BCC768A63E3D98799936F7CC2D307 | T70: 5BCC768A63E3D98799936F7CC2D3075B5026D63D83388940BE8B7AA90877683DF851
B71: 피난구 유도등(고휘도) 소형(단면) 60분용, 벽부형 개 (호표 23)
A72: 5CA196A7B3D3588EDEA33C774789773C04AEFE | B72: 유도등 | C72: 유도등, 소형(단면), 60분용, 피난구유도등, 고휘도 | D72: 개 | E72: 전기품셈 10-3-1 | F72: 1 | G72: 0 | K72: 1 | L72: 내선전공 | M72: =0.2*(H72+100)/100*(I72+100)/100*(J72+100)/100 -> 0.2 | N72: =F72*M72 -> 0.2 | O72: 노임 1 | P72: 0.2*1 | Q72: 5BCC768A63E3D98799951C78379047 | R72: 5B5026D63D83388940BE8B7AA90877683DF851 | S72: 0.2 | T72: 5BCC768A63E3D98799951C783790475CA196A7B3D3588EDEA33C774789773C04AEFE | V72: =N72 -> 0.2
A73: 5B5026D63D83388940BE8B7AA90877683DF851 | B73: 내선전공 | C73: 일반공사 직종 | D73: 인 | F73: =SUM(V72:V72) -> 0.2 | K73: =TRUNC(ROUNDDOWN(F73,공량설정_일위대가!C47+1)*공량설정_일위대가!B46/100, 공량설정_일위대가!C47) -> 0.2 | O73: 노임 1 | Q73: 5BCC768A63E3D98799951C78379047 | T73: 5BCC768A63E3D98799951C783790475B5026D63D83388940BE8B7AA90877683DF851
B74: 피난구 유도등(고휘도) 소형(양면) 60분용, 천정형 개 (호표 24)
A75: 5CA196A7B3D3588EDEA33C774789773C04AEF1 | B75: 유도등 | C75: 유도등, 소형(양면), 60분용, 피난구유도등, 고휘도 | D75: 개 | E75: 전기품셈 10-3-1 | F75: 1 | G75: 0 | K75: 1 | L75: 내선전공 | M75: =0.2*(H75+100)/100*(I75+100)/100*(J75+100)/100 -> 0.2 | N75: =F75*M75 -> 0.2 | O75: 노임 1 | P75: 0.2*1 | Q75: 5BCC768A63E3D98799951C7837A2B7 | R75: 5B5026D63D83388940BE8B7AA90877683DF851 | S75: 0.2 | T75: 5BCC768A63E3D98799951C7837A2B75CA196A7B3D3588EDEA33C774789773C04AEF1 | V75: =N75 -> 0.2
A76: 5B5026D63D83388940BE8B7AA90877683DF851 | B76: 내선전공 | C76: 일반공사 직종 | D76: 인 | F76: =SUM(V75:V75) -> 0.2 | K76: =TRUNC(ROUNDDOWN(F76,공량설정_일위대가!C49+1)*공량설정_일위대가!B48/100, 공량설정_일위대가!C49) -> 0.2 | O76: 노임 1 | Q76: 5BCC768A63E3D98799951C7837A2B7 | T76: 5BCC768A63E3D98799951C7837A2B75B5026D63D83388940BE8B7AA90877683DF851
B77: 피난구 유도등 재설치 소형 개 (호표 25)
A78: 5CA196A7B3D3588EDEA33C774789773C04A126 | B78: 유도등 | C78: 기존 | D78: 개 | E78: 전기품셈 10-3-1 | F78: 1 | G78: 0 | K78: 1 | L78: 내선전공 | M78: =0.2*(H78+100)/100*(I78+100)/100*(J78+100)/100 -> 0.2 | N78: =F78*M78 -> 0.2 | O78: 노임 1 | P78: 0.2*1 | Q78: 5BCC768A63E3D98799951C7837A2A7 | R78: 5B5026D63D83388940BE8B7AA90877683DF851 | S78: 0.2 | T78: 5BCC768A63E3D98799951C7837A2A75CA196A7B3D3588EDEA33C774789773C04A126 | V78: =N78 -> 0.2
A79: 5B5026D63D83388940BE8B7AA90877683DF851 | B79: 내선전공 | C79: 일반공사 직종 | D79: 인 | F79: =SUM(V78:V78) -> 0.2 | K79: =TRUNC(ROUNDDOWN(F79,공량설정_일위대가!C51+1)*공량설정_일위대가!B50/100, 공량설정_일위대가!C51) -> 0.2 | O79: 노임 1 | Q79: 5BCC768A63E3D98799951C7837A2A7 | T79: 5BCC768A63E3D98799951C7837A2A75B5026D63D83388940BE8B7AA90877683DF851
B80: 음성점멸유도등 재설치 기존 개 (호표 26)
A81: 5CA196A7B3D3588EDEA33C77503C9706601D5E | B81: 음성점멸유도등 | C81: 기존 | D81: 개 | E81: 전기품셈 10-3-2 | F81: 1 | G81: 0 | K81: 1 | L81: 내선전공 | M81: =0.12*(H81+100)/100*(I81+100)/100*(J81+100)/100 -> 0.12 | N81: =F81*M81 -> 0.12 | O81: 노임 1 | P81: 0.12*1 | Q81: 5BCCB653FDC33C87F54A1079827FA7 | R81: 5B5026D63D83388940BE8B7AA90877683DF851 | S81: 0.12 | T81: 5BCCB653FDC33C87F54A1079827FA75CA196A7B3D3588EDEA33C77503C9706601D5E | V81: =N81 -> 0.12
A82: 5B5026D63D83388940BE8B7AA90877683DF851 | B82: 내선전공 | C82: 일반공사 직종 | D82: 인 | F82: =SUM(V81:V81) -> 0.12 | K82: =TRUNC(ROUNDDOWN(F82,공량설정_일위대가!C53+1)*공량설정_일위대가!B52/100, 공량설정_일위대가!C53) -> 0.12 | O82: 노임 1 | Q82: 5BCCB653FDC33C87F54A1079827FA7 | T82: 5BCCB653FDC33C87F54A1079827FA75B5026D63D83388940BE8B7AA90877683DF851
B83: 천정형 스피커 천정형(3W) 개 (호표 27)
A84: 5CCD766ADEC3E38ED81EBD78B548374F4B2C9D | B84: 천정형 스피커 | C84: 천정형(3W) | D84: EA | E84: 통신품셈 7-11-5 | F84: 1 | G84: 0 | K84: 1 | L84: 통신설비공 | M84: =0.21*(H84+100)/100*(I84+100)/100*(J84+100)/100 -> 0.21 | N84: =F84*M84 -> 0.21 | O84: 노임 2 | P84: 0.21*1 | Q84: 5CCD867A2F53E18D653FE77C96FC27 | R84: 5B5026D63D83388940BE8B7AA90877683DF74A | S84: 0.21 | T84: 5CCD867A2F53E18D653FE77C96FC275CCD766ADEC3E38ED81EBD78B548374F4B2C9D | X84: =N84 -> 0.21
A85: 5B5026D63D83388940BE8B7AA90877683DF74A | B85: 통신설비공 | C85: 일반공사 직종 | D85: 인 | F85: =SUM(X84:X84) -> 0.21 | K85: =TRUNC(ROUNDDOWN(F85,공량설정_일위대가!C55+1)*공량설정_일위대가!B54/100, 공량설정_일위대가!C55) -> 0.21 | O85: 노임 2 | Q85: 5CCD867A2F53E18D653FE77C96FC27 | T85: 5CCD867A2F53E18D653FE77C96FC275B5026D63D83388940BE8B7AA90877683DF74A
B86: 비상조명(축전지 내장형) LED 2/4W (축전지내장형) 개 (호표 28)
A87: 5CA196A7B3D3588EDEA21576BBDA67DCA26FD5 | B87: 비상조명(축전지 내장형) | C87: LED 8W | D87: 개 | E87: 전기품셈 10-3-4 | F87: 1 | G87: 0 | K87: 1 | L87: 내선전공 | M87: =0.11*(H87+100)/100*(I87+100)/100*(J87+100)/100 -> 0.11 | N87: =F87*M87 -> 0.11 | O87: 노임 1 | P87: 0.11*1 | Q87: 5CCD867A2C83AB8F83A668790C0777 | R87: 5B5026D63D83388940BE8B7AA90877683DF851 | S87: 0.11 | T87: 5CCD867A2C83AB8F83A668790C07775CA196A7B3D3588EDEA21576BBDA67DCA26FD5 | V87: =N87 -> 0.11
A88: 5B5026D63D83388940BE8B7AA90877683DF851 | B88: 내선전공 | C88: 일반공사 직종 | D88: 인 | F88: =SUM(V87:V87) -> 0.11 | K88: =TRUNC(ROUNDDOWN(F88,공량설정_일위대가!C57+1)*공량설정_일위대가!B56/100, 공량설정_일위대가!C57) -> 0.11 | O88: 노임 1 | Q88: 5CCD867A2C83AB8F83A668790C0777 | T88: 5CCD867A2C83AB8F83A668790C07775B5026D63D83388940BE8B7AA90877683DF851
B89: 비상조명 재설치 기존 개 (호표 29)
A90: 5CA196A7B3D3588EDEA21576BBDA67DCA26FD4 | B90: 비상조명 | C90: 기존 | D90: 개 | E90: 전기품셈 10-3-4 | F90: 1 | G90: 0 | K90: 1 | L90: 내선전공 | M90: =0.11*(H90+100)/100*(I90+100)/100*(J90+100)/100 -> 0.11 | N90: =F90*M90 -> 0.11 | O90: 노임 1 | P90: 0.11*1 | Q90: 5CCD867A2C83AB8F83A668790C0757 | R90: 5B5026D63D83388940BE8B7AA90877683DF851 | S90: 0.11 | T90: 5CCD867A2C83AB8F83A668790C07575CA196A7B3D3588EDEA21576BBDA67DCA26FD4 | V90: =N90 -> 0.11
A91: 5B5026D63D83388940BE8B7AA90877683DF851 | B91: 내선전공 | C91: 일반공사 직종 | D91: 인 | F91: =SUM(V90:V90) -> 0.11 | K91: =TRUNC(ROUNDDOWN(F91,공량설정_일위대가!C59+1)*공량설정_일위대가!B58/100, 공량설정_일위대가!C59) -> 0.11 | O91: 노임 1 | Q91: 5CCD867A2C83AB8F83A668790C0757 | T91: 5CCD867A2C83AB8F83A668790C07575B5026D63D83388940BE8B7AA90877683DF851

Sheet 공량설정_일위대가
A1: 일위대가 | B1: 적용율(%) | C1: 소수점이하자릿수 | D1: 일위대가 코드
A2: 수동발신기 철거 소화전상부 (호표 1) | B2: 100 | D2: 5BCC768A63E3D9879996227EE7C227
A3: 내선전공 | C3: 3 | D3: 5BCC768A63E3D9879996227EE7C2275B5026D63D83388940BE8B7AA90877683DF851
A4: 화재감지기 철거 기존 (호표 2) | B4: 100 | D4: 5BCCB653FC33CB843FCDE676CDFEE7
A5: 내선전공 | C5: 3 | D5: 5BCCB653FC33CB843FCDE676CDFEE75B5026D63D83388940BE8B7AA90877683DF851
A6: 스피커 철거 기존 (호표 3) | B6: 100 | D6: 5BCDA6D9CA33A48E2E72C77C836CA7
A7: 통신설비공 | C7: 3 | D7: 5BCDA6D9CA33A48E2E72C77C836CA75B5026D63D83388940BE8B7AA90877683DF74A
A8: 시각경보장치 재사용철거 기존 (호표 4) | B8: 100 | D8: 5BCC768A63E3D9879994767205D487
A9: 내선전공 | C9: 3 | D9: 5BCC768A63E3D9879994767205D4875B5026D63D83388940BE8B7AA90877683DF851
A10: 유도등 재사용 철거 기존 (호표 5) | B10: 100 | D10: 5BCCB653FDC33C87F54A1079827F87
A11: 내선전공 | C11: 1 | D11: 5BCCB653FDC33C87F54A1079827F875B5026D63D83388940BE8B7AA90877683DF851
A12: 음성점멸유도등 재사용 철거 기존 (호표 6) | B12: 100 | D12: 5BCCB653FDC33C87F54A1079827F97
A13: 내선전공 | C13: 2 | D13: 5BCCB653FDC33C87F54A1079827F975B5026D63D83388940BE8B7AA90877683DF851
A14: 비상조명 재사용 철거 기존 (호표 7) | B14: 100 | D14: 5CCD867A2C83AB8F83A668790C0747
A15: 내선전공 | C15: 3 | D15: 5CCD867A2C83AB8F83A668790C07475B5026D63D83388940BE8B7AA90877683DF851
A16: 나사없는전선관-노출 E19 (호표 8) | B16: 100 | D16: 5BCC76F84C8357846DC83B735496F7
A17: 내선전공 | C17: 2 | D17: 5BCC76F84C8357846DC83B735496F75B5026D63D83388940BE8B7AA90877683DF851
A18: 1종금속제가요전선관-노출 16mm, 비방수 (호표 9) | B18: 100 | D18: 5BCC76894143568A2F248E7A26BA57
A19: 내선전공 | C19: 3 | D19: 5BCC76894143568A2F248E7A26BA575B5026D63D83388940BE8B7AA90877683DF851
A20: 450/75OV 저독성난연가교폴리올레핀절연전선(HFIX) 1.38㎜(1.5㎟) (호표 10) | B20: 100 | D20: 5BCC76894263C7897B56827C8989D7
A21: 내선전공 | C21: 2 | D21: 5BCC76894263C7897B56827C8989D75B5026D63D83388940BE8B7AA90877683DF851
A22: 450/75OV 저독성난연가교폴리올레핀절연전선(HFIX) 1.78㎜(2.5㎟) (호표 11) | B22: 100 | D22: 5BCC76894263C7897B56827C89B517
A23: 내선전공 | C23: 2 | D23: 5BCC76894263C7897B56827C89B5175B5026D63D83388940BE8B7AA90877683DF851
A24: 아우트렛박스-노출 8각 54mm (호표 12) | B24: 100 | D24: 5BCC76894993BC86B568AB74817097
A25: 내선전공 | C25: 2 | D25: 5BCC76894993BC86B568AB748170975B5026D63D83388940BE8B7AA90877683DF851
A26: 아우트렛박스-노출 중형 4각 54㎜ (호표 13) | B26: 100 | D26: 5BCC76894993BC86B568AB74816607
A27: 내선전공 | C27: 2 | D27: 5BCC76894993BC86B568AB748166075B5026D63D83388940BE8B7AA90877683DF851
A28: 스위치박스-노출 1개용 54 mm (호표 14) | B28: 100 | D28: 5BCC76894993BC86B568AB74938887
A29: 내선전공 | C29: 2 | D29: 5BCC76894993BC86B568AB749388875B5026D63D83388940BE8B7AA90877683DF851
A30: 화재감지기 열감지기, 차동식분포형 (호표 15) | B30: 100 | D30: 5BCC768A63E3D9879996237F56F817
A31: 내선전공 | C31: 2 | D31: 5BCC768A63E3D9879996237F56F8175B5026D63D83388940BE8B7AA90877683DF851
A32: 화재감지기 열감지기, 정온식스포트형 (호표 16) | B32: 100 | D32: 5BCC768A63E3D9879996237F56CCD7
A33: 내선전공 | C33: 2 | D33: 5BCC768A63E3D9879996237F56CCD75B5026D63D83388940BE8B7AA90877683DF851
A34: 화재감지기 연기감지기, 광전식 2종-비축적 (호표 17) | B34: 100 | D34: 5BCC768A63E3D9879996237F44AA57
A35: 내선전공 | C35: 2 | D35: 5BCC768A63E3D9879996237F44AA575B5026D63D83388940BE8B7AA90877683DF851
A36: 수동발신기 소화전상부 (호표 18) | B36: 100 | D36: 5BCC768A63E3D9879996227EE7C237
A37: 내선전공 | C37: 2 | D37: 5BCC768A63E3D9879996227EE7C2375B5026D63D83388940BE8B7AA90877683DF851
A38: 시각경보장치 15cd (호표 19) | B38: 100 | D38: 5BCC768A63E3D9879994767205D497
A39: 내선전공 | C39: 2 | D39: 5BCC768A63E3D9879994767205D4975B5026D63D83388940BE8B7AA90877683DF851
A40: 시각경보장치 재설치 기존 (호표 20) | B40: 100 | D40: 5BCC768A63E3D9879994767205D4B7
A41: 내선전공 | C41: 2 | D41: 5BCC768A63E3D9879994767205D4B75B5026D63D83388940BE8B7AA90877683DF851
A42: 화재 수신기 중계기, 4/4, 감시/제어 (호표 21) | B42: 100 | D42: 5BCC768A63E3D98799936F7CC2D307
A43: 내선전공 | C43: 1 | D43: 5BCC768A63E3D98799936F7CC2D3075B5026D63D83388940BE8B7AA90877683DF851
A44: 옥내소화전 간선 재연결 배관배선 재사용 (호표 22) | B44: 100 | D44: 5BCC768A63E3D98799936F7CC2D337
A45: 내선전공 | C45: 0 | D45: 5BCC768A63E3D98799936F7CC2D3375B5026D63D83388940BE8B7AA90877683DF851
A46: 피난구 유도등(고휘도) 소형(단면) 60분용, 벽부형 (호표 23) | B46: 100 | D46: 5BCC768A63E3D98799951C78379047
A47: 내선전공 | C47: 1 | D47: 5BCC768A63E3D98799951C783790475B5026D63D83388940BE8B7AA90877683DF851
A48: 피난구 유도등(고휘도) 소형(양면) 60분용, 천정형 (호표 24) | B48: 100 | D48: 5BCC768A63E3D98799951C7837A2B7
A49: 내선전공 | C49: 1 | D49: 5BCC768A63E3D98799951C7837A2B75B5026D63D83388940BE8B7AA90877683DF851
A50: 피난구 유도등 재설치 소형 (호표 25) | B50: 100 | D50: 5BCC768A63E3D98799951C7837A2A7
A51: 내선전공 | C51: 1 | D51: 5BCC768A63E3D98799951C7837A2A75B5026D63D83388940BE8B7AA90877683DF851
A52: 음성점멸유도등 재설치 기존 (호표 26) | B52: 100 | D52: 5BCCB653FDC33C87F54A1079827FA7
A53: 내선전공 | C53: 2 | D53: 5BCCB653FDC33C87F54A1079827FA75B5026D63D83388940BE8B7AA90877683DF851
A54: 천정형 스피커 천정형(3W) (호표 27) | B54: 100 | D54: 5CCD867A2F53E18D653FE77C96FC27
A55: 통신설비공 | C55: 2 | D55: 5CCD867A2F53E18D653FE77C96FC275B5026D63D83388940BE8B7AA90877683DF74A
A56: 비상조명(축전지 내장형) LED 2/4W (축전지내장형) (호표 28) | B56: 100 | D56: 5CCD867A2C83AB8F83A668790C0777
A57: 내선전공 | C57: 2 | D57: 5CCD867A2C83AB8F83A668790C07775B5026D63D83388940BE8B7AA90877683DF851
A58: 비상조명 재설치 기존 (호표 29) | B58: 100 | D58: 5CCD867A2C83AB8F83A668790C0757
A59: 내선전공 | C59: 2 | D59: 5CCD867A2C83AB8F83A668790C07575B5026D63D83388940BE8B7AA90877683DF851

Sheet Sheet1
