Workbook

Sheet 원가계산서
B1: 공 사 원 가 계 산 서
B2: 공사명 : 소담스퀘어 울산 구축 설계 용역(소방) | F2: 금액 : 육천구백구십삼만원(￦69,930,000)
B3: 비 목 | E3: 금 액 | F3: 구 성 비 | G3: 비 고
A4: A1 | B4: 순 공 사 원 가 | C4: 재 료 비 | D4: 직 접 재 료 비
A5: A2 | D5: 간 접 재 료 비
A6: A3 | D6: 작업설, 부산물(△)
A7: AS | D7: [ 소 계 ]
A8: B1 | C8: 노 무 비 | D8: 직 접 노 무 비
A9: B2 | D9: 간 접 노 무 비
A10: BS | D10: [ 소 계 ]
A11: C4 | C11: 경 비 | D11: 산 재 보 험 료
A12: C5 | D12: 고 용 보 험 료
A13: C6 | D13: 국민 건강 보험료
A14: C7 | D14: 국민 연금 보험료
A15: CB | D15: 노인장기요양보험료
A16: CA | D16: 산업안전보건관리비
A17: CC | D17: 석면분담금
A18: CD | D18: 임금채권부담금
A19: CG | D19: 기 타 경 비
A20: CS | D20: [ 소 계 ]
A21: S1 | B21: 계
A22: D1 | B22: 일 반 관 리 비 | F22: 계 * 8%
A23: D2 | B23: 이 윤 | F23: (노무비+경비+일반관리비) * 15%
A24: D9 | B24: 공 급 가 액
A25: DA | B25: 소방사업자손해배상보험
A26: DB | B26: 부 가 가 치 세 | F26: 공급가액 * 10%
A27: DH | B27: 도 급 액
A28: S2 | B28: 총 공 사 비

Sheet 공종별집계표
A1: 공 종 별 집 계 표
A2: [ 소담스퀘어 울산 구축 설계 용역(소방) ]
A3: 품 명 | B3: 규 격 | C3: 단위 | D3: 수량 | E3: 재 료 비 | G3: 노 무 비 | I3: 경 비 | K3: 합 계 | M3: 비 고 | N3: 공종코드 | O3: 변수 | P3: 상위공종 | Q3: 공종구분 | R3: 공종레벨 | S3: 공종소계 | T3: 원가계산서 연결금액
E4: 단 가 | F4: 금 액 | G4: 단 가 | H4: 금 액 | I4: 단 가 | J4: 금 액 | K4: 단 가 | L4: 금 액
A5: 소담스퀘어 울산 구축 설계 용역(소방) | D5: 1 | N5: 01 | R5: 1
A6: 1.소방설비공사 | D6: 1 | N6: 0101 | P6: 01 | R6: 2
A7: 1-1.전기소방설비공사 | D7: 1 | N7: 010101 | P7: 0101 | R7: 3
A8: 1-1-1.철거설비공사 | D8: 1 | N8: 01010101 | P8: 010101 | R8: 4
A9: 1-1-2.자동화재탐지설비공사 | D9: 1 | N9: 01010102 | P9: 010101 | R9: 4
A10: 1-1-3.유도등설비공사 | D10: 1 | N10: 01010103 | P10: 010101 | R10: 4
A11: 1-1-4.비상방송설비공사 | D11: 1 | N11: 01010104 | P11: 010101 | R11: 4
A12: 1-1-5.비상조명설비공사 | D12: 1 | N12: 01010105 | P12: 010101 | R12: 4
A13: 1-2.기계소방설비공사 | D13: 1 | N13: 010102 | P13: 0101 | R13: 3
A27: [ 합 계 ]

Sheet 공종별내역서
A1: [ 소담스퀘어 울산 구축 설계 용역(소방) ]
A2: 품 명 | B2: 규 격 | C2: 단위 | D2: 수량 | E2: 재 료 비 | G2: 노 무 비 | I2: 경 비 | K2: 합 계 | M2: 비 고 | N2: 품목코드 | O2: 변수 | P2: 설정 | Q2: 공종코드 | R2: 일위 | S2: 단산 | T2: 자재 | U2: 손료적용 | V2: 손료저장 | W2: 적용율 | X2: JUK1 | Y2: JUK2 | Z2: JUK3 | AA2: JUK4 | AB2: JUK5 | AC2: JUK6 | AD2: JUK7 | AE2: JUK8 | AF2: JUK9 | AG2: JUK10 | AH2: JUK11 | AI2: JUK12 | AJ2: JUK13 | AK2: JUK14 | AL2: JUK15 | AM2: JUK16 | AN2: JUK17 | AO2: JUK18 | AP2: JUK19 | AQ2: JUK20 | AR2: 자재구분 | AS2: 공종구분 | AT2: 공종레벨 | AU2: 공종+자재 | AV2: 고유번호
E3: 단 가 | F3: 금 액 | G3: 단 가 | H3: 금 액 | I3: 단 가 | J3: 금 액 | K3: 단 가 | L3: 금 액
A4: 1-1-1.철거설비공사 | Q4: 01010101
A5: 수동발신기 철거 | B5: 소화전상부 | C5: SET | D5: 1 | M5: 호표 1 | N5: 5BCC768A63E3D9879996227EE7C227 | Q5: 01010101 | R5: T | S5: F | T5: F | AU5: 010101015BCC768A63E3D9879996227EE7C227 | AV5: 14
A6: 화재감지기 철거 | B6: 기존 | C6: 개 | D6: 31 | M6: 호표 2 | N6: 5BCCB653FC33CB843FCDE676CDFEE7 | Q6: 01010101 | R6: T | S6: F | T6: F | AU6: 010101015BCCB653FC33CB843FCDE676CDFEE7 | AV6: 15
A7: 스피커 철거 | B7: 기존 | C7: 개 | D7: 4 | M7: 호표 3 | N7: 5BCDA6D9CA33A48E2E72C77C836CA7 | Q7: 01010101 | R7: T | S7: F | T7: F | AU7: 010101015BCDA6D9CA33A48E2E72C77C836CA7 | AV7: 16
A8: 시각경보장치 재사용철거 | B8: 기존 | C8: 개 | D8: 3 | M8: 호표 4 | N8: 5BCC768A63E3D9879994767205D487 | Q8: 01010101 | R8: T | S8: F | T8: F | AU8: 010101015BCC768A63E3D9879994767205D487 | AV8: 18
A9: 유도등 재사용 철거 | B9: 기존 | C9: 개 | D9: 4 | M9: 호표 5 | N9: 5BCCB653FDC33C87F54A1079827F87 | Q9: 01010101 | R9: T | S9: F | T9: F | AU9: 010101015BCCB653FDC33C87F54A1079827F87 | AV9: 19
A10: 음성점멸유도등 재사용 철거 | B10: 기존 | C10: 개 | D10: 1 | M10: 호표 6 | N10: 5BCCB653FDC33C87F54A1079827F97 | Q10: 01010101 | R10: T | S10: F | T10: F | AU10: 010101015BCCB653FDC33C87F54A1079827F97 | AV10: 20
A11: 비상조명 재사용 철거 | B11: 기존 | C11: 개 | D11: 4 | M11: 호표 7 | N11: 5CCD867A2C83AB8F83A668790C0747 | Q11: 01010101 | R11: T | S11: F | T11: F | AU11: 010101015CCD867A2C83AB8F83A668790C0747 | AV11: 21
Q12: 01010101
Q13: 01010101
Q14: 01010101
Q15: 01010101
Q16: 01010101
Q17: 01010101
Q18: 01010101
Q19: 01010101
Q20: 01010101
Q21: 01010101
Q22: 01010101
Q23: 01010101
... Q26: 01010101
A27: [ 합 계 ] | N27: TOTAL
A28: 1-1-2.자동화재탐지설비공사 | Q28: 01010102
A29: 나사없는전선관-노출 | B29: E19 | C29: M | D29: 247 | M29: 호표 8 | N29: 5BCC76F84C8357846DC83B735496F7 | Q29: 01010102 | R29: T | S29: F | T29: F | AU29: 010101025BCC76F84C8357846DC83B735496F7 | AV29: 27
A30: 1종금속제가요전선관-노출 | B30: 16mm, 비방수 | C30: M | D30: 63 | M30: 호표 9 | N30: 5BCC76894143568A2F248E7A26BA57 | Q30: 01010102 | R30: T | S30: F | T30: F | AU30: 010101025BCC76894143568A2F248E7A26BA57 | AV30: 28
A31: 옥내용원터치방식이음쇠- 커플링, JIS | B31: E19 | C31: 개 | D31: 71 | N31: 5CA196A7B12364809147D57A88DAF7C8525C38 | Q31: 01010102 | R31: F | S31: F | T31: T | AU31: 010101025CA196A7B12364809147D57A88DAF7C8525C38 | AV31: 29
A32: 옥내용원터치방식이음쇠- 커넥터, JIS | B32: E19 | C32: 개 | D32: 132 | N32: 5CA196A7B12364809147D57A88DAF7C8525DC1 | Q32: 01010102 | R32: F | S32: F | T32: T | AU32: 010101025CA196A7B12364809147D57A88DAF7C8525DC1 | AV32: 30
A33: 1종금속제가요전선관 | B33: 1종금속제가요전선관, 박스커넥터, 16mm, 비방수 | C33: 개 | D33: 84 | N33: 5CA196A7B12364809149867D8327E740516935 | Q33: 01010102 | R33: F | S33: F | T33: T | AU33: 010101025CA196A7B12364809149867D8327E740516935 | AV33: 31
A34: 450/75OV 저독성난연가교폴리올레핀절연전선(HFIX) | B34: 1.38㎜(1.5㎟) | C34: M | D34: 920 | M34: 호표 10 | N34: 5BCC76894263C7897B56827C8989D7 | Q34: 01010102 | R34: T | S34: F | T34: F | AU34: 010101025BCC76894263C7897B56827C8989D7 | AV34: 32
A35: 450/75OV 저독성난연가교폴리올레핀절연전선(HFIX) | B35: 1.78㎜(2.5㎟) | C35: M | D35: 174 | M35: 호표 11 | N35: 5BCC76894263C7897B56827C89B517 | Q35: 01010102 | R35: T | S35: F | T35: F | AU35: 010101025BCC76894263C7897B56827C89B517 | AV35: 33
A36: 아우트렛박스-노출 | B36: 8각 54mm | C36: 개 | D36: 42 | M36: 호표 12 | N36: 5BCC76894993BC86B568AB74817097 | Q36: 01010102 | R36: T | S36: F | T36: F | AU36: 010101025BCC76894993BC86B568AB74817097 | AV36: 34
A37: 아우트렛박스-노출 | B37: 중형 4각 54㎜ | C37: 개 | D37: 3 | M37: 호표 13 | N37: 5BCC76894993BC86B568AB74816607 | Q37: 01010102 | R37: T | S37: F | T37: F | AU37: 010101025BCC76894993BC86B568AB74816607 | AV37: 35
A38: 스위치박스-노출 | B38: 1개용 54 mm | C38: 개 | D38: 12 | M38: 호표 14 | N38: 5BCC76894993BC86B568AB74938887 | Q38: 01010102 | R38: T | S38: F | T38: F | AU38: 010101025BCC76894993BC86B568AB74938887 | AV38: 36
A39: 아웃렛박스 | B39: 아웃렛박스, 커버, 8각, 평형 | C39: 개 | D39: 42 | N39: 5CA196A7B0031688BE29697640701738442103 | Q39: 01010102 | R39: F | S39: F | T39: T | AU39: 010101025CA196A7B0031688BE29697640701738442103 | AV39: 37
A40: 아웃렛박스 | B40: 아웃렛박스, 커버, 4각, 평 | C40: 개 | D40: 3 | N40: 5CA196A7B0031688BE29697640701738442100 | Q40: 01010102 | R40: F | S40: F | T40: T | AU40: 010101025CA196A7B0031688BE29697640701738442100 | AV40: 38
A41: 아웃렛박스 | B41: 아웃렛박스, 커버, 4각, 1개용S/W, 평 | C41: 개 | D41: 12 | N41: 5CA196A7B0031688BE29697640701738442104 | Q41: 01010102 | R41: F | S41: F | T41: T | AU41: 010101025CA196A7B0031688BE29697640701738442104 | AV41: 39
A42: 화재감지기 | B42: 열감지기, 차동식분포형 | C42: 개 | D42: 32 | M42: 호표 15 | N42: 5BCC768A63E3D9879996237F56F817 | Q42: 01010102 | R42: T | S42: F | T42: F | AU42: 010101025BCC768A63E3D9879996237F56F817 | AV42: 40
...

Sheet 일위대가목록
A1: 일 위 대 가 목 록
A2: [ 소담스퀘어 울산 구축 설계 용역(소방) ]
A3: 품 명 | B3: 규 격 | C3: 단위 | D3: 재 료 비 | E3: 노 무 비 | F3: 경 비 | G3: 합 계 | H3: 번 호 | I3: 비 고 | J3: 노임계수 | K3: 할증 | L3: 품셈개요 | M3: 장비일위
A4: 수동발신기 철거 | B4: 소화전상부 | C4: SET | H4: 호표 1 | L4: 전기 10-2-5
A5: 화재감지기 철거 | B5: 기존 | C5: 개 | H5: 호표 2 | L5: 전기 10-2-1
A6: 스피커 철거 | B6: 기존 | C6: 개 | H6: 호표 3 | L6: 통신 7-11-5
A7: 시각경보장치 재사용철거 | B7: 기존 | C7: 개 | H7: 호표 4 | L7: 전기 10-2-12
A8: 유도등 재사용 철거 | B8: 기존 | C8: 개 | H8: 호표 5 | L8: 전기 10-3-1
A9: 음성점멸유도등 재사용 철거 | B9: 기존 | C9: 개 | H9: 호표 6 | L9: 전기 10-3-1
A10: 비상조명 재사용 철거 | B10: 기존 | C10: 개 | H10: 호표 7 | L10: 전기 10-3-4
A11: 나사없는전선관-노출 | B11: E19 | C11: M | H11: 호표 8 | L11: 전기 5-1
A12: 1종금속제가요전선관-노출 | B12: 16mm, 비방수 | C12: M | H12: 호표 9 | L12: 전기 5-1
A13: 450/75OV 저독성난연가교폴리올레핀절연전선(HFIX) | B13: 1.38㎜(1.5㎟) | C13: M | H13: 호표 10 | L13: 전기 5-10
A14: 450/75OV 저독성난연가교폴리올레핀절연전선(HFIX) | B14: 1.78㎜(2.5㎟) | C14: M | H14: 호표 11 | L14: 전기 5-10
A15: 아우트렛박스-노출 | B15: 8각 54mm | C15: 개 | H15: 호표 12 | L15: 전기 5-3
... A32: 비상조명 재설치 | B32: 기존 | C32: 개 | H32: 호표 29 | L32: 전기 10-3-4

Sheet 일위대가
A1: [ 소담스퀘어 울산 구축 설계 용역(소방) ]
A2: 품 명 | B2: 규 격 | C2: 단위 | D2: 수량 | E2: 재 료 비 | G2: 노 무 비 | I2: 경 비 | K2: 합 계 | M2: 비 고 | N2: 일위대가 | O2: 품목코드 | P2: 일위 | Q2: 단산 | R2: 자재 | S2: 손료적용 | T2: 손료저장 | U2: 적용율 | V2: JUK1 | W2: JUK2 | X2: JUK3 | Y2: JUK4 | Z2: JUK5 | AA2: JUK6 | AB2: JUK7 | AC2: JUK8 | AD2: JUK9 | AE2: JUK10 | AF2: JUK11 | AG2: JUK12 | AH2: JUK13 | AI2: JUK14 | AJ2: JUK15 | AK2: JUK16 | AL2: JUK17 | AM2: JUK18 | AN2: JUK19 | AO2: JUK20 | AP2: 할증적용 | AQ2: 할증저장 | AR2: 할증율 | AS2: HAL1 | AT2: HAL2 | AU2: HAL3 | AV2: 자재구분 | AW2: 일위대가+자재 | AX2: 장비일위 | AY2: 설정 | AZ2: 할증체크
E3: 단 가 | F3: 금 액 | G3: 단 가 | H3: 금 액 | I3: 단 가 | J3: 금 액 | K3: 단 가 | L3: 금 액
A4: 수동발신기 철거 소화전상부 SET 전기 10-2-5 ( 호표 1 ) | N4: 5BCC768A63E3D9879996227EE7C227
A5: 화재경보장치 | B5: 수동발신기 | C5: 개 | D5: 1 | N5: 5BCC768A63E3D9879996227EE7C227 | O5: 5CDE263800E3A187A203EF7B363787154F62EE | P5: F | Q5: F | R5: T | AW5: 5BCC768A63E3D9879996227EE7C2275CDE263800E3A187A203EF7B363787154F62EE
A6: 화재경보장치 | B6: 수동발신기, 경종, DC24V | C6: 개 | D6: 1 | N6: 5BCC768A63E3D9879996227EE7C227 | O6: 5CDE263800E3A187A203EF7B363787154F62ED | P6: F | Q6: F | R6: T | AW6: 5BCC768A63E3D9879996227EE7C2275CDE263800E3A187A203EF7B363787154F62ED
A7: 화재경보장치 | B7: 수동발신기, 표시등, DC24V | C7: 개 | D7: 1 | N7: 5BCC768A63E3D9879996227EE7C227 | O7: 5CDE263800E3A187A203EF7B363787154F62EC | P7: F | Q7: F | R7: T | AW7: 5BCC768A63E3D9879996227EE7C2275CDE263800E3A187A203EF7B363787154F62EC
A8: 내선전공 | B8: 일반공사 직종 | C8: 인 | D8: =공량산출근거서_일위대가!K8 -> 0.195 | N8: 5BCC768A63E3D9879996227EE7C227 | O8: 5B5026D63D83388940BE8B7AA90877683DF851 | P8: F | Q8: F | R8: T | V8: 1 | AW8: 5BCC768A63E3D9879996227EE7C2275B5026D63D83388940BE8B7AA90877683DF851
A9: 공구손료 | B9: 인력품의 3% | C9: 식 | D9: 1 | N9: 5BCC768A63E3D9879996227EE7C227 | O9: 5A93167637D36C88579C74701167001 | P9: F | Q9: F | R9: F | S9: 1 | T9: 0 | U9: 0.03 | AW9: 5BCC768A63E3D9879996227EE7C2275A93167637D36C88579C74701167001
A10: [ 합 계 ] | N10: TOTAL | O10: TOTAL
A12: 화재감지기 철거 기존 개 전기 10-2-1 ( 호표 2 ) | N12: 5BCCB653FC33CB843FCDE676CDFEE7
A13: 감지기 | B13: 기존 | C13: EA | D13: 1 | N13: 5BCCB653FC33CB843FCDE676CDFEE7 | O13: 5CDE263800E3A187A2074B78AEF827160E45CD | P13: F | Q13: F | R13: T | AW13: 5BCCB653FC33CB843FCDE676CDFEE75CDE263800E3A187A2074B78AEF827160E45CD
A14: 내선전공 | B14: 일반공사 직종 | C14: 인 | D14: =공량산출근거서_일위대가!K11 -> 0.039 | N14: 5BCCB653FC33CB843FCDE676CDFEE7 | O14: 5B5026D63D83388940BE8B7AA90877683DF851 | P14: F | Q14: F | R14: T | V14: 1 | AW14: 5BCCB653FC33CB843FCDE676CDFEE75B5026D63D83388940BE8B7AA90877683DF851
A15: 공구손료 | B15: 인력품의 3% | C15: 식 | D15: 1 | N15: 5BCCB653FC33CB843FCDE676CDFEE7 | O15: 5A93167637D36C88579C74701167001 | P15: F | Q15: F | R15: F | S15: 1 | T15: 0 | U15: 0.03 | AW15: 5BCCB653FC33CB843FCDE676CDFEE75A93167637D36C88579C74701167001
A16: [ 합 계 ] | N16: TOTAL | O16: TOTAL
A18: 스피커 철거 기존 개 통신 7-11-5 ( 호표 3 ) | N18: 5BCDA6D9CA33A48E2E72C77C836CA7
A19: 스피커 | B19: 천정형 | C19: 개 | D19: 1 | N19: 5BCDA6D9CA33A48E2E72C77C836CA7 | O19: 5CF9663D3583588A71851E761958979D872F68 | P19: F | Q19: F | R19: T | AW19: 5BCDA6D9CA33A48E2E72C77C836CA75CF9663D3583588A71851E761958979D872F68
A20: 통신설비공 | B20: 일반공사 직종 | C20: 인 | D20: =공량산출근거서_일위대가!K14 -> 0.063 | N20: 5BCDA6D9CA33A48E2E72C77C836CA7 | O20: 5B5026D63D83388940BE8B7AA90877683DF74A | P20: F | Q20: F | R20: T | V20: 1 | AW20: 5BCDA6D9CA33A48E2E72C77C836CA75B5026D63D83388940BE8B7AA90877683DF74A
A21: 공구손료 | B21: 인력품의 3% | C21: 식 | D21: 1 | N21: 5BCDA6D9CA33A48E2E72C77C836CA7 | O21: 5A93167637D36C88579C74701167001 | P21: F | Q21: F | R21: F | S21: 1 | T21: 0 | U21: 0.03 | AW21: 5BCDA6D9CA33A48E2E72C77C836CA75A93167637D36C88579C74701167001
A22: [ 합 계 ] | N22: TOTAL | O22: TOTAL
A24: 시각경보장치 재사용철거 기존 개 전기 10-2-12 ( 호표 4 ) | N24: 5BCC768A63E3D9879994767205D487
A25: 화재경보장치 | B25: 시각경보기 | C25: 개 | D25: 1 | N25: 5BCC768A63E3D9879994767205D487 | O25: 5CDE263800E3A187A203EF7B36C507D0FF6DF1 | P25: F | Q25: F | R25: T | AW25: 5BCC768A63E3D9879994767205D4875CDE263800E3A187A203EF7B36C507D0FF6DF1
A26: 내선전공 | B26: 일반공사 직종 | C26: 인 | D26: =공량산출근거서_일위대가!K17 -> 0.045 | N26: 5BCC768A63E3D9879994767205D487 | O26: 5B5026D63D83388940BE8B7AA90877683DF851 | P26: F | Q26: F | R26: T | V26: 1 | AW26: 5BCC768A63E3D9879994767205D4875B5026D63D83388940BE8B7AA90877683DF851
A27: 공구손료 | B27: 인력품의 3% | C27: 식 | D27: 1 | N27: 5BCC768A63E3D9879994767205D487 | O27: 5A93167637D36C88579C74701167001 | P27: F | Q27: F | R27: F | S27: 1 | T27: 0 | U27: 0.03 | AW27: 5BCC768A63E3D9879994767205D4875A93167637D36C88579C74701167001
A28: [ 합 계 ] | N28: TOTAL | O28: TOTAL
A30: 유도등 재사용 철거 기존 개 전기 10-3-1 ( 호표 5 ) | N30: 5BCCB653FDC33C87F54A1079827F87
A31: 유도등 | B31: 기존 | C31: 개 | D31: 1 | N31: 5BCCB653FDC33C87F54A1079827F87 | O31: 5CA196A7B3D3588EDEA33C77503C9706601E6D | P31: F | Q31: F | R31: T | AW31: 5BCCB653FDC33C87F54A1079827F875CA196A7B3D3588EDEA33C77503C9706601E6D
A32: 내선전공 | B32: 일반공사 직종 | C32: 인 | D32: =공량산출근거서_일위대가!K20 -> 0.1 | N32: 5BCCB653FDC33C87F54A1079827F87 | O32: 5B5026D63D83388940BE8B7AA90877683DF851 | P32: F | Q32: F | R32: T | V32: 1 | AW32: 5BCCB653FDC33C87F54A1079827F875B5026D63D83388940BE8B7AA90877683DF851
A33: 공구손료 | B33: 인력품의 3% | C33: 식 | D33: 1 | N33: 5BCCB653FDC33C87F54A1079827F87 | O33: 5A93167637D36C88579C74701167001 | P33: F | Q33: F | R33: F | S33: 1 | T33: 0 | U33: 0.03 | AW33: 5BCCB653FDC33C87F54A1079827F875A93167637D36C88579C74701167001
A34: [ 합 계 ] | N34: TOTAL | O34: TOTAL
A36: 음성점멸유도등 재사용 철거 기존 개 전기 10-3-1 ( 호표 6 ) | N36: 5BCCB653FDC33C87F54A1079827F97
A37: 음성점멸유도등 | B37: 기존 | C37: 개 | D37: 1 | N37: 5BCCB653FDC33C87F54A1079827F97 | O37: 5CA196A7B3D3588EDEA33C77503C9706601D5E | P37: F | Q37: F | R37: T | AW37: 5BCCB653FDC33C87F54A1079827F975CA196A7B3D3588EDEA33C77503C9706601D5E
A38: 내선전공 | B38: 일반공사 직종 | C38: 인 | D38: =공량산출근거서_일위대가!K23 -> 0.06 | N38: 5BCCB653FDC33C87F54A1079827F97 | O38: 5B5026D63D83388940BE8B7AA90877683DF851 | P38: F | Q38: F | R38: T | V38: 1 | AW38: 5BCCB653FDC33C87F54A1079827F975B5026D63D83388940BE8B7AA90877683DF851
A39: 공구손료 | B39: 인력품의 3% | C39: 식 | D39: 1 | N39: 5BCCB653FDC33C87F54A1079827F97 | O39: 5A93167637D36C88579C74701167001 | P39: F | Q39: F | R39: F | S39: 1 | T39: 0 | U39: 0.03 | AW39: 5BCCB653FDC33C87F54A1079827F975A93167637D36C88579C74701167001
A40: [ 합 계 ] | N40: TOTAL | O40: TOTAL
A42: 비상조명 재사용 철거 기존 개 전기 10-3-4 ( 호표 7 ) | N42: 5CCD867A2C83AB8F83A668790C0747
A43: 비상조명 | B43: 기존 | C43: 개 | D43: 1 | N43: 5CCD867A2C83AB8F83A668790C0747 | O43: 5CA196A7B3D3588EDEA21576BBDA67DCA26FD4 | P43: F | Q43: F | R43: T | AW43: 5CCD867A2C83AB8F83A668790C07475CA196A7B3D3588EDEA21576BBDA67DCA26FD4
A44: 내선전공 | B44: 일반공사 직종 | C44: 인 | D44: =공량산출근거서_일위대가!K26 -> 0.055 | N44: 5CCD867A2C83AB8F83A668790C0747 | O44: 5B5026D63D83388940BE8B7AA90877683DF851 | P44: F | Q44: F | R44: T | V44: 1 | AW44: 5CCD867A2C83AB8F83A668790C07475B5026D63D83388940BE8B7AA90877683DF851
A45: 공구손료 | B45: 인력품의 3% | C45: 식 | D45: 1 | N45: 5CCD867A2C83AB8F83A668790C0747 | O45: 5A93167637D36C88579C74701167001 | P45: F | Q45: F | R45: F | S45: 1 | T45: 0 | U45: 0.03 | AW45: 5CCD867A2C83AB8F83A668790C07475A93167637D36C88579C74701167001
A46: [ 합 계 ] | N46: TOTAL | O46: TOTAL
...

Sheet 단가산출목록
B1: 단 가 산 출 목 록
B2: [ 소담스퀘어 울산 구축 설계 용역(소방) ]
A3: 코 드 | B3: 품 명 | C3: 규 격 | D3: 단위 | E3: 재 료 비 | F3: 노 무 비 | G3: 경 비 | H3: 합 계 | I3: 번 호 | J3: 비 고 | K3: START | L3: 품셈개요

Sheet 단가산출서
A1: 단 가 산 출 서
A2: [ 소담스퀘어 울산 구축 설계 용역(소방) ]
A3: 산 출 내 역 | B3: 재 료 비 | C3: 노 무 비 | D3: 경 비 | E3: 합 계 | F3: 비 고 | G3: START | H3: 코드 | I3: 품명 | J3: 규격 | K3: 단위 | L3: 수량 | M3: 변수 | N3: 값 | O3: 소계 | P3: 소계 | Q3: 소계 | R3: 소계 | S3: 소계 | T3: 총계
A4: ( )
A6: 총 계 | B6: =TRUNC(SUMIF(T5:T5, "TT", B5:B5), 0) -> 0 | C6: =TRUNC(SUMIF(T5:T5, "TT", C5:C5), 0) -> 0 | D6: =TRUNC(SUMIF(T5:T5, "TT", D5:D5), 0) -> 0 | E6: =TRUNC(SUM(B6,C6, D6), 0) -> 0

Sheet 단가대비표
A1: 단 가 대 비 표
A2: [ 소담스퀘어 울산 구축 설계 용역(소방) ]
A3: 코 드 | B3: 품 명 | C3: 규격 | D3: 단위 | E3: 재 료 비 | P3: 노 무 비 | Q3: 경 비 | W3: 번 호 | X3: 비 고 | Y3: 품목구분 | Z3: 노임구분 | AA3: 소수점처리 | AB3: 자재구분
E4: 조달청가격 | F4: PAGE | G4: 물가자료 | H4: PAGE | I4: 유통물가 | J4: PAGE | K4: 조사가격1 | L4: PAGE | M4: 조사가격2 | N4: PAGE | O4: 적용단가 | Q4: 조달청가격 | R4: 물가자료 | S4: 유통물가 | T4: 조사가격1 | U4: 조사가격2 | V4: 적용단가
A5: 5CB316CB0753028AF8489375681F17F5F81C3E | B5: 저독성난연케이블 | C5: HFIX, 1.38㎜ | D5: M | W5: 자재 1
A6: 5CB316CB0753028AF8489375681F17F5F81C3F | B6: 저독성난연케이블 | C6: HFIX, 1.78㎜ | D6: M | W6: 자재 2
A7: 5CA196A7B3D3588EDEA33C774789773C04AEFE | B7: 유도등 | C7: 유도등, 소형(단면), 60분용, 피난구유도등, 고휘도 | D7: 개 | W7: 자재 3
A8: 5CA196A7B3D3588EDEA33C774789773C04AEF1 | B8: 유도등 | C8: 유도등, 소형(양면), 60분용, 피난구유도등, 고휘도 | D8: 개 | W8: 자재 4
A9: 5CA196A7B3D3588EDEA33C774789773C04A126 | B9: 유도등 | C9: 기존 | D9: 개 | W9: 자재 5
A10: 5CA196A7B3D3588EDEA33C77503C9706601E6D | B10: 유도등 | C10: 기존 | D10: 개 | W10: 자재 6
A11: 5CA196A7B3D3588EDEA33C77503C9706601D5E | B11: 음성점멸유도등 | C11: 기존 | D11: 개 | W11: 자재 7
A12: 5CA196A7B3D3588EDEA21576BBDA67DCA26FD5 | B12: 비상조명(축전지 내장형) | C12: LED 8W | D12: 개 | W12: 자재 8
A13: 5CA196A7B3D3588EDEA21576BBDA67DCA26FD4 | B13: 비상조명 | C13: 기존 | D13: 개 | W13: 자재 9
A14: 5CA196A7B0031688BE27BF763AEEE7C1FFFC03 | B14: 스위치박스 | C14: 스위치박스, 1개용, 54mm | D14: 개 | W14: 자재 10
A15: 5CA196A7B0031688BE296A70BF0AC7B57B7963 | B15: 아웃렛박스 | C15: 아웃렛박스, 8각, 54mm | D15: 개 | W15: 자재 11
A16: 5CA196A7B0031688BE296A70BF0AC7B57B7960 | B16: 아웃렛박스 | C16: 아웃렛박스, 중형4각, 54mm | D16: 개 | W16: 자재 12
... A42: 5CF9663D3583588A71851E761958979D872F68 | B42: 스피커 | C42: 천정형 | D42: 개 | W42: 자재 38
A43: 5C0246DE7F73508717D0137F77733732D27A69 | B43: 소화설비공사 | D43: 식 | W43: 자재 39
A44: 5B5026D63D83388940BE8B7AA90877683DF851 | B44: 내선전공 | C44: 일반공사 직종 | D44: 인 | W44: 노임 1 | Y44: B
A45: 5B5026D63D83388940BE8B7AA90877683DF74A | B45: 통신설비공 | C45: 일반공사 직종 | D45: 인 | W45: 노임 2 | Y45: B

Sheet 공량산출근거서_일위대가
A1: 공 량 산 출 근 거 서
A2: [ 소담스퀘어 울산 구축 설계 용역(소방) ]
A3: 코 드 | B3: 품 명 | C3: 규 격 | D3: 단위 | E3: 품 셈 목 록 | F3: 수 량 | G3: 할증 | H3: 노임할증-1 | I3: 노임할증-2 | J3: 노임할증-3 | K3: 내역수량 | L3: 직 종 명 | M3: 공 량 | N3: 계 | O3: 번 호 | P3: 비 고 | T3: 일위대가목록+자재 | V3: 내선전공 | W3: 일반공사 직종 | X3: 통신설비공
B4: 수동발신기 철거 소화전상부 SET (호표 1)
A5: 5CDE263800E3A187A203EF7B363787154F62EE | B5: 화재경보장치 | C5: 수동발신기 | D5: 개 | E5: 전기 10-2-5 | F5: 1 | G5: 0 | H5: -70 | K5: 1 | L5: 내선전공 | M5: =0.3*(H5+100)/100*(I5+100)/100*(J5+100)/100 -> 0.09 | N5: =F5*M5 -> 0.09 | O5: 노임 1 | P5: 0.3*1 * 30% | Q5: 5BCC768A63E3D9879996227EE7C227 | R5: 5B5026D63D83388940BE8B7AA90877683DF851 | S5: 0.3 | T5: 5BCC768A63E3D9879996227EE7C2275CDE263800E3A187A203EF7B363787154F62EE | V5: =N5 -> 0.09
A6: 5CDE263800E3A187A203EF7B363787154F62ED | B6: 화재경보장치 | C6: 수동발신기, 경종, DC24V | D6: 개 | E6: 전기 10-2-5 | F6: 1 | G6: 0 | H6: -70 | K6: 1 | L6: 내선전공 | M6: =0.15*(H6+100)/100*(I6+100)/100*(J6+100)/100 -> 0.045 | N6: =F6*M6 -> 0.045 | O6: 노임 1 | P6: 0.15*1 * 30% | Q6: 5BCC768A63E3D9879996227EE7C227 | R6: 5B5026D63D83388940BE8B7AA90877683DF851 | S6: 0.15 | T6: 5BCC768A63E3D9879996227EE7C2275CDE263800E3A187A203EF7B363787154F62ED | V6: =N6 -> 0.045
A7: 5CDE263800E3A187A203EF7B363787154F62EC | B7: 화재경보장치 | C7: 수동발신기, 표시등, DC24V | D7: 개 | E7: 전기 10-2-5 | F7: 1 | G7: 0 | H7: -70 | K7: 1 | L7: 내선전공 | M7: =0.2*(H7+100)/100*(I7+100)/100*(J7+100)/100 -> 0.06 | N7: =F7*M7 -> 0.06 | O7: 노임 1 | P7: 0.2*1 * 30% | Q7: 5BCC768A63E3D9879996227EE7C227 | R7: 5B5026D63D83388940BE8B7AA90877683DF851 | S7: 0.2 | T7: 5BCC768A63E3D9879996227EE7C2275CDE263800E3A187A203EF7B363787154F62EC | V7: =N7 -> 0.06
A8: 5B5026D63D83388940BE8B7AA90877683DF851 | B8: 내선전공 | C8: 일반공사 직종 | D8: 인 | F8: =SUM(V5:V7) -> 0.195 | K8: =TRUNC(ROUNDDOWN(F8,공량설정_일위대가!C3+1)*공량설정_일위대가!B2/100, 공량설정_일위대가!C3) -> 0.195 | O8: 노임 1 | Q8: 5BCC768A63E3D9879996227EE7C227 | T8: 5BCC768A63E3D9879996227EE7C2275B5026D63D83388940BE8B7AA90877683DF851
B9: 화재감지기 철거 기존 개 (호표 2)
A10: 5CDE263800E3A187A2074B78AEF827160E45CD | B10: 감지기 | C10: 기존 | D10: EA | E10: 전기품셈 10-2-1 | F10: 1 | G10: 0 | H10: -70 | K10: 1 | L10: 내선전공 | M10: =0.13*(H10+100)/100*(I10+100)/100*(J10+100)/100 -> 0.039 | N10: =F10*M10 -> 0.039 | O10: 노임 1 | P10: 0.13*1 * 30% | Q10: 5BCCB653FC33CB843FCDE676CDFEE7 | R10: 5B5026D63D83388940BE8B7AA90877683DF851 | S10: 0.13 | T10: 5BCCB653FC33CB843FCDE676CDFEE75CDE263800E3A187A2074B78AEF827160E45CD | V10: =N10 -> 0.039
A11: 5B5026D63D83388940BE8B7AA90877683DF851 | B11: 내선전공 | C11: 일반공사 직종 | D11: 인 | F11: =SUM(V10:V10) -> 0.039 | K11: =TRUNC(ROUNDDOWN(F11,공량설정_일위대가!C5+1)*공량설정_일위대가!B4/100, 공량설정_일위대가!C5) -> 0.039 | O11: 노임 1 | Q11: 5BCCB653FC33CB843FCDE676CDFEE7 | T11: 5BCCB653FC33CB843FCDE676CDFEE75B5026D63D83388940BE8B7AA90877683DF851
B12: 스피커 철거 기존 개 (호표 3)
A13: 5CF9663D3583588A71851E761958979D872F68 | B13: 스피커 | C13: 천정형 | D13: 개 | E13: 통신 7-11-5 | F13: 1 | G13: 0 | H13: -70 | K13: 1 | L13: 통신설비공 | M13: =0.21*(H13+100)/100*(I13+100)/100*(J13+100)/100 -> 0.063 | N13: =F13*M13 -> 0.063 | O13: 노임 2 | P13: 0.21*1 * 30% | Q13: 5BCDA6D9CA33A48E2E72C77C836CA7 | R13: 5B5026D63D83388940BE8B7AA90877683DF74A | S13: 0.21 | T13: 5BCDA6D9CA33A48E2E72C77C836CA75CF9663D3583588A71851E761958979D872F68 | X13: =N13 -> 0.063
A14: 5B5026D63D83388940BE8B7AA90877683DF74A | B14: 통신설비공 | C14: 일반공사 직종 | D14: 인 | F14: =SUM(X13:X13) -> 0.063 | K14: =TRUNC(ROUNDDOWN(F14,공량설정_일위대가!C7+1)*공량설정_일위대가!B6/100, 공량설정_일위대가!C7) -> 0.063 | O14: 노임 2 | Q14: 5BCDA6D9CA33A48E2E72C77C836CA7 | T14: 5BCDA6D9CA33A48E2E72C77C836CA75B5026D63D83388940BE8B7AA90877683DF74A
B15: 시각경보장치 재사용철거 기존 개 (호표 4)
A16: 5CDE263800E3A187A203EF7B36C507D0FF6DF1 | B16: 화재경보장치 | C16: 시각경보기 | D16: 개 | E16: 전기 10-2-12 | F16: 1 | G16: 0 | H16: -50 | K16: 1 | L16: 내선전공 | M16: =0.09*(H16+100)/100*(I16+100)/100*(J16+100)/100 -> 0.045 | N16: =F16*M16 -> 0.045 | O16: 노임 1 | P16: 0.09*1 * 50% | Q16: 5BCC768A63E3D9879994767205D487 | R16: 5B5026D63D83388940BE8B7AA90877683DF851 | S16: 0.09 | T16: 5BCC768A63E3D9879994767205D4875CDE263800E3A187A203EF7B36C507D0FF6DF1 | V16: =N16 -> 0.045
A17: 5B5026D63D83388940BE8B7AA90877683DF851 | B17: 내선전공 | C17: 일반공사 직종 | D17: 인 | F17: =SUM(V16:V16) -> 0.045 | K17: =TRUNC(ROUNDDOWN(F17,공량설정_일위대가!C9+1)*공량설정_일위대가!B8/100, 공량설정_일위대가!C9) -> 0.045 | O17: 노임 1 | Q17: 5BCC768A63E3D9879994767205D487 | T17: 5BCC768A63E3D9879994767205D4875B5026D63D83388940BE8B7AA90877683DF851
B18: 유도등 재사용 철거 기존 개 (호표 5)
A19: 5CA196A7B3D3588EDEA33C77503C9706601E6D | B19: 유도등 | C19: 기존 | D19: 개 | E19: 전기품셈 10-3-1 | F19: 1 | G19: 0 | H19: -50 | K19: 1 | L19: 내선전공 | M19: =0.2*(H19+100)/100*(I19+100)/100*(J19+100)/100 -> 0.1 | N19: =F19*M19 -> 0.1 | O19: 노임 1 | P19: 0.2*1 * 50% | Q19: 5BCCB653FDC33C87F54A1079827F87 | R19: 5B5026D63D83388940BE8B7AA90877683DF851 | S19: 0.2 | T19: 5BCCB653FDC33C87F54A1079827F875CA196A7B3D3588EDEA33C77503C9706601E6D | V19: =N19 -> 0.1
A20: 5B5026D63D83388940BE8B7AA90877683DF851 | B20: 내선전공 | C20: 일반공사 직종 | D20: 인 | F20: =SUM(V19:V19) -> 0.1 | K20: =TRUNC(ROUNDDOWN(F20,공량설정_일위대가!C11+1)*공량설정_일위대가!B10/100, 공량설정_일위대가!C11) -> 0.1 | O20: 노임 1 | Q20: 5BCCB653FDC33C87F54A1079827F87 | T20: 5BCCB653FDC33C87F54A1079827F875B5026D63D83388940BE8B7AA90877683DF851
B21: 음성점멸유도등 재사용 철거 기존 개 (호표 6)
A22: 5CA196A7B3D3588EDEA33C77503C9706601D5E | B22: 음성점멸유도등 | C22: 기존 | D22: 개 | E22: 전기품셈 10-3-2 | F22: 1 | G22: 0 | H22: -50 | K22: 1 | L22: 내선전공 | M22: =0.12*(H22+100)/100*(I22+100)/100*(J22+100)/100 -> 0.06 | N22: =F22*M22 -> 0.06 | O22: 노임 1 | P22: 0.12*1 * 50% | Q22: 5BCCB653FDC33C87F54A1079827F97 | R22: 5B5026D63D83388940BE8B7AA90877683DF851 | S22: 0.12 | T22: 5BCCB653FDC33C87F54A1079827F975CA196A7B3D3588EDEA33C77503C9706601D5E | V22: =N22 -> 0.06
A23: 5B5026D63D83388940BE8B7AA90877683DF851 | B23: 내선전공 | C23: 일반공사 직종 | D23: 인 | F23: =SUM(V22:V22) -> 0.06 | K23: =TRUNC(ROUNDDOWN(F23,공량설정_일위대가!C13+1)*공량설정_일위대가!B12/100, 공량설정_일위대가!C13) -> 0.06 | O23: 노임 1 | Q23: 5BCCB653FDC33C87F54A1079827F97 | T23: 5BCCB653FDC33C87F54A1079827F975B5026D63D83388940BE8B7AA90877683DF851
B24: 비상조명 재사용 철거 기존 개 (호표 7)
A25: 5CA196A7B3D3588EDEA21576BBDA67DCA26FD4 | B25: 비상조명 | C25: 기존 | D25: 개 | E25: 전기품셈 10-3-4 | F25: 1 | G25: 0 | H25: -50 | K25: 1 | L25: 내선전공 | M25: =0.11*(H25+100)/100*(I25+100)/100*(J25+100)/100 -> 0.055 | N25: =F25*M25 -> 0.055 | O25: 노임 1 | P25: 0.11*1 * 50% | Q25: 5CCD867A2C83AB8F83A668790C0747 | R25: 5B5026D63D83388940BE8B7AA90877683DF851 | S25: 0.11 | T25: 5CCD867A2C83AB8F83A668790C07475CA196A7B3D3588EDEA21576BBDA67DCA26FD4 | V25: =N25 -> 0.055
A26: 5B5026D63D83388940BE8B7AA90877683DF851 | B26: 내선전공 | C26: 일반공사 직종 | D26: 인 | F26: =SUM(V25:V25) -> 0.055 | K26: =TRUNC(ROUNDDOWN(F26,공량설정_일위대가!C15+1)*공량설정_일위대가!B14/100, 공량설정_일위대가!C15) -> 0.055 | O26: 노임 1 | Q26: 5CCD867A2C83AB8F83A668790C0747 | T26: 5CCD867A2C83AB8F83A668790C07475B5026D63D83388940BE8B7AA90877683DF851
B27: 나사없는전선관-노출 E19 M (호표 8)
A28: 5CA196A7B12364809149877FFDD237F1B77744 | B28: 나사 없는 전선관 | C28: E19 | D28: M | E28: 전기품셈 5-1 | F28: 1 | G28: 10 | H28: 20 | K28: 1.1 | L28: 내선전공 | M28: =0.05*(H28+100)/100*(I28+100)/100*(J28+100)/100 -> 0.06 | N28: =F28*M28 -> 0.06 | O28: 노임 1 | P28: 0.05*1 * 120% | Q28: 5BCC76F84C8357846DC83B735496F7 | R28: 5B5026D63D83388940BE8B7AA90877683DF851 | S28: 0.05 | T28: 5BCC76F84C8357846DC83B735496F75CA196A7B12364809149877FFDD237F1B77744 | V28: =N28 -> 0.06
A29: 5B5026D63D83388940BE8B7AA90877683DF851 | B29: 내선전공 | C29: 일반공사 직종 | D29: 인 | F29: =SUM(V28:V28) -> 0.06 | K29: =TRUNC(ROUNDDOWN(F29,공량설정_일위대가!C17+1)*공량설정_일위대가!B16/100, 공량설정_일위대가!C17) -> 0.06 | O29: 노임 1 | Q29: 5BCC76F84C8357846DC83B735496F7 | T29: 5BCC76F84C8357846DC83B735496F75B5026D63D83388940BE8B7AA90877683DF851
B30: 1종금속제가요전선관-노출 16mm, 비방수 M (호표 9)
A31: 5CA196A7B12364809149867D8327E740516BFE | B31: 1종금속제가요전선관 | C31: 1종금속제가요전선관, 16mm, 비방수 | D31: M | E31: 전기품셈 5-1 | F31: 1 | G31: 10 | H31: 20 | K31: 1.1 | L31: 내선전공 | M31: =0.044*(H31+100)/100*(I31+100)/100*(J31+100)/100 -> 0.0528 | N31: =F31*M31 -> 0.0528 | O31: 노임 1 | P31: 0.044*1 * 120% | Q31: 5BCC76894143568A2F248E7A26BA57 | R31: 5B5026D63D83388940BE8B7AA90877683DF851 | S31: 0.044 | T31: 5BCC76894143568A2F248E7A26BA575CA196A7B12364809149867D8327E740516BFE | V31: =N31 -> 0.0528
A32: 5B5026D63D83388940BE8B7AA90877683DF851 | B32: 내선전공 | C32: 일반공사 직종 | D32: 인 | F32: =SUM(V31:V31) -> 0.0528 | K32: =TRUNC(ROUNDDOWN(F32,공량설정_일위대가!C19+1)*공량설정_일위대가!B18/100, 공량설정_일위대가!C19) -> 0.052 | O32: 노임 1 | Q32: 5BCC76894143568A2F248E7A26BA57 | T32: 5BCC76894143568A2F248E7A26BA575B5026D63D83388940BE8B7AA90877683DF851
B33: 450/75OV 저독성난연가교폴리올레핀절연전선(HFIX) 1.38㎜(1.5㎟) M (호표 10)
A34: 5CB316CB0753028AF8489375681F17F5F81C3E | B34: 저독성난연케이블 | C34: HFIX, 1.38㎜ | D34: M | E34: 전기품셈 5-10 | F34: 1 | G34: 10 | K34: 1.1 | L34: 내선전공 | M34: =0.01*(H34+100)/100*(I34+100)/100*(J34+100)/100 -> 0.01 | N34: =F34*M34 -> 0.01 | O34: 노임 1 | P34: 0.01*1 | Q34: 5BCC76894263C7897B56827C8989D7 | R34: 5B5026D63D83388940BE8B7AA90877683DF851 | S34: 0.01 | T34: 5BCC76894263C7897B56827C8989D75CB316CB0753028AF8489375681F17F5F81C3E | V34: =N34 -> 0.01
A35: 5B5026D63D83388940BE8B7AA90877683DF851 | B35: 내선전공 | C35: 일반공사 직종 | D35: 인 | F35: =SUM(V34:V34) -> 0.01 | K35: =TRUNC(ROUNDDOWN(F35,공량설정_일위대가!C21+1)*공량설정_일위대가!B20/100, 공량설정_일위대가!C21) -> 0.01 | O35: 노임 1 | Q35: 5BCC76894263C7897B56827C8989D7 | T35: 5BCC76894263C7897B56827C8989D75B5026D63D83388940BE8B7AA90877683DF851
B36: 450/75OV 저독성난연가교폴리올레핀절연전선(HFIX) 1.78㎜(2.5㎟) M (호표 11)
A37: 5CB316CB0753028AF8489375681F17F5F81C3F | B37: 저독성난연케이블 | C37: HFIX, 1.78㎜ | D37: M | E37: 전기품셈 5-10 | F37: 1 | G37: 10 | K37: 1.1 | L37: 내선전공 | M37: =0.01*(H37+100)/100*(I37+100)/100*(J37+100)/100 -> 0.01 | N37: =F37*M37 -> 0.01 | O37: 노임 1 | P37: 0.01*1 | Q37: 5BCC76894263C7897B56827C89B517 | R37: 5B5026D63D83388940BE8B7AA90877683DF851 | S37: 0.01 | T37: 5BCC76894263C7897B56827C89B5175CB316CB0753028AF8489375681F17F5F81C3F | V37: =N37 -> 0.01
A38: 5B5026D63D83388940BE8B7AA90877683DF851 | B38: 내선전공 | C38: 일반공사 직종 | D38: 인 | F38: =SUM(V37:V37) -> 0.01 | K38: =TRUNC(ROUNDDOWN(F38,공량설정_일위대가!C23+1)*공량설정_일위대가!B22/100, 공량설정_일위대가!C23) -> 0.01 | O38: 노임 1 | Q38: 5BCC76894263C7897B56827C89B517 | T38: 5BCC76894263C7897B56827C89B5175B5026D63D83388940BE8B7AA90877683DF851
B39: 아우트렛박스-노출 8각 54mm 개 (호표 12)
A40: 5CA196A7B0031688BE296A70BF0AC7B57B7963 | B40: 아웃렛박스 | C40: 아웃렛박스, 8각, 54mm | D40: 개 | E40: 전기품셈 5-3 | F40: 1 | G40: 0 | H40: 20 | K40: 1 | L40: 내선전공 | M40: =0.2*(H40+100)/100*(I40+100)/100*(J40+100)/100 -> 0.24 | N40: =F40*M40 -> 0.24 | O40: 노임 1 | P40: 0.2*1 * 120% | Q40: 5BCC76894993BC86B568AB74817097 | R40: 5B5026D63D83388940BE8B7AA90877683DF851 | S40: 0.2 | T40: 5BCC76894993BC86B568AB748170975CA196A7B0031688BE296A70BF0AC7B57B7963 | V40: =N40 -> 0.24
...

Sheet 공량설정_일위대가
A1: 일위대가 | B1: 적용율(%) | C1: 소수점이하자릿수 | D1: 일위대가 코드
A2: 수동발신기 철거 소화전상부 (호표 1) | B2: 100 | D2: 5BCC768A63E3D9879996227EE7C227
A3: 내선전공 | C3: 3 | D3: 5BCC768A63E3D9879996227EE7C2275B5026D63D83388940BE8B7AA90877683DF851
A4: 화재감지기 철거 기존 (호표 2) | B4: 100 | D4: 5BCCB653FC33CB843FCDE676CDFEE7
A5: 내선전공 | C5: 3 | D5: 5BCCB653FC33CB843FCDE676CDFEE75B5026D63D83388940BE8B7AA90877683DF851
A6: 스피커 철거 기존 (호표 3) | B6: 100 | D6: 5BCDA6D9CA33A48E2E72C77C836CA7
A7: 통신설비공 | C7: 3 | D7: 5BCDA6D9CA33A48E2E72C77C836CA75B5026D63D83388940BE8B7AA90877683DF74A
A8: 시각경보장치 재사용철거 기존 (호표 4) | B8: 100 | D8: 5BCC768A63E3D9879994767205D487
A9: 내선전공 | C9: 3 | D9: 5BCC768A63E3D9879994767205D4875B5026D63D83388940BE8B7AA90877683DF851
A10: 유도등 재사용 철거 기존 (호표 5) | B10: 100 | D10: 5BCCB653FDC33C87F54A1079827F87
A11: 내선전공 | C11: 1 | D11: 5BCCB653FDC33C87F54A1079827F875B5026D63D83388940BE8B7AA90877683DF851
A12: 음성점멸유도등 재사용 철거 기존 (호표 6) | B12: 100 | D12: 5BCCB653FDC33C87F54A1079827F97
A13: 내선전공 | C13: 2 | D13: 5BCCB653FDC33C87F54A1079827F975B5026D63D83388940BE8B7AA90877683DF851
A14: 비상조명 재사용 철거 기존 (호표 7) | B14: 100 | D14: 5CCD867A2C83AB8F83A668790C0747
A15: 내선전공 | C15: 3 | D15: 5CCD867A2C83AB8F83A668790C07475B5026D63D83388940BE8B7AA90877683DF851
A16: 나사없는전선관-노출 E19 (호표 8) | B16: 100 | D16: 5BCC76F84C8357846DC83B735496F7
A17: 내선전공 | C17: 2 | D17: 5BCC76F84C8357846DC83B735496F75B5026D63D83388940BE8B7AA90877683DF851
A18: 1종금속제가요전선관-노출 16mm, 비방수 (호표 9) | B18: 100 | D18: 5BCC76894143568A2F248E7A26BA57
A19: 내선전공 | C19: 3 | D19: 5BCC76894143568A2F248E7A26BA575B5026D63D83388940BE8B7AA90877683DF851
A20: 450/75OV 저독성난연가교폴리올레핀절연전선(HFIX) 1.38㎜(1.5㎟) (호표 10) | B20: 100 | D20: 5BCC76894263C7897B56827C8989D7
A21: 내선전공 | C21: 2 | D21: 5BCC76894263C7897B56827C8989D75B5026D63D83388940BE8B7AA90877683DF851
A22: 450/75OV 저독성난연가교폴리올레핀절연전선(HFIX) 1.78㎜(2.5㎟) (호표 11) | B22: 100 | D22: 5BCC76894263C7897B56827C89B517
A23: 내선전공 | C23: 2 | D23: 5BCC76894263C7897B56827C89B5175B5026D63D83388940BE8B7AA90877683DF851
A24: 아우트렛박스-노출 8각 54mm (호표 12) | B24: 100 | D24: 5BCC76894993BC86B568AB74817097
A25: 내선전공 | C25: 2 | D25: 5BCC76894993BC86B568AB748170975B5026D63D83388940BE8B7AA90877683DF851
A26: 아우트렛박스-노출 중형 4각 54㎜ (호표 13) | B26: 100 | D26: 5BCC76894993BC86B568AB74816607
A27: 내선전공 | C27: 2 | D27: 5BCC76894993BC86B568AB748166075B5026D63D83388940BE8B7AA90877683DF851
A28: 스위치박스-노출 1개용 54 mm (호표 14) | B28: 100 | D28: 5BCC76894993BC86B568AB74938887
A29: 내선전공 | C29: 2 | D29: 5BCC76894993BC86B568AB749388875B5026D63D83388940BE8B7AA90877683DF851
A30: 화재감지기 열감지기, 차동식분포형 (호표 15) | B30: 100 | D30: 5BCC768A63E3D9879996237F56F817
A31: 내선전공 | C31: 2 | D31: 5BCC768A63E3D9879996237F56F8175B5026D63D83388940BE8B7AA90877683DF851
A32: 화재감지기 열감지기, 정온식스포트형 (호표 16) | B32: 100 | D32: 5BCC768A63E3D9879996237F56CCD7
A33: 내선전공 | C33: 2 | D33: 5BCC768A63E3D9879996237F56CCD75B5026D63D83388940BE8B7AA90877683DF851
A34: 화재감지기 연기감지기, 광전식 2종-비축적 (호표 17) | B34: 100 | D34: 5BCC768A63E3D9879996237F44AA57
A35: 내선전공 | C35: 2 | D35: 5BCC768A63E3D9879996237F44AA575B5026D63D83388940BE8B7AA90877683DF851
A36: 수동발신기 소화전상부 (호표 18) | B36: 100 | D36: 5BCC768A63E3D9879996227EE7C237
A37: 내선전공 | C37: 2 | D37: 5BCC768A63E3D9879996227EE7C2375B5026D63D83388940BE8B7AA90877683DF851
A38: 시각경보장치 15cd (호표 19) | B38: 100 | D38: 5BCC768A63E3D9879994767205D497
A39: 내선전공 | C39: 2 | D39: 5BCC768A63E3D9879994767205D4975B5026D63D83388940BE8B7AA90877683DF851
A40: 시각경보장치 재설치 기존 (호표 20) | B40: 100 | D40: 5BCC768A63E3D9879994767205D4B7
...

Sheet Sheet1
