Workbook
Name _: #REF!
Name _: #REF!
Name _?쾴?: #REF!
Name _?쾴?: #REF!
Name _?쾴?_?: #REF!
Name _?쾴?___P: #REF!
Name _?쾴?_T: #REF!
Name __: #REF!
Name ___: #REF!
Name ____: #REF!
Name _____: #REF!
Name ______: #REF!
Name _______: #REF!
Name __________: #REF!
Name _____________0: #REF!
Name _____________11: #REF!
Name _____________12: #REF!
Name __________0: #REF!
Name __________11: #REF!
Name __________12: #REF!
Name _________0: #REF!
Name _________10: #REF!
Name _________11: #REF!
Name _________12: #REF!
Name ________0: #REF!
Name ________10: #REF!
Name ________11: #REF!
Name ________12: #REF!
Name _______0: #REF!
Name _______A1: #REF!
Name _______mcv1: #REF!
Name _______mcv2: #REF!
Name _______mcv3: #REF!
Name _______mcv4: #REF!
Name _______mcv5: #REF!
Name _______mhw1: #REF!
Name _______mvw1: #REF!
Name _______pa1: #REF!
Name _______pa2: #REF!
Name _______pe22: #REF!
Name _______RD1: #REF!
Name _______RD2: #REF!
Name _______RD3: #REF!
Name _______RD4: #REF!
Name _______RD5: #REF!
Name _______RD6: #REF!
Name _______RD7: #REF!
Name _______RL1: #REF!
Name _______RL2: #REF!
Name _______RL3: #REF!
Name _______RL4: #REF!
Name _______RL5: #REF!
Name _______RL6: #REF!
Name _______RL7: #REF!
Name _______s1: #REF!
Name _______sp1: #REF!
Name _______sp2: #REF!
Name _______sp3: #REF!
Name _______SS1: #REF!
Name _______SS2: #REF!

Sheet 설계서(1)
A2: 설 계 서
D3: 공 사 명 | G3: : | H3: =#REF! -> #REF!
D4: 총 공 사 비 | G4: : | H4: ="일금 "&NUMBERSTRING(U19,1)&"원정" -> #REF! | O4: =DOLLAR(U19) -> #REF! | Z4: =O5+O6+O7+O8 -> #REF!
D5: 도 급 공 사 비 | G5: : | H5: ="일금 "&NUMBERSTRING(J19,1)&"원정" -> #REF! | O5: =DOLLAR(J19) -> #REF!
D6: 관 급 자 재 비 | G6: : | H6: ="일금 "&NUMBERSTRING(M19,1)&"원정" -> #REF! | O6: =DOLLAR(M19) -> #REF!
A10: 구 분 | D10: 공 급 가 액 | G10: 부 가 세 | J10: 도 급 액 | M10: 관 급 자 재 비 (도급자) | P10: 관 급 자 재 비 (관급자) | S10: 폐기물처리비 | T10: 한전불입금 | U10: 총 공 사 비 | X10: 비 고
A11: 건축총괄(건,토,조,기) | D11: =#REF! -> #REF! | G11: =#REF! -> #REF! | J11: =#REF! -> #REF! | M11: ='전체총괄원가(분리발주)'!I44 -> #REF! | U11: =ROUNDDOWN(+J11+M11+P11+S11,0) -> #REF!
A12: 전 기 공 사 | D12: 0 | G12: 0 | J12: 0 | M12: 0 | S12: 0 | T12: ='전체총괄원가(분리발주)'!J47 -> #REF! | U12: =ROUNDDOWN(+J12+M12+P12+S12,0) -> 0
A13: 통 신 공 사 | D13: 0 | G13: 0 | J13: 0 | M13: 0 | U13: =ROUNDDOWN(+J13+M13+P13+S13,0) -> 0
A14: 소 방 공 사 | D14: 0 | G14: 0 | J14: 0 | M14: ='전체총괄원가(분리발주)'!N44 -> #REF! | U14: =ROUNDDOWN(+J14+M14+P14+S14,0) -> #REF!
A15: 폐 기 물 처 리 비 | P15: 0 | S15: 0 | U15: =ROUNDDOWN(+J15+M15+P15+S15,0) -> 0
J16: =D16+G16 -> 0 | M16: ='전체총괄원가(분리발주)'!N45 -> 0 | T16: 0 | U16: =ROUNDDOWN(+J16+M16+P16+S16+T16,0) -> 0
A19: 총 계 | D19: =SUM(D11:D18) -> #REF! | G19: =SUM(G11:G18) -> #REF! | J19: =SUM(J11:J18) -> #REF! | M19: =SUM(M11:M18) -> #REF! | P19: =SUM(P11:P18) -> 0 | S19: =SUM(S11:S18) -> 0 | T19: =SUM(T11:T18) -> #REF! | U19: =SUM(U11:U18) -> #REF!
U21: =U19-U16 -> #REF!
U22: =U21-'전체총괄원가(분리발주)'!D49 -> #REF!

Sheet 총괄설계서
B2: 공 사 비 총 괄 표
C4: 공사명 :함열순환경제활력센터조성기본및실시설계용역
C6: ▣ 총 공 사 비 | E6: : | F6: ="일금 "&NUMBERSTRING(M31,1)&"원정" -> #REF!
C8: ◎ 건축,기계,토목공사 | E8: : | F8: ="일금 "&NUMBERSTRING(M23,1)&"원정" -> #REF!
C10: ◎ 전기,통신,전기소방,기계소방(별도) | E10: : | F10: ="일금 "&NUMBERSTRING(M27,1)&"원정" -> #REF!
C12: ◎ 폐기물처리비 (별도) | F12: ="일금 "&NUMBERSTRING(M30,1)&"원정" -> #REF! | O12: 1385.69 | P12: ←입력 | Q12: =O12*0.3025 -> 419.17122
O13: =O12*0.3025 -> 419.17122
B17: 구 분 비 목 | D17: 공 급 가 액 | F17: 부 가 세 | G17: 도 급 액 | H17: 관급자재비 (도급자) | I17: 관급자재비 (관급자) | J17: 분담금 | K17: 한전불입금 | L17: 재해예방기술지도비 | M17: 합 계 금 액 | O17: 평당금액 | P17: 비율
B19: 건 축 | C19: 건 축 공 사 | D19: ='전체총괄원가(분리발주)'!E37 -> #REF! | F19: ='전체총괄원가(분리발주)'!E40 -> #REF! | G19: ='전체총괄원가(분리발주)'!E41 -> #REF! | H19: ='전체총괄원가(분리발주)'!E42 -> #REF! | I19: ='전체총괄원가(분리발주)'!E43 -> #REF! | M19: =SUM(G19:L19) -> #REF! | O19: =M19/$Q$12 -> #REF! | P19: =M19/$M$31 -> #REF!
B20: 토 목 | C20: 토 목 공 사 | D20: ='전체총괄원가(분리발주)'!F37 -> #REF! | F20: ='전체총괄원가(분리발주)'!F40 -> #REF! | G20: ='전체총괄원가(분리발주)'!F41 -> #REF! | H20: ='전체총괄원가(분리발주)'!F42 -> #REF! | I20: ='전체총괄원가(분리발주)'!F43 -> #REF! | M20: =SUM(G20:L20) -> #REF! | O20: =M20/$Q$12 -> #REF! | P20: =M20/$M$31 -> #REF!
B21: 조 경 | C21: 조 경 공 사 | D21: ='전체총괄원가(분리발주)'!G37 -> #REF! | F21: ='전체총괄원가(분리발주)'!G40 -> #REF! | G21: ='전체총괄원가(분리발주)'!G41 -> #REF! | H21: ='전체총괄원가(분리발주)'!G42 -> #REF! | I21: ='전체총괄원가(분리발주)'!G43 -> #REF! | M21: =SUM(G21:L21) -> #REF! | O21: =M21/$Q$12 -> #REF! | P21: =M21/$M$31 -> #REF!
B22: 기 계 | C22: 기계설비공사 | D22: ='전체총괄원가(분리발주)'!H37 -> #REF! | F22: ='전체총괄원가(분리발주)'!H40 -> #REF! | G22: ='전체총괄원가(분리발주)'!H41 -> #REF! | H22: ='전체총괄원가(분리발주)'!H42 -> #REF! | I22: ='전체총괄원가(분리발주)'!H43 -> #REF! | J22: ='전체총괄원가(분리발주)'!H47 -> #REF! | M22: =SUM(G22:L22) -> #REF! | O22: =M22/$Q$12 -> #REF! | P22: =M22/$M$31 -> #REF!
B23: 소 계 | D23: =SUM(D19:E22) -> #REF! | F23: =SUM(F19:F22) -> #REF! | G23: =SUM(G19:G22) -> #REF! | H23: =SUM(H19:H22) -> #REF! | I23: =SUM(I19:I22) -> #REF! | J23: =SUM(J19:J22) -> #REF! | K23: =SUM(K19:K22) -> 0 | M23: =SUM(G23:L23) -> #REF! | O23: =M23/$Q$12 -> #REF! | P23: =M23/$M$31 -> #REF!
B24: 별 도 | C24: 전기공사 | D24: ='전체총괄원가(분리발주)'!J37 -> #REF! | F24: ='전체총괄원가(분리발주)'!J40 -> #REF! | G24: ='전체총괄원가(분리발주)'!J41 -> #REF! | H24: ='전체총괄원가(분리발주)'!J42 -> #REF! | I24: ='전체총괄원가(분리발주)'!J43 -> #REF! | K24: ='전체총괄원가(분리발주)'!J46 -> #REF! | M24: =SUM(G24:L24) -> #REF! | O24: =M24/$Q$12 -> #REF! | P24: =M24/$M$31 -> #REF!
B25: 별 도 | C25: 통신공사 | D25: ='전체총괄원가(분리발주)'!K37 -> #REF! | F25: ='전체총괄원가(분리발주)'!K40 -> #REF! | G25: ='전체총괄원가(분리발주)'!K41 -> #REF! | H25: ='전체총괄원가(분리발주)'!K42 -> #REF! | I25: ='전체총괄원가(분리발주)'!K43 -> #REF! | M25: =SUM(G25:L25) -> #REF! | O25: =M25/$Q$12 -> #REF! | P25: =M25/$M$31 -> #REF!
B26: 별 도 | C26: 소방공사 | D26: ='전체총괄원가(분리발주)'!N37 -> #REF! | F26: ='전체총괄원가(분리발주)'!N40 -> #REF! | G26: ='전체총괄원가(분리발주)'!N41 -> #REF! | L26: ='전체총괄원가(분리발주)'!N48 -> 0 | M26: =SUM(G26:L26) -> #REF! | O26: =M26/$Q$12 -> #REF! | P26: =M26/$M$31 -> #REF!
B27: 소 계 | D27: =SUM(D24:E26) -> #REF! | F27: =SUM(F24:F26) -> #REF! | G27: =SUM(G24:G26) -> #REF! | H27: =SUM(H24:H26) -> #REF! | I27: =SUM(I24:I26) -> #REF! | J27: =SUM(J24:J26) -> 0 | K27: =SUM(K24:K26) -> #REF! | L27: =SUM(L24:L26) -> 0 | M27: =SUM(G27:L27) -> #REF! | O27: =M27/$Q$12 -> #REF! | P27: =M27/$M$31 -> #REF!
B28: 별 도 | C28: 건설폐기물처리비 | D28: ='전체총괄원가(분리발주)'!O37 -> #REF! | F28: ='전체총괄원가(분리발주)'!O40 -> #REF! | G28: ='전체총괄원가(분리발주)'!O41 -> #REF! | M28: =SUM(G28:L28) -> #REF! | O28: =M28/$Q$12 -> #REF! | P28: =M28/$M$31 -> #REF!
G29: =SUM(D29:F29) -> 0 | M29: =SUM(G29:L29) -> 0 | O29: =M29/$O$12 -> 0 | P29: =M29/$M$31 -> #REF!
B30: 소 계 | D30: =SUM(D28:D29) -> #REF! | F30: =SUM(F28:F29) -> #REF! | G30: =ROUNDDOWN(SUM(D30:F30),-3) -> #REF! | H30: =SUM(H28:H29) -> 0 | I30: =SUM(I28:I29) -> 0 | J30: =SUM(J28:J29) -> 0 | M30: =SUM(G30:L30) -> #REF! | O30: =M30/$Q$12 -> #REF! | P30: =M30/$M$31 -> #REF!
B31: 합 계 | D31: =D23+D27+D30 -> #REF! | F31: =F23+F27+F30 -> #REF! | G31: =G23+G27+G30 -> #REF! | H31: =H23+H27+H30 -> #REF! | I31: =I23+I27+I30 -> #REF! | J31: =J23+J27+J30 -> #REF! | K31: =K23+K27+K30 -> #REF! | L31: =L23+L27+L30 -> 0 | M31: =SUM(G31:L31) -> #REF! | O31: =M31/$Q$12 -> #REF! | P31: =M31/$M$31 -> #REF!
O33: =0*0.3025 -> 0

Sheet 설계서 
B2: 과 장 | D2: 담 당 | G2: 심 사 자 | I2: 설 계 자 | K2: 설 계 | L2: 2026년 월 일 | M2: 결 제
K3: 심 사 | L3: 2026년 월 일 | M3: 2026년 월 일
B5: 설 계 서
B7: 공사명 : 함열순환경제활력센터조성기본및실시설계용역 (건축+기계+조경+토목)
B8: 총 공 사 비 | E8: : | F8: =" 일금"&NUMBERSTRING(K15,1)&"원정 ("&DOLLAR(K15)&"원)" -> #REF! | P8: =DOLLAR(V22) -> ₩0 | AA8: =P9+P10+P11+P12 -> 0
B9: 도 급 공 사 비 | E9: : | F9: =" 일금"&NUMBERSTRING(K18,1)&"원정 ("&DOLLAR(K18)&"원)" -> #REF! | P9: =DOLLAR(K22) -> ₩0
B10: 관 급 자 재 비 (도급자) | E10: : | F10: =" 일금"&NUMBERSTRING(K19,1)&"원정 ("&DOLLAR(K19)&"원)" -> #REF! | P10: =DOLLAR(N22) -> ₩0
B11: 관 급 자 재 비 (관급자) | E11: : | F11: =" 일금"&NUMBERSTRING(K20,1)&"원정 ("&DOLLAR(K20)&"원)" -> #REF! | P11: =DOLLAR(V20) -> ₩0
B12: 시 설 분 담 공사 | E12: : | P12: =DOLLAR(Q22+T22) -> ₩0
B14: 구 분 | E14: 내 역 서 | M14: 비 고
B15: 총 공 사 비 | E15: ="일금 "&NUMBERSTRING(총괄설계서!M23,1)&"원정" -> #REF! | K15: =" \ "&TEXT(총괄설계서!M23,"#,###")&" " -> #REF!
B16: 도 | C16: 공 급 가 액 | E16: ="일금 "&NUMBERSTRING(총괄설계서!D23,1)&"원정" -> #REF! | K16: =" \ "&TEXT(총괄설계서!D23,"#,###")&" " -> #REF!
B17: 급 | C17: 부 가 가 치 세 | E17: ="일금 "&NUMBERSTRING(총괄설계서!F23,1)&"원정" -> #REF! | K17: =" \ "&TEXT(총괄설계서!F23,"#,###")&" " -> #REF!
B18: 비 | C18: 계 | E18: =" 일금 "&NUMBERSTRING(총괄설계서!G23,1)&"원정" -> #REF! | K18: =" \ "&TEXT(총괄설계서!G23,"#,###")&" " -> #REF!
B19: 관 급 자 재 비 (도급자) | E19: =" 일금 "&NUMBERSTRING(총괄설계서!H23,1)&"원정" -> #REF! | K19: =" \ "&TEXT(총괄설계서!H23,"#,###")&" " -> #REF!
B20: 관 급 자 재 비 (관급자) | E20: =" 일금 "&NUMBERSTRING(총괄설계서!I23,1)&"원정" -> #REF! | K20: =" \ "&TEXT(총괄설계서!I23,"#,###")&" " -> #REF!
B21: 분 담 금 공 사 | E21: =" 일금 "&NUMBERSTRING(총괄설계서!J23,1)&"원정" -> #REF! | K21: =" \ "&TEXT(총괄설계서!J23,"#,###")&" " -> #REF!

Sheet 전체총괄원가(분리발주)
A1: =#REF! -> #REF!
A2: 비 목 | D2: 합계금액 | E2: 건 축 총 괄 | J2: 전기 | K2: 통신 | L2: 소방 | O2: 폐기물처리비 | P2: 구 성 비
E3: 건축 | F3: 토목 | G3: 조경 | H3: 기계 | I3: 계 | L3: 기계+전기 | M3: 전기 | N3: 계 | P3: 건축(건+토+기+조) | W3: 전기 | X3: 통신 | Y3: 소방
A4: 순 공 사 원 가 | B4: 재료비 | C4: 직 접 재 료 비 | D4: =SUM(I4:M4)+O4 -> #REF! | E4: =#REF! -> #REF! | F4: =#REF! -> #REF! | G4: =#REF! -> #REF! | H4: =#REF! -> #REF! | I4: =SUM(E4:H4) -> #REF! | J4: =#REF! -> #REF! | K4: =#REF! -> #REF! | L4: =#REF! -> #REF! | M4: 0 | N4: =SUM(L4:M4) -> #REF!
C5: 간 접 재 료 비 | D5: =SUM(I5:M5)+O5 -> 0 | I5: =SUM(E5:H5) -> 0 | N5: =SUM(L5:M5) -> 0
C6: 작업설,부산물등 (△) | D6: =SUM(I6:M6)+O6 -> 0 | I6: =SUM(E6:H6) -> 0 | N6: =SUM(L6:M6) -> 0
C7: [ 소 계 ] | D7: =SUM(I7:M7)+O7 -> #REF! | E7: =SUM(E4:E6) -> #REF! | F7: =SUM(F4:F6) -> #REF! | G7: =SUM(G4:G6) -> #REF! | H7: =SUM(H4:H6) -> #REF! | I7: =SUM(E7:H7) -> #REF! | J7: =SUM(J4:J6) -> #REF! | K7: =SUM(K4:K6) -> #REF! | L7: =SUM(L4:L6) -> #REF! | M7: =SUM(M4:M6) -> 0 | N7: =SUM(L7:M7) -> #REF!
B8: 노무비 | C8: 직 접 노 무 비 | D8: =SUM(I8:M8)+O8 -> #REF! | E8: =#REF! -> #REF! | F8: =#REF! -> #REF! | G8: =#REF! -> #REF! | H8: =#REF! -> #REF! | I8: =SUM(E8:H8) -> #REF! | J8: =#REF! -> #REF! | K8: =#REF! -> #REF! | L8: =#REF! -> #REF! | M8: 0 | N8: =SUM(L8:M8) -> #REF!
C9: 간 접 노 무 비 | D9: =SUM(I9:M9)+O9 -> #REF! | E9: =TRUNC(E8*$R$9) -> #REF! | F9: =TRUNC(F8*$R$9) -> #REF! | G9: =TRUNC(G8*$R$9) -> #REF! | H9: =TRUNC(H8*$R$9) -> #REF! | I9: =SUM(E9:H9) -> #REF! | J9: =TRUNC(J8*$W$9) -> #REF! | K9: =TRUNC(K8*$X$9) -> #REF! | L9: =TRUNC(L8*$Y$9) -> #REF! | M9: =TRUNC(M8*$Z$9) -> 0 | N9: =SUM(L9:M9) -> #REF! | P9: 직접노무비 | Q9: × | R9: 0.152 | W9: 0.15 | X9: 0.15 | Y9: 0.152 | Z9: 0.154
C10: [ 소 계 ] | D10: =SUM(I10:M10)+O10 -> #REF! | E10: =SUM(E8:E9) -> #REF! | F10: =SUM(F8:F9) -> #REF! | G10: =SUM(G8:G9) -> #REF! | H10: =SUM(H8:H9) -> #REF! | I10: =SUM(E10:H10) -> #REF! | J10: =SUM(J8:J9) -> #REF! | K10: =SUM(K8:K9) -> #REF! | L10: =SUM(L8:L9) -> #REF! | M10: =SUM(M8:M9) -> 0 | N10: =SUM(L10:M10) -> #REF!
B11: 경 비 | C11: 기 계 경 비 | D11: =SUM(I11:M11)+O11 -> #REF! | E11: =#REF! -> #REF! | F11: =#REF! -> #REF! | G11: =#REF! -> #REF! | H11: =#REF! -> #REF! | I11: =SUM(E11:H11) -> #REF! | J11: =#REF! -> #REF! | K11: =#REF! -> #REF! | L11: =#REF! -> #REF! | M11: =#REF! -> #REF! | N11: =SUM(L11:M11) -> #REF! | O11: =#REF! -> #REF!
C12: 산 재 보 험 료 | D12: =SUM(I12:M12)+O12 -> #REF! | E12: =TRUNC(E10*$R$12) -> #REF! | F12: =TRUNC(F10*$R$12) -> #REF! | G12: =TRUNC(G10*$R$12) -> #REF! | H12: =TRUNC(H10*$R$12) -> #REF! | I12: =SUM(E12:H12) -> #REF! | J12: =TRUNC(J10*$R$12) -> #REF! | K12: =TRUNC(K10*$R$12) -> #REF! | L12: =TRUNC(L10*$R$12) -> #REF! | M12: =TRUNC(M10*$R$12) -> 0 | N12: =SUM(L12:M12) -> #REF! | P12: 노무비 | Q12: × | R12: 0.0356
C13: 고 용 보 험 료 | D13: =SUM(I13:M13)+O13 -> #REF! | E13: =TRUNC(E10*$R$13) -> #REF! | F13: =TRUNC(F10*$R$13) -> #REF! | G13: =TRUNC(G10*$R$13) -> #REF! | H13: =TRUNC(H10*$R$13) -> #REF! | I13: =SUM(E13:H13) -> #REF! | J13: =TRUNC(J10*$W$13) -> #REF! | K13: =TRUNC(K10*$X$13) -> #REF! | L13: =TRUNC(L10*$Y$13) -> #REF! | M13: =TRUNC(M10*$Y$13) -> 0 | N13: =SUM(L13:M13) -> #REF! | P13: 노무비 | Q13: × | R13: 0.0101 | W13: 0.0101 | X13: 0.0101 | Y13: 0.0101
C14: 국 민 건 강 보 험 료 | D14: =SUM(I14:M14)+O14 -> #REF! | E14: =TRUNC(E8*$R$14) -> #REF! | F14: =TRUNC(F8*$R$14) -> #REF! | G14: =TRUNC(G8*$R$14) -> #REF! | H14: =TRUNC(H8*$R$14) -> #REF! | I14: =SUM(E14:H14) -> #REF! | J14: =TRUNC(J8*W14) -> #REF! | K14: =TRUNC(K8*X14) -> #REF! | L14: =TRUNC(L8*$R$14) -> #REF! | M14: =TRUNC(M8*$R$14) -> 0 | N14: =SUM(L14:M14) -> #REF! | P14: 직접노무비 | Q14: × | R14: 0.03595 | W14: 0.03595 | X14: 0.03595
C15: 국 민 연 금 보 험 료 | D15: =SUM(I15:M15)+O15 -> #REF! | E15: =TRUNC(E8*$R$15) -> #REF! | F15: =TRUNC(F8*$R$15) -> #REF! | G15: =TRUNC(G8*$R$15) -> #REF! | H15: =TRUNC(H8*$R$15) -> #REF! | I15: =SUM(E15:H15) -> #REF! | J15: =TRUNC(J8*W15) -> #REF! | K15: =TRUNC(K8*X15) -> #REF! | L15: =TRUNC(L8*$R$15) -> #REF! | M15: =TRUNC(M8*$R$15) -> 0 | N15: =SUM(L15:M15) -> #REF! | P15: 직접노무비 | Q15: × | R15: 0.0475 | W15: 0.0475 | X15: 0.0475
C16: 노인장기요양보험료 | D16: =SUM(I16:M16)+O16 -> #REF! | E16: =TRUNC(E14*$R$16) -> #REF! | F16: =TRUNC(F14*$R$16) -> #REF! | G16: =TRUNC(G14*$R$16) -> #REF! | H16: =TRUNC(H14*$R$16) -> #REF! | I16: =SUM(E16:H16) -> #REF! | J16: =TRUNC(J14*W16) -> #REF! | K16: =TRUNC(K14*X16) -> #REF! | L16: =TRUNC(L14*$R$16) -> #REF! | M16: =TRUNC(M14*$R$16) -> 0 | N16: =SUM(L16:M16) -> #REF! | P16: 건강보험료 | Q16: × | R16: 0.1314 | W16: 0.1314 | X16: 0.1314
C17: 퇴 직 공 제 부 금 비 | D17: =SUM(I17:M17)+O17 -> #REF! | E17: =TRUNC(E8*$R$17) -> #REF! | F17: =TRUNC(F8*$R$17) -> #REF! | G17: =TRUNC(G8*$R$17) -> #REF! | H17: =TRUNC(H8*$R$17) -> #REF! | I17: =SUM(E17:H17) -> #REF! | J17: =TRUNC(J8*$W$17) -> #REF! | K17: =TRUNC(K8*$X$17) -> #REF! | L17: =TRUNC(L8*$Y$17) -> #REF! | M17: =TRUNC(M8*$Z$17) -> 0 | N17: =SUM(L17:M17) -> #REF! | P17: 직접노무비 | Q17: × | R17: 0.023 | W17: 0.023 | X17: 0.023 | Y17: 0.023 | Z17: 0.023
C18: 산업안전보건관리비 | D18: =SUM(I18:M18)+O18 -> #REF! | E18: =MIN(E90:E91) -> #REF! | F18: =MIN(F90:F91) -> #REF! | G18: =MIN(G90:G91) -> #REF! | H18: =MIN(H90:H91) -> #REF! | I18: =SUM(E18:H18) -> #REF! | J18: =MIN(J90:J91) -> #REF! | K18: =MIN(K90:K91) -> #REF! | L18: =MIN(L90:L91) -> #REF! | M18: =MIN(M90:M91) -> 0 | N18: =SUM(L18:M18) -> #REF! | P18: (재+직노) | Q18: × | R18: 0.0228 | S18: + | T18: 4325000 | U18: * | V18: 1.2 | W18: 0.0311 | X18: 0.0311 | Y18: 0.0311 | AA18: =I4+I8+I44 -> #REF!
C19: 안전관리비-1 (정기안전점검비) | D19: =SUM(I19:M19)+O19 -> #REF! | E19: =TRUNC((E7+E10+SUM(E11:E18)+SUM(E24:E28)+E44)*$R$19) -> #REF! | F19: =TRUNC((F7+F10+SUM(F11:F18)+SUM(F24:F28)+F44)*$R$19) -> #REF! | G19: =TRUNC((G7+G10+SUM(G11:G18)+SUM(G24:G28)+G44)*$R$19) -> #REF! | H19: =TRUNC((H7+H10+SUM(H11:H18)+SUM(H24:H28)+H44)*$R$19) -> #REF! | I19: =SUM(E19:H19) -> #REF! | P19: (순공사비+관급) | Q19: × | R19: 0 | T19: 연면적5,000 ㎡ 미만적용
C20: 안 전 관 리 비 | D20: =SUM(I20:M20)+O20 -> #REF! | E20: =#REF! -> #REF! | I20: =SUM(E20:H20) -> #REF!
C21: 품 질 관 리 비 | D21: =SUM(I21:M21)+O21 -> #REF! | E21: =#REF! -> #REF! | I21: =SUM(E21:H21) -> #REF! | N21: =SUM(L21:M21) -> 0
C22: 석 면 분 담 금 | D22: =SUM(I22:M22)+O22 -> #REF! | E22: =TRUNC(E10*$R$22) -> #REF! | F22: =TRUNC(F10*$R$22) -> #REF! | G22: =TRUNC(G10*$R$22) -> #REF! | H22: =TRUNC(H10*$R$22) -> #REF! | I22: =SUM(E22:H22) -> #REF! | P22: 노무비 | Q22: × | R22: 6e-05
C23: 임 금 채 권 부 담 금 | D23: =SUM(I23:M23)+O23 -> #REF! | E23: =TRUNC(E10*$R$23) -> #REF! | F23: =TRUNC(F10*$R$23) -> #REF! | G23: =TRUNC(G10*$R$23) -> #REF! | H23: =TRUNC(H10*$R$23) -> #REF! | I23: =SUM(E23:H23) -> #REF! | P23: 노무비 | Q23: × | R23: 0.0009
C24: 환 경 보 존 비 | D24: =SUM(I24:M24)+O24 -> #REF! | E24: =TRUNC((E4+E8+E11)*$R$24) -> #REF! | F24: =TRUNC((F4+F8+F11)*$R$24) -> #REF! | G24: =TRUNC((G4+G8+G11)*$R$24) -> #REF! | H24: =TRUNC((H4+H8+H11)*$R$24) -> #REF! | I24: =SUM(E24:H24) -> #REF! | J24: =TRUNC((J4+J8+J11)*$W$24) -> #REF! | K24: =TRUNC((K4+K8+K11)*$X$24) -> #REF! | L24: =TRUNC((L4+L8+L11)*$Y$24) -> #REF! | M24: =TRUNC((M4+M8+M11)*$Y$24) -> #REF! | N24: =SUM(L24:M24) -> #REF! | P24: (재+직노+기계경비) | Q24: × | R24: 0.005 | W24: 0 | X24: 0 | Y24: 0
C25: 기 타 경 비 | D25: =SUM(I25:M25)+O25 -> #REF! | E25: =TRUNC((E7+E10)*$R$25) -> #REF! | F25: =TRUNC((F7+F10)*$R$25) -> #REF! | G25: =TRUNC((G7+G10)*$R$25) -> #REF! | H25: =TRUNC((H7+H10)*$R$25) -> #REF! | I25: =SUM(E25:H25) -> #REF! | J25: =TRUNC((J7+J10)*$W$25) -> #REF! | K25: =TRUNC((K7+K10)*X25) -> #REF! | L25: =TRUNC((L7+L10)*$Y$25) -> #REF! | M25: =TRUNC((M7+M10)*$Z$25) -> 0 | N25: =SUM(L25:M25) -> #REF! | P25: (재료비+노무비) | Q25: × | R25: 0.047 | W25: 0.046 | X25: 0.046 | Y25: 0.047 | Z25: 0.05
C26: 하도급지급보증수수료 | D26: =SUM(I26:M26)+O26 -> #REF! | E26: =TRUNC((E4+E8+E11)*$R$26) -> #REF! | F26: =TRUNC((F4+F8+F11)*$R$26) -> #REF! | G26: =TRUNC((G4+G8+G11)*$R$26) -> #REF! | H26: =TRUNC((H4+H8+H11)*$R$26) -> #REF! | I26: =SUM(E26:H26) -> #REF! | J26: =TRUNC((J4+J8+J11)*$W$26) -> #REF! | K26: =TRUNC((K4+K8+K11)*$X$26) -> #REF! | L26: =TRUNC((L4+L8+L11)*$Y$26) -> #REF! | M26: =TRUNC((M4+M8+M11)*$Y$26) -> #REF! | N26: =SUM(L26:M26) -> #REF! | P26: (재+직노+기계경비) | Q26: × | R26: 0.0008 | W26: 0 | X26: 0 | Y26: 0
C27: 건설기계대여대금지급보증서발급수수료 | D27: =SUM(I27:M27)+O27 -> #REF! | E27: =TRUNC((E4+E8+E11)*$R$27) -> #REF! | F27: =TRUNC((F4+F8+F11)*$R$27) -> #REF! | G27: =TRUNC((G4+G8+G11)*$R$27) -> #REF! | H27: =TRUNC((H4+H8+H11)*$R$27) -> #REF! | I27: =SUM(E27:H27) -> #REF! | N27: =SUM(L27:M27) -> 0 | P27: (재+직노+기계경비) | Q27: × | R27: 0.0007
C28: 공사이행보증수수료 | D28: =SUM(I28:M28)+O28 -> #REF! | E28: =TRUNC((((E4+E8+E11-P28)*$R$28+$T$28))*$V$28) -> #REF! | F28: =TRUNC((((F4+F8+F11)*$R$28))*$V$28) -> #REF! | G28: =TRUNC((((G4+G8+G11)*$R$28))*$V$28) -> #REF! | H28: =TRUNC((((H4+H8+H11)*$R$28))*$V$28) -> #REF! | I28: =SUM(E28:H28) -> #REF! | J28: =TRUNC((((J4+J8+J11)*$W$28))*$V$28) -> #REF! | K28: =TRUNC((((K4+K8+K11)*$X$28))*$V$28) -> #REF! | L28: =TRUNC((((L4+L8+L11)*$Y$28))*$V$28) -> #REF! | M28: =TRUNC((((M4+M8+M11)*$Y$28))*$V$28) -> #REF! | N28: =SUM(L28:M28) -> #REF! | P28: 50000000000 | Q28: × | R28: 0 | S28: + | T28: 0 | U28: × | V28: 0 | W28: 0 | X28: 0 | Y28: 0
C29: [ 소 계 ] | D29: =SUM(I29:M29)+O29 -> #REF! | E29: =SUM(E11:E28) -> #REF! | F29: =SUM(F11:F28) -> #REF! | G29: =SUM(G11:G28) -> #REF! | H29: =SUM(H11:H28) -> #REF! | I29: =SUM(E29:H29) -> #REF! | J29: =SUM(J11:J28) -> #REF! | K29: =SUM(K11:K28) -> #REF! | L29: =SUM(L11:L28) -> #REF! | M29: =SUM(M11:M28) -> #REF! | N29: =SUM(L29:M29) -> #REF! | O29: =SUM(O11:O28) -> #REF!
B30: 계 | D30: =SUM(I30:M30)+O30 -> #REF! | E30: =E7+E10+E29 -> #REF! | F30: =F7+F10+F29 -> #REF! | G30: =G7+G10+G29 -> #REF! | H30: =H7+H10+H29 -> #REF! | I30: =SUM(E30:H30) -> #REF! | J30: =J7+J10+J29 -> #REF! | K30: =K7+K10+K29 -> #REF! | L30: =L7+L10+L29 -> #REF! | M30: =M7+M10+M29 -> #REF! | N30: =SUM(L30:M30) -> #REF! | O30: =O7+O10+O29 -> #REF!
A31: 일 반 관 리 비 | D31: =SUM(I31:M31)+O31 -> #REF! | E31: =TRUNC(E30*$R$31) -> #REF! | F31: =TRUNC(F30*$R$31) -> #REF! | G31: =TRUNC(G30*$R$31) -> #REF! | H31: =TRUNC(H30*$R$31) -> #REF! | I31: =SUM(E31:H31) -> #REF! | J31: =TRUNC(J30*$W$31) -> #REF! | K31: =TRUNC(K30*$X$31) -> #REF! | L31: =TRUNC(L30*$Y$31) -> #REF! | M31: =TRUNC(M30*$Y$31) -> #REF! | N31: =SUM(L31:M31) -> #REF! | P31: 계 | Q31: × | R31: 0.065 | W31: 0.08 | X31: 0.08 | Y31: 0.08
A32: 이 윤 | D32: =SUM(I32:M32)+O32 -> #REF! | E32: =TRUNC((E10+E29+E31)*$R$32) -> #REF! | F32: =TRUNC((F10+F29+F31)*$R$32) -> #REF! | G32: =TRUNC((G10+G29+G31)*$R$32) -> #REF! | H32: =TRUNC((H10+H29+H31)*$R$32) -> #REF! | I32: =SUM(E32:H32) -> #REF! | J32: =TRUNC((J10+J29+J31)*$W$32)-924/1.1 -> #REF! | K32: =TRUNC((K10+K29+K31)*$X$32)-308/1.1 -> #REF! | L32: =TRUNC((L10+L29+L31)*$Y$32)-678 -> #REF! | M32: =TRUNC((M10+M29+M31)*$Y$32) -> #REF! | N32: =SUM(L32:M32) -> #REF! | P32: (노무비+경비+일관) | Q32: × | R32: 0.12 | W32: 0.15 | X32: 0.15 | Y32: 0.15
A33: 신 축 폐 기 물 처 리 비 | E33: 0 | I33: =SUM(E33:H33) -> 0
A34: T . A . B | D34: =SUM(I34:M34)+O34 -> #REF! | H34: =#REF! -> #REF! | I34: =SUM(E34:H34) -> #REF! | L34: =#REF! -> #REF! | N34: =SUM(L34:M34) -> #REF!
A35: 각 종 인 증 비 | D35: =SUM(I35:M35)+O35 -> #REF! | E35: =#REF! -> #REF! | I35: =SUM(E35:H35) -> #REF!
A36: 시 공 상 세 도 작 성 비 | D36: =SUM(I36:M36)+O36 -> 0 | E36: 0 | I36: =SUM(E36:H36) -> 0
A37: 공 급 가 액 | D37: =SUM(I37:M37)+O37 -> #REF! | E37: =SUM(E30:E36) -> #REF! | F37: =SUM(F30:F36) -> #REF! | G37: =SUM(G30:G36) -> #REF! | H37: =SUM(H30:H36) -> #REF! | I37: =SUM(E37:H37) -> #REF! | J37: =SUM(J30:J35) -> #REF! | K37: =SUM(K30:K35) -> #REF! | L37: =SUM(L30:L35) -> #REF! | M37: =SUM(M30:M35) -> #REF! | N37: =SUM(L37:M37) -> #REF! | O37: =SUM(O30:O35) -> #REF!
A38: 공사손해 보험료(PS) | D38: =SUM(I38:M38)+O38 -> #REF! | E38: =TRUNC(E37*$R$38) -> #REF! | F38: =TRUNC(F37*$R$38) -> #REF! | G38: =TRUNC(G37*$R$38) -> #REF! | H38: =TRUNC(H37*$R$38) -> #REF! | I38: =SUM(E38:H38) -> #REF! | P38: (공급가액) | Q38: × | R38: 0
A39: 소방공사배상책임공제 | D39: =SUM(I39:M39)+O39 -> #REF! | I39: =SUM(E39:H39) -> 0 | J39: 0 | L39: =TRUNC((L37)*$R$39) -> #REF! | M39: =TRUNC((M37)*$R$39+(0+(0/1095))) -> #REF! | N39: =SUM(L39:M39)-93 -> #REF! | P39: 순계약금액*기본요율*[1+{3년(1,095일)초과일수/1,095}] | Q39: × | R39: 0.00364 | W39: 0.007
A40: 부 가 가 치 세 | D40: =SUM(I40:M40)+O40 -> #REF! | E40: =TRUNC((E37+E38+E39)*$R$40) -> #REF! | F40: =TRUNC((F37+F38+F39)*$R$40) -> #REF! | G40: =TRUNC((G37+G38+G39)*$R$40) -> #REF! | H40: =TRUNC((H37+H38+H39)*$R$40) -> #REF! | I40: =SUM(E40:H40) -> #REF! | J40: =TRUNC((J37+J38+J39)*$R$40) -> #REF! | K40: =TRUNC((K37+K38+K39)*$R$40) -> #REF! | L40: =TRUNC((L37+L38+L39)*$R$40) -> #REF! | M40: =TRUNC((M37+M38+M39)*$R$40) -> #REF! | N40: =SUM(L40:M40) -> #REF! | O40: =TRUNC((O37)*$R$40) -> #REF! | P40: (공급가액+공사손해보험료) | Q40: × | R40: 0.1
...

Sheet 건축원가계산서
A1: 공 사 원 가 계 산 서
A2: 공 사명 : | C2: 남대문시장 본동상가 개방화장실 환경개선공사 | G2: 一金:팔천일백오십일만육천오백구십원정 (₩81,516,590)
A3: 비 목 | D3: 금 액 | G3: 구 성 비 | N3: 비 고
D4: 건 축 | E4: 기 계 | F4: 합 계
A5: 순 공 사 원 가 | B5: 재 료 비 | C5: 직 접 재 료 비
C6: 간 접 재 료 비
C7: 작 업 설 , 부 산 물 등 (△)
C8: [ 소 계 ]
B9: 노무비 | C9: 직 접 노 무 비
C10: 간 접 노 무 비
C11: [ 소 계 ]
B12: 경 비 | C12: 운 반 비
C13: 산 출 경 비
C14: 산 재 보 험 료
C15: 고 용 보 험 료
C16: 건 강 보 험 료
C17: 연 금 보 험 료
C18: 노 인 장 기 요 양 보 험 료
C19: 퇴 직 공 제 부 금 비
C20: 산 업 안 전 보 건 관 리 비
C21: 건설안전관리비
C22: 품질관리활동비
C23: 석 면 분 담 금
C24: 임 금 채 권 부 담 금
... C30: [ 소 계 ]
A31: 계
A32: 일 반 관 리 비
A33: 이 윤
A34: 고용개선지원비(PS) (주휴수당)
A35: 폐 기 물 처 리 비
A36: 미확정설계공정(PS)
A37: 철 거 단 계 작 업 부 산 물
A38: T. A. B 공 사 비
A39: 공 급 가 액
A40: 부 가 가 치 세
A41: [ 도 급 액 ]
A42: 관급자재비 | C42: 도급자 설치
C43: 관급자 설치
C44: 소 계
A45: 시 설 분 담 금
...

Sheet 공종별집계표
A1: 공 종 별 집 계 표
A2: [ ▶남대문시장본동상가개방화장실환경개선공사 ]
A3: 품 명 | B3: 규 격 | C3: 단위 | D3: 수량 | E3: 재 료 비 | G3: 노 무 비 | I3: 경 비 | K3: 합 계 | M3: 비 고 | N3: 공종코드 | O3: 변수 | P3: 상위공종 | Q3: 공종구분 | R3: 공종레벨 | S3: 공종소계 | T3: 원가계산서 연결금액
E4: 단 가 | F4: 금 액 | G4: 단 가 | H4: 금 액 | I4: 단 가 | J4: 금 액 | K4: 단 가 | L4: 금 액
A5: 01 ▶남대문시장본동상가개방화장실환경개선공사 | D5: 1 | N5: 01 | R5: 1
A6: 0101 ■.건축공사 | D6: 1 | N6: 0101 | P6: 01 | R6: 2
A7: 010101 가설공사 | D7: 1 | N7: 010101 | P7: 0101 | R7: 3
A8: 010102 조적공사 | D8: 1 | N8: 010102 | P8: 0101 | R8: 3
A9: 010103 돌공사 | D9: 1 | N9: 010103 | P9: 0101 | R9: 3
A10: 010104 타일공사 | D10: 1 | N10: 010104 | P10: 0101 | R10: 3
A11: 010105 목공사및수장공사 | D11: 1 | N11: 010105 | P11: 0101 | R11: 3
A12: 010106 방수공사 | D12: 1 | N12: 010106 | P12: 0101 | R12: 3
A13: 010107 금속공사 | D13: 1 | N13: 010107 | P13: 0101 | R13: 3
A14: 010108 미장공사 | D14: 1 | N14: 010108 | P14: 0101 | R14: 3
A15: 010109 창호공사 | D15: 1 | N15: 010109 | P15: 0101 | R15: 3
A16: 010110 유리공사 | D16: 1 | N16: 010110 | P16: 0101 | R16: 3
A17: 010111 칠공사 | D17: 1 | N17: 010111 | P17: 0101 | R17: 3
... A20: 010114 골재및운반비 | D20: 1 | N20: 010114 | P20: 0101 | R20: 3
N21: 0102 | P21: 01 | R21: 2
N22: 010201 | P22: 0102 | R22: 3
A23: 0103 ■.작업부산물 | B23: 『 집계별도 』 | D23: 1 | N23: 0103 | Q23: 1 | R23: 2 | T23: =L23*1 -> 0
A24: 0104 ■.건설폐기물처리비 | B24: 『 집계별도 』 | D24: 1 | N24: 0104 | Q24: 5 | R24: 2 | T24: =L24*1 -> 0
A25: 0105 ■.관급자재비/관급자설치 | B25: 『 집계별도,부가세포함 』 | D25: 1 | N25: 0105 | Q25: 4 | R25: 2 | T25: =L25*1 -> 0
A29: [ 합 계 ]

Sheet 내역서
A1: [ ▶남대문시장본동상가개방화장실환경개선공사 ]
A2: 품 명 | B2: 규 격 | C2: 단위 | D2: 수량 | E2: 재 료 비 | G2: 노 무 비 | I2: 경 비 | K2: 합 계 | M2: 비 고 | N2: 품목코드 | O2: 변수 | P2: 설정 | Q2: 공종코드 | R2: 일위 | S2: 단산 | T2: 자재 | U2: 손료적용 | V2: 손료저장 | W2: 적용율 | X2: JUK1 | Y2: JUK2 | Z2: JUK3 | AA2: JUK4 | AB2: JUK5 | AC2: JUK6 | AD2: JUK7 | AE2: JUK8 | AF2: JUK9 | AG2: JUK10 | AH2: JUK11 | AI2: JUK12 | AJ2: JUK13 | AK2: JUK14 | AL2: JUK15 | AM2: JUK16 | AN2: JUK17 | AO2: JUK18 | AP2: JUK19 | AQ2: JUK20 | AR2: 자재구분 | AS2: 공종구분 | AT2: 공종레벨 | AU2: 공종+자재 | AV2: 고유번호
E3: 단 가 | F3: 금 액 | G3: 단 가 | H3: 금 액 | I3: 단 가 | J3: 금 액 | K3: 단 가 | L3: 금 액
A4: 010101 가설공사 | Q4: 010101
A5: 강관 조립말비계(이동식)설치 및 해체 | B5: 높이 2m, 3개월 | C5: 대 | D5: 1 | N5: 5FE124CB49ACF479DA1044CED69E5C | Q5: 010101 | R5: T | S5: F | T5: F | AU5: 0101015FE124CB49ACF479DA1044CED69E5C | AV5: 4
A6: 건축물 보양 - 타일 | B6: 하드롱지 | C6: M2 | D6: 29 | N6: 5FE124CE19FB3A963E1044ED45E190 | Q6: 010101 | R6: T | S6: F | T6: F | AU6: 0101015FE124CE19FB3A963E1044ED45E190 | AV6: 7
A7: 건축물현장정리 | B7: 보수,정리및청소 | C7: M2 | D7: 35 | N7: 5FE124CE19CF95C3A0104A1A185FF3 | Q7: 010101 | R7: T | S7: F | T7: F | AU7: 0101015FE124CE19CF95C3A0104A1A185FF3 | AV7: 5
Q8: 010101
Q9: 010101
Q10: 010101
Q11: 010101
Q12: 010101
Q13: 010101
Q14: 010101
Q15: 010101
Q16: 010101
Q17: 010101
Q18: 010101
Q19: 010101
... Q28: 010101
A29: [ 합 계 ] | N29: TOTAL
A30: 010102 조적공사 | Q30: 010102
A31: 콘크리트벽돌 | B31: 콘크리트벽돌, 190*57*90mm, 서울, C종2급 | C31: 매 | D31: 77 | N31: 58CA2489B9317A09D71049D71CC7BA8EDC2D73 | Q31: 010102 | R31: F | S31: F | T31: T | AU31: 01010258CA2489B9317A09D71049D71CC7BA8EDC2D73 | AV31: 9
A32: 0.5B 벽돌쌓기 | B32: 3.6m 이하, 시공량 25m2/일당 | C32: M2 | D32: 1 | N32: 5FE1547E698A55E6F11046FE57C806 | Q32: 010102 | R32: T | S32: F | T32: F | AU32: 0101025FE1547E698A55E6F11046FE57C806 | AV32: 10
A33: 벽돌운반 | B33: 인력, 지하 1층 | C33: 천매 | D33: 0.077 | N33: 5FE1547E69A533BBFE1049EAE719F5 | Q33: 010102 | R33: T | S33: F | T33: F | AU33: 0101025FE1547E69A533BBFE1049EAE719F5 | AV33: 11
Q34: 010102
Q35: 010102
Q36: 010102
Q37: 010102
Q38: 010102
Q39: 010102
Q40: 010102
Q41: 010102
Q42: 010102
Q43: 010102
Q44: 010102
Q45: 010102
... Q54: 010102
A55: [ 합 계 ] | N55: TOTAL
A56: 010103 돌공사 | Q56: 010103
...
