Workbook

Sheet 설계서
A1: 설 계 내 역 서
A4: 공 사 명 : 경수중학교 본관동 옥상 방수공사
A5: 총 공 사 비: | C5: ="一金 "&NUMBERSTRING(F5,1)&"원整" -> 一金 영원整 | F5: =G15 -> 0
A6: 도 급 금 액: | C6: ="一金 "&NUMBERSTRING(F6,1)&"원整" -> 一金 영원整 | F6: =E15 -> 0
A7: 관 급 금 액: | C7: ="一金 "&NUMBERSTRING(F7,1)&"원整" -> 一金 영원整 | F7: =F15 -> 0
A8: 공 사 내 용: | C8: 방수 공사 1식
A10: 공 종 명 | B10: 규 격 | C10: 수량 | D10: 단위 | E10: 도 급 금 액 | F10: 관 급 금 액 | G10: 합 계 | H10: 비 고
A11: 건축공사 | C11: 1 | D11: 식 | E11: ='원가 (건축)'!D39 -> 0 | G11: =SUM(E11:F11) -> 0
A15: 합 계 | E15: =SUM(E11:E14) -> 0 | G15: =E15+F15 -> 0

Sheet 원가  (건축)
A1: 공 사 원 가 계 산 서
A3: 공 사 명 : | C3: 경수중학교 본관동 옥상 방수공사
A4: 비 목 | D4: 금 액 | E4: 구 성 비 | F4: 비 고
A5: 순 공 사 원 가 | B5: 재료비 | C5: 직 접 재 료 비 | D5: =공종별집계표!F25 -> 0
C6: 간 접 재 료 비
C7: 작업설, 부산물( )
C8: [ 소 계 ] | D8: =D5+D6-D7 -> 0
B9: 노무비 | C9: 직 접 노 무 비 | D9: =공종별집계표!H25 -> 0
C10: 간 접 노 무 비 | D10: =D9*0.175 -> 0 | E10: 직접노무비 * 17.5%
C11: [ 소 계 ] | D11: =SUM(D9:D10) -> 0
B12: 경 비 | C12: 운 반 비 | D12: 0
C13: 기 계 경 비 | D13: =공종별집계표!J25 -> 0
C14: 산 재 보 험 료 | D14: =D11*0.0356 -> 0 | E14: 노무비 * 3.56%
C15: 고 용 보 험 료 | D15: =D11*0.0101 -> 0 | E15: 노무비 * 1.01%
C16: 건 강 보 험 료 | D16: =D9*0.03595*0 -> 0 | E16: 직접노무비 * 3.595%
C17: 연 금 보 험 료 | D17: =D9*0.0475*0 -> 0 | E17: 직접노무비 * 4.75%
C18: 퇴 직 공 제 부금비 | D18: =D9*2.3% -> 0 | E18: 직접노무비 * 2.3%
C19: 산업안전보건관리비 | D19: =(D8+D9+D40/1.1)*0.0311 -> 0 | E19: (재료비+직노무비+도급자관급/1.1) * 3.11%
C20: 기 타 경 비 | D20: =(D8+D11)*0.05 -> 0 | E20: (재료비+노무비) * 5%
C21: 환 경 보 전 비 | D21: =(D8+D9+D13)*0.3% -> 0 | E21: (재료비+직노무비+경비) * 0.3%
C22: 노인장기요양보험료 | D22: =D16*13.14% -> 0 | E22: (건강보험료) * 13.14%
C23: 석면분담금 | D23: =D11*0.006% -> 0 | E23: 노무비 * 0.006%
C24: 임금채권부담금 | D24: =D11*0.09% -> 0 | E24: 노무비 * 0.09%
C25: 건 설 하 도 급 대 금 | D25: =(D8+D9+D13)*0.081% -> 0 | E25: (재료비+직노+경비)*0.081%
C26: 지급보증서발급수수료
C27: 건설기계대여대금 | D27: =(D8+D9+D13)*0.1% -> 0 | E27: (재료비+직노+경비)*0.1%
C28: 지급보증서발급수수료
C29: [ 소 계 ] | D29: =(D12+D13+D14+D15+D16+D17+D18+D19+D20+D21+D22+D23+D24+D25+D26+D27+D28) -> 0
A30: 계 | D30: =(D8+D11+D29) -> 0
A31: 일 반 관 리 비 | D31: =D30*0.08 -> 0 | E31: 계 * 8%
A32: 이 윤 | D32: =(D11+D29+D31)*0.15 -> 0 | E32: (노무비+경비+일반관리비) * 15%
A33: 폐기물상차비 | D33: =공종별집계표!L13 -> 0
A34: 폐기물처리비 | D34: =공종별집계표!L14 -> 0
A35: 작업부산물 | D35: 0
A36: 특허(신기술)사용료
A37: 공 급 가 액
A38: 부 가 가 치 세 | E38: 공급가액의 10%
A39: 도 급 액
A40: 도급자관급자재비
A41: 관급자관급자재비
...

Sheet 공종별집계표
A1: 공 종 별 집 계 표
A2: [ 경수중학교 본관동 옥상 방수공사(건축) ]
A3: 품 명 | B3: 규 격 | C3: 단위 | D3: 수량 | E3: 재 료 비 | G3: 노 무 비 | I3: 경 비 | K3: 합 계 | M3: 비 고 | N3: 공종코드 | O3: 변수 | P3: 상위공종 | Q3: 공종구분 | R3: 공종레벨 | S3: 공종소계 | T3: 원가계산서 연결금액
E4: 단 가 | F4: 금 액 | G4: 단 가 | H4: 금 액 | I4: 단 가 | J4: 금 액 | K4: 단 가 | L4: 금 액
A5: 01 경수중학교 본관동 옥상 방수공사(건축) | D5: 1 | E5: =F6 -> 0 | F5: =E5*D5 -> 0 | G5: =H6 -> 0 | H5: =G5*D5 -> 0 | I5: =J6 -> 0 | J5: =I5*D5 -> 0 | K5: =E5+G5+I5 -> 0 | L5: =F5+H5+J5 -> 0 | N5: 01 | R5: 1
A6: 0101 ▶ 건 축 공 사 | D6: 1 | E6: =F7+F8+F9+F10+F11+F12 -> 0 | F6: =E6*D6 -> 0 | G6: =H7+H8+H9+H10+H11+H12 -> 0 | H6: =G6*D6 -> 0 | I6: =J7+J8+J9+J10+J11+J12 -> 0 | J6: =I6*D6 -> 0 | K6: =E6+G6+I6 -> 0 | L6: =F6+H6+J6 -> 0 | N6: 0101 | P6: 01 | R6: 2
A7: 010101 가 설 공 사 | D7: 1 | E7: =공종별내역서!F25 -> 0 | F7: =E7*D7 -> 0 | G7: =공종별내역서!H25 -> 0 | H7: =G7*D7 -> 0 | I7: =공종별내역서!J25 -> 0 | J7: =I7*D7 -> 0 | K7: =E7+G7+I7 -> 0 | L7: =F7+H7+J7 -> 0 | N7: 010101 | P7: 0101 | R7: 3
A8: 010102 방 수 공 사 | D8: 1 | E8: =공종별내역서!F47 -> 0 | F8: =E8*D8 -> 0 | G8: =공종별내역서!H47 -> 0 | H8: =G8*D8 -> 0 | I8: =공종별내역서!J47 -> 0 | J8: =I8*D8 -> 0 | K8: =E8+G8+I8 -> 0 | L8: =F8+H8+J8 -> 0 | N8: 010102 | P8: 0101 | R8: 3
A9: 010103 미 장 공 사 | D9: 1 | E9: =공종별내역서!F69 -> 0 | F9: =E9*D9 -> 0 | G9: =공종별내역서!H69 -> 0 | H9: =G9*D9 -> 0 | I9: =공종별내역서!J69 -> 0 | J9: =I9*D9 -> 0 | K9: =E9+G9+I9 -> 0 | L9: =F9+H9+J9 -> 0 | N9: 010103 | P9: 0101 | R9: 3
A10: 010104 기 타 공 사 | D10: 1 | E10: =공종별내역서!F91 -> 0 | F10: =E10*D10 -> 0 | G10: =공종별내역서!H91 -> 0 | H10: =G10*D10 -> 0 | I10: =공종별내역서!J91 -> 0 | J10: =I10*D10 -> 0 | K10: =E10+G10+I10 -> 0 | L10: =F10+H10+J10 -> 0 | N10: 010104 | P10: 0101 | R10: 3
A11: 010105 철 거 공 사 | D11: 1 | E11: =공종별내역서!F113 -> 0 | F11: =E11*D11 -> 0 | G11: =공종별내역서!H113 -> 0 | H11: =G11*D11 -> 0 | I11: =공종별내역서!J113 -> 0 | J11: =I11*D11 -> 0 | K11: =E11+G11+I11 -> 0 | L11: =F11+H11+J11 -> 0 | N11: 010105 | P11: 0101 | R11: 3
A12: 010106 골 재 비 | D12: 1 | E12: =공종별내역서!F135 -> 0 | F12: =E12*D12 -> 0 | G12: =공종별내역서!H135 -> 0 | H12: =G12*D12 -> 0 | I12: =공종별내역서!J135 -> 0 | J12: =I12*D12 -> 0 | K12: =E12+G12+I12 -> 0 | L12: =F12+H12+J12 -> 0 | N12: 010106 | P12: 0101 | R12: 3
A13: 010107 ◈ 폐기물 상차비 | D13: 1 | E13: =공종별내역서!F157 -> 0 | F13: =E13*D13 -> 0 | G13: =공종별내역서!H157 -> 0 | H13: =G13*D13 -> 0 | I13: =공종별내역서!J157 -> 0 | J13: =I13*D13 -> 0 | K13: =E13+G13+I13 -> 0 | L13: =F13+H13+J13 -> 0 | N13: 010107 | Q13: 6 | R13: 3 | T13: =L13*1 -> 0
A14: 010108 ◈ 폐기물 처리비 | D14: 1 | E14: =공종별내역서!F179 -> 0 | F14: =E14*D14 -> 0 | G14: =공종별내역서!H179 -> 0 | H14: =G14*D14 -> 0 | I14: =공종별내역서!J179 -> 0 | J14: =I14*D14 -> 0 | K14: =E14+G14+I14 -> 0 | L14: =F14+H14+J14 -> 0 | N14: 010108 | Q14: 6 | R14: 3 | T14: =L14*1 -> 0
A25: [ 합 계 ] | F25: =F5 -> 0 | H25: =H5 -> 0 | J25: =J5 -> 0 | L25: =L5 -> 0

Sheet 공종별내역서
A1: [ 경수중학교 본관동 옥상 방수공사(건축) ]
A2: 품 명 | B2: 규 격 | C2: 단위 | D2: 수량 | E2: 재 료 비 | G2: 노 무 비 | I2: 경 비 | K2: 합 계 | M2: 비 고 | N2: 품목코드 | O2: 변수 | P2: 설정 | Q2: 공종코드 | R2: 일위 | S2: 단산 | T2: 자재 | U2: 손료적용 | V2: 손료저장 | W2: 적용율 | X2: JUK1 | Y2: JUK2 | Z2: JUK3 | AA2: JUK4 | AB2: JUK5 | AC2: JUK6 | AD2: JUK7 | AE2: JUK8 | AF2: JUK9 | AG2: JUK10 | AH2: JUK11 | AI2: JUK12 | AJ2: JUK13 | AK2: JUK14 | AL2: JUK15 | AM2: JUK16 | AN2: JUK17 | AO2: JUK18 | AP2: JUK19 | AQ2: JUK20 | AR2: 자재구분 | AS2: 공종구분 | AT2: 공종레벨 | AU2: 공종+자재 | AV2: 고유번호
E3: 단 가 | F3: 금 액 | G3: 단 가 | H3: 금 액 | I3: 단 가 | J3: 금 액 | K3: 단 가 | L3: 금 액
A4: 010101 가 설 공 사 | Q4: 010101
A5: 건축물 현장정리 | B5: 공사중 옥내외 청소 + 정리 | C5: M2 | D5: 1175 | F5: =TRUNC(E5*D5,0) -> 0 | H5: =TRUNC(G5*D5,0) -> 0 | J5: =TRUNC(I5*D5,0) -> 0 | K5: =TRUNC(E5+G5+I5,0) -> 0 | L5: =TRUNC(F5+H5+J5,0) -> 0 | N5: 5D3113837AD806D370753DB02814CF | Q5: 010101 | R5: T | S5: F | T5: F | AU5: 0101015D3113837AD806D370753DB02814CF | AV5: 4
A6: 준공 청소 | B6: 준공시 시공으로 인한 오염물질 제거 / (마감재,창호,유리 등) | C6: M2 | D6: 1175 | F6: =TRUNC(E6*D6,0) -> 0 | H6: =TRUNC(G6*D6,0) -> 0 | J6: =TRUNC(I6*D6,0) -> 0 | K6: =TRUNC(E6+G6+I6,0) -> 0 | L6: =TRUNC(F6+H6+J6,0) -> 0 | N6: 5D3113837AD806D370753DB02865C7 | Q6: 010101 | R6: T | S6: F | T6: F | AU6: 0101015D3113837AD806D370753DB02865C7 | AV6: 5
A7: 크레인 | B7: 20ton | C7: HR | D7: 24 | F7: =TRUNC(E7*D7,0) -> 0 | H7: =TRUNC(G7*D7,0) -> 0 | J7: =TRUNC(I7*D7,0) -> 0 | K7: =TRUNC(E7+G7+I7,0) -> 0 | L7: =TRUNC(F7+H7+J7,0) -> 0 | N7: 5A215318754BCDD3247D0E512818F763E5A20159 | Q7: 010101 | R7: T | S7: F | T7: F | AU7: 0101015A215318754BCDD3247D0E512818F763E5A20159 | AV7: 6
Q8: 010101
Q9: 010101
Q10: 010101
Q11: 010101
Q12: 010101
Q13: 010101
Q14: 010101
Q15: 010101
Q16: 010101
Q17: 010101
Q18: 010101
Q19: 010101
... Q24: 010101
A25: [ 합 계 ] | F25: =SUMIF(Q5:Q24,"010101",F5:F24) -> 0 | H25: =SUMIF(Q5:Q24,"010101",H5:H24) -> 0 | J25: =SUMIF(Q5:Q24,"010101",J5:J24) -> 0 | L25: =SUMIF(Q5:Q24,"010101",L5:L24) -> 0 | N25: TOTAL
A26: 010102 방 수 공 사 | Q26: 010102
A27: 복합 방수 | B27: 바닥, 노출 | C27: M2 | D27: 1175 | F27: =TRUNC(E27*D27,0) -> 0 | H27: =TRUNC(G27*D27,0) -> 0 | J27: =TRUNC(I27*D27,0) -> 0 | K27: =TRUNC(E27+G27+I27,0) -> 0 | L27: =TRUNC(F27+H27+J27,0) -> 0 | N27: 5C2AF3067E697DE31D79179D38969A3A5E3937 | Q27: 010102 | R27: F | S27: F | T27: T | AU27: 0101025C2AF3067E697DE31D79179D38969A3A5E3937 | AV27: 310
A28: 복합 방수 | B28: 벽체, 노출 | C28: M2 | D28: 368 | F28: =TRUNC(E28*D28,0) -> 0 | H28: =TRUNC(G28*D28,0) -> 0 | J28: =TRUNC(I28*D28,0) -> 0 | K28: =TRUNC(E28+G28+I28,0) -> 0 | L28: =TRUNC(F28+H28+J28,0) -> 0 | N28: 5C2AF3067E697DE31D79179D38969A3A5E3934 | Q28: 010102 | R28: F | S28: F | T28: T | AU28: 0101025C2AF3067E697DE31D79179D38969A3A5E3934 | AV28: 311
A29: 탈기 장치 | C29: SET | D29: 12 | F29: =TRUNC(E29*D29,0) -> 0 | H29: =TRUNC(G29*D29,0) -> 0 | J29: =TRUNC(I29*D29,0) -> 0 | K29: =TRUNC(E29+G29+I29,0) -> 0 | L29: =TRUNC(F29+H29+J29,0) -> 0 | N29: 5D31835574638E73AD70C013D8C7A8 | Q29: 010102 | R29: T | S29: F | T29: F | AU29: 0101025D31835574638E73AD70C013D8C7A8 | AV29: 312
Q30: 010102
Q31: 010102
Q32: 010102
Q33: 010102
Q34: 010102
Q35: 010102
Q36: 010102
Q37: 010102
Q38: 010102
Q39: 010102
Q40: 010102
Q41: 010102
... Q46: 010102
A47: [ 합 계 ] | F47: =SUMIF(Q27:Q46,"010102",F27:F46) -> 0 | H47: =SUMIF(Q27:Q46,"010102",H27:H46) -> 0 | J47: =SUMIF(Q27:Q46,"010102",J27:J46) -> 0 | L47: =SUMIF(Q27:Q46,"010102",L27:L46) -> 0 | N47: TOTAL
A48: 010103 미 장 공 사 | Q48: 010103
...

Sheet Sheet1
