Workbook

Sheet 원가계산서
B1: 공 사 원 가 계 산 서
B2: 공사명 : 삽교중학교 외 1교(삽교초) 냉난방개선 기계설비공사
B3: 비 목 | E3: 금 액 | F3: 구 성 비 | G3: 비 고
A4: A1 | B4: 순 공 사 원 가 | C4: 재 료 비 | D4: 직 접 재 료 비 | E4: =TRUNC(공종별집계표!F5, 0) -> 0
A5: A2 | D5: 간 접 재 료 비 | E5: 0
A6: A3 | D6: 작업설, 부산물(△) | E6: 0
A7: AS | D7: [ 소 계 ] | E7: =TRUNC(E4+E5-E6, 0) -> 0
A8: B1 | C8: 노 무 비 | D8: 직 접 노 무 비 | E8: =TRUNC(공종별집계표!H5, 0) -> 0
A9: B2 | D9: 간 접 노 무 비 | E9: =TRUNC(E8*0.175, 0) -> 0 | F9: 직접노무비 * 17.5%
A10: BS | D10: [ 소 계 ] | E10: =TRUNC(E8+E9, 0) -> 0
A11: C2 | C11: 경 비 | D11: 경 비 | E11: =TRUNC(공종별집계표!J5, 0) -> 0
A12: C4 | D12: 산 재 보 험 료 | E12: =TRUNC(E10*0.0356, 0) -> 0 | F12: 노무비 * 3.56%
A13: C5 | D13: 고 용 보 험 료 | E13: =TRUNC(E10*0.0101, 0) -> 0 | F13: 노무비 * 1.01%
A14: C6 | D14: 국민 건강 보험료 | E14: =TRUNC(E8*0.03595, 0) -> 0 | F14: 직접노무비 * 3.595%
A15: C7 | D15: 국민 연금 보험료 | E15: =TRUNC(E8*0.0475, 0) -> 0 | F15: 직접노무비 * 4.75%
A16: CA | D16: 산업안전보건관리비 | E16: =TRUNC((E7+E8)*0.0311, 0) -> 0 | F16: (재료비+직노) * 3.11%
A17: CB | D17: 노인장기요양보험료 | E17: =TRUNC(E14*0.1314, 0) -> 0 | F17: 건강보험료 * 13.14%
A18: CF | D18: 폐기물처리비 | E18: =TRUNC(공종별집계표!T10, 0) -> 0
A19: CG | D19: 기 타 경 비 | E19: =TRUNC((E7+E10)*0.05, 0) -> 0 | F19: (재료비+노무비) * 5%
A20: CH | D20: 환 경 보 전 비 | E20: =TRUNC((E7+E8+E11)*0.003, 0) -> 0 | F20: (재료비+직노+경비) * 0.3%
A21: CL | D21: 건설기계대여금지급보증서발급수수료 | E21: =TRUNC((E7+E8+E11)*0.001, 0) -> 0 | F21: (재료비+직노+경비) * 0.1%
A22: CM | D22: 석 면 분 담 금 | E22: =TRUNC(E10*0.00006, 0) -> 0 | F22: 노무비 * 0.006%
A23: CN | D23: 임 금 채 권 부 담 금 | E23: =TRUNC(E10*0.0009, 0) -> 0 | F23: 노무비 * 0.09%
A24: CS | D24: [ 소 계 ] | E24: =TRUNC(E11+E12+E13+E14+E15+E16+E17+E18+E19+E20+E21+E22+E23, 0) -> 0
A25: S1 | B25: 계 | E25: =TRUNC(E7+E10+E24, 0) -> 0
A26: D1 | B26: 일 반 관 리 비 | E26: =TRUNC(E25*0.08, 0) -> 0 | F26: 계 * 8%
A27: D2 | B27: 이 윤 | E27: =TRUNC((E10+E24+E26)*0.15/1.1, 0) -> 0 | F27: (노무비+경비+일반관리비) * 15%
A28: D4 | B28: 작 업 부 산 물 | E28: =TRUNC(공종별집계표!T9+공종별집계표!T13, 0) -> 0
A29: D9 | B29: 공 급 가 액 | E29: =TRUNC(E25+E26+E27+E28, 0) -> 0
A30: DB | B30: 부 가 가 치 세 | E30: =TRUNC(E29*0.1, 0) -> 0 | F30: 공급가액 * 10%
A31: DH | B31: 도 급 액 | E31: =TRUNC(E29+E30, 0) -> 0
A32: S2 | B32: 총 공 사 비 | E32: =TRUNC(E31+0, 0) -> 0

Sheet 공종별집계표
A1: 공 종 별 집 계 표
A2: [ 삽교중학교 외 1교(삽교초) 냉난방개선 기계설비공사 ]
A3: 품 명 | B3: 규 격 | C3: 단위 | D3: 수량 | E3: 재 료 비 | G3: 노 무 비 | I3: 경 비 | K3: 합 계 | M3: 비 고 | N3: 공종코드 | O3: 변수 | P3: 상위공종 | Q3: 공종구분 | R3: 공종레벨 | S3: 공종소계 | T3: 원가계산서 연결금액
E4: 단 가 | F4: 금 액 | G4: 단 가 | H4: 금 액 | I4: 단 가 | J4: 금 액 | K4: 단 가 | L4: 금 액
A5: 01 삽교중외1교(삽교초)냉난방개선 기계설비공사 | D5: 1 | E5: =F6+F11 -> 0 | F5: =E5*D5 -> 0 | G5: =H6+H11 -> 0 | H5: =G5*D5 -> 0 | I5: =J6+J11 -> 0 | J5: =I5*D5 -> 0 | K5: =E5+G5+I5 -> 0 | L5: =F5+H5+J5 -> 0 | N5: 01 | R5: 1
A6: 0101 삽교중학교 냉난방개선공사 | D6: 1 | E6: =F7+F8 -> 0 | F6: =E6*D6 -> 0 | G6: =H7+H8 -> 0 | H6: =G6*D6 -> 0 | I6: =J7+J8 -> 0 | J6: =I6*D6 -> 0 | K6: =E6+G6+I6 -> 0 | L6: =F6+H6+J6 -> 0 | N6: 0101 | P6: 01 | R6: 2
A7: 010101 냉난방부대공사(삽교중) | D7: 1 | E7: =공종별내역서!F27 -> 0 | F7: =E7*D7 -> 0 | G7: =공종별내역서!H27 -> 0 | H7: =G7*D7 -> 0 | I7: =공종별내역서!J27 -> 0 | J7: =I7*D7 -> 0 | K7: =E7+G7+I7 -> 0 | L7: =F7+H7+J7 -> 0 | N7: 010101 | P7: 0101 | R7: 3
A8: 010102 냉매회수(삽교중) | D8: 1 | E8: =공종별내역서!F51 -> 0 | F8: =E8*D8 -> 0 | G8: =공종별내역서!H51 -> 0 | H8: =G8*D8 -> 0 | I8: =공종별내역서!J51 -> 0 | J8: =I8*D8 -> 0 | K8: =E8+G8+I8 -> 0 | L8: =F8+H8+J8 -> 0 | N8: 010102 | P8: 0101 | R8: 3
A9: 010103 작업부산물(삽교중) | D9: 1 | E9: =공종별내역서!F75 -> 0 | F9: =E9*D9 -> 0 | G9: =공종별내역서!H75 -> 0 | H9: =G9*D9 -> 0 | I9: =공종별내역서!J75 -> 0 | J9: =I9*D9 -> 0 | K9: =E9+G9+I9 -> 0 | L9: =F9+H9+J9 -> 0 | N9: 010103 | Q9: 1 | R9: 3 | T9: =L9*1 -> 0
A10: 010104 폐기물처리비(삽교중) | D10: 1 | E10: =공종별내역서!F99 -> 0 | F10: =E10*D10 -> 0 | G10: =공종별내역서!H99 -> 0 | H10: =G10*D10 -> 0 | I10: =공종별내역서!J99 -> 0 | J10: =I10*D10 -> 0 | K10: =E10+G10+I10 -> 0 | L10: =F10+H10+J10 -> 0 | N10: 010104 | Q10: 6 | R10: 3 | T10: =L10*1 -> 0
A11: 0102 삽교초등학교 냉난방개선공사 | D11: 1 | E11: =F12 -> 0 | F11: =E11*D11 -> 0 | G11: =H12 -> 0 | H11: =G11*D11 -> 0 | I11: =J12 -> 0 | J11: =I11*D11 -> 0 | K11: =E11+G11+I11 -> 0 | L11: =F11+H11+J11 -> 0 | N11: 0102 | P11: 01 | R11: 2
A12: 010201 냉난방부대공사(삽교초) | D12: 1 | E12: =공종별내역서!F123 -> 0 | F12: =E12*D12 -> 0 | G12: =공종별내역서!H123 -> 0 | H12: =G12*D12 -> 0 | I12: =공종별내역서!J123 -> 0 | J12: =I12*D12 -> 0 | K12: =E12+G12+I12 -> 0 | L12: =F12+H12+J12 -> 0 | N12: 010201 | P12: 0102 | R12: 3
A13: 010202 작업부산물(삽교초) | D13: 1 | E13: =공종별내역서!F147 -> 0 | F13: =E13*D13 -> 0 | G13: =공종별내역서!H147 -> 0 | H13: =G13*D13 -> 0 | I13: =공종별내역서!J147 -> 0 | J13: =I13*D13 -> 0 | K13: =E13+G13+I13 -> 0 | L13: =F13+H13+J13 -> 0 | N13: 010202 | Q13: 1 | R13: 3 | T13: =L13*1 -> 0
A27: [ 합 계 ] | F27: =F5 -> 0 | H27: =H5 -> 0 | J27: =J5 -> 0 | L27: =L5 -> 0

Sheet 공종별내역서
A1: [ 삽교중학교 외 1교(삽교초) 냉난방개선 기계설비공사 ]
A2: 품 명 | B2: 규 격 | C2: 단위 | D2: 수량 | E2: 재 료 비 | G2: 노 무 비 | I2: 경 비 | K2: 합 계 | M2: 비 고 | N2: 품목코드 | O2: 변수 | P2: 설정 | Q2: 공종코드 | R2: 일위 | S2: 단산 | T2: 자재 | U2: 손료적용 | V2: 손료저장 | W2: 적용율 | X2: JUK1 | Y2: JUK2 | Z2: JUK3 | AA2: JUK4 | AB2: JUK5 | AC2: JUK6 | AD2: JUK7 | AE2: JUK8 | AF2: JUK9 | AG2: JUK10 | AH2: JUK11 | AI2: JUK12 | AJ2: JUK13 | AK2: JUK14 | AL2: JUK15 | AM2: JUK16 | AN2: JUK17 | AO2: JUK18 | AP2: JUK19 | AQ2: JUK20 | AR2: 자재구분 | AS2: 공종구분 | AT2: 공종레벨 | AU2: 공종+자재 | AV2: 고유번호
E3: 단 가 | F3: 금 액 | G3: 단 가 | H3: 금 액 | I3: 단 가 | J3: 금 액 | K3: 단 가 | L3: 금 액
A4: 010101 냉난방부대공사(삽교중) | Q4: 010101
A5: 천장형냉난방기 철거(싱글형) | B5: 실외기포함 | C5: 대 | D5: 35 | F5: =TRUNC(E5*D5, 0) -> 0 | H5: =TRUNC(G5*D5, 0) -> 0 | J5: =TRUNC(I5*D5, 0) -> 0 | K5: =TRUNC(E5+G5+I5, 0) -> 0 | L5: =TRUNC(F5+H5+J5, 0) -> 0 | M5: 호표 1 | N5: 46B392D1F97CD86B0D14552AF5787 | Q5: 010101 | R5: T | S5: F | T5: F | AU5: 01010146B392D1F97CD86B0D14552AF5787 | AV5: 9
A6: PAC에어컨 철거(벽걸이,스탠트형) | B6: 11KW이하(실외기포함) | C6: 대 | D6: 2 | F6: =TRUNC(E6*D6, 0) -> 0 | H6: =TRUNC(G6*D6, 0) -> 0 | J6: =TRUNC(I6*D6, 0) -> 0 | K6: =TRUNC(E6+G6+I6, 0) -> 0 | L6: =TRUNC(F6+H6+J6, 0) -> 0 | M6: 호표 2 | N6: 46B392D1F97CD86B0D14552AF5785 | Q6: 010101 | R6: T | S6: F | T6: F | AU6: 01010146B392D1F97CD86B0D14552AF5785 | AV6: 10
A7: PAC에어컨 철거(학교지정장소반납) | B7: 11KW이하(실외기포함) | C7: 대 | D7: 3 | F7: =TRUNC(E7*D7, 0) -> 0 | H7: =TRUNC(G7*D7, 0) -> 0 | J7: =TRUNC(I7*D7, 0) -> 0 | K7: =TRUNC(E7+G7+I7, 0) -> 0 | L7: =TRUNC(F7+H7+J7, 0) -> 0 | M7: 호표 3 | N7: 46B392D1F97CD86B0D14552AF47F7 | Q7: 010101 | R7: T | S7: F | T7: F | AU7: 01010146B392D1F97CD86B0D14552AF47F7 | AV7: 11
A8: PAC에어컨 철거(중대형) | B8: 30KW이하(실외기별도) | C8: 대 | D8: 3 | F8: =TRUNC(E8*D8, 0) -> 0 | H8: =TRUNC(G8*D8, 0) -> 0 | J8: =TRUNC(I8*D8, 0) -> 0 | K8: =TRUNC(E8+G8+I8, 0) -> 0 | L8: =TRUNC(F8+H8+J8, 0) -> 0 | M8: 호표 4 | N8: 46B392D1F97CD86B0D14552AF5784 | Q8: 010101 | R8: T | S8: F | T8: F | AU8: 01010146B392D1F97CD86B0D14552AF5784 | AV8: 12
A9: 냉난방기 실외기철거(싱글형) | B9: 실외기 | C9: 대 | D9: 6 | F9: =TRUNC(E9*D9, 0) -> 0 | H9: =TRUNC(G9*D9, 0) -> 0 | J9: =TRUNC(I9*D9, 0) -> 0 | K9: =TRUNC(E9+G9+I9, 0) -> 0 | L9: =TRUNC(F9+H9+J9, 0) -> 0 | M9: 호표 5 | N9: 46B392D1F97CD86B0D14552AF2732 | Q9: 010101 | R9: T | S9: F | T9: F | AU9: 01010146B392D1F97CD86B0D14552AF2732 | AV9: 13
A10: PAC에어컨 이전설치(벽걸이,스탠트형) | B10: 11KW이하-실외기포함(추가배관별도) | C10: 대 | D10: 1 | F10: =TRUNC(E10*D10, 0) -> 0 | H10: =TRUNC(G10*D10, 0) -> 0 | J10: =TRUNC(I10*D10, 0) -> 0 | K10: =TRUNC(E10+G10+I10, 0) -> 0 | L10: =TRUNC(F10+H10+J10, 0) -> 0 | M10: 호표 6 | N10: 46B392D1F97CD86B0D14552AF5780 | Q10: 010101 | R10: T | S10: F | T10: F | AU10: 01010146B392D1F97CD86B0D14552AF5780 | AV10: 14
A11: PAC에어컨 이전설치(중대형) | B11: 30KW이하-실외기별도(추가배관별도) | C11: 대 | D11: 1 | F11: =TRUNC(E11*D11, 0) -> 0 | H11: =TRUNC(G11*D11, 0) -> 0 | J11: =TRUNC(I11*D11, 0) -> 0 | K11: =TRUNC(E11+G11+I11, 0) -> 0 | L11: =TRUNC(F11+H11+J11, 0) -> 0 | M11: 호표 7 | N11: 46B392D1F97CD86B0D14552AF5783 | Q11: 010101 | R11: T | S11: F | T11: F | AU11: 01010146B392D1F97CD86B0D14552AF5783 | AV11: 15
A12: 진공및냉매충전(싱글형) | B12: 벽걸이.스탠드.천장형 | C12: 대 | D12: 2 | F12: =TRUNC(E12*D12, 0) -> 0 | H12: =TRUNC(G12*D12, 0) -> 0 | J12: =TRUNC(I12*D12, 0) -> 0 | K12: =TRUNC(E12+G12+I12, 0) -> 0 | L12: =TRUNC(F12+H12+J12, 0) -> 0 | M12: 호표 8 | N12: 46B392D1F97CD86B0D14552AF172B | Q12: 010101 | R12: T | S12: F | T12: F | AU12: 01010146B392D1F97CD86B0D14552AF172B | AV12: 16
A13: 냉매배관및보온재철거 | B13: D12.7~D15.88 | C13: M | D13: 608 | F13: =TRUNC(E13*D13, 0) -> 0 | H13: =TRUNC(G13*D13, 0) -> 0 | J13: =TRUNC(I13*D13, 0) -> 0 | K13: =TRUNC(E13+G13+I13, 0) -> 0 | L13: =TRUNC(F13+H13+J13, 0) -> 0 | M13: 호표 9 | N13: 46B392D1F97CD86B0D14552AF47FE | Q13: 010101 | R13: T | S13: F | T13: F | AU13: 01010146B392D1F97CD86B0D14552AF47FE | AV13: 17
A14: 냉매드레인배관 철거 | B14: D32 | C14: M | D14: 186 | F14: =TRUNC(E14*D14, 0) -> 0 | H14: =TRUNC(G14*D14, 0) -> 0 | J14: =TRUNC(I14*D14, 0) -> 0 | K14: =TRUNC(E14+G14+I14, 0) -> 0 | L14: =TRUNC(F14+H14+J14, 0) -> 0 | M14: 호표 10 | N14: 46B392D1F97CD86B0D14552AF47FB | Q14: 010101 | R14: T | S14: F | T14: F | AU14: 01010146B392D1F97CD86B0D14552AF47FB | AV14: 18
A15: 구멍뚫기(코어드릴) | B15: D75, 콘크리트 150mm, 벽 | C15: 개소 | D15: 2 | F15: =TRUNC(E15*D15, 0) -> 0 | H15: =TRUNC(G15*D15, 0) -> 0 | J15: =TRUNC(I15*D15, 0) -> 0 | K15: =TRUNC(E15+G15+I15, 0) -> 0 | L15: =TRUNC(F15+H15+J15, 0) -> 0 | M15: 호표 11 | N15: 46B39D3FBE5898A41E02E59419719 | Q15: 010101 | R15: T | S15: F | T15: F | AU15: 01010146B39D3FBE5898A41E02E59419719 | AV15: 19
A16: 구멍뚫기(코어드릴) | B16: D100, 콘크리트 150mm, 벽 | C16: 개소 | D16: 4 | F16: =TRUNC(E16*D16, 0) -> 0 | H16: =TRUNC(G16*D16, 0) -> 0 | J16: =TRUNC(I16*D16, 0) -> 0 | K16: =TRUNC(E16+G16+I16, 0) -> 0 | L16: =TRUNC(F16+H16+J16, 0) -> 0 | M16: 호표 12 | N16: 46B39D3CEAF3F813C018C579067FA | Q16: 010101 | R16: T | S16: F | T16: F | AU16: 01010146B39D3CEAF3F813C018C579067FA | AV16: 20
A17: 실내기 커버철거(석면철거전) | C17: 대 | D17: 34 | F17: =TRUNC(E17*D17, 0) -> 0 | H17: =TRUNC(G17*D17, 0) -> 0 | J17: =TRUNC(I17*D17, 0) -> 0 | K17: =TRUNC(E17+G17+I17, 0) -> 0 | L17: =TRUNC(F17+H17+J17, 0) -> 0 | M17: 호표 13 | N17: 4630905FDB98D8B8DB9D95E5FC73D | Q17: 010101 | R17: T | S17: F | T17: F | AU17: 0101014630905FDB98D8B8DB9D95E5FC73D | AV17: 21
A18: MDF 철거(벽) | B18: 해체재 재사용 안 함 | C18: M2 | D18: 39.6 | F18: =TRUNC(E18*D18, 0) -> 0 | H18: =TRUNC(G18*D18, 0) -> 0 | J18: =TRUNC(I18*D18, 0) -> 0 | K18: =TRUNC(E18+G18+I18, 0) -> 0 | L18: =TRUNC(F18+H18+J18, 0) -> 0 | M18: 호표 14 | N18: 46789DCE189438586CC5C511EC787 | Q18: 010101 | R18: T | S18: F | T18: F | AU18: 01010146789DCE189438586CC5C511EC787 | AV18: 22
A19: 자동확산소화기(STL) | B19: 3.0KG | C19: 개 | D19: 6 | F19: =TRUNC(E19*D19, 0) -> 0 | H19: =TRUNC(G19*D19, 0) -> 0 | J19: =TRUNC(I19*D19, 0) -> 0 | K19: =TRUNC(E19+G19+I19, 0) -> 0 | L19: =TRUNC(F19+H19+J19, 0) -> 0 | M19: 호표 15 | N19: 46B39CDD0017A81DCE99C5822470F | Q19: 010101 | R19: T | S19: F | T19: F | AU19: 01010146B39CDD0017A81DCE99C5822470F | AV19: 41
A20: 자동확산소화기철거 | C20: 개 | D20: 6 | F20: =TRUNC(E20*D20, 0) -> 0 | H20: =TRUNC(G20*D20, 0) -> 0 | J20: =TRUNC(I20*D20, 0) -> 0 | K20: =TRUNC(E20+G20+I20, 0) -> 0 | L20: =TRUNC(F20+H20+J20, 0) -> 0 | M20: 호표 16 | N20: 46B39CDD0017A81DCE99C5822470E | Q20: 010101 | R20: T | S20: F | T20: F | AU20: 01010146B39CDD0017A81DCE99C5822470E | AV20: 42
A21: 공기청정기철거(천장형) | C21: 개 | D21: 3 | F21: =TRUNC(E21*D21, 0) -> 0 | H21: =TRUNC(G21*D21, 0) -> 0 | J21: =TRUNC(I21*D21, 0) -> 0 | K21: =TRUNC(E21+G21+I21, 0) -> 0 | L21: =TRUNC(F21+H21+J21, 0) -> 0 | M21: 호표 17 | N21: 46B39CDD0017A81DCE99C5822470D | Q21: 010101 | R21: T | S21: F | T21: F | AU21: 01010146B39CDD0017A81DCE99C5822470D | AV21: 43
A22: 수밀코킹(단열재채움+방화실리콘) | B22: 배관주위 | C22: 개소 | D22: 40 | F22: =TRUNC(E22*D22, 0) -> 0 | H22: =TRUNC(G22*D22, 0) -> 0 | J22: =TRUNC(I22*D22, 0) -> 0 | K22: =TRUNC(E22+G22+I22, 0) -> 0 | L22: =TRUNC(F22+H22+J22, 0) -> 0 | M22: 호표 18 | N22: 467994998697E8213DE51559CC724 | Q22: 010101 | R22: T | S22: F | T22: F | AU22: 010101467994998697E8213DE51559CC724 | AV22: 23
A23: 크레인(타이어) | B23: 30ton | C23: HR | D23: 8 | F23: =TRUNC(E23*D23, 0) -> 0 | H23: =TRUNC(G23*D23, 0) -> 0 | J23: =TRUNC(I23*D23, 0) -> 0 | K23: =TRUNC(E23+G23+I23, 0) -> 0 | L23: =TRUNC(F23+H23+J23, 0) -> 0 | M23: 호표 19 | N23: 416E9AE8DA4848E6DE8CE5EC6B7FB257A85D41F | Q23: 010101 | R23: T | S23: F | T23: F | AU23: 010101416E9AE8DA4848E6DE8CE5EC6B7FB257A85D41F | AV23: 24
Q24: 010101
Q25: 010101
Q26: 010101
A27: [ 합 계 ] | F27: =SUMIF(Q5:Q26,"010101",F5:F26) -> 0 | H27: =SUMIF(Q5:Q26,"010101",H5:H26) -> 0 | J27: =SUMIF(Q5:Q26,"010101",J5:J26) -> 0 | L27: =SUMIF(Q5:Q26,"010101",L5:L26) -> 0 | N27: TOTAL
A28: 010102 냉매회수(삽교중) | Q28: 010102
A29: 냉매회수장치 사용료 | C29: 식 | D29: 1 | F29: =TRUNC(E29*D29, 0) -> 0 | H29: =TRUNC(G29*D29, 0) -> 0 | J29: =TRUNC(I29*D29, 0) -> 0 | K29: =TRUNC(E29+G29+I29, 0) -> 0 | L29: =TRUNC(F29+H29+J29, 0) -> 0 | N29: 415C93DF1747580E4C89D5C0B1737A60F48AB | Q29: 010102 | R29: F | S29: F | T29: T | AU29: 010102415C93DF1747580E4C89D5C0B1737A60F48AB | AV29: 25
A30: 냉난방기 실외기 연결비용 | B30: 싱글,멀티,구분없음 | C30: 대 | D30: 46 | F30: =TRUNC(E30*D30, 0) -> 0 | H30: =TRUNC(G30*D30, 0) -> 0 | J30: =TRUNC(I30*D30, 0) -> 0 | K30: =TRUNC(E30+G30+I30, 0) -> 0 | L30: =TRUNC(F30+H30+J30, 0) -> 0 | N30: 415C93DF1747580E4C89D5C0B1737A60F48AA | Q30: 010102 | R30: F | S30: F | T30: T | AU30: 010102415C93DF1747580E4C89D5C0B1737A60F48AA | AV30: 26
A31: 냉매 회수 | B31: 냉매회수통 대여비포함 | C31: kg | D31: 142 | F31: =TRUNC(E31*D31, 0) -> 0 | H31: =TRUNC(G31*D31, 0) -> 0 | J31: =TRUNC(I31*D31, 0) -> 0 | K31: =TRUNC(E31+G31+I31, 0) -> 0 | L31: =TRUNC(F31+H31+J31, 0) -> 0 | N31: 415C93DF1747580E4C89D5C0B1737A60F48AD | Q31: 010102 | R31: F | S31: F | T31: T | AU31: 010102415C93DF1747580E4C89D5C0B1737A60F48AD | AV31: 27
A32: 냉매 처리 | C32: kg | D32: 142 | F32: =TRUNC(E32*D32, 0) -> 0 | H32: =TRUNC(G32*D32, 0) -> 0 | J32: =TRUNC(I32*D32, 0) -> 0 | K32: =TRUNC(E32+G32+I32, 0) -> 0 | L32: =TRUNC(F32+H32+J32, 0) -> 0 | N32: 415C93DF1747580E4C89D5C0B1737A60F48AC | Q32: 010102 | R32: F | S32: F | T32: T | AU32: 010102415C93DF1747580E4C89D5C0B1737A60F48AC | AV32: 28
Q33: 010102
Q34: 010102
Q35: 010102
Q36: 010102
Q37: 010102
Q38: 010102
Q39: 010102
Q40: 010102
Q41: 010102
Q42: 010102
Q43: 010102
Q44: 010102
... Q50: 010102
A51: [ 합 계 ] | F51: =SUMIF(Q29:Q50,"010102",F29:F50) -> 0 | H51: =SUMIF(Q29:Q50,"010102",H29:H50) -> 0 | J51: =SUMIF(Q29:Q50,"010102",J29:J50) -> 0 | L51: =SUMIF(Q29:Q50,"010102",L29:L50) -> 0 | N51: TOTAL
A52: 010103 작업부산물(삽교중) | Q52: 010103
A53: 철강설 | B53: 철강설, 동판, 작업설부산물 | C53: kg | D53: -183 | F53: =TRUNC(E53*D53, 0) -> 0 | H53: =TRUNC(G53*D53, 0) -> 0 | J53: =TRUNC(I53*D53, 0) -> 0 | K53: =TRUNC(E53+G53+I53, 0) -> 0 | L53: =TRUNC(F53+H53+J53, 0) -> 0 | M53: 수집상차도 | N53: 417F91DBB1B6B8AFE120052433783C5F2292C | Q53: 010103 | R53: F | S53: F | T53: T | AU53: 010103417F91DBB1B6B8AFE120052433783C5F2292C | AV53: 29
A54: 철강설 | B54: 철강설, 고철, 작업설부산물 | C54: kg | D54: -3171 | F54: =TRUNC(E54*D54, 0) -> 0 | H54: =TRUNC(G54*D54, 0) -> 0 | J54: =TRUNC(I54*D54, 0) -> 0 | K54: =TRUNC(E54+G54+I54, 0) -> 0 | L54: =TRUNC(F54+H54+J54, 0) -> 0 | M54: 수집상차도 | N54: 417F91DBB1B6B8AFE120052433783C5F22BD8 | Q54: 010103 | R54: F | S54: F | T54: T | AU54: 010103417F91DBB1B6B8AFE120052433783C5F22BD8 | AV54: 30
Q55: 010103
Q56: 010103
Q57: 010103
Q58: 010103
Q59: 010103
Q60: 010103
Q61: 010103
Q62: 010103
Q63: 010103
Q64: 010103
Q65: 010103
Q66: 010103
... Q74: 010103
A75: [ 합 계 ] | F75: =SUMIF(Q53:Q74,"010103",F53:F74) -> 0 | H75: =SUMIF(Q53:Q74,"010103",H53:H74) -> 0 | J75: =SUMIF(Q53:Q74,"010103",J53:J74) -> 0 | L75: =SUMIF(Q53:Q74,"010103",L53:L74) -> 0 | N75: TOTAL
A76: 010104 폐기물처리비(삽교중) | Q76: 010104
A77: 폐합성수지 | B77: 처리비 | C77: TON | D77: 0.2 | F77: =TRUNC(E77*D77, 0) -> 0 | H77: =TRUNC(G77*D77, 0) -> 0 | J77: =TRUNC(I77*D77, 0) -> 0 | K77: =TRUNC(E77+G77+I77, 0) -> 0 | L77: =TRUNC(F77+H77+J77, 0) -> 0 | N77: 463791781D767885811F356FFD7FFB7DE7DDA | Q77: 010104 | R77: F | S77: F | T77: T | AU77: 010104463791781D767885811F356FFD7FFB7DE7DDA | AV77: 44
A78: 혼합건설폐기물 | B78: 건설폐재류에 가연성 5% 이하 혼합 | C78: TON | D78: 0.1 | F78: =TRUNC(E78*D78, 0) -> 0 | H78: =TRUNC(G78*D78, 0) -> 0 | J78: =TRUNC(I78*D78, 0) -> 0 | K78: =TRUNC(E78+G78+I78, 0) -> 0 | L78: =TRUNC(F78+H78+J78, 0) -> 0 | N78: 463791781D767885811F356FFD7FFB63BA987 | Q78: 010104 | R78: F | S78: F | T78: T | AU78: 010104463791781D767885811F356FFD7FFB63BA987 | AV78: 45
A79: 건설폐재류 운반비 | B79: 15톤 덤프트럭, 30km | C79: TON | D79: 0.3 | F79: =TRUNC(E79*D79, 0) -> 0 | H79: =TRUNC(G79*D79, 0) -> 0 | J79: =TRUNC(I79*D79, 0) -> 0 | K79: =TRUNC(E79+G79+I79, 0) -> 0 | L79: =TRUNC(F79+H79+J79, 0) -> 0 | N79: 463791781D767885811F356FFC7D6FF9C22B3 | Q79: 010104 | R79: F | S79: F | T79: T | AU79: 010104463791781D767885811F356FFC7D6FF9C22B3 | AV79: 47
A80: 건설폐재류 상차비 | C80: TON | D80: 0.3 | F80: =TRUNC(E80*D80, 0) -> 0 | H80: =TRUNC(G80*D80, 0) -> 0 | J80: =TRUNC(I80*D80, 0) -> 0 | K80: =TRUNC(E80+G80+I80, 0) -> 0 | L80: =TRUNC(F80+H80+J80, 0) -> 0 | N80: 463791781D767885811F356FFC7D6FF9C2084 | Q80: 010104 | R80: F | S80: F | T80: T | AU80: 010104463791781D767885811F356FFC7D6FF9C2084 | AV80: 46
Q81: 010104
Q82: 010104
Q83: 010104
Q84: 010104
Q85: 010104
Q86: 010104
Q87: 010104
Q88: 010104
Q89: 010104
Q90: 010104
Q91: 010104
Q92: 010104
... Q98: 010104
A99: [ 합 계 ] | F99: =SUMIF(Q77:Q98,"010104",F77:F98) -> 0 | H99: =SUMIF(Q77:Q98,"010104",H77:H98) -> 0 | J99: =SUMIF(Q77:Q98,"010104",J77:J98) -> 0 | L99: =SUMIF(Q77:Q98,"010104",L77:L98) -> 0 | N99: TOTAL
A100: 010201 냉난방부대공사(삽교초) | Q100: 010201
A101: PAC냉난방기 철거 | B101: 11KW이하(실외기포함) | C101: 대 | D101: 1 | F101: =TRUNC(E101*D101, 0) -> 0 | H101: =TRUNC(G101*D101, 0) -> 0 | J101: =TRUNC(I101*D101, 0) -> 0 | K101: =TRUNC(E101+G101+I101, 0) -> 0 | L101: =TRUNC(F101+H101+J101, 0) -> 0 | M101: 호표 20 | N101: 46B392D1F97CD86B0D14552AF2736 | Q101: 010201 | R101: T | S101: F | T101: F | AU101: 01020146B392D1F97CD86B0D14552AF2736 | AV101: 35
A102: 냉매배관및보온재철거 | B102: D12.7~D15.88 | C102: M | D102: 6 | F102: =TRUNC(E102*D102, 0) -> 0 | H102: =TRUNC(G102*D102, 0) -> 0 | J102: =TRUNC(I102*D102, 0) -> 0 | K102: =TRUNC(E102+G102+I102, 0) -> 0 | L102: =TRUNC(F102+H102+J102, 0) -> 0 | M102: 호표 9 | N102: 46B392D1F97CD86B0D14552AF47FE | Q102: 010201 | R102: T | S102: F | T102: F | AU102: 01020146B392D1F97CD86B0D14552AF47FE | AV102: 36
A103: 수밀코킹(단열재채움+방화실리콘) | B103: 배관주위 | C103: 개소 | D103: 40 | F103: =TRUNC(E103*D103, 0) -> 0 | H103: =TRUNC(G103*D103, 0) -> 0 | J103: =TRUNC(I103*D103, 0) -> 0 | K103: =TRUNC(E103+G103+I103, 0) -> 0 | L103: =TRUNC(F103+H103+J103, 0) -> 0 | M103: 호표 18 | N103: 467994998697E8213DE51559CC724 | Q103: 010201 | R103: T | S103: F | T103: F | AU103: 010201467994998697E8213DE51559CC724 | AV103: 37
A104: 크레인(타이어) | B104: 30ton | C104: HR | D104: 8 | F104: =TRUNC(E104*D104, 0) -> 0 | H104: =TRUNC(G104*D104, 0) -> 0 | J104: =TRUNC(I104*D104, 0) -> 0 | K104: =TRUNC(E104+G104+I104, 0) -> 0 | L104: =TRUNC(F104+H104+J104, 0) -> 0 | M104: 호표 19 | N104: 416E9AE8DA4848E6DE8CE5EC6B7FB257A85D41F | Q104: 010201 | R104: T | S104: F | T104: F | AU104: 010201416E9AE8DA4848E6DE8CE5EC6B7FB257A85D41F | AV104: 38
Q105: 010201
Q106: 010201
Q107: 010201
Q108: 010201
Q109: 010201
Q110: 010201
Q111: 010201
Q112: 010201
Q113: 010201
Q114: 010201
Q115: 010201
Q116: 010201
... Q122: 010201
...
