Workbook

Sheet 내역서
A1: 예 산 내 역 서 | DO1: 5
DO2: A
A3: 공 종 | B3: 규 격 | C3: 수 량 | D3: 단위 | E3: 합 계 | G3: 재 료 비 | I3: 노 무 비 | K3: 경 비 | M3: 낙찰율(%) | N3: 비 고 | DO3: 161
E4: 단 가 | F4: 금 액 | G4: 단 가 | H4: 금 액 | I4: 단 가 | J4: 금 액 | K4: 단 가 | L4: 금 액 | DO4: N
A5: *. 순공사비 | C5: 0
A6: 1. 학문로 일원 | C6: 0
A7: 1) 토공 | C7: 0
A8: 1] 토공 | C8: 0
A9: 터파기 | B9: 백호0.2㎥(100%) | C9: 2 | D9: ㎥ | N9: 산근 1호표 | DM9: S0-11480
A10: 되메우기 | B10: 백호0.2㎥(100%) | C10: 1 | D10: ㎥ | N10: 산근 2호표 | DM10: S0-13220
A11: 사 토(토사,L=12km) | B11: 덤 프(24ton) | C11: 1 | D11: ㎥ | N11: 산근 3호표 | DM11: S00000020244-2-1
A12: 2] 지장물철거 | C12: 0
A13: 콘크리트 포장절단 | C13: 12 | D13: M | N13: 산근 4호표 | DM13: S0-11490
A14: 기존보도블럭철거 | B14: 인력20%+장비사용80% | C14: 1070 | D14: ㎡ | N14: 제 1호표 | DM14: B000-1100
A15: 콘크리트포장깨기 | B15: 대형브레이커+0.2㎥ | C15: 1 | D15: ㎥ | N15: 산근 5호표 | DM15: S0-11770
A16: 아스팔트포장깨기 | B16: 대형브레이커+0.2㎥ | C16: 5 | D16: ㎥ | N16: 산근 6호표 | DM16: S0-07870
A17: 보차도 및 도로경계블록 철거 | B17: B-Type, 350mm미만(폭+높이) | C17: 2 | D17: M | N17: 산근 7호표 | DM17: S0-12510
A18: 폐 자 재 상 차 | B18: 적 재 | C18: 73 | D18: ㎥ | N18: 산근 8호표 | DM18: S100-900-10
C19: 0
C20: 0
A21: 2) 포장공 | C21: 0
A22: 1] 장애인블럭 포장 | C22: 0
A23: 보도용 블록 재설치(유도,점자블록) | B23: B-Type, t=8cm이하 | C23: 25 | D23: ㎡ | N23: 산근 9호표 | DM23: S0-14720
A24: 흙다지기(인력) | B24: 토사 콤팩터(t=15cm) | C24: 4 | N24: 산근 10호표 | DM24: S0-00480
A25: 2] 칼라아스콘 포장 | C25: 0
A26: 칼라아스콘포설및다짐 | B26: 소규모포설 | C26: 1101 | D26: ㎡ | N26: 산근 11호표 | DM26: S0-06880
A27: 프라임코팅(인력식) | B27: 아스팔트스프레이어400ℓ | C27: 1101 | D27: ㎡ | N27: 산근 12호표 | DM27: S0-05670
A28: 흙다지기(인력) | B28: 토사 콤팩터(t=15cm) | C28: 165 | D28: ㎥ | N28: 산근 10호표 | DM28: S0-00480
A29: 3] 경계석 설치 | C29: 0
A30: 보차도 및 도로경계블록 재설치(직선) | B30: B-Type, 350mm미만(폭+높이) | C30: 12 | D30: M | N30: 산근 13호표 | DM30: S0-13700
C31: 0
C32: 0
A33: 3) 부대공 | C33: 0
A34: 1] 표시못설치 | C34: 0
A35: 관로표시못 설치 | B35: B-Type | C35: 49 | D35: 개소 | N35: 산근 14호표 | DM35: S0-04510
A36: 2] 표지판설치 | C36: 0
A37: 표지판설치 | B37: 자전거보행자겸용 | C37: 10 | D37: EA | N37: 제 2호표 | DM37: B000-1230
A38: 차선밑그림-운행도로,차량부분통제 | B38: 문자,기호 | C38: 4 | D38: ㎡ | N38: 산근 15호표 | DM38: S0-13770
A39: 차선도색(융착식,일반형)-운행도로,차량부분통제 | B39: 수동식,문자.기호 | C39: 4 | D39: ㎡ | N39: 산근 16호표 | DM39: S0-13990
A40: 3] 각종운반 | C40: 0
...

Sheet 원가계산서
A1: 원 가 계 산 서 | DO1: 5
DO2: A
A3: 구 분 | B3: 산 출 근 거 | C3: 금 액 | D3: 비 고 | DO3: 36
DO4: D
A5: 1. 순 공 사 비 | DN5: {B||*.순공사비|T}
A6: 2. 재 료 비 | DN6: {B||*.순공사비|M}
A7: 3. 직 접 노 무 비 | DN7: {B||*.순공사비|L}
A8: 4. 경 비 | DN8: {B||*.순공사비|E}
A9: 5. 간 접 노 무 비 | B9: [3] x 19.1% | DN9: [3]*<19.1%>
A10: 6. 고 용 보 험 료 | B10: [3+5] x 1.01% | DN10: [3+5]*<1.01%>
A11: 7. 산 재 보 험 료 | B11: [3+5] x 3.56% | DN11: [3+5]*<3.56%>
A12: 8. 건 강 보 험 료 | B12: [3] x 3.595% | DN12: [3]*<3.595%>
A13: 9. 노인장기요양보험료 | B13: [8] x 13.14% | DN13: [8]*<13.14%>
A14: 10. 연 금 보 험 료 | B14: [3] x 4.75% | DN14: [3]*<4.75%>
A15: 11. 퇴직공제부금비 | B15: [3] x 2.3% | DN15: [3]*<2.3%>
A16: 12. 건설기계대여금지급보증금액 | B16: [2+3+4] x 0.68% | DN16: [2..4]*<0.68%>
A17: 13. 기 타 경 비 | B17: [1-4+5] x 5.5% | DN17: [1-4+5]*<5.5%>
A18: 14. 산업안전보건관리비 | B18: ((([2+3]) x 3.15%)) x 1.2 | DN18: ((([2+3])*3.15%))*1.2
A19: 15. 환 경 보 전 비 | B19: [1] x 0.9% | DN19: [1]*<0.9%>
A20: 16. 석면분담금 | B20: [3+5] x 0.006% | DN20: [3+5]*<0.006%>
A21: 17. 임금채권부담금 | B21: [3+5] x 0.09% | DN21: [3+5]*<0.09%>
A22: 18. 안전관리비 | DN22: {B||*.교통안전통제|T}
A23: 19. 일 반 관 리 비 | B23: [1+5+6+7+8+9+10+11+12+13+14+15+16+17+18] x 8.0% | DN23: [1+5..18]*<8.0%>
A24: 20. 이 윤 | B24: [3+4+5+6+7+8+9+10+11+12+13+14+15+16+17+18+19] x 14.5399% | D24: [3+4+5+6+7+8+9+10+11+12+13+14+15+16+17+18+19]x14.5399%= 15,848,846(≒15,362,799) | DN24: [3..19]*<15.00000%>
A25: 21. 공 급 가 액 | B25: [1+5+6+7+8+9+10+11+12+13+14+15+16+17+18+19+20] | DN25: [1+5..20]
A26: 22. 부 가 가 치 세 | B26: [21] x 10.0% | DN26: [21]*<10.0%>
A27: 23. 도 급 예 정 액 | B27: [21+22] | DN27: [21..22]
A28: 24. 도 급 자 관 급 | DN28: {B||1.도급자관급|T}
A29: 25. 총 공 사 비 | B29: [23+24] | DN29: [23..24]
A32: 28. 산업안전보건관리비 대상 | B32: [2+3+24] | DN32: [2+3+24]
A33: 29. 산업안전보건관리비 | B33: (([2+3]+[24]) x 3.15%) | DN33: (([2+3]+[24])*3.15%)
A34: 30. 산업안전보건관리비 | B34: ((([2+3]) x 3.15%)) x 1.2 | DN34: ((([2+3])*3.15%))*1.2

Sheet 총공사비집계표
A1: 총 공 사 비 집 계 표
A3: 공 종 | B3: 규 격 | C3: 수량 | D3: 단위 | E3: 합 계 | G3: 재 료 비 | I3: 노 무 비 | K3: 경 비 | M3: 비 고
E4: 단 가 | F4: 금 액 | G4: 단 가 | H4: 금 액 | I4: 단 가 | J4: 금 액 | K4: 단 가 | L4: 금 액
A5: 1. 학문로 일원 | E5: =G5+I5+K5 -> 0 | F5: =H5+J5+L5 -> 0 | G5: 0 | H5: =내역서!H6 -> 0 | I5: 0 | J5: =내역서!J6 -> 0 | K5: 0 | L5: =내역서!L6 -> 0 | DM5: #B-2
A6: 2. 꽃바위로 311일원 | E6: =G6+I6+K6 -> 0 | F6: =H6+J6+L6 -> 0 | G6: 0 | H6: =내역서!H59 -> 0 | I6: 0 | J6: =내역서!J59 -> 0 | K6: 0 | L6: =내역서!L59 -> 0 | DM6: #B-55
A7: 3. 대학병원길 일원 | E7: =G7+I7+K7 -> 0 | F7: =H7+J7+L7 -> 0 | G7: 0 | H7: =내역서!H91 -> 0 | I7: 0 | J7: =내역서!J91 -> 0 | K7: 0 | L7: =내역서!L91 -> 0 | DM7: #B-87
A8: 순공사비 | E8: =G8+I8+K8 -> 0 | F8: =H8+J8+L8 -> 0 | G8: 0 | H8: =SUM(H5:H7) -> 0 | I8: 0 | J8: =SUM(J5:J7) -> 0 | K8: 0 | L8: =SUM(L5:L7) -> 0 | DM8: %SUM | DN8: [1..3]
A9: 4. 간 접 노 무 비 | C9: 1 | D9: 식 | E9: =G9+I9+K9 -> 0 | F9: =원가계산서!C9 -> 0 | G9: 0 | H9: 0 | I9: 0 | J9: 0 | K9: 0 | L9: 0 | DM9: #W-5
A10: 5. 고 용 보 험 료 | C10: 1 | D10: 식 | E10: =G10+I10+K10 -> 0 | F10: =원가계산서!C10 -> 0 | G10: 0 | H10: 0 | I10: 0 | J10: 0 | K10: 0 | L10: 0 | DM10: #W-6
A11: 6. 산 재 보 험 료 | C11: 1 | D11: 식 | E11: =G11+I11+K11 -> 0 | F11: =원가계산서!C11 -> 0 | G11: 0 | H11: 0 | I11: 0 | J11: 0 | K11: 0 | L11: 0 | DM11: #W-7
A12: 7. 건 강 보 험 료 | C12: 1 | D12: 식 | E12: =G12+I12+K12 -> 0 | F12: =원가계산서!C12 -> 0 | G12: 0 | H12: 0 | I12: 0 | J12: 0 | K12: 0 | L12: 0 | DM12: #W-8
A13: 8. 노인장기요양보험료 | C13: 1 | D13: 식 | E13: =G13+I13+K13 -> 0 | F13: =원가계산서!C13 -> 0 | G13: 0 | H13: 0 | I13: 0 | J13: 0 | K13: 0 | L13: 0 | DM13: #W-9
A14: 9. 연 금 보 험 료 | C14: 1 | D14: 식 | E14: =G14+I14+K14 -> 0 | F14: =원가계산서!C14 -> 0 | G14: 0 | H14: 0 | I14: 0 | J14: 0 | K14: 0 | L14: 0 | DM14: #W-10
A15: 10. 퇴직공제부금비 | C15: 1 | D15: 식 | E15: =G15+I15+K15 -> 0 | F15: =원가계산서!C15 -> 0 | G15: 0 | H15: 0 | I15: 0 | J15: 0 | K15: 0 | L15: 0 | DM15: #W-11
A16: 11. 건설기계대여금지급보증금액 | C16: 1 | D16: 식 | E16: =G16+I16+K16 -> 0 | F16: =원가계산서!C16 -> 0 | G16: 0 | H16: 0 | I16: 0 | J16: 0 | K16: 0 | L16: 0 | DM16: #W-12
A17: 12. 기 타 경 비 | C17: 1 | D17: 식 | E17: =G17+I17+K17 -> 0 | F17: =원가계산서!C17 -> 0 | G17: 0 | H17: 0 | I17: 0 | J17: 0 | K17: 0 | L17: 0 | DM17: #W-13
A18: 13. 산업안전보건관리비 | C18: 1 | D18: 식 | E18: =G18+I18+K18 -> 0 | F18: =원가계산서!C18 -> 0 | G18: 0 | H18: 0 | I18: 0 | J18: 0 | K18: 0 | L18: 0 | DM18: #W-14
A19: 14. 환 경 보 전 비 | C19: 1 | D19: 식 | E19: =G19+I19+K19 -> 0 | F19: =원가계산서!C19 -> 0 | G19: 0 | H19: 0 | I19: 0 | J19: 0 | K19: 0 | L19: 0 | DM19: #W-15
A20: 15. 석면분담금 | C20: 1 | D20: 식 | E20: =G20+I20+K20 -> 0 | F20: =원가계산서!C20 -> 0 | G20: 0 | H20: 0 | I20: 0 | J20: 0 | K20: 0 | L20: 0 | DM20: #W-16
... A23: 18. 일 반 관 리 비 | C23: 1 | D23: 식 | E23: =G23+I23+K23 -> 0 | F23: =원가계산서!C23 -> 0 | G23: 0 | H23: 0 | I23: 0 | J23: 0 | K23: 0 | L23: 0 | DM23: #W-19
A24: 소 계 | E24: =G24+I24+K24 -> 0 | F24: =SUM(F8:F23) -> 0 | G24: 0 | H24: 0 | I24: 0 | J24: 0 | K24: 0 | L24: 0 | DM24: %SUM-TOT | DN24: [4..19]
A25: 19. 이 윤 | C25: 1 | D25: 식 | E25: =G25+I25+K25 -> 0 | F25: =원가계산서!C24 -> 0 | G25: 0 | H25: 0 | I25: 0 | J25: 0 | K25: 0 | L25: 0 | DM25: #W-20
A26: 공급가액 | E26: =G26+I26+K26 -> 0 | F26: =SUM(F24:F25) -> 0 | G26: 0 | H26: 0 | I26: 0 | J26: 0 | K26: 0 | L26: 0 | DM26: %SUM-TOT | DN26: [20..21]
A27: 20. 부 가 가 치 세 | C27: 1 | D27: 식 | E27: =G27+I27+K27 -> 0 | F27: =원가계산서!C26 -> 0 | G27: 0 | H27: 0 | I27: 0 | J27: 0 | K27: 0 | L27: 0 | DM27: %SUM-TOT | DN27: [22] * 0.1
A28: 도 급 예 정 액 | C28: 1 | D28: 식 | E28: =G28+I28+K28 -> 0 | F28: =SUM(F26:F27) -> 0 | G28: 0 | H28: 0 | I28: 0 | J28: 0 | K28: 0 | L28: 0 | DM28: %SUM-TOT | DN28: [22..23]
A29: 21. 도 급 자 관 급 | C29: 1 | D29: 식 | E29: =G29+I29+K29 -> 0 | F29: =원가계산서!C28 -> 0 | G29: 0 | H29: 0 | I29: 0 | J29: 0 | K29: 0 | L29: 0 | DM29: #W-24
A30: 총 공 사 비 | C30: 1 | D30: 식 | E30: =G30+I30+K30 -> 0 | F30: =SUM(F28:F29) -> 0 | G30: 0 | H30: 0 | I30: 0 | J30: 0 | K30: 0 | L30: 0 | DM30: %SUM-TOT | DN30: [24..25]
