Workbook
Name A: #REF!
Name B: #REF!
Name D: #REF!
Name E: #REF!
Name F: #REF!
Name G: #REF!
Name H: #REF!
Name I: #REF!
Name J: #REF!
Name K: #REF!
Name L: #REF!
Name N: #REF!
Name ㄱ: #REF!
Name ㄴ: #REF!
Name ㄷ: #REF!
Name ㄹ: #REF!
Name ㅇ38: #REF!
Name ㅓ14: #REF!
Name ㅡ: #REF!
Name ㅡ38: #REF!
Name ㅣ: #REF!
Name ㅣ58: #REF!

Sheet 표지
C4: 2026년 하반기 생활용 배수지 정기안전점검 용역(남부) 설계예산서
F15: 2026. 08.
H18: 서 산 시

Sheet 예정공정표
A2: 예 정 공 정 표
B5: 공 사 명 : | D5: =표지!C4 -> 2026년 하반기 생활용 배수지 정기안전점검 용역(남부) 설계예산서
B6: 공 사 기 간 : | D6: 60 | E6: 일
C8: 공 기 | D8: 보할 (%) | E8: 용역 착수
B9: 공 종 | E9: 10 | F9: 10 | G9: 10 | H9: 10 | I9: 10 | J9: 10
B10: 계 획 수 립 | D10: =IF(E10=0,"",(E10+F10+G10+H10+I10+J10+K10)) -> 20 | E10: 10 | F10: 10
B13: 현 장 조 사 | D13: =IF(F13=0,"",(E13+F13+G13+H13+I13+J13+K13)) -> 40 | E13: 10 | F13: 10 | G13: 10 | H13: 10
B16: 작성 및 검토 | D16: =IF(G16=0,"",(E16+F16+G16+H16+I16+J16+K16)) -> 30 | G16: 10 | H16: 10 | I16: 10
B19: 협의 및 제출 | D19: =IF(I19=0,"",(E19+F19+G19+H19+I19+J19+K19)) -> 10 | I19: 5 | J19: 5
B22: 소 계 | D22: =IF(E$10=0,"",SUM(D10:D21)) -> 100 | E22: =IF(E$9=0,"",SUM(E10:E21)) -> 20 | F22: =IF(F$9=0,"",SUM(F10:F21)) -> 20 | G22: =IF(G$9=0,"",SUM(G10:G21)) -> 20 | H22: =IF(H$9=0,"",SUM(H10:H21)) -> 20 | I22: =IF(I$9=0,"",SUM(I10:I21)) -> 15 | J22: =IF(J$9=0,"",SUM(J10:J21)) -> 5 | K22: =IF(K$9=0,"",SUM(K10:K18))
B23: 누 계 | E23: =IF(E22=0,"",($D22*$E22)/100) -> 20 | F23: =IF(F22=0,"",($D22*($E22+$F22)/100)) -> 40 | G23: =IF(G22=0,"",($D22*($E22+$F22+$G22)/100)) -> 60 | H23: =IF(H22=0,"",($D22*($E22+$F22+$G22+$H22)/100)) -> 80 | I23: =IF(I9=0,"",($D22*($E22+$F22+$G22+$H22+$I22)/100)) -> 95 | J23: =IF(J9=0,"",($D22*($E22+$F22+$G22+$H22+$I22+J22)/100)) -> 100 | K23: =IF(K9=0,"",($D22*($E22+K22)/100))

Sheet 갑지
A1: 과장 | D1: 팀장 | G1: 담당자 | J1: 검산자 | M1: 설계자 | P1: 2026.08.
A3: 2026년도
N4: 위치 : 서산시 관내 일원
A6: =표지!C4 -> 2026년 하반기 생활용 배수지 정기안전점검 용역(남부) 설계예산서
E11: □ 과업개요 : 정기안전점검용역 1식
E12: - 동문 배수지 외 7개소
D16: □ 총 용 역 비: | G16: =IF($E$20=0,"",("금"&NUMBERSTRING($E$20,1))&"원(금"&(TEXT(E$20,"#,###)원"))) -> 금사천오십이만원(금40,520,000)원
D17: □ 도급 용역비: | G17: =IF($E$20=0,"",("금"&NUMBERSTRING($E$20,1))&"원(금"&(TEXT(E$20,"#,###)원"))) -> 금사천오십이만원(금40,520,000)원
C20: 총공사비 | E20: =내역서!F21 -> 40520000
C22: 도급 | E22: =E20 -> 40520000
A24: 1 | B24: 2 | C24: 3 | D24: 4 | E24: 5 | F24: 6 | G24: 7 | H24: 8 | I24: 9 | J24: 10 | K24: 11 | L24: 12 | M24: 13 | N24: 14 | O24: 15 | P24: 16

Sheet 내역서
A1: 총 괄 내 역 서
A2: =표지!C4 -> 2026년 하반기 생활용 배수지 정기안전점검 용역(남부) 설계예산서
A3: 공 종 | B3: 규 격 | C3: 단위 | D3: 수량 | E3: 경 비 | G3: 비 고 | H3: 기초금액 | I3: 1
E4: 단 가 | F4: 금 액 | H4: 낙찰금액 | I4: =I3 -> 1
A5: Ⅰ. 정기안전점검 | H5: 1 | I5: =I4/I3 -> 1
A6: 1. 직접인건비 | F6: =SUM(F7:F8) -> 12699610 | I6: 기본대가 조정율(%) | K6: =SUM(F6,F9,F10,F11) -> 36615222
A7: 가, 외업 | B7: 고급기술자 | C7: 인.일 | D7: =대가산출!L47 -> 24.7 | E7: =대가산출!D3*H5 -> 310884 | F7: =TRUNC(D7*E7,0) -> 7678834 | I7: 1
A8: 나. 내업 | B8: 고급기술자 | C8: 인.일 | D8: =대가산출!M47 -> 16.15 | E8: =대가산출!D3*H5 -> 310884 | F8: =TRUNC(D8*E8,0) -> 5020776 | I8: =I7 -> 1
A9: 2. 제경비 | B9: 직접인건비의 110% | C9: 식 | D9: 1 | F9: =대가산출!P61 -> 13969565
A10: 3. 기술료 | B10: (직접인건비+제경비)*20% | C10: 식 | D10: 1 | F10: =대가산출!Q61 -> 5333832
A11: 4. 직접경비 | F11: =SUM(F12:F17) -> 4612215
A12: 가. 일비 및 식비 | B12: 공무원여비규정 준용 | C12: 인.일 | D12: =D7 -> 24.7 | F12: =대가산출!R61 -> 617500
A13: 나. 차량운행비 | B13: 1,600cc, 1대 (외업인원 1대/4인) | C13: 인.일 | D13: =ROUNDDOWN(D7/4,2) -> 6.17 | F13: =대가산출!S61 -> 305942
A14: 다. 현지보조인부 | B14: 외업인원수의 40%(특별인부임) | C14: =C13 -> 인.일 | D14: =ROUNDDOWN(D7*0.4,2) -> 9.88 | F14: =대가산출!T61 -> 2234084
A15: 라. 위험수당 | B15: 외업인건비의 10% | C15: 식 | D15: 1 | F15: =대가산출!U61 -> 767876
A16: 마. 기계기구손료 | B16: 직접인건비의 5% | C16: =C15 -> 식 | D16: 1 | F16: =대가산출!V61 -> 634973
A17: 바. 보고서 인쇄비 | B17: 50페이지 각 3부 | C17: 부 | D17: 3 | E17: =일위대가!L6*H5 -> 17280 | F17: =TRUNC(D17*E17,0) -> 51840
A18: 5. 용역손해배상보험료 | C18: 식 | D18: 1 | F18: =용역손해배상보험료!E43 -> 222254 | I18: 글씨 흰색
A19: 공급가액 | F19: =F18+F11+F10+F9+F6 -> 36837476 | I19: =F19-I4 -> 36837475
A20: 부가가치세 | F20: =TRUNC(F19*0.1,0) -> 3683747
A21: 총용역비 | F21: =ROUNDDOWN((F19+F20),-4) -> 40520000 | G21: 천원이하 절사

Sheet 대가산출
A1: 대가 산출 기준
A3: 1. 고급기술자 경비 : | D3: =노임단가!E4 -> 310884 | F3: 원(한국엔지니어링협회 공표(2025.12. 2)
A5: 2. 시설물 별 직접인건비 기준인원수
A6: 구분 | B6: 규격 | F6: 정밀안전진단 | H6: 정밀점검 | J6: 정기점검 | L6: 규격 | P6: 정밀안전진단 | R6: 정밀점검 | T6: 정기점검
F7: 전체 | G7: 외업 | H7: 전체 | I7: 외업 | J7: 전체 | K7: 외업 | P7: 전체 | Q7: 외업 | R7: 전체 | S7: 외업 | T7: 전체 | U7: 외업
A8: 수도 | B8: 취수시설, 취수탑 | D8: 1개소 | F8: 52 | G8: 17 | H8: 13 | I8: 8 | J8: 6 | K8: 4 | L8: 배수지 | N8: 2,000 ㎥ | P8: 46 | Q8: 12 | R8: 12 | S8: 8 | T8: 5 | U8: 3
D9: 2개소 | F9: 65 | G9: 25 | H9: 15 | I9: 10 | J9: 9 | K9: 6 | N9: 5,000 ㎥ | P9: 51 | Q9: 15 | R9: 12 | S9: 8 | T9: 5 | U9: 3
D10: 3개소 | F10: 77 | G10: 33 | H10: 18 | I10: 12 | J10: 10 | K10: 7 | N10: 10,000 ㎥ | P10: 58 | Q10: 19 | R10: 14 | S10: 10 | T10: 6 | U10: 4
D11: 4개소 | F11: 90 | G11: 41 | H11: 20 | I11: 14 | J11: 12 | K11: 8 | N11: 30,000 ㎥ | P11: 85 | Q11: 35 | R11: 18 | S11: 13 | T11: 8 | U11: 5
B12: 정수장 | D12: 1만 ㎥/일 | F12: 66 | G12: 18 | H12: 14 | I12: 8 | J12: 6 | K12: 4 | N12: 50,000 ㎥ | P12: 113 | Q12: 51 | R12: 24 | S12: 18 | T12: 10 | U12: 6
D13: 5만 ㎥/일 | F13: 79 | G13: 26 | H13: 16 | I13: 10 | J13: 6 | K13: 4 | L13: 건축물 | N13: 5,000 ㎡ | P13: 85 | Q13: 26 | R13: 17 | S13: 11 | T13: 6 | U13: 4
D14: 10만 ㎥/일 | F14: 93 | G14: 35 | H14: 18 | I14: 11 | J14: 7 | K14: 5 | N14: 10,000 ㎡ | P14: 93 | Q14: 31 | R14: 18 | S14: 12 | T14: 6 | U14: 4
D15: 20만 ㎥/일 | F15: 122 | G15: 54 | H15: 23 | I15: 15 | J15: 9 | K15: 6 | N15: 30,000 ㎡ | P15: 148 | Q15: 66 | R15: 29 | S15: 21 | T15: 10 | U15: 7
D16: 40만 ㎥/일 | F16: 181 | G16: 92 | H16: 33 | I16: 23 | J16: 13 | K16: 8 | N16: 50,000 ㎡ | P16: 205 | Q16: 102 | R16: 39 | S16: 29 | T16: 14 | U16: 9
B17: 취수, 가압펌프장 | D17: 1만 ㎥/일 | F17: 46 | G17: 12 | H17: 13 | I17: 8 | J17: 5 | K17: 3 | N17: 100,000 ㎡ | P17: 347 | Q17: 193 | R17: 65 | S17: 50 | T17: 24 | U17: 15
D18: 5만 ㎥/일 | F18: 51 | G18: 15 | H18: 13 | I18: 8 | J18: 5 | K18: 3
D19: 10만 ㎥/일 | F19: 56 | G19: 18 | H19: 15 | I19: 9 | J19: 6 | K19: 4
D20: 20만 ㎥/일 | F20: 66 | G20: 24 | H20: 17 | I20: 11 | J20: 6 | K20: 4
D21: 50만 ㎥/일 | F21: 97 | G21: 43 | H21: 23 | I21: 15 | J21: 9 | K21: 5
A23: 3. 조정비
A24: 도, 송수관로 | F24: 취수시설 | H24: 배수지 | J24: 시설물 경과년수 | M24: 전차보고서 제공
A25: 시설종류별 조정 | B25: 조정비 | C25: 관경별 조정 | E25: 조정비 | F25: 시설종류 | G25: 조정비 | H25: 시설종류 | I25: 조정비 | J25: 경과년수 | L25: 보정비 | M25: 구분 | O25: 보정비
A26: 관로 | B26: 1 | C26: 1,000mm 미만 | E26: 0.7 | F26: 취수탑 | G26: 1 | H26: 배수지 | I26: 1 | J26: 15년 이내 | L26: 1 | M26: 미제공 | O26: 1
A27: 수로터널 및 터널배수지 | B27: 1.5 | C27: 1,000~2,000mm | E27: 1 | F27: 취수문 | G27: 1 | H27: 조절지 | I27: 1 | J27: 15년~ 25년 이내 | L27: 1.05 | M27: 전차보고서 및 CAD파일 중 1개 제공시 | O27: 0.97
C28: 2,000mm 초과 | E28: 1.3 | F28: 취수관 | G28: 0.7 | J28: 25년 ~ 35년 이내 | L28: 1.1 | M28: 모두 제공시 | O28: 0.95
J29: 35년 ~ 55년 이내 | L29: 1.15
J30: 55년 초과 | L30: 1.2
A31: ※ 해당 시설물은 콘크리트 단순구조물로 (-)15% 범위내에서 조정 , 건축구조물 조정시 철근콘크리트조 1.0, 업무용 1.0 적용
A33: 4. 제 경 비 : | D33: 직접인건비의 | E33: 1.1 | F33: 적용 | G33: (직접인건비의 110~120%)
A34: 5. 기 술 료 : | E34: 0.2 | F34: 적용 | G34: (직접인건비와 제경비를 합한 금액의 20~40%)
A35: 6. 일비및식비 : | C35: =ROUND(50000*Y35,0) -> 25000 | D35: 원/인·일 (공무원여비규정 제2호표 준용, 일비, 식비) | Y35: 0.5
A36: 7.여 비 : | C36: =ROUND(50600*Y35,0) -> 25300 | D36: 원/인·일 (공무원여비규정 제3호표 준용, 일비, 식비) | E36: (대전-부산간 왕복 새마을호 보통실 기준(정밀-8인/1회왕복, 진단-10인/1회 왕복)
A37: 7. 차 량 운 행 비 : | C37: =일위대가!L13 -> 49546 | D37: 원 (배기량 1,600CC이하 승용차에 상당하는 차량운행비 적용, 외업인원수(고급기술자 기준) 4인/1대)
A38: 8. 현지인부 : | C38: =노임단가!E12 -> 226122 | D38: 원/인 | E38: 외업인원수의 40%(특별인부임)
A39: 9. 위 험 수 당 : | D39: 외업인건비의 | E39: 0.1 | F39: 적용 | G39: (현지 직접인건비의 10~20%)
A40: 10. 기계기구손료 : | D40: 직접인건비의 | E40: 0.1 | F40: 적용 | G40: (정밀안전진단) | K40: 직접인건비의 | L40: 0.05 | M40: 적용 | N40: (정밀 및 정기안전점검)
A41: 11. 인 쇄 비 : | C41: =일위대가!L6 -> 17280 | D41: 원/인
A44: ※ 시설별 산출내역(정밀안전진단)
A45: 구 분 | D45: 전체소요인원 | G45: 조정비 | L45: 조정소요인원 | O45: 직접인건비 | P45: 제경비 | Q45: 기술료 | R45: 직접경비 | W45: 용역비
A46: 시설물명 | B46: 준공 년도 | C46: 시설규모(㎥) 건축규모(㎥) | D46: 외업 | E46: 내업 | F46: 계 | G46: 시설물 경과년수 | H46: 전차보고서 | I46: 구조형식 | J46: 인접시설 | K46: 계 | L46: ※외업 | M46: 내업 | N46: 계 | R46: 일비 ,식비, 여비 | S46: 차량운행비 | T46: 현지인부 | U46: 위험수당 | V46: 기계기구손료
A47: 총 계 | B47: (정밀안전진단+정밀안전점검) | D47: =D48+D61 -> 26 | E47: =E48+E61 -> 17 | F47: =F48+F61 -> 43 | L47: =L48+L61 -> 24.7 | M47: =M48+M61 -> 16.15 | N47: =N48+N61 -> 40.85 | O47: =O48+O61 -> 12699611 | P47: =P48+P61 -> 13969565 | Q47: =Q48+Q61 -> 5333832 | R47: =R48+R61 -> 617500 | S47: =S48+S61 -> 305942 | ... V47: =V48+V61 -> 634973 | W47: =W48+W61+W53 -> 36563383
A48: □ 배수지 | B48: 소 계 | D48: =SUM(D49:D52) -> 0 | E48: =SUM(E49:E52) -> 0 | F48: =SUM(F49:F52) -> 0 | L48: =SUM(L49:L52) -> 0 | M48: =SUM(M49:M52) -> 0 | N48: =SUM(N49:N52) -> 0 | O48: =SUM(O49:O52) -> 0 | P48: =SUM(P49:P52) -> 0 | Q48: =SUM(Q49:Q52) -> 0 | R48: =SUM(R49:R52) -> 0 | S48: =SUM(S49:S52) -> 0 | ... W48: =SUM(W49:W52) -> 0
A53: □ 내진성능평가 | D53: =SUM(D54:D56) -> 0 | E53: =SUM(E54:E56) -> 0 | F53: =SUM(F54:F56) -> 0 | M53: =SUM(M54:M56) -> 0 | N53: =SUM(N54:N56) -> 0 | O53: =SUM(O54:O56) -> 0 | P53: =SUM(P54:P56) -> 0 | Q53: =SUM(Q54:Q56) -> 0 | R53: =SUM(R54:R56) -> 0 | W53: =SUM(W54:W56) -> 0
Y55: ■ 직선보간법
Y56: y = y1 + | Z56: (y2 - y1) | AC56: * (x - x1)
Z57: x2 - x1
A58: ※ 시설별 산출내역(정기안전점검) | D58: 적용 | E58: =내역서!I7 -> 1 | Y58: ※ x : 당해용량, x1 : 작은용량, x2 : 큰용량
A59: 구 분 | D59: 전체소요인원 | G59: 조정비 | L59: 조정소요인원 | O59: 직접인건비 | P59: 제경비 | Q59: 기술료 | R59: 직접경비 | W59: 용역비 | Y59: ※ x : 당해용량, x1 : 작은용량, x2 : 큰용량
A60: 시설물명 | B60: 준공 년도 | C60: 시설규모 (배수지㎥) (가압장㎥/일) | D60: 외업 | E60: 내업 | F60: 계 | G60: 시설물 경과년수 | H60: 전차보고서 | I60: 구조형식 | J60: 인접시설 | K60: 계 | L60: 외업 | M60: 내업 | N60: 계 | R60: 일비 및 식비 | S60: 차량운행비 | T60: 현지인부 | U60: 위험수당 | V60: 기계기구손료 | Y60: y : 당해용량요율, y1 : 작은용량요율 y2 : 큰용량요율
A61: □ 배수지 | B61: 소 계 | D61: =SUM(D63:D70) -> 26 | E61: =SUM(E63:E70) -> 17 | F61: =SUM(F63:F70) -> 43 | L61: =SUM(L63:L70) -> 24.7 | M61: =SUM(M63:M70) -> 16.15 | N61: =SUM(N63:N70) -> 40.85 | O61: =SUM(O63:O70) -> 12699611 | P61: =SUM(P63:P70) -> 13969565 | Q61: =SUM(Q63:Q70) -> 5333832 | R61: =SUM(R63:R70) -> 617500 | S61: =SUM(S63:S70) -> 305942 | ... W61: =SUM(W63:W70) -> 36563383 | Y61: x | Z61: x1 | AA61: x2 | AB61: y1(전체) | AC61: y2(전체) | AD61: y(전체) | AE61: y1(외업) | AF61: y2(외업) | AG61: y(외업)
F62: =TRUNC(AD62,2) -> 0
A63: =대상시설물현황!C5 -> 동문 배수지 | B63: 2003 | C63: =대상시설물현황!D5 -> 100 | D63: 3 | E63: =F63-D63 -> 2 | F63: =TRUNC(AD63,2) -> 5 | G63: 1 | H63: 0.95 | I63: 1 | J63: 1 | K63: =G63*H63*I63*J63 -> 0.95 | L63: =TRUNC(D63*K63*$E$58,2) -> 2.85 | M63: =TRUNC(E63*K63*$E$58,2) -> 1.9 | N63: =L63+M63 -> 4.75 | O63: =TRUNC(N63*$D$3,0) -> 1476699 | P63: =TRUNC(O63*$E$33,0) -> 1624368 | Q63: =TRUNC((O63+P63)*$E$34,0) -> 620213 | R63: =TRUNC(L63*$C$35,0) -> 71250 | S63: =TRUNC((L63/4)*일위대가!$L$13,0) -> 35301 | T63: =TRUNC(TRUNC(L63*0.4,3)*노임단가!$E$12,0) -> 257779 | U63: =TRUNC(L63*$D$3*$E$39,0) -> 88601 | V63: =TRUNC(O63*$L$40,0) -> 73834 | W63: =SUM(O63:V63) -> 4248045 | Y63: =C63 -> 100 | Z63: 2000 | AA63: 5000 | AB63: 5 | AC63: 5 | AD63: =AB63+(((Y63-Z63)*(AC63-AB63))/(AA63-Z63)) -> 5 | AE63: 3 | AF63: 3 | AG63: =AE63+(((Y63-Z63)*(AF63-AE63))/(AA63-Z63)) -> 3
A64: =대상시설물현황!C6 -> 고산 배수지 | B64: 2007 | C64: =대상시설물현황!D6 -> 500 | D64: =AG64 -> 3 | E64: =F64-D64 -> 2 | F64: =TRUNC(AD64,2) -> 5 | G64: 1 | H64: 0.95 | I64: 1 | J64: 1 | K64: =G64*H64*I64*J64 -> 0.95 | L64: =TRUNC(D64*K64*$E$58,2) -> 2.85 | M64: =TRUNC(E64*K64*$E$58,2) -> 1.9 | N64: =L64+M64 -> 4.75 | O64: =TRUNC(N64*$D$3,0) -> 1476699 | P64: =TRUNC(O64*$E$33,0) -> 1624368 | Q64: =TRUNC((O64+P64)*$E$34,0) -> 620213 | R64: =TRUNC(L64*$C$35,0) -> 71250 | S64: =TRUNC((L64/4)*일위대가!$L$13,0) -> 35301 | T64: =TRUNC(TRUNC(L64*0.4,3)*노임단가!$E$12,0) -> 257779 | U64: =TRUNC(L64*$D$3*$E$39,0) -> 88601 | V64: =TRUNC(O64*$L$40,0) -> 73834 | W64: =SUM(O64:V64) -> 4248045 | Y64: =C64 -> 500 | Z64: 2000 | AA64: 5000 | AB64: 5 | AC64: 5 | AD64: =AB64+(((Y64-Z64)*(AC64-AB64))/(AA64-Z64)) -> 5 | AE64: =$U$8 -> 3 | AF64: =$U$9 -> 3 | AG64: =AE64+(((Y64-Z64)*(AF64-AE64))/(AA64-Z64)) -> 3
A65: =대상시설물현황!C7 -> 수석 배수지(고) | B65: 1995 | C65: =대상시설물현황!D7 -> 6120 | D65: 3 | E65: =F65-D65 -> 2 | F65: =TRUNC(AD65,2) -> 5 | G65: 1 | H65: 0.95 | I65: 1 | J65: 1 | K65: =G65*H65*I65*J65 -> 0.95 | L65: =TRUNC(D65*K65*$E$58,2) -> 2.85 | M65: =TRUNC(E65*K65*$E$58,2) -> 1.9 | N65: =L65+M65 -> 4.75 | O65: =TRUNC(N65*$D$3,0) -> 1476699 | P65: =TRUNC(O65*$E$33,0) -> 1624368 | Q65: =TRUNC((O65+P65)*$E$34,0) -> 620213 | R65: =TRUNC(L65*$C$35,0) -> 71250 | S65: =TRUNC((L65/4)*일위대가!$L$13,0) -> 35301 | T65: =TRUNC(TRUNC(L65*0.4,3)*노임단가!$E$12,0) -> 257779 | U65: =TRUNC(L65*$D$3*$E$39,0) -> 88601 | V65: =TRUNC(O65*$L$40,0) -> 73834 | W65: =SUM(O65:V65) -> 4248045 | Y65: =C65 -> 6120 | Z65: 2000 | AA65: 5000 | AB65: 5 | AC65: 5 | AD65: 5 | AE65: =$U$8 -> 3 | AF65: =$U$9 -> 3 | AG65: 3
A66: =대상시설물현황!C8 -> 수석 배수지(저) | B66: 2019 | C66: =대상시설물현황!D8 -> 20000 | D66: 5 | E66: =F66-D66 -> 3 | F66: =TRUNC(AD66,2) -> 8 | G66: 1 | H66: 0.95 | I66: 1 | J66: 1 | K66: =G66*H66*I66*J66 -> 0.95 | L66: =TRUNC(D66*K66*$E$58,2) -> 4.75 | M66: =TRUNC(E66*K66*$E$58,2) -> 2.85 | N66: =L66+M66 -> 7.6 | O66: =TRUNC(N66*$D$3,0) -> 2362718 | P66: =TRUNC(O66*$E$33,0) -> 2598989 | Q66: =TRUNC((O66+P66)*$E$34,0) -> 992341 | R66: =TRUNC(L66*$C$35,0) -> 118750 | S66: =TRUNC((L66/4)*일위대가!$L$13,0) -> 58835 | T66: =TRUNC(TRUNC(L66*0.4,3)*노임단가!$E$12,0) -> 429631 | U66: =TRUNC(L66*$D$3*$E$39,0) -> 147669 | V66: =TRUNC(O66*$L$40,0) -> 118135 | W66: =SUM(O66:V66) -> 6827068 | Y66: =C66 -> 20000 | Z66: 2000 | AA66: 5000 | AB66: 5 | AC66: 5 | AD66: 8 | AE66: =$U$8 -> 3 | AF66: =$U$9 -> 3 | AG66: 5
A67: =대상시설물현황!C9 -> 오학 배수지 | B67: 2005 | C67: =대상시설물현황!D9 -> 3280 | D67: 3 | E67: =F67-D67 -> 2 | F67: 5 | G67: 1 | H67: 0.95 | I67: 1 | J67: 1 | K67: =G67*H67*I67*J67 -> 0.95 | L67: =TRUNC(D67*K67*$E$58,2) -> 2.85 | M67: =TRUNC(E67*K67*$E$58,2) -> 1.9 | N67: =L67+M67 -> 4.75 | O67: =TRUNC(N67*$D$3,0) -> 1476699 | P67: =TRUNC(O67*$E$33,0) -> 1624368 | Q67: =TRUNC((O67+P67)*$E$34,0) -> 620213 | R67: =TRUNC(L67*$C$35,0) -> 71250 | S67: =TRUNC((L67/4)*일위대가!$L$13,0) -> 35301 | T67: =TRUNC(TRUNC(L67*0.4,3)*노임단가!$E$12,0) -> 257779 | U67: =TRUNC(L67*$D$3*$E$39,0) -> 88601 | V67: =TRUNC(O67*$L$40,0) -> 73834 | W67: =SUM(O67:V67) -> 4248045 | Y67: =C67 -> 3280 | Z67: 2000 | AA67: 5000 | AB67: 5 | AC67: 5 | AD67: =AB67+(((Y67-Z67)*(AC67-AB67))/(AA67-Z67)) -> 5 | AE67: =$U$8 -> 3 | AF67: =$U$9 -> 3 | AG67: =AE67+(((Y67-Z67)*(AF67-AE67))/(AA67-Z67)) -> 3
A68: =대상시설물현황!C10 -> 예천 배수지 | B68: 2009 | C68: =대상시설물현황!D10 -> 3000 | D68: 3 | E68: =F68-D68 -> 2 | F68: 5 | G68: 1 | H68: 0.95 | I68: 1 | J68: 1 | K68: =G68*H68*I68*J68 -> 0.95 | L68: =TRUNC(D68*K68*$E$58,2) -> 2.85 | M68: =TRUNC(E68*K68*$E$58,2) -> 1.9 | N68: =L68+M68 -> 4.75 | O68: =TRUNC(N68*$D$3,0) -> 1476699 | P68: =TRUNC(O68*$E$33,0) -> 1624368 | Q68: =TRUNC((O68+P68)*$E$34,0) -> 620213 | R68: =TRUNC(L68*$C$35,0) -> 71250 | S68: =TRUNC((L68/4)*일위대가!$L$13,0) -> 35301 | T68: =TRUNC(TRUNC(L68*0.4,3)*노임단가!$E$12,0) -> 257779 | U68: =TRUNC(L68*$D$3*$E$39,0) -> 88601 | V68: =TRUNC(O68*$L$40,0) -> 73834 | W68: =SUM(O68:V68) -> 4248045 | Y68: 3000 | Z68: 2 | AA68: 5 | AB68: 5 | AC68: 5 | AD68: =AB68+(((Y68-Z68)*(AC68-AB68))/(AA68-Z68)) -> 5 | AE68: =$U$8 -> 3 | AF68: =$U$9 -> 3 | AG68: =AE68+(((Y68-Z68)*(AF68-AE68))/(AA68-Z68)) -> 3
A69: =대상시설물현황!C11 -> 와우 배수지 | B69: 2013 | C69: =대상시설물현황!D11 -> 100 | D69: 3 | E69: =F69-D69 -> 2 | F69: 5 | G69: 1 | H69: 0.95 | I69: 1 | J69: 1 | K69: =G69*H69*I69*J69 -> 0.95 | L69: =TRUNC(D69*K69*$E$58,2) -> 2.85 | M69: =TRUNC(E69*K69*$E$58,2) -> 1.9 | N69: =L69+M69 -> 4.75 | O69: =TRUNC(N69*$D$3,0) -> 1476699 | P69: =TRUNC(O69*$E$33,0) -> 1624368 | Q69: =TRUNC((O69+P69)*$E$34,0) -> 620213 | R69: =TRUNC(L69*$C$35,0) -> 71250 | S69: =TRUNC((L69/4)*일위대가!$L$13,0) -> 35301 | T69: =TRUNC(TRUNC(L69*0.4,3)*노임단가!$E$12,0) -> 257779 | U69: =TRUNC(L69*$D$3*$E$39,0) -> 88601 | V69: =TRUNC(O69*$L$40,0) -> 73834 | W69: =SUM(O69:V69) -> 4248045 | Y69: 3000 | Z69: 2 | AA69: 5 | AB69: 5 | AC69: 5 | AD69: 5 | AE69: 3 | AF69: 3 | AG69: 3
A70: =대상시설물현황!C12 -> 고북 배수지 | B70: 2013 | C70: =대상시설물현황!D12 -> 2000 | D70: =AG70 -> 3 | E70: =F70-D70 -> 2 | F70: =TRUNC(AD70,2) -> 5 | G70: 1 | H70: 0.95 | I70: 1 | J70: 1 | K70: =G70*H70*I70*J70 -> 0.95 | L70: =TRUNC(D70*K70*$E$58,2) -> 2.85 | M70: =TRUNC(E70*K70*$E$58,2) -> 1.9 | N70: =L70+M70 -> 4.75 | O70: =TRUNC(N70*$D$3,0) -> 1476699 | P70: =TRUNC(O70*$E$33,0) -> 1624368 | Q70: =TRUNC((O70+P70)*$E$34,0) -> 620213 | R70: =TRUNC(L70*$C$35,0) -> 71250 | S70: =TRUNC((L70/4)*일위대가!$L$13,0) -> 35301 | T70: =TRUNC(TRUNC(L70*0.4,3)*노임단가!$E$12,0) -> 257779 | U70: =TRUNC(L70*$D$3*$E$39,0) -> 88601 | V70: =TRUNC(O70*$L$40,0) -> 73834 | W70: =SUM(O70:V70) -> 4248045 | Y70: 100 | Z70: 2000 | AA70: 5000 | AB70: 5 | AC70: 5 | AD70: =AB70+(((Y70-Z70)*(AC70-AB70))/(AA70-Z70)) -> 5 | AE70: =$U$8 -> 3 | AF70: =$U$9 -> 3 | AG70: =AE70+(((Y70-Z70)*(AF70-AE70))/(AA70-Z70)) -> 3
E72: 성연배수지 = 서산테크노밸리 배수지 같은곳 | O72: =TRUNC(#REF!/4,2) -> #REF! | R72: =TRUNC(#REF!/4,2) -> #REF! | T72: =TRUNC(#REF!*0.4,2) -> #REF!
E73: 수석고배수지 = 수석 저배수지 같은곳에 있음 | O73: =TRUNC(L64/4,2) -> 0.71 | R73: =TRUNC(L64/4,2) -> 0.71 | T73: =TRUNC(L64*0.4,2) -> 1.14
O74: =TRUNC(#REF!/4,2) -> #REF! | R74: =TRUNC(#REF!/4,2) -> #REF! | T74: =TRUNC(#REF!*0.4,2) -> #REF!

Sheet 일위대가
A1: 일 위 대 가
A3: =내역서!A2 -> 2026년 하반기 생활용 배수지 정기안전점검 용역(남부) 설계예산서
A4: 공 종 | C4: 규 격 | D4: 단위 | E4: 수량 | F4: 재 료 비 | H4: 노 무 비 | J4: 경 비 | L4: 합 계 | M4: 비 고
F5: 단 가 | G5: 금 액 | H5: 단 가 | I5: 금 액 | J5: 단 가 | K5: 금 액
A6: 제 1호표 인쇄비 | C6: 1권당 50쪽 | D6: 부 | E6: 1 | G6: =SUM(G7:G11) -> 14280 | I6: =SUM(I8:I11) -> 0 | K6: =SUM(K7:K11) -> 3000 | L6: =G6+I6+K6 -> 17280 | O6: =내역서!H5 -> 1
A7: 표지 | B7: 아트지 | D7: 부 | E7: 1 | F7: =ROUND(1000*O6,0) -> 1000 | G7: =INT(E7*F7) -> 1000 | I7: =INT(E7*H7) -> 0 | K7: =INT(E7*J7) -> 0 | L7: =G7+I7+K7 -> 1000
A8: 속지(흑백) | B8: A4 | D8: 쪽 | E8: 200 | F8: =ROUND(50*O6,0) -> 50 | G8: =INT(E8*F8) -> 10000 | I8: =INT(E8*H8) -> 0 | K8: =INT(E8*J8) -> 0 | L8: =G8+I8+K8 -> 10000
A9: 속지(칼라) | B9: A4 | D9: 쪽 | E9: 8 | F9: =ROUND(350*O6,0) -> 350 | G9: =INT(E9*F9) -> 2800 | I9: =INT(E9*H9) -> 0 | K9: =INT(E9*J9) -> 0 | L9: =G9+I9+K9 -> 2800
A10: 간지 | D10: 쪽 | E10: 8 | F10: =ROUND(60*O6,0) -> 60 | G10: =INT(E10*F10) -> 480 | I10: =INT(E10*H10) -> 0 | K10: =INT(E10*J10) -> 0 | L10: =G10+I10+K10 -> 480
A11: 제본 | D11: 부 | E11: 3 | G11: - | I11: - | J11: =ROUND(1000*O6,0) -> 1000 | K11: =J11*E11 -> 3000 | L11: =K11 -> 3000
A13: 제 2호표 차량운행비 | D13: 일 | E13: 1 | G13: =SUM(G14:G18) -> 47799 | I13: =SUM(I14:I18) -> 0 | K13: =SUM(K14:K18) -> 1747 | L13: =G13+I13+K13 -> 49546
A14: 손료(손율 1,570*10E-7) | D14: 식 | E14: 1 | G14: =INT(E14*F14) -> 0 | I14: =INT(E14*H14) -> 0 | K14: =INT(E14*J14) -> 0 | N14: =1547*0.000001 -> 0.001547
A15: =노임단가!E19 -> 19600000 | G15: =INT(E15*F15) -> 0 | I15: =INT(E15*H15) -> 0 | K15: =INT(E15*J15) -> 0 | N15: =노임단가!E19*일위대가!N14 -> 30321.2
A16: =N16 -> 30321.2 | F16: =ROUNDUP(N16,0) -> 30322 | G16: =F16 -> 30322 | I16: =INT(E16*H16) -> 0 | K16: =INT(E16*J16) -> 0 | N16: =N15 -> 30321.2 | O16: ㆍ1일 손료 : 2,073원/시간 * 8시간/일 = 16,584원/일
A17: 주연료 | B17: 휘발유 | D17: ℓ | E17: 10 | F17: =노임단가!E18 -> 1747.7 | G17: =INT(E17*F17) -> 17477 | I17: =INT(E17*H17) -> 0 | K17: =INT(E17*J17) -> 0
A18: 잡품 | B18: 주연료의 10% | D18: 식 | E18: 1 | G18: =INT(E18*F18) -> 0 | I18: =INT(E18*H18) -> 0 | J18: =G17*0.1 -> 1747.7 | K18: =INT(E18*J18) -> 1747
A20: 제 3호표 내진성능평가(정수장) | D20: 개소 | E20: 1 | G20: =SUM(G21:G24) -> 0 | I20: =SUM(I21:I24) -> 9326520 | K20: =SUM(K21:K24) -> 14176310 | L20: =G20+I20+K20 -> 23502830
A21: 구조해석 | B21: 고급기술자 | D21: 인 | E21: =C22*E22 -> 30 | G21: =INT(E21*F21) -> 0 | H21: =노임단가!E4 -> 310884 | I21: =INT(E21*H21) -> 9326520 | K21: =INT(E21*J21) -> 0 | L21: =G21+I21+K21 -> 9326520
A22: * 구조해석소요인원 : | C22: 15 | E22: 2
A23: 제경비 | B23: 직접인건비*115% | D23: 식 | E23: 1 | G23: =INT(E23*F23) -> 0 | I23: =INT(E23*H23) -> 0 | J23: =INT(L21*대가산출!E33) -> 10259172 | K23: =INT(E23*J23) -> 10259172 | L23: =G23+I23+K23 -> 10259172
A24: 기술료 | B24: (직접인건비+제경비)*30% | D24: 식 | E24: 1 | G24: =INT(E24*F24) -> 0 | I24: =INT(E24*H24) -> 0 | J24: =INT((L21+L23)*대가산출!E34) -> 3917138 | K24: =INT(E24*J24) -> 3917138 | L24: =G24+I24+K24 -> 3917138
A26: 제 4호표 내진성능평가(절토부옹벽) | D26: 개소 | E26: 1 | G26: =SUM(G27:G30) -> 0 | I26: =SUM(I27:I30) -> 5964924 | K26: =SUM(K27:K30) -> 596492 | L26: =G26+I26+K26 -> 6561416
A27: 구조해석 | B27: 고급기술자 | D27: 인 | E27: =C28*E28 -> 28 | G27: =INT(E27*F27) -> 0 | H27: =노임단가!E10 -> 213033 | I27: =INT(E27*H27) -> 5964924 | K27: =INT(E27*J27) -> 0 | L27: =G27+I27+K27 -> 5964924
A28: * 구조해석소요인원 : | C28: 14 | E28: 2
A29: 제경비 | B29: 직접인건비*115% | D29: 식 | E29: 1 | G29: =INT(E29*F29) -> 0 | I29: =INT(E29*H29) -> 0 | J29: =INT(L27*대가산출!E40) -> 596492 | K29: =INT(E29*J29) -> 596492 | L29: =G29+I29+K29 -> 596492
A30: 기술료 | B30: (직접인건비+제경비)*30% | D30: 식 | E30: 1 | G30: =INT(E30*F30) -> 0 | I30: =INT(E30*H30) -> 0 | J30: =INT((L27+L29)*대가산출!E41) -> 0 | K30: =INT(E30*J30) -> 0 | L30: =G30+I30+K30 -> 0

Sheet 대상시설물현황
A1: 대상시설물 현황
A3: 시설물 종류 | B3: 시설물 구분 | C3: 시설물명 | D3: 규격 | E3: 비 고
D4: (BxLxH)(m3)(m3/일)
A5: 기반시설 | B5: 배수지 | C5: 동문 배수지 | D5: 100 | E5: 생활용
C6: 고산 배수지 | D6: 500
C7: 수석 배수지(고) | D7: 6120
C8: 수석 배수지(저) | D8: 20000
C9: 오학 배수지 | D9: 3280
C10: 예천 배수지 | D10: 3000
C11: 와우 배수지 | D11: 100
C12: 고북 배수지 | D12: 2000

Sheet 노임단가
A1: 노임단가 및 재료비 | H1: 낙찰율적용
A2: 구분 | B2: 구분 | D2: 단위 | E2: 단가(원) | F2: 비 고 | H2: 1
A3: 노임단가 | B3: 건설 및 기타 | C3: 특급기술자 | D3: 인.일 | E3: 373353 | H3: =ROUND(E3*$H$2,0) -> 373353
C4: 고급기술자 | D4: 인.일 | E4: 310884 | H4: =ROUND(E4*$H$2,0) -> 310884
C5: 중급기술자 | D5: 인.일 | E5: 295138 | H5: =ROUND(E5*$H$2,0) -> 295138
C6: 초급기술자 | D6: 인.일 | E6: 235459 | H6: =ROUND(E6*$H$2,0) -> 235459
C7: 고급숙련 | D7: 인.일 | E7: 281075 | H7: =ROUND(E7*$H$2,0) -> 281075
C8: 중급숙련 | D8: 인.일 | E8: 250087 | H8: =ROUND(E8*$H$2,0) -> 250087
C9: 초급숙련 | D9: 인.일 | E9: 218142 | H9: =ROUND(E9*$H$2,0) -> 218142
C10: 작업반장 | D10: 인.일 | E10: 213033 | H10: =ROUND(E10*$H$2,0) -> 213033
C11: 보통인부 | D11: 인.일 | E11: 172068 | H11: =ROUND(E11*$H$2,0) -> 172068
C12: 특별인부 | D12: 인.일 | E12: 226122 | H12: =ROUND(E12*$H$2,0) -> 226122
C13: 잠수부 | D13: 인.일 | H13: =ROUND(E13*$H$2,0) -> 0
C14: 선부(보통인부) | D14: 인.일 | H14: =ROUND(E14*$H$2,0) -> 0
C15: 보링공 | D15: 인.일 | H15: =ROUND(E15*$H$2,0) -> 0
C16: 도장공 | D16: 인.일 | H16: =ROUND(E16*$H$2,0) -> 0
A17: 유류비 | B17: 경유 | C17: 석유공사 공시 | D17: ℓ | E17: 1603.69 | H17: =ROUND(E17*$H$2,0) -> 1604
B18: 휘발유 | D18: ℓ | E18: 1747.7 | H18: =ROUND(E18*$H$2,0) -> 1748
A19: 차량 | B19: 1600CC 미만 | D19: 대 | E19: 19600000 | H19: =ROUND(E19*$H$2,0) -> 19600000 | I19: 2000cc미만 중고차 시장가격 평균가 적용
A20: 주) 1. 엔지니어링노임단가 : 2025년 12월 2일 공포 기준
A21: 2. 재료비 : 2025. 2월 기준

Sheet 엔지니어 노임단가

Sheet 용역손해배상보험료
A1: ▣ 별첨#2 용역손해배상보험료
A3: ■ 용역손해배상보험료 산정
A4: 1. 용역손해배상보험 요율(기본 및 실시설계)/ 엔지니어링 공제조합
B5: 용역금액(계약금액) | L5: 표준
A6: 공사종류 | B6: 5억원이하 | D6: 5억원초과10억원이하 | F6: 10억원초과20억원이하 | H6: 20억원초과30억원이하 | J6: 30억원초과50억원이하 | L6: 공사
B7: 기본요율 | C7: 가산요율 | D7: 기본요율 | E7: 가산요율 | F7: 기본요율 | G7: 가산요율 | H7: 기본요율 | I7: 가산요율 | J7: 기본요율 | K7: 가산요율 | L7: 기간
A8: 교량공사 | B8: 0.558 | C8: 0.09 | D8: 0.54 | E8: 0.087 | F8: 0.524 | G8: 0.084 | H8: 0.507 | I8: 0.082 | J8: 0.491 | K8: 0.078 | L8: 3
A9: 공항건설공사 | B9: 0.631 | C9: 0.1 | D9: 0.613 | E9: 0.099 | F9: 0.594 | G9: 0.096 | H9: 0.575 | I9: 0.093 | J9: 0.555 | K9: 0.09 | L9: 5
A10: 댐축조공사 | B10: 0.697 | C10: 0.112 | D10: 0.678 | E10: 0.107 | F10: 0.655 | G10: 0.106 | H10: 0.636 | I10: 0.101 | J10: 0.613 | K10: 0.099 | L10: 5
A11: 도로공사 | B11: 0.501 | C11: 0.081 | D11: 0.487 | E11: 0.078 | F11: 0.472 | G11: 0.076 | H11: 0.457 | I11: 0.073 | J11: 0.442 | K11: 0.07 | L11: 3
A12: 에너지저장시설공사 | B12: 0.501 | C12: 0.081 | D12: 0.487 | E12: 0.078 | F12: 0.472 | G12: 0.076 | H12: 0.457 | I12: 0.073 | J12: 0.442 | K12: 0.07 | L12: 3
A13: 간척공사 | B13: 0.569 | C13: 0.091 | D13: 0.552 | E13: 0.088 | F13: 0.534 | G13: 0.085 | H13: 0.518 | I13: 0.084 | J13: 0.5 | K13: 0.081 | L13: 5
A14: 항만공사 | B14: 0.569 | C14: 0.091 | D14: 0.552 | E14: 0.088 | F14: 0.534 | G14: 0.085 | H14: 0.518 | I14: 0.084 | J14: 0.5 | K14: 0.081 | L14: 5
A15: 철도공사 | B15: 0.446 | C15: 0.072 | D15: 0.433 | E15: 0.069 | F15: 0.419 | G15: 0.067 | H15: 0.406 | I15: 0.066 | J15: 0.393 | K15: 0.063 | L15: 3
A16: 지하철공사 | B16: 0.697 | C16: 0.112 | D16: 0.678 | E16: 0.107 | F16: 0.655 | G16: 0.106 | H16: 0.636 | I16: 0.101 | J16: 0.613 | K16: 0.099 | L16: 4
A17: 터널공사 | B17: 0.697 | C17: 0.112 | D17: 0.678 | E17: 0.107 | F17: 0.655 | G17: 0.106 | H17: 0.636 | I17: 0.101 | J17: 0.613 | K17: 0.099 | L17: 4
A18: 발전소건설공사 | B18: 0.596 | C18: 0.096 | D18: 0.576 | E18: 0.093 | F18: 0.56 | G18: 0.09 | H18: 0.54 | I18: 0.087 | J18: 0.524 | K18: 0.084 | L18: 3
A19: 쓰레기소각로건설공사 | B19: 0.772 | C19: 0.124 | D19: 0.749 | E19: 0.119 | F19: 0.725 | G19: 0.116 | H19: 0.703 | I19: 0.112 | J19: 0.679 | K19: 0.107 | L19: 2
... A29: 공동주택건설공사 | B29: 0.431 | C29: 0.069 | D29: 0.418 | E29: 0.067 | F29: 0.406 | G29: 0.066 | H29: 0.393 | I29: 0.063 | J29: 0.379 | K29: 0.06 | L29: 3
A30: 평균 | B30: =AVERAGE(B8:B29) -> 0.54740909 | C30: =AVERAGE(C8:C29) -> 0.087818182 | D30: =AVERAGE(D8:D29) -> 0.53136364 | E30: =AVERAGE(E8:E29) -> 0.084818182 | F30: =AVERAGE(F8:F29) -> 0.51472727 | G30: =AVERAGE(G8:G29) -> 0.082954545 | H30: =AVERAGE(H8:H29) -> 0.49881818 | I30: =AVERAGE(I8:I29) -> 0.079818182 | ... K30: =AVERAGE(K8:K29) -> 0.097045455 | L30: 3.136
A32: 2. 용역손해배상보험 산정
A33: 설계ㆍ건설사업관리 용역손해배상보험 또는 공제 업무요령[국토교통부고시 제2017-219호, 2017. 4. 11., 일부개정]
A34: 1. 공제료 산정방법 : 순용역금액 × 적용요율
A35: 2. 적용요율 = 기본요율 + 적용가산요율
A36: 3. 적용가산요율 = 가산요율 × 표준공사기간초과일수/365
A37: 4. 요율표상의 금액별 요율은 구간요율임.
A38: 5. 동일 설계건에 대해 여러 가지 공사가 복합된 경우는 공사금액대비로 용역금액을 나누어 각각의 공종에 해당하는 요율을 곱한 후 더해서 산출함.
A39: 6. 수수료 산정 (공사기간 2년으로 산정 : 표준공사일수)
A40: 적용 용역금액 : | B40: =내역서!K6 -> 36615222
A41: 5억원 이하 : | B41: =" "&FIXED(B40,0)&"×("&FIXED(B22,3)&"%+"&FIXED(C22,3)&"%×"&FIXED(0,0)&"/365) = " -> 36,615,222×(0.652%+0.104%×0/365) = | E41: =B40*(B21%+C21%*0/365) -> 222254.4
A42: 계 | E42: =SUM(E41:E41) -> 222254.4
A43: 적용 | E43: =ROUNDDOWN(E42,0) -> 222254
