Workbook
Name _111111111111111111: #REF!
Name _21212331: #REF!
Name _213123: #REF!
Name \a: #REF!
Name \x: #REF!
Name \z: #REF!
Name aaa: #REF!
Name aaa: #REF!
Name cvb: '[1]토공'!$A$1:$IV$2
Name ert: #REF!
Name jkl: #REF!
Name Print_Area_MI: #REF!
Name Print_Titles_MI: #REF!
Name Print_Titles_MI: #REF!
Name zzS11111: #REF!
Name 교량: '[2]토공'!$A$1:$IV$2
Name 교량2: '[2]토공'!$A$1:$IV$2
Name 내역서을지: '[3]총괄내역서'!#REF!
Name 내역서을지: #REF!
Name 내역서을지: #REF!
Name 내역서을지: '[4]총괄내역서'!#REF!
Name 내역서을지: '[5]총괄내역서'!#REF!
Name 내역서을지: 총괄내역서!#REF!
Name ㅁ450: '[6]내역서(삼호)'!#REF!
Name ㅁ450: '[6]내역서(삼호)'!#REF!
Name ㅁ500: '[6]내역서(삼호)'!#REF!
Name ㅁ500: '[6]내역서(삼호)'!#REF!
Name 저라: #REF!

Sheet 표지및목차
B2: 지방도456호선 횡계지구 배수시설 정비공사
B3: 설 계 서
C11: 2026. 10.
C17: 강원특별자치도도로관리사업소 강릉지소
D21: 목 차
D23: Ⅰ. | E23: 설 계 설 명 서
D24: Ⅱ. | E24: 시방서
D25: Ⅲ. | E25: 예정공정표
D26: Ⅳ. | E26: 동원인원계획표
D27: Ⅴ. | E27: 설 계 예 산 서
D35: Ⅰ. | E35: =E23 -> 설 계 설 명 서
D46: Ⅱ. | E46: =E24 -> 시방서
D57: Ⅲ. | E57: =E25 -> 예정공정표
D68: Ⅳ. | E68: =E26 -> 동원인원계획표
D79: Ⅴ. | E79: =E27 -> 설 계 예 산 서

Sheet 설계설명서
A1: ≪ 설 계 설 명 서 ≫
A3: 1. 사업의 목적
A4: 본 과업은 지방도 내 도로 시설물 불량 구간 정비를 통해 안전하고 쾌적한 도로환경 조성을 목적으로 함.
A6: 2. 사 업 명
A7: =표지및목차!B2 -> 지방도456호선 횡계지구 배수시설 정비공사
A9: 3. 사 업 위 치
A10: 강원특별자치도 평창군 대관령면 횡계리 일원
A12: 4. 사 업 개 요
A13: =총괄내역갑지!D10 -> 1) 토 공 | B13: =총괄내역갑지!F10 -> : 구조물터파기(토사) 310㎥, 되메우기 61㎥, 사토(토사) 248㎥
A14: =총괄내역갑지!D11 -> 2) 배 수 공 | B14: =총괄내역갑지!F11 -> : L형측구(H=0.2m) L=176m, 옹벽형L형측구(H=0.9m) L=53m, 우수받이(300×400×700) 1개소
A15: =총괄내역갑지!D12 -> 3) 포 장 공 | B15: =총괄내역갑지!F12 -> : 아스팔트포장복구(T=85cm) A=115㎡
A16: =총괄내역갑지!D13 -> 4) 부 대 공 | B16: =총괄내역갑지!F13 -> : 1식
A17: =총괄내역갑지!D14 -> 0 | B17: =총괄내역갑지!F14 -> 0
A18: =총괄내역갑지!D15 -> 0 | B18: =총괄내역갑지!F15 -> 0
A19: =총괄내역갑지!D16 -> 0 | B19: =총괄내역갑지!F16 -> 0
A20: =총괄내역갑지!D17 -> 0 | B20: =총괄내역갑지!F17 -> 0
A21: 5. 설계 변경 조건
A22: 본 공사는 다음과 같은 사항이 발생하였을 때 설계변경 할 수 있다.
A23: 가. 설계당시 조사불가능한 부분 및 조사후 변경된 사항에 대하여는 실제에 맞추어 변경
A24: 나. 시공결과 구조물 및 토공의 추정 암반선이 변경될 경우 실제에 맞추어 변경
A25: 다. 유용토 운반거리 등 각종 운반거리가 변경될 경우
A26: 라. 천재지변 등으로 인하여 설계변경이 불가피한 경우
A27: 마. 확인측량 결과 지형의 차이 등 현지여건이 변경되었을 때
A28: 바. 발주청의 방침변경 등으로 인하여 설계변경이 불가피할 경우의 조사, 설계비 반영 및 시공비 변경
A29: 사. 신기술ㆍ특허 적용시 여러 종류의 같은 공법을 비교 검토하여 경제성이 유리하고 설계 도면보다 상회하는 공법으로 변경할 수 있으며
A30: 또한 현장여건 및 발주청의 사정에 따라 변경가능
A31: 아. 기타 현장 여건변동 등에 따라 정당한 설계변경사유가 발생하였을 때
A33: 6. 공사용 중기
... A67: 3) 노임 및 품셈 : 2026년도 하반기 정부중노임기준 및 건설공사 표준품셈에 의거 산정
E61814: 〃

Sheet 공정,예정
D2: ≪ 예 정 공 정 표 ≫
D3: ▣ 공 사 명 : | F3: =설계설명서!A7 -> 지방도456호선 횡계지구 배수시설 정비공사 | S3: =450/5 -> 90
A4: 세부 공기 | B4: 월 별 적용비율 | C4: 검 산 | D4: 공 종 | G4: 보 할 | H4: 공 사 기 간 | N4: 비 고 | O4: 계 | P4: 차 | Q4: 공 종 별 공 사 비 | R4: 적용요율
H5: 1개월 | K5: 2개월
G6: ( % ) | H6: 10 | I6: 20 | J6: 30 | K6: 40 | L6: 50 | M6: 60
A7: 6 | B7: =IF(A7>0,ROUND(G7/A7,1),0) -> #DIV/0! | C7: =P7 -> #DIV/0! | D7: 1 | E7: 토공 | G7: =R7 -> #DIV/0! | H7: 3.2 | I7: 3.2 | J7: 3.2 | K7: 3.2 | L7: 3.2 | M7: 3.4 | O7: =SUM(H7:M7) -> 19.4 | P7: =IF(G7-O7=0,"0.0",G7-O7) -> #DIV/0! | Q7: =총괄내역서!H5 -> 0 | R7: =ROUND(Q7/$Q$11*100,1) -> #DIV/0!
A8: 4 | B8: =IF(A8>0,ROUND(G8/A8,1),0) -> #DIV/0! | C8: =P8 -> #DIV/0! | D8: 2 | E8: 배수공 | G8: =R8 -> #DIV/0! | I8: 11.9 | J8: 11.9 | K8: 11.9 | L8: 12 | O8: =SUM(H8:M8) -> 47.7 | P8: =IF(G8-O8=0,"0.0",G8-O8) -> #DIV/0! | Q8: =총괄내역서!H6 -> 0 | R8: =ROUND(Q8/$Q$11*100,1) -> #DIV/0!
A9: 4 | B9: =IF(A9>0,ROUND(G9/A9,1),0) -> #DIV/0! | C9: =P9 -> #DIV/0! | D9: 4 | E9: 포장공 | G9: =R9 -> #DIV/0! | I9: 4 | J9: 4 | K9: 4 | L9: 4.1 | O9: =SUM(H9:M9) -> 16.1 | P9: =IF(G9-O9=0,"0.0",G9-O9) -> #DIV/0! | Q9: =총괄내역서!H7 -> 0 | R9: =ROUND(Q9/$Q$11*100,1) -> #DIV/0!
A10: 6 | B10: =IF(A10>0,ROUND(G10/A10,1),0) -> #DIV/0! | C10: =P10 -> #DIV/0! | D10: 5 | E10: 부대공 | G10: =R10 -> #DIV/0! | H10: 2.8 | I10: 2.8 | J10: 2.8 | K10: 2.8 | L10: 2.8 | M10: 2.8 | O10: =SUM(H10:M10) -> 16.8 | P10: =IF(G10-O10=0,"0.0",G10-O10) -> #DIV/0! | Q10: =총괄내역서!H8 -> 0 | R10: =ROUND(Q10/$Q$11*100,1) -> #DIV/0!
D11: 월 계 | G11: =SUM(G7:G10) -> #DIV/0! | H11: =SUM(H7:H10) -> 6 | I11: =SUM(I7:I10) -> 21.9 | J11: =SUM(J7:J10) -> 21.9 | K11: =SUM(K7:K10) -> 21.9 | L11: =SUM(L7:L10) -> 22.1 | M11: =SUM(M7:M10) -> 6.2 | O11: =SUM(H11:M11) -> 100 | P11: =IF(G11-O11=0,"0.0",G11-O11) -> #DIV/0! | Q11: =SUM(Q7:Q10) -> 0 | R11: =SUM(R7:R10) -> #DIV/0!
D12: 누 계 | H12: =H11 -> 6 | I12: =H12+I11 -> 27.9 | J12: =I12+J11 -> 49.8 | K12: =J12+K11 -> 71.7 | L12: =K12+L11 -> 93.8 | M12: =L12+M11 -> 100 | P12: 사급자재 | Q12: =총괄내역서!H9 -> 0
P13: 총 계 | Q13: =SUM(Q11:Q12) -> 0
A14: 1. 직접노무비 : | C14: =총괄내역서!J10 -> 0 | G14: 보통인부 : | H14: 172698 | J14: =ROUND(C16/H14*0.35,0) -> 0
A15: 2. 간접노무비 : | C15: =총괄내역서!H11 -> 0 | G15: 특별인부 : | H15: 228717 | J15: =ROUND(C16/H15*0.65,0) -> 0
A16: 계 | C16: =SUM(C14:E15) -> 0 | G16: 계 | H16: =SUM(K14:K15) -> 0
D17: ≪ 동 원 인 원 계 획 표 ≫
D18: ▣ 공 사 명 : | F18: ='공정,예정'!F3:N3 -> 지방도456호선 횡계지구 배수시설 정비공사
B19: 검 산 | D19: 공 종 | G19: 계 | H19: 공 사 기 간 | N19: 비 고
H20: 1개월 | K20: 2개월
H21: 10 | I21: 20 | J21: 30 | K21: 40 | L21: 50 | M21: 60
D22: 보 통 인 부 | G22: =J14 -> 0 | H22: =ROUND(($G$22*H11)/100,0) -> 0 | I22: =ROUND(($G$22*I11)/100,0) -> 0 | J22: =ROUND(($G$22*J11)/100,0) -> 0 | K22: =ROUND(($G$22*K11)/100,0) -> 0 | L22: =ROUND(($G$22*L11)/100,0) -> 0 | M22: =ROUND(($G$22*M11)/100,0)-1 -> -1 | P22: =SUM(H22:M22) -> -1
D23: 기 술 공 | G23: =J15 -> 0 | H23: =ROUND(($G$23*H11)/100,0) -> 0 | I23: =ROUND(($G$23*I11)/100,0) -> 0 | J23: =ROUND(($G$23*J11)/100,0) -> 0 | K23: =ROUND(($G$23*K11)/100,0) -> 0 | L23: =ROUND(($G$23*L11)/100,0) -> 0 | M23: =ROUND(($G$23*M11)/100,0) -> 0 | P23: =SUM(H23:M23) -> 0
D24: 월 계 | G24: =SUM(G22:G23) -> 0 | H24: =SUM(H22:H23) -> 0 | I24: =SUM(I22:I23) -> 0 | J24: =SUM(J22:J23) -> 0 | K24: =SUM(K22:K23) -> 0 | L24: =SUM(L22:L23) -> 0 | M24: =SUM(M22:M23) -> -1
D25: 누 계 | H25: =H24 -> 0 | I25: =H25+I24 -> 0 | J25: =I25+J24 -> 0 | K25: =J25+K24 -> 0 | L25: =K25+L24 -> 0 | M25: =L25+M24 -> -1

Sheet 총괄내역갑지
E1: 설 | G1: 심 | J1: 팀 | M1: 소
A2: 2026 | B2: 10 | E2: 계 | G2: 사
E3: 자 | G3: 자 | J3: 장 | M3: 장
A4: 2 0 2 6 년
A6: =설계설명서!A7&" 설계예산서" -> 지방도456호선 횡계지구 배수시설 정비공사 설계예산서
D8: ▣ 공사개요
D10: 1) 토 공 | F10: : 구조물터파기(토사) 310㎥, 되메우기 61㎥, 사토(토사) 248㎥
D11: 2) 배 수 공 | F11: : L형측구(H=0.2m) L=176m, 옹벽형L형측구(H=0.9m) L=53m, 우수받이(300×400×700) 1개소
D12: 3) 포 장 공 | F12: : 아스팔트포장복구(T=85cm) A=115㎡
D13: 4) 부 대 공 | F13: : 1식
C18: ○ 총 사 업 비 : | F18: =" 금"&NUMBERSTRING($I$18,1)&"원정" -> 금영원정 | I18: =I20+I21 -> 0
C20: ­ 도 급 예 정 액 : | F20: =" 금"&NUMBERSTRING($I$20,1)&"원정" -> 금영원정 | I20: =총괄내역서!H32 -> 0
C21: ­ 관 급 자 재 대 : | F21: =" 금"&NUMBERSTRING($I$21,1)&"원정" -> 금영원정 | I21: =총괄내역서!H33+총괄내역서!H34 -> 0

Sheet 총괄내역서
B1: =설계설명서!A7 -> 지방도456호선 횡계지구 배수시설 정비공사
B2: 공 종 | D2: 규 격 | E2: 수 량 | F2: 단위 | G2: 총 액 | I2: 노 무 비 | K2: 재 료 비 | M2: 경 비 | O2: 비고
G3: 단 가 | H3: 금 액 | I3: 단 가 | J3: 금 액 | K3: 단 가 | L3: 금 액 | M3: 단 가 | N3: 금 액
B4: <<< 총 괄 표 >>>
A5: =IF(SUM(J5,L5,N5)=H5,"OK","검 토") -> OK | B5: 1 | C5: 토 공 | E5: 1 | F5: 식 | K5: =토목내역서!I5 | M5: =토목내역서!K5
B6: =B5+1 -> 2 | C6: 배 수 공 | E6: 1 | F6: 식 | K6: =토목내역서!I18 -> 0 | M6: =토목내역서!K18 -> 0
B7: =B6+1 -> 3 | C7: 포 장 공 | E7: 1 | F7: 식 | K7: =토목내역서!I29 -> 0 | M7: =토목내역서!K29 -> 0
B8: =B7+1 -> 4 | C8: 부 대 공 | E8: 1 | F8: 식 | K8: =토목내역서!I44 -> 0 | M8: =토목내역서!K44 -> 0
A9: =IF(SUM(J9,L9,N9)=H9,"OK","검 토") -> OK | B9: =B8+1 -> 5 | C9: 사급자재대 | E9: 1 | F9: 식 | Q9: 재료비+노무비 | R9: 도급자관급
A10: =IF(SUM(J10,L10,N10)=H10,"OK","검 토") -> OK | B10: * | C10: 직접공사비 | Q10: =J10+L10 -> 0 | R10: =H33 -> 0 | S10: =R10+Q10 -> 0
B11: =+B9+1 -> 6 | C11: 간접노무비 | D11: 0.191 | E11: 1 | F11: 식 | I11: 직접노무비 × 간접노무비율
B12: =B11+1 -> 7 | C12: 산재보험료 | D12: 0.0356 | E12: 1 | F12: 식 | I12: (직접노무비＋간접노무비) × 산재보험율
B13: =B12+1 -> 8 | C13: 고용보험료 | D13: 0.0101 | E13: 1 | F13: 식 | I13: (직접노무비＋간접노무비) × 고용보험율
B14: =B13+1 -> 9 | C14: 건강보험료 | D14: 0.03595 | E14: 1 | F14: 식 | I14: 직접노무비 × 건강보험율
B15: =B14+1 -> 10 | C15: 연금보험료 | D15: 0.0475 | E15: 1 | F15: 식 | I15: 직접노무비 × 연금보험율
B16: =B15+1 -> 11 | C16: 노인장기요양보험료 | D16: 0.1314 | E16: 1 | F16: 식 | I16: 건강보험료 × 노인장기요양보험료율
B17: =B16+1 -> 12 | C17: 산업안전보건관리비 | D17: 0.0315 | E17: 1 | F17: 식 | I17: (재료비＋직접노무비) × 산업안전관리비율×1.2배
B18: 0 | C18: 퇴직부금공제비 | D18: 0 | E18: 1 | F18: 식 | I18: 직접노무비 × 퇴직부금공제비율
B19: =B17+1 -> 13 | C19: 기 타 경 비 | D19: 0.055 | E19: 1 | F19: 식 | I19: (직접노무비＋간접노무비＋재료비) × 기타경비율
B20: =B19+1 -> 14 | C20: 환경보전비 | D20: 0.009 | E20: 1 | F20: 식 | I20: 직접공사비 × 환경보전비율
B21: 0 | C21: 하도급대금지급보증서 발급수수료 | D21: 0 | E21: 1 | F21: 식 | I21: 직접공사비 × 하도급대금지급보증서발급수수료율
B22: =B20+1 -> 15 | C22: 건설기계대여대금지급 보증 발급수수료 | D22: 0.0032 | E22: 1 | F22: 식 | I22: 직접공사비 × 건설기계대여대금지급보증발급수수료율
B23: =B22+1 -> 16 | C23: 법정부담금(석면분담금) | D23: 6e-05 | E23: 1 | F23: 식 | I23: (직접노무비＋간접노무비) × 석면분담금율
B24: =B23+1 -> 17 | C24: 법적부담금(임금채권부담금) | D24: 0.0009 | E24: 1 | F24: 식 | I24: (직접노무비＋간접노무비) × 임금채권부담금율
B25: =B24+1 -> 18 | C25: 안전관리비 | E25: 1 | F25: 식
B26: * | C26: 순 공 사 비 | I26: (간접노무비＋산재보험료＋ . . . ＋안전관리비)
A27: 이 윤 | B27: =B25+1 -> 19 | C27: 일반관리비 | D27: 0.08 | E27: 1 | F27: 식 | I27: (순공사비) × 일반관리비율
A28: =INT(($H$26+$H$27-L10)*$D$28) -> 0 | B28: =+B27+1 -> 20 | C28: 이 윤 | D28: 0.15 | E28: 1 | F28: 식 | I28: (순공사비＋일반관리비-재료비) × 이윤율
B29: 0 | C29: 페기물처리 | E29: 1 | F29: 식
A30: 7874794 | B30: * | C30: 공 급 가 액 | I30: (순공사비＋일반관리비+이윤+폐기물처리)
A31: =A28-A30 -> -7874794 | B31: =B28+1 -> 21 | C31: 부가가치세 | D31: 0.1 | E31: 1 | F31: 식 | I31: (공급가액) × 부가가치세
B32: * | C32: 도급예정액 | I32: (공급가액＋부가가치세) | P32: =H32 -> 0
B33: =B31+1 -> 22 | C33: 관급자재대 | D33: 도급자관급 | E33: 1 | F33: 식
B34: =B33+1 -> 23 | C34: 관급자재대 | D34: 관급자관급 | E34: 1 | F34: 식 | P34: =H34+H33 -> 0
B35: * | C35: 총 공 사 비 | I35: (도급예정액＋관급자재대) | P35: =P32+P34+#REF!+#REF! -> #REF!

Sheet 제경비산출근거
B1: <<< 제 경 비 산 출 근 거 >>>
A2: 토목공사
A3: 하천공사 | D3: ○ 공사분류 : | E3: =A2 -> 토목공사 | I3: ○ 공사규모 : | K3: 50억 미만 | L3: ○ 공사기간 : | N3: : 2개월(60일)
A4: 조경공사
A5: 전기공사 | C5: =총괄내역서!$B$11 -> 6 | D5: =총괄내역서!$C$11 -> 간접노무비 | E5: : | G5: 직접노무비 × 간접노무비율 ( 19.10 % )
A6: 5억미만 | C6: =총괄내역서!$B$12 -> 7 | D6: =총괄내역서!$C$12 -> 산재보험료 | E6: : | G6: (직접노무비＋간접노무비) × 산재보험율 ( 3.56 % )
A7: 5억~30억미만 | C7: =총괄내역서!B13 -> 8 | D7: =총괄내역서!$C$13 -> 고용보험료 | E7: : | G7: (직접노무비＋간접노무비) × 고용보험율 ( 1.01 % )
A8: 30억~50억미만 | C8: =총괄내역서!B14 -> 9 | D8: =총괄내역서!$C$14 -> 건강보험료 | E8: : | G8: 직접노무비 × 건강보험율 ( 3.595 % )
A9: 50억이상 | C9: =총괄내역서!B15 -> 10 | D9: =총괄내역서!$C$15 -> 연금보험료 | E9: : | G9: 직접노무비 × 연금보험율 ( 4.75 % )
A10: 50억이상 | C10: =총괄내역서!B16 -> 11 | D10: =총괄내역서!C16 -> 노인장기요양보험료 | E10: : | G10: 건강보험료 × 노인장기요양보험료율 ( 13.14 % )
C11: =총괄내역서!B17 -> 12 | D11: =총괄내역서!$C$17 -> 산업안전보건관리비 | E11: : | G11: (재료비[관급자재포함]＋직접노무비) × 산업안전관리비율 (3.15 %)
E12: : | G12: (재료비＋직접노무비) × (산업안전관리비율 (3.15 %) × 1.2배
C13: =총괄내역서!B18 -> 0 | D13: =총괄내역서!C18 -> 퇴직부금공제비 | E13: : | G13: 직접노무비 × 퇴직부금공제비율 ( 2.30 % )
C14: =총괄내역서!$B$19 -> 13 | D14: =총괄내역서!$C$19 -> 기 타 경 비 | E14: : | G14: (직접노무비＋간접노무비＋재료비) × 기타경비율 ( 5.50 % )
C15: =총괄내역서!$B$20 -> 14 | D15: =총괄내역서!$C$20 -> 환경보전비 | E15: : | G15: 직접공사비 × 환경보전비율 ( 0.90 %)
C16: =총괄내역서!$B$21 -> 0 | D16: 하도급대금발급수수료 | E16: : | G16: 직접공사비 × 하도급대금지급보증서발급수수료율 ( 0.081 %)
C17: =총괄내역서!B22 -> 15 | D17: 건설기계대여금보증수수료 | E17: : | G17: 직접공사비 × 건설기계대여대금지급보증 발급수수료 ( 0.32 %)
C18: =총괄내역서!B23 -> 16 | D18: 법정부담금(석면분담금) | E18: : | G18: (직접노무비＋간접노무비) × 석면분담금율 ( 0.006 % )
C19: =총괄내역서!B24 -> 17 | D19: 법적부담금(임금채권부담금) | E19: : | G19: (직접노무비＋간접노무비) × 임금채권부담금율 ( 0.09 % )
C20: =총괄내역서!$B$27 -> 19 | D20: =총괄내역서!$C$27 -> 일반관리비 | E20: : | G20: (직접공사비+간접공사비) × 일반관리비율 ( 8.00 % )
C21: =총괄내역서!$B$28 -> 20 | D21: =총괄내역서!$C$28 -> 이 윤 | E21: : | G21: (직접공사비+간접공사비＋일반관리비-재료비) × 이윤율 ( 15.00 % )
C22: ◇ | D22: 관급 자재대 | E22: : | G22: =G23+G24 -> 0 | I22: ÷ 1.10 | J22: = | K22: =INT(G22/1.1) -> 0 | L22: (조달수수료 제외)
D23: 1) 도급자관급 | E23: : | G23: =토목내역서!F72 -> 0 | I23: ÷ 1.10 | J23: = | K23: =INT(G23/1.1) -> 0 | L23: (조달수수료 제외)
D24: 2) 관급자 관급 | E24: : | G24: 0 | I24: ÷ 1.10 | J24: = | K24: =INT(G24/1.1) -> 0 | L24: (조달수수료 제외)
C25: ◇ | D25: 노 무 비 | E25: : | G25: =총괄내역서!$J$10 -> 0
C26: ◇ | D26: 재 료 비 | E26: : | G26: =총괄내역서!$L$10 -> 0 | I26: << 계 | J26: = | K26: =SUM(G25:$G$27) -> 0
C27: ◇ | D27: 경 비 | E27: : | G27: =총괄내역서!N10 -> 0
C29: =총괄내역서!$B$11 -> 6 | D29: =총괄내역서!$C$11 -> 간접노무비 | E29: : | G29: =$G$25 -> 0 | H29: × | I29: =총괄내역서!D11 -> 0.191 | J29: = | K29: =INT(G29*I29) -> 0 | Q29: =총괄내역서!H11 -> 0 | R29: =K29-Q29 -> 0
C30: =총괄내역서!$B$12 -> 7 | D30: =총괄내역서!$C$12 -> 산재보험료 | E30: : | G30: =$G$25+$K$29 -> 0 | H30: × | I30: =총괄내역서!D12 -> 0.0356 | J30: = | K30: =INT(G30*I30) -> 0 | Q30: =총괄내역서!H12 -> 0 | R30: =K30-Q30 -> 0
C31: =총괄내역서!$B$13 -> 8 | D31: =총괄내역서!$C$13 -> 고용보험료 | E31: : | G31: =$G$25+$K$29 -> 0 | H31: × | I31: =총괄내역서!D13 -> 0.0101 | J31: = | K31: =INT(G31*I31) -> 0 | M31: 18. 안전관리비 : | N31: =총괄내역서!H25 -> 0 | Q31: =총괄내역서!H13 -> 0 | R31: =K31-Q31 -> 0
C32: =총괄내역서!$B$14 -> 9 | D32: =총괄내역서!$C$14 -> 건강보험료 | E32: : | G32: =$G$25 -> 0 | H32: × | I32: =총괄내역서!D14 -> 0.03595 | J32: = | K32: =INT(G32*I32) -> 0 | Q32: =총괄내역서!H14 -> 0 | R32: =K32-Q32 -> 0
C33: =총괄내역서!B15 -> 10 | D33: =총괄내역서!$C$15 -> 연금보험료 | E33: : | G33: =$G$25 -> 0 | H33: × | I33: =총괄내역서!D15 -> 0.0475 | J33: = | K33: =INT(G33*I33) -> 0 | Q33: =총괄내역서!H15 -> 0 | R33: =K33-Q33 -> 0
C34: =총괄내역서!B16 -> 11 | D34: =총괄내역서!C16 -> 노인장기요양보험료 | E34: : | G34: =$K$32 -> 0 | H34: × | I34: =총괄내역서!D16 -> 0.1314 | J34: = | K34: =INT(G34*I34) -> 0 | Q34: =총괄내역서!H16 -> 0 | R34: =K34-Q34 -> 0
C35: =총괄내역서!B17 -> 12 | D35: 안전관리비 | E35: : | G35: =$K$23+$G$25+$G$26 -> 0 | H35: × | I35: =총괄내역서!D17 -> 0.0315 | L35: = | M35: =INT(G35*I35)+0 -> 0 | N35: =IF($M$35>$M$36,""," ( 적 용 )") -> ( 적 용 ) | Q35: =총괄내역서!H17 -> 0 | R35: =M35-Q35 -> 0
E36: : | F36: ( | G36: =$G$25+$G$26 -> 0 | H36: × | I36: =I35 -> 0.0315 | J36: ) × 1.2 | L36: = | M36: =INT(((G36*I36)+0)*1.2) -> 0 | N36: =IF($M$35<$M$36,""," ( 적 용 )") -> ( 적 용 ) | Q36: =총괄내역서!H17 -> 0 | R36: =M36-Q36 -> 0
C37: =총괄내역서!B18 -> 0 | D37: 퇴직부금공제비 | E37: : | G37: =$G$25 -> 0 | H37: × | I37: =총괄내역서!D18 -> 0 | J37: = | K37: =INT(G37*I37) -> 0
C38: =총괄내역서!$B$19 -> 13 | D38: =총괄내역서!$C$19 -> 기 타 경 비 | E38: : | G38: =$G$25+$K$29+$G$26 -> 0 | H38: × | I38: =총괄내역서!D19 -> 0.055 | J38: = | K38: =INT(G38*I38) -> 0 | Q38: =총괄내역서!H19 -> 0 | R38: =K38-Q38 -> 0
C39: =총괄내역서!$B$20 -> 14 | D39: =총괄내역서!$C$20 -> 환경보전비 | E39: : | G39: =$K$26 -> 0 | H39: × | I39: =총괄내역서!D20 -> 0.009 | J39: = | K39: =INT(G39*I39) -> 0 | Q39: =총괄내역서!H20 -> 0 | R39: =K39-Q39 -> 0
C40: =총괄내역서!$B$21 -> 0 | D40: 하도급대금발급수수료 | E40: : | G40: =$K$26 -> 0 | H40: × | I40: =총괄내역서!D21 -> 0 | J40: = | K40: =INT(G40*I40) -> 0 | Q40: =총괄내역서!H21 -> 0 | R40: =K40-Q40 -> 0
C41: =C17 -> 15 | D41: 건설기계대여금보증수수료 | E41: : | G41: =$K$26 -> 0 | H41: × | I41: =총괄내역서!D22 -> 0.0032 | J41: = | K41: =INT(G41*I41) -> 0 | Q41: =총괄내역서!H22 -> 0 | R41: =K41-Q41 -> 0
C42: =C18 -> 16 | D42: =D18 -> 법정부담금(석면분담금) | G42: =$G$25+$K$29 -> 0 | H42: × | I42: =총괄내역서!D23 -> 6e-05 | J42: = | K42: =INT(G42*I42) -> 0 | Q42: =총괄내역서!H23 -> 0 | R42: =K42-Q42 -> 0
C43: =C19 -> 17 | D43: =D19 -> 법적부담금(임금채권부담금) | G43: =$G$25+$K$29 -> 0 | H43: × | I43: =총괄내역서!D24 -> 0.0009 | J43: = | K43: =INT(G43*I43) -> 0 | Q43: =총괄내역서!H24 -> 0 | R43: =K43-Q43 -> 0
C44: =총괄내역서!$B$27 -> 19 | D44: =총괄내역서!$C$27 -> 일반관리비 | E44: : | G44: =K26+K29+K30+K31+K32+K33+K34+M36+K38+K39+K40+K37+K41+N30+N31+K42+K43 -> 0 | H44: × | I44: =총괄내역서!D27 -> 0.08 | J44: = | K44: =INT(G44*I44) -> 0 | Q44: =총괄내역서!H27 -> 0 | R44: =K44-Q44 -> 0
C45: =총괄내역서!$B$28 -> 20 | D45: =총괄내역서!$C$28 -> 이 윤 | E45: : | G45: =$G$44+$K$44-총괄내역서!L10 -> 0 | H45: × | I45: =총괄내역서!D28 -> 0.15 | J45: = | K45: =INT(G45*I45) -> 0 | L45: ≒ | M45: =총괄내역서!H28 -> 0 | Q45: =총괄내역서!H28 -> 0 | R45: =K45-Q45 -> 0 | S45: =M45-Q45 -> 0

Sheet 토목내역서
A1: =표지및목차!B2 -> 지방도456호선 횡계지구 배수시설 정비공사
A2: 공 종 | B2: 규 격 | C2: 수 량 | D2: 단위 | E2: 총 액 | G2: 노 무 비 | I2: 재 료 비 | K2: 경 비 | M2: 비 고
E3: 단 가 | F3: 금 액 | G3: 단 가 | H3: 금 액 | I3: 단 가 | J3: 금 액 | K3: 단 가 | L3: 금 액
A4: <<< 세 부 내 역 서 >>>
A5: 1. 토 공 | C5: 1 | D5: 식 | F5: 7233464 | H5: 4325718 | J5: 1332268 | L5: 1575478
A6: 1.01. 기존구조물철거
A7: (1) 구조물헐기(무근) | B7: 대형30CM미만 | C7: 65 | D7: ㎥
A8: (2) 구조물헐기(철근) | B8: 대형30CM미만 | C8: 2 | D8: ㎥
A9: (3) 아스콘포장깨기 | B9: 굴삭기 0.7㎥ | C9: 23 | D9: ㎥
A10: (4) 아스팔트포장절단 | C10: 236 | D10: m
A11: (5) 보도용 블럭 인력 철거 | B11: B-TYPE | C11: 1 | D11: ㎡
A12: (6) 보차도경계블럭 철거 | B12: 200×250, B-TYPE | C12: 2 | D12: m
A13: (7) 폐기물상차 | B13: 굴삭기 0.7㎥ | C13: 91 | D13: ㎥
A14: 1.02. 토 공
A15: (1) 구조물터파기(보통토사) | B15: TYPE-3 | C15: 310 | D15: ㎥
A16: (2) 되메우기및다짐 | B16: 소형장비 | C16: 61 | D16: ㎥
A17: (3) 사토(토사) | B17: L=3.0km | C17: 248 | D17: ㎥
A18: 2. 배 수 공 | C18: 1 | D18: 식
A19: 2.01. 측구공
A20: (1) 콘크리트타설(무근) | B20: 장비사용 | C20: 89 | D20: ㎥
A21: (2) 유로폼 조립.해체(벽체) | B21: 보통6회-수직고7.0m 이하 | C21: 318 | D21: ㎡
A22: (3) 문양거푸집설치및해체 | B22: 판넬 | C22: 40 | D22: ㎡
A23: (4) 철근가공조립(현장) | B23: TYPE-1-1 | C23: 0.229 | D23: ton
A24: (5) 신축이음(Joint filler) | B24: t=20mm | C24: 4 | D24: ㎡
A25: (6) 부직포 | C25: 19 | D25: ㎡
A26: (7) 배수관부설및접합(P.V.C) | B26: Ø 50 MM - VG2 일반관 | C26: 28 | D26: m
A27: 2.02. 우수받이
A28: (1) 우수받이 | B28: 300×400×700 | C28: 1 | D28: 개소
A29: 3. 포 장 공 | C29: 1 | D29: 식
A30: 3.01. 아스콘포장복구
A31: (1) 아스팔트 표층 소규모 포설 | B31: T=5cm | C31: 115 | D31: ㎡
A32: (2) 텍코팅(인력식) | B32: RSC-4:30ℓ/a | C32: 115 | D32: ㎡
A33: (3) 아스팔트 기층 소규모포설 | B33: T=15cm | C33: 115 | D33: ㎡
A34: (4) 프라임코팅(인력식) | B34: RSC-3:75ℓ/a,2회포설 | C34: 115 | D34: ㎡
A35: (5) 보조기층(인력식) | B35: 소규모장비 | C35: 72 | D35: ㎥
A36: (6) 동상방지층(인력식) | B36: 소규모장비 | C36: 162 | D36: ㎥
A37: 3.02. 보도블럭
A38: (1) 보도용블럭포장 | B38: B-TYPE, T=6㎝ | C38: 1 | D38: ㎡
A39: (2) 보조기층(인력식) | B39: 소규모장비 | C39: 1 | D39: ㎥
A40: 3.03. 경계석
A41: (1) 보차도경계석 | B41: 200×250, B-TYPE(직선구간) | C41: 2 | D41: m
A42: (2) 콘크리트타설(무근) | B42: 장비사용 | C42: 1 | D42: ㎥
A43: (3) 유로폼 조립.해체(벽체) | B43: 간단6회-수직고7.0m 이하 | C43: 1 | D43: ㎡
A44: 4. 부 대 공 | C44: 1 | D44: 식
A45: 4.01. 차선도색
A46: (1) 차선도색(페인트,기계식),유지보수 | B46: 백색-실선 | C46: 9 | D46: ㎡
A47: 4.02. 중기운반비
A48: (1) 중기운반비 | B48: 강릉시청⇒현장(횡계리 377-285) | C48: 1 | D48: 식
A49: 4.03. 자재운반비
A50: (1) 보조기층재운반 | B50: 진부면 하진부리⇒현장(횡계리 377-285) | C50: 94 | D50: ㎥
A51: (2) 동상방지층재운반 | B51: 진부면 하진부리⇒현장(횡계리 377-285) | C51: 209 | D51: ㎥
A52: (3) 모래운반 | B52: 진부면 하진부리⇒현장(횡계리 377-285) | C52: 1 | D52: ㎥
A53: (3) 철근운반비 | B53: 강릉역⇒현장(횡계리 377-285) | C53: 0.236 | D53: ton
A54: (4) 아스팔트운반비 | B54: 강릉역⇒현장(횡계리 377-285) | C54: 2 | D54: D/M
A55: 5. 사 급 자 재 대 | C55: 1 | D55: 식
A56: 5.01. 철근
A57: (1) 철근(SD400) | B57: HD19mm | C57: 0.236 | D57: ton
A58: 5.02. 아스팔트
A59: (1) 아스팔트 | B59: RSC-4 | C59: 1 | D59: D/M
A60: (2) 아스팔트 | B60: RSC-3 | C60: 1 | D60: D/M
A61: 5.03. 골재대
A62: (1) 보조기층 | B62: 40mm | C62: 90 | D62: ㎥
A63: (2) 동상방지층 | B63: 75mm | C63: 201 | D63: ㎥
A64: (3) 모래 | C64: 1 | D64: ㎥
A65: 5.04. 보차도경계석
A66: (1) 보차도경계석 | B66: 200×250, 직선 | C66: 2 | D66: m
A67: 5.05. 보도블럭
A68: (1) 보도블럭 | B68: T=6cm | C68: 1 | D68: ㎡
A72: 6. 관 급 자 재 대 | B72: 도급자관급 | C72: 1 | D72: 식
A73: 1) 레미콘
A74: 레미콘 | B74: 25-21-80 (평창군) | C74: 91 | D74: ㎥
A75: 조달수수료 | B75: 0.54%
A76: 2) 아스콘
A77: 표층 | B77: WC-2 (평창군) | C77: 14 | D77: ton
A78: 기층 | B78: BB-2 (평창군) | C78: 41 | D78: ton
A79: 조달수수료 | B79: 0.54%
A89: 7. 안 전 관 리 비 | C89: 1 | D89: 식
A90: 7.01. 공사중교통통제및안전처리
A91: (1) 공사중교통통제및안전처리 | C91: 1 | D91: 식
A92: (2) 교통신호수 | B92: 2인 | C92: 5 | D92: 일

Sheet 수량목차
A2: =표지및목차!B2 -> 지방도456호선 횡계지구 배수시설 정비공사
A3: 수량산출서
A10: =표지및목차!C11 -> 2026. 10.
C17: =표지및목차!C17 -> 강원특별자치도도로관리사업소 강릉지소
D20: --- 목 차 ---
D22: 자재집계표
D24: 토공
D26: 배수공
D28: 포장공
D30: 부대공
D46: =D22 -> 자재집계표
D63: =D24 -> 토공
D80: =D26 -> 배수공
D97: =D28 -> 포장공
D114: =D30 -> 부대공

Sheet 단가목차
A2: =표지및목차!B2 -> 지방도456호선 횡계지구 배수시설 정비공사
A3: 단가산출서
A10: =표지및목차!C11 -> 2026. 10.
C17: =표지및목차!C17 -> 강원특별자치도도로관리사업소 강릉지소
D21: --- 목 차 ---
D23: 물가시세표
D25: 중기사용료
D27: 단가목록표
D29: 단가산출근거
D31: 견적서
D45: 물가시세표
D62: 중기사용료
D79: 단가목록표
D96: 단가산출근거
D113: 견적서

Sheet 시방서
F2: 목 | H2: 차 | P2: 목 차
C4: 1.설계설명서 | F4: ------------------------------------
C5: 2.시방서 | F5: ------------------------------------ | P5: 1) | Q5: 일반사항
C6: 1)일반시방서 | F6: ------------------------------------ | P6: 2) | Q6: 특별사항
C7: 2)특별시방서 | F7: ------------------------------------
C8: 1.설계설명서 | F8: ------------------------------------
C9: 1.설계설명서 | F9: ------------------------------------
C10: 1.설계설명서 | F10: ------------------------------------
C18: 1.설계설명서 | F18: ------------------------------------ | P18: =P5 -> 1) | Q18: =Q5 -> 일반사항
C29: 2.시방서 | F29: ------------------------------------ | P29: =P6 -> 2) | Q29: =Q6 -> 특별사항
