Workbook
Name _1_: '[1]집계표(육상)'!#REF!
Name _1_: '[1]집계표(육상)'!#REF!
Name _1_: '[1]집계표(육상)'!#REF!
Name _10: #REF!
Name _10: #REF!
Name _10: #REF!
Name _10_3_0Crite: #REF!
Name _10_3_0Crite: #REF!
Name _10_3_0Crite: #REF!
Name _11: #REF!
Name _11: #REF!
Name _11: #REF!
Name _11_3_0Criteria: #REF!
Name _11_3_0Criteria: #REF!
Name _11_3_0Criteria: #REF!
Name _12_6: #REF!
Name _12_6: #REF!
Name _12_6: #REF!
Name _13_7: #REF!
Name _13_7: #REF!
Name _13_7: #REF!
Name _14_8: #REF!
Name _14_8: #REF!
Name _14_8: #REF!
Name _15_9: #REF!
Name _15_9: #REF!
Name _15_9: #REF!
Name _16a1_: #REF!
Name _16a1_: #REF!
Name _16a1_: #REF!
Name _17B2_: '[2]단면 (2)'!$K$55
Name _18C_: #REF!
Name _18C_: #REF!
Name _18C_: #REF!
Name _19G_0Extr: #REF!
Name _19G_0Extr: #REF!
Name _19G_0Extr: #REF!
Name _20G_0Extract: #REF!
Name _20G_0Extract: #REF!
Name _20G_0Extract: #REF!
Name _21L1_: '[3]U-TYPE(1)'!$F$10
Name _22P1_: '[4]Sheet1 (2)'!#REF!
Name _22P1_: '[4]Sheet1 (2)'!#REF!
Name _22P1_: '[4]Sheet1 (2)'!#REF!
Name _23P2_: '[5]Sheet1 (2)'!#REF!
Name _23P2_: '[5]Sheet1 (2)'!#REF!
Name _23P2_: '[5]Sheet1 (2)'!#REF!
Name _24t3_: #REF!
Name _24t3_: #REF!
Name _24t3_: #REF!
Name _25T4_: #REF!
Name _25T4_: #REF!
Name _25T4_: #REF!
Name _26t5_: #REF!
Name _26t5_: #REF!
Name _26t5_: #REF!
Name _29옹벽부용수: [1]지급자재!#REF!
Name _29옹벽부용수: [1]지급자재!#REF!
Name _29옹벽부용수: [1]지급자재!#REF!
Name _2C_: #REF!

Sheet 표지,목차
B3: 국도19호선 무주 적상산교(상) 등 시설물 보수공사
B4: 설계서
A11: 2026. 10
E20: 국토교통부
E22: 남원국토관리사무소
Q29: =(79380000+81589410+82974780+78223320)/4 -> 80541878

Sheet 수량표지 
A4: ='표지,목차'!B3 -> 국도19호선 무주 적상산교(상) 등 시설물 보수공사
A5: 수량산출서
A13: ='표지,목차'!A11 -> 2026. 10
C25: 국토교통부
C26: 남원국토관리사무소

Sheet 목차
A4: 목 차
A10: 1 . 총 괄 집 계 표 | K10: =A10 -> 1 . 총 괄 집 계 표 | U10: =A12 -> 2 . 보수물량 수량산출 | AE10: =A14 -> 0 | AO10: =A16 -> 0
A12: 2 . 보수물량 수량산출

Sheet 단가표지
A4: ='표지,목차'!B3 -> 국도19호선 무주 적상산교(상) 등 시설물 보수공사
A5: 단가산출서
A13: ='표지,목차'!A11 -> 2026. 10
C25: 국토교통부
C26: 전주국토관리사무소
A31: 목 차
C34: ◈ 노 무 단 가
C36: ◈ 자 재 단 가
C38: ◈ 견 적 단 가
C40: ◈ 일 위 대 가
C42: ◈ 단 가 산 출
C44: ◈ 중 기 산 출

Sheet 단가간지
A1: =단가표지!C34 -> ◈ 노 무 단 가
A2: =단가표지!C36 -> ◈ 자 재 단 가
A3: =단가표지!C38 -> ◈ 견 적 단 가
A4: =단가표지!C40 -> ◈ 일 위 대 가
A5: =단가표지!C42 -> ◈ 단 가 산 출
A6: =단가표지!C44 -> ◈ 중 기 산 출

Sheet 예정공정, 인력동원
A1: 예 정 공 정 표
A4: 기 간 | D4: 보 할 ( % ) | F4: 30 | H4: 60 | J4: 90 | L4: 120 | N4: 150 | P4: 180 | R4: 비 고
A5: 공 종
A6: 토공 | D6: 0.2 | F6: 0.04 | H6: 0.04 | J6: 0.04 | L6: 0.04 | N6: 0.04 | R6: =내역서!F4 -> 244275186 | U6: =R6/R18 -> 0.20117628 | V6: =D6/5 -> 0.04 | X6: =SUM(F6:Q6) -> 0.2
A8: 금속구조물공 | D8: 0.42 | H8: 0.08 | J8: 0.08 | L8: 0.08 | N8: 0.09 | P8: 0.09 | R8: =내역서!F22 -> 516279784 | U8: =R8/R18 -> 0.42518951 | V8: =D8/5 -> 0.084 | X8: =SUM(F8:Q8) -> 0.42
A10: 도로안전시설물공 | D10: 0.11 | H10: 0.06 | J10: 0.05 | R10: =내역서!F32 -> 130146150 | U10: =R10/R18 -> 0.1071837 | V10: =D10/4 -> 0.0275 | X10: =SUM(F10:Q10) -> 0.11
A12: 배수구조물공 | D12: 0.14 | J12: 0.03 | L12: 0.03 | N12: 0.04 | P12: 0.04 | R12: =내역서!F39 -> 171042971 | U12: =R12/R18 -> 0.14086485 | V12: =D12/4 -> 0.035 | X12: =SUM(F12:Q12) -> 0.14
A14: 금속구조물 설치공 | U14: =R14/R18 -> 0 | V14: =D14/4 -> 0 | X14: =SUM(F14:Q14) -> 0
A16: 부대공 | D16: 0.13 | F16: 0.03 | H16: 0.02 | J16: 0.02 | L16: 0.02 | N16: 0.02 | P16: 0.02 | R16: =내역서!F102 -> 152490439 | U16: =R16/R18 -> 0.12558566 | V16: =D16/6 -> 0.021666667 | X16: =SUM(F16:Q16) -> 0.13
A18: 계 | D18: =D6+D16+D8+D10+D12+D14 -> 1 | F18: =F6+F8+F10+F16+F12+F14 -> 0.07 | H18: =H6+H8+H10+H16+H12+H14 -> 0.2 | J18: =J6+J8+J10+J16+J12+J14 -> 0.22 | L18: =L6+L8+L10+L16+L12+L14 -> 0.17 | N18: =N6+N8+N10+N16+N12+N14 -> 0.19 | P18: =P6+P8+P10+P16+P12+P14 -> 0.15 | R18: =R6+R10+R8+R16+R12+R14 -> 1214234530 | U18: =SUM(U6:U16) -> 1 | X18: =SUM(F18:Q18) -> 1
A20: 누 계 | D20: =D18 -> 1 | F20: =F18 -> 0.07 | H20: =F20+H18 -> 0.27 | J20: =H20+J18 -> 0.49 | L20: =J20+L18 -> 0.66 | N20: =L20+N18 -> 0.85 | P20: =N20+P18 -> 1
A23: 동 원 인 원 계 획 표
A26: 기 간 | F26: =F4 -> 30 | H26: =H4 -> 60 | J26: =J4 -> 90 | L26: =L4 -> 120 | N26: =N4 -> 150 | P26: =P4 -> 180 | R26: 합 계
A27: 공 종
A28: 보통인부 | D28: 502 | F28: =ROUND($D28*F18,0) -> 35 | H28: =ROUND($D28*H18,0) -> 100 | J28: =ROUND($D28*J18,0) -> 110 | L28: =ROUND($D28*L18,0) -> 85 | N28: =ROUND($D28*N18,0) -> 95 | P28: =ROUND($D28*P18,0)+2 -> 77 | R28: =SUM(F28:Q29) -> 502
A30: 특별인부 | D30: =163+84+8+24+37+1+1+11+69+105+61+3 -> 567 | F30: =ROUND($D30*F18,0) -> 40 | H30: =ROUND($D30*H18,0) -> 113 | J30: =ROUND($D30*J18,0) -> 125 | L30: =ROUND($D30*L18,0) -> 96 | N30: =ROUND($D30*N18,0) -> 108 | P30: =ROUND($D30*P18,0) -> 85 | R30: =SUM(F30:Q31) -> 567
A32: 소 계 | D32: =SUM(D28:E31) -> 1069 | F32: =SUM(F28:G31) -> 75 | H32: =SUM(H28:I31) -> 213 | J32: =SUM(J28:K31) -> 235 | L32: =SUM(L28:M31) -> 181 | N32: =SUM(N28:O31) -> 203 | P32: =SUM(P28:Q31) -> 162 | R32: =R28+R30 -> 1069
A34: 누 계 | F34: =F32 -> 75 | H34: =F34+H32 -> 288 | J34: =H34+J32 -> 523 | L34: =J34+L32 -> 704 | N34: =L34+N32 -> 907 | P34: =N34+P32 -> 1069

Sheet 갑지-출력X
A1: 2 0 2 6 년 1 0 월 일 설 계 | M1: 설 계 자 | S1: 심 사 자 | Y1: 출장소장 | AE1: 소 장
B4: 2026 년도
A6: ='표지,목차'!B3 & " 설계예산서" -> 국도19호선 무주 적상산교(상) 등 시설물 보수공사 설계예산서
B10: ◈ 공 사 개 요 | Q10: ◈ 공 사 금 액
B12: - | C12: 시설물보수 | F12: : | G12: 1 | I12: 식 | R12: ○ 총 공 사 비 | X12: : | Y12: 일금 | AA12: =AA14+AA20+AA22 -> 2.006e+09 | AF12: 원정
W14: - 도 급 예 정 액 | X14: : | Y14: 일금 | AA14: =AA16+AA18 -> 1.96559e+09 | AF14: 원정
T16: 공 급 가 액 | X16: : | Y16: 일금 | AA16: =내역서!F139 -> 1.7869e+09 | AF16: 원정
T18: 부 가 가 치 세 | X18: : | Y18: 일금 | AA18: =내역서!F140 -> 178690000 | AF18: 원정
W20: - 관 급 자 재 비 | X20: : | Y20: 일금 | AA20: =제경비산출서!B28 -> 40410000 | AF20: 원정
W22: - 폐기물 처리비 | X22: : | Y22: 일금 | AA22: =제경비산출서!B29 -> 0 | AF22: 원정
A26: 국 토 교 통 부
A27: 남원 국토관리사무소

Sheet 내역서
A1: 공 종 | B1: 규 격 | C1: 수 량 | D1: 단위 | E1: 합 계 | G1: 재 료 비 | I1: 노 무 비 | K1: 경 비 | M1: 비 고
E2: 단 가 | F2: 금 액 | G2: 단 가 | H2: 금 액 | I2: 단 가 | J2: 금 액 | K2: 단 가 | L2: 금 액
A3: □ 국도19호선 무주 적상산교(상) 등 시설물 보수공사 설계예산내역서 | I3: 0
A4: 1. 토 공 | C4: 0 | E4: =G4+I4+K4 -> 0 | F4: =H4+J4+L4 -> 244275186 | G4: 0 | H4: =H5+H17+H20 -> 101900259 | I4: 0 | J4: =J5+J17+J20 -> 125915549 | K4: 0 | L4: =L5+L17+L20 -> 16459378
A5: 1) 점검계단블럭 설치 | C5: 0 | E5: =G5+I5+K5 -> 0 | F5: =H5+J5+L5 -> 142416317 | G5: 0 | H5: =H6+H11 -> 71371749 | I5: 0 | J5: =J6+J11 -> 65101765 | K5: 0 | L5: =L6+L11 -> 5942803
A6: [1] 일반토공 | C6: 0 | E6: =G6+I6+K6 -> 0 | F6: =H6+J6+L6 -> 2928676 | G6: 0 | H6: =SUM(H7:H10) -> 810009 | I6: 0 | J6: =SUM(J7:J10) -> 1466998 | K6: 0 | L6: =SUM(L7:L10) -> 651669
A7: 터파기 | C7: 142 | D7: ㎥ | E7: =G7+I7+K7 -> 2734 | F7: =H7+J7+L7 -> 388228 | G7: 548 | H7: =TRUNC(C7*G7,0) -> 77816 | I7: 1686 | J7: =TRUNC(C7*I7,0) -> 239412 | K7: 500 | L7: =TRUNC(C7*K7,0) -> 71000 | M7: 산근 1호표
A8: 되메우기 | C8: 32 | D8: ㎥ | E8: =G8+I8+K8 -> 1966 | F8: =H8+J8+L8 -> 62912 | G8: 394 | H8: =TRUNC(C8*G8,0) -> 12608 | I8: 1213 | J8: =TRUNC(C8*I8,0) -> 38816 | K8: 359 | L8: =TRUNC(C8*K8,0) -> 11488 | M8: 산근 2호표
A9: 잔토처리(현장내) | C9: 110 | D9: ㎥ | E9: =G9+I9+K9 -> 1952 | F9: =H9+J9+L9 -> 214720 | G9: 391 | H9: =TRUNC(C9*G9,0) -> 43010 | I9: 1204 | J9: =TRUNC(C9*I9,0) -> 132440 | K9: 357 | L9: =TRUNC(C9*K9,0) -> 39270 | M9: 산근 3호표
A10: 비탈면고르기 | C10: 873 | D10: ㎡ | E10: =G10+I10+K10 -> 2592 | F10: =H10+J10+L10 -> 2262816 | G10: 775 | H10: =TRUNC(C10*G10,0) -> 676575 | I10: 1210 | J10: =TRUNC(C10*I10,0) -> 1056330 | K10: 607 | L10: =TRUNC(C10*K10,0) -> 529911 | M10: 산근 4호표
A11: [2] 점검계단블럭 설치 | C11: 0 | E11: =G11+I11+K11 -> 0 | F11: =H11+J11+L11 -> 139487641 | G11: 0 | H11: =SUM(H12:H16) -> 70561740 | I11: 0 | J11: =SUM(J12:J16) -> 63634767 | K11: 0 | L11: =SUM(L12:L16) -> 5291134
A12: 계단블록 설치 | C12: 715 | D12: ㎡ | E12: =G12+I12+K12 -> 120678 | F12: =H12+J12+L12 -> 86284770 | G12: 54250 | H12: =TRUNC(C12*G12,0) -> 38788750 | I12: 59062 | J12: =TRUNC(C12*I12,0) -> 42229330 | K12: 7366 | L12: =TRUNC(C12*K12,0) -> 5266690 | M12: 산근 5호표
A13: 부직포설치 | C13: 873 | D13: ㎡ | E13: =G13+I13+K13 -> 23486 | F13: =H13+J13+L13 -> 20503278 | G13: 23119 | H13: =TRUNC(C13*G13,0) -> 20182887 | I13: 339 | J13: =TRUNC(C13*I13,0) -> 295947 | K13: 28 | L13: =TRUNC(C13*K13,0) -> 24444 | M13: 산근 6호표
A14: 레미콘타설(인력운반타설) | B14: 무근구조물(소형) | C14: 108 | D14: ㎥ | E14: =G14+I14+K14 -> 212342 | F14: =H14+J14+L14 -> 22932936 | G14: 95217 | H14: =TRUNC(C14*G14,0) -> 10283436 | I14: 117125 | J14: =TRUNC(C14*I14,0) -> 12649500 | K14: 0 | L14: =TRUNC(C14*K14,0) -> 0 | M14: 산근 7호표
A15: 모르타르 | B15: 1:3 | C15: 1 | D15: ㎥ | E15: =G15+I15+K15 -> 239289 | F15: =H15+J15+L15 -> 239289 | G15: 125309 | H15: =TRUNC(C15*G15,0) -> 125309 | I15: 113980 | J15: =TRUNC(C15*I15,0) -> 113980 | K15: 0 | L15: =TRUNC(C15*K15,0) -> 0 | M15: 산근 8호표
A16: 유로폼 6회 | B16: 간단,0~7m | C16: 262 | D16: ㎡ | E16: =G16+I16+K16 -> 36364 | F16: =H16+J16+L16 -> 9527368 | G16: 4509 | H16: =TRUNC(C16*G16,0) -> 1181358 | I16: 31855 | J16: =TRUNC(C16*I16,0) -> 8346010 | K16: 0 | L16: =TRUNC(C16*K16,0) -> 0 | M16: 산근 9호표
A17: 2) 터널 배수관 준설 및 세정 | C17: 0 | E17: =G17+I17+K17 -> 0 | F17: =H17+J17+L17 -> 52371144 | G17: 0 | H17: =SUM(H18:H19) -> 8907960 | I17: 0 | J17: =SUM(J18:J19) -> 34443734 | K17: 0 | L17: =SUM(L18:L19) -> 9019450
A18: 배수관 및 집수정세정 | C18: 5316 | D18: m | E18: =G18+I18+K18 -> 5061 | F18: =H18+J18+L18 -> 26904276 | G18: 627 | H18: =TRUNC(C18*G18,0) -> 3333132 | I18: 3984 | J18: =TRUNC(C18*I18,0) -> 21178944 | K18: 450 | L18: =TRUNC(C18*K18,0) -> 2392200 | M18: 산근 10호표
A19: 배수관 및 집수정 준설 | B19: (흡입준설차25톤) | C19: 98 | D19: ㎥ | E19: =G19+I19+K19 -> 259866 | F19: =H19+J19+L19 -> 25466868 | G19: 56886 | H19: =TRUNC(C19*G19,0) -> 5574828 | I19: 135355 | J19: =TRUNC(C19*I19,0) -> 13264790 | K19: 67625 | L19: =TRUNC(C19*K19,0) -> 6627250 | M19: 산근 11호표
A20: 3) 도로법면 벌목 및 수목제거 | C20: 0 | E20: =G20+I20+K20 -> 0 | F20: =H20+J20+L20 -> 49487725 | G20: 0 | H20: =H21 -> 21620550 | I20: 0 | J20: =J21 -> 26370050 | K20: 0 | L20: =L21 -> 1497125
A21: 도로법면 벌목 | B21: 벌목 및 수목제거 | C21: 10325 | D21: ㎡ | E21: =G21+I21+K21 -> 4793 | F21: =H21+J21+L21 -> 49487725 | G21: 2094 | H21: =TRUNC(C21*G21,0) -> 21620550 | I21: 2554 | J21: =TRUNC(C21*I21,0) -> 26370050 | K21: 145 | L21: =TRUNC(C21*K21,0) -> 1497125 | M21: 산근 12호표
A22: 2. 금속구조물공 | C22: 0 | E22: =G22+I22+K22 -> 0 | F22: =H22+J22+L22 -> 516279784 | G22: 0 | H22: =H23+H28+H30 -> 270125412 | I22: 0 | J22: =J23+J28+J30 -> 217532170 | K22: 0 | L22: =L23+L28+L30 -> 28622202
A23: 1) 교량점검시설 | C23: 0 | E23: =G23+I23+K23 -> 0 | F23: =H23+J23+L23 -> 478617552 | G23: 0 | H23: =SUM(H24:H27) -> 256256212 | I23: 0 | J23: =SUM(J24:J27) -> 193739138 | K23: 0 | L23: =SUM(L24:L27) -> 28622202
A24: 교량 점검통로 | B24: B0.8m | C24: 243.2 | D24: m | E24: =G24+I24+K24 -> 1271327 | F24: =H24+J24+L24 -> 309186726 | G24: 684897 | H24: =TRUNC(C24*G24,0) -> 166566950 | I24: 513390 | J24: =TRUNC(C24*I24,0) -> 124856448 | K24: 73040 | L24: =TRUNC(C24*K24,0) -> 17763328
A25: 교량 점검계단 | B25: B0.8m | C25: 66.8 | D25: m | E25: =G25+I25+K25 -> 2277707 | F25: =H25+J25+L25 -> 152150826 | G25: 1083971 | H25: =TRUNC(C25*G25,0) -> 72409262 | I25: 1031178 | J25: =TRUNC(C25*I25,0) -> 68882690 | K25: 162558 | L25: =TRUNC(C25*K25,0) -> 10858874
A26: 점검시설 출입문 설치 | C26: 8 | D26: Set | E26: =G26+I26+K26 -> 1800000 | F26: =H26+J26+L26 -> 14400000 | G26: 1800000 | H26: =TRUNC(C26*G26,0) -> 14400000 | I26: 0 | J26: =TRUNC(C26*I26,0) -> 0 | K26: 0 | L26: =TRUNC(C26*K26,0) -> 0
A27: 점검시설 안내표지판 설치 | B27: 300 x 400mm | C27: 8 | D27: EA | E27: =G27+I27+K27 -> 360000 | F27: =H27+J27+L27 -> 2880000 | G27: 360000 | H27: =TRUNC(C27*G27,0) -> 2880000 | I27: 0 | J27: =TRUNC(C27*I27,0) -> 0 | K27: 0 | L27: =TRUNC(C27*K27,0) -> 0
A28: 2) 구조물표지판 설치 | C28: 0 | E28: =G28+I28+K28 -> 0 | F28: =H28+J28+L28 -> 1620000 | G28: 0 | H28: =H29 -> 540000 | I28: 0 | J28: =J29 -> 1080000 | K28: 0 | L28: =L29 -> 0
A29: 교량명 표지판 설치 | B29: 400x1200 | C29: 6 | D29: EA | E29: =G29+I29+K29 -> 270000 | F29: =H29+J29+L29 -> 1620000 | G29: 90000 | H29: =TRUNC(C29*G29,0) -> 540000 | I29: 180000 | J29: =TRUNC(C29*I29,0) -> 1080000 | K29: 0 | L29: =TRUNC(C29*K29,0) -> 0
A30: 3) 금속제 울타리 설치 | C30: 0 | E30: =G30+I30+K30 -> 0 | F30: =H30+J30+L30 -> 36042232 | G30: 0 | H30: =H31 -> 13329200 | I30: 0 | J30: =J31 -> 22713032 | K30: 0 | L30: =L31 -> 0
A31: 메쉬휀스 설치 | B31: W2000 x H1800mm | C31: 94 | D31: 경간 | E31: =G31+I31+K31 -> 383428 | F31: =H31+J31+L31 -> 36042232 | G31: 141800 | H31: =TRUNC(C31*G31,0) -> 13329200 | I31: 241628 | J31: =TRUNC(C31*I31,0) -> 22713032 | K31: 0 | L31: =TRUNC(C31*K31,0) -> 0 | M31: 제 1호표
A32: 3. 도로안전시설물공 | C32: 0 | E32: =G32+I32+K32 -> 0 | F32: =H32+J32+L32 -> 130146150 | G32: 0 | H32: =H33+H35+H37 -> 103165004 | I32: 0 | J32: =J33+J35+J37 -> 26281448 | K32: 0 | L32: =L33+L35+L37 -> 699698
A33: 1) 현광방지시설 설치 | C33: 0 | E33: =G33+I33+K33 -> 0 | F33: =H33+J33+L33 -> 31667550 | G33: 0 | H33: =H34 -> 13055004 | I33: 0 | J33: =J34 -> 18070848 | K33: 0 | L33: =L34 -> 541698
A34: 현광방지장치 설치 | B34: 루버형 | C34: 822 | D34: EA | E34: =G34+I34+K34 -> 38525 | F34: =H34+J34+L34 -> 31667550 | G34: 15882 | H34: =TRUNC(C34*G34,0) -> 13055004 | I34: 21984 | J34: =TRUNC(C34*I34,0) -> 18070848 | K34: 659 | L34: =TRUNC(C34*K34,0) -> 541698 | M34: 제 2호표
A35: 2) 중분대 방초캡 설치 | C35: 0 | E35: =G35+I35+K35 -> 0 | F35: =H35+J35+L35 -> 37043100 | G35: 0 | H35: =H36 -> 31600000 | I35: 0 | J35: =J36 -> 5285100 | K35: 0 | L35: =L36 -> 158000
A36: 중분대 방초캡 설치 | C36: 1975 | D36: EA | E36: =G36+I36+K36 -> 18756 | F36: =H36+J36+L36 -> 37043100 | G36: 16000 | H36: =TRUNC(C36*G36,0) -> 31600000 | I36: 2676 | J36: =TRUNC(C36*I36,0) -> 5285100 | K36: 80 | L36: =TRUNC(C36*K36,0) -> 158000 | M36: 산근 13호표
A37: 3) 역주행방지 시스템 | C37: 0 | E37: =G37+I37+K37 -> 0 | F37: =H37+J37+L37 -> 61435500 | G37: 0 | H37: =H38 -> 58510000 | I37: 0 | J37: =J38 -> 2925500 | K37: 0 | L37: =L38 -> 0
A38: 역주행방지시스템 설치 | C38: 2 | D38: 개소 | E38: =G38+I38+K38 -> 30717750 | F38: =H38+J38+L38 -> 61435500 | G38: 29255000 | H38: =TRUNC(C38*G38,0) -> 58510000 | I38: 1462750 | J38: =TRUNC(C38*I38,0) -> 2925500 | K38: 0 | L38: =TRUNC(C38*K38,0) -> 0 | M38: 제 3호표
A39: 4. 배수구조물공 | C39: 0 | E39: =G39+I39+K39 -> 0 | F39: =H39+J39+L39 -> 171042971 | G39: 0 | H39: =H40+H97+H99 -> 113325156 | I39: 0 | J39: =J40+J97+J99 -> 55435913 | K39: 0 | L39: =L40+L97+L99 -> 2281902
A40: 1) 안성지구 | C40: 0 | E40: =G40+I40+K40 -> 0 | F40: =H40+J40+L40 -> 109065385 | G40: 0 | H40: =H41+H51+H77+H83+H89 -> 59006796 | I40: 0 | J40: =J41+J51+J77+J83+J89 -> 47949911 | K40: 0 | L40: =L41+L51+L77+L83+L89 -> 2108678
A41: (1) 토 공 | C41: 0 | E41: =G41+I41+K41 -> 0 | F41: =H41+J41+L41 -> 4661873 | G41: 0 | H41: =H42+H47 -> 1163381 | I41: 0 | J41: =J42+J47 -> 2709237 | K41: 0 | L41: =L42+L47 -> 789255
A42: [1] 구조물깨기 | C42: 0 | E42: =G42+I42+K42 -> 0 | F42: =H42+J42+L42 -> 2211786 | G42: 0 | H42: =SUM(H43:H46) -> 546227 | I42: 0 | J42: =SUM(J43:J46) -> 1383933 | K42: 0 | L42: =SUM(L43:L46) -> 281626
A43: 무근콘크리트깨기 | B43: t30cm미만 | C43: 8 | D43: ㎥ | E43: =G43+I43+K43 -> 35142 | F43: =H43+J43+L43 -> 281136 | G43: 5890 | H43: =TRUNC(C43*G43,0) -> 47120 | I43: 20819 | J43: =TRUNC(C43*I43,0) -> 166552 | K43: 8433 | L43: =TRUNC(C43*K43,0) -> 67464 | M43: 산근 14호표
A44: 아스팔트 포장절단 | C44: 497 | D44: m | E44: =G44+I44+K44 -> 2325 | F44: =H44+J44+L44 -> 1155525 | G44: 723 | H44: =TRUNC(C44*G44,0) -> 359331 | I44: 1537 | J44: =TRUNC(C44*I44,0) -> 763889 | K44: 65 | L44: =TRUNC(C44*K44,0) -> 32305 | M44: 산근 15호표
A45: 아스팔트포장깨기 | C45: 39 | D45: ㎥ | E45: =G45+I45+K45 -> 14169 | F45: =H45+J45+L45 -> 552591 | G45: 2480 | H45: =TRUNC(C45*G45,0) -> 96720 | I45: 8333 | J45: =TRUNC(C45*I45,0) -> 324987 | K45: 3356 | L45: =TRUNC(C45*K45,0) -> 130884 | M45: 산근 16호표
A46: 폐기물상차 | C46: 39 | D46: ㎥ | E46: =G46+I46+K46 -> 5706 | F46: =H46+J46+L46 -> 222534 | G46: 1104 | H46: =TRUNC(C46*G46,0) -> 43056 | I46: 3295 | J46: =TRUNC(C46*I46,0) -> 128505 | K46: 1307 | L46: =TRUNC(C46*K46,0) -> 50973 | M46: 산근 17호표
A47: [2] 일반토공 | C47: 0 | E47: =G47+I47+K47 -> 0 | F47: =H47+J47+L47 -> 2450087 | G47: 0 | H47: =SUM(H48:H50) -> 617154 | I47: 0 | J47: =SUM(J48:J50) -> 1325304 | K47: 0 | L47: =SUM(L48:L50) -> 507629
A48: 터파기 | C48: 347 | D48: ㎥ | E48: =G48+I48+K48 -> 2162 | F48: =H48+J48+L48 -> 750214 | G48: 418 | H48: =TRUNC(C48*G48,0) -> 145046 | I48: 1249 | J48: =TRUNC(C48*I48,0) -> 433403 | K48: 495 | L48: =TRUNC(C48*K48,0) -> 171765 | M48: 산근 18호표
A49: 되메우기 | C49: 136 | D49: ㎥ | E49: =G49+I49+K49 -> 1555 | F49: =H49+J49+L49 -> 211480 | G49: 301 | H49: =TRUNC(C49*G49,0) -> 40936 | I49: 898 | J49: =TRUNC(C49*I49,0) -> 122128 | K49: 356 | L49: =TRUNC(C49*K49,0) -> 48416 | M49: 산근 19호표
A50: 사토운반(토사) | C50: 177 | D50: ㎥ | E50: =G50+I50+K50 -> 8409 | F50: =H50+J50+L50 -> 1488393 | G50: 2436 | H50: =TRUNC(C50*G50,0) -> 431172 | I50: 4349 | J50: =TRUNC(C50*I50,0) -> 769773 | K50: 1624 | L50: =TRUNC(C50*K50,0) -> 287448 | M50: 산근 20호표
A51: (2) 배수공 | C51: 0 | E51: =G51+I51+K51 -> 0 | F51: =H51+J51+L51 -> 46490487 | G51: 0 | H51: =H52+H59+H66+H72+H74 -> 7747440 | I51: 0 | J51: =J52+J59+J66+J72+J74 -> 38024740 | K51: 0 | L51: =L52+L59+L66+L72+L74 -> 718307
A52: [1] J형 측구 | C52: 0 | E52: =G52+I52+K52 -> 0 | F52: =H52+J52+L52 -> 22737453 | G52: 0 | H52: =SUM(H53:H58) -> 2795738 | I52: 0 | J52: =SUM(J53:J58) -> 19663902 | K52: 0 | L52: =SUM(L53:L58) -> 277813
A53: 레미콘타설(장비사용타설) | B53: 무근구조물 | C53: 13 | D53: ㎥ | E53: =G53+I53+K53 -> 30386 | F53: =H53+J53+L53 -> 395018 | G53: 3291 | H53: =TRUNC(C53*G53,0) -> 42783 | I53: 23570 | J53: =TRUNC(C53*I53,0) -> 306410 | K53: 3525 | L53: =TRUNC(C53*K53,0) -> 45825 | M53: 산근 21호표
A54: 레미콘타설(장비사용타설) | B54: 철근구조물 | C54: 59 | D54: ㎥ | E54: =G54+I54+K54 -> 34380 | F54: =H54+J54+L54 -> 2028420 | G54: 3680 | H54: =TRUNC(C54*G54,0) -> 217120 | I54: 26768 | J54: =TRUNC(C54*I54,0) -> 1579312 | K54: 3932 | L54: =TRUNC(C54*K54,0) -> 231988 | M54: 산근 22호표
A55: 유로폼 3회 | B55: 간단,0~7m | C55: 435 | D55: ㎡ | E55: =G55+I55+K55 -> 37089 | F55: =H55+J55+L55 -> 16133715 | G55: 5234 | H55: =TRUNC(C55*G55,0) -> 2276790 | I55: 31855 | J55: =TRUNC(C55*I55,0) -> 13856925 | K55: 0 | L55: =TRUNC(C55*K55,0) -> 0 | M55: 산근 23호표
A56: 철근가공및조립(현장) | B56: Type-Ⅱ-2 | C56: 3.162 | D56: 톤 | E56: =G56+I56+K56 -> 1011524 | F56: =H56+J56+L56 -> 3198438 | G56: 56089 | H56: =TRUNC(C56*G56,0) -> 177353 | I56: 955435 | J56: =TRUNC(C56*I56,0) -> 3021085 | K56: 0 | L56: =TRUNC(C56*K56,0) -> 0 | M56: 산근 24호표
A57: 신축이음 | B57: 스치로폴(t=10mm) | C57: 3 | D57: ㎡ | E57: =G57+I57+K57 -> 10338 | F57: =H57+J57+L57 -> 31014 | G57: 1316 | H57: =TRUNC(C57*G57,0) -> 3948 | I57: 9022 | J57: =TRUNC(C57*I57,0) -> 27066 | K57: 0 | L57: =TRUNC(C57*K57,0) -> 0 | M57: 산근 25호표
A58: 지수판 설치 | B58: 200×5t | C58: 16 | D58: m | E58: =G58+I58+K58 -> 59428 | F58: =H58+J58+L58 -> 950848 | G58: 4859 | H58: =TRUNC(C58*G58,0) -> 77744 | I58: 54569 | J58: =TRUNC(C58*I58,0) -> 873104 | K58: 0 | L58: =TRUNC(C58*K58,0) -> 0 | M58: 산근 26호표
A59: [2] L형 측구 | C59: 0 | E59: =G59+I59+K59 -> 0 | F59: =H59+J59+L59 -> 20682027 | G59: 0 | H59: =SUM(H60:H65) -> 3246221 | I59: 0 | J59: =SUM(J60:J65) -> 17054956 | K59: 0 | L59: =SUM(L60:L65) -> 380850
A60: 레미콘타설(장비사용타설) | B60: 무근구조물 | C60: 106 | D60: ㎥ | E60: =G60+I60+K60 -> 30386 | F60: =H60+J60+L60 -> 3220916 | G60: 3291 | H60: =TRUNC(C60*G60,0) -> 348846 | I60: 23570 | J60: =TRUNC(C60*I60,0) -> 2498420 | K60: 3525 | L60: =TRUNC(C60*K60,0) -> 373650 | M60: 산근 21호표
A61: 유로폼 3회 | B61: 간단,0~7m | C61: 436 | D61: ㎡ | E61: =G61+I61+K61 -> 37089 | F61: =H61+J61+L61 -> 16170804 | G61: 5234 | H61: =TRUNC(C61*G61,0) -> 2282024 | I61: 31855 | J61: =TRUNC(C61*I61,0) -> 13888780 | K61: 0 | L61: =TRUNC(C61*K61,0) -> 0 | M61: 산근 23호표
A62: 철근가공및조립(현장) | B62: Type-Ⅱ-2 | C62: 0.395 | D62: 톤 | E62: =G62+I62+K62 -> 1011524 | F62: =H62+J62+L62 -> 399551 | G62: 56089 | H62: =TRUNC(C62*G62,0) -> 22155 | I62: 955435 | J62: =TRUNC(C62*I62,0) -> 377396 | K62: 0 | L62: =TRUNC(C62*K62,0) -> 0 | M62: 산근 24호표
A63: 줄눈설치 | B63: 수축줄눈 | C63: 96 | D63: m | E63: =G63+I63+K63 -> 6330 | F63: =H63+J63+L63 -> 607680 | G63: 3725 | H63: =TRUNC(C63*G63,0) -> 357600 | I63: 2530 | J63: =TRUNC(C63*I63,0) -> 242880 | K63: 75 | L63: =TRUNC(C63*K63,0) -> 7200 | M63: 산근 28호표
A64: 비닐깔기 | C64: 356 | D64: ㎡ | E64: =G64+I64+K64 -> 679 | F64: =H64+J64+L64 -> 241724 | G64: 647 | H64: =TRUNC(C64*G64,0) -> 230332 | I64: 32 | J64: =TRUNC(C64*I64,0) -> 11392 | K64: 0 | L64: =TRUNC(C64*K64,0) -> 0 | M64: 산근 29호표
A65: 신축이음 | B65: 스치로폴(t=10mm) | C65: 4 | D65: ㎡ | E65: =G65+I65+K65 -> 10338 | F65: =H65+J65+L65 -> 41352 | G65: 1316 | H65: =TRUNC(C65*G65,0) -> 5264 | I65: 9022 | J65: =TRUNC(C65*I65,0) -> 36088 | K65: 0 | L65: =TRUNC(C65*K65,0) -> 0 | M65: 산근 25호표
A66: [3] 사각집수정 | C66: 0 | E66: =G66+I66+K66 -> 0 | F66: =H66+J66+L66 -> 1718196 | G66: 0 | H66: =SUM(H67:H71) -> 1167190 | I66: 0 | J66: =SUM(J67:J71) -> 539617 | K66: 0 | L66: =SUM(L67:L71) -> 11389
A67: 레미콘타설(장비사용타설) | B67: 철근구조물 | C67: 2 | D67: ㎥ | E67: =G67+I67+K67 -> 34380 | F67: =H67+J67+L67 -> 68760 | G67: 3680 | H67: =TRUNC(C67*G67,0) -> 7360 | I67: 26768 | J67: =TRUNC(C67*I67,0) -> 53536 | K67: 3932 | L67: =TRUNC(C67*K67,0) -> 7864 | M67: 산근 22호표
A68: 레미콘타설(장비사용타설) | B68: 무근구조물 | C68: 1 | D68: ㎥ | E68: =G68+I68+K68 -> 30386 | F68: =H68+J68+L68 -> 30386 | G68: 3291 | H68: =TRUNC(C68*G68,0) -> 3291 | I68: 23570 | J68: =TRUNC(C68*I68,0) -> 23570 | K68: 3525 | L68: =TRUNC(C68*K68,0) -> 3525 | M68: 산근 21호표
A69: 유로폼 3회 | B69: 간단,0~7m | C69: 11 | D69: ㎡ | E69: =G69+I69+K69 -> 37089 | F69: =H69+J69+L69 -> 407979 | G69: 5234 | H69: =TRUNC(C69*G69,0) -> 57574 | I69: 31855 | J69: =TRUNC(C69*I69,0) -> 350405 | K69: 0 | L69: =TRUNC(C69*K69,0) -> 0 | M69: 산근 23호표
A70: 철근가공및조립(현장) | B70: Type-Ⅱ-2 | C70: 0.06 | D70: 톤 | E70: =G70+I70+K70 -> 1011524 | F70: =H70+J70+L70 -> 60691 | G70: 56089 | H70: =TRUNC(C70*G70,0) -> 3365 | I70: 955435 | J70: =TRUNC(C70*I70,0) -> 57326 | K70: 0 | L70: =TRUNC(C70*K70,0) -> 0 | M70: 산근 24호표
A71: 주철그레이팅(중하중용) | B71: 1000 x 1000 | C71: 2 | D71: 조 | E71: =G71+I71+K71 -> 575190 | F71: =H71+J71+L71 -> 1150380 | G71: 547800 | H71: =TRUNC(C71*G71,0) -> 1095600 | I71: 27390 | J71: =TRUNC(C71*I71,0) -> 54780 | K71: 0 | L71: =TRUNC(C71*K71,0) -> 0 | M71: 제 4호표
A72: [4] 배수관 | C72: 0 | E72: =G72+I72+K72 -> 0 | F72: =H72+J72+L72 -> 1136980 | G72: 0 | H72: =H73 -> 508830 | I72: 0 | J72: =J73 -> 583420 | K72: 0 | L72: =L73 -> 44730
A73: VR관부설 및 접합 | B73: D=600mm | C73: 10 | D73: m | E73: =G73+I73+K73 -> 113698 | F73: =H73+J73+L73 -> 1136980 | G73: 50883 | H73: =TRUNC(C73*G73,0) -> 508830 | I73: 58342 | J73: =TRUNC(C73*I73,0) -> 583420 | K73: 4473 | L73: =TRUNC(C73*K73,0) -> 44730 | M73: 산근 30호표
A74: [5] 면벽 | C74: 0 | E74: =G74+I74+K74 -> 0 | F74: =H74+J74+L74 -> 215831 | G74: 0 | H74: =SUM(H75:H76) -> 29461 | I74: 0 | J74: =SUM(J75:J76) -> 182845 | K74: 0 | L74: =SUM(L75:L76) -> 3525
A75: 레미콘타설(장비사용타설) | B75: 무근구조물 | C75: 1 | D75: ㎥ | E75: =G75+I75+K75 -> 30386 | F75: =H75+J75+L75 -> 30386 | G75: 3291 | H75: =TRUNC(C75*G75,0) -> 3291 | I75: 23570 | J75: =TRUNC(C75*I75,0) -> 23570 | K75: 3525 | L75: =TRUNC(C75*K75,0) -> 3525 | M75: 산근 21호표
A76: 유로폼 3회 | B76: 간단,0~7m | C76: 5 | D76: ㎡ | E76: =G76+I76+K76 -> 37089 | F76: =H76+J76+L76 -> 185445 | G76: 5234 | H76: =TRUNC(C76*G76,0) -> 26170 | I76: 31855 | J76: =TRUNC(C76*I76,0) -> 159275 | K76: 0 | L76: =TRUNC(C76*K76,0) -> 0 | M76: 산근 23호표
A77: (3) 포장복구 | C77: 0 | E77: =G77+I77+K77 -> 0 | F77: =H77+J77+L77 -> 10656226 | G77: 0 | H77: =SUM(H78:H82) -> 4038498 | I77: 0 | J77: =SUM(J78:J82) -> 6158336 | K77: 0 | L77: =SUM(L78:L82) -> 459392
A78: 아스팔트 표층 | B78: 소규모포설 | C78: 388 | D78: ㎡ | E78: =G78+I78+K78 -> 7609 | F78: =H78+J78+L78 -> 2952292 | G78: 626 | H78: =TRUNC(C78*G78,0) -> 242888 | I78: 6581 | J78: =TRUNC(C78*I78,0) -> 2553428 | K78: 402 | L78: =TRUNC(C78*K78,0) -> 155976 | M78: 산근 31호표
A79: 텍코팅(인력식) | C79: 388 | D79: ㎡ | E79: =G79+I79+K79 -> 484 | F79: =H79+J79+L79 -> 187792 | G79: 382 | H79: =TRUNC(C79*G79,0) -> 148216 | I79: 102 | J79: =TRUNC(C79*I79,0) -> 39576 | K79: 0 | L79: =TRUNC(C79*K79,0) -> 0 | M79: 산근 32호표
A80: 아스팔트 기층 | B80: 소규모포설 | C80: 388 | D80: ㎡ | E80: =G80+I80+K80 -> 7134 | F80: =H80+J80+L80 -> 2767992 | G80: 587 | H80: =TRUNC(C80*G80,0) -> 227756 | I80: 6170 | J80: =TRUNC(C80*I80,0) -> 2393960 | K80: 377 | L80: =TRUNC(C80*K80,0) -> 146276 | M80: 산근 33호표
A81: 프라임코팅(인력식) | C81: 388 | D81: ㎡ | E81: =G81+I81+K81 -> 1191 | F81: =H81+J81+L81 -> 462108 | G81: 1089 | H81: =TRUNC(C81*G81,0) -> 422532 | I81: 102 | J81: =TRUNC(C81*I81,0) -> 39576 | K81: 0 | L81: =TRUNC(C81*K81,0) -> 0 | M81: 산근 34호표
A82: 보조기층포설및다짐 | C82: 97 | D82: ㎥ | E82: =G82+I82+K82 -> 44186 | F82: =H82+J82+L82 -> 4286042 | G82: 30898 | H82: =TRUNC(C82*G82,0) -> 2997106 | I82: 11668 | J82: =TRUNC(C82*I82,0) -> 1131796 | K82: 1620 | L82: =TRUNC(C82*K82,0) -> 157140 | M82: 산근 35호표
A83: (4) 부대공 | C83: 0 | E83: =G83+I83+K83 -> 0 | F83: =H83+J83+L83 -> 9750497 | G83: 0 | H83: =SUM(H84:H88) -> 8551175 | I83: 0 | J83: =SUM(J84:J88) -> 1057598 | K83: 0 | L83: =SUM(L84:L88) -> 141724
A84: 철근운반 | B84: L=50km | C84: 3.726 | D84: 톤 | E84: =G84+I84+K84 -> 75860 | F84: =H84+J84+L84 -> 282653 | G84: 2056 | H84: =TRUNC(C84*G84,0) -> 7660 | I84: 59551 | J84: =TRUNC(C84*I84,0) -> 221887 | K84: 14253 | L84: =TRUNC(C84*K84,0) -> 53106 | M84: 산근 36호표
A85: 차선도색(상온경화형) | B85: 수동식,백색실선 | C85: 70 | D85: ㎡ | E85: =G85+I85+K85 -> 15522 | F85: =H85+J85+L85 -> 1086540 | G85: 13417 | H85: =TRUNC(C85*G85,0) -> 939190 | I85: 2004 | J85: =TRUNC(C85*I85,0) -> 140280 | K85: 101 | L85: =TRUNC(C85*K85,0) -> 7070 | M85: 산근 37호표
A86: 차선도색(상온경화형) | B86: 수동식,백색파선 | C86: 1 | D86: ㎡ | E86: =G86+I86+K86 -> 17815 | F86: =H86+J86+L86 -> 17815 | G86: 13603 | H86: =TRUNC(C86*G86,0) -> 13603 | I86: 4009 | J86: =TRUNC(C86*I86,0) -> 4009 | K86: 203 | L86: =TRUNC(C86*K86,0) -> 203 | M86: 산근 38호표
A87: 가드레일설치 | B87: 표준레일(지주간격2m,3W) | C87: 93 | D87: m | E87: =G87+I87+K87 -> 86973 | F87: =H87+J87+L87 -> 8088489 | G87: 78756 | H87: =TRUNC(C87*G87,0) -> 7324308 | I87: 7350 | J87: =TRUNC(C87*I87,0) -> 683550 | K87: 867 | L87: =TRUNC(C87*K87,0) -> 80631 | M87: 산근 39호표
A88: 가드레일설치 | B88: 단부레일(3W) | C88: 2 | D88: EA | E88: =G88+I88+K88 -> 137500 | F88: =H88+J88+L88 -> 275000 | G88: 133207 | H88: =TRUNC(C88*G88,0) -> 266414 | I88: 3936 | J88: =TRUNC(C88*I88,0) -> 7872 | K88: 357 | L88: =TRUNC(C88*K88,0) -> 714 | M88: 산근 40호표
A89: (5) 자재대 | C89: 0 | E89: =G89+I89+K89 -> 0 | F89: =H89+J89+L89 -> 37506302 | G89: 0 | H89: =SUM(H90:H96) -> 37506302 | I89: 0 | J89: =SUM(J90:J96) -> 0 | K89: 0 | L89: =SUM(L90:L96) -> 0
A90: 레미콘-사급 | B90: 25-21-120 | C90: 169 | D90: ㎥ | E90: =G90+I90+K90 -> 95100 | F90: =H90+J90+L90 -> 16071900 | G90: 95100 | H90: =TRUNC(C90*G90,0) -> 16071900 | I90: 0 | J90: =TRUNC(C90*I90,0) -> 0 | K90: 0 | L90: =TRUNC(C90*K90,0) -> 0
A91: 레미콘-사급 | B91: 25-18-080 | C91: 14 | D91: ㎥ | E91: =G91+I91+K91 -> 90170 | F91: =H91+J91+L91 -> 1262380 | G91: 90170 | H91: =TRUNC(C91*G91,0) -> 1262380 | I91: 0 | J91: =TRUNC(C91*I91,0) -> 0 | K91: 0 | L91: =TRUNC(C91*K91,0) -> 0
A92: 이형철근(SD400) | B92: D=13mm | C92: 1.543 | D92: 톤 | E92: =G92+I92+K92 -> 94000 | F92: =H92+J92+L92 -> 145042 | G92: 94000 | H92: =TRUNC(C92*G92,0) -> 145042 | I92: 0 | J92: =TRUNC(C92*I92,0) -> 0 | K92: 0 | L92: =TRUNC(C92*K92,0) -> 0
A93: 이형철근(SD400) | B93: D=16mm | C93: 1.776 | D93: 톤 | E93: =G93+I93+K93 -> 940000 | F93: =H93+J93+L93 -> 1669440 | G93: 940000 | H93: =TRUNC(C93*G93,0) -> 1669440 | I93: 0 | J93: =TRUNC(C93*I93,0) -> 0 | K93: 0 | L93: =TRUNC(C93*K93,0) -> 0
A94: 이형철근(SD400) | B94: D=19mm | C94: 0.407 | D94: 톤 | E94: =G94+I94+K94 -> 940000 | F94: =H94+J94+L94 -> 382580 | G94: 940000 | H94: =TRUNC(C94*G94,0) -> 382580 | I94: 0 | J94: =TRUNC(C94*I94,0) -> 0 | K94: 0 | L94: =TRUNC(C94*K94,0) -> 0
A95: 아스콘(사급) | B95: #78(표층용) | C95: 46 | D95: 톤 | E95: =G95+I95+K95 -> 150420 | F95: =H95+J95+L95 -> 6919320 | G95: 150420 | H95: =TRUNC(C95*G95,0) -> 6919320 | I95: 0 | J95: =TRUNC(C95*I95,0) -> 0 | K95: 0 | L95: =TRUNC(C95*K95,0) -> 0
A96: 아스콘(사급) | B96: #467(기층용) | C96: 92 | D96: 톤 | E96: =G96+I96+K96 -> 120170 | F96: =H96+J96+L96 -> 11055640 | G96: 120170 | H96: =TRUNC(C96*G96,0) -> 11055640 | I96: 0 | J96: =TRUNC(C96*I96,0) -> 0 | K96: 0 | L96: =TRUNC(C96*K96,0) -> 0
A97: 2) 터널 공동구 덮개 교체 | C97: 0 | E97: =G97+I97+K97 -> 0 | F97: =H97+J97+L97 -> 2125036 | G97: 0 | H97: =H98 -> 1216000 | I97: 0 | J97: =J98 -> 909036 | K97: 0 | L97: =L98 -> 0
A98: 공동구 덮개 교체설치 | C98: 76 | D98: EA | E98: =G98+I98+K98 -> 27961 | F98: =H98+J98+L98 -> 2125036 | G98: 16000 | H98: =TRUNC(C98*G98,0) -> 1216000 | I98: 11961 | J98: =TRUNC(C98*I98,0) -> 909036 | K98: 0 | L98: =TRUNC(C98*K98,0) -> 0 | M98: 제 5호표
A99: 3) 교량배수시설 보수 | C99: 0 | E99: =G99+I99+K99 -> 0 | F99: =H99+J99+L99 -> 59852550 | G99: 0 | H99: =SUM(H100:H101) -> 53102360 | I99: 0 | J99: =SUM(J100:J101) -> 6576966 | K99: 0 | L99: =SUM(L100:L101) -> 173224
A100: 집수구 이물질 청소 | B100: 인력 | C100: 118 | D100: EA | E100: =G100+I100+K100 -> 6986 | F100: =H100+J100+L100 -> 824348 | G100: 20 | H100: =TRUNC(C100*G100,0) -> 2360 | I100: 6961 | J100: =TRUNC(C100*I100,0) -> 821398 | K100: 5 | L100: =TRUNC(C100*K100,0) -> 590 | M100: 산근 42호표
...

Sheet 제경비산출서
A1: 제 경 비 산 출 서
A3: 공 종 | B3: 계 | C3: 재 료 비 | I3: 노 무 비 | Q3: 경 비 | AA3: 철콘 | AB3: 포장 | AC3: 소계 | AD3: 편차
A4: 직 접 공 사 비 계 | B4: =C4+I4+Q4 -> 1214234530 | C4: =내역서!H119 -> 606990347 | I4: =내역서!J119 -> 501178980 | Q4: =내역서!L119 -> 106065203 | AA4: ='제경비산출서 (철콘)'!B4 -> #REF! | AB4: ='제경비산출서 (포장)'!B4 -> #REF! | AC4: =AA4+AB4 -> #REF! | AD4: =AC4-B4 -> #REF!
A5: 1. 간 접 노 무 비 | B5: =J5 -> 94722827 | D5: =I4 -> 501178980 | E5: × | F5: 0.189 | I5: = | J5: =INT(D5*F5) -> 94722827 | AA5: ='제경비산출서 (철콘)'!B5 -> #REF! | AB5: ='제경비산출서 (포장)'!B5 -> #REF! | AC5: =AA5+AB5 -> #REF! | AD5: =AC5-B5 -> #REF!
A6: 2. 산 재 보 험 료 | B6: =Q6 -> 21214104 | C6: ( | D6: =I4 -> 501178980 | E6: + | F6: =B5 -> 94722827 | J6: ) × | L6: 0.0356 | P6: = | Q6: =INT((D6+F6)*L6) -> 21214104 | AA6: ='제경비산출서 (철콘)'!B6 -> #REF! | AB6: ='제경비산출서 (포장)'!B6 -> #REF! | AC6: =AA6+AB6 -> #REF! | AD6: =AC6-B6 -> #REF!
A7: 3. 고 용 보 험 료 | B7: =Q7 -> 6018608 | C7: ( | D7: =I4 -> 501178980 | E7: + | F7: =B5 -> 94722827 | J7: ) × | L7: 0.0101 | P7: = | Q7: =INT((D7+F7)*L7) -> 6018608 | AA7: ='제경비산출서 (철콘)'!B7 -> #REF! | AB7: ='제경비산출서 (포장)'!B7 -> #REF! | AC7: =AA7+AB7 -> #REF! | AD7: =AC7-B7 -> #REF!
A8: 4. 건 강 보 험 료 | B8: =Q8 -> 18017384 | C8: ( | D8: =I4 -> 501178980 | E8: )x | F8: 0.03595 | P8: = | Q8: =INT((D8*F8)) -> 18017384 | AA8: ='제경비산출서 (철콘)'!B8 -> #REF! | AB8: ='제경비산출서 (포장)'!B8 -> #REF! | AC8: =AA8+AB8 -> #REF! | AD8: =AC8-B8 -> #REF!
A9: 5. 연 금 보 험 료 | B9: =Q9 -> 23806001 | C9: ( | D9: =I4 -> 501178980 | E9: )x | F9: 0.0475 | P9: = | Q9: =INT((D9*F9)) -> 23806001 | AA9: ='제경비산출서 (철콘)'!B9 -> #REF! | AB9: ='제경비산출서 (포장)'!B9 -> #REF! | AC9: =AA9+AB9 -> #REF! | AD9: =AC9-B9 -> #REF!
A10: 6. 퇴직공제부금비 | B10: =Q10 -> 11527116 | C10: ( | D10: =I4 -> 501178980 | E10: )x | F10: 0.023 | P10: = | Q10: =INT((D10*F10)) -> 11527116 | AA10: ='제경비산출서 (철콘)'!B10 -> #REF! | AB10: ='제경비산출서 (포장)'!B10 -> #REF! | AC10: =AA10+AB10 -> #REF! | AD10: =AC10-B10 -> #REF!
A11: 7. 노인장기요양보험료 | B11: =Q11 -> 2367484 | C11: ( | D11: =B8 -> 18017384 | E11: )x | F11: 0.1314 | P11: = | Q11: =INT((D11*F11)) -> 2367484 | AA11: ='제경비산출서 (철콘)'!B11 -> #REF! | AB11: ='제경비산출서 (포장)'!B11 -> #REF! | AC11: =AA11+AB11 -> #REF! | AD11: =AC11-B11 -> #REF!
A12: 8. 건설기계대여대금 | B12: =T12 -> 4856938 | C12: ( | D12: =C4 -> 606990347 | E12: + | F12: =I4 -> 501178980 | J12: + | K12: =Q4 -> 106065203 | P12: )× | Q12: 0.004 | S12: = | T12: =INT((D12+F12+K12)*Q12) -> 4856938 | AA12: ='제경비산출서 (철콘)'!B12 -> #REF! | AB12: ='제경비산출서 (포장)'!B12 -> #REF! | AC12: =AA12+AB12 -> #REF! | AD12: =AC12-B12 -> #REF!
A13: 9. 건설하도급보증서 발급수수료 | B13: =T13 -> 983529 | C13: ( | D13: =C4 -> 606990347 | E13: + | F13: =I4 -> 501178980 | J13: + | K13: =Q4 -> 106065203 | P13: )× | Q13: 0.00081 | S13: = | T13: =INT((D13+F13+K13)*Q13) -> 983529
A14: 10. 산업안전보건관리비 | B14: =T14 -> 32266113 | C14: ( | D14: =C4 -> 606990347 | E14: + | F14: =I4 -> 501178980 | J14: + | K14: =B28/1.1 -> 36736364 | N14: ) x | O14: 0.0253 | P14: + | Q14: 3300000 | S14: = | T14: =INT((D14+F14+K14)*O14)+Q14 -> 32266113 | X14: (적용) | AA14: ='제경비산출서 (철콘)'!B13 -> #REF! | AB14: ='제경비산출서 (포장)'!B13 -> #REF! | AC14: =AA14+AB14 -> #REF! | AD14: =AC14-B14 -> #REF!
C15: [( | D15: =D14 -> 606990347 | E15: + | F15: =F14 -> 501178980 | J15: ) x | K15: 0.0253 | M15: + | N15: 3300000 | P15: )]x | Q15: 1.2 | S15: = | T15: =INT(((D15+F15)*K15+N15)*Q15) -> 37604020 | X15: (미적용) | AA15: ='제경비산출서 (철콘)'!B14 -> 0 | AB15: ='제경비산출서 (포장)'!B14 -> 0 | AC15: =AA15+AB15 -> 0 | AD15: =AC15-B15 -> 0
A16: 11. 환 경 보 전 비 | B16: =T16 -> 10928110 | C16: ( | D16: =C4 -> 606990347 | E16: + | F16: =I4 -> 501178980 | J16: + | K16: =Q4 -> 106065203 | P16: )× | Q16: 0.009 | S16: = | T16: =INT((D16+F16+K16)*Q16) -> 10928110 | AA16: ='제경비산출서 (철콘)'!B16 -> #REF! | AB16: ='제경비산출서 (포장)'!B16 -> #REF! | AC16: =AA16+AB16 -> #REF! | AD16: =AC16-B16 -> #REF!
A17: 12. 법정부담금(석면분담금) | B17: =Q17 -> 35754 | C17: ( | D17: =I4 -> 501178980 | E17: + | F17: =B5 -> 94722827 | J17: ) × | L17: 6e-05 | P17: = | Q17: =INT((D17+F17)*L17) -> 35754
A18: 13. 법정부담금(임금채권부담금) | B18: =Q18 -> 536311 | C18: ( | D18: =I4 -> 501178980 | E18: + | F18: =B5 -> 94722827 | J18: ) × | L18: 0.0009 | P18: = | Q18: =INT((D18+F18)*L18) -> 536311
A19: 14. 품 질 관 리 비 | B19: =내역서!F176 -> 1059352 | AA19: ='제경비산출서 (철콘)'!B17 -> 529676 | AB19: ='제경비산출서 (포장)'!B17 -> 529676 | AC19: =AA19+AB19 -> 1059352 | AD19: =AC19-B19 -> 0
A20: 15. 기 타 경 비 | B20: =T20 -> 69767744 | C20: ( | D20: =C4 -> 606990347 | E20: + | F20: =I4 -> 501178980 | J20: + | K20: =B5 -> 94722827 | P20: )× | Q20: 0.058 | S20: = | T20: =INT((D20+F20+K20)*Q20) -> 69767744 | AA20: ='제경비산출서 (철콘)'!B18 -> #REF! | AB20: ='제경비산출서 (포장)'!B18 -> #REF! | AC20: =AA20+AB20 -> #REF! | AD20: =AC20-B20 -> #REF!
A21: 순 공 사 원 가 | B21: =SUM(B4:B20) -> 1512341905 | Z21: =B21-1457059034 -> 55282871 | AA21: ='제경비산출서 (철콘)'!B19 -> #REF! | AB21: ='제경비산출서 (포장)'!B19 -> #REF! | AC21: =AA21+AB21 -> #REF! | AD21: =AC21-B21 -> #REF!
A22: 16. 일 반 관 리 비 | B22: =J22 -> 120987352 | D22: =B21 -> 1512341905 | E22: × | F22: 0.08 | I22: = | J22: =INT(D22*F22) -> 120987352 | AA22: ='제경비산출서 (철콘)'!B20 -> #REF! | AB22: ='제경비산출서 (포장)'!B20 -> #REF! | AC22: =AA22+AB22 -> #REF! | AD22: =AC22-B22 -> #REF!
A23: 17. 이 윤 | B23: =T23 -> 1.5357074e+08 | C23: ( | D23: =B21 -> 1512341905 | E23: + | F23: =B22 -> 120987352 | J23: - | K23: =C4 -> 606990347 | P23: )× | Q23: 0.15 | S23: = | T23: =INT(((D23+F23-K23)*Q23))-(418102/1.1) -> 1.5357074e+08 | AA23: ='제경비산출서 (철콘)'!B21 -> #REF! | AB23: ='제경비산출서 (포장)'!B21 -> #REF! | AC23: =AA23+AB23 -> #REF! | AD23: =AC23-B23 -> #REF!
A24: 18. 고 재 처 리 비 | B24: =내역서!F195 -> 0
A25: 공 급 가 액 | B25: =B22+B23+B21+B24 -> 1.7869e+09 | AA25: ='제경비산출서 (철콘)'!B22 -> #REF! | AB25: ='제경비산출서 (포장)'!B22 -> #REF! | AC25: =AA25+AB25 -> #REF! | AD25: =AC25-B25 -> #REF!
A26: 18. 부 가 가 치 세 | B26: =J26 -> 178690000 | D26: =B25 -> 1.7869e+09 | E26: × | F26: 0.1 | I26: = | J26: =INT(D26*F26) -> 178690000 | AA26: ='제경비산출서 (철콘)'!B23 -> #REF! | AB26: ='제경비산출서 (포장)'!B23 -> #REF! | AC26: =AA26+AB26 -> #REF! | AD26: =AC26-B26 -> #REF!
A27: 19. 도 급 예 정 액 | B27: =SUM(B25:B26) -> 1.96559e+09 | AA27: ='제경비산출서 (철콘)'!B24 -> #REF! | AB27: ='제경비산출서 (포장)'!B24 -> #REF! | AC27: =AA27+AB27 -> #REF! | AD27: =AC27-B27 -> #REF!
A28: 21. 관 급 자 재 비 | B28: =내역서!F157 -> 40410000 | Z28: =2005400000/1.1 -> 1.8230909e+09 | AA28: ='제경비산출서 (철콘)'!B25 -> 0 | AB28: ='제경비산출서 (포장)'!B25 -> 40410000 | AC28: =AA28+AB28 -> 40410000 | AD28: =AC28-B28 -> 0
A29: 22. 폐기물 처리비 | B29: =내역서!F214 -> 0 | AA29: ='제경비산출서 (철콘)'!B26 -> 0 | AB29: ='제경비산출서 (포장)'!B26 -> 0 | AC29: =AA29+AB29 -> 0 | AD29: =AC29-B29 -> 0
A30: 23. 총 공 사 비 | B30: =B27+B28+B29 -> 2.006e+09 | AA30: ='제경비산출서 (철콘)'!B27 -> #REF! | AB30: ='제경비산출서 (포장)'!B27 -> #REF! | AC30: =AA30+AB30 -> #REF! | AD30: =AC30-B30 -> #REF!
AA31: =AA27/AC27 -> #REF! | AB31: =AB27/AC27 -> #REF!

Sheet 제경비산출서 (철콘)
A1: 제 경 비 산 출 서
A3: 공 종 | B3: 계 | C3: 재 료 비 | I3: 노 무 비 | Q3: 경 비
A4: 직 접 공 사 비 계 | B4: =C4+I4+Q4 -> #REF! | C4: =내역서!H4+내역서!#REF!+내역서!#REF! -> #REF! | I4: =내역서!J4+내역서!#REF!+내역서!#REF! -> #REF! | Q4: =내역서!L4+내역서!#REF!+내역서!#REF! -> #REF!
A5: 1. 간 접 노 무 비 | B5: =J5 -> #REF! | D5: =I4 -> #REF! | E5: × | F5: 0.165 | I5: = | J5: =INT(D5*F5) -> #REF!
A6: 2. 산 재 보 험 료 | B6: =Q6 -> #REF! | C6: ( | D6: =I4 -> #REF! | E6: + | F6: =B5 -> #REF! | J6: ) × | L6: 0.0356 | P6: = | Q6: =INT((D6+F6)*L6) -> #REF!
A7: 3. 고 용 보 험 료 | B7: =Q7 -> #REF! | C7: ( | D7: =I4 -> #REF! | E7: + | F7: =B5 -> #REF! | J7: ) × | L7: 0.0101 | P7: = | Q7: =INT((D7+F7)*L7) -> #REF!
A8: 4. 건 강 보 험 료 | B8: =Q8 -> #REF! | C8: ( | D8: =I4 -> #REF! | E8: )x | F8: 0.03595 | P8: = | Q8: =INT((D8*F8)) -> #REF!
A9: 5. 연 금 보 험 료 | B9: =Q9 -> #REF! | C9: ( | D9: =I4 -> #REF! | E9: )x | F9: 0.0475 | P9: = | Q9: =INT((D9*F9)) -> #REF!
A10: 6. 퇴직공제부금비 | B10: =Q10 -> #REF! | C10: ( | D10: =I4 -> #REF! | E10: )x | F10: 0.023 | P10: = | Q10: =INT((D10*F10)) -> #REF!
A11: 7. 노인장기요양보험료 | B11: =Q11 -> #REF! | C11: ( | D11: =B8 -> #REF! | E11: )x | F11: 0.1314 | P11: = | Q11: =INT((D11*F11)) -> #REF!
A12: 8. 건설기계대여대금 | B12: =T12 -> #REF! | C12: ( | D12: =C4 -> #REF! | E12: + | F12: =I4 -> #REF! | J12: + | K12: =Q4 -> #REF! | P12: )× | Q12: 0.004 | S12: = | T12: =INT((D12+F12+K12)*Q12) -> #REF!
A13: 9. 산업안전보건관리비 | B13: =T13 -> #REF! | C13: ( | D13: =C4 -> #REF! | E13: + | F13: =I4 -> #REF! | J13: + | K13: =B25/1.1 -> 0 | N13: ) x | O13: 0.0253 | P13: + | Q13: =3300000/2 -> 1650000 | S13: = | T13: =INT((D13+F13+K13)*O13)+Q13 -> #REF! | X13: (적용)
C14: [( | D14: =D13 -> #REF! | E14: + | F14: =F13 -> #REF! | J14: ) x | K14: 0.0253 | M14: + | N14: 3300000 | P14: )]x | Q14: 1.2 | S14: = | T14: =INT(((D14+F14)*K14+N14)*Q14) -> #REF! | X14: (미적용)
A15: 10. 건설하도금지급보증서발급 | B15: =T15 -> #REF! | C15: ( | D15: =C4 -> #REF! | E15: + | F15: =I4 -> #REF! | J15: + | K15: =Q4 -> #REF! | P15: )× | Q15: 0.00081 | S15: = | T15: =INT((D15+F15+K15)*Q15) -> #REF!
A16: 11. 환 경 보 전 비 | B16: =T16 -> #REF! | C16: ( | D16: =C4 -> #REF! | E16: + | F16: =I4 -> #REF! | J16: + | K16: =Q4 -> #REF! | P16: )× | Q16: 0.009 | S16: = | T16: =INT((D16+F16+K16)*Q16) -> #REF!
A17: 12. 품 질 관 리 비 | B17: =내역서!F176/2 -> 529676
A18: 13. 기 타 경 비 | B18: =T18 -> #REF! | C18: ( | D18: =C4 -> #REF! | E18: + | F18: =I4 -> #REF! | J18: + | K18: =B5 -> #REF! | P18: )× | Q18: 0.053 | S18: = | T18: =INT((D18+F18+K18)*Q18) -> #REF!
A19: 순 공 사 원 가 | B19: =SUM(B4:B18) -> #REF!
A20: 14. 일 반 관 리 비 | B20: =J20 -> #REF! | D20: =B19 -> #REF! | E20: × | F20: 0.08 | I20: = | J20: =INT(D20*F20) -> #REF!
A21: 15. 이 윤 | B21: =T21 -> #REF! | C21: ( | D21: =B19 -> #REF! | E21: + | F21: =B20 -> #REF! | J21: - | K21: =C4 -> #REF! | P21: )× | Q21: 0.15 | S21: = | T21: =INT(((D21+F21-K21)*Q21))-(175579/1.1) -> #REF!
A22: 공 급 가 액 | B22: =B20+B21+B19 -> #REF!
A23: 16. 부 가 가 치 세 | B23: =J23 -> #REF! | D23: =B22 -> #REF! | E23: × | F23: 0.1 | I23: = | J23: =TRUNC(D23*F23,0) -> #REF!
A24: 17. 도 급 예 정 액 | B24: =SUM(B22:B23) -> #REF!
A25: 18. 관 급 자 재 비
A26: 19. 폐기물 처리비
A27: 20. 총 공 사 비 | B27: =B24+B25+B26 -> #REF!

Sheet 제경비산출서 (포장)
A1: 제 경 비 산 출 서
A3: 공 종 | B3: 계 | C3: 재 료 비 | I3: 노 무 비 | Q3: 경 비
A4: 직 접 공 사 비 계 | B4: =C4+I4+Q4 -> #REF! | C4: =내역서!H23+내역서!#REF!+내역서!#REF! -> #REF! | I4: =내역서!J23+내역서!#REF!+내역서!#REF! -> #REF! | Q4: =내역서!L23+내역서!#REF!+내역서!#REF! -> #REF!
A5: 1. 간 접 노 무 비 | B5: =J5 -> #REF! | D5: =I4 -> #REF! | E5: × | F5: 0.165 | I5: = | J5: =INT(D5*F5) -> #REF!
A6: 2. 산 재 보 험 료 | B6: =Q6 -> #REF! | C6: ( | D6: =I4 -> #REF! | E6: + | F6: =B5 -> #REF! | J6: ) × | L6: 0.0356 | P6: = | Q6: =INT((D6+F6)*L6) -> #REF!
A7: 3. 고 용 보 험 료 | B7: =Q7 -> #REF! | C7: ( | D7: =I4 -> #REF! | E7: + | F7: =B5 -> #REF! | J7: ) × | L7: 0.0101 | P7: = | Q7: =INT((D7+F7)*L7) -> #REF!
A8: 4. 건 강 보 험 료 | B8: =Q8 -> #REF! | C8: ( | D8: =I4 -> #REF! | E8: )x | F8: 0.03595 | P8: = | Q8: =INT((D8*F8)) -> #REF!
A9: 5. 연 금 보 험 료 | B9: =Q9 -> #REF! | C9: ( | D9: =I4 -> #REF! | E9: )x | F9: 0.0475 | P9: = | Q9: =INT((D9*F9)) -> #REF!
A10: 6. 퇴직공제부금비 | B10: =Q10 -> #REF! | C10: ( | D10: =I4 -> #REF! | E10: )x | F10: 0.023 | P10: = | Q10: =INT((D10*F10)) -> #REF!
A11: 7. 노인장기요양보험료 | B11: =Q11 -> #REF! | C11: ( | D11: =B8 -> #REF! | E11: )x | F11: 0.1314 | P11: = | Q11: =INT((D11*F11)) -> #REF!
A12: 8. 건설기계대여대금 | B12: =T12 -> #REF! | C12: ( | D12: =C4 -> #REF! | E12: + | F12: =I4 -> #REF! | J12: + | K12: =Q4 -> #REF! | P12: )× | Q12: 0.004 | S12: = | T12: =INT((D12+F12+K12)*Q12) -> #REF!
A13: 9. 산업안전보건관리비 | B13: =T13 -> #REF! | C13: ( | D13: =C4 -> #REF! | E13: + | F13: =I4 -> #REF! | J13: + | K13: =B25/1.1 -> 36736364 | N13: ) x | O13: 0.0253 | P13: + | Q13: =3300000/2 -> 1650000 | S13: = | T13: =INT((D13+F13+K13)*O13)+Q13 -> #REF! | X13: (적용)
C14: [( | D14: =D13 -> #REF! | E14: + | F14: =F13 -> #REF! | J14: ) x | K14: 0.0253 | M14: + | N14: 3300000 | P14: )]x | Q14: 1.2 | S14: = | T14: =INT(((D14+F14)*K14+N14)*Q14) -> #REF! | X14: (미적용)
A15: 10. 건설하도금지급보증서발급 | B15: =T15 -> #REF! | C15: ( | D15: =C4 -> #REF! | E15: + | F15: =I4 -> #REF! | J15: + | K15: =Q4 -> #REF! | P15: )× | Q15: 0.00081 | S15: = | T15: =INT((D15+F15+K15)*Q15) -> #REF!
A16: 11. 환 경 보 전 비 | B16: =T16 -> #REF! | C16: ( | D16: =C4 -> #REF! | E16: + | F16: =I4 -> #REF! | J16: + | K16: =Q4 -> #REF! | P16: )× | Q16: 0.009 | S16: = | T16: =INT((D16+F16+K16)*Q16) -> #REF!
A17: 12. 품 질 관 리 비 | B17: =내역서!F176/2 -> 529676
A18: 13. 기 타 경 비 | B18: =T18 -> #REF! | C18: ( | D18: =C4 -> #REF! | E18: + | F18: =I4 -> #REF! | J18: + | K18: =B5 -> #REF! | P18: )× | Q18: 0.053 | S18: = | T18: =INT((D18+F18+K18)*Q18) -> #REF!
A19: 순 공 사 원 가 | B19: =SUM(B4:B18) -> #REF!
A20: 14. 일 반 관 리 비 | B20: =J20 -> #REF! | D20: =B19 -> #REF! | E20: × | F20: 0.08 | I20: = | J20: =INT(D20*F20) -> #REF!
A21: 15. 이 윤 | B21: =T21 -> #REF! | C21: ( | D21: =B19 -> #REF! | E21: + | F21: =B20 -> #REF! | J21: - | K21: =C4 -> #REF! | P21: )× | Q21: 0.15 | S21: = | T21: =INT(((D21+F21-K21)*Q21))-(175490/1.1) -> #REF!
A22: 공 급 가 액 | B22: =B20+B21+B19 -> #REF!
A23: 16. 부 가 가 치 세 | B23: =J23 -> #REF! | D23: =B22 -> #REF! | E23: × | F23: 0.1 | I23: = | J23: =TRUNC(D23*F23,0) -> #REF!
A24: 17. 도 급 예 정 액 | B24: =SUM(B22:B23) -> #REF!
A25: 18. 관 급 자 재 비 | B25: =내역서!F157 -> 40410000
A26: 19. 폐기물 처리비 | B26: =내역서!F214 -> 0
A27: 20. 총 공 사 비 | B27: =B24+B25+B26 -> #REF!
