Workbook
Name _: [1]예가표!#REF!
Name __: [1]예가표!#REF!
Name ___: [1]예가표!#REF!
Name _______: [1]예가표!#REF!
Name ____________: [1]예가표!#REF!
Name _____________: [1]예가표!#REF!
Name ______________: [1]예가표!#REF!
Name ___PB1: #REF!
Name ___PB2: #REF!
Name ___PB3: #REF!
Name __PB1: #REF!
Name __PB2: #REF!
Name __PB3: #REF!
Name _\D: #REF!
Name _\X: #REF!
Name _\Z: [2]결과조달!$GU$5658:$IV$7860
Name _0: [3]직재!#REF!
Name _01._본____청: #REF!
Name _02._경_비_실___1: #REF!
Name _03._경_비_실___2: #REF!
Name _04._경_비_실___3: #REF!
Name _05._급__기__탑: #REF!
Name _06._배__기__탑: #REF!
Name _07._부______대: #REF!
Name _1: [4]제직재!#REF!
Name _1._PANEL_BD.__LP___1: #REF!
Name _1._사급자재대: #REF!
Name _10: #N/A
Name _100____________________________________________________Module4_.Macro3: _100____________________________________________________Module4_.Macro3
Name _1000_______________________________________________________________3__Crite: #REF!
Name _1002_______________________________________________________________3__Criteria: #REF!
Name _1004_______________________________________________________________G__Extr: #REF!
Name _1006_______________________________________________________________G__Extract: #REF!
Name _1018______________________________________________________________3__Crite: #REF!
Name _102____________________________________________________Module6_.Macro4: _102____________________________________________________Module6_.Macro4
Name _1020______________________________________________________________3__Criteria: #REF!
Name _1022______________________________________________________________G__Extr: #REF!
Name _1024______________________________________________________________G__Extract: #REF!
Name _1036_____________________________________________________________3__Crite: #REF!
Name _1038_____________________________________________________________3__Criteria: #REF!
Name _104_____________________________________________________Module4_.Macro3: _104_____________________________________________________Module4_.Macro3
Name _1040_____________________________________________________________G__Extr: #REF!
Name _1042_____________________________________________________________G__Extract: #REF!
Name _1054____________________________________________________________3__Crite: #REF!
Name _1056____________________________________________________________3__Criteria: #REF!
Name _1058____________________________________________________________G__Extr: #REF!
Name _106_____________________________________________________Module6_.Macro4: _106_____________________________________________________Module6_.Macro4
Name _1060____________________________________________________________G__Extract: #REF!
Name _1072___________________________________________________________3__Crite: #REF!
Name _1074___________________________________________________________3__Criteria: #REF!
Name _1076___________________________________________________________G__Extr: #REF!
Name _1078___________________________________________________________G__Extract: #REF!
Name _108______________________________________________________Module4_.Macro3: _108______________________________________________________Module4_.Macro3
Name _1090__________________________________________________________3__Crite: #REF!
Name _1092__________________________________________________________3__Criteria: #REF!
Name _1094__________________________________________________________G__Extr: #REF!
Name _1096__________________________________________________________G__Extract: #REF!
Name _11: #N/A
Name _110______________________________________________________Module6_.Macro4: _110______________________________________________________Module6_.Macro4
Name _1108_________________________________________________________3__Crite: #REF!

Sheet 원가계산서
B1: 공 사 원 가 계 산 서
B2: 공사명 : 기억 및 교세포 연구단 위성동물실 구축공사 | F2: ="일금 : " & NUMBERSTRING(E33,1)&"원정"&"("&DOLLAR(E33)&")" -> 일금 : 삼천팔백사십사만오천원정(₩38,445,000)
B3: 비 목 | E3: 금 액 | F3: 구 성 비 | G3: 비 고
A4: A1 | B4: 순 공 사 원 가 | C4: 재 료 비 | D4: 직 접 재 료 비 | E4: =공종별집계표!F5 -> 0
A5: A2 | D5: 간 접 재 료 비 | E5: 0
A6: A3 | D6: 작업설, 부산물(△) | E6: 0
A7: AS | D7: [ 소 계 ] | E7: =TRUNC(E4+E5-E6, 0) -> 0
A8: B1 | C8: 노 무 비 | D8: 직 접 노 무 비 | E8: =공종별집계표!H5 -> 0
A9: B2 | D9: 간 접 노 무 비 | E9: =TRUNC(E8*0.175, 0) -> 0 | F9: 직접노무비 * 17.5%
A10: BS | D10: [ 소 계 ] | E10: =TRUNC(E8+E9, 0) -> 0
A11: C2 | C11: 경 비 | D11: 경 비 | E11: =공종별집계표!J5 -> 0
A12: C4 | D12: 산 재 보 험 료 | E12: =TRUNC(E10*0.0356, 0) -> 0 | F12: 노무비 * 3.56%
A13: C5 | D13: 고 용 보 험 료 | E13: =TRUNC(E10*0.0101, 0) -> 0 | F13: 노무비 * 1.01%
A14: C6 | D14: 국민 건강 보험료 | E14: 470224 | F14: 직접노무비 * 3.595%
A15: CB | D15: 노인장기요양보험료 | F15: 건강보험료 * 13.14%
A16: C7 | D16: 국민 연금 보험료 | E16: 621298 | F16: 직접노무비 * 4.75%
A17: C8 | D17: 퇴직 공제 부금비 | G17: 1억미만제외 | I17: 1억미만 이면 제외
A18: CA | D18: 산업안전보건관리비 | E18: 703002 | F18: (재료비+직노) * 3.11%
A19: CG | D19: 기 타 경 비 | E19: =TRUNC((E7+E10)*0.05, 0) -> 0 | F19: (재료비+노무비) * 5%
A20: CH | D20: 환 경 보 전 비 | E20: =TRUNC((E7+E8+E11)*0.003, 0) -> 0 | F20: (재료비+직노+경비) * 0.3%
A21: CK | D21: 하도급지급보증수수료 | E21: =TRUNC((E7+E8+E11)*0.00081, 0) -> 0 | F21: (재료비+직노+경비) * 0.081%
A22: CL | D22: 건설기계대여금지급보증서발급수수료 | E22: =TRUNC((E7+E8+E11)*0.0007, 0) -> 0 | F22: (재료비+직노+경비) * 0.07%
A23: CM | D23: 석 면 분 담 금 | E23: =TRUNC(E10*0.00006, 0) -> 0 | F23: 노무비 * 0.006%
A24: CN | D24: 임 금 채 권 부 담 금 | E24: =TRUNC(E10*0.0009, 0) -> 0 | F24: 노무비 * 0.09%
A25: CS | D25: [ 소 계 ]
A26: S1 | B26: 계 | E26: =TRUNC(E7+E10+E25, 0) -> 0
A27: D1 | B27: 일 반 관 리 비 | E27: =TRUNC(E26*0.08, 0) -> 0 | F27: 계 * 8%
A28: D2 | B28: 이 윤 | F28: (노무비+경비+일반관리비) * 15%
A29: D4 | B29: 폐기물처리비
A30: D9 | B30: 공 급 가 액 | E30: =TRUNC(E26+E27+E28+E29, 0) -> 0
A31: DB | B31: 부 가 가 치 세 | E31: =TRUNC(E30*0.1, 0) -> 0 | F31: 공급가액 * 10%
A32: DH | B32: 도 급 액 | E32: 38445000
A33: S2 | B33: 총 공 사 비 | E33: 38445000

Sheet 공종별집계표
A1: 공 종 별 집 계 표
A2: [ 기억 및 교세포 연구단 위성동물실 구축공사(기계) ]
A3: 품 명 | B3: 규 격 | C3: 단위 | D3: 수량 | E3: 재 료 비 | G3: 노 무 비 | I3: 경 비 | K3: 합 계 | M3: 비 고 | N3: 공종코드 | O3: 변수 | P3: 상위공종 | Q3: 공종구분 | R3: 공종레벨 | S3: 공종소계 | T3: 원가계산서 연결금액
E4: 단 가 | F4: 금 액 | G4: 단 가 | H4: 금 액 | I4: 단 가 | J4: 금 액 | K4: 단 가 | L4: 금 액
A5: 01 기억 및 교세포 연구단 위성동물실 구축공사(기계) | D5: 1 | E5: =F6+F7 -> 0 | F5: =E5*D5 -> 0 | G5: =H6+H7 -> 0 | H5: =G5*D5 -> 0 | I5: =J6+J7 -> 0 | J5: =I5*D5 -> 0 | K5: =E5+G5+I5 -> 0 | L5: =F5+H5+J5 -> 0 | N5: 01 | R5: 1
A6: 0101 공조배관공사 | D6: 1 | E6: =공종별내역서!F27 -> 0 | F6: =E6*D6 -> 0 | G6: =공종별내역서!H27 -> 0 | H6: =G6*D6 -> 0 | I6: =공종별내역서!J27 -> 0 | J6: =I6*D6 -> 0 | K6: =E6+G6+I6 -> 0 | L6: =F6+H6+J6 -> 0 | N6: 0101 | P6: 01 | R6: 2
A7: 0102 덕트배관공사 | D7: 1 | E7: =공종별내역서!F51+공종별내역서!F71 -> 0 | F7: =E7*D7 -> 0 | G7: =공종별내역서!H51+공종별내역서!H71 -> 0 | H7: =G7*D7 -> 0 | I7: =공종별내역서!J51 -> 0 | J7: =I7*D7 -> 0 | K7: =E7+G7+I7 -> 0 | L7: =F7+H7+J7 -> 0
A27: [ 합 계 ] | F27: =F5 -> 0 | H27: =H5 -> 0 | J27: =J5 -> 0 | L27: =L5 -> 0

Sheet 공종별내역서
A1: [ 기억 및 교세포 연구단 위성동물실 구축공사(기계) ]
A2: 품 명 | B2: 규 격 | C2: 단위 | D2: 수량 | E2: 재 료 비 | G2: 노 무 비 | I2: 경 비 | K2: 합 계 | M2: 비 고 | N2: 품목코드 | O2: 변수 | P2: 설정 | Q2: 공종코드 | R2: 일위 | S2: 단산 | T2: 자재 | U2: 손료적용 | V2: 손료저장 | W2: 적용율 | X2: JUK1 | Y2: JUK2 | Z2: JUK3 | AA2: JUK4 | AB2: JUK5 | AC2: JUK6 | AD2: JUK7 | AE2: JUK8 | AF2: JUK9 | AG2: JUK10 | AH2: JUK11 | AI2: JUK12 | AJ2: JUK13 | AK2: JUK14 | AL2: JUK15 | AM2: JUK16 | AN2: JUK17 | AO2: JUK18 | AP2: JUK19 | AQ2: JUK20 | AR2: 자재구분 | AS2: 공종구분 | AT2: 공종레벨 | AU2: 공종+자재 | AV2: 고유번호
E3: 단 가 | F3: 금 액 | G3: 단 가 | H3: 금 액 | I3: 단 가 | J3: 금 액 | K3: 단 가 | L3: 금 액
A4: 0101 공조배관공사 | Q4: 0101
A5: 팬코일유닛(天井형) 이전설치 | B5: 680㎥/hr이상 | C5: 대 | D5: 1 | E5: =TRUNC(일위대가목록!E4,0) -> 0 | F5: =TRUNC(E5*D5, 0) -> 0 | G5: =TRUNC(일위대가목록!F4,0) -> 0 | H5: =TRUNC(G5*D5, 0) -> 0 | I5: =TRUNC(일위대가목록!G4,0) -> 0 | J5: =TRUNC(I5*D5, 0) -> 0 | K5: =TRUNC(E5+G5+I5, 0) -> 0 | L5: =TRUNC(F5+H5+J5, 0) -> 0 | N5: 45CC4621517673489BFA5D6DB1B6C | Q5: 0101 | R5: T | S5: F | T5: F | AU5: 010145CC4621517673489BFA5D6DB1B6C | AV5: 6
A6: 스테인리스강관배관(옥내) | B6: D20*2.0t | C6: M | D6: 6 | E6: =TRUNC(일위대가목록!E5,0) -> 0 | F6: =TRUNC(E6*D6, 0) -> 0 | G6: =TRUNC(일위대가목록!F5,0) -> 0 | H6: =TRUNC(G6*D6, 0) -> 0 | I6: =TRUNC(일위대가목록!G5,0) -> 0 | J6: =TRUNC(I6*D6, 0) -> 0 | K6: =TRUNC(E6+G6+I6, 0) -> 0 | L6: =TRUNC(F6+H6+J6, 0) -> 0 | N6: 45CC4C3C53AB238C94CF37E29DBBE | Q6: 0101 | R6: T | S6: F | T6: F | AU6: 010145CC4C3C53AB238C94CF37E29DBBE | AV6: 3
A7: 관보온(고무발포, 매직테프) | B7: 25t*D20 | C7: M | D7: 6 | E7: =TRUNC(일위대가목록!E6,0) -> 0 | F7: =TRUNC(E7*D7, 0) -> 0 | G7: =TRUNC(일위대가목록!F6,0) -> 0 | H7: =TRUNC(G7*D7, 0) -> 0 | I7: =TRUNC(일위대가목록!G6,0) -> 0 | J7: =TRUNC(I7*D7, 0) -> 0 | K7: =TRUNC(E7+G7+I7, 0) -> 0 | L7: =TRUNC(F7+H7+J7, 0) -> 0 | N7: 45CC4AED525373699A505EBD14DD3 | Q7: 0101 | R7: T | S7: F | T7: F | AU7: 010145CC4AED525373699A505EBD14DD3 | AV7: 4
A8: 절연행가(전산볼트) | B8: D20 | C8: 개소 | D8: 3 | E8: =TRUNC(일위대가목록!E7,0) -> 0 | F8: =TRUNC(E8*D8, 0) -> 0 | G8: =TRUNC(일위대가목록!F7,0) -> 0 | H8: =TRUNC(G8*D8, 0) -> 0 | I8: =TRUNC(일위대가목록!G7,0) -> 0 | J8: =TRUNC(I8*D8, 0) -> 0 | K8: =TRUNC(E8+G8+I8, 0) -> 0 | L8: =TRUNC(F8+H8+J8, 0) -> 0 | N8: 45CC4655536FE3359814AB601085C | Q8: 0101 | R8: T | S8: F | T8: F | AU8: 010145CC4655536FE3359814AB601085C | AV8: 5
A9: 일반배관용스테인리스강관관이음쇠 | B9: ∮20mm, 용접식, 엘보, #10 | C9: 개 | D9: 9 | E9: =TRUNC(단가대비표!O16,0) -> 0 | F9: =TRUNC(E9*D9, 0) -> 0 | G9: =TRUNC(단가대비표!P16,0) -> 0 | H9: =TRUNC(G9*D9, 0) -> 0 | I9: =TRUNC(단가대비표!V16,0) -> 0 | J9: =TRUNC(I9*D9, 0) -> 0 | K9: =TRUNC(E9+G9+I9, 0) -> 0 | L9: =TRUNC(F9+H9+J9, 0) -> 0 | N9: 425C4BF85E7DC3D09853C3BB72057E65B2F80 | Q9: 0101 | R9: F | S9: F | T9: T | AU9: 0101425C4BF85E7DC3D09853C3BB72057E65B2F80 | AV9: 8
A10: 스테인리스용접(TIG) | B10: D20 | C10: 개소 | D10: 18 | E10: =TRUNC(일위대가목록!E8,0) -> 0 | F10: =TRUNC(E10*D10, 0) -> 0 | G10: =TRUNC(일위대가목록!F8,0) -> 0 | H10: =TRUNC(G10*D10, 0) -> 0 | I10: =TRUNC(일위대가목록!G8,0) -> 0 | J10: =TRUNC(I10*D10, 0) -> 0 | K10: =TRUNC(E10+G10+I10, 0) -> 0 | L10: =TRUNC(F10+H10+J10, 0) -> 0 | N10: 45CC4C3C53B5734A9EDCD16169C86 | Q10: 0101 | R10: T | S10: F | T10: F | AU10: 010145CC4C3C53B5734A9EDCD16169C86 | AV10: 7
Q11: 0101
Q12: 0101
Q13: 0101
Q14: 0101
Q15: 0101
Q16: 0101
Q17: 0101
Q18: 0101
Q19: 0101
Q20: 0101
Q21: 0101
Q22: 0101
... Q26: 0101
A27: [ 합 계 ] | F27: =SUMIF(Q5:Q26,"0101",F5:F26) -> 0 | H27: =SUMIF(Q5:Q26,"0101",H5:H26) -> 0 | J27: =SUMIF(Q5:Q26,"0101",J5:J26) -> 0 | L27: =SUMIF(Q5:Q26,"0101",L5:L26) -> 0 | N27: TOTAL
A28: 0102 덕트배관공사
A29: 010201. 덕트공사
A30: 각형닥트제작 | B30: 600*400 0.6mm | C30: M2 | D30: 56 | F30: =D30*E30 -> 0 | H30: =D30*G30 -> 0 | K30: =TRUNC(E30+G30+I30, 0) -> 0 | L30: =F30+H30 -> 0 | AX30: 77442 | AY30: =AX30*0.6 -> 46465.2
A31: 각형닥트보온 | B31: 600*400 | C31: M2 | D31: 56 | F31: =D31*E31 -> 0 | H31: =D31*G31 -> 0 | K31: =TRUNC(E31+G31+I31, 0) -> 0 | L31: =F31+H31 -> 0 | AX31: 64947 | AY31: =AX31*0.6 -> 38968.2
A32: 스파이럴 원형덕트 및 부속 | B32: D250 | C32: M | D32: 36 | F32: =D32*E32 -> 0 | K32: =TRUNC(E32+G32+I32, 0) -> 0 | L32: =F32+H32 -> 0
A33: 스파이럴 원형덕트 및 부속 | B33: D200 | C33: M | D33: 28 | F33: =D33*E33 -> 0 | H33: =D33*G33 -> 0 | K33: =TRUNC(E33+G33+I33, 0) -> 0 | L33: =F33+H33 -> 0
A34: 스파이럴 원형덕트 및 부속 | B34: D150 | C34: M | D34: 14 | F34: =D34*E34 -> 0 | H34: =D34*G34 -> 0 | K34: =TRUNC(E34+G34+I34, 0) -> 0 | L34: =F34+H34 -> 0
A35: 필터박스(주문제작품) | B35: STS304 610*610*292 | C35: EA | D35: 3 | F35: =D35*E35 -> 0 | H35: =D35*G35 -> 0 | K35: =TRUNC(E35+G35+I35, 0) -> 0 | L35: =F35+H35 -> 0
A36: 덕트V.D | B36: 600*400-A | C36: EA | D36: 3 | F36: =D36*E36 -> 0 | H36: =D36*G36 -> 0 | K36: =TRUNC(E36+G36+I36, 0) -> 0 | L36: =F36+H36 -> 0
A37: 볼륨담파 | B37: D100 | C37: EA | D37: 28 | F37: =D37*E37 -> 0 | H37: =D37*G37 -> 0 | K37: =TRUNC(E37+G37+I37, 0) -> 0 | L37: =F37+H37 -> 0
A38: 사각디퓨져 | B38: ND125-A | C38: EA | D38: 28 | F38: =D38*E38 -> 0 | H38: =D38*G38 -> 0 | K38: =TRUNC(E38+G38+I38, 0) -> 0 | L38: =F38+H38 -> 0
A39: STS BAND | B39: D100 | C39: EA | D39: 48 | F39: =D39*E39 -> 0 | H39: =D39*G39 -> 0 | K39: =TRUNC(E39+G39+I39, 0) -> 0 | L39: =F39+H39 -> 0
A40: 후렉시블닥트호스 | B40: D100(보온) | C40: M | D40: 80 | F40: =D40*E40 -> 0 | H40: =D40*G40 -> 0 | K40: =TRUNC(E40+G40+I40, 0) -> 0 | L40: =F40+H40 -> 0
A41: PP 에어호스(기성구매품) | B41: D75 | C41: M | D41: 10 | F41: =D41*E41 -> 0 | H41: =D41*G41 -> 0 | K41: =TRUNC(E41+G41+I41, 0) -> 0 | L41: =F41+H41 -> 0
A42: 행거및달대볼트 | C42: 식 | D42: 1 | F42: =D42*E42 -> 0 | H42: =D42*G42 -> 0 | K42: =TRUNC(E42+G42+I42, 0) -> 0 | L42: =F42+H42 -> 0
A43: 캔버스제작설치 | C43: EA | D43: 2 | F43: =D43*E43 -> 0 | H43: =D43*G43 -> 0 | K43: =TRUNC(E43+G43+I43, 0) -> 0 | L43: =F43+H43 -> 0
A44: 배관을위한구멍뚫기 | B44: T:125 벽체 | C44: EA | D44: 28 | F44: =D44*E44 -> 0 | H44: =D44*G44 -> 0 | K44: =TRUNC(E44+G44+I44, 0) -> 0 | L44: =F44+H44 -> 0
A45: 배관을위한구멍뚫기 | B45: T:75 벽체 | C45: EA | D45: 8 | F45: =D45*E45 -> 0 | H45: =D45*G45 -> 0 | K45: =TRUNC(E45+G45+I45, 0) -> 0 | L45: =F45+H45 -> 0
A51: [ 합 계 ] | F51: =SUM(F30:F49) -> 0 | H51: =SUM(H30:H49) -> 0 | L51: =SUM(L30:L49) -> 0
A52: 010202. 배관설비 공사
A53: 스테인레스관(K-TYPE) | B53: 스테인레스관(3T) 15A | C53: M | D53: 20 | F53: =D53*E53 -> 0 | H53: =D53*G53 -> 0 | K53: =TRUNC(E53+G53+I53, 0) -> 0 | L53: =F53+H53 -> 0
A54: 고무발포관보온 | B54: 25T 15A | C54: M | D54: 20 | F54: =D54*E54 -> 0 | H54: =D54*G54 -> 0 | K54: =TRUNC(E54+G54+I54, 0) -> 0 | L54: =F54+H54 -> 0
A55: 엘보 | B55: 15A | C55: EA | D55: 3 | F55: =D55*E55 -> 0 | H55: =D55*G55 -> 0 | K55: =TRUNC(E55+G55+I55, 0) -> 0 | L55: =F55+H55 -> 0
A56: 스테인레스관(K-TYPE) | B56: SP-조인트 스텐3T01-A 13A | C56: EA | D56: 6 | F56: =D56*E56 -> 0 | H56: =D56*G56 -> 0 | K56: =TRUNC(E56+G56+I56, 0) -> 0 | L56: =F56+H56 -> 0
A57: 볼밸브(스텐, 나사식) 15A | B57: 스텐볼밸브10K-001-A 15A | C57: EA | D57: 2 | F57: =D57*E57 -> 0 | H57: =D57*G57 -> 0 | K57: =TRUNC(E57+G57+I57, 0) -> 0 | L57: =F57+H57 -> 0
A58: PE관 접합(나사조임식) | B58: PE관접합 15A | C58: EA | D58: 3 | F58: =D58*E58 -> 0 | H58: =D58*G58 -> 0 | K58: =TRUNC(E58+G58+I58, 0) -> 0 | L58: =F58+H58 -> 0
A59: 숫아답타 | B59: 15A | C59: EA | D59: 6 | F59: =D59*E59 -> 0 | H59: =D59*G59 -> 0 | K59: =TRUNC(E59+G59+I59, 0) -> 0 | L59: =F59+H59 -> 0
A60: PVC관 | B60: D 25 | C60: 본 | D60: 3 | F60: =D60*E60 -> 0 | H60: =D60*G60 -> 0 | K60: =TRUNC(E60+G60+I60, 0) -> 0 | L60: =F60+H60 -> 0
A61: PVC 엘보 | B61: D 25 | C61: EA | D61: 6 | F61: =D61*E61 -> 0 | H61: =D61*G61 -> 0 | K61: =TRUNC(E61+G61+I61, 0) -> 0 | L61: =F61+H61 -> 0
A62: PVC 소켓 | B62: D 25 | C62: EA | D62: 4 | F62: =D62*E62 -> 0 | H62: =D62*G62 -> 0 | K62: =TRUNC(E62+G62+I62, 0) -> 0 | L62: =F62+H62 -> 0
A71: [ 합 계 ] | F71: =SUM(F53:F70) -> 0 | H71: =SUM(H53:H70) -> 0 | L71: =SUM(L53:L70) -> 0

Sheet 일위대가목록
B1: 일 위 대 가 목 록
B2: [ 기억 및 교세포 연구단 위성동물실 구축공사(기계) ]
A3: 코 드 | B3: 품 명 | C3: 규 격 | D3: 단위 | E3: 재 료 비 | F3: 노 무 비 | G3: 경 비 | H3: 합 계 | I3: 번 호 | J3: 비 고 | K3: 노임계수 | L3: 할증 | M3: 품셈개요 | N3: 장비일위
A4: 45CC4621517673489BFA5D6DB1B6C | B4: 팬코일유닛(天井형) 이전설치 | C4: 680㎥/hr이상 | D4: 대 | E4: =일위대가!F7 -> 0 | F4: =일위대가!H7 -> 0 | G4: =일위대가!J7 -> 0 | H4: =E4+F4+G4 -> 0 | I4: 호표 1
A5: 45CC4C3C53AB238C94CF37E29DBBE | B5: 스테인리스강관배관(옥내) | C5: D20*2.0t | D5: M | E5: =일위대가!F15 -> 0 | F5: =일위대가!H15 -> 0 | G5: =일위대가!J15 -> 0 | H5: =E5+F5+G5 -> 0 | I5: 호표 2
A6: 45CC4AED525373699A505EBD14DD3 | B6: 관보온(고무발포, 매직테프) | C6: 25t*D20 | D6: M | E6: =일위대가!F27 -> 0 | F6: =일위대가!H27 -> 0 | G6: =일위대가!J27 -> 0 | H6: =E6+F6+G6 -> 0 | I6: 호표 3
A7: 45CC4655536FE3359814AB601085C | B7: 절연행가(전산볼트) | C7: D20 | D7: 개소 | E7: =일위대가!F33 -> 0 | F7: =일위대가!H33 -> 0 | G7: =일위대가!J33 -> 0 | H7: =E7+F7+G7 -> 0 | I7: 호표 4
A8: 45CC4C3C53B5734A9EDCD16169C86 | B8: 스테인리스용접(TIG) | C8: D20 | D8: 개소 | E8: =일위대가!F40 -> 0 | F8: =일위대가!H40 -> 0 | G8: =일위대가!J40 -> 0 | H8: =E8+F8+G8 -> 0 | I8: 호표 5

Sheet 일위대가
A1: [ 기억 및 교세포 연구단 위성동물실 구축공사(기계) ]
A2: 품 명 | B2: 규 격 | C2: 단위 | D2: 수량 | E2: 재 료 비 | G2: 노 무 비 | I2: 경 비 | K2: 합 계 | M2: 비 고 | N2: 일위대가 | O2: 품목코드 | P2: 일위 | Q2: 단산 | R2: 자재 | S2: 손료적용 | T2: 손료저장 | U2: 적용율 | V2: JUK1 | W2: JUK2 | X2: JUK3 | Y2: JUK4 | Z2: JUK5 | AA2: JUK6 | AB2: JUK7 | AC2: JUK8 | AD2: JUK9 | AE2: JUK10 | AF2: JUK11 | AG2: JUK12 | AH2: JUK13 | AI2: JUK14 | AJ2: JUK15 | AK2: JUK16 | AL2: JUK17 | AM2: JUK18 | AN2: JUK19 | AO2: JUK20 | AP2: 할증적용 | AQ2: 할증저장 | AR2: 할증율 | AS2: HAL1 | AT2: HAL2 | AU2: HAL3 | AV2: 자재구분 | AW2: 일위대가+자재 | AX2: 장비일위 | AY2: 설정 | AZ2: 할증체크
E3: 단 가 | F3: 금 액 | G3: 단 가 | H3: 금 액 | I3: 단 가 | J3: 금 액 | K3: 단 가 | L3: 금 액
A4: 팬코일유닛(天井형) 이전설치 680㎥/hr이상 대 ( 호표 1 ) | N4: 45CC4621517673489BFA5D6DB1B6C
A5: 기계설비공 | B5: 일반공사 직종 | C5: 인 | D5: 3.2 | E5: =단가대비표!O21 -> 0 | F5: =TRUNC(E5*D5,1) -> 0 | G5: =단가대비표!P21 -> 0 | H5: =TRUNC(G5*D5,1) -> 0 | I5: =단가대비표!V21 -> 0 | J5: =TRUNC(I5*D5,1) -> 0 | K5: =TRUNC(E5+G5+I5,1) -> 0 | L5: =TRUNC(F5+H5+J5,1) -> 0 | N5: 45CC4621517673489BFA5D6DB1B6C | O5: 45D445BD5F2D43609C7943B7B26904B4A4EF5 | P5: F | Q5: F | R5: T | AW5: 45CC4621517673489BFA5D6DB1B6C45D445BD5F2D43609C7943B7B26904B4A4EF5
A6: 보통인부 | B6: 일반공사 직종 | C6: 인 | D6: 0.8 | E6: =단가대비표!O17 -> 0 | F6: =TRUNC(E6*D6,1) -> 0 | G6: =단가대비표!P17 -> 0 | H6: =TRUNC(G6*D6,1) -> 0 | I6: =단가대비표!V17 -> 0 | J6: =TRUNC(I6*D6,1) -> 0 | K6: =TRUNC(E6+G6+I6,1) -> 0 | L6: =TRUNC(F6+H6+J6,1) -> 0 | N6: 45CC4621517673489BFA5D6DB1B6C | O6: 45D445BD5F2D43609C7943B7B26904B4A4B22 | P6: F | Q6: F | R6: T | AW6: 45CC4621517673489BFA5D6DB1B6C45D445BD5F2D43609C7943B7B26904B4A4B22
A7: [ 합 계 ] | F7: =TRUNC(SUMIF(N5:N6, N4, F5:F6),0) -> 0 | H7: =TRUNC(SUMIF(N5:N6, N4, H5:H6),0) -> 0 | J7: =TRUNC(SUMIF(N5:N6, N4, J5:J6),0) -> 0 | L7: =F7+H7+J7 -> 0 | N7: TOTAL | O7: TOTAL
A9: 스테인리스강관배관(옥내) D20*2.0t M ( 호표 2 ) | N9: 45CC4C3C53AB238C94CF37E29DBBE
A10: 배관용스테인리스강관 | B10: 배관용스테인리스강관, ∮20*2.0mm | C10: M | D10: 1.1 | E10: =단가대비표!O15 -> 0 | F10: =TRUNC(E10*D10,1) -> 0 | G10: =단가대비표!P15 -> 0 | H10: =TRUNC(G10*D10,1) -> 0 | I10: =단가대비표!V15 -> 0 | J10: =TRUNC(I10*D10,1) -> 0 | K10: =TRUNC(E10+G10+I10,1) -> 0 | L10: =TRUNC(F10+H10+J10,1) -> 0 | N10: 45CC4C3C53AB238C94CF37E29DBBE | O10: 425C4BF85E7DC3D29BB0BDDF1C10CA81D183C | P10: F | Q10: F | R10: T | V10: 1 | AW10: 45CC4C3C53AB238C94CF37E29DBBE425C4BF85E7DC3D29BB0BDDF1C10CA81D183C
A11: 잡재료비 | B11: 주재료비의 3% | C11: 식 | D11: 1 | E11: =TRUNC(SUMIF(V10:V14, RIGHTB(O11, 1), F10:F14)*U11, 2) -> 0 | F11: =TRUNC(E11*D11,1) -> 0 | G11: 0 | H11: =TRUNC(G11*D11,1) -> 0 | I11: 0 | J11: =TRUNC(I11*D11,1) -> 0 | K11: =TRUNC(E11+G11+I11,1) -> 0 | L11: =TRUNC(F11+H11+J11,1) -> 0 | N11: 45CC4C3C53AB238C94CF37E29DBBE | O11: 441648805D81438C95BEBC7CB22001 | P11: F | Q11: F | R11: F | S11: 0 | T11: 0 | U11: 0.03 | AW11: 45CC4C3C53AB238C94CF37E29DBBE441648805D81438C95BEBC7CB22001
A12: 배관공 | B12: 일반공사 직종 | C12: 인 | D12: 0.037 | E12: =단가대비표!O19 -> 0 | F12: =TRUNC(E12*D12,1) -> 0 | G12: =단가대비표!P19 -> 0 | H12: =TRUNC(G12*D12,1) -> 0 | I12: =단가대비표!V19 -> 0 | J12: =TRUNC(I12*D12,1) -> 0 | K12: =TRUNC(E12+G12+I12,1) -> 0 | L12: =TRUNC(F12+H12+J12,1) -> 0 | N12: 45CC4C3C53AB238C94CF37E29DBBE | O12: 45D445BD5F2D43609C7943B7B26904B4A4865 | P12: F | Q12: F | R12: T | W12: 2 | AW12: 45CC4C3C53AB238C94CF37E29DBBE45D445BD5F2D43609C7943B7B26904B4A4865
A13: 보통인부 | B13: 일반공사 직종 | C13: 인 | D13: 0.012 | E13: =단가대비표!O17 -> 0 | F13: =TRUNC(E13*D13,1) -> 0 | G13: =단가대비표!P17 -> 0 | H13: =TRUNC(G13*D13,1) -> 0 | I13: =단가대비표!V17 -> 0 | J13: =TRUNC(I13*D13,1) -> 0 | K13: =TRUNC(E13+G13+I13,1) -> 0 | L13: =TRUNC(F13+H13+J13,1) -> 0 | N13: 45CC4C3C53AB238C94CF37E29DBBE | O13: 45D445BD5F2D43609C7943B7B26904B4A4B22 | P13: F | Q13: F | R13: T | W13: 2 | AW13: 45CC4C3C53AB238C94CF37E29DBBE45D445BD5F2D43609C7943B7B26904B4A4B22
A14: 공구손료 | B14: 인력품의 2% | C14: 식 | D14: 1 | E14: =TRUNC(SUMIF(W10:W14, RIGHTB(O14, 1), H10:H14)*U14, 2) -> 0 | F14: =TRUNC(E14*D14,1) -> 0 | G14: 0 | H14: =TRUNC(G14*D14,1) -> 0 | I14: 0 | J14: =TRUNC(I14*D14,1) -> 0 | K14: =TRUNC(E14+G14+I14,1) -> 0 | L14: =TRUNC(F14+H14+J14,1) -> 0 | N14: 45CC4C3C53AB238C94CF37E29DBBE | O14: 441648805D81438C95BEBC7CB21002 | P14: F | Q14: F | R14: F | S14: 1 | T14: 0 | U14: 0.02 | AW14: 45CC4C3C53AB238C94CF37E29DBBE441648805D81438C95BEBC7CB22001
A15: [ 합 계 ] | F15: =TRUNC(SUMIF(N10:N14, N9, F10:F14),0) -> 0 | H15: =TRUNC(SUMIF(N10:N14, N9, H10:H14),0) -> 0 | J15: =TRUNC(SUMIF(N10:N14, N9, J10:J14),0) -> 0 | L15: =F15+H15+J15 -> 0 | N15: TOTAL | O15: TOTAL
A17: 관보온(고무발포, 매직테프) 25t*D20 M ( 호표 3 ) | N17: 45CC4AED525373699A505EBD14DD3
A18: 관보온재 | B18: 고무발포, 25t*D20 | C18: M | D18: 1.05 | E18: =단가대비표!O14 -> 0 | F18: =TRUNC(E18*D18,1) -> 0 | G18: =단가대비표!P14 -> 0 | H18: =TRUNC(G18*D18,1) -> 0 | I18: =단가대비표!V14 -> 0 | J18: =TRUNC(I18*D18,1) -> 0 | K18: =TRUNC(E18+G18+I18,1) -> 0 | L18: =TRUNC(F18+H18+J18,1) -> 0 | N18: 45CC4AED525373699A505EBD14DD3 | O18: 425C4BF85E3623DA9C9E6838633F43F365959 | P18: F | Q18: F | R18: T | V18: 1 | AW18: 45CC4AED525373699A505EBD14DD3425C4BF85E3623DA9C9E6838633F43F365959
A19: 잡재료 | B19: 주재료비의 3% | C19: 식 | D19: 1 | E19: =TRUNC(SUMIF(V18:V26, RIGHTB(O19, 1), F18:F26)*U19, 2) -> 0 | F19: =TRUNC(E19*D19,1) -> 0 | G19: 0 | H19: =TRUNC(G19*D19,1) -> 0 | I19: 0 | J19: =TRUNC(I19*D19,1) -> 0 | K19: =TRUNC(E19+G19+I19,1) -> 0 | L19: =TRUNC(F19+H19+J19,1) -> 0 | N19: 45CC4AED525373699A505EBD14DD3 | O19: 441648805D81438C95BEBC7CB22001 | P19: F | Q19: F | R19: F | S19: 0 | T19: 0 | U19: 0.03 | AW19: 45CC4AED525373699A505EBD14DD3441648805D81438C95BEBC7CB21002
A20: 고무발포단열재 | B20: 고무발포단열재, 본드, 고무발포용 | C20: kg | D20: 0.015 | E20: =단가대비표!O13 -> 0 | F20: =TRUNC(E20*D20,1) -> 0 | G20: =단가대비표!P13 -> 0 | H20: =TRUNC(G20*D20,1) -> 0 | I20: =단가대비표!V13 -> 0 | J20: =TRUNC(I20*D20,1) -> 0 | K20: =TRUNC(E20+G20+I20,1) -> 0 | L20: =TRUNC(F20+H20+J20,1) -> 0 | N20: 45CC4AED525373699A505EBD14DD3 | O20: 425C4BF85E3623DA9C9E682E21B3678A8C522 | P20: F | Q20: F | R20: T | AW20: 45CC4AED525373699A505EBD14DD3425C4BF85E3623DA9C9E682E21B3678A8C522
A21: 고무발포테이프 | C21: M | D21: 1.1 | E21: =단가대비표!O12 -> 0 | F21: =TRUNC(E21*D21,1) -> 0 | G21: =단가대비표!P12 -> 0 | H21: =TRUNC(G21*D21,1) -> 0 | I21: =단가대비표!V12 -> 0 | J21: =TRUNC(I21*D21,1) -> 0 | K21: =TRUNC(E21+G21+I21,1) -> 0 | L21: =TRUNC(F21+H21+J21,1) -> 0 | N21: 45CC4AED525373699A505EBD14DD3 | O21: 422746D559DDA30E9179A7AD17F2114D1CF72 | P21: F | Q21: F | R21: T | AW21: 45CC4AED525373699A505EBD14DD3422746D559DDA30E9179A7AD17F2114D1CF72
A22: 슈퍼매직 303 | B22: 0.2t, 100mm*15m | C22: M2 | D22: 0.33 | E22: =단가대비표!O10 -> 0 | F22: =TRUNC(E22*D22,1) -> 0 | G22: =단가대비표!P10 -> 0 | H22: =TRUNC(G22*D22,1) -> 0 | I22: =단가대비표!V10 -> 0 | J22: =TRUNC(I22*D22,1) -> 0 | K22: =TRUNC(E22+G22+I22,1) -> 0 | L22: =TRUNC(F22+H22+J22,1) -> 0 | N22: 45CC4AED525373699A505EBD14DD3 | O22: 422746D559DDA30E9179A7AD17F2114D1CA89 | P22: F | Q22: F | R22: T | AW22: 45CC4AED525373699A505EBD14DD3422746D559DDA30E9179A7AD17F2114D1CA89
A23: AL 밴드 | B23: 0.3*30w | C23: M | D23: 0.29 | E23: =단가대비표!O11 -> 0 | F23: =TRUNC(E23*D23,1) -> 0 | G23: =단가대비표!P11 -> 0 | H23: =TRUNC(G23*D23,1) -> 0 | I23: =단가대비표!V11 -> 0 | J23: =TRUNC(I23*D23,1) -> 0 | K23: =TRUNC(E23+G23+I23,1) -> 0 | L23: =TRUNC(F23+H23+J23,1) -> 0 | N23: 45CC4AED525373699A505EBD14DD3 | O23: 422746D559DDA30E9179A7AD17F2114D1CB96 | P23: F | Q23: F | R23: T | AW23: 45CC4AED525373699A505EBD14DD3422746D559DDA30E9179A7AD17F2114D1CB96
A24: 보온공 | B24: 일반공사 직종 | C24: 인 | D24: 0.029 | E24: =단가대비표!O20 -> 0 | F24: =TRUNC(E24*D24,1) -> 0 | G24: =단가대비표!P20 -> 0 | H24: =TRUNC(G24*D24,1) -> 0 | I24: =단가대비표!V20 -> 0 | J24: =TRUNC(I24*D24,1) -> 0 | K24: =TRUNC(E24+G24+I24,1) -> 0 | L24: =TRUNC(F24+H24+J24,1) -> 0 | N24: 45CC4AED525373699A505EBD14DD3 | O24: 45D445BD5F2D43609C7943B7B26904B4A4F9F | P24: F | Q24: F | R24: T | W24: 2 | AW24: 45CC4AED525373699A505EBD14DD345D445BD5F2D43609C7943B7B26904B4A4F9F
A25: 보통인부 | B25: 일반공사 직종 | C25: 인 | D25: 0.015 | E25: =단가대비표!O17 -> 0 | F25: =TRUNC(E25*D25,1) -> 0 | G25: =단가대비표!P17 -> 0 | H25: =TRUNC(G25*D25,1) -> 0 | I25: =단가대비표!V17 -> 0 | J25: =TRUNC(I25*D25,1) -> 0 | K25: =TRUNC(E25+G25+I25,1) -> 0 | L25: =TRUNC(F25+H25+J25,1) -> 0 | N25: 45CC4AED525373699A505EBD14DD3 | O25: 45D445BD5F2D43609C7943B7B26904B4A4B22 | P25: F | Q25: F | R25: T | W25: 2 | AW25: 45CC4AED525373699A505EBD14DD345D445BD5F2D43609C7943B7B26904B4A4B22
A26: 공구손료 | B26: 인력품의 3% | C26: 식 | D26: 1 | E26: =TRUNC(SUMIF(W18:W26, RIGHTB(O26, 1), H18:H26)*U26, 2) -> 0 | F26: =TRUNC(E26*D26,1) -> 0 | G26: 0 | H26: =TRUNC(G26*D26,1) -> 0 | I26: 0 | J26: =TRUNC(I26*D26,1) -> 0 | K26: =TRUNC(E26+G26+I26,1) -> 0 | L26: =TRUNC(F26+H26+J26,1) -> 0 | N26: 45CC4AED525373699A505EBD14DD3 | O26: 441648805D81438C95BEBC7CB21002 | P26: F | Q26: F | R26: F | S26: 1 | T26: 0 | U26: 0.03 | AW26: 45CC4AED525373699A505EBD14DD3441648805D81438C95BEBC7CB22001
A27: [ 합 계 ] | F27: =TRUNC(SUMIF(N18:N26, N17, F18:F26),0) -> 0 | H27: =TRUNC(SUMIF(N18:N26, N17, H18:H26),0) -> 0 | J27: =TRUNC(SUMIF(N18:N26, N17, J18:J26),0) -> 0 | L27: =F27+H27+J27 -> 0 | N27: TOTAL | O27: TOTAL
A29: 절연행가(전산볼트) D20 개소 ( 호표 4 ) | N29: 45CC4655536FE3359814AB601085C
A30: 지지행어 | B30: 지지행어, 절연행어, ∮20mm | C30: 개 | D30: 1 | E30: =단가대비표!O9 -> 0 | F30: =TRUNC(E30*D30,1) -> 0 | G30: =단가대비표!P9 -> 0 | H30: =TRUNC(G30*D30,1) -> 0 | I30: =단가대비표!V9 -> 0 | J30: =TRUNC(I30*D30,1) -> 0 | K30: =TRUNC(E30+G30+I30,1) -> 0 | L30: =TRUNC(F30+H30+J30,1) -> 0 | N30: 45CC4655536FE3359814AB601085C | O30: 422746D5593DA3939EEE6B55DA846D464F542 | P30: F | Q30: F | R30: T | AW30: 45CC4655536FE3359814AB601085C422746D5593DA3939EEE6B55DA846D464F542
A31: 전산볼트 | B31: 전산볼트, 탄소강, M10*1000mm | C31: 개 | D31: 1 | E31: =단가대비표!O7 -> 0 | F31: =TRUNC(E31*D31,1) -> 0 | G31: =단가대비표!P7 -> 0 | H31: =TRUNC(G31*D31,1) -> 0 | I31: =단가대비표!V7 -> 0 | J31: =TRUNC(I31*D31,1) -> 0 | K31: =TRUNC(E31+G31+I31,1) -> 0 | L31: =TRUNC(F31+H31+J31,1) -> 0 | N31: 45CC4655536FE3359814AB601085C | O31: 422746D5593D938F9B1FFD34DD24EAD4B93E2 | P31: F | Q31: F | R31: T | AW31: 45CC4655536FE3359814AB601085C422746D5593D938F9B1FFD34DD24EAD4B93E2
A32: 스트롱앵커 | B32: 스트롱앵커, M10, 9.5mm | C32: 개 | D32: 1 | E32: =단가대비표!O8 -> 0 | F32: =TRUNC(E32*D32,1) -> 0 | G32: =단가대비표!P8 -> 0 | H32: =TRUNC(G32*D32,1) -> 0 | I32: =단가대비표!V8 -> 0 | J32: =TRUNC(I32*D32,1) -> 0 | K32: =TRUNC(E32+G32+I32,1) -> 0 | L32: =TRUNC(F32+H32+J32,1) -> 0 | N32: 45CC4655536FE3359814AB601085C | O32: 422746D5593DA391920AC81B8EDA72D95DFD3 | P32: F | Q32: F | R32: T | AW32: 45CC4655536FE3359814AB601085C422746D5593DA391920AC81B8EDA72D95DFD3
A33: [ 합 계 ] | F33: =TRUNC(SUMIF(N30:N32, N29, F30:F32),0) -> 0 | H33: =TRUNC(SUMIF(N30:N32, N29, H30:H32),0) -> 0 | J33: =TRUNC(SUMIF(N30:N32, N29, J30:J32),0) -> 0 | L33: =F33+H33+J33 -> 0 | N33: TOTAL | O33: TOTAL
A35: 스테인리스용접(TIG) D20 개소 ( 호표 5 ) | N35: 45CC4C3C53B5734A9EDCD16169C86
A36: 스테인리스강용알곤용접봉 | B36: 스테인리스강용알곤용접봉, ∮3.2mm, T-308 | C36: kg | D36: 0.013 | E36: =단가대비표!O6 -> 0 | F36: =TRUNC(E36*D36,1) -> 0 | G36: =단가대비표!P6 -> 0 | H36: =TRUNC(G36*D36,1) -> 0 | I36: =단가대비표!V6 -> 0 | J36: =TRUNC(I36*D36,1) -> 0 | K36: =TRUNC(E36+G36+I36,1) -> 0 | L36: =TRUNC(F36+H36+J36,1) -> 0 | N36: 45CC4C3C53B5734A9EDCD16169C86 | O36: 42314D5C5CDBA30493F8AB9583D585CFB6F39 | P36: F | Q36: F | R36: T | AW36: 45CC4C3C53B5734A9EDCD16169C8642314D5C5CDBA30493F8AB9583D585CFB6F39
A37: 아르곤가스 | B37: 아르곤가스, 건설용알곤가스 | C37: L | D37: 95 | E37: =단가대비표!O5 -> 0 | F37: =TRUNC(E37*D37,1) -> 0 | G37: =단가대비표!P5 -> 0 | H37: =TRUNC(G37*D37,1) -> 0 | I37: =단가대비표!V5 -> 0 | J37: =TRUNC(I37*D37,1) -> 0 | K37: =TRUNC(E37+G37+I37,1) -> 0 | L37: =TRUNC(F37+H37+J37,1) -> 0 | N37: 45CC4C3C53B5734A9EDCD16169C86 | O37: 42044BAC5C87435C9152AD337299EBD50E68A | P37: F | Q37: F | R37: T | AW37: 45CC4C3C53B5734A9EDCD16169C8642044BAC5C87435C9152AD337299EBD50E68A
A38: 용접공 | B38: 일반공사 직종 | C38: 인 | D38: 0.057 | E38: =단가대비표!O18 -> 0 | F38: =TRUNC(E38*D38,1) -> 0 | G38: =단가대비표!P18 -> 0 | H38: =TRUNC(G38*D38,1) -> 0 | I38: =단가대비표!V18 -> 0 | J38: =TRUNC(I38*D38,1) -> 0 | K38: =TRUNC(E38+G38+I38,1) -> 0 | L38: =TRUNC(F38+H38+J38,1) -> 0 | N38: 45CC4C3C53B5734A9EDCD16169C86 | O38: 45D445BD5F2D43609C7943B7B26904B4A4A1B | P38: F | Q38: F | R38: T | V38: 1 | AW38: 45CC4C3C53B5734A9EDCD16169C8645D445BD5F2D43609C7943B7B26904B4A4A1B
A39: 공구손료 | B39: 인력품의 4% | C39: 식 | D39: 1 | E39: =TRUNC(SUMIF(V36:V39, RIGHTB(O39, 1), H36:H39)*U39, 2) -> 0 | F39: =TRUNC(E39*D39,1) -> 0 | G39: 0 | H39: =TRUNC(G39*D39,1) -> 0 | I39: 0 | J39: =TRUNC(I39*D39,1) -> 0 | K39: =TRUNC(E39+G39+I39,1) -> 0 | L39: =TRUNC(F39+H39+J39,1) -> 0 | N39: 45CC4C3C53B5734A9EDCD16169C86 | O39: 441648805D81438C95BEBC7CB22001 | P39: F | Q39: F | R39: F | S39: 1 | T39: 0 | U39: 0.04 | AW39: 45CC4C3C53B5734A9EDCD16169C86441648805D81438C95BEBC7CB22001
A40: [ 합 계 ] | F40: =TRUNC(SUMIF(N36:N39, N35, F36:F39),0) -> 0 | H40: =TRUNC(SUMIF(N36:N39, N35, H36:H39),0) -> 0 | J40: =TRUNC(SUMIF(N36:N39, N35, J36:J39),0) -> 0 | L40: =F40+H40+J40 -> 0 | N40: TOTAL | O40: TOTAL

Sheet 단가대비표
A1: 단 가 대 비 표
A2: [ 기억 및 교세포 연구단 위성동물실 구축공사(기계) ]
A3: 코 드 | B3: 품 명 | C3: 규격 | D3: 단위 | E3: 재 료 비 | P3: 노 무 비 | Q3: 경 비 | W3: 번 호 | X3: 비 고 | Y3: 품목구분 | Z3: 노임구분 | AA3: 소수점처리 | AB3: 자재구분
E4: 조달청가격 | F4: PAGE | G4: 거래가격 | H4: PAGE | I4: 유통물가 | J4: PAGE | K4: 조사가격1 | L4: PAGE | M4: 조사가격2 | N4: PAGE | O4: 적용단가 | Q4: 조달청가격 | R4: 거래가격 | S4: 유통물가 | T4: 조사가격1 | U4: 조사가격2 | V4: 적용단가
A5: 42044BAC5C87435C9152AD337299EBD50E68A | B5: 아르곤가스 | C5: 아르곤가스, 건설용알곤가스 | D5: L | W5: 자재 1
A6: 42314D5C5CDBA30493F8AB9583D585CFB6F39 | B6: 스테인리스강용알곤용접봉 | C6: 스테인리스강용알곤용접봉, ∮3.2mm, T-308 | D6: kg | W6: 자재 2
A7: 422746D5593D938F9B1FFD34DD24EAD4B93E2 | B7: 전산볼트 | C7: 전산볼트, 탄소강, M10*1000mm | D7: 개 | W7: 자재 3
A8: 422746D5593DA391920AC81B8EDA72D95DFD3 | B8: 스트롱앵커 | C8: 스트롱앵커, M10, 9.5mm | D8: 개 | W8: 자재 4
A9: 422746D5593DA3939EEE6B55DA846D464F542 | B9: 지지행어 | C9: 지지행어, 절연행어, ∮20mm | D9: 개 | W9: 자재 5
A10: 422746D559DDA30E9179A7AD17F2114D1CA89 | B10: 슈퍼매직 303 | C10: 0.2t, 100mm*15m | D10: M2 | W10: 자재 6
A11: 422746D559DDA30E9179A7AD17F2114D1CB96 | B11: AL 밴드 | C11: 0.3*30w | D11: M | W11: 자재 7
A12: 422746D559DDA30E9179A7AD17F2114D1CF72 | B12: 고무발포테이프 | D12: M | W12: 자재 8
A13: 425C4BF85E3623DA9C9E682E21B3678A8C522 | B13: 고무발포단열재 | C13: 고무발포단열재, 본드, 고무발포용 | D13: kg | W13: 자재 9
A14: 425C4BF85E3623DA9C9E6838633F43F365959 | B14: 관보온재 | C14: 고무발포, 25t*D20 | D14: M | W14: 자재 10
A15: 425C4BF85E7DC3D29BB0BDDF1C10CA81D183C | B15: 배관용스테인리스강관 | C15: 배관용스테인리스강관, ∮20*2.0mm | D15: M | W15: 자재 11
A16: 425C4BF85E7DC3D09853C3BB72057E65B2F80 | B16: 일반배관용스테인리스강관관이음쇠 | C16: ∮20mm, 용접식, 엘보, #10 | D16: 개 | W16: 자재 12
A17: 45D445BD5F2D43609C7943B7B26904B4A4B22 | B17: 보통인부 | C17: 일반공사 직종 | D17: 인 | W17: 노임 1 | Y17: B
A18: 45D445BD5F2D43609C7943B7B26904B4A4A1B | B18: 용접공 | C18: 일반공사 직종 | D18: 인 | W18: 노임 2 | Y18: B
A19: 45D445BD5F2D43609C7943B7B26904B4A4865 | B19: 배관공 | C19: 일반공사 직종 | D19: 인 | W19: 노임 3 | Y19: B
A20: 45D445BD5F2D43609C7943B7B26904B4A4F9F | B20: 보온공 | C20: 일반공사 직종 | D20: 인 | W20: 노임 4 | Y20: B
A21: 45D445BD5F2D43609C7943B7B26904B4A4EF5 | B21: 기계설비공 | C21: 일반공사 직종 | D21: 인 | W21: 노임 5 | Y21: B

Sheet  공사설정 
A1: 이 Sheet는 수정하지 마십시요
A2: 공사구분 | B2: C | C2: 타이틀
A3: 확정내역 | B3: 원내역
A4: 자재단가적용 | B4: 5
A5: 경비단가적용 | B5: 5
A6: 품목코드형식 | B6: XXXX-XXXX-XXXXXXXXX
A7: 내역금액소수점처리 | B7: C | C7: 1
A8: 일위대가내역소수점처리 | B8: C | C8: 2
A9: 단가명 | B9: 조달청가격 | C9: 거래가격 | D9: 유통물가 | E9: 조사가격1 | F9: 조사가격2 | G9: TTTTT
A10: 환율 | B10: 1472 | C10: 0 | D10: 0
A11: 시간당작업량 | B11: R | C11: 4
A12: 1회 사이클시간 | B12: R | C12: 4
A13: 시간당 작업사이클 | B13: R | C13: 3
A14: 일반변수 | B14: R | C14: 5
A15: 시간당 노임산출 계수 | B15: A | C15: 1/8*16/12*25/20 | D15: 1/8*16/12*25/20 | E15: 1/8*16/12*25/20 | F15: 1
A16: 재료비 할증 계수 | B16: 1.11 | C16: 1.12
A17: 노무비 할증 계수 | B17: 1 | C17: 1.5 | D17: 1.16 | E17: 1.6 | F17: 1.6 | G17: 1.6 | H17: 1.94 | I17: 1.94 | J17: 1.94 | K17: 1 | L17: 1 | M17: 1
A18: 경비 할증 계수 | B18: 1.25 | C18: 1.071
A19: 내역,일위대가 품명,규격,단위 따로적용
A20: 내역단가 소수점처리 | B20: C | C20: 1
A21: 코드 | B21: 공종구분명 | C21: 원가비목코드
A22: 1 | B22: 작 업 부 산 물 | C22: A3
A23: 2 | B23: 운 반 비 | C23: C1
A24: 3 | B24: 관 급 자 재 비 | C24: DJ
A25: 4 | B25: 사 급 자 재 비 | C25: D3
A26: 5 | B26: 외 자 재
A27: 6 | B27: 폐기물처리비 | C27: CF
A28: 7 | B28: 작업부산물(△) | C28: D5
A29: 8 | B29: ...
A30: 9 | B30: ...
A31: A | B31: ....
A32: B | B32: .....
A33: C | B33: ....
A34: D | B34: ....
A35: E | B35: ....
A36: F | B36: ....
A37: G | B37: ....
A38: H | B38: ....
A39: I | B39: ....
A40: J | B40: ....
A43: 단가 순서 | B43: 1234

Sheet Sheet1
