Workbook

Sheet 1.표지
B1: 과업명, 설계년도, 설계년월일만 입력합니다.
B2: 과업명 : | C2: 통복천 유역 침수방지대책 타당성 조사 및 기본계획 수립 용역 | E2: 년도 : | F2: 2026년 | I2: 설계년월일: | J2: 2026.10. | L2: 주의) 청색글씨만 수정하세요.
A6: =C2&" 설계서" -> 통복천 유역 침수방지대책 타당성 조사 및 기본계획 수립 용역 설계서
A15: =J2 -> 2026.10.
A17: 평택시
A21: 설계년월일 | C21: =J2 -> 2026.10. | D21: 과 장 | F21: 팀 장 | H21: 담 당 자 | J21: 안전건설교통국 안전총괄과
A31: ="⊙ 용 역 명 : "&C2 -> ⊙ 용 역 명 : 통복천 유역 침수방지대책 타당성 조사 및 기본계획 수립 용역
B35: ○ 용역개요 : | C35: 침수방지대책 기본계획 1식(침수방지시설 최적대안 검토 등)
B43: ○ 총용역비 : | C43: ="금"&TEXT((G44),"0,000")&"원"&"(금"&NUMBERSTRING((G44),1)&"원)" -> 금370,865,000원(금삼억칠천팔십육만오천원)
E44: 도급예정액: | G44: =내역서!I6 -> 370865000
E45: 공 급 가 액: | G45: =내역서!I14 -> 337150000
E46: 부가가치세: | G46: =내역서!I15 -> 33715000 | M46: =M43-M45 -> 0

Sheet 내역서
A2: 내 역 서
P3: (단위 : 원)
A4: 순 번 | D4: 종 별 | E4: 규 격 | F4: 수 량 | G4: 단위 | H4: 총 액 | J4: 노 무 비 | L4: 재 료 비 | N4: 경 비 | P4: 비 고
H5: 단 가 | I5: 금 액 | J5: 단 가 | K5: 금 액 | L5: 단 가 | M5: 금 액 | N5: 단 가 | O5: 금 액
A6: 통복천 유역 침수방지대책 타당성 조사 및 기본계획 수립 용역 | I6: =SUM(I14,I15) -> 370865000
A7: Ⅰ | B7: 침수방지대책 기본계획 | I7: =K7+M7+O7 -> 334651854 | K7: =TRUNC(SUM(K8:K11),0) -> 132441212 | M7: =TRUNC(SUM(M8:M11),0) -> 0 | O7: =TRUNC(SUM(O8:O11),0) -> 202210642
B8: 1 | C8: 직접인건비 | F8: 1 | G8: 식 | H8: =SUM(L8,J8,N8) -> 132441212 | I8: =K8+M8+O8 -> 132441212 | J8: ='1.기본계획'!K4 -> 132441212 | K8: =INT(J8*F8) -> 132441212 | M8: =TRUNC(F8*L8,) -> 0 | N8: 0 | O8: =TRUNC(F8*N8,) -> 0
B9: 2 | C9: 직접경비 | F9: 1 | G9: 식 | H9: =SUM(L9,J9,N9) -> 900000 | I9: =K9+M9+O9 -> 900000 | J9: ='1.기본계획'!K33 -> 0 | K9: =INT(J9*F9) -> 0 | M9: =TRUNC(F9*L9,) -> 0 | N9: ='1.기본계획'!M33 -> 900000 | O9: =TRUNC(F9*N9,) -> 900000
B10: 3 | C10: 제경비 | E10: 인건비 | F10: 1.1 | I10: =K10+M10+O10 -> 1.4568533e+08 | O10: =K7*F10 -> 1.4568533e+08
B11: 4 | C11: 기술료 | E11: 인건비+제경비 | F11: 0.2 | I11: =K11+M11+O11 -> 55625309 | O11: =(K7+O10)*F11 -> 55625309
A12: Ⅱ | B12: 용역손해보험 | I12: =K12+M12+O12 -> 2500000 | K12: =SUM(K13:K13) -> 0 | M12: =SUM(M13:M13) -> 0 | O12: =SUM(O13:O13) -> 2500000
B13: 1 | C13: 엔지니어링 손해배상공제료 | F13: 1 | G13: 식 | N13: ='산근2(공제요율-엔지니어링)'!K24 -> 2500000 | O13: =N13*F13 -> 2500000
A14: Ⅲ | B14: 공급원가(천원단위 이하 절사) | F14: 1 | G14: 식 | I14: =ROUND(K14+M14+O14,-4) -> 337150000 | K14: =K7+K12 -> 132441212 | M14: =M7+M12 -> 0 | O14: =O7+O12 -> 204710642
A15: Ⅳ | B15: 부가가치세 | F15: 0.1 | I15: =TRUNC(I14*F15,0) -> 33715000

Sheet 1.기본계획
B1: 공 종 | C1: 규 격 | D1: 수량 (보정) | E1: 단위 | F1: 총 액 | H1: 재 료 비 | J1: 노 무 비 | L1: 경 비 | N1: 비고
F2: 단가 | G2: 금 액 | H2: 단가 | I2: 금 액 | J2: 단가 | K2: 금 액 | L2: 단가 | M2: 금 액
B3: <제1호표> 방재품셈
B4: 1. 직접인건비 | G4: =I4+K4+M4 -> 132441212 | I4: =I5+I7+I10+I19+I30 -> 0 | K4: =ROUND(K5+K7+K10+K19+K30,0) -> 132441212 | M4: =M5+M7+M10+M19+M30 -> 0
B5: 가. 작업계획 수립 | G5: =I5+K5+M5 -> 472389 | K5: =K6 -> 472389
B6: 1) 작업계획 수립 | D6: =적용수량!AD6 -> 1 | E6: 1식 | G6: =I6+K6+M6 -> 472389 | J6: =일위대가!E11 -> 472389 | K6: =J6*D6 -> 472389 | N6: 산근1-1
B7: 나. 관련자료 조사 및 검토 | G7: =I7+K7+M7 -> 778315 | I7: =SUM(I8:I9) -> 0 | K7: =SUM(K8:K9) -> 778315 | M7: =SUM(M8:M9) -> 0
B8: 1) 관련자료 조사 | D8: =적용수량!AD8 -> 1 | E8: 1식 | G8: =I8+K8+M8 -> 317687 | J8: =일위대가!E22 -> 317687 | K8: =J8*D8 -> 317687 | N8: 산근1-3
B9: 2) 관련계획 검토 | D9: =적용수량!AD9 -> 1 | E9: 1식 | G9: =I9+K9+M9 -> 460628 | J9: =일위대가!E33 -> 460628 | K9: =J9*D9 -> 460628 | N9: 산근1-4
B10: 다. 피해현황 및 원인분석 | G10: =I10+K10+M10 -> 9259211.3 | I10: =I11+I12 -> 0 | K10: =K11+K12 -> 9259211.3 | M10: =M11+M12 -> 0
B11: 1) 피해현황 조사 | D11: =적용수량!AD11 -> 1 | E11: 1식 | G11: =I11+K11+M11 -> 68387 | J11: =일위대가!E42 -> 68387 | K11: =J11*D11 -> 68387 | N11: 산근1-5
B12: 2) 피해원인 분석 | G12: =I12+K12+M12 -> 9190824.3 | I12: =SUM(I13:I18) -> 0 | K12: =SUM(K13:K18) -> 9190824.3 | M12: =SUM(M13:M18) -> 0
B13: 가) 수리․수문조사 | D13: =적용수량!AD13 -> 0.3 | E13: 10km2 | G13: =I13+K13+M13 -> 576951.9 | J13: =일위대가!E53 -> 1923173 | K13: =J13*D13 -> 576951.9 | N13: 산근1-6
B14: 나) 강우분석 | D14: =적용수량!AD14 -> 0.3 | E14: 10km2 | G14: =I14+K14+M14 -> 170598 | J14: =일위대가!E62 -> 568660 | K14: =J14*D14 -> 170598 | N14: 산근1-7
B15: 다) 유출분석 | D15: =적용수량!AD15 -> 0.3 | E15: 10㎞ | G15: =I15+K15+M15 -> 156071.7 | J15: =일위대가!E72 -> 520239 | K15: =J15*D15 -> 156071.7 | N15: 산근1-8
B16: 라) 홍수위산정 | D16: =적용수량!AD16 -> 0 | E16: 1㎞ | G16: =I16+K16+M16 -> 0 | J16: =일위대가!E81 -> 1338166 | K16: =J16*D16 -> 0 | N16: 산근1-9
B17: 마) 범람해석(2차원 시뮬레이션) | D17: =적용수량!AD17 -> 1.95 | E17: 1km2 | G17: =I17+K17+M17 -> 2674132.5 | J17: =일위대가!E92 -> 1371350 | K17: =J17*D17 -> 2674132.5 | N17: 산근1-10
B18: 바) 피해원인분석 | D18: =적용수량!AD18 -> 5.14 | E18: 1㎞ | G18: =I18+K18+M18 -> 5613070.2 | J18: =일위대가!E101 -> 1092037 | K18: =J18*D18 -> 5613070.2 | N18: 산근1-11
B19: 라. 정비계획수립 | G19: =I19+K19+M19 -> 1.1783792e+08 | I19: =I20+I25 -> 0 | K19: =K20+K25 -> 1.1783792e+08 | M19: =M20+M25 -> 0
B20: 1) 재해유형별 정비기본방향 | G20: =I20+K20+M20 -> 1.0054848e+08 | I20: =SUM(I21:I24) -> 0 | K20: =SUM(K21:K24) -> 1.0054848e+08 | M20: =SUM(M21:M24) -> 0
B21: 가) 침수위험지구(하천재해) | D21: =적용수량!AD21 -> 5.14 | E21: 1㎞ | G21: =I21+K21+M21 -> 86494537 | J21: =일위대가!E112 -> 16827731 | K21: =J21*D21 -> 86494537 | N21: 산근1-12
B22: 나) 침수위험지구(내수재해) | D22: =적용수량!AD22 -> 1.95 | E22: 1㎞2 | G22: =I22+K22+M22 -> 14053941 | J22: =일위대가!E121 -> 7207149 | K22: =J22*D22 -> 14053941 | N22: 산근1-13
B23: 다) 유실위험지구 | D23: =적용수량!AD23 -> 0 | E23: 1식 | G23: =I23+K23+M23 -> 0 | J23: =일위대가!E132 -> 16827731 | K23: =J23*D23 -> 0 | N23: 산근1-14
B24: 라) 고립위험지구 | D24: =적용수량!AD24 -> 0 | E24: 1식 | G24: =I24+K24+M24 -> 0 | J24: =일위대가!E141 -> 16827731 | K24: =J24*D24 -> 0 | N24: 산근1-15
B25: 2) 주요시설물 정비계획 | G25: =I25+K25+M25 -> 17289444 | I25: =SUM(I26:I29) -> 0 | K25: =SUM(K26:K29) -> 17289444 | M25: =SUM(M26:M29) -> 0
B26: 가) 하천. 소하천시설물 | D26: =적용수량!AD26 -> 6.682 | E26: 1 km | G26: =I26+K26+M26 -> 2825149.6 | J26: =일위대가!E152 -> 422800 | K26: =J26*D26 -> 2825149.6 | N26: 산근1-21
B27: 나) 배수펌프장 및 유수지 | D27: =적용수량!AD27 -> 0.26 | E27: 1 ㎥/s,개소 | G27: =I27+K27+M27 -> 7857749.1 | J27: =일위대가!E162 -> 30222112 | K27: =J27*D27 -> 7857749.1 | N27: 산근1-22
B28: 다) 우수관로 | D28: =적용수량!AD28 -> 1.3 | E28: 1 km,관경 | G28: =I28+K28+M28 -> 2422056 | J28: =일위대가!E171 -> 1863120 | K28: =J28*D28 -> 2422056 | N28: 산근1-23
B29: 라) 우수유출저감시설 | D29: =적용수량!AD29 -> 1.3 | E29: 1만㎥,개소 | G29: =I29+K29+M29 -> 4184489.4 | J29: =일위대가!E182 -> 3218838 | K29: =J29*D29 -> 4184489.4 | N29: 산근1-24
B30: 아. 성과품 작성 | G30: =I30+K30+M30 -> 4093375 | K30: =SUM(K31:K32) -> 4093375 | M30: =SUM(M31:M32) -> 0
B31: 1) 보고서 | D31: =적용수량!AD31 -> 1 | E31: 식 | G31: =I31+K31+M31 -> 3075941 | J31: =일위대가!E192 -> 3075941 | K31: =J31*D31 -> 3075941 | N31: 산근1-62
B32: 2) 보고자료 (PPT, 요약자료) | D32: 1 | E32: 식 | G32: =I32+K32+M32 -> 1017434 | J32: =일위대가!E202 -> 1017434 | K32: =J32*D32 -> 1017434 | N32: 산근1-63
B33: 2. 직접경비 | G33: =I33+K33+M33 -> 900000 | M33: =SUM(M34) -> 900000
B34: 가. 보고서 인쇄비 | D34: 1 | E34: 식 | G34: =I34+K34+M34 -> 900000 | L34: =일위대가!J207 -> 900000 | M34: =D34*L34 -> 900000 | N34: 산근1-71

Sheet 일위대가
A1: 공 종 | B1: 규 격 | C1: 수량 | D1: 단위 | E1: 총 액 | G1: 재 료 비 | I1: 노 무 비 | K1: 경 비 | M1: 비 고 | O1: 조사단계 | P1: 기준소요인력 적용비율 | R1: 30 | S1: % (총용역비 적용) | U1: 기수립 등 관련자료 활용
E2: 단 가 | F2: 금 액 | G2: 단 가 | H2: 금 액 | I2: 단 가 | J2: 금 액 | K2: 단 가 | L2: 금 액 | O2: 분석단계 | P2: 기준소요인력 적용비율 | R2: 30 | S2: % (총용역비 적용) | U2: 기수립 등 관련자료 활용
A3: <산근 1-1> 작업계획 수립 | R3: =내역서!I7 -> 334651854
A4: 기 술 사 | C4: =적용소요인력!D6 -> 0.75 | D4: 인 | E4: =G4+I4+K4 -> 467217 | F4: =H4+J4+L4 -> 350412 | I4: ='산근3 노임'!B5 -> 467217 | J4: =INT(I4*C4) -> 350412 | R4: =내역서!I6 -> 370865000
A5: 특급기술자 | C5: =적용소요인력!E6 -> 1.25 | D5: 인 | E5: =G5+I5+K5 -> 373353 | F5: =H5+J5+L5 -> 466691 | I5: ='산근3 노임'!B6 -> 373353 | J5: =INT(I5*C5) -> 466691
A6: 고급기술자 | C6: =적용소요인력!F6 -> 1.25 | D6: 인 | E6: =G6+I6+K6 -> 310884 | F6: =H6+J6+L6 -> 388605 | I6: ='산근3 노임'!B7 -> 310884 | J6: =INT(I6*C6) -> 388605 | P6: 일위대가 반영비율
A7: 중급기술자 | C7: =적용소요인력!G6 -> 1.25 | D7: 인 | E7: =G7+I7+K7 -> 295138 | F7: =H7+J7+L7 -> 368922 | I7: ='산근3 노임'!B8 -> 295138 | J7: =INT(I7*C7) -> 368922 | P7: 가. 작업계획 수립 | S7: =$R$1/100 -> 0.3 | T7: =S7*100 -> 30
A8: 초급기술자 | C8: =적용소요인력!H6 -> 0 | D8: 인 | E8: =G8+I8+K8 -> 235459 | F8: =H8+J8+L8 -> 0 | I8: ='산근3 노임'!B9 -> 235459 | J8: =INT(I8*C8) -> 0 | P8: 나. 관련계획 조사 및 검토 | S8: =$R$1/100 -> 0.3 | T8: =S8*100 -> 30
A9: 중급숙련자 | C9: =적용소요인력!I6 -> 0 | D9: 인 | E9: =G9+I9+K9 -> 250087 | F9: =H9+J9+L9 -> 0 | I9: ='산근3 노임'!B11 -> 250087 | J9: =INT(I9*C9) -> 0 | P9: 다. 재해발생 원인분석 | S9: =$R$2/100 -> 0.3 | T9: =S9*100 -> 30
A10: 계 | F10: =H10+J10+L10 -> 1574630 | J10: =SUM(J4:J9) -> 1574630 | P10: 라. 정비계획수립 | S10: =$R$2/100 -> 0.3 | T10: =S10*100 -> 30
A11: 적용 | B11: =$S$7 -> 0.3 | E11: =F11 -> 472389 | F11: =H11+J11+L11 -> 472389 | J11: =TRUNC(J10*$S$7,0) -> 472389 | P11: 마. 보고자료 및 직접경비 | S11: 1 | T11: =S11*100 -> 100
A14: <산근 1-2> 관련자료 조사
A15: 기 술 사 | C15: =적용소요인력!D8 -> 0.25 | D15: 인 | E15: =G15+I15+K15 -> 467217 | F15: =H15+J15+L15 -> 116804 | I15: =$I$4 -> 467217 | J15: =INT(I15*C15) -> 116804
A16: 특급기술자 | C16: =적용소요인력!E8 -> 0.4 | D16: 인 | E16: =G16+I16+K16 -> 373353 | F16: =H16+J16+L16 -> 149341 | I16: =$I$5 -> 373353 | J16: =INT(I16*C16) -> 149341
A17: 고급기술자 | C17: =적용소요인력!F8 -> 0.9 | D17: 인 | E17: =G17+I17+K17 -> 310884 | F17: =H17+J17+L17 -> 279795 | I17: =$I$6 -> 310884 | J17: =INT(I17*C17) -> 279795
A18: 중급기술자 | C18: =적용소요인력!G8 -> 1.1 | D18: 인 | E18: =G18+I18+K18 -> 295138 | F18: =H18+J18+L18 -> 324651 | I18: =$I$7 -> 295138 | J18: =INT(I18*C18) -> 324651
A19: 초급기술자 | C19: =적용소요인력!H8 -> 0.8 | D19: 인 | E19: =G19+I19+K19 -> 235459 | F19: =H19+J19+L19 -> 188367 | I19: =$I$8 -> 235459 | J19: =INT(I19*C19) -> 188367
A20: 중급숙련자 | C20: =적용소요인력!I8 -> 0 | D20: 인 | E20: =G20+I20+K20 -> 250087 | F20: =H20+J20+L20 -> 0 | I20: =$I$9 -> 250087 | J20: =INT(I20*C20) -> 0
A21: 계 | F21: =H21+J21+L21 -> 1058958 | J21: =SUM(J15:J20) -> 1058958
A22: 적용 | B22: =$S$8 -> 0.3 | E22: =F22 -> 317687 | F22: =H22+J22+L22 -> 317687 | J22: =TRUNC(J21*$S$8,0) -> 317687
A25: <산근 1-3> 관련계획 검토
A26: 기 술 사 | C26: =적용소요인력!D9 -> 1 | D26: 인 | E26: =G26+I26+K26 -> 467217 | F26: =H26+J26+L26 -> 467217 | I26: =$I$4 -> 467217 | J26: =INT(I26*C26) -> 467217
A27: 특급기술자 | C27: =적용소요인력!E9 -> 2 | D27: 인 | E27: =G27+I27+K27 -> 373353 | F27: =H27+J27+L27 -> 746706 | I27: =$I$5 -> 373353 | J27: =INT(I27*C27) -> 746706
A28: 고급기술자 | C28: =적용소요인력!F9 -> 0.2 | D28: 인 | E28: =G28+I28+K28 -> 310884 | F28: =H28+J28+L28 -> 62176 | I28: =$I$6 -> 310884 | J28: =INT(I28*C28) -> 62176
A29: 중급기술자 | C29: =적용소요인력!G9 -> 0.4 | D29: 인 | E29: =G29+I29+K29 -> 295138 | F29: =H29+J29+L29 -> 118055 | I29: =$I$7 -> 295138 | J29: =INT(I29*C29) -> 118055
A30: 초급기술자 | C30: =적용소요인력!H9 -> 0.6 | D30: 인 | E30: =G30+I30+K30 -> 235459 | F30: =H30+J30+L30 -> 141275 | I30: =$I$8 -> 235459 | J30: =INT(I30*C30) -> 141275
A31: 중급숙련자 | C31: =적용소요인력!I9 -> 0 | D31: 인 | E31: =G31+I31+K31 -> 250087 | F31: =H31+J31+L31 -> 0 | I31: =$I$9 -> 250087 | J31: =INT(I31*C31) -> 0
A32: 계 | F32: =H32+J32+L32 -> 1535429 | J32: =SUM(J26:J31) -> 1535429
A33: 적용 | B33: =$S$8 -> 0.3 | E33: =F33 -> 460628 | F33: =H33+J33+L33 -> 460628 | J33: =TRUNC(J32*$S$8,0) -> 460628
A34: <산근 1-5> 피해현황조사
A35: 기 술 사 | C35: =적용소요인력!D11 -> 0.04 | D35: 인 | E35: =G35+I35+K35 -> 467217 | F35: =H35+J35+L35 -> 18688 | I35: =$I$4 -> 467217 | J35: =INT(I35*C35) -> 18688
A36: 특급기술자 | C36: =적용소요인력!E11 -> 0.105 | D36: 인 | E36: =G36+I36+K36 -> 373353 | F36: =H36+J36+L36 -> 39202 | I36: =$I$5 -> 373353 | J36: =INT(I36*C36) -> 39202
A37: 고급기술자 | C37: =적용소요인력!F11 -> 0.18 | D37: 인 | E37: =G37+I37+K37 -> 310884 | F37: =H37+J37+L37 -> 55959 | I37: =$I$6 -> 310884 | J37: =INT(I37*C37) -> 55959
A38: 중급기술자 | C38: =적용소요인력!G11 -> 0.255 | D38: 인 | E38: =G38+I38+K38 -> 295138 | F38: =H38+J38+L38 -> 75260 | I38: =$I$7 -> 295138 | J38: =INT(I38*C38) -> 75260
A39: 초급기술자 | C39: =적용소요인력!H11 -> 0.165 | D39: 인 | E39: =G39+I39+K39 -> 235459 | F39: =H39+J39+L39 -> 38850 | I39: =$I$8 -> 235459 | J39: =INT(I39*C39) -> 38850
A40: 중급숙련자 | C40: =적용소요인력!I11 -> 0 | D40: 인 | E40: =G40+I40+K40 -> 250087 | F40: =H40+J40+L40 -> 0 | I40: =$I$9 -> 250087 | J40: =INT(I40*C40) -> 0
A41: 계 | F41: =H41+J41+L41 -> 227959 | J41: =SUM(J35:J40) -> 227959
A42: 적용 | B42: =$S$9 -> 0.3 | E42: =F42 -> 68387 | F42: =H42+J42+L42 -> 68387 | J42: =TRUNC(J41*$S$9,0) -> 68387
A45: <산근 1-5> 수리, 수문조사
A46: 기 술 사 | C46: =적용소요인력!D13 -> 0.7 | D46: 인 | E46: =G46+I46+K46 -> 467217 | F46: =H46+J46+L46 -> 327051 | I46: =$I$4 -> 467217 | J46: =INT(I46*C46) -> 327051
...

Sheet 보정계수 산출
A1: - 단위업무별 보정계수 산정 및 적용기준
A2: 1. 보정계수
A3: 1) 하천재해, 해안재해, 저수지 특성에 따른 보정계수(α1)
A4: 가) 위험지구 연장에 따라 다음 산식에 의해 보정계수를 산정하여 적용(1km 미만인 경우 1km의 요율 적용)
A5: 나) 하천재해 연장 = | B5: 7.1 | D5: km
A6: 보정계수(α1-1) = | B6: 1+C×(위험지구연장-1)(km) = | E6: =IF(B5=0,0,IF(B5<1,1,(1+(0.7-(0.003*B5))*(B5-1))/1)) -> 5.14007
A7: ※ 위험지구 연장이 1km 미만인 경우 1km의 요율을 적용한다.
A9: 2) 유역면적에 따른 보정계수(α2)
A10: (1) 하천재해 유역
A11: 가) 유역면적에 따라 다음 산식에 의해 보정계수를 산정하여 적용(지형도를 통하여 산정)
A12: 나) 유역면적 = | B12: 39.33 | D12: km2
A13: 다) 보정계수(α2) = | B13: 유역면적(km2)^0.30 = | E13: =IF(B12=0,10,IF(B12<=10,10,B12^0.3))/10 -> 0.30089653
A14: ※ 유역면적이 10km2 이하인 경우 10km2 요율을 적용한다.
A16: (2) 내수재해 유역
A17: 가) 유역면적에 따라 다음 산식에 의해 보정계수를 산정하여 적용(지형도를 통하여 산정)
A18: 나) 유역면적 = | B18: 9.38 | D18: km2
A19: 다) 보정계수(α2) = | B19: 유역면적(km2)^0.30 = | E19: =IF(B18=0,0,IF(B18<=1,1,B18^0.3)) -> 1.9573156
A20: ※ 유역면적이 1km2 이하인 경우 1km2 요율을 적용한다.
A22: 3) 관로(배수로) 연장에 따른 보정계수(α3)
A23: (1) 관로연장(α3-1)
A24: 가) 관로(배수로) 연장의 경우 1km를 기준으로 소요인력기준 산정을 정하였으므로 다음과 같이 보정계수 적용
A25: 나) 관로(배수로)연장 = | B25: 0 | D25: km
A26: 다) 보정계수(α3-1) = | B26: 1+C×(관로(배수로)연장-1)(km) = | F26: =ROUNDDOWN(IF(B25=0,0,IF(B25<=1,1,1+(0.7-(0.005*B25))*(B25-1))),2) -> 0
A27: ※ 관로연장이 1km미만인경우 1km의 요율적용
A28: (2) 관직경(α3-2)
A29: 가) 소구경(D < 400mm), 1.0 | D29: 계수C1 | E29: 1 | F29: 연장(A) | G29: =[1]입력DATA1!E23 -> 0 | H29: km
A30: 나) 중구경(400mm ≤ D < 800mm), 1.25 | D30: 계수C2 | E30: 1.25 | F30: 연장(B) | G30: =[1]입력DATA1!E24 -> 0 | H30: km
A31: 다) 대구경(D ≥ 800mm), 1.6 | D31: 계수C3 | E31: 1.6 | F31: 연장(C) | G31: 0 | H31: km
A32: 라) 사각형거, 2.2 | D32: 계수C4 | E32: 2.2 | F32: 연장(D) | G32: 0 | H32: km
A33: ※ D = 관직경(mm)
A34: ※ 다양한 관직경이 존재하는 사업의 경우 복합계수 적용
A35: 마) 보정계수(α3-2) = | B35: (C1×A+C2×B+C3×C+C4×D)/(A+B+C+D) = | G35: =IF(B25=0,0,(E29*G29+E30*G30+E31*G31+E32*G32)/(G29+G30+G31+G32)) -> 0
A36: (3) 우수관로 통합 보정계수(α3)
A37: 가) 보정계수(α3) = | B37: (α3-1)×(α3-2) = | E37: =F26*G35 -> 0
A39: 4) 펌프용량에 따른 보정계수(α5)
A40: (1) 펌프용량(α5-1)
A41: 가) 펌프용량의 경우 1.0m3/s를 기준으로 소요인력기준을 산정을 정하였으므로 다음과 같이 보정계수 적용
A42: 나) 펌프용량(평균) = | B42: 0 | D42: m3/s
A43: 다) 보정계수(α5-1) = | B43: (평균펌프용량)^0.45 | E43: =IF(B42<=1,1^0.45,IF(B42>=100,100^0.45,B42^0.45)) -> 1
A44: ※ 펌프용량이 1.0m3/s미만은 1.0m3/s 요율적용, 100.0m3/s이상일경우 100.0m3/s 보정계수 적용
...

Sheet 적용수량
A1: ■ 침수방지대책 기본계획 (적용수량)
A2: 구 분 | B2: 원단위 기준 | C2: 적용기준 | D2: 보정계수 | E2: 보정계수 | AF2: 기준소요인력에 대한 적용비율 | AH2: 100 | AI2: % (총용역비 감액시 적용)
E3: ='보정계수 산출'!D73 -> 해당유무 | F3: ='보정계수 산출'!E73 -> α1 | G3: ='보정계수 산출'!F73 -> α2 | H3: ='보정계수 산출'!G73 -> α3 | I3: ='보정계수 산출'!H73 -> α4 | J3: ='보정계수 산출'!I73 -> α5 | K3: ='보정계수 산출'!J73 -> α6 | L3: ='보정계수 산출'!K73 -> α7 | ... AC3: ='보정계수 산출'!AB73 -> α18 | AD3: 적용 | AH3: =AH2/100 -> 1
A4: 침수방지대책 마스터플랜 및 기본계획 직접인건비
A5: =적용소요인력!A5 -> 가. 작업계획 수립 | E5: =IF('보정계수 산출'!D74=0,"",'보정계수 산출'!D74) | F5: =IF('보정계수 산출'!E74=0,"",'보정계수 산출'!E74) | G5: =IF('보정계수 산출'!F74=0,"",'보정계수 산출'!F74) | H5: =IF('보정계수 산출'!G74=0,"",'보정계수 산출'!G74) | I5: =IF('보정계수 산출'!H74=0,"",'보정계수 산출'!H74) | J5: =IF('보정계수 산출'!I74=0,"",'보정계수 산출'!I74) | K5: =IF('보정계수 산출'!J74=0,"",'보정계수 산출'!J74) | L5: =IF('보정계수 산출'!K74=0,"",'보정계수 산출'!K74) | ... AC5: =IF('보정계수 산출'!AB74=0,"",'보정계수 산출'!AB74)
A6: =적용소요인력!A6 -> 1) 작업계획 수립 | B6: =적용소요인력!B6 -> 1식 | C6: =적용소요인력!C6 -> 재해예방사업 당 | E6: =IF('보정계수 산출'!D75=0,0,'보정계수 산출'!D75) -> 1 | F6: =IF('보정계수 산출'!E75=0,"",'보정계수 산출'!E75) | G6: =IF('보정계수 산출'!F75=0,"",'보정계수 산출'!F75) | H6: =IF('보정계수 산출'!G75=0,"",'보정계수 산출'!G75) | I6: =IF('보정계수 산출'!H75=0,"",'보정계수 산출'!H75) | J6: =IF('보정계수 산출'!I75=0,"",'보정계수 산출'!I75) | K6: =IF('보정계수 산출'!J75=0,"",'보정계수 산출'!J75) | L6: =IF('보정계수 산출'!K75=0,"",'보정계수 산출'!K75) | M6: =IF('보정계수 산출'!L75=0,"",'보정계수 산출'!L75) | ... AC6: =IF('보정계수 산출'!AB75=0,"",'보정계수 산출'!AB75) | AD6: =IF(PRODUCT(E6:AC6)=0,0, PRODUCT(E6:AC6)) -> 1
A7: =적용소요인력!A7 -> 나. 관련자료 조사 및 검토 | E7: =IF('보정계수 산출'!D76=0,"",'보정계수 산출'!D76) | F7: =IF('보정계수 산출'!E76=0,"",'보정계수 산출'!E76) | G7: =IF('보정계수 산출'!F76=0,"",'보정계수 산출'!F76) | H7: =IF('보정계수 산출'!G76=0,"",'보정계수 산출'!G76) | I7: =IF('보정계수 산출'!H76=0,"",'보정계수 산출'!H76) | J7: =IF('보정계수 산출'!I76=0,"",'보정계수 산출'!I76) | K7: =IF('보정계수 산출'!J76=0,"",'보정계수 산출'!J76) | L7: =IF('보정계수 산출'!K76=0,"",'보정계수 산출'!K76) | ... AC7: =IF('보정계수 산출'!AB76=0,"",'보정계수 산출'!AB76)
A8: =적용소요인력!A8 -> 1) 관련자료 조사 | B8: =적용소요인력!B8 -> 1식 | C8: =적용소요인력!C8 -> 재해예방사업 당 | E8: =IF('보정계수 산출'!D77=0,0,'보정계수 산출'!D77) -> 1 | F8: =IF('보정계수 산출'!E77=0,"",'보정계수 산출'!E77) | G8: =IF('보정계수 산출'!F77=0,"",'보정계수 산출'!F77) | H8: =IF('보정계수 산출'!G77=0,"",'보정계수 산출'!G77) | I8: =IF('보정계수 산출'!H77=0,"",'보정계수 산출'!H77) | J8: =IF('보정계수 산출'!I77=0,"",'보정계수 산출'!I77) | K8: =IF('보정계수 산출'!J77=0,"",'보정계수 산출'!J77) | L8: =IF('보정계수 산출'!K77=0,"",'보정계수 산출'!K77) | M8: =IF('보정계수 산출'!L77=0,"",'보정계수 산출'!L77) | ... AC8: =IF('보정계수 산출'!AB77=0,"",'보정계수 산출'!AB77) | AD8: =IF(PRODUCT(E8:AC8)=0,0, PRODUCT(E8:AC8)) -> 1
A9: =적용소요인력!A9 -> 2) 관련계획 검토 | B9: =적용소요인력!B9 -> 1식 | C9: =적용소요인력!C9 -> 재해예방사업 당 | E9: =IF('보정계수 산출'!D78=0,0,'보정계수 산출'!D78) -> 1 | F9: =IF('보정계수 산출'!E78=0,"",'보정계수 산출'!E78) | G9: =IF('보정계수 산출'!F78=0,"",'보정계수 산출'!F78) | H9: =IF('보정계수 산출'!G78=0,"",'보정계수 산출'!G78) | I9: =IF('보정계수 산출'!H78=0,"",'보정계수 산출'!H78) | J9: =IF('보정계수 산출'!I78=0,"",'보정계수 산출'!I78) | K9: =IF('보정계수 산출'!J78=0,"",'보정계수 산출'!J78) | L9: =IF('보정계수 산출'!K78=0,"",'보정계수 산출'!K78) | M9: =IF('보정계수 산출'!L78=0,"",'보정계수 산출'!L78) | ... AC9: =IF('보정계수 산출'!AB78=0,"",'보정계수 산출'!AB78) | AD9: =IF(PRODUCT(E9:AC9)=0,0, PRODUCT(E9:AC9)) -> 1
A10: =적용소요인력!A10 -> 다. 피해현황 및 원인분석 | E10: =IF('보정계수 산출'!D79=0,"",'보정계수 산출'!D79) | F10: =IF('보정계수 산출'!E79=0,"",'보정계수 산출'!E79) | G10: =IF('보정계수 산출'!F79=0,"",'보정계수 산출'!F79) | H10: =IF('보정계수 산출'!G79=0,"",'보정계수 산출'!G79) | I10: =IF('보정계수 산출'!H79=0,"",'보정계수 산출'!H79) | J10: =IF('보정계수 산출'!I79=0,"",'보정계수 산출'!I79) | K10: =IF('보정계수 산출'!J79=0,"",'보정계수 산출'!J79) | L10: =IF('보정계수 산출'!K79=0,"",'보정계수 산출'!K79) | ... AC10: =IF('보정계수 산출'!AB79=0,"",'보정계수 산출'!AB79)
A11: =적용소요인력!A11 -> 1) 피해현황 조사 | B11: =적용소요인력!B11 -> 1식 | C11: =적용소요인력!C11 -> 재해예방사업 당 | E11: =IF('보정계수 산출'!D80=0,0,'보정계수 산출'!D80) -> 1 | F11: =IF('보정계수 산출'!E80=0,"",'보정계수 산출'!E80) | G11: =IF('보정계수 산출'!F80=0,"",'보정계수 산출'!F80) | H11: =IF('보정계수 산출'!G80=0,"",'보정계수 산출'!G80) | I11: =IF('보정계수 산출'!H80=0,"",'보정계수 산출'!H80) | J11: =IF('보정계수 산출'!I80=0,"",'보정계수 산출'!I80) | K11: =IF('보정계수 산출'!J80=0,"",'보정계수 산출'!J80) | L11: =IF('보정계수 산출'!K80=0,"",'보정계수 산출'!K80) | M11: =IF('보정계수 산출'!L80=0,"",'보정계수 산출'!L80) | ... AC11: =IF('보정계수 산출'!AB80=0,"",'보정계수 산출'!AB80) | AD11: =IF(PRODUCT(E11:AC11)=0,0, PRODUCT(E11:AC11)) -> 1
A12: =적용소요인력!A12 -> 2) 피해원인 분석 | E12: =IF('보정계수 산출'!D81=0,"",'보정계수 산출'!D81) | F12: =IF('보정계수 산출'!E81=0,"",'보정계수 산출'!E81) | G12: =IF('보정계수 산출'!F81=0,"",'보정계수 산출'!F81) | H12: =IF('보정계수 산출'!G81=0,"",'보정계수 산출'!G81) | I12: =IF('보정계수 산출'!H81=0,"",'보정계수 산출'!H81) | J12: =IF('보정계수 산출'!I81=0,"",'보정계수 산출'!I81) | K12: =IF('보정계수 산출'!J81=0,"",'보정계수 산출'!J81) | L12: =IF('보정계수 산출'!K81=0,"",'보정계수 산출'!K81) | ... AC12: =IF('보정계수 산출'!AB81=0,"",'보정계수 산출'!AB81)
A13: =적용소요인력!A13 -> 가) 수리․수문조사 | B13: =적용소요인력!B13 -> 10km2 | C13: =적용소요인력!C13 -> 유역면적당 | D13: α2 | E13: =IF('보정계수 산출'!D82=0,0,'보정계수 산출'!D82) -> 1 | F13: =IF('보정계수 산출'!E82=0,"",'보정계수 산출'!E82) | G13: =IF('보정계수 산출'!F82=0,"",'보정계수 산출'!F82) -> 0.3 | H13: =IF('보정계수 산출'!G82=0,"",'보정계수 산출'!G82) | I13: =IF('보정계수 산출'!H82=0,"",'보정계수 산출'!H82) | J13: =IF('보정계수 산출'!I82=0,"",'보정계수 산출'!I82) | K13: =IF('보정계수 산출'!J82=0,"",'보정계수 산출'!J82) | L13: =IF('보정계수 산출'!K82=0,"",'보정계수 산출'!K82) | M13: =IF('보정계수 산출'!L82=0,"",'보정계수 산출'!L82) | ... AC13: =IF('보정계수 산출'!AB82=0,"",'보정계수 산출'!AB82) | AD13: =IF(PRODUCT(E13:AC13)=0,0, PRODUCT(E13:AC13)) -> 0.3
A14: =적용소요인력!A14 -> 나) 강우분석 | B14: =적용소요인력!B14 -> 10km2 | C14: =적용소요인력!C14 -> 유역면적당 | D14: α2 | E14: =IF('보정계수 산출'!D83=0,0,'보정계수 산출'!D83) -> 1 | F14: =IF('보정계수 산출'!E83=0,"",'보정계수 산출'!E83) | G14: =IF('보정계수 산출'!F83=0,"",'보정계수 산출'!F83) -> 0.3 | H14: =IF('보정계수 산출'!G83=0,"",'보정계수 산출'!G83) | I14: =IF('보정계수 산출'!H83=0,"",'보정계수 산출'!H83) | J14: =IF('보정계수 산출'!I83=0,"",'보정계수 산출'!I83) | K14: =IF('보정계수 산출'!J83=0,"",'보정계수 산출'!J83) | L14: =IF('보정계수 산출'!K83=0,"",'보정계수 산출'!K83) | M14: =IF('보정계수 산출'!L83=0,"",'보정계수 산출'!L83) | ... AC14: =IF('보정계수 산출'!AB83=0,"",'보정계수 산출'!AB83) | AD14: =IF(PRODUCT(E14:AC14)=0,0, PRODUCT(E14:AC14)) -> 0.3
A15: =적용소요인력!A15 -> 다) 유출분석 | B15: =적용소요인력!B15 -> 10km2 | C15: =적용소요인력!C15 -> 유역면적당 | D15: α2 | E15: =IF('보정계수 산출'!D84=0,0,'보정계수 산출'!D84) -> 1 | F15: =IF('보정계수 산출'!E84=0,"",'보정계수 산출'!E84) | G15: =IF('보정계수 산출'!F84=0,"",'보정계수 산출'!F84) -> 0.3 | H15: =IF('보정계수 산출'!G84=0,"",'보정계수 산출'!G84) | I15: =IF('보정계수 산출'!H84=0,"",'보정계수 산출'!H84) | J15: =IF('보정계수 산출'!I84=0,"",'보정계수 산출'!I84) | K15: =IF('보정계수 산출'!J84=0,"",'보정계수 산출'!J84) | L15: =IF('보정계수 산출'!K84=0,"",'보정계수 산출'!K84) | M15: =IF('보정계수 산출'!L84=0,"",'보정계수 산출'!L84) | ... AC15: =IF('보정계수 산출'!AB84=0,"",'보정계수 산출'!AB84) | AD15: =IF(PRODUCT(E15:AC15)=0,0, PRODUCT(E15:AC15)) -> 0.3
A16: =적용소요인력!A16 -> 라) 홍수위산정 | B16: =적용소요인력!B16 -> 1㎞ | C16: =적용소요인력!C16 -> 연장당 | D16: α1 | E16: 0 | F16: =IF('보정계수 산출'!E85=0,"",'보정계수 산출'!E85) -> 5.14 | G16: =IF('보정계수 산출'!F85=0,"",'보정계수 산출'!F85) | H16: =IF('보정계수 산출'!G85=0,"",'보정계수 산출'!G85) | I16: =IF('보정계수 산출'!H85=0,"",'보정계수 산출'!H85) | J16: =IF('보정계수 산출'!I85=0,"",'보정계수 산출'!I85) | K16: =IF('보정계수 산출'!J85=0,"",'보정계수 산출'!J85) | L16: =IF('보정계수 산출'!K85=0,"",'보정계수 산출'!K85) | M16: =IF('보정계수 산출'!L85=0,"",'보정계수 산출'!L85) | ... AC16: =IF('보정계수 산출'!AB85=0,"",'보정계수 산출'!AB85) | AD16: =IF(PRODUCT(E16:AC16)=0,0, PRODUCT(E16:AC16)) -> 0
A17: =적용소요인력!A17 -> 마) 범람해석(2차원 시뮬레이션) | B17: =적용소요인력!B17 -> 1km2 | C17: =적용소요인력!C17 -> 유역면적당 | D17: α2 | E17: =IF('보정계수 산출'!D86=0,0,'보정계수 산출'!D86) -> 1 | F17: =IF('보정계수 산출'!E86=0,"",'보정계수 산출'!E86) | G17: =IF('보정계수 산출'!F86=0,"",'보정계수 산출'!F86) -> 1.95 | H17: =IF('보정계수 산출'!G86=0,"",'보정계수 산출'!G86) | I17: =IF('보정계수 산출'!H86=0,"",'보정계수 산출'!H86) | J17: =IF('보정계수 산출'!I86=0,"",'보정계수 산출'!I86) | K17: =IF('보정계수 산출'!J86=0,"",'보정계수 산출'!J86) | L17: =IF('보정계수 산출'!K86=0,"",'보정계수 산출'!K86) | M17: =IF('보정계수 산출'!L86=0,"",'보정계수 산출'!L86) | ... AC17: =IF('보정계수 산출'!AB86=0,"",'보정계수 산출'!AB86) | AD17: =IF(PRODUCT(E17:AC17)=0,0, PRODUCT(E17:AC17)) -> 1.95
A18: =적용소요인력!A18 -> 바) 피해원인분석 | B18: =적용소요인력!B18 -> 1㎞ | C18: =적용소요인력!C18 -> 연장당 | D18: α1 | E18: =IF('보정계수 산출'!D87=0,0,'보정계수 산출'!D87) -> 1 | F18: =IF('보정계수 산출'!E87=0,"",'보정계수 산출'!E87) -> 5.14 | G18: =IF('보정계수 산출'!F87=0,"",'보정계수 산출'!F87) | H18: =IF('보정계수 산출'!G87=0,"",'보정계수 산출'!G87) | I18: =IF('보정계수 산출'!H87=0,"",'보정계수 산출'!H87) | J18: =IF('보정계수 산출'!I87=0,"",'보정계수 산출'!I87) | K18: =IF('보정계수 산출'!J87=0,"",'보정계수 산출'!J87) | L18: =IF('보정계수 산출'!K87=0,"",'보정계수 산출'!K87) | M18: =IF('보정계수 산출'!L87=0,"",'보정계수 산출'!L87) | ... AC18: =IF('보정계수 산출'!AB87=0,"",'보정계수 산출'!AB87) | AD18: =IF(PRODUCT(E18:AC18)=0,0, PRODUCT(E18:AC18)) -> 5.14
A19: =적용소요인력!A19 -> 라. 정비계획수립 | E19: =IF('보정계수 산출'!D88=0,"",'보정계수 산출'!D88) | F19: =IF('보정계수 산출'!E88=0,"",'보정계수 산출'!E88) | G19: =IF('보정계수 산출'!F88=0,"",'보정계수 산출'!F88) | H19: =IF('보정계수 산출'!G88=0,"",'보정계수 산출'!G88) | I19: =IF('보정계수 산출'!H88=0,"",'보정계수 산출'!H88) | J19: =IF('보정계수 산출'!I88=0,"",'보정계수 산출'!I88) | K19: =IF('보정계수 산출'!J88=0,"",'보정계수 산출'!J88) | L19: =IF('보정계수 산출'!K88=0,"",'보정계수 산출'!K88) | ... AC19: =IF('보정계수 산출'!AB88=0,"",'보정계수 산출'!AB88)
A20: =적용소요인력!A20 -> 1) 재해유형별 정비기본방향 | E20: =IF('보정계수 산출'!D89=0,"",'보정계수 산출'!D89) | F20: =IF('보정계수 산출'!E89=0,"",'보정계수 산출'!E89) | G20: =IF('보정계수 산출'!F89=0,"",'보정계수 산출'!F89) | H20: =IF('보정계수 산출'!G89=0,"",'보정계수 산출'!G89) | I20: =IF('보정계수 산출'!H89=0,"",'보정계수 산출'!H89) | J20: =IF('보정계수 산출'!I89=0,"",'보정계수 산출'!I89) | K20: =IF('보정계수 산출'!J89=0,"",'보정계수 산출'!J89) | L20: =IF('보정계수 산출'!K89=0,"",'보정계수 산출'!K89) | ... AC20: =IF('보정계수 산출'!AB89=0,"",'보정계수 산출'!AB89)
A21: =적용소요인력!A21 -> 가) 침수위험지구(하천재해) | B21: =적용소요인력!B21 -> 1㎞ | C21: =적용소요인력!C21 -> 연장당 | D21: α1 | E21: =IF('보정계수 산출'!D90=0,0,'보정계수 산출'!D90) -> 1 | F21: =IF('보정계수 산출'!E90=0,"",'보정계수 산출'!E90) -> 5.14 | G21: =IF('보정계수 산출'!F90=0,"",'보정계수 산출'!F90) | H21: =IF('보정계수 산출'!G90=0,"",'보정계수 산출'!G90) | I21: =IF('보정계수 산출'!H90=0,"",'보정계수 산출'!H90) | J21: =IF('보정계수 산출'!I90=0,"",'보정계수 산출'!I90) | K21: =IF('보정계수 산출'!J90=0,"",'보정계수 산출'!J90) | L21: =IF('보정계수 산출'!K90=0,"",'보정계수 산출'!K90) | M21: =IF('보정계수 산출'!L90=0,"",'보정계수 산출'!L90) | ... AC21: =IF('보정계수 산출'!AB90=0,"",'보정계수 산출'!AB90) | AD21: =IF(PRODUCT(E21:AC21)=0,0, PRODUCT(E21:AC21)) -> 5.14
A22: =적용소요인력!A22 -> 나) 침수위험지구(내수재해) | B22: =적용소요인력!B22 -> 1㎞2 | C22: =적용소요인력!C22 -> 유역면적당 | D22: α2 | E22: =IF('보정계수 산출'!D91=0,0,'보정계수 산출'!D91) -> 1 | F22: =IF('보정계수 산출'!E91=0,"",'보정계수 산출'!E91) | G22: =IF('보정계수 산출'!F91=0,"",'보정계수 산출'!F91) -> 1.95 | H22: =IF('보정계수 산출'!G91=0,"",'보정계수 산출'!G91) | I22: =IF('보정계수 산출'!H91=0,"",'보정계수 산출'!H91) | J22: =IF('보정계수 산출'!I91=0,"",'보정계수 산출'!I91) | K22: =IF('보정계수 산출'!J91=0,"",'보정계수 산출'!J91) | L22: =IF('보정계수 산출'!K91=0,"",'보정계수 산출'!K91) | M22: =IF('보정계수 산출'!L91=0,"",'보정계수 산출'!L91) | ... AC22: =IF('보정계수 산출'!AB91=0,"",'보정계수 산출'!AB91) | AD22: =IF(PRODUCT(E22:AC22)=0,0, PRODUCT(E22:AC22)) -> 1.95
A23: =적용소요인력!A23 -> 다) 유실위험지구 | B23: =적용소요인력!B23 -> 1식 | C23: =적용소요인력!C23 -> 재해예방사업 당 | E23: =IF('보정계수 산출'!D92=0,0,'보정계수 산출'!D92) -> 0 | F23: =IF('보정계수 산출'!E92=0,"",'보정계수 산출'!E92) | G23: =IF('보정계수 산출'!F92=0,"",'보정계수 산출'!F92) | H23: =IF('보정계수 산출'!G92=0,"",'보정계수 산출'!G92) | I23: =IF('보정계수 산출'!H92=0,"",'보정계수 산출'!H92) | J23: =IF('보정계수 산출'!I92=0,"",'보정계수 산출'!I92) | K23: =IF('보정계수 산출'!J92=0,"",'보정계수 산출'!J92) | L23: =IF('보정계수 산출'!K92=0,"",'보정계수 산출'!K92) | M23: =IF('보정계수 산출'!L92=0,"",'보정계수 산출'!L92) | ... AC23: =IF('보정계수 산출'!AB92=0,"",'보정계수 산출'!AB92) | AD23: =IF(PRODUCT(E23:AC23)=0,0, PRODUCT(E23:AC23)) -> 0
A24: =적용소요인력!A24 -> 라) 고립위험지구 | B24: =적용소요인력!B24 -> 1식 | C24: =적용소요인력!C24 -> 재해예방사업 당 | E24: =IF('보정계수 산출'!D93=0,0,'보정계수 산출'!D93) -> 0 | F24: =IF('보정계수 산출'!E93=0,"",'보정계수 산출'!E93) | G24: =IF('보정계수 산출'!F93=0,"",'보정계수 산출'!F93) | H24: =IF('보정계수 산출'!G93=0,"",'보정계수 산출'!G93) | I24: =IF('보정계수 산출'!H93=0,"",'보정계수 산출'!H93) | J24: =IF('보정계수 산출'!I93=0,"",'보정계수 산출'!I93) | K24: =IF('보정계수 산출'!J93=0,"",'보정계수 산출'!J93) | L24: =IF('보정계수 산출'!K93=0,"",'보정계수 산출'!K93) | M24: =IF('보정계수 산출'!L93=0,"",'보정계수 산출'!L93) | ... AC24: =IF('보정계수 산출'!AB93=0,"",'보정계수 산출'!AB93) | AD24: =IF(PRODUCT(E24:AC24)=0,0, PRODUCT(E24:AC24)) -> 0
A25: =적용소요인력!A25 -> 2) 주요시설물 정비계획 | E25: =IF('보정계수 산출'!D94=0,"",'보정계수 산출'!D94) | F25: =IF('보정계수 산출'!E94=0,"",'보정계수 산출'!E94) | G25: =IF('보정계수 산출'!F94=0,"",'보정계수 산출'!F94) | H25: =IF('보정계수 산출'!G94=0,"",'보정계수 산출'!G94) | I25: =IF('보정계수 산출'!H94=0,"",'보정계수 산출'!H94) | J25: =IF('보정계수 산출'!I94=0,"",'보정계수 산출'!I94) | K25: =IF('보정계수 산출'!J94=0,"",'보정계수 산출'!J94) | L25: =IF('보정계수 산출'!K94=0,"",'보정계수 산출'!K94) | ... AC25: =IF('보정계수 산출'!AB94=0,"",'보정계수 산출'!AB94)
A26: =적용소요인력!A26 -> 가) 하천. 소하천시설물 | B26: =적용소요인력!B26 -> 1 km | C26: =적용소요인력!C26 -> 하천시설 연장당 | D26: α1, α7 | E26: =IF('보정계수 산출'!D95=0,0,'보정계수 산출'!D95) -> 1 | F26: =IF('보정계수 산출'!E95=0,"",'보정계수 산출'!E95) -> 5.14 | G26: =IF('보정계수 산출'!F95=0,"",'보정계수 산출'!F95) | H26: =IF('보정계수 산출'!G95=0,"",'보정계수 산출'!G95) | I26: =IF('보정계수 산출'!H95=0,"",'보정계수 산출'!H95) | J26: =IF('보정계수 산출'!I95=0,"",'보정계수 산출'!I95) | K26: =IF('보정계수 산출'!J95=0,"",'보정계수 산출'!J95) | L26: =IF('보정계수 산출'!K95=0,"",'보정계수 산출'!K95) -> 1.3 | M26: =IF('보정계수 산출'!L95=0,"",'보정계수 산출'!L95) | ... AC26: =IF('보정계수 산출'!AB95=0,"",'보정계수 산출'!AB95) | AD26: =IF(PRODUCT(E26:AC26)=0,0, PRODUCT(E26:AC26)) -> 6.682
A27: =적용소요인력!A27 -> 나) 배수펌프장 및 유수지 | B27: =적용소요인력!B27 -> 1 ㎥/s,개소 | C27: =적용소요인력!C27 -> 용량당 | D27: α5, α7 | E27: =IF('보정계수 산출'!D96=0,0,'보정계수 산출'!D96) -> 1 | F27: =IF('보정계수 산출'!E96=0,"",'보정계수 산출'!E96) | G27: =IF('보정계수 산출'!F96=0,"",'보정계수 산출'!F96) | H27: =IF('보정계수 산출'!G96=0,"",'보정계수 산출'!G96) | I27: =IF('보정계수 산출'!H96=0,"",'보정계수 산출'!H96) | J27: =IF('보정계수 산출'!I96=0,"",'보정계수 산출'!I96) -> 0.2 | K27: =IF('보정계수 산출'!J96=0,"",'보정계수 산출'!J96) | L27: =IF('보정계수 산출'!K96=0,"",'보정계수 산출'!K96) -> 1.3 | M27: =IF('보정계수 산출'!L96=0,"",'보정계수 산출'!L96) | ... AC27: =IF('보정계수 산출'!AB96=0,"",'보정계수 산출'!AB96) | AD27: =IF(PRODUCT(E27:AC27)=0,0, PRODUCT(E27:AC27)) -> 0.26
A28: =적용소요인력!A28 -> 다) 우수관로 | B28: =적용소요인력!B28 -> 1 km,관경 | C28: =적용소요인력!C28 -> 관로 연장당 | D28: α3, α7 | E28: =IF('보정계수 산출'!D97=0,0,'보정계수 산출'!D97) -> 1 | F28: =IF('보정계수 산출'!E97=0,"",'보정계수 산출'!E97) | G28: =IF('보정계수 산출'!F97=0,"",'보정계수 산출'!F97) | H28: =IF('보정계수 산출'!G97=0,"",'보정계수 산출'!G97) | I28: =IF('보정계수 산출'!H97=0,"",'보정계수 산출'!H97) | J28: =IF('보정계수 산출'!I97=0,"",'보정계수 산출'!I97) | K28: =IF('보정계수 산출'!J97=0,"",'보정계수 산출'!J97) | L28: =IF('보정계수 산출'!K97=0,"",'보정계수 산출'!K97) -> 1.3 | M28: =IF('보정계수 산출'!L97=0,"",'보정계수 산출'!L97) | ... AC28: =IF('보정계수 산출'!AB97=0,"",'보정계수 산출'!AB97) | AD28: =IF(PRODUCT(E28:AC28)=0,0, PRODUCT(E28:AC28)) -> 1.3
A29: =적용소요인력!A29 -> 라) 우수유출저감시설 | B29: =적용소요인력!B29 -> 1만㎥,개소 | C29: =적용소요인력!C29 -> 용량당 | D29: α4, α7 | E29: =IF('보정계수 산출'!D98=0,0,'보정계수 산출'!D98) -> 1 | F29: =IF('보정계수 산출'!E98=0,"",'보정계수 산출'!E98) | G29: =IF('보정계수 산출'!F98=0,"",'보정계수 산출'!F98) | H29: =IF('보정계수 산출'!G98=0,"",'보정계수 산출'!G98) | I29: =IF('보정계수 산출'!H98=0,"",'보정계수 산출'!H98) | J29: =IF('보정계수 산출'!I98=0,"",'보정계수 산출'!I98) | K29: =IF('보정계수 산출'!J98=0,"",'보정계수 산출'!J98) | L29: =IF('보정계수 산출'!K98=0,"",'보정계수 산출'!K98) -> 1.3 | M29: =IF('보정계수 산출'!L98=0,"",'보정계수 산출'!L98) | ... AC29: =IF('보정계수 산출'!AB98=0,"",'보정계수 산출'!AB98) | AD29: =IF(PRODUCT(E29:AC29)=0,0, PRODUCT(E29:AC29)) -> 1.3
A30: =적용소요인력!A30 -> 마. 성과품 작성 | E30: =IF('보정계수 산출'!D99=0,"",'보정계수 산출'!D99) | F30: =IF('보정계수 산출'!E99=0,"",'보정계수 산출'!E99) | G30: =IF('보정계수 산출'!F99=0,"",'보정계수 산출'!F99) | H30: =IF('보정계수 산출'!G99=0,"",'보정계수 산출'!G99) | I30: =IF('보정계수 산출'!H99=0,"",'보정계수 산출'!H99) | J30: =IF('보정계수 산출'!I99=0,"",'보정계수 산출'!I99) | K30: =IF('보정계수 산출'!J99=0,"",'보정계수 산출'!J99) | L30: =IF('보정계수 산출'!K99=0,"",'보정계수 산출'!K99) | ... AC30: =IF('보정계수 산출'!AB99=0,"",'보정계수 산출'!AB99) | AD30: =IF(PRODUCT(E30:AC30)=0,"", PRODUCT(E30:AC30))
A31: =적용소요인력!A31 -> 1) 기본계획 보고서 | B31: =적용소요인력!B31 -> 식 | C31: =적용소요인력!C31 -> 재해예방사업 당 | E31: =IF('보정계수 산출'!D100=0,0,'보정계수 산출'!D100) -> 1 | F31: =IF('보정계수 산출'!E100=0,"",'보정계수 산출'!E100) | G31: =IF('보정계수 산출'!F100=0,"",'보정계수 산출'!F100) | H31: =IF('보정계수 산출'!G100=0,"",'보정계수 산출'!G100) | I31: =IF('보정계수 산출'!H100=0,"",'보정계수 산출'!H100) | J31: =IF('보정계수 산출'!I100=0,"",'보정계수 산출'!I100) | K31: =IF('보정계수 산출'!J100=0,"",'보정계수 산출'!J100) | L31: =IF('보정계수 산출'!K100=0,"",'보정계수 산출'!K100) | M31: =IF('보정계수 산출'!L100=0,"",'보정계수 산출'!L100) | ... AC31: =IF('보정계수 산출'!AB100=0,"",'보정계수 산출'!AB100) | AD31: =IF(PRODUCT(E31:AC31)=0,0, PRODUCT(E31:AC31)) -> 1
A32: =적용소요인력!A32 -> 2) 중간 및 최종 보고자료 작성 (PPT) | B32: =적용소요인력!B32 -> 식 | C32: =적용소요인력!C32 -> 재해예방사업 당 | D32: α18 | E32: =IF('보정계수 산출'!D101=0,0,'보정계수 산출'!D101) -> 1 | F32: =IF('보정계수 산출'!E101=0,"",'보정계수 산출'!E101) | G32: =IF('보정계수 산출'!F101=0,"",'보정계수 산출'!F101) | H32: =IF('보정계수 산출'!G101=0,"",'보정계수 산출'!G101) | I32: =IF('보정계수 산출'!H101=0,"",'보정계수 산출'!H101) | J32: =IF('보정계수 산출'!I101=0,"",'보정계수 산출'!I101) | K32: =IF('보정계수 산출'!J101=0,"",'보정계수 산출'!J101) | L32: =IF('보정계수 산출'!K101=0,"",'보정계수 산출'!K101) | M32: =IF('보정계수 산출'!L101=0,"",'보정계수 산출'!L101) | ... AC32: =IF('보정계수 산출'!AB101=0,"",'보정계수 산출'!AB101) -> 1.3 | AD32: =IF(PRODUCT(E32:AC32)=0,0, PRODUCT(E32:AC32)) -> 1.3

Sheet 적용소요인력
A1: ■ 침수방지대책 기본계획 (기준소요인력, 방재분야 표준품셈(행정안전부고시 제2024-83호, 2024.10.28.))
A2: 구 분 | B2: 원단위 기준 | C2: 적용기준 | D2: 소요인력 (인·일) | J2: 비고 | K2: 비고
D3: 기술사 | E3: 특급기술자 | F3: 고급기술자 | G3: 중급기술자 | H3: 초급기술자 | I3: 중급숙련자
A4: 침수방지대책 기본계획 직접인건비 | D4: =D5+D7+D10+D19+D30 -> 42.04 | E4: =E5+E7+E10+E19+E30 -> 73.855 | F4: =F5+F7+F10+F19+F30 -> 96.03 | G4: =G5+G7+G10+G19+G30 -> 98.055 | H4: =H5+H7+H10+H19+H30 -> 66.665 | I4: =I5+I7+I10+I19+I30 -> 7 | L4: 0.5 | M4: 용역대가 조정
A5: 가. 작업계획 수립 | D5: =SUM(D6) -> 0.75 | E5: =SUM(E6) -> 1.25 | F5: =SUM(F6) -> 1.25 | G5: =SUM(G6) -> 1.25 | H5: =SUM(H6) -> 0 | I5: =SUM(I6) -> 0
A6: 1) 작업계획 수립 | B6: 1식 | C6: 재해예방사업 당 | D6: =기준소요인력!D6*적용소요인력!$L$4 -> 0.75 | E6: =기준소요인력!E6*적용소요인력!$L$4 -> 1.25 | F6: =기준소요인력!F6*적용소요인력!$L$4 -> 1.25 | G6: =기준소요인력!G6*적용소요인력!$L$4 -> 1.25 | H6: =기준소요인력!H6*적용소요인력!$L$4 -> 0 | I6: =기준소요인력!I6*적용소요인력!$L$4 -> 0
A7: 나. 관련자료 조사 및 검토 | D7: =SUM(D8:D9) -> 1.25 | E7: =SUM(E8:E9) -> 2.4 | F7: =SUM(F8:F9) -> 1.1 | G7: =SUM(G8:G9) -> 1.5 | H7: =SUM(H8:H9) -> 1.4 | I7: =SUM(I8:I9) -> 0
A8: 1) 관련자료 조사 | B8: 1식 | C8: 재해예방사업 당 | D8: =기준소요인력!D8*적용소요인력!$L$4 -> 0.25 | E8: =기준소요인력!E8*적용소요인력!$L$4 -> 0.4 | F8: =기준소요인력!F8*적용소요인력!$L$4 -> 0.9 | G8: =기준소요인력!G8*적용소요인력!$L$4 -> 1.1 | H8: =기준소요인력!H8*적용소요인력!$L$4 -> 0.8 | I8: =기준소요인력!I8*적용소요인력!$L$4 -> 0
A9: 2) 관련계획 검토 | B9: 1식 | C9: 재해예방사업 당 | D9: =기준소요인력!D9*적용소요인력!$L$4 -> 1 | E9: =기준소요인력!E9*적용소요인력!$L$4 -> 2 | F9: =기준소요인력!F9*적용소요인력!$L$4 -> 0.2 | G9: =기준소요인력!G9*적용소요인력!$L$4 -> 0.4 | H9: =기준소요인력!H9*적용소요인력!$L$4 -> 0.6 | I9: =기준소요인력!I9*적용소요인력!$L$4 -> 0
A10: 다. 피해현황 및 원인분석 | D10: =SUM(D11:D12) -> 2.84 | E10: =SUM(E11:E12) -> 7.505 | F10: =SUM(F11:F12) -> 11.08 | G10: =SUM(G11:G12) -> 12.805 | H10: =SUM(H11:H12) -> 9.415 | I10: =SUM(I11:I12) -> 2
A11: 1) 피해현황 조사 | B11: 1식 | C11: 재해예방사업 당 | D11: =기준소요인력!D11*적용소요인력!$L$4 -> 0.04 | E11: =기준소요인력!E11*적용소요인력!$L$4 -> 0.105 | F11: =기준소요인력!F11*적용소요인력!$L$4 -> 0.18 | G11: =기준소요인력!G11*적용소요인력!$L$4 -> 0.255 | H11: =기준소요인력!H11*적용소요인력!$L$4 -> 0.165 | I11: =기준소요인력!I11*적용소요인력!$L$4 -> 0 | M11: ='1.표지'!C43 -> 금370,865,000원(금삼억칠천팔십육만오천원)
A12: 2) 피해원인 분석 | D12: =SUM(D13:D18) -> 2.8 | E12: =SUM(E13:E18) -> 7.4 | F12: =SUM(F13:F18) -> 10.9 | G12: =SUM(G13:G18) -> 12.55 | H12: =SUM(H13:H18) -> 9.25 | I12: =SUM(I13:I18) -> 2
A13: 가) 수리․수문조사 | B13: 10km2 | C13: 유역면적당 | D13: =기준소요인력!D13*적용소요인력!$L$4 -> 0.7 | E13: =기준소요인력!E13*적용소요인력!$L$4 -> 3.7 | F13: =기준소요인력!F13*적용소요인력!$L$4 -> 5.65 | G13: =기준소요인력!G13*적용소요인력!$L$4 -> 6.55 | H13: =기준소요인력!H13*적용소요인력!$L$4 -> 4.3 | I13: =기준소요인력!I13*적용소요인력!$L$4 -> 0
A14: 나) 강우분석 | B14: 10km2 | C14: 유역면적당 | D14: =기준소요인력!D14*적용소요인력!$L$4 -> 0.25 | E14: =기준소요인력!E14*적용소요인력!$L$4 -> 1.1 | F14: =기준소요인력!F14*적용소요인력!$L$4 -> 1.65 | G14: =기준소요인력!G14*적용소요인력!$L$4 -> 1.9 | H14: =기준소요인력!H14*적용소요인력!$L$4 -> 1.25 | I14: =기준소요인력!I14*적용소요인력!$L$4 -> 0
A15: 다) 유출분석 | B15: 10km2 | C15: 유역면적당 | D15: =기준소요인력!D15*적용소요인력!$L$4 -> 0.25 | E15: =기준소요인력!E15*적용소요인력!$L$4 -> 0.5 | F15: =기준소요인력!F15*적용소요인력!$L$4 -> 1 | G15: =기준소요인력!G15*적용소요인력!$L$4 -> 1.75 | H15: =기준소요인력!H15*적용소요인력!$L$4 -> 1.5 | I15: =기준소요인력!I15*적용소요인력!$L$4 -> 1
A16: 라) 홍수위산정 | B16: 1㎞ | C16: 연장당 | D16: =기준소요인력!D16*적용소요인력!$L$4 -> 0.3 | E16: =기준소요인력!E16*적용소요인력!$L$4 -> 0.55 | F16: =기준소요인력!F16*적용소요인력!$L$4 -> 1.05 | G16: =기준소요인력!G16*적용소요인력!$L$4 -> 1.3 | H16: =기준소요인력!H16*적용소요인력!$L$4 -> 1.2 | I16: =기준소요인력!I16*적용소요인력!$L$4 -> 0
A17: 마) 범람해석(2차원 시뮬레이션) | B17: 1km2 | C17: 유역면적당 | D17: =기준소요인력!D17*적용소요인력!$L$4 -> 1.05 | E17: =기준소요인력!E17*적용소요인력!$L$4 -> 1.05 | F17: =기준소요인력!F17*적용소요인력!$L$4 -> 1.05 | G17: =기준소요인력!G17*적용소요인력!$L$4 -> 0.55 | H17: =기준소요인력!H17*적용소요인력!$L$4 -> 0 | I17: =기준소요인력!I17*적용소요인력!$L$4 -> 0 | K17: 침수대응(환경부) 품셈
A18: 바) 피해원인분석 | B18: 1㎞ | C18: 연장당 | D18: =기준소요인력!D18*적용소요인력!$L$4 -> 0.25 | E18: =기준소요인력!E18*적용소요인력!$L$4 -> 0.5 | F18: =기준소요인력!F18*적용소요인력!$L$4 -> 0.5 | G18: =기준소요인력!G18*적용소요인력!$L$4 -> 0.5 | H18: =기준소요인력!H18*적용소요인력!$L$4 -> 1 | I18: =기준소요인력!I18*적용소요인력!$L$4 -> 1
A19: 라. 정비계획수립 | D19: =D20+D25 -> 35.4 | E19: =E20+E25 -> 59.7 | F19: =F20+F25 -> 77.4 | G19: =G20+G25 -> 75.9 | H19: =H20+H25 -> 51.85 | I19: =I20+I25 -> 5
A20: 1) 재해유형별 정비기본방향 | D20: =D21+D22+D23+D24 -> 20.4 | E20: =E21+E22+E23+E24 -> 35.2 | F20: =F21+F22+F23+F24 -> 47.4 | G20: =G21+G22+G23+G24 -> 46.4 | H20: =H21+H22+H23+H24 -> 25.85 | I20: =I21+I22+I23+I24 -> 2
A21: 가) 침수위험지구(하천재해) | B21: 1㎞ | C21: 연장당 | D21: =기준소요인력!D21*적용소요인력!$L$4 -> 5.8 | E21: =기준소요인력!E21*적용소요인력!$L$4 -> 10.4 | F21: =기준소요인력!F21*적용소요인력!$L$4 -> 13.8 | G21: =기준소요인력!G21*적용소요인력!$L$4 -> 13.8 | H21: =기준소요인력!H21*적용소요인력!$L$4 -> 7.95 | I21: =기준소요인력!I21*적용소요인력!$L$4 -> 0
A22: 나) 침수위험지구(내수재해) | B22: 1㎞2 | C22: 유역면적당 | D22: =기준소요인력!D22*적용소요인력!$L$4 -> 3 | E22: =기준소요인력!E22*적용소요인력!$L$4 -> 4 | F22: =기준소요인력!F22*적용소요인력!$L$4 -> 6 | G22: =기준소요인력!G22*적용소요인력!$L$4 -> 5 | H22: =기준소요인력!H22*적용소요인력!$L$4 -> 2 | I22: =기준소요인력!I22*적용소요인력!$L$4 -> 2
A23: 다) 유실위험지구 | B23: 1식 | C23: 재해예방사업 당 | D23: =기준소요인력!D23*적용소요인력!$L$4 -> 5.8 | E23: =기준소요인력!E23*적용소요인력!$L$4 -> 10.4 | F23: =기준소요인력!F23*적용소요인력!$L$4 -> 13.8 | G23: =기준소요인력!G23*적용소요인력!$L$4 -> 13.8 | H23: =기준소요인력!H23*적용소요인력!$L$4 -> 7.95 | I23: =기준소요인력!I23*적용소요인력!$L$4 -> 0
A24: 라) 고립위험지구 | B24: 1식 | C24: 재해예방사업 당 | D24: =기준소요인력!D24*적용소요인력!$L$4 -> 5.8 | E24: =기준소요인력!E24*적용소요인력!$L$4 -> 10.4 | F24: =기준소요인력!F24*적용소요인력!$L$4 -> 13.8 | G24: =기준소요인력!G24*적용소요인력!$L$4 -> 13.8 | H24: =기준소요인력!H24*적용소요인력!$L$4 -> 7.95 | I24: =기준소요인력!I24*적용소요인력!$L$4 -> 0
A25: 2) 주요시설물 정비계획 | D25: =SUM(D26:D29) -> 15 | E25: =SUM(E26:E29) -> 24.5 | F25: =SUM(F26:F29) -> 30 | G25: =SUM(G26:G29) -> 29.5 | H25: =SUM(H26:H29) -> 26 | I25: =SUM(I26:I29) -> 3
A26: 가) 하천. 소하천시설물 | B26: 1 km | C26: 하천시설 연장당 | D26: =기준소요인력!D26*적용소요인력!$L$4 -> 0.5 | E26: =기준소요인력!E26*적용소요인력!$L$4 -> 0.5 | F26: =기준소요인력!F26*적용소요인력!$L$4 -> 1 | G26: =기준소요인력!G26*적용소요인력!$L$4 -> 1.5 | H26: =기준소요인력!H26*적용소요인력!$L$4 -> 1 | I26: =기준소요인력!I26*적용소요인력!$L$4 -> 0
A27: 나) 배수펌프장 및 유수지 | B27: 1 ㎥/s,개소 | C27: 용량당 | D27: =기준소요인력!D27*적용소요인력!$L$4 -> 10.5 | E27: =기준소요인력!E27*적용소요인력!$L$4 -> 17 | F27: =기준소요인력!F27*적용소요인력!$L$4 -> 22 | G27: =기준소요인력!G27*적용소요인력!$L$4 -> 23 | H27: =기준소요인력!H27*적용소요인력!$L$4 -> 19.5 | I27: =기준소요인력!I27*적용소요인력!$L$4 -> 3
A28: 다) 우수관로 | B28: 1 km,관경 | C28: 관로 연장당 | D28: =기준소요인력!D28*적용소요인력!$L$4 -> 3 | E28: =기준소요인력!E28*적용소요인력!$L$4 -> 5.5 | F28: =기준소요인력!F28*적용소요인력!$L$4 -> 4.5 | G28: =기준소요인력!G28*적용소요인력!$L$4 -> 3 | H28: =기준소요인력!H28*적용소요인력!$L$4 -> 2 | I28: =기준소요인력!I28*적용소요인력!$L$4 -> 0
A29: 라) 우수유출저감시설 | B29: 1만㎥,개소 | C29: 용량당 | D29: =기준소요인력!D29*적용소요인력!$L$4 -> 1 | E29: =기준소요인력!E29*적용소요인력!$L$4 -> 1.5 | F29: =기준소요인력!F29*적용소요인력!$L$4 -> 2.5 | G29: =기준소요인력!G29*적용소요인력!$L$4 -> 2 | H29: =기준소요인력!H29*적용소요인력!$L$4 -> 3.5 | I29: =기준소요인력!I29*적용소요인력!$L$4 -> 0
A30: 마. 성과품 작성 | D30: =SUM(D31:D32) -> 1.8 | E30: =SUM(E31:E32) -> 3 | F30: =SUM(F31:F32) -> 5.2 | G30: =SUM(G31:G32) -> 6.6 | H30: =SUM(H31:H32) -> 4 | I30: =SUM(I31:I32) -> 0
A31: 1) 기본계획 보고서 | B31: 식 | C31: 재해예방사업 당 | D31: =기준소요인력!D31*적용소요인력!$L$4 -> 0.7 | E31: =기준소요인력!E31*적용소요인력!$L$4 -> 1.3 | F31: =기준소요인력!F31*적용소요인력!$L$4 -> 2.5 | G31: =기준소요인력!G31*적용소요인력!$L$4 -> 3.6 | H31: =기준소요인력!H31*적용소요인력!$L$4 -> 1.8 | I31: =기준소요인력!I31*적용소요인력!$L$4 -> 0
A32: 2) 중간 및 최종 보고자료 작성 (PPT) | B32: 식 | C32: 재해예방사업 당 | D32: =기준소요인력!D32*적용소요인력!$L$4 -> 1.1 | E32: =기준소요인력!E32*적용소요인력!$L$4 -> 1.7 | F32: =기준소요인력!F32*적용소요인력!$L$4 -> 2.7 | G32: =기준소요인력!G32*적용소요인력!$L$4 -> 3 | H32: =기준소요인력!H32*적용소요인력!$L$4 -> 2.2 | I32: =기준소요인력!I32*적용소요인력!$L$4 -> 0

Sheet 기준소요인력
A1: ■ 침수방지대책 기본계획 (기준소요인력, 방재분야 표준품셈(행정안전부고시 제2024-83호, 2024.10.28.))
A2: 구 분 | B2: 원단위 기준 | C2: 적용기준 | D2: 소요인력 (인·일) | J2: 비고 | K2: 비고
D3: 기술사 | E3: 특급기술자 | F3: 고급기술자 | G3: 중급기술자 | H3: 초급기술자 | I3: 중급숙련자
A4: 침수방지대책 기본계획 직접인건비 | D4: =D5+D7+D10+D19+D30 -> 84.08 | E4: =E5+E7+E10+E19+E30 -> 147.71 | F4: =F5+F7+F10+F19+F30 -> 192.06 | G4: =G5+G7+G10+G19+G30 -> 196.11 | H4: =H5+H7+H10+H19+H30 -> 133.33 | I4: =I5+I7+I10+I19+I30 -> 14
A5: 가. 작업계획 수립 | D5: =SUM(D6) -> 1.5 | E5: =SUM(E6) -> 2.5 | F5: =SUM(F6) -> 2.5 | G5: =SUM(G6) -> 2.5 | H5: =SUM(H6) -> 0 | I5: =SUM(I6) -> 0
A6: 1) 작업계획 수립 | B6: 1식 | C6: 재해예방사업 당 | D6: 1.5 | E6: 2.5 | F6: 2.5 | G6: 2.5 | H6: 0 | I6: 0
A7: 나. 관련자료 조사 및 검토 | D7: =SUM(D8:D9) -> 2.5 | E7: =SUM(E8:E9) -> 4.8 | F7: =SUM(F8:F9) -> 2.2 | G7: =SUM(G8:G9) -> 3 | H7: =SUM(H8:H9) -> 2.8 | I7: =SUM(I8:I9) -> 0
A8: 1) 관련자료 조사 | B8: 1식 | C8: 재해예방사업 당 | D8: 0.5 | E8: 0.8 | F8: 1.8 | G8: 2.2 | H8: 1.6 | I8: 0
A9: 2) 관련계획 검토 | B9: 1식 | C9: 재해예방사업 당 | D9: 2 | E9: 4 | F9: 0.4 | G9: 0.8 | H9: 1.2 | I9: 0
A10: 다. 피해현황 및 원인분석 | D10: =SUM(D11:D12) -> 5.68 | E10: =SUM(E11:E12) -> 15.01 | F10: =SUM(F11:F12) -> 22.16 | G10: =SUM(G11:G12) -> 25.61 | H10: =SUM(H11:H12) -> 18.83 | I10: =SUM(I11:I12) -> 4
A11: 1) 피해현황 조사 | B11: 1식 | C11: 재해예방사업 당 | D11: 0.08 | E11: 0.21 | F11: 0.36 | G11: 0.51 | H11: 0.33 | I11: 0
A12: 2) 피해원인 분석 | D12: =SUM(D13:D18) -> 5.6 | E12: =SUM(E13:E18) -> 14.8 | F12: =SUM(F13:F18) -> 21.8 | G12: =SUM(G13:G18) -> 25.1 | H12: =SUM(H13:H18) -> 18.5 | I12: =SUM(I13:I18) -> 4
A13: 가) 수리․수문조사 | B13: 10km2 | C13: 유역면적당 | D13: 1.4 | E13: 7.4 | F13: 11.3 | G13: 13.1 | H13: 8.6 | I13: 0
A14: 나) 강우분석 | B14: 10km2 | C14: 유역면적당 | D14: 0.5 | E14: 2.2 | F14: 3.3 | G14: 3.8 | H14: 2.5 | I14: 0
A15: 다) 유출분석 | B15: 10km2 | C15: 유역면적당 | D15: 0.5 | E15: 1 | F15: 2 | G15: 3.5 | H15: 3 | I15: 2
A16: 라) 홍수위산정 | B16: 1㎞ | C16: 연장당 | D16: 0.6 | E16: 1.1 | F16: 2.1 | G16: 2.6 | H16: 2.4 | I16: 0
A17: 마) 범람해석(2차원 시뮬레이션) | B17: 1km2 | C17: 유역면적당 | D17: 2.1 | E17: 2.1 | F17: 2.1 | G17: 1.1 | H17: 0 | I17: 0 | K17: 침수대응(환경부) 품셈
A18: 바) 피해원인분석 | B18: 1㎞ | C18: 연장당 | D18: 0.5 | E18: 1 | F18: 1 | G18: 1 | H18: 2 | I18: 2
A19: 라. 정비계획수립 | D19: =D20+D25 -> 70.8 | E19: =E20+E25 -> 119.4 | F19: =F20+F25 -> 154.8 | G19: =G20+G25 -> 151.8 | H19: =H20+H25 -> 103.7 | I19: =I20+I25 -> 10
A20: 1) 재해유형별 정비기본방향 | D20: =D21+D22+D23+D24 -> 40.8 | E20: =E21+E22+E23+E24 -> 70.4 | F20: =F21+F22+F23+F24 -> 94.8 | G20: =G21+G22+G23+G24 -> 92.8 | H20: =H21+H22+H23+H24 -> 51.7 | I20: =I21+I22+I23+I24 -> 4
A21: 가) 침수위험지구(하천재해) | B21: 1㎞ | C21: 연장당 | D21: 11.6 | E21: 20.8 | F21: 27.6 | G21: 27.6 | H21: 15.9 | I21: 0
A22: 나) 침수위험지구(내수재해) | B22: 1㎞2 | C22: 유역면적당 | D22: 6 | E22: 8 | F22: 12 | G22: 10 | H22: 4 | I22: 4
A23: 다) 유실위험지구 | B23: 1식 | C23: 재해예방사업 당 | D23: 11.6 | E23: 20.8 | F23: 27.6 | G23: 27.6 | H23: 15.9 | I23: 0
A24: 라) 고립위험지구 | B24: 1식 | C24: 재해예방사업 당 | D24: 11.6 | E24: 20.8 | F24: 27.6 | G24: 27.6 | H24: 15.9 | I24: 0
A25: 2) 주요시설물 정비계획 | D25: =SUM(D26:D29) -> 30 | E25: =SUM(E26:E29) -> 49 | F25: =SUM(F26:F29) -> 60 | G25: =SUM(G26:G29) -> 59 | H25: =SUM(H26:H29) -> 52 | I25: =SUM(I26:I29) -> 6
A26: 가) 하천. 소하천시설물 | B26: 1 km | C26: 하천시설 연장당 | D26: 1 | E26: 1 | F26: 2 | G26: 3 | H26: 2 | I26: 0
A27: 나) 배수펌프장 및 유수지 | B27: 1 ㎥/s,개소 | C27: 용량당 | D27: 21 | E27: 34 | F27: 44 | G27: 46 | H27: 39 | I27: 6
A28: 다) 우수관로 | B28: 1 km,관경 | C28: 관로 연장당 | D28: 6 | E28: 11 | F28: 9 | G28: 6 | H28: 4 | I28: 0
A29: 라) 우수유출저감시설 | B29: 1만㎥,개소 | C29: 용량당 | D29: 2 | E29: 3 | F29: 5 | G29: 4 | H29: 7 | I29: 0
A30: 마. 성과품 작성 | D30: =SUM(D31:D32) -> 3.6 | E30: =SUM(E31:E32) -> 6 | F30: =SUM(F31:F32) -> 10.4 | G30: =SUM(G31:G32) -> 13.2 | H30: =SUM(H31:H32) -> 8 | I30: =SUM(I31:I32) -> 0
A31: 1) 기본계획 보고서 | B31: 식 | C31: 재해예방사업 당 | D31: 1.4 | E31: 2.6 | F31: 5 | G31: 7.2 | H31: 3.6 | I31: 0
A32: 2) 중간 및 최종 보고자료 작성 (PPT) | B32: 식 | C32: 재해예방사업 당 | D32: 2.2 | E32: 3.4 | F32: 5.4 | G32: 6 | H32: 4.4 | I32: 0

Sheet 산근1 직접경비
A1: ▩ 복사 및 인쇄비
A2: 구 분 | B2: 단 위 | D2: 수 량 | F2: 단 가(원) | H2: 금 액(원)
A3: 1. 보고서 | B3: 10부 적용
A4: 요약보고서 | B4: page | D4: =50*10 -> 500 | F4: 100 | H4: =D4*F4 -> 50000
A5: 보고서(초안, 중간, 최종) | B5: page | D5: =200*10*3 -> 6000 | F5: =F4 -> 100 | H5: =D5*F5 -> 600000
A6: 보고서 부록 | B6: page | D6: =100*10 -> 1000 | F6: =F5 -> 100 | H6: =D6*F6 -> 100000
A7: 표 지 및 제 본 | B7: 부 | D7: =5+15+10 -> 30 | F7: 5000 | H7: =D7*F7 -> 150000
A8: 합 계 | B8: 식 | D8: 1 | H8: =SUM(H4:I7) -> 900000

Sheet 2. 하천기본계획비
B1: 공 종 | E1: 규 격 | F1: 수량 (보정) | G1: 단위 | H1: 총 액 | J1: 재 료 비 | L1: 노 무 비 | N1: 경 비 | P1: 비고
H2: 단가 | I2: 금 액 | J2: 단가 | K2: 금 액 | L2: 단가 | M2: 금 액 | N2: 단가 | O2: 금 액
B3: <제2-0호표> 하천기본계획(하천품셈)
B4: ○ 직접인건비 | I4: =K4+M4+O4 -> 99571741 | K4: =SUM(K5,K39,K57) -> 0 | M4: =SUM(M5,M39,M57) -> 99571741 | O4: =SUM(O5,O39,O57) -> 0
B5: ='하천기본계획(기준소요인력)'!A68 -> Ⅰ. 하천기본계획 | I5: =K5+M5+O5 -> 78484766 | K5: =SUM(K6,K8,K17,K29,K34,K37) -> 0 | M5: =SUM(M6,M8,M17,M29,M34,M37) -> 78484766 | O5: =SUM(O6,O8,O17,O29,O34,O37) -> 0
B6: ='하천기본계획(기준소요인력)'!A8 -> 1. 개요 | I6: =K6+M6+O6 -> 390573 | M6: =M7 -> 390573
C7: ='하천기본계획(기준소요인력)'!B9 -> 가. 계획 목적, 범위, 기본원칙, 현황도 | F7: ='하천기본계획(기준소요인력)'!Q9 -> 2.7 | G7: ='하천기본계획(기준소요인력)'!G70 -> 1㎞ | I7: =K7+M7+O7 -> 390573 | L7: ='일위대가2 (하천기본계획)'!H11 -> 144657 | M7: =INT(L7*F7) -> 390573 | P7: 산근2-1
B8: ='하천기본계획(기준소요인력)'!A10 -> 2. 유역 및 하천현황 | I8: =K8+M8+O8 -> 4546083 | K8: =K9 -> 0 | M8: =SUM(M9,M10) -> 4546083 | O8: =SUM(O9,O10) -> 0
C9: ='하천기본계획(기준소요인력)'!B11 -> 가. 유역현황 | F9: ='하천기본계획(기준소요인력)'!Q11 -> 1.34 | G9: ='하천기본계획(기준소요인력)'!G72 -> 10㎢ | I9: =K9+M9+O9 -> 315515 | L9: ='일위대가2 (하천기본계획)'!E17 -> 235459 | M9: =INT(L9*F9) -> 315515 | P9: 산근2-2
C10: ='하천기본계획(기준소요인력)'!B12 -> 나. 하천특성 | I10: =K10+M10+O10 -> 4230568 | K10: =SUM(K11:K16) -> 0 | M10: =SUM(M11:M16) -> 4230568 | O10: =SUM(O11:O16) -> 0
D11: ='하천기본계획(기준소요인력)'!C13 -> 1) 하도특성 조사 | F11: ='하천기본계획(기준소요인력)'!Q13 -> 2.7 | G11: ='하천기본계획(기준소요인력)'!G74 -> 1㎞ | I11: =K11+M11+O11 -> 638887 | L11: ='일위대가2 (하천기본계획)'!H27 -> 236625 | M11: =INT(L11*F11) -> 638887 | P11: 산근2-3
D12: ='하천기본계획(기준소요인력)'!C14 -> 2) 하천의 치수특성 조사 | F12: ='하천기본계획(기준소요인력)'!Q14 -> 1.34 | G12: ='하천기본계획(기준소요인력)'!G75 -> 10㎢ | I12: =K12+M12+O12 -> 500937 | L12: ='일위대가2 (하천기본계획)'!H35 -> 373834 | M12: =INT(L12*F12) -> 500937 | P12: 산근2-4
D13: ='하천기본계획(기준소요인력)'!C15 -> 3) 하천의 이수특성 조사 | F13: ='하천기본계획(기준소요인력)'!Q15 -> 1.34 | G13: ='하천기본계획(기준소요인력)'!G76 -> 10㎢ | I13: =K13+M13+O13 -> 440801 | K13: =K14+K15 -> 0 | L13: ='일위대가2 (하천기본계획)'!H43 -> 328956 | M13: =INT(L13*F13) -> 440801 | O13: =O14+O15 -> 0 | P13: 산근2-5
D14: ='하천기본계획(기준소요인력)'!C16 -> 4) 하천환경 특성 조사 | F14: ='하천기본계획(기준소요인력)'!Q16 -> 1.34 | G14: ='하천기본계획(기준소요인력)'!G77 -> 10㎢ | I14: =K14+M14+O14 -> 595096 | L14: ='일위대가2 (하천기본계획)'!H51 -> 444102 | M14: =INT(L14*F14) -> 595096 | P14: 산근2-6
D15: ='하천기본계획(기준소요인력)'!C17 -> 5) 하천이용 현황 조사 | F15: ='하천기본계획(기준소요인력)'!Q17 -> 1.34 | G15: ='하천기본계획(기준소요인력)'!G78 -> 10㎢ | I15: =K15+M15+O15 -> 595592 | K15: =SUM(K16:K21) -> 0 | L15: ='일위대가2 (하천기본계획)'!H60 -> 444472 | M15: =INT(L15*F15) -> 595592 | O15: =SUM(O16:O21) -> 0 | P15: 산근2-7
D16: ='하천기본계획(기준소요인력)'!C18 -> 6) 관련계획 검토 및 조정 | F16: ='하천기본계획(기준소요인력)'!Q18 -> 2.7 | G16: ='하천기본계획(기준소요인력)'!G79 -> 1㎞ | I16: =K16+M16+O16 -> 1459255 | L16: ='일위대가2 (하천기본계획)'!H68 -> 540465 | M16: =INT(L16*F16) -> 1459255 | P16: 산근2-8
B17: ='하천기본계획(기준소요인력)'!A19 -> 3. 종합검토 | I17: =K17+M17+O17 -> 29112499 | K17: =SUM(K18,K24,K28) -> 0 | M17: =SUM(M18,M24,M28) -> 29112499 | O17: =SUM(O18,O24,O28) -> 0
C18: ='하천기본계획(기준소요인력)'!B20 -> 가. 치수특성분석 | I18: =K18+M18+O18 -> 24282586 | K18: =SUM(K19:K23) -> 0 | M18: =SUM(M19:M23) -> 24282586 | O18: =SUM(O19:O23) -> 0
D19: ='하천기본계획(기준소요인력)'!C21 -> 1) 홍수량 | F19: ='하천기본계획(기준소요인력)'!Q21 -> 1.34 | G19: ='하천기본계획(기준소요인력)'!G82 -> 10㎢ | I19: =K19+M19+O19 -> 540486 | L19: ='일위대가2 (하천기본계획)'!H76 -> 403348 | M19: =INT(L19*F19) -> 540486 | P19: 산근2-9
D20: ='하천기본계획(기준소요인력)'!C22 -> 2) 홍수위 | F20: ='하천기본계획(기준소요인력)'!Q22 -> 2.7 | G20: ='하천기본계획(기준소요인력)'!G83 -> 1㎞ | I20: =K20+M20+O20 -> 7226099 | L20: ='일위대가2 (하천기본계획)'!H85 -> 2676333 | M20: =INT(L20*F20) -> 7226099 | P20: 산근2-10
D21: ='하천기본계획(기준소요인력)'!C23 -> 3) 계획하폭 | F21: ='하천기본계획(기준소요인력)'!Q23 -> 2.7 | G21: ='하천기본계획(기준소요인력)'!G84 -> 1㎞ | I21: =K21+M21+O21 -> 2241661 | L21: ='일위대가2 (하천기본계획)'!H93 -> 830245 | M21: =INT(L21*F21) -> 2241661 | P21: 산근2-11
D22: ='하천기본계획(기준소요인력)'!C24 -> 4) 하상변동 | F22: ='하천기본계획(기준소요인력)'!Q24 -> 2.7 | G22: ='하천기본계획(기준소요인력)'!G85 -> 1㎞ | I22: =K22+M22+O22 -> 5366730 | L22: ='일위대가2 (하천기본계획)'!H101 -> 1987678 | M22: =INT(L22*F22) -> 5366730 | P22: 산근2-12
D23: ='하천기본계획(기준소요인력)'!C25 -> 5) 시설물 능력검토 | F23: ='하천기본계획(기준소요인력)'!Q25 -> 2.7 | G23: ='하천기본계획(기준소요인력)'!G86 -> 1㎞ | I23: =K23+M23+O23 -> 8907610 | L23: ='일위대가2 (하천기본계획)'!H110 -> 3299115 | M23: =INT(L23*F23) -> 8907610 | P23: 산근2-13
C24: ='하천기본계획(기준소요인력)'!B87 -> 나. 이수특성분석 | I24: =K24+M24+O24 -> 3980691 | M24: =SUM(M25:M27) -> 3980691
D25: ='하천기본계획(기준소요인력)'!C88 -> 1) 수자원 부존량 산정 | F25: ='하천기본계획(기준소요인력)'!Q27 -> 1.34 | G25: ='하천기본계획(기준소요인력)'!G88 -> 10㎢ | I25: =K25+M25+O25 -> 1377845 | L25: ='일위대가2 (하천기본계획)'!H118 -> 1028243 | M25: =INT(L25*F25) -> 1377845 | P25: 산근2-14
D26: ='하천기본계획(기준소요인력)'!C89 -> 2) 하천관리유량 산정 | F26: ='하천기본계획(기준소요인력)'!Q28 -> 2.7 | G26: ='하천기본계획(기준소요인력)'!G89 -> 1㎞ | I26: =K26+M26+O26 -> 924660 | L26: ='일위대가2 (하천기본계획)'!H126 -> 342467 | M26: =INT(L26*F26) -> 924660 | P26: 산근2-15
D27: ='하천기본계획(기준소요인력)'!C90 -> 3) 하천수 사용시설물 수요·공급량 추정 | F27: ='하천기본계획(기준소요인력)'!Q29 -> 1.34 | G27: ='하천기본계획(기준소요인력)'!G90 -> 10㎢ | I27: =K27+M27+O27 -> 1678186 | L27: ='일위대가2 (하천기본계획)'!H135 -> 1252378 | M27: =INT(L27*F27) -> 1678186 | P27: 산근2-16
C28: ='하천기본계획(기준소요인력)'!B91 -> 다. 하천환경특성 분석 | F28: ='하천기본계획(기준소요인력)'!Q30 -> 2.7 | G28: ='하천기본계획(기준소요인력)'!G91 -> 1㎞ | I28: =K28+M28+O28 -> 849222 | L28: ='일위대가2 (하천기본계획)'!H143 -> 314527 | M28: =INT(L28*F28) -> 849222 | P28: 산근2-17
B29: ='하천기본계획(기준소요인력)'!A92 -> 4. 하천 정비 및 관리계획 | I29: =K29+M29+O29 -> 32121199 | M29: =SUM(M30:M33) -> 32121199
C30: ='하천기본계획(기준소요인력)'!B93 -> 가. 치수 종합계획 | F30: ='하천기본계획(기준소요인력)'!Q32 -> 2.7 | G30: ='하천기본계획(기준소요인력)'!G93 -> 1㎞ | I30: =K30+M30+O30 -> 13421964 | L30: ='일위대가2 (하천기본계획)'!H151 -> 4971098 | M30: =INT(L30*F30) -> 13421964 | P30: 산근2-18
C31: ='하천기본계획(기준소요인력)'!B94 -> 나. 이수 종합계획 | F31: ='하천기본계획(기준소요인력)'!Q33 -> 1.34 | G31: ='하천기본계획(기준소요인력)'!G94 -> 10㎢ | I31: =K31+M31+O31 -> 6485334 | L31: ='일위대가2 (하천기본계획)'!H160 -> 4839802 | M31: =INT(L31*F31) -> 6485334 | P31: 산근2-19
C32: ='하천기본계획(기준소요인력)'!B95 -> 다. 하천환경 종합계획 | F32: ='하천기본계획(기준소요인력)'!Q34 -> 1.34 | G32: ='하천기본계획(기준소요인력)'!G95 -> 10㎢ | I32: =K32+M32+O32 -> 6232092 | L32: ='일위대가2 (하천기본계획)'!H168 -> 4650815 | M32: =INT(L32*F32) -> 6232092 | P32: 산근2-20
C33: ='하천기본계획(기준소요인력)'!B96 -> 라. 하천공간 관리계획 | F33: ='하천기본계획(기준소요인력)'!Q35 -> 2.7 | G33: ='하천기본계획(기준소요인력)'!G96 -> 1㎞ | I33: =K33+M33+O33 -> 5981809 | L33: ='일위대가2 (하천기본계획)'!H176 -> 2215485 | M33: =INT(L33*F33) -> 5981809 | P33: 산근2-21
B34: ='하천기본계획(기준소요인력)'!A97 -> 5. 시행계획 및 기대효과 | I34: =K34+M34+O34 -> 10076447 | K34: =SUM(K35:K36) -> 0 | M34: =SUM(M35:M36) -> 10076447 | O34: =SUM(O35:O36) -> 0
C35: ='하천기본계획(기준소요인력)'!B98 -> 가. 경제성 분석 및 소요재원 산정 | F35: ='하천기본계획(기준소요인력)'!Q37 -> 2.7 | G35: ='하천기본계획(기준소요인력)'!G98 -> 1㎞ | I35: =K35+M35+O35 -> 6552740 | L35: ='일위대가2 (하천기본계획)'!H185 -> 2426941 | M35: =INT(L35*F35) -> 6552740 | P35: 산근2-22
C36: ='하천기본계획(기준소요인력)'!B99 -> 나. 투자우선순위, 결론 및 기대효과 | F36: ='하천기본계획(기준소요인력)'!Q38 -> 2.7 | G36: ='하천기본계획(기준소요인력)'!G99 -> 1㎞ | I36: =K36+M36+O36 -> 3523707 | L36: ='일위대가2 (하천기본계획)'!H193 -> 1305077 | M36: =INT(L36*F36) -> 3523707 | P36: 산근2-23
B37: ='하천기본계획(기준소요인력)'!A100 -> 6. 보고서 작성 | I37: =K37+M37+O37 -> 2237965 | K37: =SUM(K38) -> 0 | M37: =SUM(M38) -> 2237965 | O37: =SUM(O38) -> 0
C38: ='하천기본계획(기준소요인력)'!B101 -> 가. 보고서 작성 | F38: ='하천기본계획(기준소요인력)'!Q40 -> 2.7 | G38: ='하천기본계획(기준소요인력)'!G101 -> 1㎞ | I38: =K38+M38+O38 -> 2237965 | L38: ='일위대가2 (하천기본계획)'!H201 -> 828876 | M38: =INT(L38*F38) -> 2237965 | P38: 산근2-24
B39: ='하천기본계획(기준소요인력)'!A102 -> Ⅱ. 하천시설관리대장 | I39: =K39+M39+O39 -> 15000916 | K39: =SUM(K40,K48) -> 0 | M39: =SUM(M40,M48) -> 15000916 | O39: =SUM(O40,O48) -> 0
B40: ='하천기본계획(기준소요인력)'!A103 -> 1. 하천시설대장 | I40: =K40+M40+O40 -> 4542204 | K40: =SUM(K41,K42) -> 0 | M40: =SUM(M41,M42) -> 4542204 | O40: =SUM(O41,O42) -> 0
...

Sheet 산근2-0(하천기본계획-수량)
A1: [유역 현황] | Z1: 병영천 하천기본계획 도시화율
A2: 유역구분 | F2: 발주 년도 | G2: 발주 현황 | H2: 구분 | I2: 수립대상 하천
A3: 대분류 | B3: 번호 | C3: 중권역코드 | D3: 중권역명 | E3: 관리청 | I3: 하천 개소수 | J3: 환산계수 | M3: 보정계수 | X3: 평균하폭 | Y3: 25
J4: 하천 연장 (①) | K4: 하천시설 관리대장 연장(②) | L4: 면적 (③) | M4: 토지이용특성(㉮) | P4: 하천기본계획 경과특성(㉯) | R4: 시설관리대장 경과특성(㉰) | X4: 둑마루폭 | Y4: 5
M5: 시가지 면적(㎢) | N5: 시가화 비율(%) | O5: 계수 | X5: 제내지 | Y5: 5
A6: 운곡천 | D6: 금강천 | E6: 전라남도 | F6: 2012 | G6: 발주 예정 | H6: 지방 | I6: ='산근2-0(하천기본계획-수량)'!P17 -> 1 | J6: =ROUND(M17^0.85,2) -> 2.7 | K6: =ROUND(M17^0.85,2) -> 2.7 | L6: =ROUND((V15/10)^(0.7),2) -> 1.68 | M6: 0 | N6: 3.84 | O6: =IF(N6<=15,0.8,IF(N6<=25,0.9,IF(N6<=35,1,IF(N6<=100,1.2)))) -> 0.8 | P6: =IF(I15<5,0.6,IF(I15<10,0.8,1)) -> 1 | R6: =IF(I15<5,0.6,IF(I15<10,0.8,1)) -> 1
A10: [대상하천 현황]
A11: 권역 | D11: 유 역 면 적 (㎢) | G11: 기수립 경과년수에 따른 연장요율을 고려한 수립연장 (10년이상=1, 5~10년=0.8, 5년이하=0.5) | N11: 하천현황 | R11: 하 천 연 장 | V11: 유 역 면 적 (㎢)
R12: 계 (km) | S12: 하천기본계획
A13: 대권역 | B13: 중권역 | C13: 치수권역 | D13: 하천유역 면적 | E13: 중권역 면적 | F13: 수립면적 산 정 *중복 고려 | G13: 경과년수에 따른 요율적용 | K13: 요율을 고려한 수립연장(km) | N13: 하천명 | O13: 하 천 코 드 번 호 | P13: 하 천 개소수 | Q13: 하 천 등 급 | S13: 수립구간 | U13: 미수립 구간 (km)
G14: 기수립 년도 | H14: 발주 년도 | I14: 경과 년도 | J14: 요율 | K14: 기수립 연장 | L14: 미수립 연장 | M14: 금회 수립연장 | S14: 고시일 | T14: 연장(km) | X14: 시가지 면적 | Y14: 시가화비율
A15: 섬진강 | B15: 화순천 | D15: 20.95 | F15: =D15 -> 20.95 | G15: 2012 | H15: 2024 | I15: 12 | J15: =IF(I15<5,0.6,IF(I15<10,0.8,1)) -> 1 | K15: 3.22 | L15: =5.67-3.22 -> 2.45 | M15: 3.22 | N15: 운곡천 | O15: 5120300 | P15: 1 | Q15: 지방 | R15: =K15+L15 -> 5.67 | S15: 2012 | T15: =K15 -> 3.22 | U15: =L15 -> 2.45 | V15: =D15 -> 20.95 | X15: 0 | Y15: 0
A17: 계 | F17: =SUM(F15:F16) -> 20.95 | M17: =SUM(M15:M16) -> 3.22 | P17: =SUM(P15:P16) -> 1 | R17: =SUM(R15:R16) -> 5.67
A19: [측량]
A20: 구분 | C20: 연장(km) | E20: 면적(㎡)
E21: ㎡ | G21: ㎢
A22: 기본계힉 | C22: 0 | E22: =C22*(Y3+Y4*2+Y5*2)*1000 -> 0 | G22: =ROUND(E22/1000000,3) -> 0
A23: 실시설계 | C23: ='산근2-0 (현장조사물량산출)'!Q4 -> 100 | E23: ='산근2-0 (현장조사물량산출)'!V4 -> 10500 | G23: =ROUND(E23/1000000,3) -> 0.011

Sheet 일위대가2 (하천기본계획)
A1: 공 종 | B1: 규 격 | C1: 단 위 | D1: 수 량 | E1: 계 | G1: 노 무 비 | I1: 재 료 비 | K1: 경 비 | M1: 비 고 | O1: 적용요율 | P1: 산근경비율 | Q1: 기술료율
E2: 단 가 | F2: 금 액 | G2: 단 가 | H2: 금 액 | I2: 단 가 | J2: 금 액 | K2: 단 가 | L2: 금 액 | O2: 1 | P2: 110 | Q2: 20
A3: 하천기본계획 (하천 표준품셈, 산업통상자원부 공표 ,2022.01.05)
A4: 산근 2-1 계획 목적, 범위, 기본원칙, 현황도(1km)
A5: 기술사 | C5: 인 | D5: ='하천기본계획(기준소요인력)'!$H$70 -> 0.1 | E5: =SUM(G5,I5,K5) -> 467217 | F5: =SUM(H5,J5,L5) -> 46721 | G5: ='산근3 노임'!$B$5 -> 467217 | H5: =TRUNC(D5*G5,0) -> 46721
A6: 특급기술인 | C6: 인 | D6: ='하천기본계획(기준소요인력)'!$I$70 -> 0.1 | E6: =SUM(G6,I6,K6) -> 373353 | F6: =SUM(H6,J6,L6) -> 37335 | G6: ='산근3 노임'!$B$6 -> 373353 | H6: =TRUNC(D6*G6,0) -> 37335
A7: 고급기술인 | C7: 인 | D7: ='하천기본계획(기준소요인력)'!$J$70 -> 0.1 | E7: =SUM(G7,I7,K7) -> 310884 | F7: =SUM(H7,J7,L7) -> 31088 | G7: ='산근3 노임'!$B$7 -> 310884 | H7: =TRUNC(D7*G7,0) -> 31088
A8: 중급기술인 | C8: 인 | D8: ='하천기본계획(기준소요인력)'!$K$70 -> 0.1 | E8: =SUM(G8,I8,K8) -> 295138 | F8: =SUM(H8,J8,L8) -> 29513 | G8: ='산근3 노임'!$B$8 -> 295138 | H8: =TRUNC(D8*G8,0) -> 29513
A9: 초급기술인 | C9: 인 | D9: ='하천기본계획(기준소요인력)'!$L$70 -> 0 | E9: =SUM(G9,I9,K9) -> 235459 | F9: =SUM(H9,J9,L9) -> 0 | G9: ='산근3 노임'!$B$9 -> 235459 | H9: =TRUNC(D9*G9,0) -> 0
A10: 계 | F10: =SUM(H10,J10,L10) -> 144657 | H10: =SUM(H5:H9) -> 144657 | J10: =SUM(J5:J9) -> 0 | L10: =SUM(L5:L9) -> 0
A11: =$O$2 -> 1 | F11: =INT($A11*F10) -> 144657 | H11: =INT($A11*H10) -> 144657 | J11: =INT($A11*J10) -> 0 | L11: =INT($A11*L10) -> 0
A12: 산근 2-2 유역현황(10㎢)
A13: 기술사 | C13: 인 | D13: ='하천기본계획(기준소요인력)'!$H$72 -> 0.3 | E13: =SUM(G13,I13,K13) -> 467217 | F13: =SUM(H13,J13,L13) -> 140165 | G13: ='산근3 노임'!$B$5 -> 467217 | H13: =TRUNC(D13*G13,0) -> 140165
A14: 특급기술인 | C14: 인 | D14: ='하천기본계획(기준소요인력)'!$I$72 -> 0.5 | E14: =SUM(G14,I14,K14) -> 373353 | F14: =SUM(H14,J14,L14) -> 186676 | G14: ='산근3 노임'!$B$6 -> 373353 | H14: =TRUNC(D14*G14,0) -> 186676
A15: 고급기술인 | C15: 인 | D15: ='하천기본계획(기준소요인력)'!$J$72 -> 0.5 | E15: =SUM(G15,I15,K15) -> 310884 | F15: =SUM(H15,J15,L15) -> 155442 | G15: ='산근3 노임'!$B$7 -> 310884 | H15: =TRUNC(D15*G15,0) -> 155442
A16: 중급기술인 | C16: 인 | D16: ='하천기본계획(기준소요인력)'!$K$72 -> 0.6 | E16: =SUM(G16,I16,K16) -> 295138 | F16: =SUM(H16,J16,L16) -> 177082 | G16: ='산근3 노임'!$B$8 -> 295138 | H16: =TRUNC(D16*G16,0) -> 177082
A17: 초급기술인 | C17: 인 | D17: ='하천기본계획(기준소요인력)'!$L$72 -> 0.7 | E17: =SUM(G17,I17,K17) -> 235459 | F17: =SUM(H17,J17,L17) -> 164821 | G17: ='산근3 노임'!$B$9 -> 235459 | H17: =TRUNC(D17*G17,0) -> 164821
A18: 계 | F18: =SUM(H18,J18,L18) -> 824186 | H18: =SUM(H13:H17) -> 824186
A19: =$O$2 -> 1 | F19: =INT($A19*F18) -> 824186 | H19: =INT($A19*H18) -> 824186
A20: 산근 2-3 하도특성 조사(1㎞)
A21: 기술사 | C21: 인 | D21: ='하천기본계획(기준소요인력)'!$H$74 -> 0.1 | E21: =SUM(G21,I21,K21) -> 467217 | F21: =SUM(H21,J21,L21) -> 46721 | G21: ='산근3 노임'!$B$5 -> 467217 | H21: =TRUNC(D21*G21,0) -> 46721
A22: 특급기술인 | C22: 인 | D22: ='하천기본계획(기준소요인력)'!$I$74 -> 0.2 | E22: =SUM(G22,I22,K22) -> 373353 | F22: =SUM(H22,J22,L22) -> 74670 | G22: ='산근3 노임'!$B$6 -> 373353 | H22: =TRUNC(D22*G22,0) -> 74670
A23: 고급기술인 | C23: 인 | D23: ='하천기본계획(기준소요인력)'!$J$74 -> 0.2 | E23: =SUM(G23,I23,K23) -> 310884 | F23: =SUM(H23,J23,L23) -> 62176 | G23: ='산근3 노임'!$B$7 -> 310884 | H23: =TRUNC(D23*G23,0) -> 62176
A24: 중급기술인 | C24: 인 | D24: ='하천기본계획(기준소요인력)'!$K$74 -> 0.1 | E24: =SUM(G24,I24,K24) -> 295138 | F24: =SUM(H24,J24,L24) -> 29513 | G24: ='산근3 노임'!$B$8 -> 295138 | H24: =TRUNC(D24*G24,0) -> 29513
A25: 초급기술인 | C25: 인 | D25: ='하천기본계획(기준소요인력)'!$L$74 -> 0.1 | E25: =SUM(G25,I25,K25) -> 235459 | F25: =SUM(H25,J25,L25) -> 23545 | G25: ='산근3 노임'!$B$9 -> 235459 | H25: =TRUNC(D25*G25,0) -> 23545
A26: 계 | F26: =SUM(H26,J26,L26) -> 236625 | H26: =SUM(H21:H25) -> 236625
A27: =$O$2 -> 1 | F27: =INT($A27*F26) -> 236625 | H27: =INT($A27*H26) -> 236625
A28: 산근 2-4 하천의 치수특성 조사(10㎢)
A29: 기술사 | C29: 인 | D29: ='하천기본계획(기준소요인력)'!$H$75 -> 0.1 | E29: =SUM(G29,I29,K29) -> 467217 | F29: =SUM(H29,J29,L29) -> 46721 | G29: ='산근3 노임'!$B$5 -> 467217 | H29: =TRUNC(D29*G29,0) -> 46721
A30: 특급기술인 | C30: 인 | D30: ='하천기본계획(기준소요인력)'!$I$75 -> 0.2 | E30: =SUM(G30,I30,K30) -> 373353 | F30: =SUM(H30,J30,L30) -> 74670 | G30: ='산근3 노임'!$B$6 -> 373353 | H30: =TRUNC(D30*G30,0) -> 74670
A31: 고급기술인 | C31: 인 | D31: ='하천기본계획(기준소요인력)'!$J$75 -> 0.3 | E31: =SUM(G31,I31,K31) -> 310884 | F31: =SUM(H31,J31,L31) -> 93265 | G31: ='산근3 노임'!$B$7 -> 310884 | H31: =TRUNC(D31*G31,0) -> 93265
A32: 중급기술인 | C32: 인 | D32: ='하천기본계획(기준소요인력)'!$K$75 -> 0.3 | E32: =SUM(G32,I32,K32) -> 295138 | F32: =SUM(H32,J32,L32) -> 88541 | G32: ='산근3 노임'!$B$8 -> 295138 | H32: =TRUNC(D32*G32,0) -> 88541
A33: 초급기술인 | C33: 인 | D33: ='하천기본계획(기준소요인력)'!$L$75 -> 0.3 | E33: =SUM(G33,I33,K33) -> 235459 | F33: =SUM(H33,J33,L33) -> 70637 | G33: ='산근3 노임'!$B$9 -> 235459 | H33: =TRUNC(D33*G33,0) -> 70637
A34: 계 | F34: =SUM(H34,J34,L34) -> 373834 | H34: =SUM(H29:H33) -> 373834
A35: =$O$2 -> 1 | F35: =INT($A35*F34) -> 373834 | H35: =INT($A35*H34) -> 373834
A36: 산근 2-5 하천의 이수특성 조사(10㎢)
A37: 기술사 | C37: 인 | D37: ='하천기본계획(기준소요인력)'!$H$76 -> 0.1 | E37: =SUM(G37,I37,K37) -> 467217 | F37: =SUM(H37,J37,L37) -> 46721 | G37: ='산근3 노임'!$B$5 -> 467217 | H37: =TRUNC(D37*G37,0) -> 46721
A38: 특급기술인 | C38: 인 | D38: ='하천기본계획(기준소요인력)'!$I$76 -> 0.1 | E38: =SUM(G38,I38,K38) -> 373353 | F38: =SUM(H38,J38,L38) -> 37335 | G38: ='산근3 노임'!$B$6 -> 373353 | H38: =TRUNC(D38*G38,0) -> 37335
A39: 고급기술인 | C39: 인 | D39: ='하천기본계획(기준소요인력)'!$J$76 -> 0.2 | E39: =SUM(G39,I39,K39) -> 310884 | F39: =SUM(H39,J39,L39) -> 62176 | G39: ='산근3 노임'!$B$7 -> 310884 | H39: =TRUNC(D39*G39,0) -> 62176
A40: 중급기술인 | C40: 인 | D40: ='하천기본계획(기준소요인력)'!$K$76 -> 0.3 | E40: =SUM(G40,I40,K40) -> 295138 | F40: =SUM(H40,J40,L40) -> 88541 | G40: ='산근3 노임'!$B$8 -> 295138 | H40: =TRUNC(D40*G40,0) -> 88541
...

Sheet 산근2-45(출장비)
A1: <산근2-45> 자료수집 | I1: 낙찰율(%)
A2: 구분 | B2: 단가 | C2: 출장일수 | D2: 출장횟수 | E2: 금액(km당) | F2: 금액(10km당) | I2: 100
A3: ="소계의"&ROUND(G3*100,0)&"%"&"적용" -> 소계의100%적용 | E3: =E5*0.6 -> 36300 | F3: =E3*10 -> 363000 | G3: 1
A4: ="도급율 적용("&ROUND($I$2,1)&"%)" -> 도급율 적용(100%) | E4: =ROUND(E3*$I$2/100,0) -> 36300 | F4: =E4*10 -> 363000
A5: 계 | E5: =SUM(E6:E11) -> 60500 | F5: =E5*10 -> 605000
A6: 기 술 사 | B6: =$E$38 -> 45000 | C6: 1 | D6: 0.1 | E6: =B6*C6*D6 -> 4500 | F6: =E6*10 -> 45000
A7: 특급기술인 | B7: =$E$39 -> 40000 | C7: 2 | D7: 0.1 | E7: =B7*C7*D7 -> 8000 | F7: =E7*10 -> 80000
A8: 고급기술인 | B8: =$E$40 -> 40000 | C8: 2 | D8: 0.2 | E8: =B8*C8*D8 -> 16000 | F8: =E8*10 -> 160000
A9: 중급기술인 | B9: =$E$41 -> 40000 | C9: 2 | D9: 0.2 | E9: =B9*C9*D9 -> 16000 | F9: =E9*10 -> 160000
A10: 초급기술인 | B10: =$E$42 -> 40000 | C10: 2 | D10: 0.2 | E10: =B10*C10*D10 -> 16000 | F10: =E10*10 -> 160000
A11: 중급숙련기술인 | B11: =$E$43 -> 40000 | C11: 0 | D11: 0.4 | E11: =B11*C11*D11 -> 0 | F11: =E11*10 -> 0
A13: <산근2-46> 현지조사
A14: 구분 | B14: 단가 | C14: 출장일수 | D14: 출장횟수 | E14: 금액(km당) | F14: 금액(10km당)
A15: ="소계의"&ROUND(G15*100,0)&"%"&"적용" -> 소계의100%적용 | E15: =E17*0.6 -> 50700 | F15: =E15*10 -> 507000 | G15: 1
A16: ="도급율 적용("&ROUND($I$2,1)&"%)" -> 도급율 적용(100%) | E16: =ROUND(E15*$I$2/100,0) -> 50700 | F16: =E16*10 -> 507000
A17: 계 | E17: =SUM(E18:E23) -> 84500 | F17: =E17*10 -> 845000
A18: 기 술 사 | B18: =$E$38 -> 45000 | C18: 1 | D18: 0.1 | E18: =B18*C18*D18 -> 4500 | F18: =E18*10 -> 45000
A19: 특급기술인 | B19: =$E$39 -> 40000 | C19: 2 | D19: 0.2 | E19: =B19*C19*D19 -> 16000 | F19: =E19*10 -> 160000
A20: 고급기술인 | B20: =$E$40 -> 40000 | C20: 2 | D20: 0.2 | E20: =B20*C20*D20 -> 16000 | F20: =E20*10 -> 160000
A21: 중급기술인 | B21: =$E$41 -> 40000 | C21: 2 | D21: 0.3 | E21: =B21*C21*D21 -> 24000 | F21: =E21*10 -> 240000
A22: 초급기술인 | B22: =$E$42 -> 40000 | C22: 2 | D22: 0.3 | E22: =B22*C22*D22 -> 24000 | F22: =E22*10 -> 240000
