Workbook

Sheet 1.표지
B1: 과업명, 설계년도, 설계년월일만 입력합니다.
B2: 과업명 : | C2: 통복천 유역 침수방지대책 타당성 조사 및 기본계획 수립 용역 | E2: 년도 : | F2: 2026년 | I2: 설계년월일: | J2: 2026.10. | L2: 주의) 청색글씨만 수정하세요.
A6: =C2&" 설계서" -> 통복천 유역 침수방지대책 타당성 조사 및 기본계획 수립 용역 설계서
A15: =J2 -> 2026.10.
A17: 평택시
A21: 설계년월일 | C21: =J2 -> 2026.10. | D21: 과 장 | F21: 팀 장 | H21: 담 당 자 | J21: 안전건설교통국 안전총괄과
A31: ="⊙ 용 역 명 : "&C2 -> ⊙ 용 역 명 : 통복천 유역 침수방지대책 타당성 조사 및 기본계획 수립 용역
B35: ○ 용역개요 : | C35: 침수방지대책 기본계획 1식(침수방지시설 최적대안 검토 등)
B43: ○ 총용역비 : | C43: ="금"&TEXT((G44),"0,000")&"원"&"(금"&NUMBERSTRING((G44),1)&"원)" -> 금370,865,000원(금삼억칠천팔십육만오천원)
E44: 도급예정액: | G44: =내역서!I6 -> 370865000
E45: 공 급 가 액: | G45: =내역서!I14 -> 337150000
E46: 부가가치세: | G46: =내역서!I15 -> 33715000 | M46: =M43-M45 -> 0

Sheet 내역서
A2: 내 역 서
P3: (단위 : 원)
A4: 순 번 | D4: 종 별 | E4: 규 격 | F4: 수 량 | G4: 단위 | H4: 총 액 | J4: 노 무 비 | L4: 재 료 비 | N4: 경 비 | P4: 비 고
H5: 단 가 | I5: 금 액 | J5: 단 가 | K5: 금 액 | L5: 단 가 | M5: 금 액 | N5: 단 가 | O5: 금 액
A6: 통복천 유역 침수방지대책 타당성 조사 및 기본계획 수립 용역 | I6: =SUM(I14,I15) -> 370865000
A7: Ⅰ | B7: 침수방지대책 기본계획 | I7: =K7+M7+O7 -> 334651854 | K7: =TRUNC(SUM(K8:K11),0) -> 132441212 | M7: =TRUNC(SUM(M8:M11),0) -> 0 | O7: =TRUNC(SUM(O8:O11),0) -> 202210642
B8: 1 | C8: 직접인건비 | F8: 1 | G8: 식 | H8: =SUM(L8,J8,N8) -> 132441212 | I8: =K8+M8+O8 -> 132441212 | J8: ='1.기본계획'!K4 -> 132441212 | K8: =INT(J8*F8) -> 132441212 | M8: =TRUNC(F8*L8,) -> 0 | N8: 0 | O8: =TRUNC(F8*N8,) -> 0
B9: 2 | C9: 직접경비 | F9: 1 | G9: 식 | H9: =SUM(L9,J9,N9) -> 900000 | I9: =K9+M9+O9 -> 900000 | J9: ='1.기본계획'!K33 -> 0 | K9: =INT(J9*F9) -> 0 | M9: =TRUNC(F9*L9,) -> 0 | N9: ='1.기본계획'!M33 -> 900000 | O9: =TRUNC(F9*N9,) -> 900000
B10: 3 | C10: 제경비 | E10: 인건비 | F10: 1.1 | I10: =K10+M10+O10 -> 1.4568533e+08 | O10: =K7*F10 -> 1.4568533e+08
B11: 4 | C11: 기술료 | E11: 인건비+제경비 | F11: 0.2 | I11: =K11+M11+O11 -> 55625309 | O11: =(K7+O10)*F11 -> 55625309
A12: Ⅱ | B12: 용역손해보험 | I12: =K12+M12+O12 -> 2500000 | K12: =SUM(K13:K13) -> 0 | M12: =SUM(M13:M13) -> 0 | O12: =SUM(O13:O13) -> 2500000
B13: 1 | C13: 엔지니어링 손해배상공제료 | F13: 1 | G13: 식 | N13: ='산근2(공제요율-엔지니어링)'!K24 -> 2500000 | O13: =N13*F13 -> 2500000
A14: Ⅲ | B14: 공급원가(천원단위 이하 절사) | F14: 1 | G14: 식 | I14: =ROUND(K14+M14+O14,-4) -> 337150000 | K14: =K7+K12 -> 132441212 | M14: =M7+M12 -> 0 | O14: =O7+O12 -> 204710642
A15: Ⅳ | B15: 부가가치세 | F15: 0.1 | I15: =TRUNC(I14*F15,0) -> 33715000

Sheet 1.기본계획
B1: 공 종 | C1: 규 격 | D1: 수량 (보정) | E1: 단위 | F1: 총 액 | H1: 재 료 비 | J1: 노 무 비 | L1: 경 비 | N1: 비고
F2: 단가 | G2: 금 액 | H2: 단가 | I2: 금 액 | J2: 단가 | K2: 금 액 | L2: 단가 | M2: 금 액
B3: <제1호표> 방재품셈
B4: 1. 직접인건비 | G4: =I4+K4+M4 -> 132441212 | I4: =I5+I7+I10+I19+I30 -> 0 | K4: =ROUND(K5+K7+K10+K19+K30,0) -> 132441212 | M4: =M5+M7+M10+M19+M30 -> 0
B5: 가. 작업계획 수립 | G5: =I5+K5+M5 -> 472389 | K5: =K6 -> 472389
B6: 1) 작업계획 수립 | D6: =적용수량!AD6 -> 1 | E6: 1식 | G6: =I6+K6+M6 -> 472389 | J6: =일위대가!E11 -> 472389 | K6: =J6*D6 -> 472389 | N6: 산근1-1
B7: 나. 관련자료 조사 및 검토 | G7: =I7+K7+M7 -> 778315 | I7: =SUM(I8:I9) -> 0 | K7: =SUM(K8:K9) -> 778315 | M7: =SUM(M8:M9) -> 0
B8: 1) 관련자료 조사 | D8: =적용수량!AD8 -> 1 | E8: 1식 | G8: =I8+K8+M8 -> 317687 | J8: =일위대가!E22 -> 317687 | K8: =J8*D8 -> 317687 | N8: 산근1-3
B9: 2) 관련계획 검토 | D9: =적용수량!AD9 -> 1 | E9: 1식 | G9: =I9+K9+M9 -> 460628 | J9: =일위대가!E33 -> 460628 | K9: =J9*D9 -> 460628 | N9: 산근1-4
B10: 다. 피해현황 및 원인분석 | G10: =I10+K10+M10 -> 9259211.3 | I10: =I11+I12 -> 0 | K10: =K11+K12 -> 9259211.3 | M10: =M11+M12 -> 0
B11: 1) 피해현황 조사 | D11: =적용수량!AD11 -> 1 | E11: 1식 | G11: =I11+K11+M11 -> 68387 | J11: =일위대가!E42 -> 68387 | K11: =J11*D11 -> 68387 | N11: 산근1-5
B12: 2) 피해원인 분석 | G12: =I12+K12+M12 -> 9190824.3 | I12: =SUM(I13:I18) -> 0 | K12: =SUM(K13:K18) -> 9190824.3 | M12: =SUM(M13:M18) -> 0
B13: 가) 수리․수문조사 | D13: =적용수량!AD13 -> 0.3 | E13: 10km2 | G13: =I13+K13+M13 -> 576951.9 | J13: =일위대가!E53 -> 1923173 | K13: =J13*D13 -> 576951.9 | N13: 산근1-6
B14: 나) 강우분석 | D14: =적용수량!AD14 -> 0.3 | E14: 10km2 | G14: =I14+K14+M14 -> 170598 | J14: =일위대가!E62 -> 568660 | K14: =J14*D14 -> 170598 | N14: 산근1-7
B15: 다) 유출분석 | D15: =적용수량!AD15 -> 0.3 | E15: 10㎞ | G15: =I15+K15+M15 -> 156071.7 | J15: =일위대가!E72 -> 520239 | K15: =J15*D15 -> 156071.7 | N15: 산근1-8
B16: 라) 홍수위산정 | D16: =적용수량!AD16 -> 0 | E16: 1㎞ | G16: =I16+K16+M16 -> 0 | J16: =일위대가!E81 -> 1338166 | K16: =J16*D16 -> 0 | N16: 산근1-9
B17: 마) 범람해석(2차원 시뮬레이션) | D17: =적용수량!AD17 -> 1.95 | E17: 1km2 | G17: =I17+K17+M17 -> 2674132.5 | J17: =일위대가!E92 -> 1371350 | K17: =J17*D17 -> 2674132.5 | N17: 산근1-10
B18: 바) 피해원인분석 | D18: =적용수량!AD18 -> 5.14 | E18: 1㎞ | G18: =I18+K18+M18 -> 5613070.2 | J18: =일위대가!E101 -> 1092037 | K18: =J18*D18 -> 5613070.2 | N18: 산근1-11
B19: 라. 정비계획수립 | G19: =I19+K19+M19 -> 1.1783792e+08 | I19: =I20+I25 -> 0 | K19: =K20+K25 -> 1.1783792e+08 | M19: =M20+M25 -> 0
B20: 1) 재해유형별 정비기본방향 | G20: =I20+K20+M20 -> 1.0054848e+08 | I20: =SUM(I21:I24) -> 0 | K20: =SUM(K21:K24) -> 1.0054848e+08 | M20: =SUM(M21:M24) -> 0
B21: 가) 침수위험지구(하천재해) | D21: =적용수량!AD21 -> 5.14 | E21: 1㎞ | G21: =I21+K21+M21 -> 86494537 | J21: =일위대가!E112 -> 16827731 | K21: =J21*D21 -> 86494537 | N21: 산근1-12
B22: 나) 침수위험지구(내수재해) | D22: =적용수량!AD22 -> 1.95 | E22: 1㎞2 | G22: =I22+K22+M22 -> 14053941 | J22: =일위대가!E121 -> 7207149 | K22: =J22*D22 -> 14053941 | N22: 산근1-13
B23: 다) 유실위험지구 | D23: =적용수량!AD23 -> 0 | E23: 1식 | G23: =I23+K23+M23 -> 0 | J23: =일위대가!E132 -> 16827731 | K23: =J23*D23 -> 0 | N23: 산근1-14
B24: 라) 고립위험지구 | D24: =적용수량!AD24 -> 0 | E24: 1식 | G24: =I24+K24+M24 -> 0 | J24: =일위대가!E141 -> 16827731 | K24: =J24*D24 -> 0 | N24: 산근1-15
B25: 2) 주요시설물 정비계획 | G25: =I25+K25+M25 -> 17289444 | I25: =SUM(I26:I29) -> 0 | K25: =SUM(K26:K29) -> 17289444 | M25: =SUM(M26:M29) -> 0
B26: 가) 하천. 소하천시설물 | D26: =적용수량!AD26 -> 6.682 | E26: 1 km | G26: =I26+K26+M26 -> 2825149.6 | J26: =일위대가!E152 -> 422800 | K26: =J26*D26 -> 2825149.6 | N26: 산근1-21
B27: 나) 배수펌프장 및 유수지 | D27: =적용수량!AD27 -> 0.26 | E27: 1 ㎥/s,개소 | G27: =I27+K27+M27 -> 7857749.1 | J27: =일위대가!E162 -> 30222112 | K27: =J27*D27 -> 7857749.1 | N27: 산근1-22
B28: 다) 우수관로 | D28: =적용수량!AD28 -> 1.3 | E28: 1 km,관경 | G28: =I28+K28+M28 -> 2422056 | J28: =일위대가!E171 -> 1863120 | K28: =J28*D28 -> 2422056 | N28: 산근1-23
B29: 라) 우수유출저감시설 | D29: =적용수량!AD29 -> 1.3 | E29: 1만㎥,개소 | G29: =I29+K29+M29 -> 4184489.4 | J29: =일위대가!E182 -> 3218838 | K29: =J29*D29 -> 4184489.4 | N29: 산근1-24
B30: 아. 성과품 작성 | G30: =I30+K30+M30 -> 4093375 | K30: =SUM(K31:K32) -> 4093375 | M30: =SUM(M31:M32) -> 0
B31: 1) 보고서 | D31: =적용수량!AD31 -> 1 | E31: 식 | G31: =I31+K31+M31 -> 3075941 | J31: =일위대가!E192 -> 3075941 | K31: =J31*D31 -> 3075941 | N31: 산근1-62
B32: 2) 보고자료 (PPT, 요약자료) | D32: 1 | E32: 식 | G32: =I32+K32+M32 -> 1017434 | J32: =일위대가!E202 -> 1017434 | K32: =J32*D32 -> 1017434 | N32: 산근1-63
B33: 2. 직접경비 | G33: =I33+K33+M33 -> 900000 | M33: =SUM(M34) -> 900000
B34: 가. 보고서 인쇄비 | D34: 1 | E34: 식 | G34: =I34+K34+M34 -> 900000 | L34: =일위대가!J207 -> 900000 | M34: =D34*L34 -> 900000 | N34: 산근1-71

Sheet 일위대가
A1: 공 종 | B1: 규 격 | C1: 수량 | D1: 단위 | E1: 총 액 | G1: 재 료 비 | I1: 노 무 비 | K1: 경 비 | M1: 비 고 | O1: 조사단계 | P1: 기준소요인력 적용비율 | R1: 30 | S1: % (총용역비 적용) | U1: 기수립 등 관련자료 활용
E2: 단 가 | F2: 금 액 | G2: 단 가 | H2: 금 액 | I2: 단 가 | J2: 금 액 | K2: 단 가 | L2: 금 액 | O2: 분석단계 | P2: 기준소요인력 적용비율 | R2: 30 | S2: % (총용역비 적용) | U2: 기수립 등 관련자료 활용
A3: <산근 1-1> 작업계획 수립 | R3: =내역서!I7 -> 334651854
A4: 기 술 사 | C4: =적용소요인력!D6 -> 0.75 | D4: 인 | E4: =G4+I4+K4 -> 467217 | F4: =H4+J4+L4 -> 350412 | I4: ='산근3 노임'!B5 -> 467217 | J4: =INT(I4*C4) -> 350412 | R4: =내역서!I6 -> 370865000
A5: 특급기술자 | C5: =적용소요인력!E6 -> 1.25 | D5: 인 | E5: =G5+I5+K5 -> 373353 | F5: =H5+J5+L5 -> 466691 | I5: ='산근3 노임'!B6 -> 373353 | J5: =INT(I5*C5) -> 466691
A6: 고급기술자 | C6: =적용소요인력!F6 -> 1.25 | D6: 인 | E6: =G6+I6+K6 -> 310884 | F6: =H6+J6+L6 -> 388605 | I6: ='산근3 노임'!B7 -> 310884 | J6: =INT(I6*C6) -> 388605 | P6: 일위대가 반영비율
A7: 중급기술자 | C7: =적용소요인력!G6 -> 1.25 | D7: 인 | E7: =G7+I7+K7 -> 295138 | F7: =H7+J7+L7 -> 368922 | I7: ='산근3 노임'!B8 -> 295138 | J7: =INT(I7*C7) -> 368922 | P7: 가. 작업계획 수립 | S7: =$R$1/100 -> 0.3 | T7: =S7*100 -> 30
A8: 초급기술자 | C8: =적용소요인력!H6 -> 0 | D8: 인 | E8: =G8+I8+K8 -> 235459 | F8: =H8+J8+L8 -> 0 | I8: ='산근3 노임'!B9 -> 235459 | J8: =INT(I8*C8) -> 0 | P8: 나. 관련계획 조사 및 검토 | S8: =$R$1/100 -> 0.3 | T8: =S8*100 -> 30
A9: 중급숙련자 | C9: =적용소요인력!I6 -> 0 | D9: 인 | E9: =G9+I9+K9 -> 250087 | F9: =H9+J9+L9 -> 0 | I9: ='산근3 노임'!B11 -> 250087 | J9: =INT(I9*C9) -> 0 | P9: 다. 재해발생 원인분석 | S9: =$R$2/100 -> 0.3 | T9: =S9*100 -> 30
A10: 계 | F10: =H10+J10+L10 -> 1574630 | J10: =SUM(J4:J9) -> 1574630 | P10: 라. 정비계획수립 | S10: =$R$2/100 -> 0.3 | T10: =S10*100 -> 30
A11: 적용 | B11: =$S$7 -> 0.3 | E11: =F11 -> 472389 | F11: =H11+J11+L11 -> 472389 | J11: =TRUNC(J10*$S$7,0) -> 472389 | P11: 마. 보고자료 및 직접경비 | S11: 1 | T11: =S11*100 -> 100
A14: <산근 1-2> 관련자료 조사
A15: 기 술 사 | C15: =적용소요인력!D8 -> 0.25 | D15: 인 | E15: =G15+I15+K15 -> 467217 | F15: =H15+J15+L15 -> 116804 | I15: =$I$4 -> 467217 | J15: =INT(I15*C15) -> 116804
A16: 특급기술자 | C16: =적용소요인력!E8 -> 0.4 | D16: 인 | E16: =G16+I16+K16 -> 373353 | F16: =H16+J16+L16 -> 149341 | I16: =$I$5 -> 373353 | J16: =INT(I16*C16) -> 149341
A17: 고급기술자 | C17: =적용소요인력!F8 -> 0.9 | D17: 인 | E17: =G17+I17+K17 -> 310884 | F17: =H17+J17+L17 -> 279795 | I17: =$I$6 -> 310884 | J17: =INT(I17*C17) -> 279795
A18: 중급기술자 | C18: =적용소요인력!G8 -> 1.1 | D18: 인 | E18: =G18+I18+K18 -> 295138 | F18: =H18+J18+L18 -> 324651 | I18: =$I$7 -> 295138 | J18: =INT(I18*C18) -> 324651
A19: 초급기술자 | C19: =적용소요인력!H8 -> 0.8 | D19: 인 | E19: =G19+I19+K19 -> 235459 | F19: =H19+J19+L19 -> 188367 | I19: =$I$8 -> 235459 | J19: =INT(I19*C19) -> 188367
A20: 중급숙련자 | C20: =적용소요인력!I8 -> 0 | D20: 인 | E20: =G20+I20+K20 -> 250087 | F20: =H20+J20+L20 -> 0 | I20: =$I$9 -> 250087 | J20: =INT(I20*C20) -> 0
A21: 계 | F21: =H21+J21+L21 -> 1058958 | J21: =SUM(J15:J20) -> 1058958
A22: 적용 | B22: =$S$8 -> 0.3 | E22: =F22 -> 317687 | F22: =H22+J22+L22 -> 317687 | J22: =TRUNC(J21*$S$8,0) -> 317687
A25: <산근 1-3> 관련계획 검토
A26: 기 술 사 | C26: =적용소요인력!D9 -> 1 | D26: 인 | E26: =G26+I26+K26 -> 467217 | F26: =H26+J26+L26 -> 467217 | I26: =$I$4 -> 467217 | J26: =INT(I26*C26) -> 467217
A27: 특급기술자 | C27: =적용소요인력!E9 -> 2 | D27: 인 | E27: =G27+I27+K27 -> 373353 | F27: =H27+J27+L27 -> 746706 | I27: =$I$5 -> 373353 | J27: =INT(I27*C27) -> 746706
A28: 고급기술자 | C28: =적용소요인력!F9 -> 0.2 | D28: 인 | E28: =G28+I28+K28 -> 310884 | F28: =H28+J28+L28 -> 62176 | I28: =$I$6 -> 310884 | J28: =INT(I28*C28) -> 62176
A29: 중급기술자 | C29: =적용소요인력!G9 -> 0.4 | D29: 인 | E29: =G29+I29+K29 -> 295138 | F29: =H29+J29+L29 -> 118055 | I29: =$I$7 -> 295138 | J29: =INT(I29*C29) -> 118055
A30: 초급기술자 | C30: =적용소요인력!H9 -> 0.6 | D30: 인 | E30: =G30+I30+K30 -> 235459 | F30: =H30+J30+L30 -> 141275 | I30: =$I$8 -> 235459 | J30: =INT(I30*C30) -> 141275
A31: 중급숙련자 | C31: =적용소요인력!I9 -> 0 | D31: 인 | E31: =G31+I31+K31 -> 250087 | F31: =H31+J31+L31 -> 0 | I31: =$I$9 -> 250087 | J31: =INT(I31*C31) -> 0
A32: 계 | F32: =H32+J32+L32 -> 1535429 | J32: =SUM(J26:J31) -> 1535429
A33: 적용 | B33: =$S$8 -> 0.3 | E33: =F33 -> 460628 | F33: =H33+J33+L33 -> 460628 | J33: =TRUNC(J32*$S$8,0) -> 460628
A34: <산근 1-5> 피해현황조사
A35: 기 술 사 | C35: =적용소요인력!D11 -> 0.04 | D35: 인 | E35: =G35+I35+K35 -> 467217 | F35: =H35+J35+L35 -> 18688 | I35: =$I$4 -> 467217 | J35: =INT(I35*C35) -> 18688
A36: 특급기술자 | C36: =적용소요인력!E11 -> 0.105 | D36: 인 | E36: =G36+I36+K36 -> 373353 | F36: =H36+J36+L36 -> 39202 | I36: =$I$5 -> 373353 | J36: =INT(I36*C36) -> 39202
A37: 고급기술자 | C37: =적용소요인력!F11 -> 0.18 | D37: 인 | E37: =G37+I37+K37 -> 310884 | F37: =H37+J37+L37 -> 55959 | I37: =$I$6 -> 310884 | J37: =INT(I37*C37) -> 55959
A38: 중급기술자 | C38: =적용소요인력!G11 -> 0.255 | D38: 인 | E38: =G38+I38+K38 -> 295138 | F38: =H38+J38+L38 -> 75260 | I38: =$I$7 -> 295138 | J38: =INT(I38*C38) -> 75260
A39: 초급기술자 | C39: =적용소요인력!H11 -> 0.165 | D39: 인 | E39: =G39+I39+K39 -> 235459 | F39: =H39+J39+L39 -> 38850 | I39: =$I$8 -> 235459 | J39: =INT(I39*C39) -> 38850
A40: 중급숙련자 | C40: =적용소요인력!I11 -> 0 | D40: 인 | E40: =G40+I40+K40 -> 250087 | F40: =H40+J40+L40 -> 0 | I40: =$I$9 -> 250087 | J40: =INT(I40*C40) -> 0
A41: 계 | F41: =H41+J41+L41 -> 227959 | J41: =SUM(J35:J40) -> 227959
A42: 적용 | B42: =$S$9 -> 0.3 | E42: =F42 -> 68387 | F42: =H42+J42+L42 -> 68387 | J42: =TRUNC(J41*$S$9,0) -> 68387
A45: <산근 1-5> 수리, 수문조사
A46: 기 술 사 | C46: =적용소요인력!D13 -> 0.7 | D46: 인 | E46: =G46+I46+K46 -> 467217 | F46: =H46+J46+L46 -> 327051 | I46: =$I$4 -> 467217 | J46: =INT(I46*C46) -> 327051
A47: 특급기술자 | C47: =적용소요인력!E13 -> 3.7 | D47: 인 | E47: =G47+I47+K47 -> 373353 | F47: =H47+J47+L47 -> 1381406 | I47: =$I$5 -> 373353 | J47: =INT(I47*C47) -> 1381406
A48: 고급기술자 | C48: =적용소요인력!F13 -> 5.65 | D48: 인 | E48: =G48+I48+K48 -> 310884 | F48: =H48+J48+L48 -> 1756494 | I48: =$I$6 -> 310884 | J48: =INT(I48*C48) -> 1756494
A49: 중급기술자 | C49: =적용소요인력!G13 -> 6.55 | D49: 인 | E49: =G49+I49+K49 -> 295138 | F49: =H49+J49+L49 -> 1933153 | I49: =$I$7 -> 295138 | J49: =INT(I49*C49) -> 1933153
A50: 초급기술자 | C50: =적용소요인력!H13 -> 4.3 | D50: 인 | E50: =G50+I50+K50 -> 235459 | F50: =H50+J50+L50 -> 1012473 | I50: =$I$8 -> 235459 | J50: =INT(I50*C50) -> 1012473
A51: 중급숙련자 | C51: =적용소요인력!I13 -> 0 | D51: 인 | E51: =G51+I51+K51 -> 250087 | F51: =H51+J51+L51 -> 0 | I51: =$I$9 -> 250087 | J51: =INT(I51*C51) -> 0
A52: 계 | F52: =H52+J52+L52 -> 6410577 | J52: =SUM(J46:J51) -> 6410577
A53: 적용 | B53: =$S$9 -> 0.3 | E53: =F53 -> 1923173 | F53: =H53+J53+L53 -> 1923173 | J53: =TRUNC(J52*$S$9,0) -> 1923173
A54: <산근 1-6> 강우분석
A55: 기 술 사 | C55: =적용소요인력!D14 -> 0.25 | D55: 인 | E55: =G55+I55+K55 -> 467217 | F55: =H55+J55+L55 -> 116804 | I55: =$I$4 -> 467217 | J55: =INT(I55*C55) -> 116804
A56: 특급기술자 | C56: =적용소요인력!E14 -> 1.1 | D56: 인 | E56: =G56+I56+K56 -> 373353 | F56: =H56+J56+L56 -> 410688 | I56: =$I$5 -> 373353 | J56: =INT(I56*C56) -> 410688
A57: 고급기술자 | C57: =적용소요인력!F14 -> 1.65 | D57: 인 | E57: =G57+I57+K57 -> 310884 | F57: =H57+J57+L57 -> 512958 | I57: =$I$6 -> 310884 | J57: =INT(I57*C57) -> 512958
A58: 중급기술자 | C58: =적용소요인력!G14 -> 1.9 | D58: 인 | E58: =G58+I58+K58 -> 295138 | F58: =H58+J58+L58 -> 560762 | I58: =$I$7 -> 295138 | J58: =INT(I58*C58) -> 560762
A59: 초급기술자 | C59: =적용소요인력!H14 -> 1.25 | D59: 인 | E59: =G59+I59+K59 -> 235459 | F59: =H59+J59+L59 -> 294323 | I59: =$I$8 -> 235459 | J59: =INT(I59*C59) -> 294323
A60: 중급숙련자 | C60: =적용소요인력!I14 -> 0 | D60: 인 | E60: =G60+I60+K60 -> 250087 | F60: =H60+J60+L60 -> 0 | I60: =$I$9 -> 250087 | J60: =INT(I60*C60) -> 0
A61: 계 | F61: =H61+J61+L61 -> 1895535 | J61: =SUM(J55:J60) -> 1895535
A62: 적용 | B62: =$S$9 -> 0.3 | E62: =F62 -> 568660 | F62: =H62+J62+L62 -> 568660 | J62: =TRUNC(J61*$S$10,0) -> 568660
A64: <산근 1-7> 유출분석
A65: 기 술 사 | C65: =적용소요인력!D15 -> 0.25 | D65: 인 | E65: =G65+I65+K65 -> 467217 | F65: =H65+J65+L65 -> 116804 | I65: =$I$4 -> 467217 | J65: =INT(I65*C65) -> 116804
A66: 특급기술자 | C66: =적용소요인력!E15 -> 0.5 | D66: 인 | E66: =G66+I66+K66 -> 373353 | F66: =H66+J66+L66 -> 186676 | I66: =$I$5 -> 373353 | J66: =INT(I66*C66) -> 186676
A67: 고급기술자 | C67: =적용소요인력!F15 -> 1 | D67: 인 | E67: =G67+I67+K67 -> 310884 | F67: =H67+J67+L67 -> 310884 | I67: =$I$6 -> 310884 | J67: =INT(I67*C67) -> 310884
A68: 중급기술자 | C68: =적용소요인력!G15 -> 1.75 | D68: 인 | E68: =G68+I68+K68 -> 295138 | F68: =H68+J68+L68 -> 516491 | I68: =$I$7 -> 295138 | J68: =INT(I68*C68) -> 516491
A69: 초급기술자 | C69: =적용소요인력!H15 -> 1.5 | D69: 인 | E69: =G69+I69+K69 -> 235459 | F69: =H69+J69+L69 -> 353188 | I69: =$I$8 -> 235459 | J69: =INT(I69*C69) -> 353188
A70: 중급숙련자 | C70: =적용소요인력!I15 -> 1 | D70: 인 | E70: =G70+I70+K70 -> 250087 | F70: =H70+J70+L70 -> 250087 | I70: =$I$9 -> 250087 | J70: =INT(I70*C70) -> 250087
A71: 계 | F71: =H71+J71+L71 -> 1734130 | J71: =SUM(J65:J70) -> 1734130
A72: 적용 | B72: =$S$9 -> 0.3 | E72: =F72 -> 520239 | F72: =H72+J72+L72 -> 520239 | J72: =TRUNC(J71*$S$10,0) -> 520239
A73: <산근 1-8> 홍수위산정
A74: 기 술 사 | C74: =적용소요인력!D16 -> 0.3 | D74: 인 | E74: =G74+I74+K74 -> 467217 | F74: =H74+J74+L74 -> 140165 | I74: =$I$4 -> 467217 | J74: =INT(I74*C74) -> 140165
A75: 특급기술자 | C75: =적용소요인력!E16 -> 0.55 | D75: 인 | E75: =G75+I75+K75 -> 373353 | F75: =H75+J75+L75 -> 205344 | I75: =$I$5 -> 373353 | J75: =INT(I75*C75) -> 205344
A76: 고급기술자 | C76: =적용소요인력!F16 -> 1.05 | D76: 인 | E76: =G76+I76+K76 -> 310884 | F76: =H76+J76+L76 -> 326428 | I76: =$I$6 -> 310884 | J76: =INT(I76*C76) -> 326428
A77: 중급기술자 | C77: =적용소요인력!G16 -> 1.3 | D77: 인 | E77: =G77+I77+K77 -> 295138 | F77: =H77+J77+L77 -> 383679 | I77: =$I$7 -> 295138 | J77: =INT(I77*C77) -> 383679
A78: 초급기술자 | C78: =적용소요인력!H16 -> 1.2 | D78: 인 | E78: =G78+I78+K78 -> 235459 | F78: =H78+J78+L78 -> 282550 | I78: =$I$8 -> 235459 | J78: =INT(I78*C78) -> 282550
A79: 중급숙련자 | C79: =적용소요인력!I16 -> 0 | D79: 인 | E79: =G79+I79+K79 -> 250087 | F79: =H79+J79+L79 -> 0 | I79: =$I$9 -> 250087 | J79: =INT(I79*C79) -> 0
A80: 계 | F80: =H80+J80+L80 -> 1338166 | J80: =SUM(J74:J79) -> 1338166
A81: 적용 | B81: =$S$9 -> 0.3 | E81: =F81 -> 1338166 | F81: =H81+J81+L81 -> 1338166 | J81: =TRUNC(J80*$S$11,0) -> 1338166
A84: <산근 1-9> 범람해석(2차원 시뮬레이션)
A85: 기 술 사 | C85: =적용소요인력!D17 -> 1.05 | D85: 인 | E85: =G85+I85+K85 -> 467217 | F85: =H85+J85+L85 -> 490577 | I85: =$I$4 -> 467217 | J85: =INT(I85*C85) -> 490577
A86: 특급기술자 | C86: =적용소요인력!E17 -> 1.05 | D86: 인 | E86: =G86+I86+K86 -> 373353 | F86: =H86+J86+L86 -> 392020 | I86: =$I$5 -> 373353 | J86: =INT(I86*C86) -> 392020
A87: 고급기술자 | C87: =적용소요인력!F17 -> 1.05 | D87: 인 | E87: =G87+I87+K87 -> 310884 | F87: =H87+J87+L87 -> 326428 | I87: =$I$6 -> 310884 | J87: =INT(I87*C87) -> 326428
A88: 중급기술자 | C88: =적용소요인력!G17 -> 0.55 | D88: 인 | E88: =G88+I88+K88 -> 295138 | F88: =H88+J88+L88 -> 162325 | I88: =$I$7 -> 295138 | J88: =INT(I88*C88) -> 162325
A89: 초급기술자 | C89: =적용소요인력!H17 -> 0 | D89: 인 | E89: =G89+I89+K89 -> 235459 | F89: =H89+J89+L89 -> 0 | I89: =$I$8 -> 235459 | J89: =INT(I89*C89) -> 0
A90: 중급숙련자 | C90: =적용소요인력!I17 -> 0 | D90: 인 | E90: =G90+I90+K90 -> 250087 | F90: =H90+J90+L90 -> 0 | I90: =$I$9 -> 250087 | J90: =INT(I90*C90) -> 0
A91: 계 | F91: =H91+J91+L91 -> 1371350 | J91: =SUM(J85:J90) -> 1371350
A92: 적용 | B92: =$S$9 -> 0.3 | E92: =F92 -> 1371350 | F92: =H92+J92+L92 -> 1371350 | J92: =TRUNC(J91*$S$11,0) -> 1371350
A93: <산근 1-10> 피해원인분석
A94: 기 술 사 | C94: =적용소요인력!D18 -> 0.25 | D94: 인 | E94: =G94+I94+K94 -> 467217 | F94: =H94+J94+L94 -> 116804 | I94: =$I$4 -> 467217 | J94: =INT(I94*C94) -> 116804
A95: 특급기술자 | C95: =적용소요인력!E18 -> 0.5 | D95: 인 | E95: =G95+I95+K95 -> 373353 | F95: =H95+J95+L95 -> 186676 | I95: =$I$5 -> 373353 | J95: =INT(I95*C95) -> 186676
A96: 고급기술자 | C96: =적용소요인력!F18 -> 0.5 | D96: 인 | E96: =G96+I96+K96 -> 310884 | F96: =H96+J96+L96 -> 155442 | I96: =$I$6 -> 310884 | J96: =INT(I96*C96) -> 155442
A97: 중급기술자 | C97: =적용소요인력!G18 -> 0.5 | D97: 인 | E97: =G97+I97+K97 -> 295138 | F97: =H97+J97+L97 -> 147569 | I97: =$I$7 -> 295138 | J97: =INT(I97*C97) -> 147569
A98: 초급기술자 | C98: =적용소요인력!H18 -> 1 | D98: 인 | E98: =G98+I98+K98 -> 235459 | F98: =H98+J98+L98 -> 235459 | I98: =$I$8 -> 235459 | J98: =INT(I98*C98) -> 235459
A99: 중급숙련자 | C99: =적용소요인력!I18 -> 1 | D99: 인 | E99: =G99+I99+K99 -> 250087 | F99: =H99+J99+L99 -> 250087 | I99: =$I$9 -> 250087 | J99: =INT(I99*C99) -> 250087
A100: 계 | F100: =H100+J100+L100 -> 1092037 | J100: =SUM(J94:J99) -> 1092037
A101: 적용 | B101: =$S$9 -> 0.3 | E101: =F101 -> 1092037 | F101: =H101+J101+L101 -> 1092037 | J101: =TRUNC(J100*$S$11,0) -> 1092037
A104: <산근 1-11> 침수위험지구(하천재해)
A105: 기 술 사 | C105: =적용소요인력!D21 -> 5.8 | D105: 인 | E105: =G105+I105+K105 -> 467217 | F105: =H105+J105+L105 -> 2709858 | I105: =$I$4 -> 467217 | J105: =INT(I105*C105) -> 2709858
A106: 특급기술자 | C106: =적용소요인력!E21 -> 10.4 | D106: 인 | E106: =G106+I106+K106 -> 373353 | F106: =H106+J106+L106 -> 3882871 | I106: =$I$5 -> 373353 | J106: =INT(I106*C106) -> 3882871
A107: 고급기술자 | C107: =적용소요인력!F21 -> 13.8 | D107: 인 | E107: =G107+I107+K107 -> 310884 | F107: =H107+J107+L107 -> 4290199 | I107: =$I$6 -> 310884 | J107: =INT(I107*C107) -> 4290199
A108: 중급기술자 | C108: =적용소요인력!G21 -> 13.8 | D108: 인 | E108: =G108+I108+K108 -> 295138 | F108: =H108+J108+L108 -> 4072904 | I108: =$I$7 -> 295138 | J108: =INT(I108*C108) -> 4072904
A109: 초급기술자 | C109: =적용소요인력!H21 -> 7.95 | D109: 인 | E109: =G109+I109+K109 -> 235459 | F109: =H109+J109+L109 -> 1871899 | I109: =$I$8 -> 235459 | J109: =INT(I109*C109) -> 1871899
A110: 중급숙련자 | C110: =적용소요인력!I21 -> 0 | D110: 인 | E110: =G110+I110+K110 -> 250087 | F110: =H110+J110+L110 -> 0 | I110: =$I$9 -> 250087 | J110: =INT(I110*C110) -> 0
A111: 계 | F111: =H111+J111+L111 -> 16827731 | J111: =SUM(J105:J110) -> 16827731
...

Sheet 보정계수 산출
A1: - 단위업무별 보정계수 산정 및 적용기준
A2: 1. 보정계수
A3: 1) 하천재해, 해안재해, 저수지 특성에 따른 보정계수(α1)
A4: 가) 위험지구 연장에 따라 다음 산식에 의해 보정계수를 산정하여 적용(1km 미만인 경우 1km의 요율 적용)
A5: 나) 하천재해 연장 = | B5: 7.1 | D5: km
A6: 보정계수(α1-1) = | B6: 1+C×(위험지구연장-1)(km) = | E6: =IF(B5=0,0,IF(B5<1,1,(1+(0.7-(0.003*B5))*(B5-1))/1)) -> 5.14007
A7: ※ 위험지구 연장이 1km 미만인 경우 1km의 요율을 적용한다.
A9: 2) 유역면적에 따른 보정계수(α2)
A10: (1) 하천재해 유역
A11: 가) 유역면적에 따라 다음 산식에 의해 보정계수를 산정하여 적용(지형도를 통하여 산정)
A12: 나) 유역면적 = | B12: 39.33 | D12: km2
A13: 다) 보정계수(α2) = | B13: 유역면적(km2)^0.30 = | E13: =IF(B12=0,10,IF(B12<=10,10,B12^0.3))/10 -> 0.30089653
A14: ※ 유역면적이 10km2 이하인 경우 10km2 요율을 적용한다.
A16: (2) 내수재해 유역
A17: 가) 유역면적에 따라 다음 산식에 의해 보정계수를 산정하여 적용(지형도를 통하여 산정)
A18: 나) 유역면적 = | B18: 9.38 | D18: km2
A19: 다) 보정계수(α2) = | B19: 유역면적(km2)^0.30 = | E19: =IF(B18=0,0,IF(B18<=1,1,B18^0.3)) -> 1.9573156
A20: ※ 유역면적이 1km2 이하인 경우 1km2 요율을 적용한다.
A22: 3) 관로(배수로) 연장에 따른 보정계수(α3)
A23: (1) 관로연장(α3-1)
A24: 가) 관로(배수로) 연장의 경우 1km를 기준으로 소요인력기준 산정을 정하였으므로 다음과 같이 보정계수 적용
A25: 나) 관로(배수로)연장 = | B25: 0 | D25: km
A26: 다) 보정계수(α3-1) = | B26: 1+C×(관로(배수로)연장-1)(km) = | F26: =ROUNDDOWN(IF(B25=0,0,IF(B25<=1,1,1+(0.7-(0.005*B25))*(B25-1))),2) -> 0
A27: ※ 관로연장이 1km미만인경우 1km의 요율적용
A28: (2) 관직경(α3-2)
A29: 가) 소구경(D < 400mm), 1.0 | D29: 계수C1 | E29: 1 | F29: 연장(A) | G29: =[1]입력DATA1!E23 -> 0 | H29: km
A30: 나) 중구경(400mm ≤ D < 800mm), 1.25 | D30: 계수C2 | E30: 1.25 | F30: 연장(B) | G30: =[1]입력DATA1!E24 -> 0 | H30: km
A31: 다) 대구경(D ≥ 800mm), 1.6 | D31: 계수C3 | E31: 1.6 | F31: 연장(C) | G31: 0 | H31: km
A32: 라) 사각형거, 2.2 | D32: 계수C4 | E32: 2.2 | F32: 연장(D) | G32: 0 | H32: km
A33: ※ D = 관직경(mm)
A34: ※ 다양한 관직경이 존재하는 사업의 경우 복합계수 적용
A35: 마) 보정계수(α3-2) = | B35: (C1×A+C2×B+C3×C+C4×D)/(A+B+C+D) = | G35: =IF(B25=0,0,(E29*G29+E30*G30+E31*G31+E32*G32)/(G29+G30+G31+G32)) -> 0
A36: (3) 우수관로 통합 보정계수(α3)
A37: 가) 보정계수(α3) = | B37: (α3-1)×(α3-2) = | E37: =F26*G35 -> 0
A39: 4) 펌프용량에 따른 보정계수(α5)
A40: (1) 펌프용량(α5-1)
A41: 가) 펌프용량의 경우 1.0m3/s를 기준으로 소요인력기준을 산정을 정하였으므로 다음과 같이 보정계수 적용
A42: 나) 펌프용량(평균) = | B42: 0 | D42: m3/s
A43: 다) 보정계수(α5-1) = | B43: (평균펌프용량)^0.45 | E43: =IF(B42<=1,1^0.45,IF(B42>=100,100^0.45,B42^0.45)) -> 1
A44: ※ 펌프용량이 1.0m3/s미만은 1.0m3/s 요율적용, 100.0m3/s이상일경우 100.0m3/s 보정계수 적용
A45: (2) 펌프개소(α5-2)
A46: 가) 펌프장이 2개 이상인 경우 보정계수를 산정하여 적용
A47: 나) 펌프장개소수 = | B47: 0
A48: 다) 보정계수(α5-2) = | B48: 1 + (펌프장개소수 - 1) x 0.8 = | F48: =IF(B47>6,5,1+(B47-1)*0.8) -> 0.2
A49: (3) 배수펌프장 통합 보정계수(α5)
A50: 가) 보정계수(α5) = | B50: (α5-1)×(α5-2) = | E50: =E43*F48 -> 0.2
A52: 5) 도시화율에 따른 보정계수(α7)
A53: 가) 아래의 표와 같이 위험지역의 도시화율과 보정계수를 산정하여 적용
A54: 나) 도시화율(%) = [(국토의계획및이용에관한법률상 도시지역 및 관리지역면적) / (위험지역면적)] x 100
A55: [도시화율에 따른 보정계수]
A56: 도시화율 | D56: 보정계수(α7) | F56: 비고 | H56: 도시화율
A57: 3% 미만 | D57: 0.6 | H57: 1.3
A58: 3% 이상~5% 미만 | D58: 0.7
A59: 5% 이상~7% 미만 | D59: 0.8
A60: 7% 이상~10% 미만 | D60: 0.9
A61: 10% 이상~20% 미만 | D61: 1
A62: 20% 이상~30% 미만 | D62: 1.1
A63: 30% 이상~50% 미만 | D63: 1.2
A64: 50% 이상 | D64: 1.3
A65: 적용 | D65: =IF(H57<0.03,D57,IF(H57<0.05,D58,IF(H57<0.07,D59,IF(H57<0.1,D60,IF(H57<0.2,D61,IF(H57<0.3,D62,IF(H57<0.5,D63,D64))))))) -> 1.3
A66: ※ 도시화율(%)= [(국계법상 도시지역 및 계획관리지역면적)/(위험지역면적)]*100
A68: 5) 중간 및 최종 보고자료 작성 보정계수(α18)
A69: 가) 지역특성 : | B69: 산지,농경지(1.0), 도심지(1.3) | E69: 1.3
A71: 2. 보정계수 적용
A72: 업무구분 | C72: 단위 | D72: 보정계수 적용
D73: 해당유무 | E73: α1 | F73: α2 | G73: α3 | H73: α4 | I73: α5 | J73: α6 | K73: α7 | L73: α8-1 | M73: α8-2 | N73: α8-3 | O73: α8-4 | P73: α8-5 | Q73: α8-6 | R73: α9-1 | S73: α9-2 | T73: α10 | U73: α11 | V73: α12 | W73: α13 | X73: α14 | Y73: α15 | Z73: α16 | AA73: α17 | AB73: α18
A74: =적용수량!A5 -> 가. 작업계획 수립 | C74: 식
A75: =적용수량!A6 -> 1) 작업계획 수립 | D75: 1
A76: =적용수량!A7 -> 나. 관련자료 조사 및 검토
A77: =적용수량!A8 -> 1) 관련자료 조사 | C77: 식 | D77: 1
A78: =적용수량!A9 -> 2) 관련계획 검토 | C78: 식 | D78: 1
A79: =적용수량!A10 -> 다. 피해현황 및 원인분석
A80: =적용수량!A11 -> 1) 피해현황 조사 | C80: =적용수량!B11 -> 1식 | D80: 1
A81: =적용수량!A12 -> 2) 피해원인 분석
A82: =적용수량!A13 -> 가) 수리․수문조사 | C82: =적용수량!B13 -> 10km2 | D82: 1 | F82: =ROUNDDOWN($E$13,2) -> 0.3
A83: =적용수량!A14 -> 나) 강우분석 | C83: =적용수량!B14 -> 10km2 | D83: 1 | F83: =ROUNDDOWN($E$13,2) -> 0.3
A84: =적용수량!A15 -> 다) 유출분석 | C84: =적용수량!B15 -> 10km2 | D84: 1 | F84: =ROUNDDOWN($E$13,2) -> 0.3
A85: =적용수량!A16 -> 라) 홍수위산정 | C85: =적용수량!B16 -> 1㎞ | D85: 1 | E85: =ROUNDDOWN($E$6,3) -> 5.14
A86: =적용수량!A17 -> 마) 범람해석(2차원 시뮬레이션) | C86: =적용수량!B17 -> 1km2 | D86: 1 | F86: =ROUNDDOWN($E$19,2) -> 1.95
A87: =적용수량!A18 -> 바) 피해원인분석 | C87: =적용수량!B18 -> 1㎞ | D87: 1 | E87: =ROUNDDOWN($E$6,3) -> 5.14
A88: =적용수량!A19 -> 라. 정비계획수립
A89: =적용수량!A20 -> 1) 재해유형별 정비기본방향
A90: =적용수량!A21 -> 가) 침수위험지구(하천재해) | C90: =적용수량!B21 -> 1㎞ | D90: 1 | E90: =ROUNDDOWN($E$6,3) -> 5.14
A91: =적용수량!A22 -> 나) 침수위험지구(내수재해) | C91: =적용수량!B22 -> 1㎞2 | D91: 1 | F91: =ROUNDDOWN($E$19,2) -> 1.95
A92: =적용수량!A23 -> 다) 유실위험지구 | C92: =적용수량!B23 -> 1식 | D92: 0
A93: =적용수량!A24 -> 라) 고립위험지구 | C93: =적용수량!B24 -> 1식 | D93: 0
A94: =적용수량!A25 -> 2) 주요시설물 정비계획
A95: =적용수량!A26 -> 가) 하천. 소하천시설물 | C95: 1 km | D95: 1 | E95: =ROUNDDOWN($E$6,3) -> 5.14 | K95: =ROUNDDOWN($D$65,2) -> 1.3
A96: =적용수량!A27 -> 나) 배수펌프장 및 유수지 | C96: 1 ㎥/s,개소 | D96: 1 | I96: =ROUNDDOWN($E$50,2) -> 0.2 | K96: =ROUNDDOWN($D$65,2) -> 1.3
A97: =적용수량!A28 -> 다) 우수관로 | C97: 1 km,관경 | D97: 1 | G97: =ROUNDDOWN($E$37,2) -> 0 | K97: =ROUNDDOWN($D$65,2) -> 1.3
A98: =적용수량!A29 -> 라) 우수유출저감시설 | C98: 1만㎥,개소 | D98: 1 | H98: 0 | K98: =ROUNDDOWN($D$65,2) -> 1.3
A99: =적용수량!A30 -> 마. 성과품 작성
A100: =적용수량!A31 -> 1) 기본계획 보고서 | C100: =적용수량!B31 -> 식 | D100: 1
A101: =적용수량!A32 -> 2) 중간 및 최종 보고자료 작성 (PPT) | C101: =적용수량!B32 -> 식 | D101: 1 | AB101: =$E$69 -> 1.3

Sheet 적용수량
A1: ■ 침수방지대책 기본계획 (적용수량)
A2: 구 분 | B2: 원단위 기준 | C2: 적용기준 | D2: 보정계수 | E2: 보정계수 | AF2: 기준소요인력에 대한 적용비율 | AH2: 100 | AI2: % (총용역비 감액시 적용)
E3: ='보정계수 산출'!D73 -> 해당유무 | F3: ='보정계수 산출'!E73 -> α1 | G3: ='보정계수 산출'!F73 -> α2 | H3: ='보정계수 산출'!G73 -> α3 | I3: ='보정계수 산출'!H73 -> α4 | J3: ='보정계수 산출'!I73 -> α5 | K3: ='보정계수 산출'!J73 -> α6 | L3: ='보정계수 산출'!K73 -> α7 | ... AC3: ='보정계수 산출'!AB73 -> α18 | AD3: 적용 | AH3: =AH2/100 -> 1
A4: 침수방지대책 마스터플랜 및 기본계획 직접인건비
A5: =적용소요인력!A5 -> 가. 작업계획 수립 | E5: =IF('보정계수 산출'!D74=0,"",'보정계수 산출'!D74) | F5: =IF('보정계수 산출'!E74=0,"",'보정계수 산출'!E74) | G5: =IF('보정계수 산출'!F74=0,"",'보정계수 산출'!F74) | H5: =IF('보정계수 산출'!G74=0,"",'보정계수 산출'!G74) | I5: =IF('보정계수 산출'!H74=0,"",'보정계수 산출'!H74) | J5: =IF('보정계수 산출'!I74=0,"",'보정계수 산출'!I74) | K5: =IF('보정계수 산출'!J74=0,"",'보정계수 산출'!J74) | L5: =IF('보정계수 산출'!K74=0,"",'보정계수 산출'!K74) | ... AC5: =IF('보정계수 산출'!AB74=0,"",'보정계수 산출'!AB74)
A6: =적용소요인력!A6 -> 1) 작업계획 수립 | B6: =적용소요인력!B6 -> 1식 | C6: =적용소요인력!C6 -> 재해예방사업 당 | E6: =IF('보정계수 산출'!D75=0,0,'보정계수 산출'!D75) -> 1 | F6: =IF('보정계수 산출'!E75=0,"",'보정계수 산출'!E75) | G6: =IF('보정계수 산출'!F75=0,"",'보정계수 산출'!F75) | H6: =IF('보정계수 산출'!G75=0,"",'보정계수 산출'!G75) | I6: =IF('보정계수 산출'!H75=0,"",'보정계수 산출'!H75) | J6: =IF('보정계수 산출'!I75=0,"",'보정계수 산출'!I75) | K6: =IF('보정계수 산출'!J75=0,"",'보정계수 산출'!J75) | L6: =IF('보정계수 산출'!K75=0,"",'보정계수 산출'!K75) | M6: =IF('보정계수 산출'!L75=0,"",'보정계수 산출'!L75) | ... AC6: =IF('보정계수 산출'!AB75=0,"",'보정계수 산출'!AB75) | AD6: =IF(PRODUCT(E6:AC6)=0,0, PRODUCT(E6:AC6)) -> 1
A7: =적용소요인력!A7 -> 나. 관련자료 조사 및 검토 | E7: =IF('보정계수 산출'!D76=0,"",'보정계수 산출'!D76) | F7: =IF('보정계수 산출'!E76=0,"",'보정계수 산출'!E76) | G7: =IF('보정계수 산출'!F76=0,"",'보정계수 산출'!F76) | H7: =IF('보정계수 산출'!G76=0,"",'보정계수 산출'!G76) | I7: =IF('보정계수 산출'!H76=0,"",'보정계수 산출'!H76) | J7: =IF('보정계수 산출'!I76=0,"",'보정계수 산출'!I76) | K7: =IF('보정계수 산출'!J76=0,"",'보정계수 산출'!J76) | L7: =IF('보정계수 산출'!K76=0,"",'보정계수 산출'!K76) | ... AC7: =IF('보정계수 산출'!AB76=0,"",'보정계수 산출'!AB76)
A8: =적용소요인력!A8 -> 1) 관련자료 조사 | B8: =적용소요인력!B8 -> 1식 | C8: =적용소요인력!C8 -> 재해예방사업 당 | E8: =IF('보정계수 산출'!D77=0,0,'보정계수 산출'!D77) -> 1 | F8: =IF('보정계수 산출'!E77=0,"",'보정계수 산출'!E77) | G8: =IF('보정계수 산출'!F77=0,"",'보정계수 산출'!F77) | H8: =IF('보정계수 산출'!G77=0,"",'보정계수 산출'!G77) | I8: =IF('보정계수 산출'!H77=0,"",'보정계수 산출'!H77) | J8: =IF('보정계수 산출'!I77=0,"",'보정계수 산출'!I77) | K8: =IF('보정계수 산출'!J77=0,"",'보정계수 산출'!J77) | L8: =IF('보정계수 산출'!K77=0,"",'보정계수 산출'!K77) | M8: =IF('보정계수 산출'!L77=0,"",'보정계수 산출'!L77) | ... AC8: =IF('보정계수 산출'!AB77=0,"",'보정계수 산출'!AB77) | AD8: =IF(PRODUCT(E8:AC8)=0,0, PRODUCT(E8:AC8)) -> 1
A9: =적용소요인력!A9 -> 2) 관련계획 검토 | B9: =적용소요인력!B9 -> 1식 | C9: =적용소요인력!C9 -> 재해예방사업 당 | E9: =IF('보정계수 산출'!D78=0,0,'보정계수 산출'!D78) -> 1 | F9: =IF('보정계수 산출'!E78=0,"",'보정계수 산출'!E78) | G9: =IF('보정계수 산출'!F78=0,"",'보정계수 산출'!F78) | H9: =IF('보정계수 산출'!G78=0,"",'보정계수 산출'!G78) | I9: =IF('보정계수 산출'!H78=0,"",'보정계수 산출'!H78) | J9: =IF('보정계수 산출'!I78=0,"",'보정계수 산출'!I78) | K9: =IF('보정계수 산출'!J78=0,"",'보정계수 산출'!J78) | L9: =IF('보정계수 산출'!K78=0,"",'보정계수 산출'!K78) | M9: =IF('보정계수 산출'!L78=0,"",'보정계수 산출'!L78) | ... AC9: =IF('보정계수 산출'!AB78=0,"",'보정계수 산출'!AB78) | AD9: =IF(PRODUCT(E9:AC9)=0,0, PRODUCT(E9:AC9)) -> 1
A10: =적용소요인력!A10 -> 다. 피해현황 및 원인분석 | E10: =IF('보정계수 산출'!D79=0,"",'보정계수 산출'!D79) | F10: =IF('보정계수 산출'!E79=0,"",'보정계수 산출'!E79) | G10: =IF('보정계수 산출'!F79=0,"",'보정계수 산출'!F79) | H10: =IF('보정계수 산출'!G79=0,"",'보정계수 산출'!G79) | I10: =IF('보정계수 산출'!H79=0,"",'보정계수 산출'!H79) | J10: =IF('보정계수 산출'!I79=0,"",'보정계수 산출'!I79) | K10: =IF('보정계수 산출'!J79=0,"",'보정계수 산출'!J79) | L10: =IF('보정계수 산출'!K79=0,"",'보정계수 산출'!K79) | ... AC10: =IF('보정계수 산출'!AB79=0,"",'보정계수 산출'!AB79)
A11: =적용소요인력!A11 -> 1) 피해현황 조사 | B11: =적용소요인력!B11 -> 1식 | C11: =적용소요인력!C11 -> 재해예방사업 당 | E11: =IF('보정계수 산출'!D80=0,0,'보정계수 산출'!D80) -> 1 | F11: =IF('보정계수 산출'!E80=0,"",'보정계수 산출'!E80) | G11: =IF('보정계수 산출'!F80=0,"",'보정계수 산출'!F80) | H11: =IF('보정계수 산출'!G80=0,"",'보정계수 산출'!G80) | I11: =IF('보정계수 산출'!H80=0,"",'보정계수 산출'!H80) | J11: =IF('보정계수 산출'!I80=0,"",'보정계수 산출'!I80) | K11: =IF('보정계수 산출'!J80=0,"",'보정계수 산출'!J80) | L11: =IF('보정계수 산출'!K80=0,"",'보정계수 산출'!K80) | M11: =IF('보정계수 산출'!L80=0,"",'보정계수 산출'!L80) | ... AC11: =IF('보정계수 산출'!AB80=0,"",'보정계수 산출'!AB80) | AD11: =IF(PRODUCT(E11:AC11)=0,0, PRODUCT(E11:AC11)) -> 1
A12: =적용소요인력!A12 -> 2) 피해원인 분석 | E12: =IF('보정계수 산출'!D81=0,"",'보정계수 산출'!D81) | F12: =IF('보정계수 산출'!E81=0,"",'보정계수 산출'!E81) | G12: =IF('보정계수 산출'!F81=0,"",'보정계수 산출'!F81) | H12: =IF('보정계수 산출'!G81=0,"",'보정계수 산출'!G81) | I12: =IF('보정계수 산출'!H81=0,"",'보정계수 산출'!H81) | J12: =IF('보정계수 산출'!I81=0,"",'보정계수 산출'!I81) | K12: =IF('보정계수 산출'!J81=0,"",'보정계수 산출'!J81) | L12: =IF('보정계수 산출'!K81=0,"",'보정계수 산출'!K81) | ... AC12: =IF('보정계수 산출'!AB81=0,"",'보정계수 산출'!AB81)
A13: =적용소요인력!A13 -> 가) 수리․수문조사 | B13: =적용소요인력!B13 -> 10km2 | C13: =적용소요인력!C13 -> 유역면적당 | D13: α2 | E13: =IF('보정계수 산출'!D82=0,0,'보정계수 산출'!D82) -> 1 | F13: =IF('보정계수 산출'!E82=0,"",'보정계수 산출'!E82) | G13: =IF('보정계수 산출'!F82=0,"",'보정계수 산출'!F82) -> 0.3 | H13: =IF('보정계수 산출'!G82=0,"",'보정계수 산출'!G82) | I13: =IF('보정계수 산출'!H82=0,"",'보정계수 산출'!H82) | J13: =IF('보정계수 산출'!I82=0,"",'보정계수 산출'!I82) | K13: =IF('보정계수 산출'!J82=0,"",'보정계수 산출'!J82) | L13: =IF('보정계수 산출'!K82=0,"",'보정계수 산출'!K82) | M13: =IF('보정계수 산출'!L82=0,"",'보정계수 산출'!L82) | ... AC13: =IF('보정계수 산출'!AB82=0,"",'보정계수 산출'!AB82) | AD13: =IF(PRODUCT(E13:AC13)=0,0, PRODUCT(E13:AC13)) -> 0.3
A14: =적용소요인력!A14 -> 나) 강우분석 | B14: =적용소요인력!B14 -> 10km2 | C14: =적용소요인력!C14 -> 유역면적당 | D14: α2 | E14: =IF('보정계수 산출'!D83=0,0,'보정계수 산출'!D83) -> 1 | F14: =IF('보정계수 산출'!E83=0,"",'보정계수 산출'!E83) | G14: =IF('보정계수 산출'!F83=0,"",'보정계수 산출'!F83) -> 0.3 | H14: =IF('보정계수 산출'!G83=0,"",'보정계수 산출'!G83) | I14: =IF('보정계수 산출'!H83=0,"",'보정계수 산출'!H83) | J14: =IF('보정계수 산출'!I83=0,"",'보정계수 산출'!I83) | K14: =IF('보정계수 산출'!J83=0,"",'보정계수 산출'!J83) | L14: =IF('보정계수 산출'!K83=0,"",'보정계수 산출'!K83) | M14: =IF('보정계수 산출'!L83=0,"",'보정계수 산출'!L83) | ... AC14: =IF('보정계수 산출'!AB83=0,"",'보정계수 산출'!AB83) | AD14: =IF(PRODUCT(E14:AC14)=0,0, PRODUCT(E14:AC14)) -> 0.3
A15: =적용소요인력!A15 -> 다) 유출분석 | B15: =적용소요인력!B15 -> 10km2 | C15: =적용소요인력!C15 -> 유역면적당 | D15: α2 | E15: =IF('보정계수 산출'!D84=0,0,'보정계수 산출'!D84) -> 1 | F15: =IF('보정계수 산출'!E84=0,"",'보정계수 산출'!E84) | G15: =IF('보정계수 산출'!F84=0,"",'보정계수 산출'!F84) -> 0.3 | H15: =IF('보정계수 산출'!G84=0,"",'보정계수 산출'!G84) | I15: =IF('보정계수 산출'!H84=0,"",'보정계수 산출'!H84) | J15: =IF('보정계수 산출'!I84=0,"",'보정계수 산출'!I84) | K15: =IF('보정계수 산출'!J84=0,"",'보정계수 산출'!J84) | L15: =IF('보정계수 산출'!K84=0,"",'보정계수 산출'!K84) | M15: =IF('보정계수 산출'!L84=0,"",'보정계수 산출'!L84) | ... AC15: =IF('보정계수 산출'!AB84=0,"",'보정계수 산출'!AB84) | AD15: =IF(PRODUCT(E15:AC15)=0,0, PRODUCT(E15:AC15)) -> 0.3
A16: =적용소요인력!A16 -> 라) 홍수위산정 | B16: =적용소요인력!B16 -> 1㎞ | C16: =적용소요인력!C16 -> 연장당 | D16: α1 | E16: 0 | F16: =IF('보정계수 산출'!E85=0,"",'보정계수 산출'!E85) -> 5.14 | G16: =IF('보정계수 산출'!F85=0,"",'보정계수 산출'!F85) | H16: =IF('보정계수 산출'!G85=0,"",'보정계수 산출'!G85) | I16: =IF('보정계수 산출'!H85=0,"",'보정계수 산출'!H85) | J16: =IF('보정계수 산출'!I85=0,"",'보정계수 산출'!I85) | K16: =IF('보정계수 산출'!J85=0,"",'보정계수 산출'!J85) | L16: =IF('보정계수 산출'!K85=0,"",'보정계수 산출'!K85) | M16: =IF('보정계수 산출'!L85=0,"",'보정계수 산출'!L85) | ... AC16: =IF('보정계수 산출'!AB85=0,"",'보정계수 산출'!AB85) | AD16: =IF(PRODUCT(E16:AC16)=0,0, PRODUCT(E16:AC16)) -> 0
A17: =적용소요인력!A17 -> 마) 범람해석(2차원 시뮬레이션) | B17: =적용소요인력!B17 -> 1km2 | C17: =적용소요인력!C17 -> 유역면적당 | D17: α2 | E17: =IF('보정계수 산출'!D86=0,0,'보정계수 산출'!D86) -> 1 | F17: =IF('보정계수 산출'!E86=0,"",'보정계수 산출'!E86) | G17: =IF('보정계수 산출'!F86=0,"",'보정계수 산출'!F86) -> 1.95 | H17: =IF('보정계수 산출'!G86=0,"",'보정계수 산출'!G86) | I17: =IF('보정계수 산출'!H86=0,"",'보정계수 산출'!H86) | J17: =IF('보정계수 산출'!I86=0,"",'보정계수 산출'!I86) | K17: =IF('보정계수 산출'!J86=0,"",'보정계수 산출'!J86) | L17: =IF('보정계수 산출'!K86=0,"",'보정계수 산출'!K86) | M17: =IF('보정계수 산출'!L86=0,"",'보정계수 산출'!L86) | ... AC17: =IF('보정계수 산출'!AB86=0,"",'보정계수 산출'!AB86) | AD17: =IF(PRODUCT(E17:AC17)=0,0, PRODUCT(E17:AC17)) -> 1.95
A18: =적용소요인력!A18 -> 바) 피해원인분석 | B18: =적용소요인력!B18 -> 1㎞ | C18: =적용소요인력!C18 -> 연장당 | D18: α1 | E18: =IF('보정계수 산출'!D87=0,0,'보정계수 산출'!D87) -> 1 | F18: =IF('보정계수 산출'!E87=0,"",'보정계수 산출'!E87) -> 5.14 | G18: =IF('보정계수 산출'!F87=0,"",'보정계수 산출'!F87) | H18: =IF('보정계수 산출'!G87=0,"",'보정계수 산출'!G87) | I18: =IF('보정계수 산출'!H87=0,"",'보정계수 산출'!H87) | J18: =IF('보정계수 산출'!I87=0,"",'보정계수 산출'!I87) | K18: =IF('보정계수 산출'!J87=0,"",'보정계수 산출'!J87) | L18: =IF('보정계수 산출'!K87=0,"",'보정계수 산출'!K87) | M18: =IF('보정계수 산출'!L87=0,"",'보정계수 산출'!L87) | ... AC18: =IF('보정계수 산출'!AB87=0,"",'보정계수 산출'!AB87) | AD18: =IF(PRODUCT(E18:AC18)=0,0, PRODUCT(E18:AC18)) -> 5.14
A19: =적용소요인력!A19 -> 라. 정비계획수립 | E19: =IF('보정계수 산출'!D88=0,"",'보정계수 산출'!D88) | F19: =IF('보정계수 산출'!E88=0,"",'보정계수 산출'!E88) | G19: =IF('보정계수 산출'!F88=0,"",'보정계수 산출'!F88) | H19: =IF('보정계수 산출'!G88=0,"",'보정계수 산출'!G88) | I19: =IF('보정계수 산출'!H88=0,"",'보정계수 산출'!H88) | J19: =IF('보정계수 산출'!I88=0,"",'보정계수 산출'!I88) | K19: =IF('보정계수 산출'!J88=0,"",'보정계수 산출'!J88) | L19: =IF('보정계수 산출'!K88=0,"",'보정계수 산출'!K88) | ... AC19: =IF('보정계수 산출'!AB88=0,"",'보정계수 산출'!AB88)
A20: =적용소요인력!A20 -> 1) 재해유형별 정비기본방향 | E20: =IF('보정계수 산출'!D89=0,"",'보정계수 산출'!D89) | F20: =IF('보정계수 산출'!E89=0,"",'보정계수 산출'!E89) | G20: =IF('보정계수 산출'!F89=0,"",'보정계수 산출'!F89) | H20: =IF('보정계수 산출'!G89=0,"",'보정계수 산출'!G89) | I20: =IF('보정계수 산출'!H89=0,"",'보정계수 산출'!H89) | J20: =IF('보정계수 산출'!I89=0,"",'보정계수 산출'!I89) | K20: =IF('보정계수 산출'!J89=0,"",'보정계수 산출'!J89) | L20: =IF('보정계수 산출'!K89=0,"",'보정계수 산출'!K89) | ... AC20: =IF('보정계수 산출'!AB89=0,"",'보정계수 산출'!AB89)
A21: =적용소요인력!A21 -> 가) 침수위험지구(하천재해) | B21: =적용소요인력!B21 -> 1㎞ | C21: =적용소요인력!C21 -> 연장당 | D21: α1 | E21: =IF('보정계수 산출'!D90=0,0,'보정계수 산출'!D90) -> 1 | F21: =IF('보정계수 산출'!E90=0,"",'보정계수 산출'!E90) -> 5.14 | G21: =IF('보정계수 산출'!F90=0,"",'보정계수 산출'!F90) | H21: =IF('보정계수 산출'!G90=0,"",'보정계수 산출'!G90) | I21: =IF('보정계수 산출'!H90=0,"",'보정계수 산출'!H90) | J21: =IF('보정계수 산출'!I90=0,"",'보정계수 산출'!I90) | K21: =IF('보정계수 산출'!J90=0,"",'보정계수 산출'!J90) | L21: =IF('보정계수 산출'!K90=0,"",'보정계수 산출'!K90) | M21: =IF('보정계수 산출'!L90=0,"",'보정계수 산출'!L90) | ... AC21: =IF('보정계수 산출'!AB90=0,"",'보정계수 산출'!AB90) | AD21: =IF(PRODUCT(E21:AC21)=0,0, PRODUCT(E21:AC21)) -> 5.14
A22: =적용소요인력!A22 -> 나) 침수위험지구(내수재해) | B22: =적용소요인력!B22 -> 1㎞2 | C22: =적용소요인력!C22 -> 유역면적당 | D22: α2 | E22: =IF('보정계수 산출'!D91=0,0,'보정계수 산출'!D91) -> 1 | F22: =IF('보정계수 산출'!E91=0,"",'보정계수 산출'!E91) | G22: =IF('보정계수 산출'!F91=0,"",'보정계수 산출'!F91) -> 1.95 | H22: =IF('보정계수 산출'!G91=0,"",'보정계수 산출'!G91) | I22: =IF('보정계수 산출'!H91=0,"",'보정계수 산출'!H91) | J22: =IF('보정계수 산출'!I91=0,"",'보정계수 산출'!I91) | K22: =IF('보정계수 산출'!J91=0,"",'보정계수 산출'!J91) | L22: =IF('보정계수 산출'!K91=0,"",'보정계수 산출'!K91) | M22: =IF('보정계수 산출'!L91=0,"",'보정계수 산출'!L91) | ... AC22: =IF('보정계수 산출'!AB91=0,"",'보정계수 산출'!AB91) | AD22: =IF(PRODUCT(E22:AC22)=0,0, PRODUCT(E22:AC22)) -> 1.95
A23: =적용소요인력!A23 -> 다) 유실위험지구 | B23: =적용소요인력!B23 -> 1식 | C23: =적용소요인력!C23 -> 재해예방사업 당 | E23: =IF('보정계수 산출'!D92=0,0,'보정계수 산출'!D92) -> 0 | F23: =IF('보정계수 산출'!E92=0,"",'보정계수 산출'!E92) | G23: =IF('보정계수 산출'!F92=0,"",'보정계수 산출'!F92) | H23: =IF('보정계수 산출'!G92=0,"",'보정계수 산출'!G92) | I23: =IF('보정계수 산출'!H92=0,"",'보정계수 산출'!H92) | J23: =IF('보정계수 산출'!I92=0,"",'보정계수 산출'!I92) | K23: =IF('보정계수 산출'!J92=0,"",'보정계수 산출'!J92) | L23: =IF('보정계수 산출'!K92=0,"",'보정계수 산출'!K92) | M23: =IF('보정계수 산출'!L92=0,"",'보정계수 산출'!L92) | ... AC23: =IF('보정계수 산출'!AB92=0,"",'보정계수 산출'!AB92) | AD23: =IF(PRODUCT(E23:AC23)=0,0, PRODUCT(E23:AC23)) -> 0
A24: =적용소요인력!A24 -> 라) 고립위험지구 | B24: =적용소요인력!B24 -> 1식 | C24: =적용소요인력!C24 -> 재해예방사업 당 | E24: =IF('보정계수 산출'!D93=0,0,'보정계수 산출'!D93) -> 0 | F24: =IF('보정계수 산출'!E93=0,"",'보정계수 산출'!E93) | G24: =IF('보정계수 산출'!F93=0,"",'보정계수 산출'!F93) | H24: =IF('보정계수 산출'!G93=0,"",'보정계수 산출'!G93) | I24: =IF('보정계수 산출'!H93=0,"",'보정계수 산출'!H93) | J24: =IF('보정계수 산출'!I93=0,"",'보정계수 산출'!I93) | K24: =IF('보정계수 산출'!J93=0,"",'보정계수 산출'!J93) | L24: =IF('보정계수 산출'!K93=0,"",'보정계수 산출'!K93) | M24: =IF('보정계수 산출'!L93=0,"",'보정계수 산출'!L93) | ... AC24: =IF('보정계수 산출'!AB93=0,"",'보정계수 산출'!AB93) | AD24: =IF(PRODUCT(E24:AC24)=0,0, PRODUCT(E24:AC24)) -> 0
A25: =적용소요인력!A25 -> 2) 주요시설물 정비계획 | E25: =IF('보정계수 산출'!D94=0,"",'보정계수 산출'!D94) | F25: =IF('보정계수 산출'!E94=0,"",'보정계수 산출'!E94) | G25: =IF('보정계수 산출'!F94=0,"",'보정계수 산출'!F94) | H25: =IF('보정계수 산출'!G94=0,"",'보정계수 산출'!G94) | I25: =IF('보정계수 산출'!H94=0,"",'보정계수 산출'!H94) | J25: =IF('보정계수 산출'!I94=0,"",'보정계수 산출'!I94) | K25: =IF('보정계수 산출'!J94=0,"",'보정계수 산출'!J94) | L25: =IF('보정계수 산출'!K94=0,"",'보정계수 산출'!K94) | ... AC25: =IF('보정계수 산출'!AB94=0,"",'보정계수 산출'!AB94)
A26: =적용소요인력!A26 -> 가) 하천. 소하천시설물 | B26: =적용소요인력!B26 -> 1 km | C26: =적용소요인력!C26 -> 하천시설 연장당 | D26: α1, α7 | E26: =IF('보정계수 산출'!D95=0,0,'보정계수 산출'!D95) -> 1 | F26: =IF('보정계수 산출'!E95=0,"",'보정계수 산출'!E95) -> 5.14 | G26: =IF('보정계수 산출'!F95=0,"",'보정계수 산출'!F95) | H26: =IF('보정계수 산출'!G95=0,"",'보정계수 산출'!G95) | I26: =IF('보정계수 산출'!H95=0,"",'보정계수 산출'!H95) | J26: =IF('보정계수 산출'!I95=0,"",'보정계수 산출'!I95) | K26: =IF('보정계수 산출'!J95=0,"",'보정계수 산출'!J95) | L26: =IF('보정계수 산출'!K95=0,"",'보정계수 산출'!K95) -> 1.3 | M26: =IF('보정계수 산출'!L95=0,"",'보정계수 산출'!L95) | ... AC26: =IF('보정계수 산출'!AB95=0,"",'보정계수 산출'!AB95) | AD26: =IF(PRODUCT(E26:AC26)=0,0, PRODUCT(E26:AC26)) -> 6.682
A27: =적용소요인력!A27 -> 나) 배수펌프장 및 유수지 | B27: =적용소요인력!B27 -> 1 ㎥/s,개소 | C27: =적용소요인력!C27 -> 용량당 | D27: α5, α7 | E27: =IF('보정계수 산출'!D96=0,0,'보정계수 산출'!D96) -> 1 | F27: =IF('보정계수 산출'!E96=0,"",'보정계수 산출'!E96) | G27: =IF('보정계수 산출'!F96=0,"",'보정계수 산출'!F96) | H27: =IF('보정계수 산출'!G96=0,"",'보정계수 산출'!G96) | I27: =IF('보정계수 산출'!H96=0,"",'보정계수 산출'!H96) | J27: =IF('보정계수 산출'!I96=0,"",'보정계수 산출'!I96) -> 0.2 | K27: =IF('보정계수 산출'!J96=0,"",'보정계수 산출'!J96) | L27: =IF('보정계수 산출'!K96=0,"",'보정계수 산출'!K96) -> 1.3 | M27: =IF('보정계수 산출'!L96=0,"",'보정계수 산출'!L96) | ... AC27: =IF('보정계수 산출'!AB96=0,"",'보정계수 산출'!AB96) | AD27: =IF(PRODUCT(E27:AC27)=0,0, PRODUCT(E27:AC27)) -> 0.26
A28: =적용소요인력!A28 -> 다) 우수관로 | B28: =적용소요인력!B28 -> 1 km,관경 | C28: =적용소요인력!C28 -> 관로 연장당 | D28: α3, α7 | E28: =IF('보정계수 산출'!D97=0,0,'보정계수 산출'!D97) -> 1 | F28: =IF('보정계수 산출'!E97=0,"",'보정계수 산출'!E97) | G28: =IF('보정계수 산출'!F97=0,"",'보정계수 산출'!F97) | H28: =IF('보정계수 산출'!G97=0,"",'보정계수 산출'!G97) | I28: =IF('보정계수 산출'!H97=0,"",'보정계수 산출'!H97) | J28: =IF('보정계수 산출'!I97=0,"",'보정계수 산출'!I97) | K28: =IF('보정계수 산출'!J97=0,"",'보정계수 산출'!J97) | L28: =IF('보정계수 산출'!K97=0,"",'보정계수 산출'!K97) -> 1.3 | M28: =IF('보정계수 산출'!L97=0,"",'보정계수 산출'!L97) | ... AC28: =IF('보정계수 산출'!AB97=0,"",'보정계수 산출'!AB97) | AD28: =IF(PRODUCT(E28:AC28)=0,0, PRODUCT(E28:AC28)) -> 1.3
A29: =적용소요인력!A29 -> 라) 우수유출저감시설 | B29: =적용소요인력!B29 -> 1만㎥,개소 | C29: =적용소요인력!C29 -> 용량당 | D29: α4, α7 | E29: =IF('보정계수 산출'!D98=0,0,'보정계수 산출'!D98) -> 1 | F29: =IF('보정계수 산출'!E98=0,"",'보정계수 산출'!E98) | G29: =IF('보정계수 산출'!F98=0,"",'보정계수 산출'!F98) | H29: =IF('보정계수 산출'!G98=0,"",'보정계수 산출'!G98) | I29: =IF('보정계수 산출'!H98=0,"",'보정계수 산출'!H98) | J29: =IF('보정계수 산출'!I98=0,"",'보정계수 산출'!I98) | K29: =IF('보정계수 산출'!J98=0,"",'보정계수 산출'!J98) | L29: =IF('보정계수 산출'!K98=0,"",'보정계수 산출'!K98) -> 1.3 | M29: =IF('보정계수 산출'!L98=0,"",'보정계수 산출'!L98) | ... AC29: =IF('보정계수 산출'!AB98=0,"",'보정계수 산출'!AB98) | AD29: =IF(PRODUCT(E29:AC29)=0,0, PRODUCT(E29:AC29)) -> 1.3
A30: =적용소요인력!A30 -> 마. 성과품 작성 | E30: =IF('보정계수 산출'!D99=0,"",'보정계수 산출'!D99) | F30: =IF('보정계수 산출'!E99=0,"",'보정계수 산출'!E99) | G30: =IF('보정계수 산출'!F99=0,"",'보정계수 산출'!F99) | H30: =IF('보정계수 산출'!G99=0,"",'보정계수 산출'!G99) | I30: =IF('보정계수 산출'!H99=0,"",'보정계수 산출'!H99) | J30: =IF('보정계수 산출'!I99=0,"",'보정계수 산출'!I99) | K30: =IF('보정계수 산출'!J99=0,"",'보정계수 산출'!J99) | L30: =IF('보정계수 산출'!K99=0,"",'보정계수 산출'!K99) | ... AC30: =IF('보정계수 산출'!AB99=0,"",'보정계수 산출'!AB99) | AD30: =IF(PRODUCT(E30:AC30)=0,"", PRODUCT(E30:AC30))
A31: =적용소요인력!A31 -> 1) 기본계획 보고서 | B31: =적용소요인력!B31 -> 식 | C31: =적용소요인력!C31 -> 재해예방사업 당 | E31: =IF('보정계수 산출'!D100=0,0,'보정계수 산출'!D100) -> 1 | F31: =IF('보정계수 산출'!E100=0,"",'보정계수 산출'!E100) | G31: =IF('보정계수 산출'!F100=0,"",'보정계수 산출'!F100) | H31: =IF('보정계수 산출'!G100=0,"",'보정계수 산출'!G100) | I31: =IF('보정계수 산출'!H100=0,"",'보정계수 산출'!H100) | J31: =IF('보정계수 산출'!I100=0,"",'보정계수 산출'!I100) | K31: =IF('보정계수 산출'!J100=0,"",'보정계수 산출'!J100) | L31: =IF('보정계수 산출'!K100=0,"",'보정계수 산출'!K100) | M31: =IF('보정계수 산출'!L100=0,"",'보정계수 산출'!L100) | ... AC31: =IF('보정계수 산출'!AB100=0,"",'보정계수 산출'!AB100) | AD31: =IF(PRODUCT(E31:AC31)=0,0, PRODUCT(E31:AC31)) -> 1
A32: =적용소요인력!A32 -> 2) 중간 및 최종 보고자료 작성 (PPT) | B32: =적용소요인력!B32 -> 식 | C32: =적용소요인력!C32 -> 재해예방사업 당 | D32: α18 | E32: =IF('보정계수 산출'!D101=0,0,'보정계수 산출'!D101) -> 1 | F32: =IF('보정계수 산출'!E101=0,"",'보정계수 산출'!E101) | G32: =IF('보정계수 산출'!F101=0,"",'보정계수 산출'!F101) | H32: =IF('보정계수 산출'!G101=0,"",'보정계수 산출'!G101) | I32: =IF('보정계수 산출'!H101=0,"",'보정계수 산출'!H101) | J32: =IF('보정계수 산출'!I101=0,"",'보정계수 산출'!I101) | K32: =IF('보정계수 산출'!J101=0,"",'보정계수 산출'!J101) | L32: =IF('보정계수 산출'!K101=0,"",'보정계수 산출'!K101) | M32: =IF('보정계수 산출'!L101=0,"",'보정계수 산출'!L101) | ... AC32: =IF('보정계수 산출'!AB101=0,"",'보정계수 산출'!AB101) -> 1.3 | AD32: =IF(PRODUCT(E32:AC32)=0,0, PRODUCT(E32:AC32)) -> 1.3

Sheet 적용소요인력
A1: ■ 침수방지대책 기본계획 (기준소요인력, 방재분야 표준품셈(행정안전부고시 제2024-83호, 2024.10.28.))
A2: 구 분 | B2: 원단위 기준 | C2: 적용기준 | D2: 소요인력 (인·일) | J2: 비고 | K2: 비고
D3: 기술사 | E3: 특급기술자 | F3: 고급기술자 | G3: 중급기술자 | H3: 초급기술자 | I3: 중급숙련자
A4: 침수방지대책 기본계획 직접인건비 | D4: =D5+D7+D10+D19+D30 -> 42.04 | E4: =E5+E7+E10+E19+E30 -> 73.855 | F4: =F5+F7+F10+F19+F30 -> 96.03 | G4: =G5+G7+G10+G19+G30 -> 98.055 | H4: =H5+H7+H10+H19+H30 -> 66.665 | I4: =I5+I7+I10+I19+I30 -> 7 | L4: 0.5 | M4: 용역대가 조정
A5: 가. 작업계획 수립 | D5: =SUM(D6) -> 0.75 | E5: =SUM(E6) -> 1.25 | F5: =SUM(F6) -> 1.25 | G5: =SUM(G6) -> 1.25 | H5: =SUM(H6) -> 0 | I5: =SUM(I6) -> 0
A6: 1) 작업계획 수립 | B6: 1식 | C6: 재해예방사업 당 | D6: =기준소요인력!D6*적용소요인력!$L$4 -> 0.75 | E6: =기준소요인력!E6*적용소요인력!$L$4 -> 1.25 | F6: =기준소요인력!F6*적용소요인력!$L$4 -> 1.25 | G6: =기준소요인력!G6*적용소요인력!$L$4 -> 1.25 | H6: =기준소요인력!H6*적용소요인력!$L$4 -> 0 | I6: =기준소요인력!I6*적용소요인력!$L$4 -> 0
A7: 나. 관련자료 조사 및 검토 | D7: =SUM(D8:D9) -> 1.25 | E7: =SUM(E8:E9) -> 2.4 | F7: =SUM(F8:F9) -> 1.1 | G7: =SUM(G8:G9) -> 1.5 | H7: =SUM(H8:H9) -> 1.4 | I7: =SUM(I8:I9) -> 0
A8: 1) 관련자료 조사 | B8: 1식 | C8: 재해예방사업 당 | D8: =기준소요인력!D8*적용소요인력!$L$4 -> 0.25 | E8: =기준소요인력!E8*적용소요인력!$L$4 -> 0.4 | F8: =기준소요인력!F8*적용소요인력!$L$4 -> 0.9 | G8: =기준소요인력!G8*적용소요인력!$L$4 -> 1.1 | H8: =기준소요인력!H8*적용소요인력!$L$4 -> 0.8 | I8: =기준소요인력!I8*적용소요인력!$L$4 -> 0
A9: 2) 관련계획 검토 | B9: 1식 | C9: 재해예방사업 당 | D9: =기준소요인력!D9*적용소요인력!$L$4 -> 1 | E9: =기준소요인력!E9*적용소요인력!$L$4 -> 2 | F9: =기준소요인력!F9*적용소요인력!$L$4 -> 0.2 | G9: =기준소요인력!G9*적용소요인력!$L$4 -> 0.4 | H9: =기준소요인력!H9*적용소요인력!$L$4 -> 0.6 | I9: =기준소요인력!I9*적용소요인력!$L$4 -> 0
A10: 다. 피해현황 및 원인분석 | D10: =SUM(D11:D12) -> 2.84 | E10: =SUM(E11:E12) -> 7.505 | F10: =SUM(F11:F12) -> 11.08 | G10: =SUM(G11:G12) -> 12.805 | H10: =SUM(H11:H12) -> 9.415 | I10: =SUM(I11:I12) -> 2
A11: 1) 피해현황 조사 | B11: 1식 | C11: 재해예방사업 당 | D11: =기준소요인력!D11*적용소요인력!$L$4 -> 0.04 | E11: =기준소요인력!E11*적용소요인력!$L$4 -> 0.105 | F11: =기준소요인력!F11*적용소요인력!$L$4 -> 0.18 | G11: =기준소요인력!G11*적용소요인력!$L$4 -> 0.255 | H11: =기준소요인력!H11*적용소요인력!$L$4 -> 0.165 | I11: =기준소요인력!I11*적용소요인력!$L$4 -> 0 | M11: ='1.표지'!C43 -> 금370,865,000원(금삼억칠천팔십육만오천원)
A12: 2) 피해원인 분석 | D12: =SUM(D13:D18) -> 2.8 | E12: =SUM(E13:E18) -> 7.4 | F12: =SUM(F13:F18) -> 10.9 | G12: =SUM(G13:G18) -> 12.55 | H12: =SUM(H13:H18) -> 9.25 | I12: =SUM(I13:I18) -> 2
A13: 가) 수리․수문조사 | B13: 10km2 | C13: 유역면적당 | D13: =기준소요인력!D13*적용소요인력!$L$4 -> 0.7 | E13: =기준소요인력!E13*적용소요인력!$L$4 -> 3.7 | F13: =기준소요인력!F13*적용소요인력!$L$4 -> 5.65 | G13: =기준소요인력!G13*적용소요인력!$L$4 -> 6.55 | H13: =기준소요인력!H13*적용소요인력!$L$4 -> 4.3 | I13: =기준소요인력!I13*적용소요인력!$L$4 -> 0
A14: 나) 강우분석 | B14: 10km2 | C14: 유역면적당 | D14: =기준소요인력!D14*적용소요인력!$L$4 -> 0.25 | E14: =기준소요인력!E14*적용소요인력!$L$4 -> 1.1 | F14: =기준소요인력!F14*적용소요인력!$L$4 -> 1.65 | G14: =기준소요인력!G14*적용소요인력!$L$4 -> 1.9 | H14: =기준소요인력!H14*적용소요인력!$L$4 -> 1.25 | I14: =기준소요인력!I14*적용소요인력!$L$4 -> 0
A15: 다) 유출분석 | B15: 10km2 | C15: 유역면적당 | D15: =기준소요인력!D15*적용소요인력!$L$4 -> 0.25 | E15: =기준소요인력!E15*적용소요인력!$L$4 -> 0.5 | F15: =기준소요인력!F15*적용소요인력!$L$4 -> 1 | G15: =기준소요인력!G15*적용소요인력!$L$4 -> 1.75 | H15: =기준소요인력!H15*적용소요인력!$L$4 -> 1.5 | I15: =기준소요인력!I15*적용소요인력!$L$4 -> 1
A16: 라) 홍수위산정 | B16: 1㎞ | C16: 연장당 | D16: =기준소요인력!D16*적용소요인력!$L$4 -> 0.3 | E16: =기준소요인력!E16*적용소요인력!$L$4 -> 0.55 | F16: =기준소요인력!F16*적용소요인력!$L$4 -> 1.05 | G16: =기준소요인력!G16*적용소요인력!$L$4 -> 1.3 | H16: =기준소요인력!H16*적용소요인력!$L$4 -> 1.2 | I16: =기준소요인력!I16*적용소요인력!$L$4 -> 0
A17: 마) 범람해석(2차원 시뮬레이션) | B17: 1km2 | C17: 유역면적당 | D17: =기준소요인력!D17*적용소요인력!$L$4 -> 1.05 | E17: =기준소요인력!E17*적용소요인력!$L$4 -> 1.05 | F17: =기준소요인력!F17*적용소요인력!$L$4 -> 1.05 | G17: =기준소요인력!G17*적용소요인력!$L$4 -> 0.55 | H17: =기준소요인력!H17*적용소요인력!$L$4 -> 0 | I17: =기준소요인력!I17*적용소요인력!$L$4 -> 0 | K17: 침수대응(환경부) 품셈
A18: 바) 피해원인분석 | B18: 1㎞ | C18: 연장당 | D18: =기준소요인력!D18*적용소요인력!$L$4 -> 0.25 | E18: =기준소요인력!E18*적용소요인력!$L$4 -> 0.5 | F18: =기준소요인력!F18*적용소요인력!$L$4 -> 0.5 | G18: =기준소요인력!G18*적용소요인력!$L$4 -> 0.5 | H18: =기준소요인력!H18*적용소요인력!$L$4 -> 1 | I18: =기준소요인력!I18*적용소요인력!$L$4 -> 1
A19: 라. 정비계획수립 | D19: =D20+D25 -> 35.4 | E19: =E20+E25 -> 59.7 | F19: =F20+F25 -> 77.4 | G19: =G20+G25 -> 75.9 | H19: =H20+H25 -> 51.85 | I19: =I20+I25 -> 5
A20: 1) 재해유형별 정비기본방향 | D20: =D21+D22+D23+D24 -> 20.4 | E20: =E21+E22+E23+E24 -> 35.2 | F20: =F21+F22+F23+F24 -> 47.4 | G20: =G21+G22+G23+G24 -> 46.4 | H20: =H21+H22+H23+H24 -> 25.85 | I20: =I21+I22+I23+I24 -> 2
A21: 가) 침수위험지구(하천재해) | B21: 1㎞ | C21: 연장당 | D21: =기준소요인력!D21*적용소요인력!$L$4 -> 5.8 | E21: =기준소요인력!E21*적용소요인력!$L$4 -> 10.4 | F21: =기준소요인력!F21*적용소요인력!$L$4 -> 13.8 | G21: =기준소요인력!G21*적용소요인력!$L$4 -> 13.8 | H21: =기준소요인력!H21*적용소요인력!$L$4 -> 7.95 | I21: =기준소요인력!I21*적용소요인력!$L$4 -> 0
A22: 나) 침수위험지구(내수재해) | B22: 1㎞2 | C22: 유역면적당 | D22: =기준소요인력!D22*적용소요인력!$L$4 -> 3 | E22: =기준소요인력!E22*적용소요인력!$L$4 -> 4 | F22: =기준소요인력!F22*적용소요인력!$L$4 -> 6 | G22: =기준소요인력!G22*적용소요인력!$L$4 -> 5 | H22: =기준소요인력!H22*적용소요인력!$L$4 -> 2 | I22: =기준소요인력!I22*적용소요인력!$L$4 -> 2
A23: 다) 유실위험지구 | B23: 1식 | C23: 재해예방사업 당 | D23: =기준소요인력!D23*적용소요인력!$L$4 -> 5.8 | E23: =기준소요인력!E23*적용소요인력!$L$4 -> 10.4 | F23: =기준소요인력!F23*적용소요인력!$L$4 -> 13.8 | G23: =기준소요인력!G23*적용소요인력!$L$4 -> 13.8 | H23: =기준소요인력!H23*적용소요인력!$L$4 -> 7.95 | I23: =기준소요인력!I23*적용소요인력!$L$4 -> 0
A24: 라) 고립위험지구 | B24: 1식 | C24: 재해예방사업 당 | D24: =기준소요인력!D24*적용소요인력!$L$4 -> 5.8 | E24: =기준소요인력!E24*적용소요인력!$L$4 -> 10.4 | F24: =기준소요인력!F24*적용소요인력!$L$4 -> 13.8 | G24: =기준소요인력!G24*적용소요인력!$L$4 -> 13.8 | H24: =기준소요인력!H24*적용소요인력!$L$4 -> 7.95 | I24: =기준소요인력!I24*적용소요인력!$L$4 -> 0
A25: 2) 주요시설물 정비계획 | D25: =SUM(D26:D29) -> 15 | E25: =SUM(E26:E29) -> 24.5 | F25: =SUM(F26:F29) -> 30 | G25: =SUM(G26:G29) -> 29.5 | H25: =SUM(H26:H29) -> 26 | I25: =SUM(I26:I29) -> 3
A26: 가) 하천. 소하천시설물 | B26: 1 km | C26: 하천시설 연장당 | D26: =기준소요인력!D26*적용소요인력!$L$4 -> 0.5 | E26: =기준소요인력!E26*적용소요인력!$L$4 -> 0.5 | F26: =기준소요인력!F26*적용소요인력!$L$4 -> 1 | G26: =기준소요인력!G26*적용소요인력!$L$4 -> 1.5 | H26: =기준소요인력!H26*적용소요인력!$L$4 -> 1 | I26: =기준소요인력!I26*적용소요인력!$L$4 -> 0
A27: 나) 배수펌프장 및 유수지 | B27: 1 ㎥/s,개소 | C27: 용량당 | D27: =기준소요인력!D27*적용소요인력!$L$4 -> 10.5 | E27: =기준소요인력!E27*적용소요인력!$L$4 -> 17 | F27: =기준소요인력!F27*적용소요인력!$L$4 -> 22 | G27: =기준소요인력!G27*적용소요인력!$L$4 -> 23 | H27: =기준소요인력!H27*적용소요인력!$L$4 -> 19.5 | I27: =기준소요인력!I27*적용소요인력!$L$4 -> 3
A28: 다) 우수관로 | B28: 1 km,관경 | C28: 관로 연장당 | D28: =기준소요인력!D28*적용소요인력!$L$4 -> 3 | E28: =기준소요인력!E28*적용소요인력!$L$4 -> 5.5 | F28: =기준소요인력!F28*적용소요인력!$L$4 -> 4.5 | G28: =기준소요인력!G28*적용소요인력!$L$4 -> 3 | H28: =기준소요인력!H28*적용소요인력!$L$4 -> 2 | I28: =기준소요인력!I28*적용소요인력!$L$4 -> 0
A29: 라) 우수유출저감시설 | B29: 1만㎥,개소 | C29: 용량당 | D29: =기준소요인력!D29*적용소요인력!$L$4 -> 1 | E29: =기준소요인력!E29*적용소요인력!$L$4 -> 1.5 | F29: =기준소요인력!F29*적용소요인력!$L$4 -> 2.5 | G29: =기준소요인력!G29*적용소요인력!$L$4 -> 2 | H29: =기준소요인력!H29*적용소요인력!$L$4 -> 3.5 | I29: =기준소요인력!I29*적용소요인력!$L$4 -> 0
A30: 마. 성과품 작성 | D30: =SUM(D31:D32) -> 1.8 | E30: =SUM(E31:E32) -> 3 | F30: =SUM(F31:F32) -> 5.2 | G30: =SUM(G31:G32) -> 6.6 | H30: =SUM(H31:H32) -> 4 | I30: =SUM(I31:I32) -> 0
A31: 1) 기본계획 보고서 | B31: 식 | C31: 재해예방사업 당 | D31: =기준소요인력!D31*적용소요인력!$L$4 -> 0.7 | E31: =기준소요인력!E31*적용소요인력!$L$4 -> 1.3 | F31: =기준소요인력!F31*적용소요인력!$L$4 -> 2.5 | G31: =기준소요인력!G31*적용소요인력!$L$4 -> 3.6 | H31: =기준소요인력!H31*적용소요인력!$L$4 -> 1.8 | I31: =기준소요인력!I31*적용소요인력!$L$4 -> 0
A32: 2) 중간 및 최종 보고자료 작성 (PPT) | B32: 식 | C32: 재해예방사업 당 | D32: =기준소요인력!D32*적용소요인력!$L$4 -> 1.1 | E32: =기준소요인력!E32*적용소요인력!$L$4 -> 1.7 | F32: =기준소요인력!F32*적용소요인력!$L$4 -> 2.7 | G32: =기준소요인력!G32*적용소요인력!$L$4 -> 3 | H32: =기준소요인력!H32*적용소요인력!$L$4 -> 2.2 | I32: =기준소요인력!I32*적용소요인력!$L$4 -> 0

Sheet 기준소요인력
A1: ■ 침수방지대책 기본계획 (기준소요인력, 방재분야 표준품셈(행정안전부고시 제2024-83호, 2024.10.28.))
A2: 구 분 | B2: 원단위 기준 | C2: 적용기준 | D2: 소요인력 (인·일) | J2: 비고 | K2: 비고
D3: 기술사 | E3: 특급기술자 | F3: 고급기술자 | G3: 중급기술자 | H3: 초급기술자 | I3: 중급숙련자
A4: 침수방지대책 기본계획 직접인건비 | D4: =D5+D7+D10+D19+D30 -> 84.08 | E4: =E5+E7+E10+E19+E30 -> 147.71 | F4: =F5+F7+F10+F19+F30 -> 192.06 | G4: =G5+G7+G10+G19+G30 -> 196.11 | H4: =H5+H7+H10+H19+H30 -> 133.33 | I4: =I5+I7+I10+I19+I30 -> 14
A5: 가. 작업계획 수립 | D5: =SUM(D6) -> 1.5 | E5: =SUM(E6) -> 2.5 | F5: =SUM(F6) -> 2.5 | G5: =SUM(G6) -> 2.5 | H5: =SUM(H6) -> 0 | I5: =SUM(I6) -> 0
A6: 1) 작업계획 수립 | B6: 1식 | C6: 재해예방사업 당 | D6: 1.5 | E6: 2.5 | F6: 2.5 | G6: 2.5 | H6: 0 | I6: 0
A7: 나. 관련자료 조사 및 검토 | D7: =SUM(D8:D9) -> 2.5 | E7: =SUM(E8:E9) -> 4.8 | F7: =SUM(F8:F9) -> 2.2 | G7: =SUM(G8:G9) -> 3 | H7: =SUM(H8:H9) -> 2.8 | I7: =SUM(I8:I9) -> 0
A8: 1) 관련자료 조사 | B8: 1식 | C8: 재해예방사업 당 | D8: 0.5 | E8: 0.8 | F8: 1.8 | G8: 2.2 | H8: 1.6 | I8: 0
A9: 2) 관련계획 검토 | B9: 1식 | C9: 재해예방사업 당 | D9: 2 | E9: 4 | F9: 0.4 | G9: 0.8 | H9: 1.2 | I9: 0
A10: 다. 피해현황 및 원인분석 | D10: =SUM(D11:D12) -> 5.68 | E10: =SUM(E11:E12) -> 15.01 | F10: =SUM(F11:F12) -> 22.16 | G10: =SUM(G11:G12) -> 25.61 | H10: =SUM(H11:H12) -> 18.83 | I10: =SUM(I11:I12) -> 4
A11: 1) 피해현황 조사 | B11: 1식 | C11: 재해예방사업 당 | D11: 0.08 | E11: 0.21 | F11: 0.36 | G11: 0.51 | H11: 0.33 | I11: 0
A12: 2) 피해원인 분석 | D12: =SUM(D13:D18) -> 5.6 | E12: =SUM(E13:E18) -> 14.8 | F12: =SUM(F13:F18) -> 21.8 | G12: =SUM(G13:G18) -> 25.1 | H12: =SUM(H13:H18) -> 18.5 | I12: =SUM(I13:I18) -> 4
A13: 가) 수리․수문조사 | B13: 10km2 | C13: 유역면적당 | D13: 1.4 | E13: 7.4 | F13: 11.3 | G13: 13.1 | H13: 8.6 | I13: 0
A14: 나) 강우분석 | B14: 10km2 | C14: 유역면적당 | D14: 0.5 | E14: 2.2 | F14: 3.3 | G14: 3.8 | H14: 2.5 | I14: 0
A15: 다) 유출분석 | B15: 10km2 | C15: 유역면적당 | D15: 0.5 | E15: 1 | F15: 2 | G15: 3.5 | H15: 3 | I15: 2
A16: 라) 홍수위산정 | B16: 1㎞ | C16: 연장당 | D16: 0.6 | E16: 1.1 | F16: 2.1 | G16: 2.6 | H16: 2.4 | I16: 0
A17: 마) 범람해석(2차원 시뮬레이션) | B17: 1km2 | C17: 유역면적당 | D17: 2.1 | E17: 2.1 | F17: 2.1 | G17: 1.1 | H17: 0 | I17: 0 | K17: 침수대응(환경부) 품셈
A18: 바) 피해원인분석 | B18: 1㎞ | C18: 연장당 | D18: 0.5 | E18: 1 | F18: 1 | G18: 1 | H18: 2 | I18: 2
A19: 라. 정비계획수립 | D19: =D20+D25 -> 70.8 | E19: =E20+E25 -> 119.4 | F19: =F20+F25 -> 154.8 | G19: =G20+G25 -> 151.8 | H19: =H20+H25 -> 103.7 | I19: =I20+I25 -> 10
A20: 1) 재해유형별 정비기본방향 | D20: =D21+D22+D23+D24 -> 40.8 | E20: =E21+E22+E23+E24 -> 70.4 | F20: =F21+F22+F23+F24 -> 94.8 | G20: =G21+G22+G23+G24 -> 92.8 | H20: =H21+H22+H23+H24 -> 51.7 | I20: =I21+I22+I23+I24 -> 4
A21: 가) 침수위험지구(하천재해) | B21: 1㎞ | C21: 연장당 | D21: 11.6 | E21: 20.8 | F21: 27.6 | G21: 27.6 | H21: 15.9 | I21: 0
A22: 나) 침수위험지구(내수재해) | B22: 1㎞2 | C22: 유역면적당 | D22: 6 | E22: 8 | F22: 12 | G22: 10 | H22: 4 | I22: 4
A23: 다) 유실위험지구 | B23: 1식 | C23: 재해예방사업 당 | D23: 11.6 | E23: 20.8 | F23: 27.6 | G23: 27.6 | H23: 15.9 | I23: 0
A24: 라) 고립위험지구 | B24: 1식 | C24: 재해예방사업 당 | D24: 11.6 | E24: 20.8 | F24: 27.6 | G24: 27.6 | H24: 15.9 | I24: 0
A25: 2) 주요시설물 정비계획 | D25: =SUM(D26:D29) -> 30 | E25: =SUM(E26:E29) -> 49 | F25: =SUM(F26:F29) -> 60 | G25: =SUM(G26:G29) -> 59 | H25: =SUM(H26:H29) -> 52 | I25: =SUM(I26:I29) -> 6
A26: 가) 하천. 소하천시설물 | B26: 1 km | C26: 하천시설 연장당 | D26: 1 | E26: 1 | F26: 2 | G26: 3 | H26: 2 | I26: 0
A27: 나) 배수펌프장 및 유수지 | B27: 1 ㎥/s,개소 | C27: 용량당 | D27: 21 | E27: 34 | F27: 44 | G27: 46 | H27: 39 | I27: 6
A28: 다) 우수관로 | B28: 1 km,관경 | C28: 관로 연장당 | D28: 6 | E28: 11 | F28: 9 | G28: 6 | H28: 4 | I28: 0
A29: 라) 우수유출저감시설 | B29: 1만㎥,개소 | C29: 용량당 | D29: 2 | E29: 3 | F29: 5 | G29: 4 | H29: 7 | I29: 0
A30: 마. 성과품 작성 | D30: =SUM(D31:D32) -> 3.6 | E30: =SUM(E31:E32) -> 6 | F30: =SUM(F31:F32) -> 10.4 | G30: =SUM(G31:G32) -> 13.2 | H30: =SUM(H31:H32) -> 8 | I30: =SUM(I31:I32) -> 0
A31: 1) 기본계획 보고서 | B31: 식 | C31: 재해예방사업 당 | D31: 1.4 | E31: 2.6 | F31: 5 | G31: 7.2 | H31: 3.6 | I31: 0
A32: 2) 중간 및 최종 보고자료 작성 (PPT) | B32: 식 | C32: 재해예방사업 당 | D32: 2.2 | E32: 3.4 | F32: 5.4 | G32: 6 | H32: 4.4 | I32: 0

Sheet 산근1 직접경비
A1: ▩ 복사 및 인쇄비
A2: 구 분 | B2: 단 위 | D2: 수 량 | F2: 단 가(원) | H2: 금 액(원)
A3: 1. 보고서 | B3: 10부 적용
A4: 요약보고서 | B4: page | D4: =50*10 -> 500 | F4: 100 | H4: =D4*F4 -> 50000
A5: 보고서(초안, 중간, 최종) | B5: page | D5: =200*10*3 -> 6000 | F5: =F4 -> 100 | H5: =D5*F5 -> 600000
A6: 보고서 부록 | B6: page | D6: =100*10 -> 1000 | F6: =F5 -> 100 | H6: =D6*F6 -> 100000
A7: 표 지 및 제 본 | B7: 부 | D7: =5+15+10 -> 30 | F7: 5000 | H7: =D7*F7 -> 150000
A8: 합 계 | B8: 식 | D8: 1 | H8: =SUM(H4:I7) -> 900000

Sheet 2. 하천기본계획비
B1: 공 종 | E1: 규 격 | F1: 수량 (보정) | G1: 단위 | H1: 총 액 | J1: 재 료 비 | L1: 노 무 비 | N1: 경 비 | P1: 비고
H2: 단가 | I2: 금 액 | J2: 단가 | K2: 금 액 | L2: 단가 | M2: 금 액 | N2: 단가 | O2: 금 액
B3: <제2-0호표> 하천기본계획(하천품셈)
B4: ○ 직접인건비 | I4: =K4+M4+O4 -> 99571741 | K4: =SUM(K5,K39,K57) -> 0 | M4: =SUM(M5,M39,M57) -> 99571741 | O4: =SUM(O5,O39,O57) -> 0
B5: ='하천기본계획(기준소요인력)'!A68 -> Ⅰ. 하천기본계획 | I5: =K5+M5+O5 -> 78484766 | K5: =SUM(K6,K8,K17,K29,K34,K37) -> 0 | M5: =SUM(M6,M8,M17,M29,M34,M37) -> 78484766 | O5: =SUM(O6,O8,O17,O29,O34,O37) -> 0
B6: ='하천기본계획(기준소요인력)'!A8 -> 1. 개요 | I6: =K6+M6+O6 -> 390573 | M6: =M7 -> 390573
C7: ='하천기본계획(기준소요인력)'!B9 -> 가. 계획 목적, 범위, 기본원칙, 현황도 | F7: ='하천기본계획(기준소요인력)'!Q9 -> 2.7 | G7: ='하천기본계획(기준소요인력)'!G70 -> 1㎞ | I7: =K7+M7+O7 -> 390573 | L7: ='일위대가2 (하천기본계획)'!H11 -> 144657 | M7: =INT(L7*F7) -> 390573 | P7: 산근2-1
B8: ='하천기본계획(기준소요인력)'!A10 -> 2. 유역 및 하천현황 | I8: =K8+M8+O8 -> 4546083 | K8: =K9 -> 0 | M8: =SUM(M9,M10) -> 4546083 | O8: =SUM(O9,O10) -> 0
C9: ='하천기본계획(기준소요인력)'!B11 -> 가. 유역현황 | F9: ='하천기본계획(기준소요인력)'!Q11 -> 1.34 | G9: ='하천기본계획(기준소요인력)'!G72 -> 10㎢ | I9: =K9+M9+O9 -> 315515 | L9: ='일위대가2 (하천기본계획)'!E17 -> 235459 | M9: =INT(L9*F9) -> 315515 | P9: 산근2-2
C10: ='하천기본계획(기준소요인력)'!B12 -> 나. 하천특성 | I10: =K10+M10+O10 -> 4230568 | K10: =SUM(K11:K16) -> 0 | M10: =SUM(M11:M16) -> 4230568 | O10: =SUM(O11:O16) -> 0
D11: ='하천기본계획(기준소요인력)'!C13 -> 1) 하도특성 조사 | F11: ='하천기본계획(기준소요인력)'!Q13 -> 2.7 | G11: ='하천기본계획(기준소요인력)'!G74 -> 1㎞ | I11: =K11+M11+O11 -> 638887 | L11: ='일위대가2 (하천기본계획)'!H27 -> 236625 | M11: =INT(L11*F11) -> 638887 | P11: 산근2-3
D12: ='하천기본계획(기준소요인력)'!C14 -> 2) 하천의 치수특성 조사 | F12: ='하천기본계획(기준소요인력)'!Q14 -> 1.34 | G12: ='하천기본계획(기준소요인력)'!G75 -> 10㎢ | I12: =K12+M12+O12 -> 500937 | L12: ='일위대가2 (하천기본계획)'!H35 -> 373834 | M12: =INT(L12*F12) -> 500937 | P12: 산근2-4
D13: ='하천기본계획(기준소요인력)'!C15 -> 3) 하천의 이수특성 조사 | F13: ='하천기본계획(기준소요인력)'!Q15 -> 1.34 | G13: ='하천기본계획(기준소요인력)'!G76 -> 10㎢ | I13: =K13+M13+O13 -> 440801 | K13: =K14+K15 -> 0 | L13: ='일위대가2 (하천기본계획)'!H43 -> 328956 | M13: =INT(L13*F13) -> 440801 | O13: =O14+O15 -> 0 | P13: 산근2-5
D14: ='하천기본계획(기준소요인력)'!C16 -> 4) 하천환경 특성 조사 | F14: ='하천기본계획(기준소요인력)'!Q16 -> 1.34 | G14: ='하천기본계획(기준소요인력)'!G77 -> 10㎢ | I14: =K14+M14+O14 -> 595096 | L14: ='일위대가2 (하천기본계획)'!H51 -> 444102 | M14: =INT(L14*F14) -> 595096 | P14: 산근2-6
D15: ='하천기본계획(기준소요인력)'!C17 -> 5) 하천이용 현황 조사 | F15: ='하천기본계획(기준소요인력)'!Q17 -> 1.34 | G15: ='하천기본계획(기준소요인력)'!G78 -> 10㎢ | I15: =K15+M15+O15 -> 595592 | K15: =SUM(K16:K21) -> 0 | L15: ='일위대가2 (하천기본계획)'!H60 -> 444472 | M15: =INT(L15*F15) -> 595592 | O15: =SUM(O16:O21) -> 0 | P15: 산근2-7
D16: ='하천기본계획(기준소요인력)'!C18 -> 6) 관련계획 검토 및 조정 | F16: ='하천기본계획(기준소요인력)'!Q18 -> 2.7 | G16: ='하천기본계획(기준소요인력)'!G79 -> 1㎞ | I16: =K16+M16+O16 -> 1459255 | L16: ='일위대가2 (하천기본계획)'!H68 -> 540465 | M16: =INT(L16*F16) -> 1459255 | P16: 산근2-8
B17: ='하천기본계획(기준소요인력)'!A19 -> 3. 종합검토 | I17: =K17+M17+O17 -> 29112499 | K17: =SUM(K18,K24,K28) -> 0 | M17: =SUM(M18,M24,M28) -> 29112499 | O17: =SUM(O18,O24,O28) -> 0
C18: ='하천기본계획(기준소요인력)'!B20 -> 가. 치수특성분석 | I18: =K18+M18+O18 -> 24282586 | K18: =SUM(K19:K23) -> 0 | M18: =SUM(M19:M23) -> 24282586 | O18: =SUM(O19:O23) -> 0
D19: ='하천기본계획(기준소요인력)'!C21 -> 1) 홍수량 | F19: ='하천기본계획(기준소요인력)'!Q21 -> 1.34 | G19: ='하천기본계획(기준소요인력)'!G82 -> 10㎢ | I19: =K19+M19+O19 -> 540486 | L19: ='일위대가2 (하천기본계획)'!H76 -> 403348 | M19: =INT(L19*F19) -> 540486 | P19: 산근2-9
D20: ='하천기본계획(기준소요인력)'!C22 -> 2) 홍수위 | F20: ='하천기본계획(기준소요인력)'!Q22 -> 2.7 | G20: ='하천기본계획(기준소요인력)'!G83 -> 1㎞ | I20: =K20+M20+O20 -> 7226099 | L20: ='일위대가2 (하천기본계획)'!H85 -> 2676333 | M20: =INT(L20*F20) -> 7226099 | P20: 산근2-10
D21: ='하천기본계획(기준소요인력)'!C23 -> 3) 계획하폭 | F21: ='하천기본계획(기준소요인력)'!Q23 -> 2.7 | G21: ='하천기본계획(기준소요인력)'!G84 -> 1㎞ | I21: =K21+M21+O21 -> 2241661 | L21: ='일위대가2 (하천기본계획)'!H93 -> 830245 | M21: =INT(L21*F21) -> 2241661 | P21: 산근2-11
D22: ='하천기본계획(기준소요인력)'!C24 -> 4) 하상변동 | F22: ='하천기본계획(기준소요인력)'!Q24 -> 2.7 | G22: ='하천기본계획(기준소요인력)'!G85 -> 1㎞ | I22: =K22+M22+O22 -> 5366730 | L22: ='일위대가2 (하천기본계획)'!H101 -> 1987678 | M22: =INT(L22*F22) -> 5366730 | P22: 산근2-12
D23: ='하천기본계획(기준소요인력)'!C25 -> 5) 시설물 능력검토 | F23: ='하천기본계획(기준소요인력)'!Q25 -> 2.7 | G23: ='하천기본계획(기준소요인력)'!G86 -> 1㎞ | I23: =K23+M23+O23 -> 8907610 | L23: ='일위대가2 (하천기본계획)'!H110 -> 3299115 | M23: =INT(L23*F23) -> 8907610 | P23: 산근2-13
C24: ='하천기본계획(기준소요인력)'!B87 -> 나. 이수특성분석 | I24: =K24+M24+O24 -> 3980691 | M24: =SUM(M25:M27) -> 3980691
D25: ='하천기본계획(기준소요인력)'!C88 -> 1) 수자원 부존량 산정 | F25: ='하천기본계획(기준소요인력)'!Q27 -> 1.34 | G25: ='하천기본계획(기준소요인력)'!G88 -> 10㎢ | I25: =K25+M25+O25 -> 1377845 | L25: ='일위대가2 (하천기본계획)'!H118 -> 1028243 | M25: =INT(L25*F25) -> 1377845 | P25: 산근2-14
D26: ='하천기본계획(기준소요인력)'!C89 -> 2) 하천관리유량 산정 | F26: ='하천기본계획(기준소요인력)'!Q28 -> 2.7 | G26: ='하천기본계획(기준소요인력)'!G89 -> 1㎞ | I26: =K26+M26+O26 -> 924660 | L26: ='일위대가2 (하천기본계획)'!H126 -> 342467 | M26: =INT(L26*F26) -> 924660 | P26: 산근2-15
D27: ='하천기본계획(기준소요인력)'!C90 -> 3) 하천수 사용시설물 수요·공급량 추정 | F27: ='하천기본계획(기준소요인력)'!Q29 -> 1.34 | G27: ='하천기본계획(기준소요인력)'!G90 -> 10㎢ | I27: =K27+M27+O27 -> 1678186 | L27: ='일위대가2 (하천기본계획)'!H135 -> 1252378 | M27: =INT(L27*F27) -> 1678186 | P27: 산근2-16
C28: ='하천기본계획(기준소요인력)'!B91 -> 다. 하천환경특성 분석 | F28: ='하천기본계획(기준소요인력)'!Q30 -> 2.7 | G28: ='하천기본계획(기준소요인력)'!G91 -> 1㎞ | I28: =K28+M28+O28 -> 849222 | L28: ='일위대가2 (하천기본계획)'!H143 -> 314527 | M28: =INT(L28*F28) -> 849222 | P28: 산근2-17
B29: ='하천기본계획(기준소요인력)'!A92 -> 4. 하천 정비 및 관리계획 | I29: =K29+M29+O29 -> 32121199 | M29: =SUM(M30:M33) -> 32121199
C30: ='하천기본계획(기준소요인력)'!B93 -> 가. 치수 종합계획 | F30: ='하천기본계획(기준소요인력)'!Q32 -> 2.7 | G30: ='하천기본계획(기준소요인력)'!G93 -> 1㎞ | I30: =K30+M30+O30 -> 13421964 | L30: ='일위대가2 (하천기본계획)'!H151 -> 4971098 | M30: =INT(L30*F30) -> 13421964 | P30: 산근2-18
C31: ='하천기본계획(기준소요인력)'!B94 -> 나. 이수 종합계획 | F31: ='하천기본계획(기준소요인력)'!Q33 -> 1.34 | G31: ='하천기본계획(기준소요인력)'!G94 -> 10㎢ | I31: =K31+M31+O31 -> 6485334 | L31: ='일위대가2 (하천기본계획)'!H160 -> 4839802 | M31: =INT(L31*F31) -> 6485334 | P31: 산근2-19
C32: ='하천기본계획(기준소요인력)'!B95 -> 다. 하천환경 종합계획 | F32: ='하천기본계획(기준소요인력)'!Q34 -> 1.34 | G32: ='하천기본계획(기준소요인력)'!G95 -> 10㎢ | I32: =K32+M32+O32 -> 6232092 | L32: ='일위대가2 (하천기본계획)'!H168 -> 4650815 | M32: =INT(L32*F32) -> 6232092 | P32: 산근2-20
C33: ='하천기본계획(기준소요인력)'!B96 -> 라. 하천공간 관리계획 | F33: ='하천기본계획(기준소요인력)'!Q35 -> 2.7 | G33: ='하천기본계획(기준소요인력)'!G96 -> 1㎞ | I33: =K33+M33+O33 -> 5981809 | L33: ='일위대가2 (하천기본계획)'!H176 -> 2215485 | M33: =INT(L33*F33) -> 5981809 | P33: 산근2-21
B34: ='하천기본계획(기준소요인력)'!A97 -> 5. 시행계획 및 기대효과 | I34: =K34+M34+O34 -> 10076447 | K34: =SUM(K35:K36) -> 0 | M34: =SUM(M35:M36) -> 10076447 | O34: =SUM(O35:O36) -> 0
C35: ='하천기본계획(기준소요인력)'!B98 -> 가. 경제성 분석 및 소요재원 산정 | F35: ='하천기본계획(기준소요인력)'!Q37 -> 2.7 | G35: ='하천기본계획(기준소요인력)'!G98 -> 1㎞ | I35: =K35+M35+O35 -> 6552740 | L35: ='일위대가2 (하천기본계획)'!H185 -> 2426941 | M35: =INT(L35*F35) -> 6552740 | P35: 산근2-22
C36: ='하천기본계획(기준소요인력)'!B99 -> 나. 투자우선순위, 결론 및 기대효과 | F36: ='하천기본계획(기준소요인력)'!Q38 -> 2.7 | G36: ='하천기본계획(기준소요인력)'!G99 -> 1㎞ | I36: =K36+M36+O36 -> 3523707 | L36: ='일위대가2 (하천기본계획)'!H193 -> 1305077 | M36: =INT(L36*F36) -> 3523707 | P36: 산근2-23
B37: ='하천기본계획(기준소요인력)'!A100 -> 6. 보고서 작성 | I37: =K37+M37+O37 -> 2237965 | K37: =SUM(K38) -> 0 | M37: =SUM(M38) -> 2237965 | O37: =SUM(O38) -> 0
C38: ='하천기본계획(기준소요인력)'!B101 -> 가. 보고서 작성 | F38: ='하천기본계획(기준소요인력)'!Q40 -> 2.7 | G38: ='하천기본계획(기준소요인력)'!G101 -> 1㎞ | I38: =K38+M38+O38 -> 2237965 | L38: ='일위대가2 (하천기본계획)'!H201 -> 828876 | M38: =INT(L38*F38) -> 2237965 | P38: 산근2-24
B39: ='하천기본계획(기준소요인력)'!A102 -> Ⅱ. 하천시설관리대장 | I39: =K39+M39+O39 -> 15000916 | K39: =SUM(K40,K48) -> 0 | M39: =SUM(M40,M48) -> 15000916 | O39: =SUM(O40,O48) -> 0
B40: ='하천기본계획(기준소요인력)'!A103 -> 1. 하천시설대장 | I40: =K40+M40+O40 -> 4542204 | K40: =SUM(K41,K42) -> 0 | M40: =SUM(M41,M42) -> 4542204 | O40: =SUM(O41,O42) -> 0
B41: 아) 도로(접속도로) | C41: ='하천기본계획(기준소요인력)'!B104 -> 가. 하천시설물도 | F41: ='하천기본계획(기준소요인력)'!Q43 -> 2.7 | G41: ='하천기본계획(기준소요인력)'!G104 -> 1㎞ | I41: =K41+M41+O41 -> 2090485 | L41: ='일위대가2 (하천기본계획)'!H210 -> 774254 | M41: =INT(L41*F41) -> 2090485 | P41: 산근2-25
B42: 자) 저수지(제체보강) | C42: ='하천기본계획(기준소요인력)'!B105 -> 나. 하천시설대장 조서 | F42: ='하천기본계획(기준소요인력)'!Q44 -> 2.7 | G42: ='하천기본계획(기준소요인력)'!G105 -> 1㎞ | I42: =K42+M42+O42 -> 2451719 | K42: =SUM(K43:K47) -> 0 | M42: =SUM(M43:M47) -> 2451719 | O42: =SUM(O43:O47) -> 0
D43: ='하천기본계획(기준소요인력)'!C106 -> 1) 제방 및 호안 현황 | F43: ='하천기본계획(기준소요인력)'!Q45 -> 2.7 | G43: ='하천기본계획(기준소요인력)'!G106 -> 1㎞ | I43: =K43+M43+O43 -> 1829457 | L43: ='일위대가2 (하천기본계획)'!H218 -> 677577 | M43: =INT(L43*F43) -> 1829457 | P43: 산근2-26
D44: ='하천기본계획(기준소요인력)'!C107 -> 2) 댐, 홍수조절지, 저류지 등 현황 | F44: ='하천기본계획(기준소요인력)'!Q46 -> 2.7 | G44: ='하천기본계획(기준소요인력)'!G107 -> 1㎞ | I44: =K44+M44+O44 -> 227194 | L44: ='일위대가2 (하천기본계획)'!H226 -> 84146 | M44: =INT(L44*F44) -> 227194 | P44: 산근2-27
D45: ='하천기본계획(기준소요인력)'!C108 -> 3) 지하하천 및 방수로 현황 | F45: ='하천기본계획(기준소요인력)'!Q47 -> 2.7 | G45: ='하천기본계획(기준소요인력)'!G108 -> 1㎞ | I45: =K45+M45+O45 -> 83937 | L45: ='일위대가2 (하천기본계획)'!H235 -> 31088 | M45: =INT(L45*F45) -> 83937 | P45: 산근2-28
D46: ='하천기본계획(기준소요인력)'!C109 -> 4) 배수펌프장 현황 | F46: ='하천기본계획(기준소요인력)'!Q48 -> 2.7 | G46: ='하천기본계획(기준소요인력)'!G109 -> 1㎞ | I46: =K46+M46+O46 -> 227194 | L46: ='일위대가2 (하천기본계획)'!H243 -> 84146 | M46: =INT(L46*F46) -> 227194 | O46: =SUM(O47:O60) -> 0 | P46: 산근2-29
D47: ='하천기본계획(기준소요인력)'!C110 -> 5) 하구둑 현황 | F47: ='하천기본계획(기준소요인력)'!Q49 -> 2.7 | G47: ='하천기본계획(기준소요인력)'!G110 -> 1㎞ | I47: =K47+M47+O47 -> 83937 | L47: ='일위대가2 (하천기본계획)'!H251 -> 31088 | M47: =INT(L47*F47) -> 83937 | P47: 산근2-30
B48: ='하천기본계획(기준소요인력)'!A111 -> 2. 하천현황대장 | I48: =K48+M48+O48 -> 10458712 | K48: =SUM(K49,K50) -> 0 | M48: =SUM(M49,M50) -> 10458712 | O48: =SUM(O49,O50) -> 0
C49: ='하천기본계획(기준소요인력)'!B112 -> 가. 하천현황도 | F49: ='하천기본계획(기준소요인력)'!Q51 -> 2.7 | G49: ='하천기본계획(기준소요인력)'!G112 -> 1㎞ | I49: =K49+M49+O49 -> 2993036.4 | L49: ='일위대가2 (하천기본계획)'!H260 -> 1108532 | M49: =L49*F49 -> 2993036.4 | P49: 산근2-31
C50: ='하천기본계획(기준소요인력)'!B113 -> 나. 하천현황대장 조서 | F50: ='하천기본계획(기준소요인력)'!Q52 -> 2.7 | G50: ='하천기본계획(기준소요인력)'!G113 -> 1㎞ | I50: =K50+M50+O50 -> 7465676 | K50: =SUM(K51:K56) -> 0 | M50: =SUM(M51:M56) -> 7465676 | O50: =SUM(O51:O56) -> 0
D51: ='하천기본계획(기준소요인력)'!C114 -> 1) 하천개황 | F51: ='하천기본계획(기준소요인력)'!Q53 -> 2.7 | G51: ='하천기본계획(기준소요인력)'!G114 -> 1㎞ | I51: =K51+M51+O51 -> 724804 | L51: ='일위대가2 (하천기본계획)'!H268 -> 268446 | M51: =INT(L51*F51) -> 724804 | P51: 산근2-32
D52: ='하천기본계획(기준소요인력)'!C115 -> 2) 측량기준점 | F52: ='하천기본계획(기준소요인력)'!Q54 -> 2.7 | G52: ='하천기본계획(기준소요인력)'!G115 -> 1㎞ | I52: =K52+M52+O52 -> 290768 | L52: ='일위대가2 (하천기본계획)'!H276 -> 107692 | M52: =INT(L52*F52) -> 290768 | P52: 산근2-33
D53: ='하천기본계획(기준소요인력)'!C116 -> 3) 하천수 상황 | F53: ='하천기본계획(기준소요인력)'!Q55 -> 2.7 | G53: ='하천기본계획(기준소요인력)'!G116 -> 1㎞ | I53: =K53+M53+O53 -> 581542 | L53: ='일위대가2 (하천기본계획)'!H285 -> 215386 | M53: =INT(L53*F53) -> 581542 | P53: 산근2-34
D54: ='하천기본계획(기준소요인력)'!C117 -> 4) 하천구역 현황 | F54: ='하천기본계획(기준소요인력)'!Q56 -> 2.7 | G54: ='하천기본계획(기준소요인력)'!G117 -> 1㎞ | I54: =K54+M54+O54 -> 3277945 | L54: ='일위대가2 (하천기본계획)'!H293 -> 1214054 | M54: =INT(L54*F54) -> 3277945 | P54: 산근2-35
D55: ='하천기본계획(기준소요인력)'!C118 -> 5) 홍수관리구역 현황 | F55: ='하천기본계획(기준소요인력)'!Q57 -> 2.7 | G55: ='하천기본계획(기준소요인력)'!G118 -> 1㎞ | I55: =K55+M55+O55 -> 1407159 | L55: ='일위대가2 (하천기본계획)'!H301 -> 521170 | M55: =INT(L55*F55) -> 1407159 | P55: 산근2-36
D56: ='하천기본계획(기준소요인력)'!C119 -> 6) 하천개수 현황 | F56: ='하천기본계획(기준소요인력)'!Q58 -> 2.7 | G56: ='하천기본계획(기준소요인력)'!G119 -> 1㎞ | I56: =K56+M56+O56 -> 1183458 | L56: ='일위대가2 (하천기본계획)'!H310 -> 438318 | M56: =INT(L56*F56) -> 1183458 | P56: 산근2-37
B57: ='하천기본계획(기준소요인력)'!A120 -> Ⅲ. 하천기본계획 전산화 | I57: =K57+M57+O57 -> 6086059 | K57: =SUM(K58:K60) -> 0 | M57: =SUM(M58:M60) -> 6086059 | O57: =SUM(O58:O60) -> 0
C58: ='하천기본계획(기준소요인력)'!B121 -> 가. 하천기본계획 전산화 | F58: ='하천기본계획(기준소요인력)'!Q60 -> 2.7 | G58: ='하천기본계획(기준소요인력)'!G121 -> 1㎞ | I58: =K58+M58+O58 -> 2802284 | L58: ='일위대가2 (하천기본계획)'!H318 -> 1037883 | M58: =INT(L58*F58) -> 2802284 | P58: 산근2-38
C59: ='하천기본계획(기준소요인력)'!B122 -> 나. 하천시설관리대장 전산화 | F59: ='하천기본계획(기준소요인력)'!Q61 -> 2.7 | G59: ='하천기본계획(기준소요인력)'!G122 -> 1㎞ | I59: =K59+M59+O59 -> 2802284 | L59: ='일위대가2 (하천기본계획)'!H326 -> 1037883 | M59: =INT(L59*F59) -> 2802284 | P59: 산근2-39
C60: ='하천기본계획(기준소요인력)'!B123 -> 다. 전산화 성과 검수 지원 | F60: ='하천기본계획(기준소요인력)'!Q62 -> 2.7 | G60: ='하천기본계획(기준소요인력)'!G123 -> 1㎞ | I60: =K60+M60+O60 -> 481491 | L60: ='일위대가2 (하천기본계획)'!H335 -> 178330 | M60: =INT(L60*F60) -> 481491 | P60: 산근2-40
B61: ○ 직접경비 | I61: =K61+M61+O61 -> 7744080 | K61: =SUM(K62,K66,K70) -> 0 | M61: =SUM(M62,M66,M70) -> 0 | O61: =SUM(O62,O66,O70) -> 7744080
B62: 1. 인쇄비 | I62: =K62+M62+O62 -> 6410000 | K62: =SUM(K63:K65) -> 0 | M62: =SUM(M63:M65) -> 0 | O62: =SUM(O63:O65) -> 6410000
C63: 가. 하천기본계획 | F63: =ROUND('산근2-0(하천기본계획-수량)'!$M$17/10,2) -> 0.32 | G63: 10km | I63: =K63+M63+O63 -> 2980800 | N63: ='일위대가2 (하천기본계획)'!L345 -> 9315000 | O63: =INT(F63*N63) -> 2980800 | P63: 산근2-41
C64: 나. 하천대장 | F64: =ROUND('산근2-0(하천기본계획-수량)'!$M$17/10,2) -> 0.32 | G64: 10km | I64: =K64+M64+O64 -> 979200 | N64: ='일위대가2 (하천기본계획)'!L359 -> 3060000 | O64: =INT(F64*N64) -> 979200 | P64: 산근2-42
C65: 다. 표지 | F65: 1 | G65: 식 | I65: =K65+M65+O65 -> 2450000 | N65: ='일위대가2 (하천기본계획)'!L369 -> 2450000 | O65: =INT(F65*N65) -> 2450000 | P65: 산근2-43
B66: 2. 출장비 | I66: =K66+M66+O66 -> 334080 | K66: =SUM(K67:K69) -> 0 | M66: =SUM(M67:M69) -> 0 | O66: =SUM(O67:O69) -> 334080
C67: 가. 자료수집 | F67: =ROUND('산근2-0(하천기본계획-수량)'!$M$17/10,2) -> 0.32 | G67: 10km | I67: =K67+M67+O67 -> 116160 | N67: ='산근2-45(출장비)'!F3 -> 363000 | O67: =INT(F67*N67) -> 116160 | P67: 산근2-45
C68: 나. 현지조사 | F68: =ROUND('산근2-0(하천기본계획-수량)'!$M$17/10,2) -> 0.32 | G68: 10km | I68: =K68+M68+O68 -> 162240 | N68: ='산근2-45(출장비)'!F15 -> 507000 | O68: =INT(F68*N68) -> 162240 | P68: 산근2-46
C69: 다. 보고 및 심사 | F69: =ROUND('산근2-0(하천기본계획-수량)'!$M$17/10,2) -> 0.32 | G69: 10km | I69: =K69+M69+O69 -> 55680 | N69: ='산근2-45(출장비)'!F27 -> 174000 | O69: =INT(F69*N69) -> 55680 | P69: 산근2-47
B70: 3. 자문비 | I70: =K70+M70+O70 -> 1000000 | K70: =SUM(K71) -> 0 | M70: =SUM(M71) -> 0 | O70: =SUM(O71) -> 1000000
C71: 가. 자문비 | F71: 1 | G71: 식 | I71: =K71+M71+O71 -> 1000000 | N71: ='산근2-45(출장비)'!E50 -> 1000000 | O71: =INT(F71*N71) -> 1000000 | P71: 산근2-49

Sheet 산근2-0(하천기본계획-수량)
A1: [유역 현황] | Z1: 병영천 하천기본계획 도시화율
A2: 유역구분 | F2: 발주 년도 | G2: 발주 현황 | H2: 구분 | I2: 수립대상 하천
A3: 대분류 | B3: 번호 | C3: 중권역코드 | D3: 중권역명 | E3: 관리청 | I3: 하천 개소수 | J3: 환산계수 | M3: 보정계수 | X3: 평균하폭 | Y3: 25
J4: 하천 연장 (①) | K4: 하천시설 관리대장 연장(②) | L4: 면적 (③) | M4: 토지이용특성(㉮) | P4: 하천기본계획 경과특성(㉯) | R4: 시설관리대장 경과특성(㉰) | X4: 둑마루폭 | Y4: 5
M5: 시가지 면적(㎢) | N5: 시가화 비율(%) | O5: 계수 | X5: 제내지 | Y5: 5
A6: 운곡천 | D6: 금강천 | E6: 전라남도 | F6: 2012 | G6: 발주 예정 | H6: 지방 | I6: ='산근2-0(하천기본계획-수량)'!P17 -> 1 | J6: =ROUND(M17^0.85,2) -> 2.7 | K6: =ROUND(M17^0.85,2) -> 2.7 | L6: =ROUND((V15/10)^(0.7),2) -> 1.68 | M6: 0 | N6: 3.84 | O6: =IF(N6<=15,0.8,IF(N6<=25,0.9,IF(N6<=35,1,IF(N6<=100,1.2)))) -> 0.8 | P6: =IF(I15<5,0.6,IF(I15<10,0.8,1)) -> 1 | R6: =IF(I15<5,0.6,IF(I15<10,0.8,1)) -> 1
A10: [대상하천 현황]
A11: 권역 | D11: 유 역 면 적 (㎢) | G11: 기수립 경과년수에 따른 연장요율을 고려한 수립연장 (10년이상=1, 5~10년=0.8, 5년이하=0.5) | N11: 하천현황 | R11: 하 천 연 장 | V11: 유 역 면 적 (㎢)
R12: 계 (km) | S12: 하천기본계획
A13: 대권역 | B13: 중권역 | C13: 치수권역 | D13: 하천유역 면적 | E13: 중권역 면적 | F13: 수립면적 산 정 *중복 고려 | G13: 경과년수에 따른 요율적용 | K13: 요율을 고려한 수립연장(km) | N13: 하천명 | O13: 하 천 코 드 번 호 | P13: 하 천 개소수 | Q13: 하 천 등 급 | S13: 수립구간 | U13: 미수립 구간 (km)
G14: 기수립 년도 | H14: 발주 년도 | I14: 경과 년도 | J14: 요율 | K14: 기수립 연장 | L14: 미수립 연장 | M14: 금회 수립연장 | S14: 고시일 | T14: 연장(km) | X14: 시가지 면적 | Y14: 시가화비율
A15: 섬진강 | B15: 화순천 | D15: 20.95 | F15: =D15 -> 20.95 | G15: 2012 | H15: 2024 | I15: 12 | J15: =IF(I15<5,0.6,IF(I15<10,0.8,1)) -> 1 | K15: 3.22 | L15: =5.67-3.22 -> 2.45 | M15: 3.22 | N15: 운곡천 | O15: 5120300 | P15: 1 | Q15: 지방 | R15: =K15+L15 -> 5.67 | S15: 2012 | T15: =K15 -> 3.22 | U15: =L15 -> 2.45 | V15: =D15 -> 20.95 | X15: 0 | Y15: 0
A17: 계 | F17: =SUM(F15:F16) -> 20.95 | M17: =SUM(M15:M16) -> 3.22 | P17: =SUM(P15:P16) -> 1 | R17: =SUM(R15:R16) -> 5.67
A19: [측량]
A20: 구분 | C20: 연장(km) | E20: 면적(㎡)
E21: ㎡ | G21: ㎢
A22: 기본계힉 | C22: 0 | E22: =C22*(Y3+Y4*2+Y5*2)*1000 -> 0 | G22: =ROUND(E22/1000000,3) -> 0
A23: 실시설계 | C23: ='산근2-0 (현장조사물량산출)'!Q4 -> 100 | E23: ='산근2-0 (현장조사물량산출)'!V4 -> 10500 | G23: =ROUND(E23/1000000,3) -> 0.011

Sheet 일위대가2 (하천기본계획)
A1: 공 종 | B1: 규 격 | C1: 단 위 | D1: 수 량 | E1: 계 | G1: 노 무 비 | I1: 재 료 비 | K1: 경 비 | M1: 비 고 | O1: 적용요율 | P1: 산근경비율 | Q1: 기술료율
E2: 단 가 | F2: 금 액 | G2: 단 가 | H2: 금 액 | I2: 단 가 | J2: 금 액 | K2: 단 가 | L2: 금 액 | O2: 1 | P2: 110 | Q2: 20
A3: 하천기본계획 (하천 표준품셈, 산업통상자원부 공표 ,2022.01.05)
A4: 산근 2-1 계획 목적, 범위, 기본원칙, 현황도(1km)
A5: 기술사 | C5: 인 | D5: ='하천기본계획(기준소요인력)'!$H$70 -> 0.1 | E5: =SUM(G5,I5,K5) -> 467217 | F5: =SUM(H5,J5,L5) -> 46721 | G5: ='산근3 노임'!$B$5 -> 467217 | H5: =TRUNC(D5*G5,0) -> 46721
A6: 특급기술인 | C6: 인 | D6: ='하천기본계획(기준소요인력)'!$I$70 -> 0.1 | E6: =SUM(G6,I6,K6) -> 373353 | F6: =SUM(H6,J6,L6) -> 37335 | G6: ='산근3 노임'!$B$6 -> 373353 | H6: =TRUNC(D6*G6,0) -> 37335
A7: 고급기술인 | C7: 인 | D7: ='하천기본계획(기준소요인력)'!$J$70 -> 0.1 | E7: =SUM(G7,I7,K7) -> 310884 | F7: =SUM(H7,J7,L7) -> 31088 | G7: ='산근3 노임'!$B$7 -> 310884 | H7: =TRUNC(D7*G7,0) -> 31088
A8: 중급기술인 | C8: 인 | D8: ='하천기본계획(기준소요인력)'!$K$70 -> 0.1 | E8: =SUM(G8,I8,K8) -> 295138 | F8: =SUM(H8,J8,L8) -> 29513 | G8: ='산근3 노임'!$B$8 -> 295138 | H8: =TRUNC(D8*G8,0) -> 29513
A9: 초급기술인 | C9: 인 | D9: ='하천기본계획(기준소요인력)'!$L$70 -> 0 | E9: =SUM(G9,I9,K9) -> 235459 | F9: =SUM(H9,J9,L9) -> 0 | G9: ='산근3 노임'!$B$9 -> 235459 | H9: =TRUNC(D9*G9,0) -> 0
A10: 계 | F10: =SUM(H10,J10,L10) -> 144657 | H10: =SUM(H5:H9) -> 144657 | J10: =SUM(J5:J9) -> 0 | L10: =SUM(L5:L9) -> 0
A11: =$O$2 -> 1 | F11: =INT($A11*F10) -> 144657 | H11: =INT($A11*H10) -> 144657 | J11: =INT($A11*J10) -> 0 | L11: =INT($A11*L10) -> 0
A12: 산근 2-2 유역현황(10㎢)
A13: 기술사 | C13: 인 | D13: ='하천기본계획(기준소요인력)'!$H$72 -> 0.3 | E13: =SUM(G13,I13,K13) -> 467217 | F13: =SUM(H13,J13,L13) -> 140165 | G13: ='산근3 노임'!$B$5 -> 467217 | H13: =TRUNC(D13*G13,0) -> 140165
A14: 특급기술인 | C14: 인 | D14: ='하천기본계획(기준소요인력)'!$I$72 -> 0.5 | E14: =SUM(G14,I14,K14) -> 373353 | F14: =SUM(H14,J14,L14) -> 186676 | G14: ='산근3 노임'!$B$6 -> 373353 | H14: =TRUNC(D14*G14,0) -> 186676
A15: 고급기술인 | C15: 인 | D15: ='하천기본계획(기준소요인력)'!$J$72 -> 0.5 | E15: =SUM(G15,I15,K15) -> 310884 | F15: =SUM(H15,J15,L15) -> 155442 | G15: ='산근3 노임'!$B$7 -> 310884 | H15: =TRUNC(D15*G15,0) -> 155442
A16: 중급기술인 | C16: 인 | D16: ='하천기본계획(기준소요인력)'!$K$72 -> 0.6 | E16: =SUM(G16,I16,K16) -> 295138 | F16: =SUM(H16,J16,L16) -> 177082 | G16: ='산근3 노임'!$B$8 -> 295138 | H16: =TRUNC(D16*G16,0) -> 177082
A17: 초급기술인 | C17: 인 | D17: ='하천기본계획(기준소요인력)'!$L$72 -> 0.7 | E17: =SUM(G17,I17,K17) -> 235459 | F17: =SUM(H17,J17,L17) -> 164821 | G17: ='산근3 노임'!$B$9 -> 235459 | H17: =TRUNC(D17*G17,0) -> 164821
A18: 계 | F18: =SUM(H18,J18,L18) -> 824186 | H18: =SUM(H13:H17) -> 824186
A19: =$O$2 -> 1 | F19: =INT($A19*F18) -> 824186 | H19: =INT($A19*H18) -> 824186
A20: 산근 2-3 하도특성 조사(1㎞)
A21: 기술사 | C21: 인 | D21: ='하천기본계획(기준소요인력)'!$H$74 -> 0.1 | E21: =SUM(G21,I21,K21) -> 467217 | F21: =SUM(H21,J21,L21) -> 46721 | G21: ='산근3 노임'!$B$5 -> 467217 | H21: =TRUNC(D21*G21,0) -> 46721
A22: 특급기술인 | C22: 인 | D22: ='하천기본계획(기준소요인력)'!$I$74 -> 0.2 | E22: =SUM(G22,I22,K22) -> 373353 | F22: =SUM(H22,J22,L22) -> 74670 | G22: ='산근3 노임'!$B$6 -> 373353 | H22: =TRUNC(D22*G22,0) -> 74670
A23: 고급기술인 | C23: 인 | D23: ='하천기본계획(기준소요인력)'!$J$74 -> 0.2 | E23: =SUM(G23,I23,K23) -> 310884 | F23: =SUM(H23,J23,L23) -> 62176 | G23: ='산근3 노임'!$B$7 -> 310884 | H23: =TRUNC(D23*G23,0) -> 62176
A24: 중급기술인 | C24: 인 | D24: ='하천기본계획(기준소요인력)'!$K$74 -> 0.1 | E24: =SUM(G24,I24,K24) -> 295138 | F24: =SUM(H24,J24,L24) -> 29513 | G24: ='산근3 노임'!$B$8 -> 295138 | H24: =TRUNC(D24*G24,0) -> 29513
A25: 초급기술인 | C25: 인 | D25: ='하천기본계획(기준소요인력)'!$L$74 -> 0.1 | E25: =SUM(G25,I25,K25) -> 235459 | F25: =SUM(H25,J25,L25) -> 23545 | G25: ='산근3 노임'!$B$9 -> 235459 | H25: =TRUNC(D25*G25,0) -> 23545
A26: 계 | F26: =SUM(H26,J26,L26) -> 236625 | H26: =SUM(H21:H25) -> 236625
A27: =$O$2 -> 1 | F27: =INT($A27*F26) -> 236625 | H27: =INT($A27*H26) -> 236625
A28: 산근 2-4 하천의 치수특성 조사(10㎢)
A29: 기술사 | C29: 인 | D29: ='하천기본계획(기준소요인력)'!$H$75 -> 0.1 | E29: =SUM(G29,I29,K29) -> 467217 | F29: =SUM(H29,J29,L29) -> 46721 | G29: ='산근3 노임'!$B$5 -> 467217 | H29: =TRUNC(D29*G29,0) -> 46721
A30: 특급기술인 | C30: 인 | D30: ='하천기본계획(기준소요인력)'!$I$75 -> 0.2 | E30: =SUM(G30,I30,K30) -> 373353 | F30: =SUM(H30,J30,L30) -> 74670 | G30: ='산근3 노임'!$B$6 -> 373353 | H30: =TRUNC(D30*G30,0) -> 74670
A31: 고급기술인 | C31: 인 | D31: ='하천기본계획(기준소요인력)'!$J$75 -> 0.3 | E31: =SUM(G31,I31,K31) -> 310884 | F31: =SUM(H31,J31,L31) -> 93265 | G31: ='산근3 노임'!$B$7 -> 310884 | H31: =TRUNC(D31*G31,0) -> 93265
A32: 중급기술인 | C32: 인 | D32: ='하천기본계획(기준소요인력)'!$K$75 -> 0.3 | E32: =SUM(G32,I32,K32) -> 295138 | F32: =SUM(H32,J32,L32) -> 88541 | G32: ='산근3 노임'!$B$8 -> 295138 | H32: =TRUNC(D32*G32,0) -> 88541
A33: 초급기술인 | C33: 인 | D33: ='하천기본계획(기준소요인력)'!$L$75 -> 0.3 | E33: =SUM(G33,I33,K33) -> 235459 | F33: =SUM(H33,J33,L33) -> 70637 | G33: ='산근3 노임'!$B$9 -> 235459 | H33: =TRUNC(D33*G33,0) -> 70637
A34: 계 | F34: =SUM(H34,J34,L34) -> 373834 | H34: =SUM(H29:H33) -> 373834
A35: =$O$2 -> 1 | F35: =INT($A35*F34) -> 373834 | H35: =INT($A35*H34) -> 373834
A36: 산근 2-5 하천의 이수특성 조사(10㎢)
A37: 기술사 | C37: 인 | D37: ='하천기본계획(기준소요인력)'!$H$76 -> 0.1 | E37: =SUM(G37,I37,K37) -> 467217 | F37: =SUM(H37,J37,L37) -> 46721 | G37: ='산근3 노임'!$B$5 -> 467217 | H37: =TRUNC(D37*G37,0) -> 46721
A38: 특급기술인 | C38: 인 | D38: ='하천기본계획(기준소요인력)'!$I$76 -> 0.1 | E38: =SUM(G38,I38,K38) -> 373353 | F38: =SUM(H38,J38,L38) -> 37335 | G38: ='산근3 노임'!$B$6 -> 373353 | H38: =TRUNC(D38*G38,0) -> 37335
A39: 고급기술인 | C39: 인 | D39: ='하천기본계획(기준소요인력)'!$J$76 -> 0.2 | E39: =SUM(G39,I39,K39) -> 310884 | F39: =SUM(H39,J39,L39) -> 62176 | G39: ='산근3 노임'!$B$7 -> 310884 | H39: =TRUNC(D39*G39,0) -> 62176
A40: 중급기술인 | C40: 인 | D40: ='하천기본계획(기준소요인력)'!$K$76 -> 0.3 | E40: =SUM(G40,I40,K40) -> 295138 | F40: =SUM(H40,J40,L40) -> 88541 | G40: ='산근3 노임'!$B$8 -> 295138 | H40: =TRUNC(D40*G40,0) -> 88541
A41: 초급기술인 | C41: 인 | D41: ='하천기본계획(기준소요인력)'!$L$76 -> 0.4 | E41: =SUM(G41,I41,K41) -> 235459 | F41: =SUM(H41,J41,L41) -> 94183 | G41: ='산근3 노임'!$B$9 -> 235459 | H41: =TRUNC(D41*G41,0) -> 94183
A42: 계 | F42: =SUM(H42,J42,L42) -> 328956 | H42: =SUM(H37:H41) -> 328956
A43: =$O$2 -> 1 | F43: =INT($A43*F42) -> 328956 | H43: =INT($A43*H42) -> 328956
A44: 산근 2-6 하천환경 특성 조사(10㎢)
A45: 기술사 | C45: 인 | D45: ='하천기본계획(기준소요인력)'!$H$77 -> 0.2 | E45: =SUM(G45,I45,K45) -> 467217 | F45: =SUM(H45,J45,L45) -> 93443 | G45: ='산근3 노임'!$B$5 -> 467217 | H45: =TRUNC(D45*G45,0) -> 93443
A46: 특급기술인 | C46: 인 | D46: ='하천기본계획(기준소요인력)'!$I$77 -> 0.2 | E46: =SUM(G46,I46,K46) -> 373353 | F46: =SUM(H46,J46,L46) -> 74670 | G46: ='산근3 노임'!$B$6 -> 373353 | H46: =TRUNC(D46*G46,0) -> 74670
A47: 고급기술인 | C47: 인 | D47: ='하천기본계획(기준소요인력)'!$J$77 -> 0.3 | E47: =SUM(G47,I47,K47) -> 310884 | F47: =SUM(H47,J47,L47) -> 93265 | G47: ='산근3 노임'!$B$7 -> 310884 | H47: =TRUNC(D47*G47,0) -> 93265
A48: 중급기술인 | C48: 인 | D48: ='하천기본계획(기준소요인력)'!$K$77 -> 0.3 | E48: =SUM(G48,I48,K48) -> 295138 | F48: =SUM(H48,J48,L48) -> 88541 | G48: ='산근3 노임'!$B$8 -> 295138 | H48: =TRUNC(D48*G48,0) -> 88541
A49: 초급기술인 | C49: 인 | D49: ='하천기본계획(기준소요인력)'!$L$77 -> 0.4 | E49: =SUM(G49,I49,K49) -> 235459 | F49: =SUM(H49,J49,L49) -> 94183 | G49: ='산근3 노임'!$B$9 -> 235459 | H49: =TRUNC(D49*G49,0) -> 94183
A50: 계 | F50: =SUM(H50,J50,L50) -> 444102 | H50: =SUM(H45:H49) -> 444102
A51: =$O$2 -> 1 | F51: =INT($A51*F50) -> 444102 | H51: =INT($A51*H50) -> 444102
A53: 산근 2-7 하천이용 현황 조사((10㎢))
A54: 기술사 | C54: 인 | D54: ='하천기본계획(기준소요인력)'!$H$78 -> 0.1 | E54: =SUM(G54,I54,K54) -> 467217 | F54: =SUM(H54,J54,L54) -> 46721 | G54: ='산근3 노임'!$B$5 -> 467217 | H54: =TRUNC(D54*G54,0) -> 46721
A55: 특급기술인 | C55: 인 | D55: ='하천기본계획(기준소요인력)'!$I$78 -> 0.2 | E55: =SUM(G55,I55,K55) -> 373353 | F55: =SUM(H55,J55,L55) -> 74670 | G55: ='산근3 노임'!$B$6 -> 373353 | H55: =TRUNC(D55*G55,0) -> 74670
A56: 고급기술인 | C56: 인 | D56: ='하천기본계획(기준소요인력)'!$J$78 -> 0.3 | E56: =SUM(G56,I56,K56) -> 310884 | F56: =SUM(H56,J56,L56) -> 93265 | G56: ='산근3 노임'!$B$7 -> 310884 | H56: =TRUNC(D56*G56,0) -> 93265
A57: 중급기술인 | C57: 인 | D57: ='하천기본계획(기준소요인력)'!$K$78 -> 0.3 | E57: =SUM(G57,I57,K57) -> 295138 | F57: =SUM(H57,J57,L57) -> 88541 | G57: ='산근3 노임'!$B$8 -> 295138 | H57: =TRUNC(D57*G57,0) -> 88541
A58: 초급기술인 | C58: 인 | D58: ='하천기본계획(기준소요인력)'!$L$78 -> 0.6 | E58: =SUM(G58,I58,K58) -> 235459 | F58: =SUM(H58,J58,L58) -> 141275 | G58: ='산근3 노임'!$B$9 -> 235459 | H58: =TRUNC(D58*G58,0) -> 141275
A59: 계 | F59: =SUM(H59,J59,L59) -> 444472 | H59: =SUM(H54:H58) -> 444472
A60: =$O$2 -> 1 | F60: =INT($A60*F59) -> 444472 | H60: =INT($A60*H59) -> 444472
A61: 산근 2-8 관련계획 검토 및 조정(1㎞)
A62: 기술사 | C62: 인 | D62: ='하천기본계획(기준소요인력)'!$H$79 -> 0.2 | E62: =SUM(G62,I62,K62) -> 467217 | F62: =SUM(H62,J62,L62) -> 93443 | G62: ='산근3 노임'!$B$5 -> 467217 | H62: =TRUNC(D62*G62,0) -> 93443
A63: 특급기술인 | C63: 인 | D63: ='하천기본계획(기준소요인력)'!$I$79 -> 0.3 | E63: =SUM(G63,I63,K63) -> 373353 | F63: =SUM(H63,J63,L63) -> 112005 | G63: ='산근3 노임'!$B$6 -> 373353 | H63: =TRUNC(D63*G63,0) -> 112005
A64: 고급기술인 | C64: 인 | D64: ='하천기본계획(기준소요인력)'!$J$79 -> 0.3 | E64: =SUM(G64,I64,K64) -> 310884 | F64: =SUM(H64,J64,L64) -> 93265 | G64: ='산근3 노임'!$B$7 -> 310884 | H64: =TRUNC(D64*G64,0) -> 93265
A65: 중급기술인 | C65: 인 | D65: ='하천기본계획(기준소요인력)'!$K$79 -> 0.5 | E65: =SUM(G65,I65,K65) -> 295138 | F65: =SUM(H65,J65,L65) -> 147569 | G65: ='산근3 노임'!$B$8 -> 295138 | H65: =TRUNC(D65*G65,0) -> 147569
A66: 초급기술인 | C66: 인 | D66: ='하천기본계획(기준소요인력)'!$L$79 -> 0.4 | E66: =SUM(G66,I66,K66) -> 235459 | F66: =SUM(H66,J66,L66) -> 94183 | G66: ='산근3 노임'!$B$9 -> 235459 | H66: =TRUNC(D66*G66,0) -> 94183
A67: 계 | F67: =SUM(H67,J67,L67) -> 540465 | H67: =SUM(H62:H66) -> 540465
A68: =$O$2 -> 1 | F68: =INT($A68*F67) -> 540465 | H68: =INT($A68*H67) -> 540465
A69: 산근 2-9 홍수량(10㎢)
A70: 기술사 | C70: 인 | D70: ='하천기본계획(기준소요인력)'!$H$82 -> 0.1 | E70: =SUM(G70,I70,K70) -> 467217 | F70: =SUM(H70,J70,L70) -> 46721 | G70: ='산근3 노임'!$B$5 -> 467217 | H70: =TRUNC(D70*G70,0) -> 46721
A71: 특급기술인 | C71: 인 | D71: ='하천기본계획(기준소요인력)'!$I$82 -> 0.2 | E71: =SUM(G71,I71,K71) -> 373353 | F71: =SUM(H71,J71,L71) -> 74670 | G71: ='산근3 노임'!$B$6 -> 373353 | H71: =TRUNC(D71*G71,0) -> 74670
A72: 고급기술인 | C72: 인 | D72: ='하천기본계획(기준소요인력)'!$J$82 -> 0.3 | E72: =SUM(G72,I72,K72) -> 310884 | F72: =SUM(H72,J72,L72) -> 93265 | G72: ='산근3 노임'!$B$7 -> 310884 | H72: =TRUNC(D72*G72,0) -> 93265
A73: 중급기술인 | C73: 인 | D73: ='하천기본계획(기준소요인력)'!$K$82 -> 0.4 | E73: =SUM(G73,I73,K73) -> 295138 | F73: =SUM(H73,J73,L73) -> 118055 | G73: ='산근3 노임'!$B$8 -> 295138 | H73: =TRUNC(D73*G73,0) -> 118055
A74: 초급기술인 | C74: 인 | D74: ='하천기본계획(기준소요인력)'!$L$82 -> 0.3 | E74: =SUM(G74,I74,K74) -> 235459 | F74: =SUM(H74,J74,L74) -> 70637 | G74: ='산근3 노임'!$B$9 -> 235459 | H74: =TRUNC(D74*G74,0) -> 70637
A75: 계 | F75: =SUM(H75,J75,L75) -> 403348 | H75: =SUM(H70:H74) -> 403348
A76: =$O$2 -> 1 | F76: =INT($A76*F75) -> 403348 | H76: =INT($A76*H75) -> 403348
A78: 산근 2-10 홍수위(1㎞)
A79: 기술사 | C79: 인 | D79: ='하천기본계획(기준소요인력)'!$H$83 -> 0.6 | E79: =SUM(G79,I79,K79) -> 467217 | F79: =SUM(H79,J79,L79) -> 280330 | G79: ='산근3 노임'!$B$5 -> 467217 | H79: =TRUNC(D79*G79,0) -> 280330
A80: 특급기술인 | C80: 인 | D80: ='하천기본계획(기준소요인력)'!$I$83 -> 1.1 | E80: =SUM(G80,I80,K80) -> 373353 | F80: =SUM(H80,J80,L80) -> 410688 | G80: ='산근3 노임'!$B$6 -> 373353 | H80: =TRUNC(D80*G80,0) -> 410688
A81: 고급기술인 | C81: 인 | D81: ='하천기본계획(기준소요인력)'!$J$83 -> 2.1 | E81: =SUM(G81,I81,K81) -> 310884 | F81: =SUM(H81,J81,L81) -> 652856 | G81: ='산근3 노임'!$B$7 -> 310884 | H81: =TRUNC(D81*G81,0) -> 652856
A82: 중급기술인 | C82: 인 | D82: ='하천기본계획(기준소요인력)'!$K$83 -> 2.6 | E82: =SUM(G82,I82,K82) -> 295138 | F82: =SUM(H82,J82,L82) -> 767358 | G82: ='산근3 노임'!$B$8 -> 295138 | H82: =TRUNC(D82*G82,0) -> 767358
A83: 초급기술인 | C83: 인 | D83: ='하천기본계획(기준소요인력)'!$L$83 -> 2.4 | E83: =SUM(G83,I83,K83) -> 235459 | F83: =SUM(H83,J83,L83) -> 565101 | G83: ='산근3 노임'!$B$9 -> 235459 | H83: =TRUNC(D83*G83,0) -> 565101
A84: 계 | F84: =SUM(H84,J84,L84) -> 2676333 | H84: =SUM(H79:H83) -> 2676333
A85: =$O$2 -> 1 | F85: =INT($A85*F84) -> 2676333 | H85: =INT($A85*H84) -> 2676333
A86: 산근 2-11 계획하폭(1㎞)
A87: 기술사 | C87: 인 | D87: ='하천기본계획(기준소요인력)'!$H$84 -> 0.2 | E87: =SUM(G87,I87,K87) -> 467217 | F87: =SUM(H87,J87,L87) -> 93443 | G87: ='산근3 노임'!$B$5 -> 467217 | H87: =TRUNC(D87*G87,0) -> 93443
A88: 특급기술인 | C88: 인 | D88: ='하천기본계획(기준소요인력)'!$I$84 -> 0.4 | E88: =SUM(G88,I88,K88) -> 373353 | F88: =SUM(H88,J88,L88) -> 149341 | G88: ='산근3 노임'!$B$6 -> 373353 | H88: =TRUNC(D88*G88,0) -> 149341
A89: 고급기술인 | C89: 인 | D89: ='하천기본계획(기준소요인력)'!$J$84 -> 0.6 | E89: =SUM(G89,I89,K89) -> 310884 | F89: =SUM(H89,J89,L89) -> 186530 | G89: ='산근3 노임'!$B$7 -> 310884 | H89: =TRUNC(D89*G89,0) -> 186530
A90: 중급기술인 | C90: 인 | D90: ='하천기본계획(기준소요인력)'!$K$84 -> 0.8 | E90: =SUM(G90,I90,K90) -> 295138 | F90: =SUM(H90,J90,L90) -> 236110 | G90: ='산근3 노임'!$B$8 -> 295138 | H90: =TRUNC(D90*G90,0) -> 236110
A91: 초급기술인 | C91: 인 | D91: ='하천기본계획(기준소요인력)'!$L$84 -> 0.7 | E91: =SUM(G91,I91,K91) -> 235459 | F91: =SUM(H91,J91,L91) -> 164821 | G91: ='산근3 노임'!$B$9 -> 235459 | H91: =TRUNC(D91*G91,0) -> 164821
A92: 계 | F92: =SUM(H92,J92,L92) -> 830245 | H92: =SUM(H87:H91) -> 830245
A93: =$O$2 -> 1 | F93: =INT($A93*F92) -> 830245 | H93: =INT($A93*H92) -> 830245
A94: 산근 2-12 하상변동(1㎞)
A95: 기술사 | C95: 인 | D95: ='하천기본계획(기준소요인력)'!$H$85 -> 0.5 | E95: =SUM(G95,I95,K95) -> 467217 | F95: =SUM(H95,J95,L95) -> 233608 | G95: ='산근3 노임'!$B$5 -> 467217 | H95: =TRUNC(D95*G95,0) -> 233608
A96: 특급기술인 | C96: 인 | D96: ='하천기본계획(기준소요인력)'!$I$85 -> 0.5 | E96: =SUM(G96,I96,K96) -> 373353 | F96: =SUM(H96,J96,L96) -> 186676 | G96: ='산근3 노임'!$B$6 -> 373353 | H96: =TRUNC(D96*G96,0) -> 186676
A97: 고급기술인 | C97: 인 | D97: ='하천기본계획(기준소요인력)'!$J$85 -> 1.4 | E97: =SUM(G97,I97,K97) -> 310884 | F97: =SUM(H97,J97,L97) -> 435237 | G97: ='산근3 노임'!$B$7 -> 310884 | H97: =TRUNC(D97*G97,0) -> 435237
A98: 중급기술인 | C98: 인 | D98: ='하천기본계획(기준소요인력)'!$K$85 -> 2.4 | E98: =SUM(G98,I98,K98) -> 295138 | F98: =SUM(H98,J98,L98) -> 708331 | G98: ='산근3 노임'!$B$8 -> 295138 | H98: =TRUNC(D98*G98,0) -> 708331
A99: 초급기술인 | C99: 인 | D99: ='하천기본계획(기준소요인력)'!$L$85 -> 1.8 | E99: =SUM(G99,I99,K99) -> 235459 | F99: =SUM(H99,J99,L99) -> 423826 | G99: ='산근3 노임'!$B$9 -> 235459 | H99: =TRUNC(D99*G99,0) -> 423826
A100: 계 | F100: =SUM(H100,J100,L100) -> 1987678 | H100: =SUM(H95:H99) -> 1987678
A101: =$O$2 -> 1 | F101: =INT($A101*F100) -> 1987678 | H101: =INT($A101*H100) -> 1987678
A103: 산근 2-13 시설물 능력검토(1㎞)
...

Sheet 산근2-45(출장비)
A1: <산근2-45> 자료수집 | I1: 낙찰율(%)
A2: 구분 | B2: 단가 | C2: 출장일수 | D2: 출장횟수 | E2: 금액(km당) | F2: 금액(10km당) | I2: 100
A3: ="소계의"&ROUND(G3*100,0)&"%"&"적용" -> 소계의100%적용 | E3: =E5*0.6 -> 36300 | F3: =E3*10 -> 363000 | G3: 1
A4: ="도급율 적용("&ROUND($I$2,1)&"%)" -> 도급율 적용(100%) | E4: =ROUND(E3*$I$2/100,0) -> 36300 | F4: =E4*10 -> 363000
A5: 계 | E5: =SUM(E6:E11) -> 60500 | F5: =E5*10 -> 605000
A6: 기 술 사 | B6: =$E$38 -> 45000 | C6: 1 | D6: 0.1 | E6: =B6*C6*D6 -> 4500 | F6: =E6*10 -> 45000
A7: 특급기술인 | B7: =$E$39 -> 40000 | C7: 2 | D7: 0.1 | E7: =B7*C7*D7 -> 8000 | F7: =E7*10 -> 80000
A8: 고급기술인 | B8: =$E$40 -> 40000 | C8: 2 | D8: 0.2 | E8: =B8*C8*D8 -> 16000 | F8: =E8*10 -> 160000
A9: 중급기술인 | B9: =$E$41 -> 40000 | C9: 2 | D9: 0.2 | E9: =B9*C9*D9 -> 16000 | F9: =E9*10 -> 160000
A10: 초급기술인 | B10: =$E$42 -> 40000 | C10: 2 | D10: 0.2 | E10: =B10*C10*D10 -> 16000 | F10: =E10*10 -> 160000
A11: 중급숙련기술인 | B11: =$E$43 -> 40000 | C11: 0 | D11: 0.4 | E11: =B11*C11*D11 -> 0 | F11: =E11*10 -> 0
A13: <산근2-46> 현지조사
A14: 구분 | B14: 단가 | C14: 출장일수 | D14: 출장횟수 | E14: 금액(km당) | F14: 금액(10km당)
A15: ="소계의"&ROUND(G15*100,0)&"%"&"적용" -> 소계의100%적용 | E15: =E17*0.6 -> 50700 | F15: =E15*10 -> 507000 | G15: 1
A16: ="도급율 적용("&ROUND($I$2,1)&"%)" -> 도급율 적용(100%) | E16: =ROUND(E15*$I$2/100,0) -> 50700 | F16: =E16*10 -> 507000
A17: 계 | E17: =SUM(E18:E23) -> 84500 | F17: =E17*10 -> 845000
A18: 기 술 사 | B18: =$E$38 -> 45000 | C18: 1 | D18: 0.1 | E18: =B18*C18*D18 -> 4500 | F18: =E18*10 -> 45000
A19: 특급기술인 | B19: =$E$39 -> 40000 | C19: 2 | D19: 0.2 | E19: =B19*C19*D19 -> 16000 | F19: =E19*10 -> 160000
A20: 고급기술인 | B20: =$E$40 -> 40000 | C20: 2 | D20: 0.2 | E20: =B20*C20*D20 -> 16000 | F20: =E20*10 -> 160000
A21: 중급기술인 | B21: =$E$41 -> 40000 | C21: 2 | D21: 0.3 | E21: =B21*C21*D21 -> 24000 | F21: =E21*10 -> 240000
A22: 초급기술인 | B22: =$E$42 -> 40000 | C22: 2 | D22: 0.3 | E22: =B22*C22*D22 -> 24000 | F22: =E22*10 -> 240000
A23: 중급숙련기술인 | B23: =$E$43 -> 40000 | C23: 0 | D23: 0.3 | E23: =B23*C23*D23 -> 0 | F23: =E23*10 -> 0
A25: <산근2-47> 보고 및 심사
A26: 구분 | B26: 단가 | C26: 출장일수 | D26: 출장횟수 | E26: 금액(km당) | F26: 금액(10km당)
A27: ="소계의"&ROUND(G27*100,0)&"%"&"적용" -> 소계의100%적용 | E27: =E29*0.6 -> 17400 | F27: =E27*10 -> 174000 | G27: 1
A28: ="도급율 적용("&ROUND($I$2,1)&"%)" -> 도급율 적용(100%) | E28: =ROUND(E27*$I$2/100,0) -> 17400 | F28: =E28*10 -> 174000
A29: 계 | E29: =SUM(E30:E35) -> 29000 | F29: =E29*10 -> 290000
A30: 기 술 사 | B30: =$E$38 -> 45000 | C30: 2 | D30: 0.1 | E30: =B30*C30*D30 -> 9000 | F30: =E30*10 -> 90000
A31: 특급기술인 | B31: =$E$39 -> 40000 | C31: 2 | D31: 0.1 | E31: =B31*C31*D31 -> 8000 | F31: =E31*10 -> 80000
A32: 고급기술인 | B32: =$E$40 -> 40000 | C32: 2 | D32: 0.1 | E32: =B32*C32*D32 -> 8000 | F32: =E32*10 -> 80000
A33: 중급기술인 | B33: =$E$41 -> 40000 | C33: 1 | D33: 0.1 | E33: =B33*C33*D33 -> 4000 | F33: =E33*10 -> 40000
A34: 초급기술인 | B34: =$E$42 -> 40000 | C34: 0 | D34: 0 | E34: =B34*C34*D34 -> 0 | F34: =E34*10 -> 0
A35: 중급숙련기술인 | B35: =$E$43 -> 40000 | C35: 0 | D35: 0 | E35: =B35*C35*D35 -> 0 | F35: =E35*10 -> 0
A36: <산근 2-48> 출장비 산정기준 | D36: 1 | E36: 일기준
A37: 구분 | B37: 식대 | C37: 숙박비 | D37: 일용비 | E37: 1일간출장시 | F37: 비고
A38: 기 술 사 | B38: 25000 | C38: 0 | D38: 20000 | E38: =($D38+$C38+$B38)*$D$36 -> 45000
A39: 특급기술인 | B39: 20000 | C39: 0 | D39: 20000 | E39: =($D39+$C39+$B39)*$D$36 -> 40000
A40: 고급기술인 | B40: 20000 | C40: 0 | D40: 20000 | E40: =($D40+$C40+$B40)*$D$36 -> 40000
A41: 중급기술인 | B41: 20000 | C41: 0 | D41: 20000 | E41: =($D41+$C41+$B41)*$D$36 -> 40000
A42: 초급기술인 | B42: 20000 | C42: 0 | D42: 20000 | E42: =($D42+$C42+$B42)*$D$36 -> 40000
A43: 중급숙련기술인 | B43: 20000 | C43: 0 | D43: 20000 | E43: =($D43+$C43+$B43)*$D$36 -> 40000
A45: <산근 2-49> 설계자문비
A46: 구분 | B46: 위원수(인) | C46: 단 가(원) | D46: 횟 수 | E46: 비 용(원) | F46: 비고
A47: 자문회의 | B47: 5 | C47: 100000 | D47: 2 | E47: =B47*C47*D47 -> 1000000 | F47: 초기-중간
A49: 계 | E49: =SUM(E47:E48) -> 1000000
A50: ="도급율 적용("&ROUND($I$2,1)&"%)" -> 도급율 적용(100%) | E50: =ROUND(E49*$I$2/100,-4) -> 1000000

Sheet 하천기본계획(기준소요인력)
A1: ▩ 하천 표준품셈(2022.01, 산업통산자원부)
A3: <산근2-1 > 소요인력(하천기본계획)
A4: 기본업무 | G4: 단위 | H4: 기준인원수 (인·일/단위) | M4: 환산 계수 | N4: 보정계수 | Q4: 적용 수량
H5: 기술사 | I5: 특 급 | J5: 고 급 | K5: 중 급 | L5: 초 급 | N5: ㉮ | O5: ㉯ | P5: ㉰
I6: 기술자 | J6: 기술자 | K6: 기술자 | L6: 기술자
A8: 1. 개요 | R8: 적용요율
B9: 가. 계획 목적, 범위, 기본원칙, 현황도 | G9: 1㎞ | H9: 0.1 | I9: 0.1 | J9: 0.1 | K9: 0.1 | L9: 0 | M9: ='산근2-0(하천기본계획-수량)'!$J$6 -> 2.7 | O9: ='산근2-0(하천기본계획-수량)'!$P$6 -> 1 | Q9: =ROUND(PRODUCT(M9:P9,R9),2) -> 2.7 | R9: ='하천기본계획(요율)'!H3 -> 1
A10: 2. 유역 및 하천현황
B11: 가. 유역현황 | G11: 10㎢ | H11: 0.3 | I11: 0.5 | J11: 0.5 | K11: 0.6 | L11: 0.7 | M11: ='산근2-0(하천기본계획-수량)'!$L$6 -> 1.68 | N11: ='산근2-0(하천기본계획-수량)'!$O$6 -> 0.8 | Q11: =ROUND(PRODUCT(M11:P11,R11),2) -> 1.34 | R11: ='하천기본계획(요율)'!H4 -> 1
B12: 나. 하천특성
C13: 1) 하도특성 조사 | G13: 1㎞ | H13: 0.1 | I13: 0.2 | J13: 0.2 | K13: 0.1 | L13: 0.1 | M13: ='산근2-0(하천기본계획-수량)'!$J$6 -> 2.7 | O13: ='산근2-0(하천기본계획-수량)'!$P$6 -> 1 | Q13: =ROUND(PRODUCT(M13:P13,R13),2) -> 2.7 | R13: ='하천기본계획(요율)'!H6 -> 1
C14: 2) 하천의 치수특성 조사 | G14: 10㎢ | H14: 0.1 | I14: 0.2 | J14: 0.3 | K14: 0.3 | L14: 0.3 | M14: ='산근2-0(하천기본계획-수량)'!$L$6 -> 1.68 | N14: ='산근2-0(하천기본계획-수량)'!$O$6 -> 0.8 | Q14: =ROUND(PRODUCT(M14:P14,R14),2) -> 1.34 | R14: ='하천기본계획(요율)'!H7 -> 1
C15: 3) 하천의 이수특성 조사 | G15: 10㎢ | H15: 0.1 | I15: 0.1 | J15: 0.2 | K15: 0.3 | L15: 0.4 | M15: ='산근2-0(하천기본계획-수량)'!$L$6 -> 1.68 | N15: ='산근2-0(하천기본계획-수량)'!$O$6 -> 0.8 | Q15: =ROUND(PRODUCT(M15:P15,R15),2) -> 1.34 | R15: ='하천기본계획(요율)'!H8 -> 1
C16: 4) 하천환경 특성 조사 | G16: 10㎢ | H16: 0.2 | I16: 0.2 | J16: 0.3 | K16: 0.3 | L16: 0.4 | M16: ='산근2-0(하천기본계획-수량)'!$L$6 -> 1.68 | N16: ='산근2-0(하천기본계획-수량)'!$O$6 -> 0.8 | Q16: =ROUND(PRODUCT(M16:P16,R16),2) -> 1.34 | R16: ='하천기본계획(요율)'!H9 -> 1
C17: 5) 하천이용 현황 조사 | G17: 10㎢ | H17: 0.1 | I17: 0.2 | J17: 0.3 | K17: 0.3 | L17: 0.6 | M17: ='산근2-0(하천기본계획-수량)'!$L$6 -> 1.68 | N17: ='산근2-0(하천기본계획-수량)'!$O$6 -> 0.8 | Q17: =ROUND(PRODUCT(M17:P17,R17),2) -> 1.34 | R17: ='하천기본계획(요율)'!H10 -> 1
C18: 6) 관련계획 검토 및 조정 | G18: 1㎞ | H18: 0.2 | I18: 0.3 | J18: 0.3 | K18: 0.5 | L18: 0.4 | M18: ='산근2-0(하천기본계획-수량)'!$J$6 -> 2.7 | O18: ='산근2-0(하천기본계획-수량)'!$P$6 -> 1 | Q18: =ROUND(PRODUCT(M18:P18,R18),2) -> 2.7 | R18: ='하천기본계획(요율)'!H11 -> 1
A19: 3. 종합검토
B20: 가. 치수특성분석
C21: 1) 홍수량 | G21: 10㎢ | H21: 0.1 | I21: 0.2 | J21: 0.3 | K21: 0.4 | L21: 0.3 | M21: ='산근2-0(하천기본계획-수량)'!$L$6 -> 1.68 | N21: ='산근2-0(하천기본계획-수량)'!$O$6 -> 0.8 | Q21: =ROUND(PRODUCT(M21:P21,R21),2) -> 1.34 | R21: ='하천기본계획(요율)'!H13 -> 1
C22: 2) 홍수위 | G22: 1㎞ | H22: 0.6 | I22: 1.1 | J22: 2.1 | K22: 2.6 | L22: 2.4 | M22: ='산근2-0(하천기본계획-수량)'!$J$6 -> 2.7 | O22: ='산근2-0(하천기본계획-수량)'!$P$6 -> 1 | Q22: =ROUND(PRODUCT(M22:P22,R22),2) -> 2.7 | R22: ='하천기본계획(요율)'!H14 -> 1
C23: 3) 계획하폭 | G23: 1㎞ | H23: 0.2 | I23: 0.4 | J23: 0.6 | K23: 0.8 | L23: 0.7 | M23: ='산근2-0(하천기본계획-수량)'!$J$6 -> 2.7 | O23: ='산근2-0(하천기본계획-수량)'!$P$6 -> 1 | Q23: =ROUND(PRODUCT(M23:P23,R23),2) -> 2.7 | R23: ='하천기본계획(요율)'!H15 -> 1
C24: 4) 하상변동 | G24: 1㎞ | H24: 0.5 | I24: 0.5 | J24: 1.4 | K24: 2.4 | L24: 1.8 | M24: ='산근2-0(하천기본계획-수량)'!$J$6 -> 2.7 | O24: ='산근2-0(하천기본계획-수량)'!$P$6 -> 1 | Q24: =ROUND(PRODUCT(M24:P24,R24),2) -> 2.7 | R24: ='하천기본계획(요율)'!H16 -> 1
C25: 5) 시설물 능력검토 | G25: 1㎞ | H25: 0.6 | I25: 1.7 | J25: 2.7 | K25: 3 | L25: 2.8 | M25: ='산근2-0(하천기본계획-수량)'!$J$6 -> 2.7 | O25: ='산근2-0(하천기본계획-수량)'!$P$6 -> 1 | Q25: =ROUND(PRODUCT(M25:P25,R25),2) -> 2.7 | R25: ='하천기본계획(요율)'!H17 -> 1
B26: 나. 이수특성분석
C27: 1) 수자원 부존량 산정 | G27: 10㎢ | H27: 0.3 | I27: 0.6 | J27: 0.6 | K27: 0.9 | L27: 0.9 | M27: ='산근2-0(하천기본계획-수량)'!$L$6 -> 1.68 | N27: ='산근2-0(하천기본계획-수량)'!$O$6 -> 0.8 | Q27: =ROUND(PRODUCT(M27:P27,R27),2) -> 1.34 | R27: ='하천기본계획(요율)'!H19 -> 1
C28: 2) 하천관리유량 산정 | G28: 1㎞ | H28: 0.1 | I28: 0.1 | J28: 0.3 | K28: 0.4 | L28: 0.2 | M28: ='산근2-0(하천기본계획-수량)'!$J$6 -> 2.7 | O28: ='산근2-0(하천기본계획-수량)'!$P$6 -> 1 | Q28: =ROUND(PRODUCT(M28:P28,R28),2) -> 2.7 | R28: ='하천기본계획(요율)'!H20 -> 1
C29: 3) 하천수 사용시설물 수요·공급량 추정 | G29: 10㎢ | H29: 0.4 | I29: 0.6 | J29: 1 | K29: 1 | L29: 1 | M29: ='산근2-0(하천기본계획-수량)'!$L$6 -> 1.68 | N29: ='산근2-0(하천기본계획-수량)'!$O$6 -> 0.8 | Q29: =ROUND(PRODUCT(M29:P29,R29),2) -> 1.34 | R29: ='하천기본계획(요율)'!H21 -> 1
B30: 다. 하천환경특성 분석 | G30: 1㎞ | H30: 0.1 | I30: 0.1 | J30: 0.4 | K30: 0.2 | L30: 0.2 | M30: ='산근2-0(하천기본계획-수량)'!$J$6 -> 2.7 | O30: ='산근2-0(하천기본계획-수량)'!$P$6 -> 1 | Q30: =ROUND(PRODUCT(M30:P30,R30),2) -> 2.7 | R30: ='하천기본계획(요율)'!H22 -> 1
A31: 4. 하천 정비 및 관리계획
B32: 가. 치수 종합계획 | G32: 1㎞ | H32: 1.4 | I32: 2 | J32: 3.5 | K32: 4.9 | L32: 4.4 | M32: ='산근2-0(하천기본계획-수량)'!$J$6 -> 2.7 | O32: ='산근2-0(하천기본계획-수량)'!$P$6 -> 1 | Q32: =ROUND(PRODUCT(M32:P32,R32),2) -> 2.7 | R32: ='하천기본계획(요율)'!H23 -> 1
B33: 나. 이수 종합계획 | G33: 10㎢ | H33: 1.3 | I33: 2.6 | J33: 4.1 | K33: 4.1 | L33: 3.3 | M33: ='산근2-0(하천기본계획-수량)'!$L$6 -> 1.68 | N33: ='산근2-0(하천기본계획-수량)'!$O$6 -> 0.8 | Q33: =ROUND(PRODUCT(M33:P33,R33),2) -> 1.34 | R33: ='하천기본계획(요율)'!H24 -> 1
B34: 다. 하천환경 종합계획 | G34: 10㎢ | H34: 1.3 | I34: 2.4 | J34: 3.6 | K34: 4 | L34: 3.6 | M34: ='산근2-0(하천기본계획-수량)'!$L$6 -> 1.68 | N34: ='산근2-0(하천기본계획-수량)'!$O$6 -> 0.8 | Q34: =ROUND(PRODUCT(M34:P34,R34),2) -> 1.34 | R34: ='하천기본계획(요율)'!H25 -> 1
B35: 라. 하천공간 관리계획 | G35: 1㎞ | H35: 0.6 | I35: 0.9 | J35: 1.9 | K35: 2.3 | L35: 1.4 | M35: ='산근2-0(하천기본계획-수량)'!$J$6 -> 2.7 | O35: ='산근2-0(하천기본계획-수량)'!$P$6 -> 1 | Q35: =ROUND(PRODUCT(M35:P35,R35),2) -> 2.7 | R35: ='하천기본계획(요율)'!H26 -> 1
A36: 5. 시행계획 및 기대효과
B37: 가. 경제성 분석 및 소요재원 산정 | G37: 1㎞ | H37: 0.4 | I37: 0.8 | J37: 2.3 | K37: 2.4 | L37: 2.2 | M37: ='산근2-0(하천기본계획-수량)'!$J$6 -> 2.7 | O37: ='산근2-0(하천기본계획-수량)'!$P$6 -> 1 | Q37: =ROUND(PRODUCT(M37:P37,R37),2) -> 2.7 | R37: ='하천기본계획(요율)'!H27 -> 1
B38: 나. 투자우선순위, 결론 및 기대효과 | G38: 1㎞ | H38: 0.4 | I38: 0.8 | J38: 1.1 | K38: 0.9 | L38: 0.9 | M38: ='산근2-0(하천기본계획-수량)'!$J$6 -> 2.7 | O38: ='산근2-0(하천기본계획-수량)'!$P$6 -> 1 | Q38: =ROUND(PRODUCT(M38:P38,R38),2) -> 2.7 | R38: ='하천기본계획(요율)'!H28 -> 1
A39: 6. 보고서 작성
B40: 가. 보고서 작성 | G40: 1㎞ | H40: 0.3 | I40: 0.7 | J40: 0.9 | K40: 0.5 | L40: 0 | M40: ='산근2-0(하천기본계획-수량)'!$J$6 -> 2.7 | O40: ='산근2-0(하천기본계획-수량)'!$P$6 -> 1 | Q40: =ROUND(PRODUCT(M40:P40,R40),2) -> 2.7 | R40: ='하천기본계획(요율)'!H29 -> 1
A41: Ⅱ. 하천시설관리대장
A42: 1. 하천시설대장
B43: 가. 하천시설물도 | G43: 1㎞ | H43: 0 | I43: 0 | J43: 0.5 | K43: 0.9 | L43: 1.5 | M43: ='산근2-0(하천기본계획-수량)'!$J$6 -> 2.7 | P43: ='산근2-0(하천기본계획-수량)'!$R$6 -> 1 | Q43: =ROUND(PRODUCT(M43:P43,R43),2) -> 2.7 | R43: ='하천기본계획(요율)'!H33 -> 1
B44: 나. 하천시설대장 조서 | G44: 1㎞ | H44: =SUM(H45:H49) -> 0 | I44: =SUM(I45:I49) -> 0 | J44: =SUM(J45:J49) -> 1.1 | K44: =SUM(K45:K49) -> 1.2 | L44: =SUM(L45:L49) -> 0.9 | M44: ='산근2-0(하천기본계획-수량)'!$J$6 -> 2.7 | P44: ='산근2-0(하천기본계획-수량)'!$R$6 -> 1 | Q44: =ROUND(PRODUCT(M44:P44,R44),2) -> 2.7 | R44: ='하천기본계획(요율)'!H34 -> 1
C45: 1) 제방 및 호안 현황 | G45: 1㎞ | H45: 0 | I45: 0 | J45: 0.7 | K45: 1 | L45: 0.7 | M45: ='산근2-0(하천기본계획-수량)'!$J$6 -> 2.7 | P45: ='산근2-0(하천기본계획-수량)'!$R$6 -> 1 | Q45: =ROUND(PRODUCT(M45:P45,R45),2) -> 2.7 | R45: =$R$44 -> 1
C46: 2) 댐, 홍수조절지, 저류지 등 현황 | G46: 1㎞ | H46: 0 | I46: 0 | J46: 0.1 | K46: 0.1 | L46: 0.1 | M46: ='산근2-0(하천기본계획-수량)'!$J$6 -> 2.7 | P46: ='산근2-0(하천기본계획-수량)'!$R$6 -> 1 | Q46: =ROUND(PRODUCT(M46:P46,R46),2) -> 2.7 | R46: =$R$44 -> 1
C47: 3) 지하하천 및 방수로 현황 | G47: 1㎞ | H47: 0 | I47: 0 | J47: 0.1 | K47: 0 | L47: 0 | M47: ='산근2-0(하천기본계획-수량)'!$J$6 -> 2.7 | P47: ='산근2-0(하천기본계획-수량)'!$R$6 -> 1 | Q47: =ROUND(PRODUCT(M47:P47,R47),2) -> 2.7 | R47: =$R$44 -> 1
C48: 4) 배수펌프장 현황 | G48: 1㎞ | H48: 0 | I48: 0 | J48: 0.1 | K48: 0.1 | L48: 0.1 | M48: ='산근2-0(하천기본계획-수량)'!$J$6 -> 2.7 | P48: ='산근2-0(하천기본계획-수량)'!$R$6 -> 1 | Q48: =ROUND(PRODUCT(M48:P48,R48),2) -> 2.7 | R48: =$R$44 -> 1
C49: 5) 하구둑 현황 | G49: 1㎞ | H49: 0 | I49: 0 | J49: 0.1 | K49: 0 | L49: 0 | M49: ='산근2-0(하천기본계획-수량)'!$J$6 -> 2.7 | P49: ='산근2-0(하천기본계획-수량)'!$R$6 -> 1 | Q49: =ROUND(PRODUCT(M49:P49,R49),2) -> 2.7 | R49: =$R$44 -> 1
A50: 2. 하천현황대장
B51: 가. 하천현황도 | G51: 1㎞ | H51: 0 | I51: 0.3 | J51: 0.4 | K51: 1.2 | L51: 2.2 | M51: ='산근2-0(하천기본계획-수량)'!$J$6 -> 2.7 | P51: ='산근2-0(하천기본계획-수량)'!$R$6 -> 1 | Q51: =ROUND(PRODUCT(M51:P51,R51),2) -> 2.7 | R51: ='하천기본계획(요율)'!H36 -> 1
B52: 나. 하천현황대장 조서 | G52: 1㎞ | H52: =SUM(H53:H58) -> 0.1 | I52: =SUM(I53:I58) -> 0.2 | J52: =SUM(J53:J58) -> 2.4 | K52: =SUM(K53:K58) -> 2.6 | L52: =SUM(L53:L58) -> 4.8 | M52: ='산근2-0(하천기본계획-수량)'!$J$6 -> 2.7 | P52: ='산근2-0(하천기본계획-수량)'!$R$6 -> 1 | Q52: =ROUND(PRODUCT(M52:P52,R52),2) -> 2.7 | R52: ='하천기본계획(요율)'!H37 -> 1
C53: 1) 하천개황 | G53: 1㎞ | H53: 0 | I53: 0 | J53: 0.2 | K53: 0.3 | L53: 0.5 | M53: ='산근2-0(하천기본계획-수량)'!$J$6 -> 2.7 | P53: ='산근2-0(하천기본계획-수량)'!$R$6 -> 1 | Q53: =ROUND(PRODUCT(M53:P53,R53),2) -> 2.7 | R53: =$R$52 -> 1
C54: 2) 측량기준점 | G54: 1㎞ | H54: 0 | I54: 0 | J54: 0.1 | K54: 0.1 | L54: 0.2 | M54: ='산근2-0(하천기본계획-수량)'!$J$6 -> 2.7 | P54: ='산근2-0(하천기본계획-수량)'!$R$6 -> 1 | Q54: =ROUND(PRODUCT(M54:P54,R54),2) -> 2.7 | R54: =$R$52 -> 1
C55: 3) 하천수 상황 | G55: 1㎞ | H55: 0 | I55: 0 | J55: 0.2 | K55: 0.2 | L55: 0.4 | M55: ='산근2-0(하천기본계획-수량)'!$J$6 -> 2.7 | P55: ='산근2-0(하천기본계획-수량)'!$R$6 -> 1 | Q55: =ROUND(PRODUCT(M55:P55,R55),2) -> 2.7 | R55: =$R$52 -> 1
C56: 4) 하천구역 현황 | G56: 1㎞ | H56: 0.1 | I56: 0.1 | J56: 1 | K56: 1.1 | L56: 2.1 | M56: ='산근2-0(하천기본계획-수량)'!$J$6 -> 2.7 | P56: ='산근2-0(하천기본계획-수량)'!$R$6 -> 1 | Q56: =ROUND(PRODUCT(M56:P56,R56),2) -> 2.7 | R56: =$R$52 -> 1
C57: 5) 홍수관리구역 현황 | G57: 1㎞ | H57: 0 | I57: 0.1 | J57: 0.4 | K57: 0.5 | L57: 0.9 | M57: ='산근2-0(하천기본계획-수량)'!$J$6 -> 2.7 | P57: ='산근2-0(하천기본계획-수량)'!$R$6 -> 1 | Q57: =ROUND(PRODUCT(M57:P57,R57),2) -> 2.7 | R57: =$R$52 -> 1
C58: 6) 하천개수 현황 | G58: 1㎞ | H58: 0 | I58: 0 | J58: 0.5 | K58: 0.4 | L58: 0.7 | M58: ='산근2-0(하천기본계획-수량)'!$J$6 -> 2.7 | P58: ='산근2-0(하천기본계획-수량)'!$R$6 -> 1 | Q58: =ROUND(PRODUCT(M58:P58,R58),2) -> 2.7 | R58: =$R$52 -> 1
A59: Ⅲ. 하천기본계획 전산화
B60: 가. 하천기본계획 전산화 | G60: 1㎞ | H60: 0 | I60: 0.2 | J60: 0.2 | K60: 0.5 | L60: 3.2 | M60: ='산근2-0(하천기본계획-수량)'!$J$6 -> 2.7 | O60: ='산근2-0(하천기본계획-수량)'!$P$6 -> 1 | Q60: =ROUND(PRODUCT(M60:P60,R60),2) -> 2.7 | R60: ='하천기본계획(요율)'!H40 -> 1
B61: 나. 하천시설관리대장 전산화 | G61: 1㎞ | H61: 0 | I61: 0.2 | J61: 0.2 | K61: 0.5 | L61: 3.2 | M61: ='산근2-0(하천기본계획-수량)'!$J$6 -> 2.7 | P61: ='산근2-0(하천기본계획-수량)'!$R$6 -> 1 | Q61: =ROUND(PRODUCT(M61:P61,R61),2) -> 2.7 | R61: ='하천기본계획(요율)'!H41 -> 1
B62: 다. 전산화 성과 검수 지원 | G62: 1㎞ | H62: 0 | I62: 0 | J62: 0.1 | K62: 0.1 | L62: 0.5 | M62: ='산근2-0(하천기본계획-수량)'!$J$6 -> 2.7 | P62: ='산근2-0(하천기본계획-수량)'!$R$6 -> 1 | Q62: =ROUND(PRODUCT(M62:P62,R62),2) -> 2.7 | R62: ='하천기본계획(요율)'!H42 -> 1
A64: <산근7-2> 적용소요인력(하천기본계획)
A65: 기본업무 | G65: 단위 | H65: 기준인원수 (인·일/단위) | M65: 환산 계수 | N65: 보정계수 | Q65: 적용 수량
H66: 기술사 | I66: 특 급 | J66: 고 급 | K66: 중 급 | L66: 초 급 | N66: ㉮ | O66: ㉯ | P66: ㉰
I67: 기술자 | J67: 기술자 | K67: 기술자 | L67: 기술자
A68: Ⅰ. 하천기본계획
A69: 1. 개요
B70: 가. 계획 목적, 범위, 기본원칙, 현황도 | G70: 1㎞ | H70: =H9*$R9 -> 0.1 | I70: =I9*$R$9 -> 0.1 | J70: =J9*$R$9 -> 0.1 | K70: =K9*$R$9 -> 0.1 | L70: =L9*$R$9 -> 0 | M70: ='산근2-0(하천기본계획-수량)'!$J$6 -> 2.7 | O70: ='산근2-0(하천기본계획-수량)'!$P$6 -> 1 | Q70: =ROUND(PRODUCT(M70:P70,R70),2) -> 2.7
A71: 2. 유역 및 하천현황
B72: 가. 유역현황 | G72: 10㎢ | H72: =H11*$R11 -> 0.3 | I72: =I11*$R11 -> 0.5 | J72: =J11*$R11 -> 0.5 | K72: =K11*$R11 -> 0.6 | L72: =L11*$R11 -> 0.7 | M72: ='산근2-0(하천기본계획-수량)'!$L$6 -> 1.68 | N72: ='산근2-0(하천기본계획-수량)'!$O$6 -> 0.8 | Q72: =ROUND(PRODUCT(M72:P72,R72),2) -> 1.34
B73: 나. 하천특성
C74: 1) 하도특성 조사 | G74: 1㎞ | H74: =H13*$R13 -> 0.1 | I74: =I13*$R13 -> 0.2 | J74: =J13*$R13 -> 0.2 | K74: =K13*$R13 -> 0.1 | L74: =L13*$R13 -> 0.1 | M74: ='산근2-0(하천기본계획-수량)'!$J$6 -> 2.7 | O74: ='산근2-0(하천기본계획-수량)'!$P$6 -> 1 | Q74: =ROUND(PRODUCT(M74:P74,R74),2) -> 2.7
C75: 2) 하천의 치수특성 조사 | G75: 10㎢ | H75: =H14*$R14 -> 0.1 | I75: =I14*$R14 -> 0.2 | J75: =J14*$R14 -> 0.3 | K75: =K14*$R14 -> 0.3 | L75: =L14*$R14 -> 0.3 | M75: ='산근2-0(하천기본계획-수량)'!$L$6 -> 1.68 | N75: ='산근2-0(하천기본계획-수량)'!$O$6 -> 0.8 | Q75: =ROUND(PRODUCT(M75:P75,R75),2) -> 1.34
C76: 3) 하천의 이수특성 조사 | G76: 10㎢ | H76: =H15*$R15 -> 0.1 | I76: =I15*$R15 -> 0.1 | J76: =J15*$R15 -> 0.2 | K76: =K15*$R15 -> 0.3 | L76: =L15*$R15 -> 0.4 | M76: ='산근2-0(하천기본계획-수량)'!$L$6 -> 1.68 | N76: ='산근2-0(하천기본계획-수량)'!$O$6 -> 0.8 | Q76: =ROUND(PRODUCT(M76:P76,R76),2) -> 1.34
C77: 4) 하천환경 특성 조사 | G77: 10㎢ | H77: =H16*$R16 -> 0.2 | I77: =I16*$R16 -> 0.2 | J77: =J16*$R16 -> 0.3 | K77: =K16*$R16 -> 0.3 | L77: =L16*$R16 -> 0.4 | M77: ='산근2-0(하천기본계획-수량)'!$L$6 -> 1.68 | N77: ='산근2-0(하천기본계획-수량)'!$O$6 -> 0.8 | Q77: =ROUND(PRODUCT(M77:P77,R77),2) -> 1.34
C78: 5) 하천이용 현황 조사 | G78: 10㎢ | H78: =H17*$R17 -> 0.1 | I78: =I17*$R17 -> 0.2 | J78: =J17*$R17 -> 0.3 | K78: =K17*$R17 -> 0.3 | L78: =L17*$R17 -> 0.6 | M78: ='산근2-0(하천기본계획-수량)'!$L$6 -> 1.68 | N78: ='산근2-0(하천기본계획-수량)'!$O$6 -> 0.8 | Q78: =ROUND(PRODUCT(M78:P78,R78),2) -> 1.34
C79: 6) 관련계획 검토 및 조정 | G79: 1㎞ | H79: =H18*$R18 -> 0.2 | I79: =I18*$R18 -> 0.3 | J79: =J18*$R18 -> 0.3 | K79: =K18*$R18 -> 0.5 | L79: =L18*$R18 -> 0.4 | M79: ='산근2-0(하천기본계획-수량)'!$J$6 -> 2.7 | O79: ='산근2-0(하천기본계획-수량)'!$P$6 -> 1 | Q79: =ROUND(PRODUCT(M79:P79,R79),2) -> 2.7
A80: 3. 종합검토
B81: 가. 치수특성분석
C82: 1) 홍수량 | G82: 10㎢ | H82: =H21*$R21 -> 0.1 | I82: =I21*$R21 -> 0.2 | J82: =J21*$R21 -> 0.3 | K82: =K21*$R21 -> 0.4 | L82: =L21*$R21 -> 0.3 | M82: ='산근2-0(하천기본계획-수량)'!$L$6 -> 1.68 | N82: ='산근2-0(하천기본계획-수량)'!$O$6 -> 0.8 | Q82: =ROUND(PRODUCT(M82:P82,R82),2) -> 1.34
C83: 2) 홍수위 | G83: 1㎞ | H83: =H22*$R22 -> 0.6 | I83: =I22*$R22 -> 1.1 | J83: =J22*$R22 -> 2.1 | K83: =K22*$R22 -> 2.6 | L83: =L22*$R22 -> 2.4 | M83: ='산근2-0(하천기본계획-수량)'!$J$6 -> 2.7 | O83: ='산근2-0(하천기본계획-수량)'!$P$6 -> 1 | Q83: =ROUND(PRODUCT(M83:P83,R83),2) -> 2.7
C84: 3) 계획하폭 | G84: 1㎞ | H84: =H23*$R23 -> 0.2 | I84: =I23*$R23 -> 0.4 | J84: =J23*$R23 -> 0.6 | K84: =K23*$R23 -> 0.8 | L84: =L23*$R23 -> 0.7 | M84: ='산근2-0(하천기본계획-수량)'!$J$6 -> 2.7 | O84: ='산근2-0(하천기본계획-수량)'!$P$6 -> 1 | Q84: =ROUND(PRODUCT(M84:P84,R84),2) -> 2.7
C85: 4) 하상변동 | G85: 1㎞ | H85: =H24*$R24 -> 0.5 | I85: =I24*$R24 -> 0.5 | J85: =J24*$R24 -> 1.4 | K85: =K24*$R24 -> 2.4 | L85: =L24*$R24 -> 1.8 | M85: ='산근2-0(하천기본계획-수량)'!$J$6 -> 2.7 | O85: ='산근2-0(하천기본계획-수량)'!$P$6 -> 1 | Q85: =ROUND(PRODUCT(M85:P85,R85),2) -> 2.7
C86: 5) 시설물 능력검토 | G86: 1㎞ | H86: =H25*$R25 -> 0.6 | I86: =I25*$R25 -> 1.7 | J86: =J25*$R25 -> 2.7 | K86: =K25*$R25 -> 3 | L86: =L25*$R25 -> 2.8 | M86: ='산근2-0(하천기본계획-수량)'!$J$6 -> 2.7 | O86: ='산근2-0(하천기본계획-수량)'!$P$6 -> 1 | Q86: =ROUND(PRODUCT(M86:P86,R86),2) -> 2.7
B87: 나. 이수특성분석
C88: 1) 수자원 부존량 산정 | G88: 10㎢ | H88: =H27*$R27 -> 0.3 | I88: =I27*$R27 -> 0.6 | J88: =J27*$R27 -> 0.6 | K88: =K27*$R27 -> 0.9 | L88: =L27*$R27 -> 0.9 | M88: ='산근2-0(하천기본계획-수량)'!$L$6 -> 1.68 | N88: ='산근2-0(하천기본계획-수량)'!$O$6 -> 0.8 | Q88: =ROUND(PRODUCT(M88:P88,R88),2) -> 1.34
C89: 2) 하천관리유량 산정 | G89: 1㎞ | H89: =H28*$R28 -> 0.1 | I89: =I28*$R28 -> 0.1 | J89: =J28*$R28 -> 0.3 | K89: =K28*$R28 -> 0.4 | L89: =L28*$R28 -> 0.2 | M89: ='산근2-0(하천기본계획-수량)'!$J$6 -> 2.7 | O89: ='산근2-0(하천기본계획-수량)'!$P$6 -> 1 | Q89: =ROUND(PRODUCT(M89:P89,R89),2) -> 2.7
C90: 3) 하천수 사용시설물 수요·공급량 추정 | G90: 10㎢ | H90: =H29*$R29 -> 0.4 | I90: =I29*$R29 -> 0.6 | J90: =J29*$R29 -> 1 | K90: =K29*$R29 -> 1 | L90: =L29*$R29 -> 1 | M90: ='산근2-0(하천기본계획-수량)'!$L$6 -> 1.68 | N90: ='산근2-0(하천기본계획-수량)'!$O$6 -> 0.8 | Q90: =ROUND(PRODUCT(M90:P90,R90),2) -> 1.34
B91: 다. 하천환경특성 분석 | G91: 1㎞ | H91: =H30*$R30 -> 0.1 | I91: =I30*$R30 -> 0.1 | J91: =J30*$R30 -> 0.4 | K91: =K30*$R30 -> 0.2 | L91: =L30*$R30 -> 0.2 | M91: ='산근2-0(하천기본계획-수량)'!$J$6 -> 2.7 | O91: ='산근2-0(하천기본계획-수량)'!$P$6 -> 1 | Q91: =ROUND(PRODUCT(M91:P91,R91),2) -> 2.7
A92: 4. 하천 정비 및 관리계획
B93: 가. 치수 종합계획 | G93: 1㎞ | H93: =H32*$R32 -> 1.4 | I93: =I32*$R32 -> 2 | J93: =J32*$R32 -> 3.5 | K93: =K32*$R32 -> 4.9 | L93: =L32*$R32 -> 4.4 | M93: ='산근2-0(하천기본계획-수량)'!$J$6 -> 2.7 | O93: ='산근2-0(하천기본계획-수량)'!$P$6 -> 1 | Q93: =ROUND(PRODUCT(M93:P93,R93),2) -> 2.7
B94: 나. 이수 종합계획 | G94: 10㎢ | H94: =H33*$R33 -> 1.3 | I94: =I33*$R33 -> 2.6 | J94: =J33*$R33 -> 4.1 | K94: =K33*$R33 -> 4.1 | L94: =L33*$R33 -> 3.3 | M94: ='산근2-0(하천기본계획-수량)'!$L$6 -> 1.68 | N94: ='산근2-0(하천기본계획-수량)'!$O$6 -> 0.8 | Q94: =ROUND(PRODUCT(M94:P94,R94),2) -> 1.34
B95: 다. 하천환경 종합계획 | G95: 10㎢ | H95: =H34*$R34 -> 1.3 | I95: =I34*$R34 -> 2.4 | J95: =J34*$R34 -> 3.6 | K95: =K34*$R34 -> 4 | L95: =L34*$R34 -> 3.6 | M95: ='산근2-0(하천기본계획-수량)'!$L$6 -> 1.68 | N95: ='산근2-0(하천기본계획-수량)'!$O$6 -> 0.8 | Q95: =ROUND(PRODUCT(M95:P95,R95),2) -> 1.34
B96: 라. 하천공간 관리계획 | G96: 1㎞ | H96: =H35*$R35 -> 0.6 | I96: =I35*$R35 -> 0.9 | J96: =J35*$R35 -> 1.9 | K96: =K35*$R35 -> 2.3 | L96: =L35*$R35 -> 1.4 | M96: ='산근2-0(하천기본계획-수량)'!$J$6 -> 2.7 | O96: ='산근2-0(하천기본계획-수량)'!$P$6 -> 1 | Q96: =ROUND(PRODUCT(M96:P96,R96),2) -> 2.7
A97: 5. 시행계획 및 기대효과
B98: 가. 경제성 분석 및 소요재원 산정 | G98: 1㎞ | H98: =H37*$R37 -> 0.4 | I98: =I37*$R37 -> 0.8 | J98: =J37*$R37 -> 2.3 | K98: =K37*$R37 -> 2.4 | L98: =L37*$R37 -> 2.2 | M98: ='산근2-0(하천기본계획-수량)'!$J$6 -> 2.7 | O98: ='산근2-0(하천기본계획-수량)'!$P$6 -> 1 | Q98: =ROUND(PRODUCT(M98:P98,R98),2) -> 2.7
B99: 나. 투자우선순위, 결론 및 기대효과 | G99: 1㎞ | H99: =H38*$R38 -> 0.4 | I99: =I38*$R38 -> 0.8 | J99: =J38*$R38 -> 1.1 | K99: =K38*$R38 -> 0.9 | L99: =L38*$R38 -> 0.9 | M99: ='산근2-0(하천기본계획-수량)'!$J$6 -> 2.7 | O99: ='산근2-0(하천기본계획-수량)'!$P$6 -> 1 | Q99: =ROUND(PRODUCT(M99:P99,R99),2) -> 2.7
A100: 6. 보고서 작성
B101: 가. 보고서 작성 | G101: 1㎞ | H101: =H40*$R40 -> 0.3 | I101: =I40*$R40 -> 0.7 | J101: =J40*$R40 -> 0.9 | K101: =K40*$R40 -> 0.5 | L101: =L40*$R40 -> 0 | M101: ='산근2-0(하천기본계획-수량)'!$J$6 -> 2.7 | O101: ='산근2-0(하천기본계획-수량)'!$P$6 -> 1 | Q101: =ROUND(PRODUCT(M101:P101,R101),2) -> 2.7
A102: Ⅱ. 하천시설관리대장
A103: 1. 하천시설대장
...

Sheet 하천기본계획(요율)
A1: 1. 하천기본계획 | E1: Ⅰ. 하천기본계획
A2: 기본업무 | B2: 단위업무 | C2: 구분 | D2: 적용요율 | E2: 기본업무 | F2: 단위업무 | G2: 구분 | H2: 적용요율 | I2: 요율 범위
A3: 가.작업계획 | B3: (1)작업계획 수립 | C3: L | D3: 0 | E3: 1. 개요 | F3: 가. 계획의 목적, 범위, 원칙, 유역현황도 | G3: L | H3: 1 | I3: 0.8~1.2
A4: 나.하천기본계획 수립을 위한 기초조사 | B4: (1)일반현황 | C4: A | D4: 0.4 | E4: 2. 유역 및 하천현황 | F4: 가. 유역현황 | G4: A | H4: 1 | I4: 0.8~1.2
B5: (2)수문조사 | C5: A | D5: 0.4 | F5: 나. 하천특성
F6: 1) 하도특성 조사 | G6: L | H6: 1 | I6: 0.8~1.2
B7: (4)하천사업의 연혁 및 피해현황 | C7: A | D7: 0.4 | F7: 2) 치수특성 조사 | G7: A | H7: 1 | I7: 0.8~1.2
B8: (5)하천의 이용현황 | C8: A | D8: 0.4 | F8: 3) 이수특성 조사 | G8: A | H8: 1 | I8: 0.8~1.2
B9: (6)하천의 환경현황 | C9: L | D9: 0.4 | F9: 4) 하천환경 특성 조사 | G9: A | H9: 1 | I9: 0.8~1.2
B10: (7)수질조사 | C10: L | D10: 0.4 | F10: 5) 하천이용 현황 조사 | G10: A | H10: 1 | I10: 0.8~1.2
B11: (8)타 계획과의 조정 | C11: L | D11: 0.5 | F11: 6) 관련계획 검토 및 조정 | G11: L | H11: 1 | I11: 0.9~1.1
E12: 3. 종합검토 | F12: 가. 치수특성분석
A13: 다.홍수량 및 홍수위 산정 | B13: (1)기본홍수량 및 계획홍수량 | C13: A | D13: 1 | F13: 1) 홍수량 산정 | G13: A | H13: 1 | I13: 0.9~1.1 | J13: 홍수량 직접산정시 2.5 적용
B14: (2)홍수위 산정 | C14: L | D14: 1 | F14: 2) 홍수위 산정 | G14: L | H14: 1 | I14: 1
F15: 3) 계획하폭 결정 | G15: L | H15: 1 | I15: 1
F16: 4) 하상변동 분석 | G16: L | H16: 1 | I16: 1
A17: 라.하상변동 분석 | B17: (1)하상재료조사 | C17: L | D17: 1 | F17: 5) 시설물능력 검토 | G17: L | H17: 1 | I17: 1
B18: (3)하상변동 및 안정하도 분석 | C18: L | D18: 1 | F18: 나. 이수특성 분석
A19: 마.용수수급계획 수립 | B19: (1)수자원부존량 산정 | C19: A | D19: 0.4 | F19: 1) 수자원 부존량 산정 | G19: A | H19: 1 | I19: 0.9~1.1
B20: (2)용수수급현황의 파악 | C20: A | D20: 0.4 | F20: 2) 하천관리유량 산정 | G20: L | H20: 1 | I20: 0.9~1.1
B21: (3)용수수요량 예측 및 산정 | C21: A | D21: 0 | F21: 3) 하천수 사용시설물 수요·공급량 추정 | G21: A | H21: 1 | I21: 0.9~1.1
B22: (4)물수지 분석 | C22: A | D22: 0 | F22: 다. 하천환경특성 분석 | G22: L | H22: 1 | I22: 0.9~1.1
A23: 바.하천의 종합적인 정비방향 | B23: (1)하천의 종합적인 정비방향 | C23: A | D23: 1 | E23: 4. 하천 정비 및 관리계획 | F23: 가. 치수 종합계획 | G23: L | H23: 1 | I23: 1
A24: 사.하천의 정비․이용․보전에 관한 사항 | B24: (1)하천의 지구별 관리계획 수립 | C24: L | D24: 1 | F24: 나. 이수 종합계획 | G24: A | H24: 1 | I24: 1
B25: (2)하도계획 | C25: L | D25: 0 | F25: 다. 하천환경 종합계획 | G25: A | H25: 1 | I25: 0.9~1.1
B26: (3)하천시설물 계획 | C26: L | D26: 1 | F26: 라. 하천공간 관리계획 | G26: L | H26: 1 | I26: 0.8~1.2
A27: 아.하천 환경에 관한 사항 | B27: (1)수환경 보존계획 | C27: A | D27: 1 | E27: 5. 시행계획 및 기대효과 | F27: 가. 경제성 분석 및 소요재원 산정 | G27: L | H27: 1 | I27: 1
F28: 나. 투자우선순위, 결론 및 기대효과 | G28: L | H28: 1 | I28: 1
B29: (3)하도의 유지관리 | C29: L | D29: 0.4 | E29: 6. 보고서 작성 | F29: 가. 보고서 작성 | G29: L | H29: 1 | I29: 0.9~1.1
A30: 차.보고서 작성 | B30: (1)보고서 작성 | C30: L | D30: 0.5
A32: 2. 하천대장 작성 | E32: Ⅱ. 하천시설관리대장
A33: 가.하천대장 작성 | B33: (1)하천현황대장조서 | C33: L | D33: 1 | E33: 1. 하천시설대장 | F33: 가. 하천시설물도 | G33: L | H33: 1 | I33: 0.8~1.2 | J33: 1 | K33: 1
B34: (2)하천시설관리대장조서 | C34: L | D34: 1 | F34: 나. 하천시설대장 조서 | G34: L | H34: 1 | I34: 0.8~1.2 | J34: 1 | K34: 1
B35: (3)하천대장부록 | C35: L | D35: 1
A36: 나.하천대장 도면작성 | B36: (1)하천대장부도 작성 | C36: L | D36: 1 | E36: 2. 하천현황대장 | F36: 가. 하천현황도 | G36: L | H36: 1 | I36: 0.8~1.2 | J36: 1 | K36: 1
B37: (2)지적도 작성 | C37: L | D37: 0.4 | F37: 나. 하천현황대장 조서 | G37: L | H37: 1 | I37: 0.8~1.2 | J37: 1 | K37: 1
A38: 다.하천대장 전산화 | B38: (1)수치지도 작성 | C38: L | D38: 1
B39: (2)전산화 입력 | C39: L | D39: 1 | E39: Ⅲ. 하천기본계획 전산화
E40: 1. 하천기본계획 전산화 | G40: L | H40: 1 | I40: 0.8~1.2 | J40: 1 | K40: 1
E41: 2. 하천시설관리대장 전산화 | G41: L | H41: 1 | I41: 0.8~1.2 | J41: 1 | K41: 1
E42: 3. 전산화 성과 검수 지원 | G42: L | H42: 1 | I42: 0.8~1.2 | J42: 1 | K42: 1

Sheet 일위대가2 (측량조사)
A1: 공 종 | B1: 규 격 | C1: 단 위 | D1: 수 량 | E1: 계 | G1: 노 무 비 | I1: 재 료 비 | K1: 경 비 | M1: 비 고 | O1: 적용요율 | P1: 제경비율 | Q1: 기술료율
E2: 단 가 | F2: 금 액 | G2: 단 가 | H2: 금 액 | I2: 단 가 | J2: 금 액 | K2: 단 가 | L2: 금 액 | O2: 1 | P2: =#REF! -> #REF! | Q2: =#REF! -> #REF!
A3: 측량조사 (건설공사 표준품셈, 국토교통부 공고 제2023-1639호, 2023.12.29)
A4: 제 2-1 호표 지형현황측량(1식) | M4: <산근2-1>
A5: 특급기술인 | C5: 인 | D5: ='산근2-1(측량조사)'!E37 -> #REF! | E5: =SUM(G5,I5,K5) -> 0 | F5: =SUM(H5,J5,L5) -> #REF! | G5: ='산근3 노임'!$B$27 -> 0 | H5: =TRUNC($D5*G5,0) -> #REF! | L5: =TRUNC($D5*K5,0) -> #REF!
A6: 고급기술인 | C6: 인 | D6: ='산근2-1(측량조사)'!G37 -> #REF! | E6: =SUM(G6,I6,K6) -> 0 | F6: =SUM(H6,J6,L6) -> #REF! | G6: ='산근3 노임'!$B$28 -> 0 | H6: =TRUNC($D6*G6,0) -> #REF! | L6: =TRUNC($D6*K6,0) -> #REF!
A7: 중급기술인 | C7: 인 | D7: ='산근2-1(측량조사)'!I37 -> #REF! | E7: =SUM(G7,I7,K7) -> 0 | F7: =SUM(H7,J7,L7) -> #REF! | G7: ='산근3 노임'!$B$29 -> 0 | H7: =TRUNC($D7*G7,0) -> #REF! | L7: =TRUNC($D7*K7,0) -> #REF!
A8: 초급기술인 | C8: 인 | D8: ='산근2-1(측량조사)'!K37 -> #REF! | E8: =SUM(G8,I8,K8) -> 0 | F8: =SUM(H8,J8,L8) -> #REF! | G8: ='산근3 노임'!$B$30 -> 0 | H8: =TRUNC($D8*G8,0) -> #REF! | L8: =TRUNC($D8*K8,0) -> #REF!
A9: 초급기능인 | C9: 인 | D9: ='산근2-1(측량조사)'!M37 -> #REF! | E9: =SUM(G9,I9,K9) -> 0 | F9: =SUM(H9,J9,L9) -> #REF! | G9: ='산근3 노임'!$B$31 -> 0 | H9: =TRUNC($D9*G9,0) -> #REF! | L9: =TRUNC($D9*K9,0) -> #REF!
A10: 보 통 인 부 | C10: 인 | D10: ='산근2-1(측량조사)'!O37 -> #REF! | E10: =SUM(G10,I10,K10) -> 0 | F10: =SUM(H10,J10,L10) -> #REF! | H10: =TRUNC($D10*G10,0) -> #REF! | K10: ='산근3 노임'!$B$19 -> 0 | L10: =TRUNC($D10*K10,0) -> #REF!
A11: 계 | F11: =SUM(H11,J11,L11) -> #REF! | H11: =SUM(H5:H10) -> #REF! | J11: =SUM(J5:J10) -> 0 | L11: =SUM(L5:L10) -> #REF!
A12: =$O$2 -> 1 | F12: =SUM(H12,J12,L12) -> #REF! | H12: =INT($A12*H11) -> #REF! | J12: =INT($A12*J11) -> 0 | L12: =INT($A12*L11) -> #REF!
A13: 제 2-2 호표 수도노선측량(1km) | M13: <산근2-2>
A14: 특급기술인 | C14: 인 | D14: =0 -> 0 | E14: =SUM(G14,I14,K14) -> 0 | F14: =SUM(H14,J14,L14) -> 0 | G14: ='산근3 노임'!$B$27 -> 0 | H14: =TRUNC($D14*G14,0) -> 0 | L14: =TRUNC($D14*K14,0) -> 0
A15: 고급기술인 | C15: 인 | D15: ='산근2-1(측량조사)'!G75 -> 4 | E15: =SUM(G15,I15,K15) -> 0 | F15: =SUM(H15,J15,L15) -> 0 | G15: ='산근3 노임'!$B$28 -> 0 | H15: =TRUNC($D15*G15,0) -> 0 | L15: =TRUNC($D15*K15,0) -> 0
A16: 중급기술인 | C16: 인 | D16: ='산근2-1(측량조사)'!I75 -> 7.47 | E16: =SUM(G16,I16,K16) -> 0 | F16: =SUM(H16,J16,L16) -> 0 | G16: ='산근3 노임'!$B$29 -> 0 | H16: =TRUNC($D16*G16,0) -> 0 | L16: =TRUNC($D16*K16,0) -> 0
A17: 초급기술인 | C17: 인 | D17: ='산근2-1(측량조사)'!K75 -> 8.94 | E17: =SUM(G17,I17,K17) -> 0 | F17: =SUM(H17,J17,L17) -> 0 | G17: ='산근3 노임'!$B$30 -> 0 | H17: =TRUNC($D17*G17,0) -> 0 | L17: =TRUNC($D17*K17,0) -> 0
A18: 초급기능인 | C18: 인 | D18: ='산근2-1(측량조사)'!M75 -> 13.88 | E18: =SUM(G18,I18,K18) -> 0 | F18: =SUM(H18,J18,L18) -> 0 | G18: ='산근3 노임'!$B$31 -> 0 | H18: =TRUNC($D18*G18,0) -> 0 | L18: =TRUNC($D18*K18,0) -> 0
A19: 보 통 인 부 | C19: 인 | D19: ='산근2-1(측량조사)'!O75 -> 5.47 | E19: =SUM(G19,I19,K19) -> 0 | F19: =SUM(H19,J19,L19) -> 0 | H19: =TRUNC($D19*G19,0) -> 0 | K19: ='산근3 노임'!$B$19 -> 0 | L19: =TRUNC($D19*K19,0) -> 0
A20: 계 | F20: =SUM(H20,J20,L20) -> 0 | H20: =SUM(H14:H19) -> 0 | J20: =SUM(J14:J19) -> 0 | L20: =SUM(L14:L19) -> 0
A21: =$O$2 -> 1 | F21: =SUM(H21,J21,L21) -> 0 | H21: =INT($A21*H20) -> 0 | J21: =INT($A21*J20) -> 0 | L21: =INT($A21*L20) -> 0
A23: 제 2-3 호표 용지측량(1km) | M23: <산근2-3>
A24: 특급기술인 | C24: 인 | D24: 0 | E24: =SUM(G24,I24,K24) -> 0 | F24: =SUM(H24,J24,L24) -> 0 | G24: ='산근3 노임'!$B$27 -> 0 | H24: =TRUNC($D24*G24,0) -> 0 | L24: =TRUNC($D24*K24,0) -> 0
A25: 고급기술인 | C25: 인 | D25: ='산근2-1(측량조사)'!D88 -> 4.4 | E25: =SUM(G25,I25,K25) -> 0 | F25: =SUM(H25,J25,L25) -> 0 | G25: ='산근3 노임'!$B$28 -> 0 | H25: =TRUNC($D25*G25,0) -> 0 | L25: =TRUNC($D25*K25,0) -> 0
A26: 중급기술인 | C26: 인 | D26: ='산근2-1(측량조사)'!F88 -> 10.8 | E26: =SUM(G26,I26,K26) -> 0 | F26: =SUM(H26,J26,L26) -> 0 | G26: ='산근3 노임'!$B$29 -> 0 | H26: =TRUNC($D26*G26,0) -> 0 | L26: =TRUNC($D26*K26,0) -> 0
A27: 초급기술인 | C27: 인 | D27: ='산근2-1(측량조사)'!H88 -> 12 | E27: =SUM(G27,I27,K27) -> 0 | F27: =SUM(H27,J27,L27) -> 0 | G27: ='산근3 노임'!$B$30 -> 0 | H27: =TRUNC($D27*G27,0) -> 0 | L27: =TRUNC($D27*K27,0) -> 0
A28: 초급기능인 | C28: 인 | D28: ='산근2-1(측량조사)'!J88 -> 5.2 | E28: =SUM(G28,I28,K28) -> 0 | F28: =SUM(H28,J28,L28) -> 0 | G28: ='산근3 노임'!$B$31 -> 0 | H28: =TRUNC($D28*G28,0) -> 0 | L28: =TRUNC($D28*K28,0) -> 0
A29: 보 통 인 부 | C29: 인 | D29: 0 | E29: =SUM(G29,I29,K29) -> 0 | F29: =SUM(H29,J29,L29) -> 0 | H29: =TRUNC($D29*G29,0) -> 0 | K29: ='산근3 노임'!$B$19 -> 0 | L29: =TRUNC($D29*K29,0) -> 0
A30: 계 | F30: =SUM(H30,J30,L30) -> 0 | H30: =SUM(H24:H29) -> 0 | J30: =SUM(J24:J29) -> 0 | L30: =SUM(L24:L29) -> 0
A31: =$O$2 -> 1 | F31: =SUM(H31,J31,L31) -> 0 | H31: =INT($A31*H30) -> 0 | J31: =INT($A31*J30) -> 0 | L31: =INT($A31*L30) -> 0
A32: 제 2-4 호표 하천종단측량(1km) | M32: <산근2-4>
A33: 특급기술인 | C33: 인 | D33: 0 | E33: =SUM(G33,I33,K33) -> 0 | F33: =SUM(H33,J33,L33) -> 0 | G33: ='산근3 노임'!$B$27 -> 0 | H33: =TRUNC($D33*G33,0) -> 0 | L33: =TRUNC($D33*K33,0) -> 0
A34: 고급기술인 | C34: 인 | D34: ='산근2-1(측량조사)'!D98 -> 0.26 | E34: =SUM(G34,I34,K34) -> 0 | F34: =SUM(H34,J34,L34) -> 0 | G34: ='산근3 노임'!$B$28 -> 0 | H34: =TRUNC($D34*G34,0) -> 0 | L34: =TRUNC($D34*K34,0) -> 0
A35: 중급기술인 | C35: 인 | D35: ='산근2-1(측량조사)'!F98 -> 1.3 | E35: =SUM(G35,I35,K35) -> 0 | F35: =SUM(H35,J35,L35) -> 0 | G35: ='산근3 노임'!$B$29 -> 0 | H35: =TRUNC($D35*G35,0) -> 0 | L35: =TRUNC($D35*K35,0) -> 0
A36: 초급기술인 | C36: 인 | D36: ='산근2-1(측량조사)'!H98 -> 1.3 | E36: =SUM(G36,I36,K36) -> 0 | F36: =SUM(H36,J36,L36) -> 0 | G36: ='산근3 노임'!$B$30 -> 0 | H36: =TRUNC($D36*G36,0) -> 0 | L36: =TRUNC($D36*K36,0) -> 0
A37: 초급기능인 | C37: 인 | D37: ='산근2-1(측량조사)'!J98 -> 1 | E37: =SUM(G37,I37,K37) -> 0 | F37: =SUM(H37,J37,L37) -> 0 | G37: ='산근3 노임'!$B$31 -> 0 | H37: =TRUNC($D37*G37,0) -> 0 | L37: =TRUNC($D37*K37,0) -> 0
A38: 보 통 인 부 | C38: 인 | D38: ='산근2-1(측량조사)'!L98 -> 1 | E38: =SUM(G38,I38,K38) -> 0 | F38: =SUM(H38,J38,L38) -> 0 | H38: =TRUNC($D38*G38,0) -> 0 | K38: ='산근3 노임'!$B$19 -> 0 | L38: =TRUNC($D38*K38,0) -> 0
A39: 계 | F39: =SUM(H39,J39,L39) -> 0 | H39: =SUM(H33:H38) -> 0 | J39: =SUM(J33:J38) -> 0 | L39: =SUM(L33:L38) -> 0
A40: =$O$2 -> 1 | F40: =SUM(H40,J40,L40) -> 0 | H40: =INT($A40*H39) -> 0 | J40: =INT($A40*J39) -> 0 | L40: =INT($A40*L39) -> 0
A42: 제 2-5 호표 하천횡단측량(1km) | M42: <산근2-4>
A43: 특급기술인 | C43: 인 | D43: 0 | E43: =SUM(G43,I43,K43) -> 0 | F43: =SUM(H43,J43,L43) -> 0 | G43: ='산근3 노임'!$B$27 -> 0 | H43: =TRUNC(D43*G43,0) -> 0 | L43: =TRUNC($D43*K43,0) -> 0
A44: 고급기술인 | C44: 인 | D44: ='산근2-1(측량조사)'!D102 -> 0.7 | E44: =SUM(G44,I44,K44) -> 0 | F44: =SUM(H44,J44,L44) -> 0 | G44: ='산근3 노임'!$B$28 -> 0 | H44: =TRUNC(D44*G44,0) -> 0 | L44: =TRUNC($D44*K44,0) -> 0
A45: 중급기술인 | C45: 인 | D45: ='산근2-1(측량조사)'!F102 -> 4.5 | E45: =SUM(G45,I45,K45) -> 0 | F45: =SUM(H45,J45,L45) -> 0 | G45: ='산근3 노임'!$B$29 -> 0 | H45: =TRUNC(D45*G45,0) -> 0 | L45: =TRUNC($D45*K45,0) -> 0
A46: 초급기술인 | C46: 인 | D46: ='산근2-1(측량조사)'!H102 -> 4.5 | E46: =SUM(G46,I46,K46) -> 0 | F46: =SUM(H46,J46,L46) -> 0 | G46: ='산근3 노임'!$B$30 -> 0 | H46: =TRUNC(D46*G46,0) -> 0 | L46: =TRUNC($D46*K46,0) -> 0
A47: 초급기능인 | C47: 인 | D47: ='산근2-1(측량조사)'!J102 -> 7 | E47: =SUM(G47,I47,K47) -> 0 | F47: =SUM(H47,J47,L47) -> 0 | G47: ='산근3 노임'!$B$31 -> 0 | H47: =TRUNC(D47*G47,0) -> 0 | L47: =TRUNC($D47*K47,0) -> 0
A48: 보 통 인 부 | C48: 인 | D48: ='산근2-1(측량조사)'!L102 -> 7.5 | E48: =SUM(G48,I48,K48) -> 0 | F48: =SUM(H48,J48,L48) -> 0 | H48: =TRUNC(D48*G48,0) -> 0 | K48: ='산근3 노임'!$B$19 -> 0 | L48: =TRUNC($D48*K48,0) -> 0
A49: 계 | F49: =SUM(H49,J49,L49) -> 0 | H49: =SUM(H43:H48) -> 0 | J49: =SUM(J43:J48) -> 0 | L49: =SUM(L43:L48) -> 0
A50: =$O$2 -> 1 | F50: =SUM(H50,J50,L50) -> 0 | H50: =INT($A50*H49) -> 0 | J50: =INT($A50*J49) -> 0 | L50: =INT($A50*L49) -> 0
A51: 제 2-6 호표 지장물 및 구조물조사(1km) | M51: <산근2-5>
A52: 기술사 | C52: 인 | D52: ='산근2-5(지장물조사)'!C8 -> 0 | E52: =SUM(G52,I52,K52) -> 0 | F52: =SUM(H52,J52,L52) -> 0 | G52: ='산근3 노임'!$B$26 -> 0 | H52: =TRUNC(D52*G52,0) -> 0 | L52: =TRUNC($D52*K52,0) -> 0
A53: 특급기술인 | C53: 인 | D53: ='산근2-5(지장물조사)'!D8 -> 2.1 | E53: =SUM(G53,I53,K53) -> 0 | F53: =SUM(H53,J53,L53) -> 0 | G53: ='산근3 노임'!$B$27 -> 0 | H53: =TRUNC(D53*G53,0) -> 0 | L53: =TRUNC($D53*K53,0) -> 0
A54: 고급기술인 | C54: 인 | D54: ='산근2-5(지장물조사)'!E8 -> 3.1 | E54: =SUM(G54,I54,K54) -> 0 | F54: =SUM(H54,J54,L54) -> 0 | G54: ='산근3 노임'!$B$28 -> 0 | H54: =TRUNC(D54*G54,0) -> 0 | L54: =TRUNC($D54*K54,0) -> 0
A55: 중급기술인 | C55: 인 | D55: ='산근2-5(지장물조사)'!F8 -> 3.9 | E55: =SUM(G55,I55,K55) -> 0 | F55: =SUM(H55,J55,L55) -> 0 | G55: ='산근3 노임'!$B$29 -> 0 | H55: =TRUNC(D55*G55,0) -> 0 | L55: =TRUNC($D55*K55,0) -> 0
A56: 초급기술인 | C56: 인 | D56: ='산근2-5(지장물조사)'!G8 -> 5.2 | E56: =SUM(G56,I56,K56) -> 0 | F56: =SUM(H56,J56,L56) -> 0 | G56: ='산근3 노임'!$B$30 -> 0 | H56: =TRUNC(D56*G56,0) -> 0 | L56: =TRUNC($D56*K56,0) -> 0
A57: 계 | F57: =SUM(H57,J57,L57) -> 0 | H57: =SUM(H52:H56) -> 0 | J57: =SUM(J52:J56) -> 0 | L57: =SUM(L52:L56) -> 0
A58: =$O$2 -> 1 | F58: =SUM(H58,J58,L58) -> 0 | H58: =INT($A58*H57) -> 0 | J58: =INT($A58*J57) -> 0 | L58: =INT($A58*L57) -> 0
A59: 제 2-7 호표 공공측량성과심사(1식) | M59: <산근2-6>
A60: 공공기준점 심사 | C60: 점 | D60: ='산근 2-6 (공공측량성과심사)'!$D$31 -> #REF! | E60: =SUM(G60,I60,K60) -> 0 | F60: =SUM(H60,J60,L60) -> #REF! | G60: ='산근 2-6 (공공측량성과심사)'!E31 -> 0 | H60: =TRUNC(D60*G60,0) -> #REF! | L60: =TRUNC($D60*K60,0) -> #REF!
A61: 공공수준점 심사 | C61: km | D61: ='산근 2-6 (공공측량성과심사)'!$D$32 -> #REF! | E61: =SUM(G61,I61,K61) -> 0 | F61: =SUM(H61,J61,L61) -> #REF! | G61: ='산근 2-6 (공공측량성과심사)'!E32 -> 0 | H61: =TRUNC(D61*G61,0) -> #REF! | L61: =TRUNC($D61*K61,0) -> #REF!
A62: 지형현황도 심사 | C62: 도엽 | D62: ='산근 2-6 (공공측량성과심사)'!$D$33 -> #REF! | E62: =SUM(G62,I62,K62) -> 0 | F62: =SUM(H62,J62,L62) -> #REF! | G62: ='산근 2-6 (공공측량성과심사)'!E33 -> 0 | H62: =TRUNC(D62*G62,0) -> #REF! | L62: =TRUNC($D62*K62,0) -> #REF!
A63: 계 | F63: =SUM(H63,J63,L63) -> #REF! | H63: =SUM(H60:H62) -> #REF! | J63: =SUM(J60:J62) -> 0 | L63: =SUM(L60:L62) -> #REF!
A64: 제경비(인건비의 110%) | C64: 식 | D64: 1 | F64: =SUM(H64,J64,L64) -> #REF! | H64: =TRUNC(D64*G64,0) -> 0 | L64: =TRUNC(H63*1.1) -> #REF!
A65: 기술료((인건비+제경비)의 13%) | C65: 식 | D65: 1 | F65: =SUM(H65,J65,L65) -> #REF! | H65: =TRUNC(D65*G65,0) -> 0 | L65: =TRUNC((H63+L64)*0.13)-O65 -> #REF! | N65: 단위조정 | O65: 8569
A66: 계 | F66: =SUM(H66,J66,L66) -> #REF! | H66: =SUM(H63,H64,H65) -> #REF! | J66: =SUM(J63,J64,J65) -> 0 | L66: =SUM(L63,L64,L65) -> #REF!
A67: =$O$2 -> 1 | F67: =INT($A67*F66) -> #REF! | H67: =INT($A67*H66) -> #REF! | J67: =INT($A67*J66) -> 0 | L67: =INT($A67*L66) -> #REF!

Sheet 산근2-0 (현장조사물량산출)
A1: <산근 2-0> 측량조사 수량산출 | P1: 구분 | Q1: 00지구
A2: 측량조사 물량 산출 | Q2: 우수관거, 배수로, 하천 | W2: 펌프장 등 | X2: 계
Q3: 연장m | R3: 여유폭m | S3: 규격(폭*련) | V3: 면적m2 | W3: 면적m2
A4: 1. 측량조사 | P4: 지방하천 | Q4: 100 | R4: 5 | S4: 100 | U4: 1 | V4: =Q4*(R4+S4) -> 10500 | Y4: 석교천 하천기본계획을 최대한 이용
B5: - 지형현황 측량 | E5: =J14 -> #REF! | F5: ㎡ | P5: 소하천 | Q5: 0 | R5: 5 | S5: 5 | U5: 1 | V5: =Q5*(R5+S5) -> 0
B6: - 수도노선측량 | E6: =F12 -> #REF! | F6: m | P6: - | Q6: 0 | R6: 5 | S6: 2 | U6: 1 | V6: =Q6*(R6+S6) -> 0
B7: - 하천종횡단측량 | E7: =F13 -> 100 | F7: m | P7: 소규모공공시설 | Q7: 0 | R7: 5 | S7: 2 | U7: 1 | V7: =Q7*(R7+S7) -> 0
B8: - 용지측량 | E8: =Q15 -> #REF! | F8: m | P8: 하천 소계 | Q8: =SUM(Q4:Q7) -> 100 | V8: =SUM(V4:V7) -> 10500
B9: 구분 | F9: 마스터플랜 및 기본계획 | N9: 비고 | P9: 토석류유입방지시설 | U9: 0 | W9: 0 | Y9: 개소당 100m2
F10: 연장(m) | J10: 면적(㎡) | P10: 급경사지보강 | U10: 1 | W10: 0 | Y10: 옹벽설치 800+사면고르기 800
B11: 펌프장 등 | F11: - | J11: =W15 -> 20000 | N11: 현황측량 | P11: 펌프장 | U11: 1 | W11: 20000 | Y11: 펌프장 부지 추정
B12: 우수관거 및 배수로 | F12: =Q14 -> #REF! | J12: =V14 -> #REF! | N12: 노선측량 | P12: 저수지 | U12: 1 | W12: 0 | Y12: 개소당 1000m2
B13: 지방하천, 소하천, 세천 | F13: =Q8 -> 100 | J13: =V8 -> 10500 | N13: 현황,종횡단 | P13: -
B14: 계 | F14: =SUM(F11:F13) -> #REF! | J14: =SUM(J11:J13) -> #REF! | P14: 우수관로 및 배수로 | Q14: =#REF!*1000 -> #REF! | R14: 5 | S14: 2 | U14: 1 | V14: =Q14*(R14+S14) -> #REF!
P15: 계 | Q15: =SUM(Q8,Q14) -> #REF! | V15: =SUM(V8,V14) -> #REF! | W15: =SUM(W5:W14) -> 20000 | X15: =SUM(V15:W15) -> #REF!

Sheet 산근2-1(측량조사)
A1: [산근 2-1] 지형현황측량 인원산출 근거
A2: 1. 적용기준 | C2: 구릉지 | E2: ※ 산출기준 : 건설공사 표준품셈(지형현황측량)
A3: 축 척 : | C3: 1/500 | D3: 1급기준점 : | F3: =HLOOKUP($C$4,$W$26:$Z$48,4,0) -> #REF! | G3: 2급기준점 : | I3: =HLOOKUP($C$4,$W$26:$Z$48,6,0) -> #REF! | J3: 3급기준점 : | L3: =HLOOKUP($C$4,$W$26:$Z$48,8,0) -> #REF! | M3: 4급기준점 : | O3: =HLOOKUP(C4,$W$26:$Z$48,R3,0) -> #REF! | R3: =IF(C2=U34,11,IF(C2=U37,14,IF(C2=U40,17,IF(C2=U43,20,23)))) -> 20
A4: 면 적 : | C4: =IF(D39<300000,10,IF(D39<600000,30,IF(D39<1500000,60,150))) -> #REF! | D4: 점간 거리 : | F4: 1000m기준 | G4: 점간 거리 : | I4: 500m기준 | J4: 점간 거리 : | L4: 200m기준 | M4: 점간 거리 : | O4: 50m기준 | T4: 1. 지형유형 증감계수 K = | X4: =D17 -> 1.25 | Y4: =C2 -> 구릉지
A5: 수 준 : | C5: 2급 | T5: ※지형 유형에 따른계수(K)
U6: 지형구분 | V6: 계수 | W6: 비 고
A7: 2. 작업량비 산출 | U7: 밀집시가지 | V7: 2.8 | W7: 건물 및 도로가 시가지 면적의 90%이상지형
A8: 1) 기준점측량 | U8: 시가지 | V8: 2.15 | W8: 건물 및 도로가 시가지 면적의 70%이상지형
A9: - 1급기준 : | C9: =F3 -> #REF! | D9: =IF($C$2="밀집시가지",1.3,IF($C$2="시가지",1.15,IF(OR($C$2="평지",$C$2="구릉지"),1,IF($C$2="산지",1.2)))) -> 1 | E9: =IF(F3=0,0,0.8+3.2/F3) -> #REF! | G9: =ROUND(C9/14*D9*E9,2) -> #REF! | H9: ※ 기준배점기준/14 x K x P , 건설표준품셈 참조 | U9: 평지 | V9: 1 | W9: 평탄한 평야지형
A10: - 2급기준 : | C10: =I3 -> #REF! | D10: =IF($C$2="밀집시가지",1.3,IF($C$2="시가지",1.15,IF(OR($C$2="평지",$C$2="구릉지"),1,IF($C$2="산지",1.2)))) -> 1 | E10: =IF(I3=0,0,0.8+2.8/I3) -> #REF! | G10: =ROUND(C10/14*D10*E10,2) -> #REF! | H10: ※ 기준배점기준/14 x K x P , 건설표준품셈 참조 | U10: 구릉지 | V10: 1.25 | W10: 시가지주변 및 촌락의 소도시를 포함한 구릉상태의 농지지형
A11: - 3급기준 : | C11: =L3 -> #REF! | D11: =IF($C$2="밀집시가지",1.3,IF($C$2="시가지",1.15,IF(OR($C$2="평지",$C$2="구릉지"),1,IF($C$2="산지",1.15)))) -> 1 | E11: =0.8+6/L3 -> #REF! | G11: =ROUND(C11/30*D11*E11,2) -> #REF! | H11: ※ 기준배점기준/30 x K x P , 건설표준품셈 참조 | U11: 산지 | V11: 1.3 | W11: 표고차 200m - 400m이상지형
A12: - 4급기준 : | C12: =O3 -> #REF! | D12: =IF($C$2="밀집시가지",1.3,IF($C$2="시가지",1.15,IF(OR($C$2="평지",$C$2="구릉지"),1,IF($C$2="산지",1.1)))) -> 1 | E12: =0.8+(30/O3) -> #REF! | F12: =ROUND((0.53+0.65)/2,2) -> 0.59 | G12: =ROUND(C12/150*D12*E12*F12,2) -> #REF! | H12: ※ 기준배점기준/150 x K X P x S, 건설표준품셈 참조
A13: 2) 수준측량 | T13: 2. 축 적 증 감 계 수 S = | X13: =E17 -> 1
A14: - 수준측량 : | C14: =G15 -> #REF! | D14: =IF($C$2="밀집시가지",1.3,IF($C$2="시가지",1.2,IF($C$2="평지",1,IF($C$2="구릉지",1.1,1.3)))) -> 1.1 | E14: =(0.8+3/C14) -> #REF! | G14: =ROUND(C14/15*D14*E14,2) -> #REF! | H14: ※ 전체거리/15 x K x P, 건설표준품셈 참조 | T14: ※축척에 따른 계수(S)
A15: - 전체거리 : | C15: =F3 -> #REF! | D15: =I3 -> #REF! | E15: =L3 -> #REF! | F15: =O3 -> #REF! | G15: =ROUND((1000*F3+500*I3+200*L3+50*O3)/1000,2) -> #REF! | H15: ※ 2급거리x기준배점수 + 3급거리x기준배점수 + 4급거리x기준배점수 | U15: 축 척 | V15: 1/250 | W15: 1/500 | Y15: 1/1000 | AA15: 1/2500 | AC15: 비고
A16: 3) 지형현황측량 | U16: 계 수 | V16: 1.6 | W16: 1 | Y16: 0.65 | AA16: 0.54
A17: - 지상현황측량 : | C17: =ROUND(D39/10000,2) -> #REF! | D17: =VLOOKUP(C2,$U$7:$V$11,2,0) -> 1.25 | E17: =HLOOKUP(C3,$V$15:$AB$16,2,0) -> 1 | F17: =X18 -> #REF! | G17: =ROUND(C17/10*D17*E17*F17,2) -> #REF! | H17: ※ 면적/10 x K X S1 x P1, 건설표준품셈 참조 | L17: (T : 신규측량 1.0 적용)
T18: 3. 작업량 증감계수 P = | X18: =ROUND(0.8+20000/D39,2) -> #REF! | AG18: ㎡
A19: 3. 인원산출 | T19: ※작업량에 따른 계수(S)
A20: 작업내용 | C20: 작업량비 | D20: 특 급 기 술 자 | F20: 고 급 기 술 자 | H20: 중 급 기 술 자 | J20: 초 급 기 술 자 | L20: 초 급 기 능 사 | N20: 보 통 인 부 | P20: 비 고 | U20: 작업량(면적:m2) | W20: 2만 | Y20: 5만 | AA20: 10만 | AC20: 15만 | AE20: 20만
D21: 인 원 | E21: 결 과 | F21: 인 원 | G21: 결 과 | H21: 인 원 | I21: 결 과 | J21: 인 원 | K21: 결 과 | L21: 인 원 | M21: 결 과 | N21: 인 원 | O21: 결 과 | U21: 계 수 | W21: 1.8 | Y21: 1.2 | AA21: 1 | AC21: 0.93 | AE21: 0.9
A22: 기준점측량 | B22: 1 급 | C22: =G9 -> #REF! | D22: 0 | E22: =ROUND($C$22*D22,2) -> #REF! | F22: 14 | G22: =ROUND($C$22*F22,2) -> #REF! | H22: 25 | I22: =ROUND($C$22*H22,2) -> #REF! | J22: 22 | K22: =ROUND($C$22*J22,2) -> #REF! | L22: 34 | M22: =ROUND($C$22*L22,2) -> #REF! | N22: 10 | O22: =ROUND($C$22*N22,2) -> #REF! | P22: 건설 표준품셈
C23: =G9 -> #REF! | D23: 3 | E23: =ROUND($C$23*D23,2) -> #REF! | F23: 10.5 | G23: =ROUND($C$23*F23,2) -> #REF! | H23: 15 | I23: =ROUND($C$23*H23,2) -> #REF! | J23: 12 | K23: =ROUND($C$23*J23,2) -> #REF! | L23: 0 | M23: =ROUND($C$23*L23,2) -> #REF! | N23: 0 | O23: =ROUND($C$23*N23,2) -> #REF!
B24: 2 급 | C24: =G10 -> #REF! | D24: 0 | E24: =ROUND($C24*D24,2) -> #REF! | F24: 12 | G24: =ROUND($C24*F24,2) -> #REF! | H24: 18 | I24: =ROUND($C24*H24,2) -> #REF! | J24: 18 | K24: =ROUND($C24*J24,2) -> #REF! | L24: 28 | M24: =ROUND($C24*L24,2) -> #REF! | N24: 8 | O24: =ROUND($C24*N24,2) -> #REF! | P24: 건설 표준품셈
C25: =G10 -> #REF! | D25: 2 | E25: =ROUND($C25*D25,2) -> #REF! | F25: 5 | G25: =ROUND($C25*F25,2) -> #REF! | H25: 7 | I25: =ROUND($C25*H25,2) -> #REF! | J25: 8 | K25: =ROUND($C25*J25,2) -> #REF! | L25: 0 | M25: =ROUND($C25*L25,2) -> #REF! | N25: 0 | O25: =ROUND($C25*N25,2) -> #REF! | T25: 4. 기준점 배점 기준
B26: 3 급 | C26: =+G11 -> #REF! | D26: 0 | E26: =ROUND($C26*D26,2) -> #REF! | F26: 15.5 | G26: =ROUND($C26*F26,2) -> #REF! | H26: 18 | I26: =ROUND($C26*H26,2) -> #REF! | J26: 18 | K26: =ROUND($C26*J26,2) -> #REF! | L26: 32 | M26: =ROUND($C26*L26,2) -> #REF! | N26: 4 | O26: =ROUND($C26*N26,2) -> #REF! | P26: 건설 표준품셈 | V26: 면적구분 | W26: 10 | X26: 30 | Y26: 60 | Z26: 150
C27: =+G11 -> #REF! | D27: 0 | E27: =ROUND($C27*D27,2) -> #REF! | F27: 6.5 | G27: =ROUND($C27*F27,2) -> #REF! | H27: 9 | I27: =ROUND($C27*H27,2) -> #REF! | J27: 10 | K27: =ROUND($C27*J27,2) -> #REF! | L27: 0 | M27: =ROUND($C27*L27,2) -> #REF! | N27: 0 | O27: =ROUND($C27*N27,2) -> #REF! | U27: 지역구분
B28: 4 급 | C28: =+G12 -> #REF! | D28: 0 | E28: =ROUND($C28*D28,2) -> #REF! | F28: 21.5 | G28: =ROUND($C28*F28,2) -> #REF! | H28: 23 | I28: =ROUND($C28*H28,2) -> #REF! | J28: 23 | K28: =ROUND($C28*J28,2) -> #REF! | L28: 40 | M28: =ROUND($C28*L28,2) -> #REF! | N28: 6 | O28: =ROUND($C28*N28,2) -> #REF! | P28: 건설 표준품셈 | U28: 1급 | V28: 신점간거리 | W28: 1000 | X28: 1000 | Y28: 1000 | Z28: 1000
C29: =+G12 -> #REF! | D29: 0 | E29: =ROUND($C29*D29,2) -> #REF! | F29: 10 | G29: =ROUND($C29*F29,2) -> #REF! | H29: 12 | I29: =ROUND($C29*H29,2) -> #REF! | J29: 14 | K29: =ROUND($C29*J29,2) -> #REF! | L29: 0 | M29: =ROUND($C29*L29,2) -> #REF! | N29: 0 | O29: =ROUND($C29*N29,2) -> #REF! | U29: 기준점 | V29: 기준배점수 | W29: 0 | X29: 0 | Y29: 0 | Z29: 0
A30: 수 준 측 량 | C30: =G14 -> #REF! | D30: 0 | E30: =ROUND($C30*D30,2) -> #REF! | F30: 2 | G30: =ROUND($C30*F30,2) -> #REF! | H30: 9 | I30: =ROUND($C30*H30,2) -> #REF! | J30: 8 | K30: =ROUND($C30*J30,2) -> #REF! | L30: 8 | M30: =ROUND($C30*L30,2) -> #REF! | N30: 8 | O30: =ROUND($C30*N30,2) -> #REF! | P30: 건설 표준품셈 | U30: 2급 | V30: 신점간거리 | W30: 500 | X30: 500 | Y30: 500 | Z30: 500
C31: =+G14 -> #REF! | D31: 1 | E31: =ROUND($C31*D31,2) -> #REF! | F31: 1 | G31: =ROUND($C31*F31,2) -> #REF! | H31: 2.5 | I31: =ROUND($C31*H31,2) -> #REF! | J31: 0 | K31: =ROUND($C31*J31,2) -> #REF! | L31: 0 | M31: =ROUND($C31*L31,2) -> #REF! | N31: 0 | O31: =ROUND($C31*N31,2) -> #REF! | U31: 기준점 | V31: 기준배점수 | W31: 0 | X31: 0 | Y31: 2 | Z31: 4
A32: 지상현황측량 | C32: =+G17 -> #REF! | D32: 0 | E32: =ROUND($C32*D32,2) -> #REF! | F32: 0 | G32: =ROUND($C32*F32,2) -> #REF! | H32: 8 | I32: =ROUND($C32*H32,2) -> #REF! | J32: 8 | K32: =ROUND($C32*J32,2) -> #REF! | L32: 7 | M32: =ROUND($C32*L32,2) -> #REF! | N32: 7 | O32: =ROUND($C32*N32,2) -> #REF! | P32: 건설 표준품셈 | U32: 3급 | V32: 신점간거리 | W32: 200 | X32: 200 | Y32: 200 | Z32: 200
C33: =+G17 -> #REF! | D33: 0 | E33: =ROUND($C33*D33,2) -> #REF! | F33: 4.25 | G33: =ROUND($C33*F33,2) -> #REF! | H33: 7 | I33: =ROUND($C33*H33,2) -> #REF! | J33: 7 | K33: =ROUND($C33*J33,2) -> #REF! | L33: 0 | M33: =ROUND($C33*L33,2) -> #REF! | N33: 0 | O33: =ROUND($C33*N33,2) -> #REF! | U33: 기준점 | V33: 기준배점수 | W33: 2 | X33: 4 | Y33: 8 | Z33: 11
A34: 합 계 | C34: 외업 | E34: =E22+E24+E26+E28+E30+E32 -> #REF! | G34: =G22+G24+G26+G28+G30+G32 -> #REF! | I34: =I22+I24+I26+I28+I30+I32 -> #REF! | K34: =K22+K24+K26+K28+K30+K32 -> #REF! | M34: =M22+M24+M26+M28+M30+M32 -> #REF! | O34: =O22+O24+O26+O28+O30+O32 -> #REF! | T34: 4 급 기 준 점 | U34: 밀집시가지 | V34: 점간평균거리 | W34: 40 | X34: 40 | Y34: 50 | Z34: 60
C35: 내업 | E35: =E23+E25+E27+E29+E31+E33 -> #REF! | G35: =G23+G25+G27+G29+G31+G33 -> #REF! | I35: =I23+I25+I27+I29+I31+I33 -> #REF! | K35: =K23+K25+K27+K29+K31+K33 -> #REF! | M35: =M23+M25+M27+M29+M31+M33 -> #REF! | O35: =O23+O25+O27+O29+O31+O33 -> #REF! | V35: 선간평균거리 | W35: 40 | X35: 50 | Y35: 60 | Z35: 100
C36: 계 | E36: =ROUND(+E34+E35,2) -> #REF! | G36: =ROUND(+G34+G35,2) -> #REF! | I36: =ROUND(+I34+I35,2) -> #REF! | K36: =ROUND(+K34+K35,2) -> #REF! | M36: =ROUND(+M34+M35,2) -> #REF! | O36: =ROUND(+O34+O35,2) -> #REF! | V36: 기준배점수 | W36: 63 | X36: 150 | Y36: 200 | Z36: 250
A37: 적 용 (1식) | E37: =E36 -> #REF! | G37: =G36 -> #REF! | I37: =I36 -> #REF! | K37: =K36 -> #REF! | M37: =M36 -> #REF! | O37: =O36 -> #REF! | U37: 시가지 | V37: 점간평균거리 | W37: 40 | X37: 45 | Y37: 55 | Z37: 65
A38: 주) ( )는 내업을 표시함 | V38: 선간평균거리 | W38: 45 | X38: 50 | Y38: 60 | Z38: 100
A39: 4. 지형현황측량 면적 | D39: ='산근2-0 (현장조사물량산출)'!E5 -> #REF! | F39: ㎡ | V39: 기준배점수 | W39: 56 | X39: 133 | Y39: 182 | Z39: 230
U40: 평지 | V40: 점간평균거리 | W40: 45 | X40: 45 | Y40: 60 | Z40: 75
A41: [산근 2-2] 수도노선측량 (1㎞당) | V41: 선간평균거리 | W41: 45 | X41: 60 | Y41: 70 | Z41: 100
B42: ※ 산출기준 : | C42: 건설공사 표준품셈 (수도노선측량) | G42: =W51 -> 보통시가지 | V42: 기준배점수 | W42: 50 | X42: 112 | Y42: 143 | Z42: 200
B43: 가. 진행기준 | U43: 구릉지 | V43: 점간평균거리 | W43: 45 | X43: 50 | Y43: 60 | Z43: 80
B44: 측량별 지구별 | D44: 중심선 측량 | H44: 종단 측량 | L44: 횡단 측량 | V44: 선간평균거리 | W44: 55 | X44: 70 | Y44: 100 | Z44: 125
D45: 진행기준(m) | F45: 일수(일) | H45: 진행기준(m) | J45: 일수(일) | L45: 진행기준(m) | N45: 일수(일) | V45: 기준배점수 | W45: 41 | X45: 86 | Y45: 100 | Z45: 150
B46: 번화시가지 | D46: 400 | F46: 2.5 | H46: 1000 | J46: 1 | L46: 500 | N46: 2 | U46: 산지 | V46: 점간평균거리 | W46: 30 | X46: 40 | Y46: 50 | Z46: 60
B47: 보통시가지 | D47: 500 | F47: 2 | H47: 1500 | J47: 0.7 | L47: 1000 | N47: 1 | V47: 선간평균거리 | W47: 60 | X47: 55 | Y47: 75 | Z47: 100
B48: 교외시가지 | D48: 1000 | F48: 1 | H48: 2000 | J48: 0.5 | L48: 1500 | N48: 0.7 | V48: 기준배점수 | W48: 56 | X48: 137 | Y48: 160 | Z48: 250
B50: 나. 작업별 인원편성
B51: 측량별 구 분 직 명 | G51: 중심선 측량 | J51: 종단 측량 | M51: 횡단 측량 | T51: 수도노선측량 | V51: 적용기준 : | W51: 보통시가지
B53: 외 업 | D53: 고 급 기 술 자 | G53: 1 | J53: 0 | M53: 0 | U53: 진행기준 | V53: 일수
D54: 중 급 기 술 자 | G54: 1 | J54: 1 | M54: 1 | T54: 중심선측량 | U54: =VLOOKUP($W$51,$B$46:$G$48,3,0) -> 500 | V54: =VLOOKUP($W$51,$B$46:$G$48,5,0) -> 2
D55: 초 급 기 술 자 | G55: 1 | J55: 1 | M55: 1 | T55: 종단측량 | U55: =VLOOKUP($W$51,$B$46:$K$48,7,0) -> 1500 | V55: =VLOOKUP($W$51,$B$46:$K$48,9,0) -> 0.7
D56: 초급기능사(측량) | G56: 2 | J56: 2 | M56: 2 | T56: 횡단측량 | U56: =VLOOKUP($W$51,$B$46:$O$48,11,0) -> 1000 | V56: =VLOOKUP($W$51,$B$46:$O$48,13,0) -> 1
B57: 내 업 | D57: 고 급 기 술 자 | G57: 0 | J57: 0 | M57: 0
D58: 중 급 기 술 자 | G58: 0.5 | J58: 0 | M58: 0
D59: 초 급 기 술 자 | G59: 0.5 | J59: 1 | M59: 1
D60: 초급기능사(측량) | G60: 0 | J60: 2 | M60: 2
B61: 합 계 | G61: =SUM(G53:I60) -> 6 | J61: =SUM(J53:L60) -> 7 | M61: =SUM(M53:O60) -> 7
B63: 다. 소요인부
B64: 구 분 | D64: 중심선 측량 | H64: 종단 측량 | L64: 횡단 측량
B65: 번화시가지 | D65: 2 | H65: 2 | L65: 2
B66: 보통시가지 | D66: 1 | H66: 1 | L66: 1
B67: 교외시가지 | D67: 1 | H67: 1 | L67: 1
B69: 라. 작업별 인원편성 및 1km당 인원산출
B70: 작업내용 | E70: 작업 량비 | F70: 고급기술자 | H70: 중급기술자 | J70: 초급기술자 | L70: 초급기능사 | N70: 인 부
F71: 인원 | G71: 결과 | H71: 인원 | I71: 결과 | J71: 인원 | K71: 결과 | L71: 인원 | M71: 결과 | N71: 인원 | O71: 결과
B72: 수도노선측량 | D72: 중심선 | E72: =ROUND(V54/U54*1000,2) -> 4 | F72: =G53+G57 -> 1 | G72: =ROUND(F72*$E72,2) -> 4 | H72: =G54+G58 -> 1.5 | I72: =ROUND(H72*$E72,2) -> 6 | J72: =G55+G59 -> 1.5 | K72: =ROUND(J72*$E72,2) -> 6 | L72: =G56+G60 -> 2 | M72: =ROUND(L72*$E72,2) -> 8 | N72: =D67 -> 1 | O72: =ROUND(N72*$E72,2) -> 4
D73: 종단 | E73: =ROUND(V55/U55*1000,2) -> 0.47 | F73: =J53+J57 -> 0 | G73: =ROUND(F73*$E73,2) -> 0 | H73: =J54+J58 -> 1 | I73: =ROUND(H73*$E73,2) -> 0.47 | J73: =J55+J59 -> 2 | K73: =ROUND(J73*$E73,2) -> 0.94 | L73: =J56+J60 -> 4 | M73: =ROUND(L73*$E73,2) -> 1.88 | N73: =H67 -> 1 | O73: =ROUND(N73*$E73,2) -> 0.47
D74: 횡단 | E74: =ROUND(V56/U56*1000,2) -> 1 | F74: =M53+M57 -> 0 | G74: =ROUND(F74*$E74,2) -> 0 | H74: =M54+M58 -> 1 | I74: =ROUND(H74*$E74,2) -> 1 | J74: =M55+M59 -> 2 | K74: =ROUND(J74*$E74,2) -> 2 | L74: =M56+M60 -> 4 | M74: =ROUND(L74*$E74,2) -> 4 | N74: =L67 -> 1 | O74: =ROUND(N74*$E74,2) -> 1
B75: 계 | G75: =SUM(G72:G74) -> 4 | I75: =SUM(I72:I74) -> 7.47 | K75: =SUM(K72:K74) -> 8.94 | M75: =SUM(M72:M74) -> 13.88 | O75: =SUM(O72:O74) -> 5.47
B76: 주) 작업량비는 진행기준 1km기준으로 환산 (종단측량 = 0.5일/2km, 횡단측량 = 0.7일/1.5km)
B78: 마. 노선측량 연장 : | D78: ='산근2-0 (현장조사물량산출)'!E6/1000 -> #REF! | E78: km
A80: [산근 2-3] 용지측량
B81: ※ 산출기준 : | C81: 건설공사 표준품셈 (용지측량) | R81: =IF(W81=U83,1,IF(W81=Y83,5,IF(W81=AC83,9,IF(W81=AG83,13)))) -> 13 | T81: 용지측량 | V81: 적용기준 : | W81: =C2 -> 구릉지
U82: 1 | V82: 2 | W82: 3 | X82: 4 | Y82: 5 | Z82: 6 | AA82: 7 | AB82: 8 | AC82: 9 | AD82: 10 | AE82: 11 | AF82: 12 | AG82: 13 | AH82: 14 | AI82: 15 | AJ82: 16
B83: 작업구분 | D83: 고급기술자 | F83: 중급기술자 | H83: 초급기술자 | J83: 초급기능사(측량) | T83: 지구별 | U83: 시가지 | Y83: 평지 | AC83: 촌락지 | AG83: 구릉지
B84: 토지등기부지적도 또는 소유권조사 | D84: =INDEX($U$85:$AJ$85,MATCH($R$81,$U$82:$AJ$82,0)) -> 1 | F84: =INDEX($U$85:$AJ$85,MATCH($R$81+1,$U$82:$AJ$82,0)) -> 3 | H84: =INDEX($U$85:$AJ$85,MATCH($R$81+2,$U$82:$AJ$82,0)) -> 6 | J84: =INDEX($U$85:$AJ$85,MATCH($R$81+3,$U$82:$AJ$82,0)) -> 0 | S84: 종별 | U84: 고급기술자 | V84: 중급기술자 | W84: 초급기술자 | X84: 초급기능사(측량) | Y84: 고급기술자 | Z84: 중급기술자 | AA84: 초급기술자 | AB84: 초급기능사(측량) | AC84: 고급기술자 | AD84: 중급기술자 | AE84: 초급기술자 | AF84: 초급기능사(측량) | AG84: 고급기술자 | AH84: 중급기술자 | AI84: 초급기술자 | AJ84: 초급기능사(측량)
B85: 용지측량 | C85: 외업 | D85: =INDEX($U$88:$AJ$88,MATCH($R$81,$U$82:$AJ$82,0)) -> 1 | F85: =INDEX($U$88:$AJ$88,MATCH($R$81+1,$U$82:$AJ$82,0)) -> 6 | H85: =INDEX($U$88:$AJ$88,MATCH($R$81+2,$U$82:$AJ$82,0)) -> 6 | J85: =INDEX($U$88:$AJ$88,MATCH($R$81+3,$U$82:$AJ$82,0)) -> 13 | S85: 토지등기부지적도 | U85: 2 | V85: 6 | W85: 12 | X85: 0 | Y85: 1.5 | Z85: 5 | AA85: 10 | AB85: 0 | AC85: 1 | AD85: 4 | AE85: 8 | AF85: 0 | AG85: 1 | AH85: 3 | AI85: 6 | AJ85: 0
C86: 내업 | D86: =INDEX($U$89:$AJ$89,MATCH($R$81,$U$82:$AJ$82,0)) -> 9 | F86: =INDEX($U$89:$AJ$89,MATCH($R$81+1,$U$82:$AJ$82,0)) -> 18 | H86: =INDEX($U$89:$AJ$89,MATCH($R$81+2,$U$82:$AJ$82,0)) -> 18 | J86: =INDEX($U$89:$AJ$89,MATCH($R$81+3,$U$82:$AJ$82,0)) -> 0 | S86: 공공용지사정입회 | U86: 5 | V86: 10 | W86: 15 | X86: 15 | Y86: 4 | Z86: 8 | AA86: 12 | AB86: 12 | AC86: 3 | AD86: 6 | AE86: 9 | AF86: 9 | AG86: 2 | AH86: 5 | AI86: 8 | AJ86: 8
B87: 계 | D87: =SUM(D84:D86) -> 11 | F87: =SUM(F84:F86) -> 27 | H87: =SUM(H84:H86) -> 30 | J87: =SUM(J84:J86) -> 13 | S87: 경계도근측량 | U87: 0 | V87: 8 | W87: 8 | X87: 16 | Y87: 0 | Z87: 6 | AA87: 6 | AB87: 12 | AC87: 0 | AD87: 4 | AE87: 4 | AF87: 8 | AG87: 0 | AH87: 3 | AI87: 3 | AJ87: 7
B88: 적용 (연장1km, 폭10m 기준) | D88: =ROUND(D87*2/5,1) -> 4.4 | F88: =ROUND(F87*2/5,1) -> 10.8 | H88: =ROUND(H87*2/5,1) -> 12 | J88: =ROUND(J87*2/5,1) -> 5.2 | S88: 용지측량 | T88: 외업 | U88: 3 | V88: 15 | W88: 15 | X88: 30 | Y88: 2 | Z88: 10 | AA88: 10 | AB88: 20 | AC88: 1 | AD88: 7 | AE88: 7 | AF88: 14 | AG88: 1 | AH88: 6 | AI88: 6 | AJ88: 13
T89: 내업 | U89: 20 | V89: 40 | W89: 40 | X89: 0 | Y89: 15 | Z89: 30 | AA89: 30 | AB89: 0 | AC89: 10 | AD89: 20 | AE89: 20 | AF89: 0 | AG89: 9 | AH89: 18 | AI89: 18 | AJ89: 0
A91: [산근 2-4 하천종횡단측량] | T91: 하천측량 | V91: 적용기준 : | W91: 50 | AA91: =IF(W91=T95,1,IF(W91=T97,3,IF(W91=T99,5,IF(W91=T101,7,IF(W91=T103,9,11))))) -> 11
B92: ※ 산출기준 : 건설공사 표준품셈(하천측량) | F92: =W91 -> 50 | T92: 작업구분 | V92: 고급기술자 | W92: 중급기술자 | X92: 초급기술자 | Y92: 초급기능사(측량) | Z92: 인부
T93: 종단측량 | U93: 외업 | V93: 2 | W93: 10 | X93: 10 | Y93: 10 | Z93: 10
B94: 작업구분 | D94: 고급기술자 | F94: 중급기술자 | H94: 초급기술자 | J94: 초급기능사(측량) | L94: 인부 | U94: 내업 | V94: 0.6 | W94: 3 | X94: 3 | Y94: 0 | Z94: 0
B95: 종단측량 | C95: 외업 | D95: =V93 -> 2 | F95: =W93 -> 10 | H95: =X93 -> 10 | J95: =Y93 -> 10 | L95: =Z93 -> 10 | T95: 1000 | U95: 외업 | V95: 7 | W95: 35 | X95: 70 | Y95: 70 | Z95: 140 | AA95: 1
C96: 내업 | D96: =V94 -> 0.6 | F96: =W94 -> 3 | H96: =X94 -> 3 | J96: =Y94 -> 0 | L96: =Z94 -> 0 | U96: 내업 | V96: 1 | W96: 10 | X96: 20 | Y96: 0 | Z96: 0 | AA96: 2
C97: 합계 | D97: =SUM(D95:D96) -> 2.6 | F97: =SUM(F95:F96) -> 13 | H97: =SUM(H95:H96) -> 13 | J97: =SUM(J95:J96) -> 10 | L97: =SUM(L95:L96) -> 10 | T97: 700 | U97: 외업 | V97: 5.6 | W97: 20 | X97: 56 | Y97: 56 | Z97: 112 | AA97: 3
B98: 적용(1km당) | D98: =D97/10 -> 0.26 | F98: =F97/10 -> 1.3 | H98: =H97/10 -> 1.3 | J98: =J97/10 -> 1 | L98: =L97/10 -> 1 | U98: 내업 | V98: 0.8 | W98: 8 | X98: 8 | Y98: 16 | Z98: 0 | AA98: 4
B99: 횡단측량 | C99: 외업 | D99: =INDEX($V$95:$Z$106,MATCH($AA$91,$AA$95:$AA$106,0),MATCH($D$94,$V$92:$Z$92,0)) -> 5 | F99: =INDEX($V$95:$Z$106,MATCH($AA$91,$AA$95:$AA$106,0),MATCH($F$94,$V$92:$Z$92,0)) -> 25 | H99: =INDEX($V$95:$Z$106,MATCH($AA$91,$AA$95:$AA$106,0),MATCH($H$94,$V$92:$Z$92,0)) -> 25 | J99: =INDEX($V$95:$Z$106,MATCH($AA$91,$AA$95:$AA$106,0),MATCH($J$94,$V$92:$Z$92,0)) -> 50 | L99: =INDEX($V$95:$Z$106,MATCH($AA$91,$AA$95:$AA$106,0),MATCH($L$94,$V$92:$Z$92,0)) -> 75 | T99: 400 | U99: 외업 | V99: 4 | W99: 20 | X99: 40 | Y99: 40 | Z99: 60 | AA99: 5
C100: 내업 | D100: =INDEX($V$95:$Z$106,MATCH($AA$91+1,$AA$95:$AA$106,0),MATCH($D$94,$V$92:$Z$92,0)) -> 2 | F100: =INDEX($V$95:$Z$106,MATCH($AA$91+1,$AA$95:$AA$106,0),MATCH($F$94,$V$92:$Z$92,0)) -> 20 | H100: =INDEX($V$95:$Z$106,MATCH($AA$91+1,$AA$95:$AA$106,0),MATCH($H$94,$V$92:$Z$92,0)) -> 20 | J100: =INDEX($V$95:$Z$106,MATCH($AA$91+1,$AA$95:$AA$106,0),MATCH($J$94,$V$92:$Z$92,0)) -> 20 | L100: =INDEX($V$95:$Z$106,MATCH($AA$91+1,$AA$95:$AA$106,0),MATCH($L$94,$V$92:$Z$92,0)) -> 0 | U100: 내업 | V100: 0.6 | W100: 5.5 | X100: 5.5 | Y100: 11 | Z100: 0 | AA100: 6
C101: 합계 | D101: =SUM(D99:D100) -> 7 | F101: =SUM(F99:F100) -> 45 | H101: =SUM(H99:H100) -> 45 | J101: =SUM(J99:J100) -> 70 | L101: =SUM(L99:L100) -> 75 | T101: 200 | U101: 외업 | V101: 5 | W101: 25 | X101: 25 | Y101: 50 | Z101: 75 | AA101: 7
B102: 적용(1km당) | D102: =D101/10 -> 0.7 | F102: =F101/10 -> 4.5 | H102: =H101/10 -> 4.5 | J102: =J101/10 -> 7 | L102: =L101/10 -> 7.5 | U102: 내업 | V102: 0.7 | W102: 7 | X102: 7 | Y102: 14 | Z102: 0 | AA102: 8
T103: 100 | U103: 외업 | V103: 4.4 | W103: 22 | X103: 22 | Y103: 44 | Z103: 66 | AA103: 9
U104: 내업 | V104: 1.3 | W104: 13 | X104: 13 | Y104: 13 | Z104: 0 | AA104: 10
T105: 50 | U105: 외업 | V105: 5 | W105: 25 | X105: 25 | Y105: 50 | Z105: 75 | AA105: 11
U106: 내업 | V106: 2 | W106: 20 | X106: 20 | Y106: 20 | Z106: 0 | AA106: 12

Sheet 산근2-5(지장물조사)
A1: <산근 2-5> 지장물 및 구조물조사(건설엔지니어링 대가 등에 관한 기준 국토교통부고시 제2021-961호)
A3: 구 분 | B3: 단위 | C3: 적 용 인 력 (인.일)
C4: 기술사 | D4: 특 급 | E4: 고 급 | F4: 중 급 | G4: 초 급
D5: 기술인 | E5: 기술인 | F5: 기술인 | G5: 기술인
A6: 가. 지장물 및 구조물조사
A7: 1) 지장물 및 구조물조사 | B7: ㎞ | C7: 0 | D7: 2.1 | E7: 3.1 | F7: 3.9 | G7: 5.2
C8: =C7*$B$10 -> 0 | D8: =D7*$B$10 -> 2.1 | E8: =E7*$B$10 -> 3.1 | F8: =F7*$B$10 -> 3.9 | G8: =G7*$B$10 -> 5.2
A10: 보정계수 | B10: =IF(COUNT(F14:F28)=0,1,PRODUCT(F14:F28)) -> 1
A12: 지역특성 | B12: 지방지역 | D12: 도시지역 | F12: 적용
A13: 도로등급 | B13: 지방도 이상 | C13: 시도 이하 | D13: 지방도 이상 | E13: 시도 이하
A14: 보정계수 | B14: =VLOOKUP($A$21,$A$20:$E$22,2,FALSE) -> 1 | C14: =VLOOKUP($A$21,$A$20:$E$22,3,FALSE) -> 0.6 | D14: =VLOOKUP($A$21,$A$20:$E$22,4,FALSE) -> 1.4 | E14: =VLOOKUP($A$21,$A$20:$E$22,5,FALSE) -> 1 | F14: =IFERROR(ROUND(SUMPRODUCT(B14:E14,B15:E15)/SUM(B15:E15),1),"")
A15: 구간연장(km) | B15: 0 | C15: ='산근2-0 (현장조사물량산출)'!F12/1000 -> #REF! | D15: 0 | E15: 0
A17: ▶ 지역특성 보정계수
A18: 구분 | B18: 지방부 | D18: 도시부
A19: 도로등급 | B19: 지방도 이상 | C19: 시도 이하 | D19: 지방도 이상 | E19: 시도이하
A20: 기본설계 | B20: 1 | C20: 0.7 | D20: 1.3 | E20: 1
A21: 실시설계 | B21: 1 | C21: 0.6 | D21: 1.4 | E21: 1
A22: 기본 및 실시설계 | B22: 1 | C22: 0.6 | D22: 1.4 | E22: 1
A26: 공사성격 | B26: 신설 | C26: 확장 | D26: 단순확장 | E26: 시설개량 | F26: 적용
A27: 보정계수 | B27: =VLOOKUP($A$33,$A$32:$E$34,2,FALSE) -> 1 | C27: =VLOOKUP($A$33,$A$32:$E$34,3,FALSE) -> 1.3 | D27: =VLOOKUP($A$33,$A$32:$E$34,4,FALSE) -> 0.6 | E27: =VLOOKUP($A$33,$A$32:$E$34,5,FALSE) -> 0.2 | F27: =IFERROR(ROUND(SUMPRODUCT(B27:E27,B28:E28)/SUM(B28:E28),1),"")
A28: 구간연장(km) | B28: 0 | C28: =C15 -> #REF! | D28: 0 | E28: 0
A30: ▶ 공사성격 보정계수
A31: 구분 | B31: 신설 | C31: 확장 | D31: 단순확장 | E31: 시설개량
A32: 기본설계 | B32: 1 | C32: 1.1 | D32: - | E32: -
A33: 실시설계 | B33: 1 | C33: 1.3 | D33: 0.6 | E33: 0.2
A34: 기본 및 실시설계 | B34: 1 | C34: 1.3 | D34: 0.6 | E34: 0.2

Sheet 산근 2-6 (공공측량성과심사)
A1: (산근 2-6)
A2: 공공측량성과심사비 산출
A4: ◈ 산정방법
A6: ※ 공공측량성과의 심사 수수료 산정방법 (공간정보품질관리원,「공간정보의 구축 및 관리 등에 관한 법률 시행규칙」제115조2항 별표제13)
A7: ※ 공공측량 성과심사비는 실비정산하도록 한다.
A10: ◈ 공공측량성과심사
A11: 1. 공공기준점
A12: 가. 실내검사
A13: 구분 | B13: 단위 | D13: 심사인원수(고급기술인)
A14: 기준점 | B14: 1점당 | D14: 0.07
A15: 수준점 | B15: 1킬로미터당 | D15: 0.06
A17: 2. 지형현황도
A18: 도면축척 | B18: 1도엽당 면적 | D18: 심사인원수(고급기술인)
A19: 1:200 | B19: 4800 | D19: 0.12
A20: 1:250 | B20: 7500 | D20: 0.14
A21: 1:300 | B21: 10800 | D21: 0.19
A22: 1:500 | B22: 30000 | D22: 0.35
A23: 1:600 | B23: 43200 | D23: 0.43
A24: 1:1,000 | B24: 120000 | D24: 0.91
A25: 1:1,200 | B25: 172800 | D25: 1.28
A26: 1:2,500이하 | B26: 750000 | D26: 2.56
A27: ※ 지형현황도 1도엽의 크기는 30센티미터×40센티미터를 기준으로 한다.
A29: ◈ 공공측량성과심사비 산출
A30: 심사내용 | B30: 단위 | C30: 수량 | D30: 심사량 | E30: 단가 | F30: 금액 | G30: 비고 | M30: 고급기술인 | N30: ='산근3 노임'!B28 -> 0
A31: 공공기준점 | B31: 점 | C31: =ROUNDDOWN(3+C32/2,0) -> #REF! | D31: =ROUNDUP(C31*0.5,0) -> #REF! | E31: =N31 -> 0 | F31: =TRUNC(D31*E31) -> #REF! | G31: 인근기존삼각점3+(2km당 다각점1점×100%) | M31: =$D$14 -> 0.07 | N31: =TRUNC(M31*N30) -> 0
A32: 공공수준점 | B32: km | C32: =ROUND('산근2-0 (현장조사물량산출)'!F14/1000,2) -> #REF! | D32: =ROUNDUP(C32*0.5,0) -> #REF! | E32: =N32 -> 0 | F32: =TRUNC(D32*E32) -> #REF! | G32: 하천연장 | M32: =$D$15 -> 0.06 | N32: =TRUNC(M32*N30) -> 0
A33: 지형현황도 | B33: 도엽 | C33: =ROUND(N35/B24,2) -> #REF! | D33: =ROUNDUP(C33*0.2,0) -> #REF! | E33: =N33 -> 0 | F33: =TRUNC(D33*E33) -> #REF! | G33: 1/1000 기준 | M33: =D24 -> 0.91 | N33: =TRUNC(M33*N30) -> 0
A34: 소 계 | F34: =SUM(F31:F33) -> #REF!
A35: 제경비 | B35: 식 | C35: 1 | F35: =TRUNC(F34*1.1) -> #REF! | G35: 인건비의 110% | M35: 기준면적 | N35: ='산근2-0 (현장조사물량산출)'!E5 -> #REF!
A36: 기술료 | B36: 식 | C36: 1 | F36: =TRUNC((F34+F35)*0.13) -> #REF! | G36: (인건비+제경비)×13%
A37: 합 계 | F37: =TRUNC(SUM(F34:F36),-4) -> #REF!

Sheet 일위대가3 (지반조사)
A1: 공 종 | B1: 규 격 | C1: 수 량 | D1: 단 위 | E1: 계 | G1: 노 무 비 | I1: 재 료 비 | K1: 경 비 | M1: 비 고 | O1: 적용요율
E2: 단 가 | F2: 금 액 | G2: 단 가 | H2: 금 액 | I2: 단 가 | J2: 금 액 | K2: 단 가 | L2: 금 액 | O2: 1
A3: 지반조사 (지반조사 표준품셈, 한국지반조사협회 공지, 2024)
A4: [제 3-1호표] 토질조사(점토,육상,NX기준) m당
A5: 중급기술인 | C5: 0.18 | D5: 인 | E5: =+I5+G5+K5 -> 295138 | F5: =H5+J5+L5 -> 53124 | G5: ='산근3 노임'!$B$8 -> 295138 | H5: =INT($C5*G5) -> 53124 | J5: =INT($C5*I5) -> 0 | L5: =INT($C5*K5) -> 0
A6: 보링공 | C6: 0.35 | D6: 인 | E6: =+I6+G6+K6 -> 0 | F6: =H6+J6+L6 -> 0 | H6: =INT($C6*G6) -> 0 | J6: =INT($C6*I6) -> 0 | K6: ='산근3 노임'!$B$17 -> 0 | L6: =INT($C6*K6) -> 0
A7: 특별인부 | C7: 0.25 | D7: 인 | E7: =+I7+G7+K7 -> 0 | F7: =H7+J7+L7 -> 0 | H7: =INT($C7*G7) -> 0 | J7: =INT($C7*I7) -> 0 | K7: ='산근3 노임'!$B$18 -> 0 | L7: =INT($C7*K7) -> 0
A8: 보통인부 | C8: 0.35 | D8: 인 | E8: =+I8+G8+K8 -> 0 | F8: =H8+J8+L8 -> 0 | H8: =INT($C8*G8) -> 0 | J8: =INT($C8*I8) -> 0 | K8: ='산근3 노임'!$B$19 -> 0 | L8: =INT($C8*K8) -> 0
A9: 싱글코어바렐 | C9: 0.01 | D9: 개 | E9: =+I9+G9+K9 -> 110000 | F9: =H9+J9+L9 -> 1100 | H9: =INT($C9*G9) -> 0 | I9: ='산근3-1(지반조사 단가)'!$C$3 -> 110000 | J9: =INT($C9*I9) -> 1100 | L9: =INT($C9*K9) -> 0
A10: 메탈크라운비트 | C10: 0.025 | D10: 개 | E10: =+I10+G10+K10 -> 30000 | F10: =H10+J10+L10 -> 750 | H10: =INT($C10*G10) -> 0 | I10: ='산근3-1(지반조사 단가)'!$C$5 -> 30000 | J10: =INT($C10*I10) -> 750 | L10: =INT($C10*K10) -> 0
A11: 드라이브파이프헤드 | C11: 0.01 | D11: 개 | E11: =+I11+G11+K11 -> 50000 | F11: =H11+J11+L11 -> 500 | H11: =INT($C11*G11) -> 0 | I11: ='산근3-1(지반조사 단가)'!$C$7 -> 50000 | J11: =INT($C11*I11) -> 500 | L11: =INT($C11*K11) -> 0
A12: 드라이브파이프슈 | C12: 0.01 | D12: 개 | E12: =+I12+G12+K12 -> 35000 | F12: =H12+J12+L12 -> 350 | H12: =INT($C12*G12) -> 0 | I12: ='산근3-1(지반조사 단가)'!$C$8 -> 35000 | J12: =INT($C12*I12) -> 350 | L12: =INT($C12*K12) -> 0
A13: 드라이브파이프 | C13: 0.01 | D13: 개 | E13: =+I13+G13+K13 -> 130000 | F13: =H13+J13+L13 -> 1300 | H13: =INT($C13*G13) -> 0 | I13: ='산근3-1(지반조사 단가)'!$C$9 -> 130000 | J13: =INT($C13*I13) -> 1300 | L13: =INT($C13*K13) -> 0
A14: 경유 | C14: 7.7 | D14: ㅣ | E14: =G14+I14+K14 -> 1506 | F14: =H14+J14+L14 -> 11596 | H14: =INT($C14*G14) -> 0 | J14: =INT($C14*I14) -> 0 | K14: ='산근3-1(지반조사 단가)'!$C$14 -> 1506 | L14: =INT($C14*K14) -> 11596
A15: 잡재료 | B15: 경유의 | C15: 16 | D15: % | E15: =G15+I15+K15 -> 0 | F15: =H15+J15+L15 -> 1855 | H15: =INT($C15*G15) -> 0 | J15: =TRUNC(J14*(C15/100)) -> 0 | L15: =TRUNC(L14*(C15/100)) -> 1855
A16: 자주식유압시추기손료 | B16: 54HP(40KW) | C16: 1.33 | D16: HR | E16: =G16+I16+K16 -> 28041 | F16: =H16+J16+L16 -> 37294 | H16: =INT($C16*G16) -> 0 | J16: =INT($C16*I16) -> 0 | K16: ='산근3-1(지반조사 단가)'!$C$17 -> 28041 | L16: =INT($C16*K16) -> 37294
A17: 합계 | F17: =SUM(H17,J17,L17) -> 107869 | H17: =SUM(H5:H16) -> 53124 | J17: =SUM(J5:J16) -> 4000 | L17: =SUM(L5:L16) -> 50745
A18: =$O$2 -> 1 | F18: =SUM(H18,J18,L18) -> 107869 | H18: =INT($A$18*H17) -> 53124 | J18: =INT($A$18*J17) -> 4000 | L18: =INT($A$18*L17) -> 50745
A19: [제 3-2호표] 토질조사(모래,육상,NX기준,m당)
A20: 중급기술인 | C20: 0.21 | D20: 인 | E20: =G20+I20+K20 -> 295138 | F20: =H20+J20+L20 -> 61978 | G20: ='산근3 노임'!$B$8 -> 295138 | H20: =INT($C20*G20) -> 61978 | J20: =INT($C20*I20) -> 0 | L20: =INT($C20*K20) -> 0
A21: 보링공 | C21: 0.4 | D21: 인 | E21: =G21+I21+K21 -> 0 | F21: =H21+J21+L21 -> 0 | H21: =INT($C21*G21) -> 0 | J21: =INT($C21*I21) -> 0 | K21: ='산근3 노임'!$B$17 -> 0 | L21: =INT($C21*K21) -> 0
A22: 특별인부 | C22: 0.29 | D22: 인 | E22: =G22+I22+K22 -> 0 | F22: =H22+J22+L22 -> 0 | H22: =INT($C22*G22) -> 0 | J22: =INT($C22*I22) -> 0 | K22: ='산근3 노임'!$B$18 -> 0 | L22: =INT($C22*K22) -> 0
A23: 보통인부 | C23: 0.4 | D23: 인 | E23: =G23+I23+K23 -> 0 | F23: =H23+J23+L23 -> 0 | H23: =INT($C23*G23) -> 0 | J23: =INT($C23*I23) -> 0 | K23: ='산근3 노임'!$B$19 -> 0 | L23: =INT($C23*K23) -> 0
A24: 싱글코어바렐 | C24: 0.025 | D24: 개 | E24: =+I24+G24+K24 -> 110000 | F24: =H24+J24+L24 -> 2750 | H24: =INT($C24*G24) -> 0 | I24: ='산근3-1(지반조사 단가)'!$C$3 -> 110000 | J24: =INT($C24*I24) -> 2750 | L24: =INT($C24*K24) -> 0
A25: 메탈크라운비트 | C25: 0.05 | D25: 개 | E25: =+I25+G25+K25 -> 30000 | F25: =H25+J25+L25 -> 1500 | H25: =INT($C25*G25) -> 0 | I25: ='산근3-1(지반조사 단가)'!$C$5 -> 30000 | J25: =INT($C25*I25) -> 1500 | L25: =INT($C25*K25) -> 0
A26: 드라이브파이프헤드 | C26: 0.025 | D26: 개 | E26: =+I26+G26+K26 -> 50000 | F26: =H26+J26+L26 -> 1250 | H26: =INT($C26*G26) -> 0 | I26: ='산근3-1(지반조사 단가)'!$C$7 -> 50000 | J26: =INT($C26*I26) -> 1250 | L26: =INT($C26*K26) -> 0
A27: 드라이브파이프슈 | C27: 0.025 | D27: 개 | E27: =+I27+G27+K27 -> 35000 | F27: =H27+J27+L27 -> 875 | H27: =INT($C27*G27) -> 0 | I27: ='산근3-1(지반조사 단가)'!$C$8 -> 35000 | J27: =INT($C27*I27) -> 875 | L27: =INT($C27*K27) -> 0
A28: 드라이브파이프 | C28: 0.025 | D28: 개 | E28: =+I28+G28+K28 -> 130000 | F28: =H28+J28+L28 -> 3250 | H28: =INT($C28*G28) -> 0 | I28: ='산근3-1(지반조사 단가)'!$C$9 -> 130000 | J28: =INT($C28*I28) -> 3250 | L28: =INT($C28*K28) -> 0
A29: 경유 | C29: 9.6 | D29: ㅣ | E29: =G29+I29+K29 -> 1506 | F29: =H29+J29+L29 -> 14457 | H29: =INT($C29*G29) -> 0 | J29: =INT($C29*I29) -> 0 | K29: ='산근3-1(지반조사 단가)'!$C$14 -> 1506 | L29: =INT($C29*K29) -> 14457
A30: 잡재료 | B30: 경유의 | C30: 16 | D30: % | E30: =G30+I30+K30 -> 0 | F30: =H30+J30+L30 -> 2313 | H30: =INT($C30*G30) -> 0 | J30: =TRUNC(J29*(C30/100)) -> 0 | L30: =TRUNC(L29*(C30/100)) -> 2313
A31: 자주식유압시추기손료 | B31: 54HP(40KW) | C31: 1.66 | D31: HR | E31: =G31+I31+K31 -> 28041 | F31: =H31+J31+L31 -> 46548 | H31: =INT($C31*G31) -> 0 | J31: =INT($C31*I31) -> 0 | K31: ='산근3-1(지반조사 단가)'!$C$17 -> 28041 | L31: =INT($C31*K31) -> 46548
A32: 합계 | F32: =SUM(H32,J32,L32) -> 134921 | H32: =SUM(H20:H31) -> 61978 | J32: =SUM(J20:J31) -> 9625 | L32: =SUM(L20:L31) -> 63318
A33: =$O$2 -> 1 | F33: =SUM(H33,J33,L33) -> 134921 | H33: =INT($A$18*H32) -> 61978 | J33: =INT($A$18*J32) -> 9625 | L33: =INT($A$18*L32) -> 63318
A34: [제 3-3호표] 토질조사(자갈,육상,NX기준,m당)
A35: 중급기술인 | C35: 0.45 | D35: 인 | E35: =G35+I35+K35 -> 295138 | F35: =H35+J35+L35 -> 132812 | G35: ='산근3 노임'!$B$8 -> 295138 | H35: =INT($C35*G35) -> 132812 | J35: =INT($C35*I35) -> 0 | L35: =INT($C35*K35) -> 0
A36: 보링공 | C36: 0.72 | D36: 인 | E36: =G36+I36+K36 -> 0 | F36: =H36+J36+L36 -> 0 | G36: =G21 -> 0 | H36: =INT($C36*G36) -> 0 | J36: =INT($C36*I36) -> 0 | K36: ='산근3 노임'!$B$17 -> 0 | L36: =INT($C36*K36) -> 0
A37: 특별인부 | C37: 0.63 | D37: 인 | E37: =G37+I37+K37 -> 0 | F37: =H37+J37+L37 -> 0 | G37: =G22 -> 0 | H37: =INT($C37*G37) -> 0 | J37: =INT($C37*I37) -> 0 | K37: ='산근3 노임'!$B$18 -> 0 | L37: =INT($C37*K37) -> 0
A38: 보통인부 | C38: 0.72 | D38: 인 | E38: =G38+I38+K38 -> 0 | F38: =H38+J38+L38 -> 0 | G38: =G23 -> 0 | H38: =INT($C38*G38) -> 0 | J38: =INT($C38*I38) -> 0 | K38: ='산근3 노임'!$B$19 -> 0 | L38: =INT($C38*K38) -> 0
A39: 싱글코어바렐 | C39: 0.05 | D39: 개 | E39: =+I39+G39+K39 -> 110000 | F39: =H39+J39+L39 -> 5500 | H39: =INT($C39*G39) -> 0 | I39: ='산근3-1(지반조사 단가)'!$C$3 -> 110000 | J39: =INT($C39*I39) -> 5500 | L39: =INT($C39*K39) -> 0
A40: 메탈크라운비트 | C40: 0.5 | D40: 개 | E40: =+I40+G40+K40 -> 30000 | F40: =H40+J40+L40 -> 15000 | H40: =INT($C40*G40) -> 0 | I40: ='산근3-1(지반조사 단가)'!$C$5 -> 30000 | J40: =INT($C40*I40) -> 15000 | L40: =INT($C40*K40) -> 0
A41: 드라이브파이프헤드 | C41: 0.05 | D41: 개 | E41: =+I41+G41+K41 -> 50000 | F41: =H41+J41+L41 -> 2500 | H41: =INT($C41*G41) -> 0 | I41: ='산근3-1(지반조사 단가)'!$C$7 -> 50000 | J41: =INT($C41*I41) -> 2500 | L41: =INT($C41*K41) -> 0
A42: 드라이브파이프슈 | C42: 0.05 | D42: 개 | E42: =+I42+G42+K42 -> 35000 | F42: =H42+J42+L42 -> 1750 | H42: =INT($C42*G42) -> 0 | I42: ='산근3-1(지반조사 단가)'!$C$8 -> 35000 | J42: =INT($C42*I42) -> 1750 | L42: =INT($C42*K42) -> 0
A43: 드라이브파이프 | C43: 0.05 | D43: 개 | E43: =+I43+G43+K43 -> 130000 | F43: =H43+J43+L43 -> 6500 | H43: =INT($C43*G43) -> 0 | I43: ='산근3-1(지반조사 단가)'!$C$9 -> 130000 | J43: =INT($C43*I43) -> 6500 | L43: =INT($C43*K43) -> 0
A44: 경유 | C44: 16.5 | D44: ㅣ | E44: =G44+I44+K44 -> 1506 | F44: =H44+J44+L44 -> 24849 | H44: =INT($C44*G44) -> 0 | J44: =INT($C44*I44) -> 0 | K44: ='산근3-1(지반조사 단가)'!$C$14 -> 1506 | L44: =INT($C44*K44) -> 24849
A45: 잡재료 | B45: 경유의 | C45: 16 | D45: % | E45: =G45+I45+K45 -> 0 | F45: =H45+J45+L45 -> 3975 | H45: =INT($C45*G45) -> 0 | J45: =TRUNC(J44*(C45/100)) -> 0 | L45: =TRUNC(L44*(C45/100)) -> 3975
A46: 자주식유압시추기손료 | B46: 54HP(40KW) | C46: 2.85 | D46: HR | E46: =G46+I46+K46 -> 28041 | F46: =H46+J46+L46 -> 79916 | H46: =INT($C46*G46) -> 0 | J46: =INT($C46*I46) -> 0 | K46: ='산근3-1(지반조사 단가)'!$C$17 -> 28041 | L46: =INT($C46*K46) -> 79916
A47: 합계 | F47: =SUM(H47,J47,L47) -> 272802 | H47: =SUM(H35:H46) -> 132812 | J47: =SUM(J35:J46) -> 31250 | L47: =SUM(L35:L46) -> 108740
A48: =$O$2 -> 1 | F48: =SUM(H48,J48,L48) -> 272802 | H48: =INT($A$18*H47) -> 132812 | J48: =INT($A$18*J47) -> 31250 | L48: =INT($A$18*L47) -> 108740
A49: [제 3-4호표] 토질조사(풍화암,육상,NX기준) m당
A50: 중급기술인 | C50: 0.19 | D50: 인 | E50: =G50+I50+K50 -> 295138 | F50: =H50+J50+L50 -> 56076 | G50: ='산근3 노임'!$B$8 -> 295138 | H50: =TRUNC(C50*G50) -> 56076
A51: 보링공 | C51: 0.35 | D51: 인 | E51: =G51+I51+K51 -> 0 | F51: =H51+J51+L51 -> 0 | H51: =TRUNC(C51*G51) -> 0 | K51: ='산근3 노임'!$B$17 -> 0 | L51: =INT($C51*K51) -> 0
A52: 특별인부 | C52: 0.26 | D52: 인 | E52: =G52+I52+K52 -> 0 | F52: =H52+J52+L52 -> 0 | H52: =TRUNC(C52*G52) -> 0 | K52: ='산근3 노임'!$B$18 -> 0 | L52: =INT($C52*K52) -> 0
A53: 보통인부 | C53: 0.35 | D53: 인 | E53: =G53+I53+K53 -> 0 | F53: =H53+J53+L53 -> 0 | H53: =TRUNC(C53*G53) -> 0 | K53: ='산근3 노임'!$B$19 -> 0 | L53: =INT($C53*K53) -> 0
A54: 더블코어바렐 | C54: 0.02 | D54: 개 | E54: =+I54+G54+K54 -> 550000 | F54: =H54+J54+L54 -> 11000 | H54: =INT($C54*G54) -> 0 | I54: ='산근3-1(지반조사 단가)'!$C$4 -> 550000 | J54: =INT($C54*I54) -> 11000 | L54: =INT($C54*K54) -> 0
A55: 메탈크라운비트 | C55: 0.8 | D55: 개 | E55: =+I55+G55+K55 -> 30000 | F55: =H55+J55+L55 -> 24000 | H55: =INT($C55*G55) -> 0 | I55: ='산근3-1(지반조사 단가)'!$C$5 -> 30000 | J55: =INT($C55*I55) -> 24000 | L55: =INT($C55*K55) -> 0
A56: 메탈리밍쉘 | C56: 0.02 | D56: 개 | E56: =+I56+G56+K56 -> 50000 | F56: =H56+J56+L56 -> 1000 | H56: =INT($C56*G56) -> 0 | I56: ='산근3-1(지반조사 단가)'!$C$10 -> 50000 | J56: =INT($C56*I56) -> 1000 | L56: =INT($C56*K56) -> 0
A57: 코어리프터 | C57: 0.1 | D57: 개 | E57: =+I57+G57+K57 -> 17000 | F57: =H57+J57+L57 -> 1700 | H57: =INT($C57*G57) -> 0 | I57: ='산근3-1(지반조사 단가)'!$C$11 -> 17000 | J57: =INT($C57*I57) -> 1700 | L57: =INT($C57*K57) -> 0
A58: 경유 | C58: 8.4 | D58: ㅣ | E58: =G58+I58+K58 -> 1506 | F58: =H58+J58+L58 -> 12650 | H58: =INT($C58*G58) -> 0 | J58: =INT($C58*I58) -> 0 | K58: ='산근3-1(지반조사 단가)'!$C$14 -> 1506 | L58: =INT($C58*K58) -> 12650
A59: 잡재료 | B59: 경유의 | C59: 16 | D59: % | E59: =G59+I59+K59 -> 0 | F59: =H59+J59+L59 -> 2024 | H59: =INT($C59*G59) -> 0 | J59: =TRUNC(J58*(C59/100)) -> 0 | L59: =TRUNC(L58*(C59/100)) -> 2024
A60: 자주식유압시추기손료 | B60: 54HP(40KW) | C60: 1.45 | D60: HR | E60: =G60+I60+K60 -> 28041 | F60: =H60+J60+L60 -> 40659 | H60: =INT($C60*G60) -> 0 | J60: =INT($C60*I60) -> 0 | K60: ='산근3-1(지반조사 단가)'!$C$17 -> 28041 | L60: =INT($C60*K60) -> 40659
A61: 합계 | F61: =SUM(H61,J61,L61) -> 149109 | H61: =SUM(H50:H60) -> 56076 | J61: =SUM(J50:J60) -> 37700 | L61: =SUM(L50:L60) -> 55333
A62: =$O$2 -> 1 | F62: =SUM(H62,J62,L62) -> 149109 | H62: =INT($A$18*H61) -> 56076 | J62: =INT($A$18*J61) -> 37700 | L62: =INT($A$18*L61) -> 55333
A63: [제 3-5호표] 토질조사(연암,육상,NX기준) m당
A64: 중급기술인 | C64: 0.21 | D64: 인 | E64: =G64+I64+K64 -> 295138 | F64: =H64+J64+L64 -> 61978 | G64: ='산근3 노임'!$B$8 -> 295138 | H64: =TRUNC(C64*G64) -> 61978
A65: 보링공 | C65: 0.37 | D65: 인 | E65: =G65+I65+K65 -> 0 | F65: =H65+J65+L65 -> 0 | H65: =TRUNC(C65*G65) -> 0 | K65: ='산근3 노임'!$B$17 -> 0 | L65: =INT($C65*K65) -> 0
A66: 특별인부 | C66: 0.28 | D66: 인 | E66: =G66+I66+K66 -> 0 | F66: =H66+J66+L66 -> 0 | H66: =TRUNC(C66*G66) -> 0 | K66: ='산근3 노임'!$B$18 -> 0 | L66: =INT($C66*K66) -> 0
A67: 보통인부 | C67: 0.37 | D67: 인 | E67: =G67+I67+K67 -> 0 | F67: =H67+J67+L67 -> 0 | H67: =TRUNC(C67*G67) -> 0 | K67: ='산근3 노임'!$B$19 -> 0 | L67: =INT($C67*K67) -> 0
A68: 더블코어바렐 | C68: 0.025 | D68: 개 | E68: =+I68+G68+K68 -> 550000 | F68: =H68+J68+L68 -> 13750 | H68: =INT($C68*G68) -> 0 | I68: ='산근3-1(지반조사 단가)'!$C$4 -> 550000 | J68: =INT($C68*I68) -> 13750 | L68: =INT($C68*K68) -> 0
A69: 메탈크라운비트 | C69: 1 | D69: 개 | E69: =+I69+G69+K69 -> 30000 | F69: =H69+J69+L69 -> 30000 | H69: =INT($C69*G69) -> 0 | I69: ='산근3-1(지반조사 단가)'!$C$5 -> 30000 | J69: =INT($C69*I69) -> 30000 | L69: =INT($C69*K69) -> 0
A70: 메탈리밍쉘 | C70: 0.025 | D70: 개 | E70: =+I70+G70+K70 -> 50000 | F70: =H70+J70+L70 -> 1250 | H70: =INT($C70*G70) -> 0 | I70: ='산근3-1(지반조사 단가)'!$C$10 -> 50000 | J70: =INT($C70*I70) -> 1250 | L70: =INT($C70*K70) -> 0
A71: 코어리프터 | C71: 0.1 | D71: 개 | E71: =+I71+G71+K71 -> 17000 | F71: =H71+J71+L71 -> 1700 | H71: =INT($C71*G71) -> 0 | I71: ='산근3-1(지반조사 단가)'!$C$11 -> 17000 | J71: =INT($C71*I71) -> 1700 | L71: =INT($C71*K71) -> 0
A72: 경유 | C72: 9.6 | D72: ㅣ | E72: =G72+I72+K72 -> 1506 | F72: =H72+J72+L72 -> 14457 | H72: =INT($C72*G72) -> 0 | J72: =INT($C72*I72) -> 0 | K72: ='산근3-1(지반조사 단가)'!$C$14 -> 1506 | L72: =INT($C72*K72) -> 14457
A73: 잡재료 | B73: 경유의 | C73: 16 | D73: % | E73: =G73+I73+K73 -> 0 | F73: =H73+J73+L73 -> 2313 | H73: =INT($C73*G73) -> 0 | J73: =TRUNC(J72*(C73/100)) -> 0 | L73: =TRUNC(L72*(C73/100)) -> 2313
A74: 자주식유압시추기손료 | B74: 54HP(40KW) | C74: 1.66 | D74: HR | E74: =G74+I74+K74 -> 28041 | F74: =H74+J74+L74 -> 46548 | H74: =INT($C74*G74) -> 0 | J74: =INT($C74*I74) -> 0 | K74: ='산근3-1(지반조사 단가)'!$C$17 -> 28041 | L74: =INT($C74*K74) -> 46548
A75: 합계 | F75: =SUM(H75,J75,L75) -> 171996 | H75: =SUM(H64:H74) -> 61978 | J75: =SUM(J64:J74) -> 46700 | L75: =SUM(L64:L74) -> 63318
A76: =$O$2 -> 1 | F76: =SUM(H76,J76,L76) -> 171996 | H76: =INT($A$18*H75) -> 61978 | J76: =INT($A$18*J75) -> 46700 | L76: =INT($A$18*L75) -> 63318
A78: [제 3-6호표] 표준관입시험(육상, 1회당, 수동)
A79: 중급기술인 | C79: 0.02 | D79: 인 | E79: =G79+I79+K79 -> 295138 | F79: =H79+J79+L79 -> 5902 | G79: ='산근3 노임'!$B$8 -> 295138 | H79: =TRUNC(C79*G79) -> 5902
A80: 보링공 | C80: 0.07 | D80: 인 | E80: =G80+I80+K80 -> 0 | F80: =H80+J80+L80 -> 0 | G80: =G51 -> 0 | H80: =TRUNC(C80*G80) -> 0 | K80: ='산근3 노임'!$B$17 -> 0 | L80: =INT($C80*K80) -> 0
A81: 특별인부 | C81: 0.06 | D81: 인 | E81: =G81+I81+K81 -> 0 | F81: =H81+J81+L81 -> 0 | G81: =G52 -> 0 | H81: =TRUNC(C81*G81) -> 0 | K81: ='산근3 노임'!$B$18 -> 0 | L81: =INT($C81*K81) -> 0
A82: 보통인부 | C82: 0.07 | D82: 인 | E82: =G82+I82+K82 -> 0 | F82: =H82+J82+L82 -> 0 | G82: =G53 -> 0 | H82: =TRUNC(C82*G82) -> 0 | K82: ='산근3 노임'!$B$19 -> 0 | L82: =INT($C82*K82) -> 0
A83: SPT shoe | B83: Φ51mm | C83: 0.1 | D83: 개 | E83: =G83+I83+K83 -> 15000 | F83: =H83+J83+L83 -> 1500 | I83: ='산근3-1(지반조사 단가)'!$C$12 -> 15000 | J83: =TRUNC(C83*I83) -> 1500
A84: 샘플러 | B84: split spoon | C84: 0.015 | D84: 개 | E84: =G84+I84+K84 -> 270000 | F84: =H84+J84+L84 -> 4050 | I84: ='산근3-1(지반조사 단가)'!$C$13 -> 270000 | J84: =TRUNC(C84*I84) -> 4050
A85: 경유 | C85: 2.9 | D85: l | E85: =G85+I85+K85 -> 1506 | F85: =H85+J85+L85 -> 4367 | K85: ='산근3-1(지반조사 단가)'!$C$14 -> 1506 | L85: =TRUNC(C85*K85) -> 4367
A86: 잡유 | B86: 경유의 | C86: 16 | D86: % | E86: =G86+I86+K86 -> 0 | F86: =H86+J86+L86 -> 698 | L86: =TRUNC(L85*(C86/100)) -> 698
A87: 자주식유압시추기손료 | B87: 54HP(40KW) | C87: 0.5 | D87: HR | E87: =G87+I87+K87 -> 28041 | F87: =H87+J87+L87 -> 14020 | H87: =INT($C87*G87) -> 0 | J87: =INT($C87*I87) -> 0 | K87: ='산근3-1(지반조사 단가)'!$C$17 -> 28041 | L87: =INT($C87*K87) -> 14020
A88: 합계 | F88: =SUM(H88,J88,L88) -> 30537 | H88: =SUM(H79:H87) -> 5902 | J88: =SUM(J79:J87) -> 5550 | L88: =SUM(L79:L87) -> 19085
A89: =$O$2 -> 1 | F89: =SUM(H89,J89,L89) -> 30537 | H89: =INT($A$18*H88) -> 5902 | J89: =INT($A$18*J88) -> 5550 | L89: =INT($A$18*L88) -> 19085
A90: [제 3-7호표] 기계기구설치 · 해체(개소당, 수동30m이내)
A91: 보링공 | C91: 1 | D91: 인 | E91: =G91+I91+K91 -> 0 | F91: =H91+J91+L91 -> 0 | H91: =INT($C91*G91) -> 0 | J91: =INT($C91*I91) -> 0 | K91: ='산근3 노임'!$B$17 -> 0 | L91: =INT($C91*K91) -> 0
A92: 특별인부 | C92: 1 | D92: 인 | E92: =G92+I92+K92 -> 0 | F92: =H92+J92+L92 -> 0 | H92: =INT($C92*G92) -> 0 | K92: ='산근3 노임'!$B$18 -> 0 | L92: =INT($C92*K92) -> 0
A93: 보통인부 | C93: 1 | D93: 인 | E93: =G93+I93+K93 -> 0 | F93: =H93+J93+L93 -> 0 | H93: =INT($C93*G93) -> 0 | K93: ='산근3 노임'!$B$19 -> 0 | L93: =INT($C93*K93) -> 0
A94: 경유 | C94: 11.6 | D94: l | E94: =G94+I94+K94 -> 1506 | F94: =H94+J94+L94 -> 17469 | J94: =INT($C94*I94) -> 0 | K94: ='산근3-1(지반조사 단가)'!$C$14 -> 1506 | L94: =INT($C94*K94) -> 17469
A95: 잡재료 | B95: 경유의 | C95: 16 | D95: % | E95: =G95+I95+K95 -> 0 | F95: =H95+J95+L95 -> 2795 | H95: =INT($C95*G95) -> 0 | I95: =TRUNC(SUM(I94:I94)) -> 0 | J95: =TRUNC((C95/100)*I95) -> 0 | L95: =TRUNC(L94*(C95/100)) -> 2795
A96: 자주식유압시추기손료 | B96: 54HP(40KW) | C96: 2 | D96: HR | E96: =G96+I96+K96 -> 28041 | F96: =H96+J96+L96 -> 56082 | H96: =INT($C96*G96) -> 0 | J96: =INT($C96*I96) -> 0 | K96: ='산근3-1(지반조사 단가)'!$C$17 -> 28041 | L96: =INT($C96*K96) -> 56082
A97: 합계 | F97: =SUM(H97,J97,L97) -> 76346 | H97: =SUM(H91:H96) -> 0 | J97: =SUM(J91:J96) -> 0 | L97: =SUM(L91:L96) -> 76346
A98: =$O$2 -> 1 | F98: =SUM(H98,J98,L98) -> 76346 | H98: =INT($A$18*H97) -> 0 | J98: =INT($A$18*J97) -> 0 | L98: =INT($A$18*L97) -> 76346
A99: [제 3-8호표] 토질시험(NX기준)
A100: 입 도 | C100: ='산근3-0 (지반조사)'!$D$32 -> #REF! | D100: 회 | E100: =G100+I100+K100 -> 237100 | F100: =H100+J100+L100 -> #REF! | H100: =INT($C100*G100) -> #REF! | J100: =INT($C100*I100) -> #REF! | K100: ='산근3-1(지반조사 단가)'!$C$18 -> 237100 | L100: =INT($C100*K100) -> #REF!
A101: 함 수 량 | C101: ='산근3-0 (지반조사)'!$D$32 -> #REF! | D101: 회 | E101: =G101+I101+K101 -> 16200 | F101: =H101+J101+L101 -> #REF! | H101: =INT($C101*G101) -> #REF! | J101: =INT($C101*I101) -> #REF! | K101: ='산근3-1(지반조사 단가)'!$C$19 -> 16200 | L101: =INT($C101*K101) -> #REF!
...

Sheet 산근3-0 (지반조사)
A1: [산근 3-0] 지반조사 수량산출
A3: 가. 산정기준
A4: ▷ 시추기준은 점토층 3m, 모래층 2m, 자갈층 2m, 풍화암층 2m, 연암층 1m로 한다.
B5: -. 배수펌프장 | D5: =#REF!*5 -> #REF! | E5: 공 | F5: (펌프장 1개소 × 5공)
B6: -. 배수갑문 | D6: =#REF!*1000/200 -> #REF! | E6: 공 | F6: (배수로연장 200m당 1공) | J6: 필요시
B7: -. 하천 | D7: =#REF!*1000/500+#REF!+#REF!*3 -> #REF! | E7: 공 | F7: (하천 500m당 1공+교량(1개, 3공)) | K7: *교량 1개당 3공 적용
B8: -. 시설물 | D8: =#REF!*5+#REF!*2+#REF!*1 -> #REF! | E8: 공 | F8: (급경사지 5공,저수지 2공, 소규모 4공)
A10: 나. 시추조사 수량산정준
B11: 구 분 | C11: 펌프장 및 우수관로 | F11: 하천제방, 토석류 방지시설 | I11: 계 | J11: 비 고
C12: 공수 | D12: 깊이 | E12: 총깊이 | F12: 공수 | G12: 깊이 | H12: 총깊이 | I12: 총깊이
C13: (공) | D13: (m) | E13: (m) | F13: (공) | G13: (m) | H13: (m) | I13: (m)
B14: 점 토 층 | C14: =SUM($D$5:$D$6) -> #REF! | D14: 3 | E14: =C14*D14 -> #REF! | F14: =$D$7+$D$8 -> #REF! | G14: =D14 -> 3 | H14: =F14*G14 -> #REF! | I14: =E14+H14 -> #REF!
B15: 모 래 층 | C15: =SUM($D$5:$D$6) -> #REF! | D15: 2 | E15: =C15*D15 -> #REF! | F15: =F14 -> #REF! | G15: =D15 -> 2 | H15: =F15*G15 -> #REF! | I15: =E15+H15 -> #REF!
B16: 자 갈 층 | C16: =SUM($D$5:$D$6) -> #REF! | D16: 2 | E16: =C16*D16 -> #REF! | F16: =F15 -> #REF! | G16: =D16 -> 2 | H16: =F16*G16 -> #REF! | I16: =E16+H16 -> #REF!
B17: 풍화암층 | C17: =SUM($D$5:$D$6) -> #REF! | D17: 2 | E17: =C17*D17 -> #REF! | F17: =F16 -> #REF! | G17: =D17 -> 2 | H17: =F17*G17 -> #REF! | I17: =E17+H17 -> #REF!
B18: 연 암 층 | C18: =SUM($D$5:$D$6) -> #REF! | D18: 1 | E18: =C18*D18 -> #REF! | F18: =F17 -> #REF! | G18: =D18 -> 1 | H18: =F18*G18 -> #REF! | I18: =E18+H18 -> #REF!
B19: 계 | D19: =SUM(D14:D18) -> 10 | E19: =SUM(E14:E18) -> #REF! | G19: =SUM(G14:G18) -> 10 | H19: =SUM(H14:H18) -> #REF! | I19: =SUM(I14:I18) -> #REF!
A21: 다. 표준관입시험 수량산출
B22: 구 분 | C22: 펌프장 및 우수관로 | F22: 하천제방, 토석류 방지시설 | I22: 계 (회) | J22: 비 고
C23: 총 공 수 (공) | D23: 공당횟수 (회/공) | E23: 횟수 (회) | F23: 총 공 수 (공) | G23: 공당횟수 (회/공) | H23: 횟수 (회)
B24: 점 토 층 | C24: =C14 -> #REF! | D24: =D14 -> 3 | E24: =C24*D24 -> #REF! | F24: =F14 -> #REF! | G24: =G14 -> 3 | H24: =F24*G24 -> #REF! | I24: =E24+H24 -> #REF!
B25: 모 래 층 | C25: =C15 -> #REF! | D25: =D15 -> 2 | E25: =C25*D25 -> #REF! | F25: =F15 -> #REF! | G25: =G15 -> 2 | H25: =F25*G25 -> #REF! | I25: =E25+H25 -> #REF!
B26: 자 갈 층 | C26: =C16 -> #REF! | D26: =D16 -> 2 | E26: =C26*D26 -> #REF! | F26: =F16 -> #REF! | G26: =G16 -> 2 | H26: =F26*G26 -> #REF! | I26: =E26+H26 -> #REF!
B27: 풍화암층 | C27: =C17 -> #REF! | D27: =D17 -> 2 | E27: =C27*D27 -> #REF! | F27: =F17 -> #REF! | G27: =G17 -> 2 | H27: =F27*G27 -> #REF! | I27: =E27+H27 -> #REF!
B28: 연암층 | C28: =C27 -> #REF! | D28: 1 | E28: =C28*D28 -> #REF! | F28: =F18 -> #REF! | G28: =G18 -> 1 | H28: =F28*G28 -> #REF! | I28: =E28+H28 -> #REF!
B29: 계 | E29: =SUM(E24:E28) -> #REF! | H29: =SUM(H24:H28) -> #REF! | I29: =SUM(I24:I28) -> #REF!
A31: 라. 실내토질시험 수량산출 : 공당 1회
B32: - 물리적 시험 : | D32: =SUM($D$5:$D$8) -> #REF! | E32: 회
B33: - 역 학 시 험 : | D33: =SUM($D$5:$D$8) -> #REF! | E33: 회
A35: 마. 기계기구설치 수량산출 : 공당 1개소
B36: =D32 -> #REF! | C36: 공 × | D36: 1 | E36: 회 ＝ | F36: =B36*D36 -> #REF! | G36: 개소
A38: 바. 시험굴 조사 : 5회 | E38: (KDS 11 10 10 : 2021 지반조사 - 시험굴 2m, 5개소 적용)

Sheet 산근3-1(지반조사 단가)
A1: [산근 3-1] 지반조사 단가
A2: 명 칭 | B2: 규 격 | C2: 단가(단위:원) | E2: 비 고
A3: 싱글코아바렐 | B3: NXLS, 1.0m | C3: 110000 | D3: 원 | E3: 지반조사표준품셈(2024.1)
A4: 더블코아바렐 | B4: NXL, 1.5m | C4: 550000 | D4: 원 | E4: 지반조사표준품셈(2024.1)
A5: 메탈크라운비트 | B5: NXLS, n=6~10 | C5: 30000 | D5: 원 | E5: 지반조사표준품셈(2024.1)
A6: 쵸 핑 비 트 | B6: NX(스트레이트) | C6: 165000 | D6: 원 | E6: 지반조사표준품셈(2024.1)
A7: 드라이브파이프헤드 | B7: NXNW | C7: 50000 | D7: 원 | E7: 지반조사표준품셈(2024.1)
A8: 드라이브파이프슈 | B8: =B7 -> NXNW | C8: 35000 | D8: 원 | E8: 지반조사표준품셈(2024.1)
A9: 드라이브파이프 | B9: NXNW 1.5m | C9: 130000 | D9: 원 | E9: 지반조사표준품셈(2024.1)
A10: 메탈리밍쉘 | B10: NX | C10: 50000 | D10: 원 | E10: 지반조사표준품셈(2024.1)
A11: 코어리프터 | B11: NX | C11: 17000 | D11: 원 | E11: 지반조사표준품셈(2024.1)
A12: 슈(SPT) | B12: 50.8mm | C12: 15000 | D12: 원 | E12: 지반조사표준품셈(2024.1)
A13: 샘 플 러 | B13: 50.8mm | C13: 270000 | D13: 원 | E13: 지반조사표준품셈(2024.1)
A14: 경 유 | C14: 1506 | D14: 원 | E14: 지반조사표준품셈(2024.1)
A15: 휘 발 유 | C15: 1568 | D15: 원 | E15: 지반조사표준품셈(2024.1)
A16: 시 멘 트 | B16: 40kg/대 | C16: 4300 | D16: 원 | E16: 지반조사표준품셈(2024.1)
A17: 손료(자주식유압시추기) | B17: 54HP(40kW) | C17: 28041 | D17: 원 | E17: 지반조사표준품셈(2024.1)
A18: 입 도 | B18: KSF2302 | C18: 237100 | D18: 원 | E18: 전북특별자치도 도로관리사업소(2024)
A19: 함 수 량 | B19: KSF2306 | C19: 16200 | D19: 원 | E19: 전북특별자치도 도로관리사업소(2024)
A20: 밀 도 | B20: KSF2308 | C20: 66600 | D20: 원 | E20: 전북특별자치도 도로관리사업소(2024)
A21: 액성한계 | B21: KSF2303 | C21: 69300 | D21: 원 | E21: 전북특별자치도 도로관리사업소(2024)
A22: 소성한계 | B22: KSF2303 | C22: 44900 | D22: 원 | E22: 전북특별자치도 도로관리사업소(2024)
A23: #200체 통과량 | B23: KSF2309 | C23: 42600 | D23: 원 | E23: 전북특별자치도 도로관리사업소(2024)
A24: 다 짐 | B24: KSF2312 | C24: 206500 | D24: 원 | E24: 전북특별자치도 도로관리사업소(2024)
A25: 투 수 | B25: KSF2322 | C25: 175000 | D25: 원 | E25: 한국건설생활환경시험연구원

Sheet 산근4-1 (설계안전성검토)
A1: <산근 4-1> 설계안전성검토
A2: 설계안전성검토 산출자료
A4: ◈ 품셈기준
A6: ※ 설계의 안전성 검토 표준품셈(2024.1, 산업통상자원부)
A9: ◈ 환산계수 및 보정계수
A10: 구 분 | B10: 항 목 | C10: 세 부 내 용 | H10: 기준 | J10: 적용
A11: 환산계수 | B11: ① 식 | C11: 1.0 | H11: 1 | J11: 1
B12: ② 공사비(M) | C12: 3억이하 | D12: 3억이상 50억이하 | F12: 50억이상 | H12: ='산근8 공사비_수정'!E10/10^8 -> 3100 | J12: =IF(H12<=3,0.43,IF(H12<=50,(H12/50)^0.3,(H12/50)^0.35)) -> 4.2397192
C13: 0.43 | D13: (M/50)0.3 | F13: (M/50)0.35
B14: ③ 교육 및 협의 | C14: 교육 및 협의 횟수 | H14: 1회 이상 | J14: 2
A15: 보정계수 | B15: ㉮ 시설물의 종류 | C15: 단순 | D15: 보통 | F15: 복잡 | H15: 배수펌프장여부 | J15: =IF(H16=1,1.1,0.8) -> #REF!
C16: 0.7~0.9 | D16: 0.9~1.1 | F16: 1.1~1.3 | H16: =IF(#REF!>=1,1,0) -> #REF!
A17: 교육 및 협의 절차* | B17: 1. 설계안전성 검토 목표 설정 협의 → 2. 관계자 교육(워크숍) → 3. 위험성 평가기준 및 허용수준 협의 → 4. 저감대책 선정 협의 설계안전성검토 적용 매뉴얼 개선방안 연구(2017, 한국시설안전공단)
A20: ◈ 설계안전성검토
A21: 1. 직접인건비
A22: 구 분 | D22: 단위 | E22: 소요인력 (인·일) | K22: 비고
E23: 기술사 | F23: 특급기술인 | G23: 고급기술인 | H23: 중급기술인 | I23: 초급기술인
A24: 소요인력 계 | D24: 인 | E24: =E62 -> #REF! | F24: =F62 -> 8.2 | G24: =G62 -> 8.3 | H24: =H62 -> 5.6 | I24: =I62 -> 2.4
A30: ○ 설계안전성검토 투입인원수 산정기준(고유업무 산정)
A31: 구 분 | D31: 단위 | E31: 소요인력 (인·일) | J31: 환산 계수 | K31: 보정계수
E32: =E23 -> 기술사 | F32: =F23 -> 특급기술인 | G32: =G23 -> 고급기술인 | H32: =H23 -> 중급기술인 | I32: =I23 -> 초급기술인 | K32: ㉮
A33: 소요인력 계 | E33: =SUM(E34,E37,E43,E54,E55,E56) -> 2.4 | F33: =SUM(F34,F37,F43,F54,F55,F56) -> 4.1 | G33: =SUM(G34,G37,G43,G54,G55,G56) -> 4.15 | H33: =SUM(H34,H37,H43,H54,H55,H56) -> 2.8 | I33: =SUM(I34,I37,I43,I54,I55,I56) -> 1.2
A34: 1. 대상사업 개요 및 결과요약 | E34: =SUM(E35:E36) -> 0 | F34: =SUM(F35:F36) -> 0 | G34: =SUM(G35:G36) -> 0.05 | H34: =SUM(H35:H36) -> 0.15 | I34: =SUM(I35:I36) -> 0.1
A35: 1.1 대상사업 개요 | D35: 1식 | H35: 0.05 | I35: 0.1 | J35: ①
A36: 1.2 결과요약 | D36: 1식 | G36: 0.05 | H36: 0.1 | J36: ①
A37: 2. 설계 안전성 검토 절차 | E37: =SUM(E38:E42) -> 0.5 | F37: =SUM(F38:F42) -> 0.8 | G37: =SUM(G38:G42) -> 0.8 | H37: =SUM(H38:H42) -> 0.35 | I37: =SUM(I38:I42) -> 0.65
A38: 2.1 설계 안전성 검토 목표 | D38: 1식 | E38: 0.1 | J38: ①
A39: 2.2 설계 안전성 검토 수행절차 및 일정 | D39: 1식 | H39: 0.05 | I39: 0.1 | J39: ①
A40: 2.3 설계 안전성 검토 참여자 구성 | D40: 1식 | I40: 0.05 | J40: ①
A41: 2.4 검토 자료 | D41: 공사비 | E41: 0.1 | F41: 0.3 | G41: 0.3 | H41: 0.3 | I41: 0.5 | J41: ② | K41: ●
A42: 2.5 관계자 교육 | D42: 1회 | E42: 0.3 | F42: 0.5 | G42: 0.5 | J42: ③
A43: 3. 설계 안전성 평가 | E43: =SUM(E44,E45,E46,E49,E50,E51) -> 1.6 | F43: =SUM(F44,F45,F46,F49,F50,F51) -> 2.5 | G43: =SUM(G44,G45,G46,G49,G50,G51) -> 2.4 | H43: =SUM(H44,H45,H46,H49,H50,H51) -> 2 | I43: =SUM(I44,I45,I46,I49,I50,I51) -> 0.15
A44: 3.1 발생빈도, 심각성의 등급 및 기준 | D44: 1식 | I44: 0.05 | J44: ①
A45: 3.2 위험성 허용수준 | D45: 1회 | E45: 0.3 | J45: ③
A46: 3.3 공종별 위험요소 도출 | E46: =SUM(E47:E48) -> 0.5 | F46: =SUM(F47:F48) -> 1.5 | G46: =SUM(G47:G48) -> 1.5 | H46: =SUM(H47:H48) -> 1.5 | I46: =SUM(I47:I48) -> 0.1
A47: 3.3.1 위험요소 인식 및 도출 | D47: 공사비 | E47: 0.5 | F47: 1.5 | G47: 1.5 | H47: 1.5 | J47: ② | K47: ●
A48: 3.3.2 사고유형 분석 | D48: 공사비 | I48: 0.1 | J48: ②
A49: 3.4 위험요소별 관리주체 선정 및 설계안전성 검토 반영 | D49: 공사비 | G49: 0.2 | J49: ②
A50: 3.5 위험요소별 위험성 평가 | D50: 공사비 | G50: 0.2 | J50: ②
A51: 3.6 위험요소별 저감대책 | E51: =SUM(E52:E53) -> 0.8 | F51: =SUM(F52:F53) -> 1 | G51: =SUM(G52:G53) -> 0.5 | H51: =SUM(H52:H53) -> 0.5 | I51: =SUM(I52:I53) -> 0
A52: 3.6.1 저감대책 선정 협의사항 | D52: 1회 | E52: 0.3 | J52: ③
A53: 3.6.2 위험요소별 저감대책 | D53: 공사비 | E53: 0.5 | F53: 1 | G53: 0.5 | H53: 0.5 | J53: ② | K53: ●
A54: 4. 위험성 평가표 요약 | D54: 공사비 | G54: 0.2 | J54: ②
A55: 5. 잔여 위험요소 | D55: 공사비 | G55: 0.2 | J55: ②
A56: 6. 성과품 작성 | D56: 공사비 | E56: 0.3 | F56: 0.8 | G56: 0.5 | H56: 0.3 | I56: 0.3 | J56: ②
A57: * 설계의 안전성 검토 표준품셈(2024.1, 산업통상자원부)
A59: ○ 설계안전성검토 적용소요인력
A60: 구 분 | D60: 단위 | E60: 소요인력 (인·일) | J60: 비고
E61: =E23 -> 기술사 | F61: =F23 -> 특급기술인 | G61: =G23 -> 고급기술인 | H61: =H23 -> 중급기술인 | I61: =I23 -> 초급기술인
A62: 소요인력 계 | E62: =SUM(E63,E66,E72,E83,E84,E85) -> #REF! | F62: =SUM(F63,F66,F72,F83,F84,F85) -> 8.2 | G62: =SUM(G63,G66,G72,G83,G84,G85) -> 8.3 | H62: =SUM(H63,H66,H72,H83,H84,H85) -> 5.6 | I62: =SUM(I63,I66,I72,I83,I84,I85) -> 2.4
A63: 1. 대상사업 개요 및 결과요약 | E63: =SUM(E64:E65) -> 0 | F63: =SUM(F64:F65) -> 0 | G63: =SUM(G64:G65) -> 0.1 | H63: =SUM(H64:H65) -> 0.3 | I63: =SUM(I64:I65) -> 0.2
A64: 1.1 대상사업 개요 | D64: 1식 | E64: =ROUND(E35*IF(J35="①",$J$11,IF(J35="②",$J$12,$J$14))*IF(K35="●",$J$15,1),3) -> 0 | F64: =ROUND(F35*IF(K35="①",$J$11,IF(K35="②",$J$12,$J$14))*IF(L35="●",$J$15,1),3) -> 0 | G64: =ROUND(G35*IF(L35="①",$J$11,IF(L35="②",$J$12,$J$14))*IF(M35="●",$J$15,1),3) -> 0 | H64: =ROUND(H35*IF(M35="①",$J$11,IF(M35="②",$J$12,$J$14))*IF(N35="●",$J$15,1),3) -> 0.1 | I64: =ROUND(I35*IF(N35="①",$J$11,IF(N35="②",$J$12,$J$14))*IF(O35="●",$J$15,1),3) -> 0.2
A65: 1.2 결과요약 | D65: 1식 | E65: =ROUND(E36*IF(J36="①",$J$11,IF(J36="②",$J$12,$J$14))*IF(K36="●",$J$15,1),3) -> 0 | F65: =ROUND(F36*IF(K36="①",$J$11,IF(K36="②",$J$12,$J$14))*IF(L36="●",$J$15,1),3) -> 0 | G65: =ROUND(G36*IF(L36="①",$J$11,IF(L36="②",$J$12,$J$14))*IF(M36="●",$J$15,1),3) -> 0.1 | H65: =ROUND(H36*IF(M36="①",$J$11,IF(M36="②",$J$12,$J$14))*IF(N36="●",$J$15,1),3) -> 0.2 | I65: =ROUND(I36*IF(N36="①",$J$11,IF(N36="②",$J$12,$J$14))*IF(O36="●",$J$15,1),3) -> 0
A66: 2. 설계 안전성 검토 절차 | E66: =SUM(E67:E71) -> #REF! | F66: =SUM(F67:F71) -> 1.6 | G66: =SUM(G67:G71) -> 1.6 | H66: =SUM(H67:H71) -> 0.7 | I66: =SUM(I67:I71) -> 1.3
A67: 2.1 설계 안전성 검토 목표 | D67: 1식 | E67: =ROUND(E38*IF(J38="①",$J$11,IF(J38="②",$J$12,$J$14))*IF(K38="●",$J$15,1),3) -> 0.1 | F67: =ROUND(F38*IF(K38="①",$J$11,IF(K38="②",$J$12,$J$14))*IF(L38="●",$J$15,1),3) -> 0 | G67: =ROUND(G38*IF(L38="①",$J$11,IF(L38="②",$J$12,$J$14))*IF(M38="●",$J$15,1),3) -> 0 | H67: =ROUND(H38*IF(M38="①",$J$11,IF(M38="②",$J$12,$J$14))*IF(N38="●",$J$15,1),3) -> 0 | I67: =ROUND(I38*IF(N38="①",$J$11,IF(N38="②",$J$12,$J$14))*IF(O38="●",$J$15,1),3) -> 0
A68: 2.2 설계 안전성 검토 수행절차 및 일정 | D68: 1식 | E68: =ROUND(E39*IF(J39="①",$J$11,IF(J39="②",$J$12,$J$14))*IF(K39="●",$J$15,1),3) -> 0 | F68: =ROUND(F39*IF(K39="①",$J$11,IF(K39="②",$J$12,$J$14))*IF(L39="●",$J$15,1),3) -> 0 | G68: =ROUND(G39*IF(L39="①",$J$11,IF(L39="②",$J$12,$J$14))*IF(M39="●",$J$15,1),3) -> 0 | H68: =ROUND(H39*IF(M39="①",$J$11,IF(M39="②",$J$12,$J$14))*IF(N39="●",$J$15,1),3) -> 0.1 | I68: =ROUND(I39*IF(N39="①",$J$11,IF(N39="②",$J$12,$J$14))*IF(O39="●",$J$15,1),3) -> 0.2
A69: 2.3 설계 안전성 검토 참여자 구성 | D69: 1식 | E69: =ROUND(E40*IF(J40="①",$J$11,IF(J40="②",$J$12,$J$14))*IF(K40="●",$J$15,1),3) -> 0 | F69: =ROUND(F40*IF(K40="①",$J$11,IF(K40="②",$J$12,$J$14))*IF(L40="●",$J$15,1),3) -> 0 | G69: =ROUND(G40*IF(L40="①",$J$11,IF(L40="②",$J$12,$J$14))*IF(M40="●",$J$15,1),3) -> 0 | H69: =ROUND(H40*IF(M40="①",$J$11,IF(M40="②",$J$12,$J$14))*IF(N40="●",$J$15,1),3) -> 0 | I69: =ROUND(I40*IF(N40="①",$J$11,IF(N40="②",$J$12,$J$14))*IF(O40="●",$J$15,1),3) -> 0.1
A70: 2.4 검토 자료 | D70: 공사비 | E70: =ROUND(E41*IF(J41="①",$J$11,IF(J41="②",$J$12,$J$14))*IF(K41="●",$J$15,1),3) -> #REF! | F70: =ROUND(F41*IF(K41="①",$J$11,IF(K41="②",$J$12,$J$14))*IF(L41="●",$J$15,1),3) -> 0.6 | G70: =ROUND(G41*IF(L41="①",$J$11,IF(L41="②",$J$12,$J$14))*IF(M41="●",$J$15,1),3) -> 0.6 | H70: =ROUND(H41*IF(M41="①",$J$11,IF(M41="②",$J$12,$J$14))*IF(N41="●",$J$15,1),3) -> 0.6 | I70: =ROUND(I41*IF(N41="①",$J$11,IF(N41="②",$J$12,$J$14))*IF(O41="●",$J$15,1),3) -> 1
A71: 2.5 관계자 교육 | D71: 1회 | E71: =ROUND(E42*IF(J42="①",$J$11,IF(J42="②",$J$12,$J$14))*IF(K42="●",$J$15,1),3) -> 0.6 | F71: =ROUND(F42*IF(K42="①",$J$11,IF(K42="②",$J$12,$J$14))*IF(L42="●",$J$15,1),3) -> 1 | G71: =ROUND(G42*IF(L42="①",$J$11,IF(L42="②",$J$12,$J$14))*IF(M42="●",$J$15,1),3) -> 1 | H71: =ROUND(H42*IF(M42="①",$J$11,IF(M42="②",$J$12,$J$14))*IF(N42="●",$J$15,1),3) -> 0 | I71: =ROUND(I42*IF(N42="①",$J$11,IF(N42="②",$J$12,$J$14))*IF(O42="●",$J$15,1),3) -> 0
A72: 3. 설계 안전성 평가 | E72: =SUM(E73,E74,E75,E78,E79,E80) -> #REF! | F72: =SUM(F73,F74,F75,F78,F79,F80) -> 5 | G72: =SUM(G73,G74,G75,G78,G79,G80) -> 4.8 | H72: =SUM(H73,H74,H75,H78,H79,H80) -> 4 | I72: =SUM(I73,I74,I75,I78,I79,I80) -> 0.3
A73: 3.1 발생빈도, 심각성의 등급 및 기준 | D73: 1식 | E73: =ROUND(E44*IF(J44="①",$J$11,IF(J44="②",$J$12,$J$14))*IF(K44="●",$J$15,1),3) -> 0 | F73: =ROUND(F44*IF(K44="①",$J$11,IF(K44="②",$J$12,$J$14))*IF(L44="●",$J$15,1),3) -> 0 | G73: =ROUND(G44*IF(L44="①",$J$11,IF(L44="②",$J$12,$J$14))*IF(M44="●",$J$15,1),3) -> 0 | H73: =ROUND(H44*IF(M44="①",$J$11,IF(M44="②",$J$12,$J$14))*IF(N44="●",$J$15,1),3) -> 0 | I73: =ROUND(I44*IF(N44="①",$J$11,IF(N44="②",$J$12,$J$14))*IF(O44="●",$J$15,1),3) -> 0.1
A74: 3.2 위험성 허용수준 | D74: 1회 | E74: =ROUND(E45*IF(J45="①",$J$11,IF(J45="②",$J$12,$J$14))*IF(K45="●",$J$15,1),3) -> 0.6 | F74: =ROUND(F45*IF(K45="①",$J$11,IF(K45="②",$J$12,$J$14))*IF(L45="●",$J$15,1),3) -> 0 | G74: =ROUND(G45*IF(L45="①",$J$11,IF(L45="②",$J$12,$J$14))*IF(M45="●",$J$15,1),3) -> 0 | H74: =ROUND(H45*IF(M45="①",$J$11,IF(M45="②",$J$12,$J$14))*IF(N45="●",$J$15,1),3) -> 0 | I74: =ROUND(I45*IF(N45="①",$J$11,IF(N45="②",$J$12,$J$14))*IF(O45="●",$J$15,1),3) -> 0
A75: 3.3 공종별 위험요소 도출 | E75: =SUM(E76:E77) -> #REF! | F75: =SUM(F76:F77) -> 3 | G75: =SUM(G76:G77) -> 3 | H75: =SUM(H76:H77) -> 3 | I75: =SUM(I76:I77) -> 0.2
A76: 3.3.1 위험요소 인식 및 도출 | D76: 공사비 | E76: =ROUND(E47*IF(J47="①",$J$11,IF(J47="②",$J$12,$J$14))*IF(K47="●",$J$15,1),3) -> #REF! | F76: =ROUND(F47*IF(K47="①",$J$11,IF(K47="②",$J$12,$J$14))*IF(L47="●",$J$15,1),3) -> 3 | G76: =ROUND(G47*IF(L47="①",$J$11,IF(L47="②",$J$12,$J$14))*IF(M47="●",$J$15,1),3) -> 3 | H76: =ROUND(H47*IF(M47="①",$J$11,IF(M47="②",$J$12,$J$14))*IF(N47="●",$J$15,1),3) -> 3 | I76: =ROUND(I47*IF(N47="①",$J$11,IF(N47="②",$J$12,$J$14))*IF(O47="●",$J$15,1),3) -> 0
A77: 3.3.2 사고유형 분석 | D77: 공사비 | E77: =ROUND(E48*IF(J48="①",$J$11,IF(J48="②",$J$12,$J$14))*IF(K48="●",$J$15,1),3) -> 0 | F77: =ROUND(F48*IF(K48="①",$J$11,IF(K48="②",$J$12,$J$14))*IF(L48="●",$J$15,1),3) -> 0 | G77: =ROUND(G48*IF(L48="①",$J$11,IF(L48="②",$J$12,$J$14))*IF(M48="●",$J$15,1),3) -> 0 | H77: =ROUND(H48*IF(M48="①",$J$11,IF(M48="②",$J$12,$J$14))*IF(N48="●",$J$15,1),3) -> 0 | I77: =ROUND(I48*IF(N48="①",$J$11,IF(N48="②",$J$12,$J$14))*IF(O48="●",$J$15,1),3) -> 0.2
A78: 3.4 위험요소별 관리주체 선정 및 설계안전성 검토 반영 | D78: 공사비 | E78: =ROUND(E49*IF(J49="①",$J$11,IF(J49="②",$J$12,$J$14))*IF(K49="●",$J$15,1),3) -> 0 | F78: =ROUND(F49*IF(K49="①",$J$11,IF(K49="②",$J$12,$J$14))*IF(L49="●",$J$15,1),3) -> 0 | G78: =ROUND(G49*IF(L49="①",$J$11,IF(L49="②",$J$12,$J$14))*IF(M49="●",$J$15,1),3) -> 0.4 | H78: =ROUND(H49*IF(M49="①",$J$11,IF(M49="②",$J$12,$J$14))*IF(N49="●",$J$15,1),3) -> 0 | I78: =ROUND(I49*IF(N49="①",$J$11,IF(N49="②",$J$12,$J$14))*IF(O49="●",$J$15,1),3) -> 0
A79: 3.5 위험요소별 위험성 평가 | D79: 공사비 | E79: =ROUND(E50*IF(J50="①",$J$11,IF(J50="②",$J$12,$J$14))*IF(K50="●",$J$15,1),3) -> 0 | F79: =ROUND(F50*IF(K50="①",$J$11,IF(K50="②",$J$12,$J$14))*IF(L50="●",$J$15,1),3) -> 0 | G79: =ROUND(G50*IF(L50="①",$J$11,IF(L50="②",$J$12,$J$14))*IF(M50="●",$J$15,1),3) -> 0.4 | H79: =ROUND(H50*IF(M50="①",$J$11,IF(M50="②",$J$12,$J$14))*IF(N50="●",$J$15,1),3) -> 0 | I79: =ROUND(I50*IF(N50="①",$J$11,IF(N50="②",$J$12,$J$14))*IF(O50="●",$J$15,1),3) -> 0
A80: 3.6 위험요소별 저감대책 | E80: =SUM(E81:E82) -> #REF! | F80: =SUM(F81:F82) -> 2 | G80: =SUM(G81:G82) -> 1 | H80: =SUM(H81:H82) -> 1 | I80: =SUM(I81:I82) -> 0
A81: 3.6.1 저감대책 선정 협의사항 | D81: 1회 | E81: =ROUND(E52*IF(J52="①",$J$11,IF(J52="②",$J$12,$J$14))*IF(K52="●",$J$15,1),3) -> 0.6 | F81: =ROUND(F52*IF(K52="①",$J$11,IF(K52="②",$J$12,$J$14))*IF(L52="●",$J$15,1),3) -> 0 | G81: =ROUND(G52*IF(L52="①",$J$11,IF(L52="②",$J$12,$J$14))*IF(M52="●",$J$15,1),3) -> 0 | H81: =ROUND(H52*IF(M52="①",$J$11,IF(M52="②",$J$12,$J$14))*IF(N52="●",$J$15,1),3) -> 0 | I81: =ROUND(I52*IF(N52="①",$J$11,IF(N52="②",$J$12,$J$14))*IF(O52="●",$J$15,1),3) -> 0
A82: 3.6.2 위험요소별 저감대책 | D82: 공사비 | E82: =ROUND(E53*IF(J53="①",$J$11,IF(J53="②",$J$12,$J$14))*IF(K53="●",$J$15,1),3) -> #REF! | F82: =ROUND(F53*IF(K53="①",$J$11,IF(K53="②",$J$12,$J$14))*IF(L53="●",$J$15,1),3) -> 2 | G82: =ROUND(G53*IF(L53="①",$J$11,IF(L53="②",$J$12,$J$14))*IF(M53="●",$J$15,1),3) -> 1 | H82: =ROUND(H53*IF(M53="①",$J$11,IF(M53="②",$J$12,$J$14))*IF(N53="●",$J$15,1),3) -> 1 | I82: =ROUND(I53*IF(N53="①",$J$11,IF(N53="②",$J$12,$J$14))*IF(O53="●",$J$15,1),3) -> 0
A83: 4. 위험성 평가표 요약 | D83: 공사비 | E83: =ROUND(E54*IF(J54="①",$J$11,IF(J54="②",$J$12,$J$14))*IF(K54="●",$J$15,1),3) -> 0 | F83: =ROUND(F54*IF(K54="①",$J$11,IF(K54="②",$J$12,$J$14))*IF(L54="●",$J$15,1),3) -> 0 | G83: =ROUND(G54*IF(L54="①",$J$11,IF(L54="②",$J$12,$J$14))*IF(M54="●",$J$15,1),3) -> 0.4 | H83: =ROUND(H54*IF(M54="①",$J$11,IF(M54="②",$J$12,$J$14))*IF(N54="●",$J$15,1),3) -> 0 | I83: =ROUND(I54*IF(N54="①",$J$11,IF(N54="②",$J$12,$J$14))*IF(O54="●",$J$15,1),3) -> 0
A84: 5. 잔여 위험요소 | D84: 공사비 | E84: =ROUND(E55*IF(J55="①",$J$11,IF(J55="②",$J$12,$J$14))*IF(K55="●",$J$15,1),3) -> 0 | F84: =ROUND(F55*IF(K55="①",$J$11,IF(K55="②",$J$12,$J$14))*IF(L55="●",$J$15,1),3) -> 0 | G84: =ROUND(G55*IF(L55="①",$J$11,IF(L55="②",$J$12,$J$14))*IF(M55="●",$J$15,1),3) -> 0.4 | H84: =ROUND(H55*IF(M55="①",$J$11,IF(M55="②",$J$12,$J$14))*IF(N55="●",$J$15,1),3) -> 0 | I84: =ROUND(I55*IF(N55="①",$J$11,IF(N55="②",$J$12,$J$14))*IF(O55="●",$J$15,1),3) -> 0
A85: 6. 성과품 작성 | D85: 공사비 | E85: =ROUND(E56*IF(J56="①",$J$11,IF(J56="②",$J$12,$J$14))*IF(K56="●",$J$15,1),3) -> 1.272 | F85: =ROUND(F56*IF(K56="①",$J$11,IF(K56="②",$J$12,$J$14))*IF(L56="●",$J$15,1),3) -> 1.6 | G85: =ROUND(G56*IF(L56="①",$J$11,IF(L56="②",$J$12,$J$14))*IF(M56="●",$J$15,1),3) -> 1 | H85: =ROUND(H56*IF(M56="①",$J$11,IF(M56="②",$J$12,$J$14))*IF(N56="●",$J$15,1),3) -> 0.6 | I85: =ROUND(I56*IF(N56="①",$J$11,IF(N56="②",$J$12,$J$14))*IF(O56="●",$J$15,1),3) -> 0.6

Sheet 산근4-2(설계안전보건대장)
B1: (산근 4-2)
A2: 설계안전보건대장 산출자료
B4: □ 안전보건대장 작성 대가
F5: (단위 : 원, 부가세 제외)
B6: 공사금액 | C6: 기본안전보건대장 | D6: 설계안전보건대장 | E6: 공사안전보건대장 | F6: 비 고
B7: 100억 미만 | C7: 4000000 | D7: 5000000 | E7: 6000000
B8: 100억~500억 미만 | C8: 5000000 | D8: 6000000 | E8: 7000000
B9: 500억~1,000억 미만 | C9: 6000000 | D9: 7000000 | E9: 8000000
B10: 1,000억~3,000억 미만 | C10: 7000000 | D10: 8000000 | E10: 9000000
B11: 3,000억 이상 | C11: 8000000 | D11: 9000000 | E11: 10000000
B12: * 2020. 1. 16 이후 발주자가 건설공사의 설계에 관한 계약을 체결하는 건설공사부터 시행 (건설공사 안전보건대장의 작성 등에 관한 고시)

Sheet 산근4-3(공사기간 적정성 검토)
B1: (산근 4-3) (비교견적1) | G1: (산근 4-3) (비교견적2)

Sheet 5. 비상대처계획
B1: 공 종 | C1: 규 격 | D1: 수량 (보정) | E1: 단위 | F1: 총 액 | H1: 재 료 비 | J1: 노 무 비 | L1: 경 비 | N1: 비고
F2: 단가 | G2: 금 액 | H2: 단가 | I2: 금 액 | J2: 단가 | K2: 금 액 | L2: 단가 | M2: 금 액
B3: <제5호표> 비상대처계획(방재품셈)
B4: 1. 직접인건비 | G4: =I4+K4+M4 -> #REF! | I4: =I5+I6+I10+I27+I32+I39+I45+I48 -> 0 | K4: =K5+K6+K10+K27+K32+K39+K45+K48 -> #REF! | M4: =M5+M6+M10+M27+M32+M39+M45+M48 -> 0
B5: ='비상대처계획(적용수량)'!A5 -> 가. 작업계획 | D5: ='비상대처계획(적용수량)'!K5 -> 0.322 | E5: ='비상대처계획(적용수량)'!B5 -> 10㎞ | G5: =I5+K5+M5 -> 938840.59 | H5: ='일위대가5(비상대처계획)'!H11 -> 0 | I5: =H5*$D$5 -> 0 | J5: ='일위대가5(비상대처계획)'!J11 -> 2915654 | K5: =J5*$D$5 -> 938840.59 | L5: ='일위대가5(비상대처계획)'!L11 -> 0 | M5: =L5*$D$5 -> 0 | N5: 산근6-1
B6: ='비상대처계획(적용수량)'!A6 -> 나. 사업개요 | G6: =I6+K6+M6 -> 2823763 | I6: =SUM(I7:I9) -> 0 | K6: =SUM(K7:K9) -> 2823763 | M6: =SUM(M7:M9) -> 0
B7: ='비상대처계획(적용수량)'!A7 -> 1) EAP 기본정보 및 댐저수지 일반정보 | D7: ='비상대처계획(적용수량)'!K7 -> 1 | E7: ='비상대처계획(적용수량)'!B7 -> 1개소 | G7: =I7+K7+M7 -> 1611512 | H7: ='일위대가5(비상대처계획)'!H21 -> 0 | J7: ='일위대가5(비상대처계획)'!J21 -> 1611512 | K7: =J7*D7 -> 1611512 | N7: 산근6-2
B8: ='비상대처계획(적용수량)'!A8 -> 2) EAP 배포기관 | D8: ='비상대처계획(적용수량)'!K8 -> 1 | E8: ='비상대처계획(적용수량)'!B8 -> 1개소 | G8: =I8+K8+M8 -> 405318 | H8: ='일위대가5(비상대처계획)'!H31 -> 0 | J8: ='일위대가5(비상대처계획)'!J31 -> 405318 | K8: =J8*D8 -> 405318 | N8: 산근6-3
B9: ='비상대처계획(적용수량)'!A9 -> 3) EAP 작성, 보완 및 갱신 | D9: ='비상대처계획(적용수량)'!K9 -> 1 | E9: ='비상대처계획(적용수량)'!B9 -> 1개소 | G9: =I9+K9+M9 -> 806933 | H9: ='일위대가5(비상대처계획)'!H42 -> 0 | J9: ='일위대가5(비상대처계획)'!J42 -> 806933 | K9: =J9*D9 -> 806933 | N9: 산근6-4
B10: ='비상대처계획(적용수량)'!A10 -> 다. 하류부 영향 평가 | G10: =I10+K10+M10 -> 0
B11: ='비상대처계획(적용수량)'!A11 -> 1) 하류부 하천 및 유역개요 | D11: ='비상대처계획(적용수량)'!K11 -> #REF! | E11: ='비상대처계획(적용수량)'!B11 -> 100km2 | G11: =I11+K11+M11 -> #REF! | J11: ='일위대가5(비상대처계획)'!J51 -> 0 | K11: =J11*D11 -> #REF! | N11: 산근6-5
B12: ='비상대처계획(적용수량)'!A12 -> 2) 댐 붕괴 위험성의 평가 | D12: ='비상대처계획(적용수량)'!K12 -> 0 | G12: =I12+K12+M12 -> 0 | K12: =SUM(K13:K15) -> 0
B13: ='비상대처계획(적용수량)'!A13 -> ① 관련자료 조사검토 | D13: ='비상대처계획(적용수량)'!K13 -> 0 | E13: ='비상대처계획(적용수량)'!B13 -> 1개소 | G13: =I13+K13+M13 -> 0 | J13: ='일위대가5(비상대처계획)'!J62 -> 0 | K13: =J13*D13 -> 0 | N13: 산근6-6
B14: ='비상대처계획(적용수량)'!A14 -> ② 수문학적 안전성 평가 | D14: ='비상대처계획(적용수량)'!K14 -> 0 | E14: ='비상대처계획(적용수량)'!B14 -> 1개소 | G14: =I14+K14+M14 -> 0 | J14: ='일위대가5(비상대처계획)'!J71 -> 0 | K14: =J14*D14 -> 0 | N14: 산근6-7
B15: ='비상대처계획(적용수량)'!A15 -> ③ 내진 안전성 평가 | D15: ='비상대처계획(적용수량)'!K15 -> 0 | E15: ='비상대처계획(적용수량)'!B15 -> 1개소 | G15: =I15+K15+M15 -> 0 | J15: ='일위대가5(비상대처계획)'!J82 -> 0 | K15: =J15*D15 -> 0 | N15: 산근6-8
B16: ='비상대처계획(적용수량)'!A16 -> 3) 댐 붕괴 홍수류 해석 | D16: ='비상대처계획(적용수량)'!K16 -> 0 | G16: =I16+K16+M16 -> #REF! | K16: =SUM(K17:K26) -> #REF! | M16: =SUM(M17:M26) -> 0
B17: ='비상대처계획(적용수량)'!A17 -> ① 기초자료 조사 | D17: ='비상대처계획(적용수량)'!K17 -> #REF! | E17: ='비상대처계획(적용수량)'!B17 -> 100km2 | G17: =I17+K17+M17 -> #REF! | J17: ='일위대가5(비상대처계획)'!J91 -> 0 | K17: =J17*D17 -> #REF! | N17: 산근6-9
B18: ='비상대처계획(적용수량)'!A18 -> ② 최근의 국·내외 댐 붕괴 사례 조사 | D18: ='비상대처계획(적용수량)'!K18 -> 0 | E18: ='비상대처계획(적용수량)'!B18 -> 1식 | G18: =I18+K18+M18 -> 0 | J18: ='일위대가5(비상대처계획)'!J102 -> 0 | K18: =J18*D18 -> 0 | N18: 산근6-10
B19: ='비상대처계획(적용수량)'!A19 -> ③ 댐 및 저수지 붕괴 시나리오 구성 | D19: ='비상대처계획(적용수량)'!K19 -> 0 | E19: ='비상대처계획(적용수량)'!B19 -> 10㎞ | G19: =I19+K19+M19 -> 0 | J19: ='일위대가5(비상대처계획)'!J111 -> 0 | K19: =J19*D19 -> 0 | N19: 산근6-11
B20: ='비상대처계획(적용수량)'!A20 -> ④ 시나리오에 따른 홍수량 산정(댐 유역) | D20: ='비상대처계획(적용수량)'!K20 -> #REF! | E20: ='비상대처계획(적용수량)'!B20 -> 100km2 | G20: =I20+K20+M20 -> #REF! | J20: ='일위대가5(비상대처계획)'!J122 -> 0 | K20: =J20*D20 -> #REF! | N20: 산근6-12
B21: ='비상대처계획(적용수량)'!A21 -> ⑤ 시나리오에 따른 홍수량 산정(댐 하류유역) | D21: ='비상대처계획(적용수량)'!K21 -> #REF! | E21: ='비상대처계획(적용수량)'!B21 -> 100km2 | G21: =I21+K21+M21 -> #REF! | J21: ='일위대가5(비상대처계획)'!J131 -> 0 | K21: =J21*D21 -> #REF! | N21: 산근6-13
B22: ='비상대처계획(적용수량)'!A22 -> ⑥ 댐 하류부 지형분석 | D22: ='비상대처계획(적용수량)'!K22 -> 0 | E22: ='비상대처계획(적용수량)'!B22 -> 50km2 | G22: =I22+K22+M22 -> 0 | J22: ='일위대가5(비상대처계획)'!J142 -> 0 | K22: =J22*D22 -> 0 | N22: 산근6-14
B23: ='비상대처계획(적용수량)'!A23 -> ⑦ 댐 붕괴 모의 수행(1차원 해석) | D23: ='비상대처계획(적용수량)'!K23 -> 0 | E23: ='비상대처계획(적용수량)'!B23 -> 10㎞ | G23: =I23+K23+M23 -> 0 | J23: ='일위대가5(비상대처계획)'!J151 -> 0 | K23: =J23*D23 -> 0 | N23: 산근6-15
B24: ='비상대처계획(적용수량)'!A24 -> ⑧ 댐 붕괴 모의 수행(2차원 해석) | D24: ='비상대처계획(적용수량)'!K24 -> 0 | E24: ='비상대처계획(적용수량)'!B24 -> 10㎞ | G24: =I24+K24+M24 -> 0 | J24: ='일위대가5(비상대처계획)'!J162 -> 0 | K24: =J24*D24 -> 0 | N24: 산근6-16
B25: ='비상대처계획(적용수량)'!A25 -> ⑨ 홍수범람도 작성 | D25: ='비상대처계획(적용수량)'!K25 -> 0 | E25: ='비상대처계획(적용수량)'!B25 -> 50km2 | G25: =I25+K25+M25 -> 0 | J25: ='일위대가5(비상대처계획)'!J171 -> 0 | K25: =J25*D25 -> 0 | N25: 산근6-17
B26: ='비상대처계획(적용수량)'!A26 -> ⑩ 주요지점별 홍수해석 결과 분석 | D26: ='비상대처계획(적용수량)'!K26 -> 0 | E26: ='비상대처계획(적용수량)'!B26 -> 10㎞ | G26: =I26+K26+M26 -> 0 | J26: ='일위대가5(비상대처계획)'!J182 -> 0 | K26: =J26*D26 -> 0 | N26: 산근6-18
B27: ='비상대처계획(적용수량)'!A27 -> 라. 비상상황 관리 | G27: =I27+K27+M27 -> #REF! | K27: =SUM(K28:K31) -> #REF!
B28: ='비상대처계획(적용수량)'!A28 -> 1) 비상상황시 정보취득 및 보고방법 | D28: ='비상대처계획(적용수량)'!K28 -> 0.9 | E28: ='비상대처계획(적용수량)'!B28 -> 1개소 | G28: =I28+K28+M28 -> 522653.4 | J28: ='일위대가5(비상대처계획)'!J191 -> 580726 | K28: =J28*D28 -> 522653.4 | N28: 산근6-19
B29: ='비상대처계획(적용수량)'!A29 -> 2) 비상대응기관의 책임과 의무 | D29: ='비상대처계획(적용수량)'!K29 -> 0.9 | E29: ='비상대처계획(적용수량)'!B29 -> 1개소 | G29: =I29+K29+M29 -> 592914.6 | J29: ='일위대가5(비상대처계획)'!J202 -> 658794 | K29: =J29*D29 -> 592914.6 | N29: 산근6-20
B30: ='비상대처계획(적용수량)'!A30 -> 3) 비상발령절차 및 상황관리체계 | D30: ='비상대처계획(적용수량)'!K30 -> 0.9 | E30: ='비상대처계획(적용수량)'!B30 -> 1개소 | G30: =I30+K30+M30 -> 3872024.1 | J30: ='일위대가5(비상대처계획)'!J211 -> 4302249 | K30: =J30*D30 -> 3872024.1 | N30: 산근6-21
B31: ='비상대처계획(적용수량)'!A31 -> 4) 유관기관 협조체계 | D31: ='비상대처계획(적용수량)'!K31 -> #REF! | E31: ='비상대처계획(적용수량)'!B31 -> 1개소 | G31: =I31+K31+M31 -> #REF! | J31: ='일위대가5(비상대처계획)'!J222 -> 658794 | K31: =J31*D31 -> #REF! | N31: 산근6-22
B32: ='비상대처계획(적용수량)'!A32 -> 마. 응급조치 계획 | G32: =I32+K32+M32 -> 28178067 | I32: =SUM(I33:I42) -> 0 | K32: =SUM(K33:K38) -> 28178067 | M32: =SUM(M33:M42) -> 0
B33: ='비상대처계획(적용수량)'!A33 -> 1) 현장조사(대피장소, 대피경로 등) | D33: ='비상대처계획(적용수량)'!K33 -> 0.9 | E33: ='비상대처계획(적용수량)'!B33 -> 100km2 | G33: =I33+K33+M33 -> 1923384.6 | J33: ='일위대가5(비상대처계획)'!J231 -> 2137094 | K33: =J33*D33 -> 1923384.6 | N33: 산근6-23
B34: ='비상대처계획(적용수량)'!A34 -> 2) 주민대피 | D34: ='비상대처계획(적용수량)'!K34 -> 0.9 | E34: ='비상대처계획(적용수량)'!B34 -> 1개소 | G34: =I34+K34+M34 -> 7876404.9 | J34: ='일위대가5(비상대처계획)'!J242 -> 8751561 | K34: =J34*D34 -> 7876404.9 | N34: 산근6-24
B35: ='비상대처계획(적용수량)'!A35 -> 3) 대체도로, 긴급통신, 비상급수 | D35: ='비상대처계획(적용수량)'!K35 -> 0.9 | E35: ='비상대처계획(적용수량)'!B35 -> 1개소 | G35: =I35+K35+M35 -> 5720254.2 | J35: ='일위대가5(비상대처계획)'!J251 -> 6355838 | K35: =J35*D35 -> 5720254.2 | N35: 산근6-25
B36: ='비상대처계획(적용수량)'!A36 -> 4) 긴급 구조·구급 | D36: ='비상대처계획(적용수량)'!K36 -> 0.9 | E36: ='비상대처계획(적용수량)'!B36 -> 1개소 | G36: =I36+K36+M36 -> 2333357.1 | J36: ='일위대가5(비상대처계획)'!J262 -> 2592619 | K36: =J36*D36 -> 2333357.1 | N36: 산근6-26
B37: ='비상대처계획(적용수량)'!A37 -> 5) 유발재난 및 2차피해 방지 | D37: ='비상대처계획(적용수량)'!K37 -> 0.9 | E37: ='비상대처계획(적용수량)'!B37 -> 1개소 | G37: =I37+K37+M37 -> 5717456.1 | J37: ='일위대가5(비상대처계획)'!J271 -> 6352729 | K37: =J37*D37 -> 5717456.1 | N37: 산근6-27
B38: ='비상대처계획(적용수량)'!A38 -> 6) 시설물 응급복구 | D38: ='비상대처계획(적용수량)'!K38 -> 0.9 | E38: ='비상대처계획(적용수량)'!B38 -> 1개소 | G38: =I38+K38+M38 -> 4607209.8 | J38: ='일위대가5(비상대처계획)'!J282 -> 5119122 | K38: =J38*D38 -> 4607209.8 | N38: 산근6-28
B39: ='비상대처계획(적용수량)'!A39 -> 마. 재해구호 및 지역안정 계획 | G39: =I39+K39+M39 -> 26254680 | K39: =SUM(K40:K44) -> 26254680
B40: ='비상대처계획(적용수량)'!A40 -> 1) 이재민수용관리 | D40: ='비상대처계획(적용수량)'!K40 -> 0.9 | E40: ='비상대처계획(적용수량)'!B40 -> 1개소 | G40: =I40+K40+M40 -> 7876404.9 | J40: ='일위대가5(비상대처계획)'!J291 -> 8751561 | K40: =J40*D40 -> 7876404.9 | N40: 산근6-29
B41: ='비상대처계획(적용수량)'!A41 -> 2) 구호물자 접수·배분 및 생필품 공급 | D41: ='비상대처계획(적용수량)'!K41 -> 0.9 | E41: ='비상대처계획(적용수량)'!B41 -> 1개소 | G41: =I41+K41+M41 -> 5250935.7 | J41: ='일위대가5(비상대처계획)'!J302 -> 5834373 | K41: =J41*D41 -> 5250935.7 | N41: 산근6-30
B42: ='비상대처계획(적용수량)'!A42 -> 3) 의료·청소·방역 활동 | D42: ='비상대처계획(적용수량)'!K42 -> 0.9 | E42: ='비상대처계획(적용수량)'!B42 -> 1개소 | G42: =I42+K42+M42 -> 6563671.2 | J42: ='일위대가5(비상대처계획)'!J311 -> 7292968 | K42: =J42*D42 -> 6563671.2 | N42: 산근6-31
B43: ='비상대처계획(적용수량)'!A43 -> 4) 사회질서 유지 등 지역안정 | D43: ='비상대처계획(적용수량)'!K43 -> 0.9 | E43: ='비상대처계획(적용수량)'!B43 -> 1개소 | G43: =I43+K43+M43 -> 3938201.1 | J43: ='일위대가5(비상대처계획)'!J322 -> 4375779 | K43: =J43*D43 -> 3938201.1 | N43: 산근6-32
B44: ='비상대처계획(적용수량)'!A44 -> 5) 자원봉사활동 | D44: ='비상대처계획(적용수량)'!K44 -> 0.9 | E44: ='비상대처계획(적용수량)'!B44 -> 1개소 | G44: =I44+K44+M44 -> 2625467.4 | J44: ='일위대가5(비상대처계획)'!J331 -> 2917186 | K44: =J44*D44 -> 2625467.4 | N44: 산근6-33
B45: ='비상대처계획(적용수량)'!A45 -> 사. EAP 실습 및 훈련 | G45: =I45+K45+M45 -> 14585934 | K45: =SUM(K46:K47) -> 14585934 | M45: =SUM(M46:M51) -> 0
B46: ='비상대처계획(적용수량)'!A46 -> 1) 훈련계획 | D46: ='비상대처계획(적용수량)'!K46 -> 1 | E46: ='비상대처계획(적용수량)'!B46 -> 1개소 | G46: =I46+K46+M46 -> 8751561 | J46: ='일위대가5(비상대처계획)'!J342 -> 8751561 | K46: =J46*D46 -> 8751561 | N46: 산근6-34
B47: ='비상대처계획(적용수량)'!A47 -> 2) 훈련 메시지 작성 | D47: ='비상대처계획(적용수량)'!K47 -> 1 | E47: ='비상대처계획(적용수량)'!B47 -> 1개소 | G47: =I47+K47+M47 -> 5834373 | J47: ='일위대가5(비상대처계획)'!J351 -> 5834373 | K47: =J47*D47 -> 5834373 | N47: 산근6-35
B48: ='비상대처계획(적용수량)'!A48 -> 아. 결론 및 보고서 작성 | G48: =I48+K48+M48 -> 8440864.9 | K48: =SUM(K49:K51) -> 8440864.9
B49: ='비상대처계획(적용수량)'!A49 -> 1) EAP 보고서 작성 | D49: ='비상대처계획(적용수량)'!K49 -> 0.322 | E49: ='비상대처계획(적용수량)'!B49 -> 10㎞ | G49: =I49+K49+M49 -> 579926.83 | J49: ='일위대가5(비상대처계획)'!J362 -> 1801015 | K49: =J49*D49 -> 579926.83 | N49: 산근6-36
B50: ='비상대처계획(적용수량)'!A50 -> 2) 하류부 영향평가 및 비상대처계획 수립 | D50: ='비상대처계획(적용수량)'!K50 -> 0.322 | E50: ='비상대처계획(적용수량)'!B50 -> 10㎞ | G50: =I50+K50+M50 -> 1498017.4 | J50: ='일위대가5(비상대처계획)'!J371 -> 4652228 | K50: =J50*D50 -> 1498017.4 | N50: 산근6-37
B51: ='비상대처계획(적용수량)'!A51 -> 3) 비상대처계획도 작성 | D51: ='비상대처계획(적용수량)'!K51 -> 0.322 | E51: ='비상대처계획(적용수량)'!B51 -> 10㎞ | G51: =I51+K51+M51 -> 6362920.6 | J51: ='일위대가5(비상대처계획)'!J382 -> 19760623 | K51: =J51*D51 -> 6362920.6 | N51: 산근6-38
B52: 2. 직접경비 | G52: =I52+K52+M52 -> 7744000 | M52: =SUM(M53,M54,M55) -> 7744000
B53: 가. 인쇄비 | D53: 1 | E53: 식 | G53: =I53+K53+M53 -> 4900000 | L53: ='비상대처계획(직접경비)'!F23 -> 4900000 | M53: =D53*L53 -> 4900000 | N53: 산근6-39
B54: 나. 출장비 | D54: 1 | E54: 식 | G54: =I54+K54+M54 -> 1534000 | L54: ='비상대처계획(직접경비)'!F3 -> 1534000 | M54: =D54*L54 -> 1534000 | N54: 산근6-40
B55: 다. 자문비 | G55: =I55+K55+M55 -> 1310000 | M55: =SUM(M56:M57) -> 1310000
B56: 1) 자문비 | D56: 1 | E56: 식 | G56: =I56+K56+M56 -> 810000 | L56: ='비상대처계획(직접경비)'!F32 -> 810000 | M56: =D56*L56 -> 810000 | N56: 산근6-41
B57: 2) 설명회개최 | D57: 1 | E57: 식 | G57: =I57+K57+M57 -> 500000 | L57: ='비상대처계획(직접경비)'!F37 -> 500000 | M57: =D57*L57 -> 500000 | N57: 산근6-42

Sheet 일위대가5(비상대처계획)
A1: 공 종 | B1: 규 격 | C1: 수량 | D1: 단위 | E1: 총 액 | G1: 재 료 비 | I1: 노 무 비 | K1: 경 비 | M1: 비 고 | N1: 댐.저수지포함 | P1: 기준소요인력 적용비율 | R1: 100 | S1: % (총용역비 적용)
E2: 단 가 | F2: 금 액 | G2: 단 가 | H2: 금 액 | I2: 단 가 | J2: 금 액 | K2: 단 가 | L2: 금 액 | N2: 댐.저수지미포함 | P2: 기준소요인력 적용비율 | R2: 0 | S2: % (총용역비 적용)
A3: <산근 5-1> 작업계획
A4: 기 술 사 | C4: ='비상대처계획(기준소요인력)'!D5 -> 1 | D4: 인 | E4: =G4+I4+K4 -> 467217 | F4: =H4+J4+L4 -> 467217 | I4: ='산근3 노임'!B5 -> 467217 | J4: =INT(I4*C4) -> 467217
A5: 특급기술자 | C5: ='비상대처계획(기준소요인력)'!E5 -> 2.5 | D5: 인 | E5: =G5+I5+K5 -> 373353 | F5: =H5+J5+L5 -> 933382 | I5: ='산근3 노임'!B6 -> 373353 | J5: =INT(I5*C5) -> 933382
A6: 고급기술자 | C6: ='비상대처계획(기준소요인력)'!F5 -> 2.5 | D6: 인 | E6: =G6+I6+K6 -> 310884 | F6: =H6+J6+L6 -> 777210 | I6: ='산근3 노임'!B7 -> 310884 | J6: =INT(I6*C6) -> 777210 | P6: 일위대가 반영비율
A7: 중급기술자 | C7: ='비상대처계획(기준소요인력)'!G5 -> 2.5 | D7: 인 | E7: =G7+I7+K7 -> 295138 | F7: =H7+J7+L7 -> 737845 | I7: ='산근3 노임'!B8 -> 295138 | J7: =INT(I7*C7) -> 737845 | P7: 가. 작업계획 수립 | S7: =$R$1/100 -> 1 | T7: =S7*100 -> 100
A8: 초급기술자 | C8: ='비상대처계획(기준소요인력)'!H5 -> 0 | D8: 인 | E8: =G8+I8+K8 -> 235459 | F8: =H8+J8+L8 -> 0 | I8: ='산근3 노임'!B9 -> 235459 | J8: =INT(I8*C8) -> 0 | P8: 나. 사업개요 | S8: =$R$1/100 -> 1 | T8: =S8*100 -> 100
A9: 중급기능사 | C9: ='비상대처계획(기준소요인력)'!I5 -> 0 | D9: 인 | E9: =G9+I9+K9 -> 250087 | F9: =H9+J9+L9 -> 0 | I9: ='산근3 노임'!B11 -> 250087 | J9: =INT(I9*C9) -> 0 | P9: 다. 하류부 영향 평가 | S9: =$R$2/100 -> 0 | T9: =S9*100 -> 0
A10: 계 | F10: =H10+J10+L10 -> 2915654 | J10: =SUM(J4:J9) -> 2915654 | P10: 라. 비상상황 관리 | S10: =$R$1/100 -> 1 | T10: =S10*100 -> 100
A11: 적용 | B11: =$S$7 -> 1 | E11: =F11 -> 2915654 | F11: =H11+J11+L11 -> 2915654 | J11: =TRUNC(J10*$S$7,0) -> 2915654 | P11: 마. 응급조치 계획 | S11: =$R$1/100 -> 1 | T11: =S11*100 -> 100
P12: 바. 지해구호 및 지역안정 계획 | S12: =$R$1/100 -> 1 | T12: =S12*100 -> 100
A13: <산근 5-2> EAP 기본정보 및 댐저수지 일반정보 | P13: 사. EAP 실습 및 훈련 | S13: =$R$1/100 -> 1 | T13: =S13*100 -> 100
A14: 기 술 사 | C14: ='비상대처계획(기준소요인력)'!D7 -> 0.48 | D14: 인 | E14: =G14+I14+K14 -> 467217 | F14: =H14+J14+L14 -> 224264 | I14: =$I$4 -> 467217 | J14: =INT(I14*C14) -> 224264 | P14: 아. 결론 및 보고서 작성 | S14: =$R$1/100 -> 1 | T14: =S14*100 -> 100
A15: 특급기술자 | C15: ='비상대처계획(기준소요인력)'!E7 -> 0.72 | D15: 인 | E15: =G15+I15+K15 -> 373353 | F15: =H15+J15+L15 -> 268814 | I15: =$I$5 -> 373353 | J15: =INT(I15*C15) -> 268814
A16: 고급기술자 | C16: ='비상대처계획(기준소요인력)'!F7 -> 1.22 | D16: 인 | E16: =G16+I16+K16 -> 310884 | F16: =H16+J16+L16 -> 379278 | I16: =$I$6 -> 310884 | J16: =INT(I16*C16) -> 379278
A17: 중급기술자 | C17: ='비상대처계획(기준소요인력)'!G7 -> 1.22 | D17: 인 | E17: =G17+I17+K17 -> 295138 | F17: =H17+J17+L17 -> 360068 | I17: =$I$7 -> 295138 | J17: =INT(I17*C17) -> 360068
A18: 초급기술자 | C18: ='비상대처계획(기준소요인력)'!H7 -> 1.61 | D18: 인 | E18: =G18+I18+K18 -> 235459 | F18: =H18+J18+L18 -> 379088 | I18: =$I$8 -> 235459 | J18: =INT(I18*C18) -> 379088
A19: 중급기능사 | C19: ='비상대처계획(기준소요인력)'!I7 -> 0 | D19: 인 | E19: =G19+I19+K19 -> 250087 | F19: =H19+J19+L19 -> 0 | I19: =$I$9 -> 250087 | J19: =INT(I19*C19) -> 0
A20: 계 | F20: =H20+J20+L20 -> 1611512 | J20: =SUM(J14:J19) -> 1611512
A21: 적용 | B21: =$S$8 -> 1 | E21: =F21 -> 1611512 | F21: =H21+J21+L21 -> 1611512 | J21: =TRUNC(J20*$S$8,0) -> 1611512
A23: <산근 5-3> EAP 배포기관
A24: 기 술 사 | C24: ='비상대처계획(기준소요인력)'!D8 -> 0.12 | D24: 인 | E24: =G24+I24+K24 -> 467217 | F24: =H24+J24+L24 -> 56066 | I24: =$I$4 -> 467217 | J24: =INT(I24*C24) -> 56066
A25: 특급기술자 | C25: ='비상대처계획(기준소요인력)'!E8 -> 0.18 | D25: 인 | E25: =G25+I25+K25 -> 373353 | F25: =H25+J25+L25 -> 67203 | I25: =$I$5 -> 373353 | J25: =INT(I25*C25) -> 67203
A26: 고급기술자 | C26: ='비상대처계획(기준소요인력)'!F8 -> 0.31 | D26: 인 | E26: =G26+I26+K26 -> 310884 | F26: =H26+J26+L26 -> 96374 | I26: =$I$6 -> 310884 | J26: =INT(I26*C26) -> 96374
A27: 중급기술자 | C27: ='비상대처계획(기준소요인력)'!G8 -> 0.31 | D27: 인 | E27: =G27+I27+K27 -> 295138 | F27: =H27+J27+L27 -> 91492 | I27: =$I$7 -> 295138 | J27: =INT(I27*C27) -> 91492
A28: 초급기술자 | C28: ='비상대처계획(기준소요인력)'!H8 -> 0.4 | D28: 인 | E28: =G28+I28+K28 -> 235459 | F28: =H28+J28+L28 -> 94183 | I28: =$I$8 -> 235459 | J28: =INT(I28*C28) -> 94183
A29: 중급기능사 | C29: ='비상대처계획(기준소요인력)'!I8 -> 0 | D29: 인 | E29: =G29+I29+K29 -> 250087 | F29: =H29+J29+L29 -> 0 | I29: =$I$9 -> 250087 | J29: =INT(I29*C29) -> 0
A30: 계 | F30: =H30+J30+L30 -> 405318 | J30: =SUM(J24:J29) -> 405318
A31: 적용 | B31: =$S$8 -> 1 | E31: =F31 -> 405318 | F31: =H31+J31+L31 -> 405318 | J31: =TRUNC(J30*$S$8,0) -> 405318
A34: <산근 5-4> EAP 작성, 보완 및 갱신
A35: 기 술 사 | C35: ='비상대처계획(기준소요인력)'!D9 -> 0.24 | D35: 인 | E35: =G35+I35+K35 -> 467217 | F35: =H35+J35+L35 -> 112132 | I35: =$I$4 -> 467217 | J35: =INT(I35*C35) -> 112132
A36: 특급기술자 | C36: ='비상대처계획(기준소요인력)'!E9 -> 0.36 | D36: 인 | E36: =G36+I36+K36 -> 373353 | F36: =H36+J36+L36 -> 134407 | I36: =$I$5 -> 373353 | J36: =INT(I36*C36) -> 134407
A37: 고급기술자 | C37: ='비상대처계획(기준소요인력)'!F9 -> 0.61 | D37: 인 | E37: =G37+I37+K37 -> 310884 | F37: =H37+J37+L37 -> 189639 | I37: =$I$6 -> 310884 | J37: =INT(I37*C37) -> 189639
A38: 중급기술자 | C38: ='비상대처계획(기준소요인력)'!G9 -> 0.61 | D38: 인 | E38: =G38+I38+K38 -> 295138 | F38: =H38+J38+L38 -> 180034 | I38: =$I$7 -> 295138 | J38: =INT(I38*C38) -> 180034
A39: 초급기술자 | C39: ='비상대처계획(기준소요인력)'!H9 -> 0.81 | D39: 인 | E39: =G39+I39+K39 -> 235459 | F39: =H39+J39+L39 -> 190721 | I39: =$I$8 -> 235459 | J39: =INT(I39*C39) -> 190721
A40: 중급기능사 | C40: ='비상대처계획(기준소요인력)'!I9 -> 0 | D40: 인 | E40: =G40+I40+K40 -> 250087 | F40: =H40+J40+L40 -> 0 | I40: =$I$9 -> 250087 | J40: =INT(I40*C40) -> 0
A41: 계 | F41: =H41+J41+L41 -> 806933 | J41: =SUM(J35:J40) -> 806933
A42: 적용 | B42: =$S$8 -> 1 | E42: =F42 -> 806933 | F42: =H42+J42+L42 -> 806933 | J42: =TRUNC(J41*$S$8,0) -> 806933
A43: <산근 5-5> 하류부 하천 및 유역 개요
A44: 기 술 사 | C44: ='비상대처계획(기준소요인력)'!D11 -> 1.35 | D44: 인 | E44: =G44+I44+K44 -> 467217 | F44: =H44+J44+L44 -> 630742 | I44: =$I$4 -> 467217 | J44: =INT(I44*C44) -> 630742
A45: 특급기술자 | C45: ='비상대처계획(기준소요인력)'!E11 -> 2.18 | D45: 인 | E45: =G45+I45+K45 -> 373353 | F45: =H45+J45+L45 -> 813909 | I45: =$I$5 -> 373353 | J45: =INT(I45*C45) -> 813909
A46: 고급기술자 | C46: ='비상대처계획(기준소요인력)'!F11 -> 2.65 | D46: 인 | E46: =G46+I46+K46 -> 310884 | F46: =H46+J46+L46 -> 823842 | I46: =$I$6 -> 310884 | J46: =INT(I46*C46) -> 823842
A47: 중급기술자 | C47: ='비상대처계획(기준소요인력)'!G11 -> 3.1 | D47: 인 | E47: =G47+I47+K47 -> 295138 | F47: =H47+J47+L47 -> 914927 | I47: =$I$7 -> 295138 | J47: =INT(I47*C47) -> 914927
A48: 초급기술자 | C48: ='비상대처계획(기준소요인력)'!H11 -> 1.98 | D48: 인 | E48: =G48+I48+K48 -> 235459 | F48: =H48+J48+L48 -> 466208 | I48: =$I$8 -> 235459 | J48: =INT(I48*C48) -> 466208
A49: 중급기능사 | C49: ='비상대처계획(기준소요인력)'!I11 -> 1.43 | D49: 인 | E49: =G49+I49+K49 -> 250087 | F49: =H49+J49+L49 -> 357624 | I49: =$I$9 -> 250087 | J49: =INT(I49*C49) -> 357624
A50: 계 | F50: =H50+J50+L50 -> 4007252 | J50: =SUM(J44:J49) -> 4007252
A51: 적용 | B51: =$S$9 -> 0 | E51: =F51 -> 0 | F51: =H51+J51+L51 -> 0 | J51: =TRUNC(J50*$S$9,0) -> 0
A54: <산근 5-6> 관련자료 조사검토
A55: 기 술 사 | C55: ='비상대처계획(기준소요인력)'!D13 -> 0.96 | D55: 인 | E55: =G55+I55+K55 -> 467217 | F55: =H55+J55+L55 -> 448528 | I55: =$I$4 -> 467217 | J55: =INT(I55*C55) -> 448528
A56: 특급기술자 | C56: ='비상대처계획(기준소요인력)'!E13 -> 1.44 | D56: 인 | E56: =G56+I56+K56 -> 373353 | F56: =H56+J56+L56 -> 537628 | I56: =$I$5 -> 373353 | J56: =INT(I56*C56) -> 537628
A57: 고급기술자 | C57: ='비상대처계획(기준소요인력)'!F13 -> 3.21 | D57: 인 | E57: =G57+I57+K57 -> 310884 | F57: =H57+J57+L57 -> 997937 | I57: =$I$6 -> 310884 | J57: =INT(I57*C57) -> 997937
A58: 중급기술자 | C58: ='비상대처계획(기준소요인력)'!G13 -> 3.61 | D58: 인 | E58: =G58+I58+K58 -> 295138 | F58: =H58+J58+L58 -> 1065448 | I58: =$I$7 -> 295138 | J58: =INT(I58*C58) -> 1065448
A59: 초급기술자 | C59: ='비상대처계획(기준소요인력)'!H13 -> 4.01 | D59: 인 | E59: =G59+I59+K59 -> 235459 | F59: =H59+J59+L59 -> 944190 | I59: =$I$8 -> 235459 | J59: =INT(I59*C59) -> 944190
A60: 중급기능사 | C60: ='비상대처계획(기준소요인력)'!I13 -> 0 | D60: 인 | E60: =G60+I60+K60 -> 250087 | F60: =H60+J60+L60 -> 0 | I60: =$I$9 -> 250087 | J60: =INT(I60*C60) -> 0
A61: 계 | F61: =H61+J61+L61 -> 3993731 | J61: =SUM(J55:J60) -> 3993731
A62: 적용 | B62: =$S$9 -> 0 | E62: =F62 -> 0 | F62: =H62+J62+L62 -> 0 | J62: =TRUNC(J61*$S$9,0) -> 0
A63: <산근 5-7> 수문학적 안전성 평가
A64: 기 술 사 | C64: ='비상대처계획(기준소요인력)'!D14 -> 1.66 | D64: 인 | E64: =G64+I64+K64 -> 467217 | F64: =H64+J64+L64 -> 775580 | I64: =$I$4 -> 467217 | J64: =INT(I64*C64) -> 775580
A65: 특급기술자 | C65: ='비상대처계획(기준소요인력)'!E14 -> 2.88 | D65: 인 | E65: =G65+I65+K65 -> 373353 | F65: =H65+J65+L65 -> 1075256 | I65: =$I$5 -> 373353 | J65: =INT(I65*C65) -> 1075256
A66: 고급기술자 | C66: ='비상대처계획(기준소요인력)'!F14 -> 4.4 | D66: 인 | E66: =G66+I66+K66 -> 310884 | F66: =H66+J66+L66 -> 1367889 | I66: =$I$6 -> 310884 | J66: =INT(I66*C66) -> 1367889
A67: 중급기술자 | C67: ='비상대처계획(기준소요인력)'!G14 -> 4.4 | D67: 인 | E67: =G67+I67+K67 -> 295138 | F67: =H67+J67+L67 -> 1298607 | I67: =$I$7 -> 295138 | J67: =INT(I67*C67) -> 1298607
A68: 초급기술자 | C68: ='비상대처계획(기준소요인력)'!H14 -> 3.3 | D68: 인 | E68: =G68+I68+K68 -> 235459 | F68: =H68+J68+L68 -> 777014 | I68: =$I$8 -> 235459 | J68: =INT(I68*C68) -> 777014
A69: 중급기능사 | C69: ='비상대처계획(기준소요인력)'!I14 -> 1.38 | D69: 인 | E69: =G69+I69+K69 -> 250087 | F69: =H69+J69+L69 -> 345120 | I69: =$I$9 -> 250087 | J69: =INT(I69*C69) -> 345120
A70: 계 | F70: =H70+J70+L70 -> 5639466 | J70: =SUM(J64:J69) -> 5639466
A71: 적용 | B71: =$S$9 -> 0 | E71: =F71 -> 0 | F71: =H71+J71+L71 -> 0 | J71: =TRUNC(J70*B71,0) -> 0
A74: <산근 5-8> 내진 안전성 평가
A75: 기 술 사 | C75: ='비상대처계획(기준소요인력)'!D15 -> 0.9 | D75: 인 | E75: =G75+I75+K75 -> 467217 | F75: =H75+J75+L75 -> 420495 | I75: =$I$4 -> 467217 | J75: =INT(I75*C75) -> 420495
A76: 특급기술자 | C76: ='비상대처계획(기준소요인력)'!E15 -> 3.5 | D76: 인 | E76: =G76+I76+K76 -> 373353 | F76: =H76+J76+L76 -> 1306735 | I76: =$I$5 -> 373353 | J76: =INT(I76*C76) -> 1306735
A77: 고급기술자 | C77: ='비상대처계획(기준소요인력)'!F15 -> 3.8 | D77: 인 | E77: =G77+I77+K77 -> 310884 | F77: =H77+J77+L77 -> 1181359 | I77: =$I$6 -> 310884 | J77: =INT(I77*C77) -> 1181359
A78: 중급기술자 | C78: ='비상대처계획(기준소요인력)'!G15 -> 3 | D78: 인 | E78: =G78+I78+K78 -> 295138 | F78: =H78+J78+L78 -> 885414 | I78: =$I$7 -> 295138 | J78: =INT(I78*C78) -> 885414
A79: 초급기술자 | C79: ='비상대처계획(기준소요인력)'!H15 -> 1.7 | D79: 인 | E79: =G79+I79+K79 -> 235459 | F79: =H79+J79+L79 -> 400280 | I79: =$I$8 -> 235459 | J79: =INT(I79*C79) -> 400280
A80: 중급기능사 | C80: ='비상대처계획(기준소요인력)'!I15 -> 1 | D80: 인 | E80: =G80+I80+K80 -> 250087 | F80: =H80+J80+L80 -> 250087 | I80: =$I$9 -> 250087 | J80: =INT(I80*C80) -> 250087
A81: 계 | F81: =H81+J81+L81 -> 4444370 | J81: =SUM(J75:J80) -> 4444370
A82: 적용 | B82: =$S$9 -> 0 | E82: =F82 -> 0 | F82: =H82+J82+L82 -> 0 | J82: =TRUNC(J81*B82,0) -> 0
A83: <산근 5-9> 기초자료 조사
