Workbook

Sheet 공종별집계표
A1: 공 종 별 집 계 표
A2: [ 현곡면 무과지구 농촌공간정비사업 철거공사(축산분뇨폐기물처리비) ]
A3: 품 명 | B3: 규 격 | C3: 단위 | D3: 수량 | E3: 재 료 비 | G3: 노 무 비 | I3: 경 비 | K3: 합 계 | M3: 비 고 | N3: 공종코드 | O3: 변수 | P3: 상위공종 | Q3: 공종구분 | R3: 공종레벨 | S3: 공종소계 | T3: 원가계산서 연결금액
E4: 단 가 | F4: 금 액 | G4: 단 가 | H4: 금 액 | I4: 단 가 | J4: 금 액 | K4: 단 가 | L4: 금 액
A5: 현곡면 무과지구 농촌공간정비사업 철거공사(축산분뇨폐기물처리비) | D5: 1 | E5: =F6+F7+F8+F9 -> 0 | F5: =E5*D5 -> 0 | G5: =H6+H7+H8+H9 -> 0 | H5: =G5*D5 -> 0 | I5: =J6+J7+J8+J9+J10 -> 96815000 | J5: =I5*D5 -> 96815000 | K5: =E5+G5+I5 -> 96815000 | L5: =F5+H5+J5 -> 96815000 | N5: 01 | R5: 1
A6: 축사1동-(축사 A,B,C,D동) | D6: 1 | E6: =공종별내역서!F27 -> 0 | F6: =E6*D6 -> 0 | G6: =공종별내역서!H27 -> 0 | H6: =G6*D6 -> 0 | I6: =공종별내역서!J27 -> 63434580 | J6: =I6*D6 -> 63434580 | K6: =E6+G6+I6 -> 63434580 | L6: =F6+H6+J6 -> 63434580 | N6: 0101 | P6: 01 | R6: 2
A7: 축사2동-(축사E동) | D7: 1 | E7: =공종별내역서!F51 -> 0 | F7: =E7*D7 -> 0 | G7: =공종별내역서!H51 -> 0 | H7: =G7*D7 -> 0 | I7: =공종별내역서!J51 -> 19869300 | J7: =I7*D7 -> 19869300 | K7: =E7+G7+I7 -> 19869300 | L7: =F7+H7+J7 -> 19869300 | N7: 0102 | P7: 01 | R7: 2
A8: 축사3동-(축사F,G동) | D8: 1 | E8: =공종별내역서!F75 -> 0 | F8: =E8*D8 -> 0 | G8: =공종별내역서!H75 -> 0 | H8: =G8*D8 -> 0 | I8: =공종별내역서!J75 -> 4709760 | J8: =I8*D8 -> 4709760 | K8: =E8+G8+I8 -> 4709760 | L8: =F8+H8+J8 -> 4709760 | N8: 0103 | P8: 01 | R8: 2
A9: 단위절하 | D9: 1 | E9: =공종별내역서!F99 -> 0 | F9: =E9*D9 -> 0 | G9: =공종별내역서!H99 -> 0 | H9: =G9*D9 -> 0 | I9: =공종별내역서!L78 -> -4 | J9: =I9*D9 -> -4 | K9: =E9+G9+I9 -> -4 | L9: =F9+H9+J9 -> -4 | N9: 0104 | P9: 01 | R9: 2
A10: 부가가치세 (10%) | D10: 1 | I10: =공종별내역서!L77 -> 8801363.6 | J10: =I10*D10 -> 8801363.6 | K10: =E10+G10+I10 -> 8801363.6 | L10: =F10+H10+J10 -> 8801363.6
A27: [ 합 계 ] | F27: =F5 -> 0 | H27: =H5 -> 0 | J27: =J5 -> 96815000 | L27: =L5 -> 96815000

Sheet 공종별내역서
A1: [ 현곡면 무과지구 농촌공간정비사업 철거공사(축산분뇨폐기물처리비) ]
A2: 품 명 | B2: 규 격 | C2: 단위 | D2: 수량 | E2: 재 료 비 | G2: 노 무 비 | I2: 경 비 | K2: 합 계 | M2: 비 고 | N2: 품목코드 | O2: 변수 | P2: 설정 | Q2: 공종코드 | R2: 일위 | S2: 단산 | T2: 자재 | U2: 손료적용 | V2: 손료저장 | W2: 적용율 | X2: JUK1 | Y2: JUK2 | Z2: JUK3 | AA2: JUK4 | AB2: JUK5 | AC2: JUK6 | AD2: JUK7 | AE2: JUK8 | AF2: JUK9 | AG2: JUK10 | AH2: JUK11 | AI2: JUK12 | AJ2: JUK13 | AK2: JUK14 | AL2: JUK15 | AM2: JUK16 | AN2: JUK17 | AO2: JUK18 | AP2: JUK19 | AQ2: JUK20 | AR2: 자재구분 | AS2: 공종구분 | AT2: 공종레벨 | AU2: 공종+자재 | AV2: 고유번호
E3: 단 가 | F3: 금 액 | G3: 단 가 | H3: 금 액 | I3: 단 가 | J3: 금 액 | K3: 단 가 | L3: 금 액
A4: 축사1동-(축사 A,B,C,D동) | Q4: 0101
A5: 동물성 잔재물 | B5: 축산분뇨 | C5: TON | D5: 431 | E5: =TRUNC(단가대비표!O5,0) -> 0 | F5: =TRUNC(E5*D5, 0) -> 0 | G5: =TRUNC(단가대비표!P5,0) -> 0 | H5: =TRUNC(G5*D5, 0) -> 0 | I5: =TRUNC(단가대비표!V5,0) -> 126840 | J5: =TRUNC(I5*D5, 0) -> 54668040 | K5: =TRUNC(E5+G5+I5, 0) -> 126840 | L5: =TRUNC(F5+H5+J5, 0) -> 54668040 | N5: 59FD25D00E5670095E345F4370FB6865897076 | Q5: 0101 | R5: F | S5: F | T5: T | AU5: 010159FD25D00E5670095E345F4370FB6865897076 | AV5: 232
A6: 건설폐재류 상차 및 운반비 | B6: 24톤 덤프트럭, 30km | C6: TON | D6: 431 | E6: =TRUNC(단가대비표!O6,0) -> 0 | F6: =TRUNC(E6*D6, 0) -> 0 | G6: =TRUNC(단가대비표!P6,0) -> 0 | H6: =TRUNC(G6*D6, 0) -> 0 | I6: =TRUNC(단가대비표!V6,0) -> 20340 | J6: =TRUNC(I6*D6, 0) -> 8766540 | K6: =TRUNC(E6+G6+I6, 0) -> 20340 | L6: =TRUNC(F6+H6+J6, 0) -> 8766540 | N6: 59FD25D00E5670095E345F4370E91AA5380A37 | Q6: 0101 | R6: F | S6: F | T6: T | AU6: 010159FD25D00E5670095E345F4370E91AA5380A37 | AV6: 26
Q7: 0101
Q8: 0101
Q9: 0101
Q10: 0101
Q11: 0101
Q12: 0101
Q13: 0101
Q14: 0101
Q15: 0101
Q16: 0101
Q17: 0101
Q18: 0101
... Q26: 0101
A27: [ 합 계 ] | F27: =SUMIF(Q5:Q26,"0101",F5:F26) -> 0 | H27: =SUMIF(Q5:Q26,"0101",H5:H26) -> 0 | J27: =SUMIF(Q5:Q26,"0101",J5:J26) -> 63434580 | L27: =SUMIF(Q5:Q26,"0101",L5:L26) -> 63434580 | N27: TOTAL
A28: 축사2동-(축사E동) | Q28: 0102
A29: 동물성 잔재물 | B29: 축산분뇨 | C29: TON | D29: 135 | E29: =TRUNC(단가대비표!O5,0) -> 0 | F29: =TRUNC(E29*D29, 0) -> 0 | G29: =TRUNC(단가대비표!P5,0) -> 0 | H29: =TRUNC(G29*D29, 0) -> 0 | I29: =TRUNC(단가대비표!V5,0) -> 126840 | J29: =TRUNC(I29*D29, 0) -> 17123400 | K29: =TRUNC(E29+G29+I29, 0) -> 126840 | L29: =TRUNC(F29+H29+J29, 0) -> 17123400 | N29: 59FD25D00E5670095E345F4370FB6865897076 | Q29: 0102 | R29: F | S29: F | T29: T | AU29: 010259FD25D00E5670095E345F4370FB6865897076 | AV29: 234
A30: 건설폐재류 상차 및 운반비 | B30: 24톤 덤프트럭, 30km | C30: TON | D30: 135 | E30: =TRUNC(단가대비표!O6,0) -> 0 | F30: =TRUNC(E30*D30, 0) -> 0 | G30: =TRUNC(단가대비표!P6,0) -> 0 | H30: =TRUNC(G30*D30, 0) -> 0 | I30: =TRUNC(단가대비표!V6,0) -> 20340 | J30: =TRUNC(I30*D30, 0) -> 2745900 | K30: =TRUNC(E30+G30+I30, 0) -> 20340 | L30: =TRUNC(F30+H30+J30, 0) -> 2745900 | N30: 59FD25D00E5670095E345F4370E91AA5380A37 | Q30: 0102 | R30: F | S30: F | T30: T | AU30: 010259FD25D00E5670095E345F4370E91AA5380A37 | AV30: 221
Q31: 0102
Q32: 0102
Q33: 0102
Q34: 0102
Q35: 0102
Q36: 0102
Q37: 0102
Q38: 0102
Q39: 0102
Q40: 0102
Q41: 0102
Q42: 0102
... Q50: 0102
A51: [ 합 계 ] | F51: =SUMIF(Q29:Q50,"0102",F29:F50) -> 0 | H51: =SUMIF(Q29:Q50,"0102",H29:H50) -> 0 | J51: =SUMIF(Q29:Q50,"0102",J29:J50) -> 19869300 | L51: =SUMIF(Q29:Q50,"0102",L29:L50) -> 19869300 | N51: TOTAL
A52: 축사3동-(축사F,G동) | Q52: 0103
A53: 동물성 잔재물 | B53: 축산분뇨 | C53: TON | D53: 32 | E53: =TRUNC(단가대비표!O5,0) -> 0 | F53: =TRUNC(E53*D53, 0) -> 0 | G53: =TRUNC(단가대비표!P5,0) -> 0 | H53: =TRUNC(G53*D53, 0) -> 0 | I53: =TRUNC(단가대비표!V5,0) -> 126840 | J53: =TRUNC(I53*D53, 0) -> 4058880 | K53: =TRUNC(E53+G53+I53, 0) -> 126840 | L53: =TRUNC(F53+H53+J53, 0) -> 4058880 | N53: 59FD25D00E5670095E345F4370FB6865897076 | Q53: 0103 | R53: F | S53: F | T53: T | AU53: 010359FD25D00E5670095E345F4370FB6865897076 | AV53: 236
A54: 건설폐재류 상차 및 운반비 | B54: 24톤 덤프트럭, 30km | C54: TON | D54: 32 | E54: =TRUNC(단가대비표!O6,0) -> 0 | F54: =TRUNC(E54*D54, 0) -> 0 | G54: =TRUNC(단가대비표!P6,0) -> 0 | H54: =TRUNC(G54*D54, 0) -> 0 | I54: =TRUNC(단가대비표!V6,0) -> 20340 | J54: =TRUNC(I54*D54, 0) -> 650880 | K54: =TRUNC(E54+G54+I54, 0) -> 20340 | L54: =TRUNC(F54+H54+J54, 0) -> 650880 | N54: 59FD25D00E5670095E345F4370E91AA5380A37 | Q54: 0103 | R54: F | S54: F | T54: T | AU54: 010359FD25D00E5670095E345F4370E91AA5380A37 | AV54: 78
...

Sheet 일위대가목록
B1: 일 위 대 가 목 록
B2: [ 현곡면 무과지구 농촌공간정비사업 철거공사(분뇨폐기물처리비) ]
A3: 코 드 | B3: 품 명 | C3: 규 격 | D3: 단위 | E3: 재 료 비 | F3: 노 무 비 | G3: 경 비 | H3: 합 계 | I3: 번 호 | J3: 비 고 | K3: 노임계수 | L3: 할증 | M3: 품셈개요 | N3: 장비일위

Sheet 일위대가
A1: [ 현곡면 무과지구 농촌공간정비사업 철거공사(분뇨폐기물처리비) ]
A2: 품 명 | B2: 규 격 | C2: 단위 | D2: 수량 | E2: 재 료 비 | G2: 노 무 비 | I2: 경 비 | K2: 합 계 | M2: 비 고 | N2: 일위대가 | O2: 품목코드 | P2: 일위 | Q2: 단산 | R2: 자재 | S2: 손료적용 | T2: 손료저장 | U2: 적용율 | V2: JUK1 | W2: JUK2 | X2: JUK3 | Y2: JUK4 | Z2: JUK5 | AA2: JUK6 | AB2: JUK7 | AC2: JUK8 | AD2: JUK9 | AE2: JUK10 | AF2: JUK11 | AG2: JUK12 | AH2: JUK13 | AI2: JUK14 | AJ2: JUK15 | AK2: JUK16 | AL2: JUK17 | AM2: JUK18 | AN2: JUK19 | AO2: JUK20 | AP2: 할증적용 | AQ2: 할증저장 | AR2: 할증율 | AS2: HAL1 | AT2: HAL2 | AU2: HAL3 | AV2: 자재구분 | AW2: 일위대가+자재 | AX2: 장비일위 | AY2: 설정 | AZ2: 할증체크
E3: 단 가 | F3: 금 액 | G3: 단 가 | H3: 금 액 | I3: 단 가 | J3: 금 액 | K3: 단 가 | L3: 금 액
A4: ( )

Sheet 단가산출목록
B1: 단 가 산 출 목 록
B2: [ 현곡면 무과지구 농촌공간정비사업 철거공사(분뇨폐기물처리비) ]
A3: 코 드 | B3: 품 명 | C3: 규 격 | D3: 단위 | E3: 재 료 비 | F3: 노 무 비 | G3: 경 비 | H3: 합 계 | I3: 번 호 | J3: 비 고 | K3: START | L3: 품셈개요

Sheet 단가산출서
A1: 단 가 산 출 서
A2: [ 현곡면 무과지구 농촌공간정비사업 철거공사(분뇨폐기물처리비) ]
A3: 산 출 내 역 | B3: 재 료 비 | C3: 노 무 비 | D3: 경 비 | E3: 합 계 | F3: 비 고 | G3: START | H3: 코드 | I3: 품명 | J3: 규격 | K3: 단위 | L3: 수량 | M3: 변수 | N3: 값 | O3: 소계 | P3: 소계 | Q3: 소계 | R3: 소계 | S3: 소계 | T3: 총계
A4: ( )
A6: 총 계 | E6: 0

Sheet 단가대비표
A1: 단 가 대 비 표
A2: [ 현곡면 무과지구 농촌공간정비사업 철거공사(분뇨폐기물처리비) ]
A3: 코 드 | B3: 품 명 | C3: 규격 | D3: 단위 | E3: 재 료 비 | P3: 노 무 비 | Q3: 경 비 | W3: 번 호 | X3: 비 고 | Y3: 품목구분 | Z3: 노임구분 | AA3: 소수점처리 | AB3: 자재구분
E4: 조달청가격 | F4: PAGE | G4: 거래가격 | H4: PAGE | I4: 유통물가 | J4: PAGE | K4: 조사가격1 | L4: PAGE | M4: 조사가격2 | N4: PAGE | O4: 적용단가 | Q4: 조달청가격 | R4: 거래가격 | S4: 유통물가 | T4: 조사가격1 | U4: 조사가격2 | V4: 적용단가
A5: 59FD25D00E5670095E345F4370FB6865897076 | B5: 동물성 잔재물 | C5: 축산분뇨 | D5: TON | E5: 0 | G5: 0 | I5: 0 | K5: 0 | M5: 0 | O5: 0 | P5: 0 | Q5: 0 | R5: 0 | S5: 0 | T5: 0 | U5: 126840 | V5: =SMALL(Q5:U5,COUNTIF(Q5:U5,0)+1) -> 126840 | W5: 자재 1 | Y5: C
A6: 59FD25D00E5670095E345F4370E91AA5380A37 | B6: 건설폐재류 상차 및 운반비 | C6: 24톤 덤프트럭, 30km | D6: TON | E6: 0 | G6: 0 | I6: 0 | K6: 0 | M6: 0 | N6: 1586 | O6: 0 | P6: 0 | Q6: 0 | R6: 0 | S6: 0 | T6: 0 | U6: 20340 | V6: =SMALL(Q6:U6,COUNTIF(Q6:U6,0)+1) -> 20340 | W6: 자재 2 | Y6: C
A7: 580B059DDE59715914F220CC77D5
A8: 580B059DDE59715914F220CC77C5

Sheet  공사설정 
A1: 이 Sheet는 수정하지 마십시요
A2: 공사구분 | B2: A | C2: 타이틀
A3: 확정내역 | B3: 원내역
A4: 자재단가적용 | B4: 5
A5: 경비단가적용 | B5: 5
A6: 품목코드형식 | B6: XXXX-XXXX-XXXXXXXXX
A7: 내역금액소수점처리 | B7: C | C7: T
A8: 일위대가내역소수점처리 | B8: C | C8: 2
A9: 단가명 | B9: 조달청가격 | C9: 거래가격 | D9: 유통물가 | E9: 조사가격1 | F9: 조사가격2 | G9: TTTTT
A10: 환율 | B10: 1472 | C10: 0 | D10: 0
A11: 시간당작업량 | B11: R | C11: 4
A12: 1회 사이클시간 | B12: R | C12: 4
A13: 시간당 작업사이클 | B13: R | C13: 3
A14: 일반변수 | B14: R | C14: 5
A15: 시간당 노임산출 계수 | B15: A | C15: 1/8*16/12*25/20 | D15: 1/8*16/12*25/20 | E15: 1/8*16/12*25/20 | F15: 1
A16: 재료비 할증 계수 | B16: 1.11 | C16: 1.12
A17: 노무비 할증 계수 | B17: 1 | C17: 1.5 | D17: 1.16 | E17: 1.6 | F17: 1.6 | G17: 1.6 | H17: 1.94 | I17: 1.94 | J17: 1.94 | K17: 1 | L17: 1 | M17: 1
A18: 경비 할증 계수 | B18: 1.25 | C18: 1.071
A19: 내역,일위대가 품명,규격,단위 따로적용
A20: 내역단가 소수점처리 | B20: C | C20: 1
A21: 코드 | B21: 공종구분명 | C21: 원가비목코드
A22: 1 | B22: 작 업 부 산 물 | C22: A3
A23: 2 | B23: 운 반 비 | C23: C1
A24: 3 | B24: 관 급 자 재 비 | C24: DJ
A25: 4 | B25: 사 급 자 재 비 | C25: D3
A26: 5 | B26: 완 제 품
A27: 6 | B27: 건설폐기물처리비
A28: 7 | B28: 공통 가설 공사
A29: 8 | B29: 품질관리비
A30: 9 | B30: 건진법안전관리비
A43: 단가 순서 | B43: 1234

Sheet Sheet1
