Workbook

Sheet 표지
A1: 설 계 년월일 | B1: 2026년 10월 | C1: 설계자 | D1: 심사자 | E1: 팀장 | F1: 과장
A5: □ 공사명 : 대평경로당 내진보강공사(건축, 기계)
A7: ▣ 공 사 개 요 : 기존 공공건축물의 내진성능 확보
A8: ▣ 공 사 금 액
B9: 공 급 가 액 : | C9: 금삼억사천이백이십일만원(금342,210,000원)
B10: 부가가치세 | C10: 금삼천사백이십이만일천원(금34,221,000원)
B11: 총 공 사 비 : | C11: 금삼억칠천육백사십삼만일천원(금376,431,000원)

Sheet 원가계산서
B1: 공 사 원 가 계 산 서
B2: 공사명 : 대평경로당 내진보강공사(건축, 기계) | F2: 금액 : 삼억칠천육백사십삼만일천원(￦376,431,000)
B3: 비 목 | E3: 금 액 | F3: 구 성 비 | G3: 비 고
A4: A1 | B4: 순 공 사 원 가 | C4: 재 료 비 | D4: 직 접 재 료 비
A5: A2 | D5: 간 접 재 료 비
A6: A3 | D6: 작업설, 부산물(△)
A7: AS | D7: [ 소 계 ]
A8: B1 | C8: 노 무 비 | D8: 직 접 노 무 비
A9: B2 | D9: 간 접 노 무 비
A10: BS | D10: [ 소 계 ]
A11: C2 | C11: 경 비 | D11: 경 비
A12: C4 | D12: 산 재 보 험 료
A13: C5 | D13: 고 용 보 험 료
A14: C6 | D14: 국민 건강 보험료 | E14: 2554789
A15: C7 | D15: 국민 연금 보험료 | E15: 3375591
A16: C8 | D16: 퇴직 공제 부금비 | E16: 1634496
A17: CA | D17: 산업안전보건관리비 | E17: 7432573
A18: CB | D18: 노인장기요양보험료 | E18: 335699
A19: CD | D19: 석 면 분 담 금 | E19: =TRUNC(E10*0.00006, 0) -> 0
A20: CC | D20: 임 금 채 권 부담금 | E20: =TRUNC(E10*0.0009, 0) -> 0
A21: CG | D21: 기 타 경 비 | E21: =TRUNC((E7+E10)*0.05, 0) -> 0
A22: CH | D22: 환 경 보 전 비 | E22: =TRUNC((E7+E8+E11)*0.003, 0) -> 0
A23: CK | D23: 하도급지급보증수수료 | E23: =TRUNC((E7+E8+E11)*0.00081, 0) -> 0
A24: CL | D24: 건설기계대여금지급보증서발급수수료
A25: CS | D25: [ 소 계 ]
A26: S1 | B26: 계
A27: D1 | B27: 일 반 관 리 비
A28: D2 | B28: 이 윤
A29: D4 | B29: 폐 기 물 처 리 비
A30: D5 | B30: 기 술 사 용 료
A31: D9 | B31: 공 급 가 액
A32: DB | B32: 부 가 가 치 세
A33: DH | B33: 도 급 액
A34: S2 | B34: 총 공 사 비

Sheet 공종별집계표
A1: 공 종 별 집 계 표
A2: [ 대평경로당 내진보강공사(건축, 기계) ]
A3: 품 명 | B3: 규 격 | C3: 단위 | D3: 수량 | E3: 재 료 비 | G3: 노 무 비 | I3: 경 비 | K3: 합 계 | M3: 비 고 | N3: 공종코드 | O3: 변수 | P3: 상위공종 | Q3: 공종구분 | R3: 공종레벨 | S3: 공종소계 | T3: 원가계산서 연결금액
E4: 단 가 | F4: 금 액 | G4: 단 가 | H4: 금 액 | I4: 단 가 | J4: 금 액 | K4: 단 가 | L4: 금 액
A5: 대평경로당 내진보강공사 | D5: 1 | N5: 01 | R5: 1
A6: ■ 건 축 공 사 | D6: 1 | N6: 0101 | P6: 01 | R6: 2
A7: 가 설 공 사 | D7: 1 | N7: 010101 | P7: 0101 | R7: 3
A8: 조적,방수,타일공사 | D8: 1 | N8: 010102 | P8: 0101 | R8: 3
A9: 벽체 보강 공사 | D9: 1 | N9: 010103 | P9: 0101 | R9: 3
A10: 창호및유리공사 | D10: 1 | N10: 010104 | P10: 0101 | R10: 3
A11: 도 장 공 사 | D11: 1 | N11: 010105 | P11: 0101 | R11: 3
A12: 수 장 공 사 | D12: 1 | N12: 010106 | P12: 0101 | R12: 3
A13: 철 거 공 사 | D13: 1 | N13: 010107 | P13: 0101 | R13: 3
A14: ■ 건설폐기물처리비 | D14: 1 | N14: 0102 | Q14: 6 | R14: 2 | T14: =L14*1 -> 0
A15: ■ 구조보강공사 | D15: 1 | N15: 0103 | P15: 01 | R15: 2
A16: ■ 기술 사용료 | D16: 1 | N16: 0104 | Q16: 7 | R16: 2 | T16: =L16*1 -> 0
A17: ■ 설 비 공 사 | D17: 1 | N17: 0105 | P17: 01 | R17: 2
A27: [ 합 계 ] | F27: =F5 -> 0 | H27: =H5 -> 0 | J27: =J5 -> 0 | L27: =L5 -> 0

Sheet 공종별내역서
A1: [ 대평경로당 내진보강공사(건축, 기계) ]
A2: 품 명 | B2: 규 격 | C2: 단위 | D2: 수량 | E2: 재 료 비 | G2: 노 무 비 | I2: 경 비 | K2: 합 계 | M2: 비 고 | N2: 품목코드 | O2: 변수 | P2: 설정 | Q2: 공종코드 | R2: 일위 | S2: 단산 | T2: 자재 | U2: 손료적용 | V2: 손료저장 | W2: 적용율 | X2: JUK1 | Y2: JUK2 | Z2: JUK3 | AA2: JUK4 | AB2: JUK5 | AC2: JUK6 | AD2: JUK7 | AE2: JUK8 | AF2: JUK9 | AG2: JUK10 | AH2: JUK11 | AI2: JUK12 | AJ2: JUK13 | AK2: JUK14 | AL2: JUK15 | AM2: JUK16 | AN2: JUK17 | AO2: JUK18 | AP2: JUK19 | AQ2: JUK20 | AR2: 자재구분 | AS2: 공종구분 | AT2: 공종레벨 | AU2: 공종+자재 | AV2: 고유번호
E3: 단 가 | F3: 금 액 | G3: 단 가 | H3: 금 액 | I3: 단 가 | J3: 금 액 | K3: 단 가 | L3: 금 액
A4: 가 설 공 사 | Q4: 010101
A5: 콘테이너형 가설사무소 설치 및 해체 | B5: 3.0*6.0m, 3개월 | C5: 개소 | D5: 1 | N5: 5AF6065C7561090535B73D6EC0963C | Q5: 010101 | R5: T | S5: F | T5: F | AU5: 0101015AF6065C7561090535B73D6EC0963C | AV5: 6
A6: 강관 조립말비계(이동식)설치 및 해체 | B6: 높이 2m, 3개월 | C6: 대 | D6: 1 | N6: 5AF6065FC8510990398E906502BA95 | Q6: 010101 | R6: T | S6: F | T6: F | AU6: 0101015AF6065FC8510990398E906502BA95 | AV6: 4
A7: 시스템비계(발판2열) 10m 이하. | B7: 3개월 | C7: m2 | D7: 179 | N7: 5AF6065C745109B123076168A6F631 | Q7: 010101 | R7: T | S7: F | T7: F | AU7: 0101015AF6065C745109B123076168A6F631 | AV7: 105
A8: 가설칸막이 설치및해체 | B8: 샌드위치판넬 50T | C8: M2 | D8: 145 | N8: 5AF6065A480109A99D755668BFF914 | Q8: 010101 | R8: T | S8: F | T8: F | AU8: 0101015AF6065A480109A99D755668BFF914 | AV8: 8
A9: 인접건물 지붕 보양 | C9: M2 | D9: 19 | N9: 5AF6065A480109A99D755668BFF916 | Q9: 010101 | R9: T | S9: F | T9: F | AU9: 0101015AF6065A480109A99D755668BFF916 | AV9: 10
A10: 건축물 현장정리 | C10: M2 | D10: 124 | N10: 5AF6065A480109A99D4818699F5FF9 | Q10: 010101 | R10: T | S10: F | T10: F | AU10: 0101015AF6065A480109A99D4818699F5FF9 | AV10: 7
A11: 준공청소 | C11: M2 | D11: 124 | N11: 5AF6065A4D8109F67C08996BABC7FD | Q11: 010101 | R11: T | S11: F | T11: F | AU11: 0101015AF6065A4D8109F67C08996BABC7FD | AV11: 11
A12: 집기 이동 | C12: M2 | D12: 195 | N12: 5AF6065A4D8109F67C08996BABC7FC | Q12: 010101 | R12: T | S12: F | T12: F | AU12: 0101015AF6065A4D8109F67C08996BABC7FC | AV12: 12
A13: 외벽마감 장비대 | B13: 크레인+고소작업차 | C13: 식 | D13: 1 | N13: 5AF6065A480109A99D755668BFF917 | Q13: 010101 | R13: T | S13: F | T13: F | AU13: 0101015AF6065A480109A99D755668BFF917 | AV13: 9
Q14: 010101
Q15: 010101
Q16: 010101
Q17: 010101
Q18: 010101
Q19: 010101
Q20: 010101
Q21: 010101
Q22: 010101
Q23: 010101
Q24: 010101
Q25: 010101
Q26: 010101
A27: [ 합 계 ] | N27: TOTAL
A28: 조적,방수,타일공사 | Q28: 010102
A29: 도기질타일 떠붙이기(바탕 24mm) | B29: 벽, 400*250(백색줄눈) | C29: M2 | D29: 4 | N29: 5AF6C6AE7FE10954A066F16501FC39 | Q29: 010102 | R29: T | S29: F | T29: F | AU29: 0101025AF6C6AE7FE10954A066F16501FC39 | AV29: 20
A30: 시멘트 액체방수 | B30: 벽 | C30: M2 | D30: 3 | N30: 5AF69673EA51096A6050936D90667B | Q30: 010102 | R30: T | S30: F | T30: F | AU30: 0101025AF69673EA51096A6050936D90667B | AV30: 109
A31: 외벽판넬하부조적받침 설치 | B31: 0.5B, H=100 | C31: M | D31: 7 | N31: 5AF6762C65B109BEE0A2866E93CAA5 | Q31: 010102 | R31: T | S31: F | T31: F | AU31: 0101025AF6762C65B109BEE0A2866E93CAA5 | AV31: 14
A32: 시멘트 | B32: 40KG | C32: 포 | D32: 2 | N32: 5DDA7621FF4109515ECB4D6DC71933BAC10F43 | Q32: 010102 | R32: F | S32: F | T32: T | AU32: 0101025DDA7621FF4109515ECB4D6DC71933BAC10F43 | AV32: 119
A33: 모래 | B33: 도착도 | C33: M3 | D33: 1 | N33: 5DF546F4C741095CD35D6065D2D56DDDB772E8 | Q33: 010102 | R33: F | S33: F | T33: T | AU33: 0101025DF546F4C741095CD35D6065D2D56DDDB772E8 | AV33: 107
Q34: 010102
Q35: 010102
Q36: 010102
Q37: 010102
Q38: 010102
Q39: 010102
Q40: 010102
...

Sheet 공종별집계표(구조)
A1: 대평경로당 내진보강공사
A2: 공 종 명 | B2: 규 격 | C2: 단위 | D2: 수량 | E2: 재 료 비 | G2: 노 무 비 | I2: 경 비 | K2: 합 계 | M2: 비 고
A4: =A1 -> 대평경로당 내진보강공사
A5: ='내역서(구조)'!A5 -> 1. ECO 외부 철골프레임 내진보강공사 | C5: 식 | D5: 1
A6: ='내역서(구조)'!A27 -> 2. ECO 내부 철골프레임 내진보강공사 | C6: 식 | D6: 1
A7: ='내역서(구조)'!A38 -> 3. 일반공법-철판보강공사 | C7: 식 | D7: 1
A14: 직접공사비계
D30: 32

Sheet 내역서(구조)
A1: ='공종별집계표(구조)'!A1 -> 대평경로당 내진보강공사
A2: 공 종 명 | B2: 규 격 | C2: 단위 | D2: 수량 | E2: 재 료 비 | G2: 노 무 비 | I2: 경 비 | K2: 합 계 | M2: 비고
E3: 단 가 | F3: 금 액 | G3: 단 가 | H3: 금 액 | I3: 단 가 | J3: 금 액 | K3: 단 가 | L3: 금 액
A4: ='공종별집계표(구조)'!A1 -> 대평경로당 내진보강공사
A5: 1. ECO 외부 철골프레임 내진보강공사
A6: 철골프레임세우기 | B6: 보통 | C6: TON | D6: 2.768
A7: 베이스플레이트 설치 | B7: 잡철물, 제품/일반 | C7: TON | D7: 0.663
A8: 케미칼앵커볼트 설치 | B8: M16, L=300 | C8: EA | D8: 216
A9: 접합부 현장용접 | B9: 0 | C9: M | D9: 17.1
A10: 고장력볼트조임 | B10: 30TON미만 | C10: TON | D10: =D6 -> 2.768
A11: 철근가공 및 조립 | B11: TYPE-1 | C11: TON | D11: 0.235
A12: 거푸집설치 | B12: 합판/2회/소규모 | C12: M2 | D12: 6.5
A13: 콘크리트 타설 | B13: 0 | C13: 회 | D13: 1
A14: 몰탈주입(그라우팅) | B14: 인력 | C14: M3 | D14: 1.6
A15: 케미칼앵커 설치 | B15: Φ13 | C15: EA | D15: 16
A16: 케미칼앵커 설치 | B16: Φ22 | C16: EA | D16: 16
A17: 철골가공 및 조립 | B17: 제작포함 | C17: TON | D17: 0.117
A18: 콘크리트 치핑 | B18: 0 | C18: M2 | D18: 12.8
A19: ECO 외부부착 철골프레임 | B19: 294*200 TYPE, 내화도료 미포함 | C19: M | D19: 33.3
A20: 이형철근 | B20: HD10 | C20: TON | D20: 0.06
A21: 이형철근 | B21: HD13 | C21: TON | D21: 0.008
A22: 이형철근 | B22: HD22 | C22: TON | D22: 0.174
A23: 레미콘 | B23: 25-24-18 | C23: M3 | D23: 2
A24: H-BEAM | B24: 각종,SM355 | C24: TON | D24: 0.123
A25: 평판트레일러 | B25: 4OTON | C25: HR | D25: 8
A27: 2. ECO 내부 철골프레임 내진보강공사
A28: 철골프레임세우기 | B28: 보통 | C28: TON | D28: 1.679
A29: 베이스플레이트 설치 | B29: 잡철물, 제품/일반 | C29: TON | D29: 0.396
A30: 케미칼앵커볼트 설치 | B30: M16, L=250 | C30: EA | D30: 192
A31: 접합부 현장용접 | B31: 0 | C31: M | D31: 14.4
A32: 고장력볼트조임 | B32: 30TON미만 | C32: TON | D32: =D28 -> 1.679
A33: 몰탈주입(그라우팅) | B33: 인력 | C33: M3 | D33: 0.7
A34: 콘크리트 치핑 | B34: 0 | C34: M2 | D34: 6.6
A35: ECO 내부 철골프레임 | B35: 150*150 TYPE, 내화도료 미포함 | C35: M | D35: 37.8
A36: 평판트레일러 | B36: 4OTON | C36: HR | D36: 8
A38: 3. 일반공법-철판보강공사
A39: 철판보강 바탕만들기 | B39: 0 | C39: M2 | D39: 1.9
A40: 각종 잡철물 설치 | B40: 철재,규격철물 | C40: TON | D40: 0.089
A41: 강판 | B41: SM355, 4.5T | C41: TON | D41: 0.098
A42: 웨지앵커 설치 | B42: M12/150MM | C42: EA | D42: 24
...

Sheet 집계표(기계)
A1: 집 계 표
A2: 공 사 명 : 영도구 대평동 경로당 내진보강 기계설비공사
A3: 품 명 | B3: 규 격 | C3: 단위 | D3: 수량 | E3: 재 료 비 | G3: 노 무 비 | I3: 경 비 | K3: 합 계 | M3: 비고
E4: 단가 | F4: 금액 | G4: 단가 | H4: 금액 | I4: 단가 | J4: 금액 | K4: 단가 | L4: 금액
A5: 01 영도구 대평동 경로당 내진보강 (기계) | D5: 1
A6: ='내역서(기계)'!A4 -> 0101. 기계설비공사 | D6: 1
A7: ='내역서(기계)'!A31 -> 0102. 배관철거공사 | D7: 1
A29: [ 합 계 ] | F29: =F5 -> 0 | H29: =H5 -> 0 | J29: =J5 -> 0 | L29: =F29+H29+J29 -> 0
A30: End Of File(Ver 6.0)
A31: 마지막열은 지우지 마시오

Sheet 내역서(기계)
A1: ='집계표(기계)'!A2 -> 공 사 명 : 영도구 대평동 경로당 내진보강 기계설비공사
A2: 품 명 | B2: 규 격 | C2: 단위 | D2: 수량 | E2: 재 료 비 | G2: 노 무 비 | I2: 경 비 | K2: 합 계 | M2: 비고
E3: 단가 | F3: 금액 | G3: 단가 | H3: 금액 | I3: 단가 | J3: 금액 | K3: 단가 | L3: 금액
A4: 0101. 기계설비공사
A5: 백강관(배관용KSD3507) | B5: K.S 20A | C5: M | D5: 13.4
A6: 백엘보 | B6: K.S 나사 20A | C6: EA | D6: 3
A7: 백소켓 | B7: 20A | C7: EA | D7: 2
A8: 강관 나사접합 | B8: 20A | C8: 개소 | D8: 6
A9: 스파이럴덕트 | B9: D200*0.5T | C9: M | D9: 1
A10: 스파이럴덕트보온 | B10: 아틸론 보온 THK10 | C10: M | D10: 0.5
A11: 후렉시블호스(공조용) | B11: AL.200A,보온용 | C11: M당 | D11: 1
A12: 후렉시블호스(공조용) | B12: AL.200A,비보온용 | C12: M당 | D12: 1
A13: 스텐밴드 | B13: 200A | C13: EA | D13: 4
A14: 후드캡 | B14: 200A | C14: EA | D14: 2
A15: PVC스리브설치-벽체용 | B15: D200 | C15: 개소 | D15: 2
A16: 브라켓트(일반) | B16: 20A | C16: EA | D16: 8
... A21: 잡자재비 | B21: 관의 3% | C21: 식 | D21: 1
A22: 소계
A23: 공임 | B23: 배관공 | C23: 인 | D23: 1
B24: 보통인부 | C24: 인 | D24: 1
B25: 덕트공공 | C25: 인 | D25: 1
A26: 공구손료 | B26: 공임의 2% | C26: 식 | D26: 1
A27: 소계
A30: [ 합 계 ]
A31: 0102. 배관철거공사
A32: 백강관 철거 | B32: K.S 20A | C32: M | D32: 12.2
A33: 소계
A57: [ 합 계 ]
A58: A,B행과 마지막열은 지우지 마시오
