Workbook
Name database2: #REF!
Name database2: #REF!
Name HH: [1]정부노임단가!$A$5:$F$215
Name JH: [2]정부노임단가!$A$5:$F$215
Name JJ: [3]정부노임단가!$A$5:$F$215
Name KK: [2]정부노임단가!$A$5:$F$215
Name ㅗ50: [4]연습!#REF!
Name ㅗ50: [4]연습!#REF!

Sheet 건축원가
A1: 공사명 : 새마을운동중앙연수원 생활관 환경개선(리모델링)
A2: 비 목 | D2: 금 액 | G2: 구 성 비 | N2: 비 고
A3: 순 공 사 원 가 | B3: 재료비 | C3: 직 접 재 료 비
C4: 간 접 재 료 비
C5: 작 업 설 , 부 산 물 등 (△)
C6: [ 소 계 ]
B7: 노무비 | C7: 직 접 노 무 비
C8: 간 접 노 무 비 | G8: 직접노무비 | H8: × | I8: 0.174
C9: [ 소 계 ]
B10: 경 비 | C10: 산 출 경 비
C11: 품 질 관 리 비
C12: 안 전 관 리 비
C13: 건 설 폐 기 물 처 리 비 (100톤 미만)
C14: 산 재 보 험 료 | G14: 노무비 | H14: × | I14: 0.0356
C15: 고 용 보 험 료 | G15: 노무비 | H15: × | I15: 0.0101
C16: 건 강 보 험 료 | G16: 직접노무비 | H16: × | I16: 0.03595
C17: 연 금 보 험 료 | G17: 직접노무비 | H17: × | I17: 0.0475
C18: 노 인 장 기 요 양 보 험 료 | G18: 건강보험료 | H18: × | I18: 0.1314
C19: 퇴 직 공 제 부 금 비 | G19: 직접노무비 | H19: × | I19: 0.023
C20: 산 업 안 전 보 건 관 리 비 | G20: (재+직노+관급) | H20: × | I20: 0.0228 | J20: + | K20: 4325000
C21: 기 타 경 비 | G21: (재료비+노무비) | H21: × | I21: 0.052
C22: 환 경 보 전 비 | G22: (재+직노+산출경비) | H22: × | I22: 0.003
C23: 공 사 이 행 보 증 수 수 료 | G23: 50000000000 | H23: × | I23: 0.00014 | J23: + | K23: 13500000 | L23: × | M23: 0
C24: 건설하도급대금지급보증서발급수수료 | G24: (재+직노+산출경비) | H24: × | I24: 0.00081
C25: 건설기계대여대금지급보증서발급수수료 | G25: (재+직노+산출경비) | H25: × | I25: 0.0007
C26: 석 면 분 담 금 | G26: 노무비 | H26: × | I26: 6e-05
C27: 임 금 채 권 부 담 금 | G27: 노무비 | H27: × | I27: 0.0009
C28: [ 소 계 ]
B29: 계
A30: 일 반 관 리 비 | G30: 순공사 | H30: × | I30: 0.08
A31: 이 윤 | G31: (노무비+경비+일관) | H31: × | I31: 0.15
A32: T . A . B
A33: 비 구 조 요 소 검 토 비
A34: 폐 기 물 처 리 비 ( 건 설 ) | N34: 100톤미만적용
A35: 정 기 안 전 점 검 비 | G35: (순공사+관급) | H35: ×
A36: 공 급 가 액
A37: 공 사 손 해 보 험 료 | G37: (공급가액+관급) | H37: × | P37: ← 공사손해보험료 : PQ공사, 대안입찰, 턴키입찰 0.25%
A38: 부 가 가 치 세 | G38: (공급가액) | H38: × | I38: 0.1
A39: [ 도 급 액 ]
A40: 관급자재비 | C40: 도급자 설치 | N40: 부가세포함 | P40: ← 산업안전보건관리비에 반영
C41: 관급자 설치 | N41: 부가세포함 | P41: ← 산업안전보건관리비에 반영 안함
C42: 소 계
A43: 시 설 분 담 금 | N43: 부가세포함 | P43: ← 토목(하수도인입비), 기계(도시가스인입비,중온수인입비,상수도인입비), 전기(한전불입금)
A44: 미 술 장 식 품 | N44: 부가세포함
A45: 각 종 인 증 비 | N45: 부가세포함
A46: [ 총 공 사 비 ]

Sheet 건설폐기물원가
A1: 공사명 : 새마을운동중앙연수원 생활관 환경개선(리모델링)
A2: 비 목 | D2: 금 액 | G2: 구 성 비 | N2: 비 고
A3: 순 공 사 원 가 | B3: 재료비 | C3: ='[5](01)건축원가'!C3 -> 직 접 재 료 비
C4: ='[5](01)건축원가'!C4 -> 간 접 재 료 비
C5: ='[5](01)건축원가'!C5 -> 작 업 설 , 부 산 물 등 (△)
C6: ='[5](01)건축원가'!C6 -> [ 소 계 ]
B7: 노무비 | C7: ='[5](01)건축원가'!C7 -> 직 접 노 무 비
C8: ='[5](01)건축원가'!C8 -> 간 접 노 무 비 | G8: 직접노무비 | H8: × | I8: 0.174
C9: ='[5](01)건축원가'!C9 -> [ 소 계 ]
B10: 경 비 | C10: ='[5](01)건축원가'!C10 -> 산 출 경 비
C11: ='[5](01)건축원가'!C14 -> 산 재 보 험 료 | G11: 노무비 | H11: × | I11: 0.0356
C12: ='[5](01)건축원가'!C15 -> 고 용 보 험 료 | G12: 노무비 | H12: × | I12: 0.0101
C13: ='[5](01)건축원가'!C16 -> 건 강 보 험 료 | G13: 직접노무비 | H13: × | I13: 0.03595
C14: ='[5](01)건축원가'!C17 -> 연 금 보 험 료 | G14: 직접노무비 | H14: × | I14: 0.0475
C15: ='[5](01)건축원가'!C18 -> 노 인 장 기 요 양 보 험 료 | G15: 건강보험료 | H15: × | I15: 0.1314
C16: ='[5](01)건축원가'!C19 -> 퇴 직 공 제 부 금 비 | G16: 직접노무비 | H16: × | I16: 0.023
C17: ='[5](01)건축원가'!C20 -> 산 업 안 전 보 건 관 리 비 | G17: (재+직노+관급) | H17: × | I17: 0.0228 | L17: 0 | M17: 0
C18: ='[5](01)건축원가'!C21 -> 기 타 경 비 | G18: (재료비+노무비) | H18: × | I18: 0.052
C19: ='[5](01)건축원가'!C22 -> 환 경 보 전 비 | G19: (재+직노+산출경비) | H19: × | I19: 0.003
C20: ='[5](01)건축원가'!C23 -> 공 사 이 행 보 증 수 수 료 | G20: (재+직노+산출경비) | H20: × | I20: 0.00014 | J20: ] | L20: × | M20: 0
C21: ='[5](01)건축원가'!C24 -> 건설하도급대금지급보증서발급수수료 | G21: (재+직노+산출경비) | H21: × | I21: 0.00081
C22: ='[5](01)건축원가'!C25 -> 건설기계대여대금지급보증서발급수수료 | G22: (재+직노+산출경비) | H22: × | I22: 0.0007
C23: ='[5](01)건축원가'!C28 -> [ 소 계 ]
B24: ='[5](01)건축원가'!B29:C29 -> 계
A25: ='[5](01)건축원가'!A30:C30 -> 일 반 관 리 비 | G25: 순공사 | H25: × | I25: 0.08
A26: ='[5](01)건축원가'!A31:C31 -> 이 윤 | G26: (노무비+경비+일관) | H26: × | I26: 0.15
A27: ='[5](01)건축원가'!A32:C32 -> T . A . B
A28: 건 설 폐 기 물 처 리 비(100톤 이상) | G28: (순공사+관급) | H28: × | I28: 0
A29: ='[5](01)건축원가'!A36:C36 -> 공 급 가 액
A30: ='[5](01)건축원가'!A37:C37 -> 공 사 손 해 보 험 료 | G30: (공급가액+관급) | H30: × | I30: 0
A31: ='[5](01)건축원가'!A38:C38 -> 부 가 가 치 세 | G31: (공급가액) | H31: × | I31: 0.1
A32: ='[5](01)건축원가'!A39:C39 -> [ 도 급 액 ]
A33: ='[5](01)건축원가'!A40 -> 관급자재비 | C33: ='[5](01)건축원가'!C40 -> 도급자 설치 | N33: ='[5](01)건축원가'!N40 -> 부가세포함
C34: ='[5](01)건축원가'!C41 -> 관급자 설치 | N34: ='[5](01)건축원가'!N41 -> 부가세포함
C35: ='[5](01)건축원가'!C42 -> 소 계
A36: ='[5](01)건축원가'!A43:C43 -> 시 설 분 담 금 | N36: ='[5](01)건축원가'!N43 -> 부가세포함 | P36: ← 토목(하수도인입비), 기계(도시가스인입비,중온수인입비,상수도인입비), 전기(한전불입금)
A37: ='[5](01)건축원가'!A44:C44 -> 미 술 장 식 품 | N37: ='[5](01)건축원가'!N44 -> 부가세포함
A38: ='[5](01)건축원가'!A45:C45 -> 각 종 인 증 비 | N38: ='[5](01)건축원가'!N45 -> 부가세포함
A39: ='[5](01)건축원가'!A46:C46 -> [ 총 공 사 비 ]

Sheet 공종별집계표
A1: 공 종 별 집 계 표
A2: [ ■.새마을운동중앙연수원 생활관 환경개선(리모델링) ]
A3: 품 명 | B3: 규 격 | C3: 단위 | D3: 수량 | E3: 재 료 비 | G3: 노 무 비 | I3: 경 비 | K3: 합 계 | M3: 비 고 | N3: 공종코드 | O3: 변수 | P3: 상위공종 | Q3: 공종구분 | R3: 공종레벨 | S3: 공종소계 | T3: 원가계산서 연결금액
E4: 단 가 | F4: 금 액 | G4: 단 가 | H4: 금 액 | I4: 단 가 | J4: 금 액 | K4: 단 가 | L4: 금 액
A5: ■.새마을운동중앙연수원 생활관 환경개선(리모델링) | D5: 1 | E5: =F6+F86+F87+F88 -> 0 | F5: =E5*D5 -> 0 | G5: =H6+H86+H87+H88 -> 0 | H5: =G5*D5 -> 0 | I5: =J6+J86+J87+J88 -> 0 | J5: =I5*D5 -> 0 | K5: =E5+G5+I5 -> 0 | L5: =F5+H5+J5 -> 0 | N5: 01 | R5: 1
A6: ■.건축공사 | D6: 1 | E6: =F7+F8+F28+F46+F64+F84 -> 0 | F6: =E6*D6 -> 0 | G6: =H7+H8+H28+H46+H64+H84 -> 0 | H6: =G6*D6 -> 0 | I6: =J7+J8+J28+J46+J64+J84 -> 0 | J6: =I6*D6 -> 0 | K6: =E6+G6+I6 -> 0 | L6: =F6+H6+J6 -> 0 | N6: 0101 | P6: 01 | R6: 2
A7: ◆.공통가설공사 | D7: 1 | E7: =공종별내역서!F29 -> 0 | F7: =E7*D7 -> 0 | G7: =공종별내역서!H29 -> 0 | H7: =G7*D7 -> 0 | I7: =공종별내역서!J29 -> 0 | J7: =I7*D7 -> 0 | K7: =E7+G7+I7 -> 0 | L7: =F7+H7+J7 -> 0 | N7: 010101 | P7: 0101 | R7: 3
A8: ◆.승강기#1 | D8: 1 | E8: =F9+F10+F11+F12+F13+F14+F15+F16+F17+F18+F19+F20+F21+F22+F23+F24+F25+F26+F27 -> 0 | F8: =E8*D8 -> 0 | G8: =H9+H10+H11+H12+H13+H14+H15+H16+H17+H18+H19+H20+H21+H22+H23+H24+H25+H26+H27 -> 0 | H8: =G8*D8 -> 0 | I8: =J9+J10+J11+J12+J13+J14+J15+J16+J17+J18+J19+J20+J21+J22+J23+J24+J25+J26+J27 -> 0 | J8: =I8*D8 -> 0 | K8: =E8+G8+I8 -> 0 | L8: =F8+H8+J8 -> 0 | N8: 010102 | P8: 0101 | R8: 3
A9: 가 설 공 사 | D9: 1 | E9: =공종별내역서!F55 -> 0 | F9: =E9*D9 -> 0 | G9: =공종별내역서!H55 -> 0 | H9: =G9*D9 -> 0 | I9: =공종별내역서!J55 -> 0 | J9: =I9*D9 -> 0 | K9: =E9+G9+I9 -> 0 | L9: =F9+H9+J9 -> 0 | N9: 01010201 | P9: 010102 | R9: 4
A10: 토 및 지정공사 | D10: 1 | E10: =공종별내역서!F81 -> 0 | F10: =E10*D10 -> 0 | G10: =공종별내역서!H81 -> 0 | H10: =G10*D10 -> 0 | I10: =공종별내역서!J81 -> 0 | J10: =I10*D10 -> 0 | K10: =E10+G10+I10 -> 0 | L10: =F10+H10+J10 -> 0 | N10: 01010202 | P10: 010102 | R10: 4
A11: 철근콘크리트공사 | D11: 1 | E11: =공종별내역서!F107 -> 0 | F11: =E11*D11 -> 0 | G11: =공종별내역서!H107 -> 0 | H11: =G11*D11 -> 0 | I11: =공종별내역서!J107 -> 0 | J11: =I11*D11 -> 0 | K11: =E11+G11+I11 -> 0 | L11: =F11+H11+J11 -> 0 | N11: 01010203 | P11: 010102 | R11: 4
A12: 철 골 공 사 | D12: 1 | E12: =공종별내역서!F133 -> 0 | F12: =E12*D12 -> 0 | G12: =공종별내역서!H133 -> 0 | H12: =G12*D12 -> 0 | I12: =공종별내역서!J133 -> 0 | J12: =I12*D12 -> 0 | K12: =E12+G12+I12 -> 0 | L12: =F12+H12+J12 -> 0 | N12: 01010204 | P12: 010102 | R12: 4
A13: 조 적 공 사 | D13: 1 | E13: =공종별내역서!F159 -> 0 | F13: =E13*D13 -> 0 | G13: =공종별내역서!H159 -> 0 | H13: =G13*D13 -> 0 | I13: =공종별내역서!J159 -> 0 | J13: =I13*D13 -> 0 | K13: =E13+G13+I13 -> 0 | L13: =F13+H13+J13 -> 0 | N13: 01010205 | P13: 010102 | R13: 4
A14: 돌 공 사 | D14: 1 | E14: =공종별내역서!F185 -> 0 | F14: =E14*D14 -> 0 | G14: =공종별내역서!H185 -> 0 | H14: =G14*D14 -> 0 | I14: =공종별내역서!J185 -> 0 | J14: =I14*D14 -> 0 | K14: =E14+G14+I14 -> 0 | L14: =F14+H14+J14 -> 0 | N14: 01010206 | P14: 010102 | R14: 4
A15: 수 장 공 사 | D15: 1 | E15: =공종별내역서!F211 -> 0 | F15: =E15*D15 -> 0 | G15: =공종별내역서!H211 -> 0 | H15: =G15*D15 -> 0 | I15: =공종별내역서!J211 -> 0 | J15: =I15*D15 -> 0 | K15: =E15+G15+I15 -> 0 | L15: =F15+H15+J15 -> 0 | N15: 01010207 | P15: 010102 | R15: 4
A16: 방 수 공 사 | D16: 1 | E16: =공종별내역서!F237 -> 0 | F16: =E16*D16 -> 0 | G16: =공종별내역서!H237 -> 0 | H16: =G16*D16 -> 0 | I16: =공종별내역서!J237 -> 0 | J16: =I16*D16 -> 0 | K16: =E16+G16+I16 -> 0 | L16: =F16+H16+J16 -> 0 | N16: 01010208 | P16: 010102 | R16: 4
A17: 금 속 공 사 | D17: 1 | E17: =공종별내역서!F263 -> 0 | F17: =E17*D17 -> 0 | G17: =공종별내역서!H263 -> 0 | H17: =G17*D17 -> 0 | I17: =공종별내역서!J263 -> 0 | J17: =I17*D17 -> 0 | K17: =E17+G17+I17 -> 0 | L17: =F17+H17+J17 -> 0 | N17: 01010209 | P17: 010102 | R17: 4
A18: 미 장 공 사 | D18: 1 | E18: =공종별내역서!F289 -> 0 | F18: =E18*D18 -> 0 | G18: =공종별내역서!H289 -> 0 | H18: =G18*D18 -> 0 | I18: =공종별내역서!J289 -> 0 | J18: =I18*D18 -> 0 | K18: =E18+G18+I18 -> 0 | L18: =F18+H18+J18 -> 0 | N18: 01010210 | P18: 010102 | R18: 4
A19: 창 호 공 사 | D19: 1 | E19: =공종별내역서!F315 -> 0 | F19: =E19*D19 -> 0 | G19: =공종별내역서!H315 -> 0 | H19: =G19*D19 -> 0 | I19: =공종별내역서!J315 -> 0 | J19: =I19*D19 -> 0 | K19: =E19+G19+I19 -> 0 | L19: =F19+H19+J19 -> 0 | N19: 01010211 | P19: 010102 | R19: 4
A20: 유 리 공 사 | D20: 1 | E20: =공종별내역서!F341 -> 0 | F20: =E20*D20 -> 0 | G20: =공종별내역서!H341 -> 0 | H20: =G20*D20 -> 0 | I20: =공종별내역서!J341 -> 0 | J20: =I20*D20 -> 0 | K20: =E20+G20+I20 -> 0 | L20: =F20+H20+J20 -> 0 | N20: 01010212 | P20: 010102 | R20: 4
A21: 칠 공 사 | D21: 1 | E21: =공종별내역서!F367 -> 0 | F21: =E21*D21 -> 0 | G21: =공종별내역서!H367 -> 0 | H21: =G21*D21 -> 0 | I21: =공종별내역서!J367 -> 0 | J21: =I21*D21 -> 0 | K21: =E21+G21+I21 -> 0 | L21: =F21+H21+J21 -> 0 | N21: 01010213 | P21: 010102 | R21: 4
A22: 부 대 공 사 | D22: 1 | E22: =공종별내역서!F393 -> 0 | F22: =E22*D22 -> 0 | G22: =공종별내역서!H393 -> 0 | H22: =G22*D22 -> 0 | I22: =공종별내역서!J393 -> 0 | J22: =I22*D22 -> 0 | K22: =E22+G22+I22 -> 0 | L22: =F22+H22+J22 -> 0 | N22: 01010214 | P22: 010102 | R22: 4
A23: 판 넬 공 사 | D23: 1 | E23: =공종별내역서!F419 -> 0 | F23: =E23*D23 -> 0 | G23: =공종별내역서!H419 -> 0 | H23: =G23*D23 -> 0 | I23: =공종별내역서!J419 -> 0 | J23: =I23*D23 -> 0 | K23: =E23+G23+I23 -> 0 | L23: =F23+H23+J23 -> 0 | N23: 01010215 | P23: 010102 | R23: 4
A24: 익스펜션조인트공사 | D24: 1 | E24: =공종별내역서!F445 -> 0 | F24: =E24*D24 -> 0 | G24: =공종별내역서!H445 -> 0 | H24: =G24*D24 -> 0 | I24: =공종별내역서!J445 -> 0 | J24: =I24*D24 -> 0 | K24: =E24+G24+I24 -> 0 | L24: =F24+H24+J24 -> 0 | N24: 01010216 | P24: 010102 | R24: 4
A25: 승강기 설치공사 | D25: 1 | E25: =공종별내역서!F471 -> 0 | F25: =E25*D25 -> 0 | G25: =공종별내역서!H471 -> 0 | H25: =G25*D25 -> 0 | I25: =공종별내역서!J471 -> 0 | J25: =I25*D25 -> 0 | K25: =E25+G25+I25 -> 0 | L25: =F25+H25+J25 -> 0 | N25: 01010217 | P25: 010102 | R25: 4
A26: 철 거 공 사 | D26: 1 | E26: =공종별내역서!F523 -> 0 | F26: =E26*D26 -> 0 | G26: =공종별내역서!H523 -> 0 | H26: =G26*D26 -> 0 | I26: =공종별내역서!J523 -> 0 | J26: =I26*D26 -> 0 | K26: =E26+G26+I26 -> 0 | L26: =F26+H26+J26 -> 0 | N26: 01010218 | P26: 010102 | R26: 4
A27: 골재비 및 운반비 | D27: 1 | E27: =공종별내역서!F549 -> 0 | F27: =E27*D27 -> 0 | G27: =공종별내역서!H549 -> 0 | H27: =G27*D27 -> 0 | I27: =공종별내역서!J549 -> 0 | J27: =I27*D27 -> 0 | K27: =E27+G27+I27 -> 0 | L27: =F27+H27+J27 -> 0 | N27: 01010219 | P27: 010102 | R27: 4
A28: ◆.승강기#2 | D28: 1 | E28: =F29+F30+F31+F32+F33+F34+F35+F36+F37+F38+F39+F40+F41+F42+F43+F44+F45 -> 0 | F28: =E28*D28 -> 0 | G28: =H29+H30+H31+H32+H33+H34+H35+H36+H37+H38+H39+H40+H41+H42+H43+H44+H45 -> 0 | H28: =G28*D28 -> 0 | I28: =J29+J30+J31+J32+J33+J34+J35+J36+J37+J38+J39+J40+J41+J42+J43+J44+J45 -> 0 | J28: =I28*D28 -> 0 | K28: =E28+G28+I28 -> 0 | L28: =F28+H28+J28 -> 0 | N28: 010103 | P28: 0101 | R28: 3
A29: 가 설 공 사 | D29: 1 | E29: =공종별내역서!F575 -> 0 | F29: =E29*D29 -> 0 | G29: =공종별내역서!H575 -> 0 | H29: =G29*D29 -> 0 | I29: =공종별내역서!J575 -> 0 | J29: =I29*D29 -> 0 | K29: =E29+G29+I29 -> 0 | L29: =F29+H29+J29 -> 0 | N29: 01010301 | P29: 010103 | R29: 4
A30: 토 및 지정공사 | D30: 1 | E30: =공종별내역서!F601 -> 0 | F30: =E30*D30 -> 0 | G30: =공종별내역서!H601 -> 0 | H30: =G30*D30 -> 0 | I30: =공종별내역서!J601 -> 0 | J30: =I30*D30 -> 0 | K30: =E30+G30+I30 -> 0 | L30: =F30+H30+J30 -> 0 | N30: 01010302 | P30: 010103 | R30: 4
A31: 철근콘크리트공사 | D31: 1 | E31: =공종별내역서!F627 -> 0 | F31: =E31*D31 -> 0 | G31: =공종별내역서!H627 -> 0 | H31: =G31*D31 -> 0 | I31: =공종별내역서!J627 -> 0 | J31: =I31*D31 -> 0 | K31: =E31+G31+I31 -> 0 | L31: =F31+H31+J31 -> 0 | N31: 01010303 | P31: 010103 | R31: 4
A32: 철 골 공 사 | D32: 1 | E32: =공종별내역서!F653 -> 0 | F32: =E32*D32 -> 0 | G32: =공종별내역서!H653 -> 0 | H32: =G32*D32 -> 0 | I32: =공종별내역서!J653 -> 0 | J32: =I32*D32 -> 0 | K32: =E32+G32+I32 -> 0 | L32: =F32+H32+J32 -> 0 | N32: 01010304 | P32: 010103 | R32: 4
A33: 조 적 공 사 | D33: 1 | E33: =공종별내역서!F679 -> 0 | F33: =E33*D33 -> 0 | G33: =공종별내역서!H679 -> 0 | H33: =G33*D33 -> 0 | I33: =공종별내역서!J679 -> 0 | J33: =I33*D33 -> 0 | K33: =E33+G33+I33 -> 0 | L33: =F33+H33+J33 -> 0 | N33: 01010305 | P33: 010103 | R33: 4
A34: 돌 공 사 | D34: 1 | E34: =공종별내역서!F705 -> 0 | F34: =E34*D34 -> 0 | G34: =공종별내역서!H705 -> 0 | H34: =G34*D34 -> 0 | I34: =공종별내역서!J705 -> 0 | J34: =I34*D34 -> 0 | K34: =E34+G34+I34 -> 0 | L34: =F34+H34+J34 -> 0 | N34: 01010306 | P34: 010103 | R34: 4
A35: 수 장 공 사 | D35: 1 | E35: =공종별내역서!F731 -> 0 | F35: =E35*D35 -> 0 | G35: =공종별내역서!H731 -> 0 | H35: =G35*D35 -> 0 | I35: =공종별내역서!J731 -> 0 | J35: =I35*D35 -> 0 | K35: =E35+G35+I35 -> 0 | L35: =F35+H35+J35 -> 0 | N35: 01010307 | P35: 010103 | R35: 4
A36: 방 수 공 사 | D36: 1 | E36: =공종별내역서!F757 -> 0 | F36: =E36*D36 -> 0 | G36: =공종별내역서!H757 -> 0 | H36: =G36*D36 -> 0 | I36: =공종별내역서!J757 -> 0 | J36: =I36*D36 -> 0 | K36: =E36+G36+I36 -> 0 | L36: =F36+H36+J36 -> 0 | N36: 01010308 | P36: 010103 | R36: 4
A37: 금 속 공 사 | D37: 1 | E37: =공종별내역서!F783 -> 0 | F37: =E37*D37 -> 0 | G37: =공종별내역서!H783 -> 0 | H37: =G37*D37 -> 0 | I37: =공종별내역서!J783 -> 0 | J37: =I37*D37 -> 0 | K37: =E37+G37+I37 -> 0 | L37: =F37+H37+J37 -> 0 | N37: 01010309 | P37: 010103 | R37: 4
A38: 미 장 공 사 | D38: 1 | E38: =공종별내역서!F809 -> 0 | F38: =E38*D38 -> 0 | G38: =공종별내역서!H809 -> 0 | H38: =G38*D38 -> 0 | I38: =공종별내역서!J809 -> 0 | J38: =I38*D38 -> 0 | K38: =E38+G38+I38 -> 0 | L38: =F38+H38+J38 -> 0 | N38: 01010310 | P38: 010103 | R38: 4
A39: 창호 및 유리공사 | D39: 1 | E39: =공종별내역서!F835 -> 0 | F39: =E39*D39 -> 0 | G39: =공종별내역서!H835 -> 0 | H39: =G39*D39 -> 0 | I39: =공종별내역서!J835 -> 0 | J39: =I39*D39 -> 0 | K39: =E39+G39+I39 -> 0 | L39: =F39+H39+J39 -> 0 | N39: 01010311 | P39: 010103 | R39: 4
A40: 칠 공 사 | D40: 1 | E40: =공종별내역서!F861 -> 0 | F40: =E40*D40 -> 0 | G40: =공종별내역서!H861 -> 0 | H40: =G40*D40 -> 0 | I40: =공종별내역서!J861 -> 0 | J40: =I40*D40 -> 0 | K40: =E40+G40+I40 -> 0 | L40: =F40+H40+J40 -> 0 | N40: 01010312 | P40: 010103 | R40: 4
A41: 부 대 공 사 | D41: 1 | E41: =공종별내역서!F887 -> 0 | F41: =E41*D41 -> 0 | G41: =공종별내역서!H887 -> 0 | H41: =G41*D41 -> 0 | I41: =공종별내역서!J887 -> 0 | J41: =I41*D41 -> 0 | K41: =E41+G41+I41 -> 0 | L41: =F41+H41+J41 -> 0 | N41: 01010313 | P41: 010103 | R41: 4
A42: 익스펜션조인트공사 | D42: 1 | E42: =공종별내역서!F913 -> 0 | F42: =E42*D42 -> 0 | G42: =공종별내역서!H913 -> 0 | H42: =G42*D42 -> 0 | I42: =공종별내역서!J913 -> 0 | J42: =I42*D42 -> 0 | K42: =E42+G42+I42 -> 0 | L42: =F42+H42+J42 -> 0 | N42: 01010314 | P42: 010103 | R42: 4
A43: 승강기 설치공사 | D43: 1 | E43: =공종별내역서!F939 -> 0 | F43: =E43*D43 -> 0 | G43: =공종별내역서!H939 -> 0 | H43: =G43*D43 -> 0 | I43: =공종별내역서!J939 -> 0 | J43: =I43*D43 -> 0 | K43: =E43+G43+I43 -> 0 | L43: =F43+H43+J43 -> 0 | N43: 01010315 | P43: 010103 | R43: 4
A44: 철 거 공 사 | D44: 1 | E44: =공종별내역서!F965 -> 0 | F44: =E44*D44 -> 0 | G44: =공종별내역서!H965 -> 0 | H44: =G44*D44 -> 0 | I44: =공종별내역서!J965 -> 0 | J44: =I44*D44 -> 0 | K44: =E44+G44+I44 -> 0 | L44: =F44+H44+J44 -> 0 | N44: 01010316 | P44: 010103 | R44: 4
A45: 골재비 및 운반비 | D45: 1 | E45: =공종별내역서!F991 -> 0 | F45: =E45*D45 -> 0 | G45: =공종별내역서!H991 -> 0 | H45: =G45*D45 -> 0 | I45: =공종별내역서!J991 -> 0 | J45: =I45*D45 -> 0 | K45: =E45+G45+I45 -> 0 | L45: =F45+H45+J45 -> 0 | N45: 01010317 | P45: 010103 | R45: 4
A46: ◆.승강기#3 | D46: 1 | E46: =F47+F48+F49+F50+F51+F52+F53+F54+F55+F56+F57+F58+F59+F60+F61+F62+F63 -> 0 | F46: =E46*D46 -> 0 | G46: =H47+H48+H49+H50+H51+H52+H53+H54+H55+H56+H57+H58+H59+H60+H61+H62+H63 -> 0 | H46: =G46*D46 -> 0 | I46: =J47+J48+J49+J50+J51+J52+J53+J54+J55+J56+J57+J58+J59+J60+J61+J62+J63 -> 0 | J46: =I46*D46 -> 0 | K46: =E46+G46+I46 -> 0 | L46: =F46+H46+J46 -> 0 | N46: 010104 | P46: 0101 | R46: 3
A47: 가 설 공 사 | D47: 1 | E47: =공종별내역서!F1017 -> 0 | F47: =E47*D47 -> 0 | G47: =공종별내역서!H1017 -> 0 | H47: =G47*D47 -> 0 | I47: =공종별내역서!J1017 -> 0 | J47: =I47*D47 -> 0 | K47: =E47+G47+I47 -> 0 | L47: =F47+H47+J47 -> 0 | N47: 01010401 | P47: 010104 | R47: 4
A48: 토 및 지정공사 | D48: 1 | E48: =공종별내역서!F1043 -> 0 | F48: =E48*D48 -> 0 | G48: =공종별내역서!H1043 -> 0 | H48: =G48*D48 -> 0 | I48: =공종별내역서!J1043 -> 0 | J48: =I48*D48 -> 0 | K48: =E48+G48+I48 -> 0 | L48: =F48+H48+J48 -> 0 | N48: 01010402 | P48: 010104 | R48: 4
A49: 철근콘크리트공사 | D49: 1 | E49: =공종별내역서!F1069 -> 0 | F49: =E49*D49 -> 0 | G49: =공종별내역서!H1069 -> 0 | H49: =G49*D49 -> 0 | I49: =공종별내역서!J1069 -> 0 | J49: =I49*D49 -> 0 | K49: =E49+G49+I49 -> 0 | L49: =F49+H49+J49 -> 0 | N49: 01010403 | P49: 010104 | R49: 4
A50: 철 골 공 사 | D50: 1 | E50: =공종별내역서!F1095 -> 0 | F50: =E50*D50 -> 0 | G50: =공종별내역서!H1095 -> 0 | H50: =G50*D50 -> 0 | I50: =공종별내역서!J1095 -> 0 | J50: =I50*D50 -> 0 | K50: =E50+G50+I50 -> 0 | L50: =F50+H50+J50 -> 0 | N50: 01010404 | P50: 010104 | R50: 4
A51: 조 적 공 사 | D51: 1 | E51: =공종별내역서!F1121 -> 0 | F51: =E51*D51 -> 0 | G51: =공종별내역서!H1121 -> 0 | H51: =G51*D51 -> 0 | I51: =공종별내역서!J1121 -> 0 | J51: =I51*D51 -> 0 | K51: =E51+G51+I51 -> 0 | L51: =F51+H51+J51 -> 0 | N51: 01010405 | P51: 010104 | R51: 4
A52: 돌 공 사 | D52: 1 | E52: =공종별내역서!F1147 -> 0 | F52: =E52*D52 -> 0 | G52: =공종별내역서!H1147 -> 0 | H52: =G52*D52 -> 0 | I52: =공종별내역서!J1147 -> 0 | J52: =I52*D52 -> 0 | K52: =E52+G52+I52 -> 0 | L52: =F52+H52+J52 -> 0 | N52: 01010406 | P52: 010104 | R52: 4
A53: 수 장 공 사 | D53: 1 | E53: =공종별내역서!F1173 -> 0 | F53: =E53*D53 -> 0 | G53: =공종별내역서!H1173 -> 0 | H53: =G53*D53 -> 0 | I53: =공종별내역서!J1173 -> 0 | J53: =I53*D53 -> 0 | K53: =E53+G53+I53 -> 0 | L53: =F53+H53+J53 -> 0 | N53: 01010407 | P53: 010104 | R53: 4
A54: 방 수 공 사 | D54: 1 | E54: =공종별내역서!F1199 -> 0 | F54: =E54*D54 -> 0 | G54: =공종별내역서!H1199 -> 0 | H54: =G54*D54 -> 0 | I54: =공종별내역서!J1199 -> 0 | J54: =I54*D54 -> 0 | K54: =E54+G54+I54 -> 0 | L54: =F54+H54+J54 -> 0 | N54: 01010408 | P54: 010104 | R54: 4
A55: 금 속 공 사 | D55: 1 | E55: =공종별내역서!F1225 -> 0 | F55: =E55*D55 -> 0 | G55: =공종별내역서!H1225 -> 0 | H55: =G55*D55 -> 0 | I55: =공종별내역서!J1225 -> 0 | J55: =I55*D55 -> 0 | K55: =E55+G55+I55 -> 0 | L55: =F55+H55+J55 -> 0 | N55: 01010409 | P55: 010104 | R55: 4
A56: 미 장 공 사 | D56: 1 | E56: =공종별내역서!F1251 -> 0 | F56: =E56*D56 -> 0 | G56: =공종별내역서!H1251 -> 0 | H56: =G56*D56 -> 0 | I56: =공종별내역서!J1251 -> 0 | J56: =I56*D56 -> 0 | K56: =E56+G56+I56 -> 0 | L56: =F56+H56+J56 -> 0 | N56: 01010410 | P56: 010104 | R56: 4
A57: 창호 및 유리공사 | D57: 1 | E57: =공종별내역서!F1277 -> 0 | F57: =E57*D57 -> 0 | G57: =공종별내역서!H1277 -> 0 | H57: =G57*D57 -> 0 | I57: =공종별내역서!J1277 -> 0 | J57: =I57*D57 -> 0 | K57: =E57+G57+I57 -> 0 | L57: =F57+H57+J57 -> 0 | N57: 01010411 | P57: 010104 | R57: 4
A58: 칠 공 사 | D58: 1 | E58: =공종별내역서!F1303 -> 0 | F58: =E58*D58 -> 0 | G58: =공종별내역서!H1303 -> 0 | H58: =G58*D58 -> 0 | I58: =공종별내역서!J1303 -> 0 | J58: =I58*D58 -> 0 | K58: =E58+G58+I58 -> 0 | L58: =F58+H58+J58 -> 0 | N58: 01010412 | P58: 010104 | R58: 4
A59: 부 대 공 사 | D59: 1 | E59: =공종별내역서!F1329 -> 0 | F59: =E59*D59 -> 0 | G59: =공종별내역서!H1329 -> 0 | H59: =G59*D59 -> 0 | I59: =공종별내역서!J1329 -> 0 | J59: =I59*D59 -> 0 | K59: =E59+G59+I59 -> 0 | L59: =F59+H59+J59 -> 0 | N59: 01010413 | P59: 010104 | R59: 4
A60: 익스펜션조인트공사 | D60: 1 | E60: =공종별내역서!F1355 -> 0 | F60: =E60*D60 -> 0 | G60: =공종별내역서!H1355 -> 0 | H60: =G60*D60 -> 0 | I60: =공종별내역서!J1355 -> 0 | J60: =I60*D60 -> 0 | K60: =E60+G60+I60 -> 0 | L60: =F60+H60+J60 -> 0 | N60: 01010414 | P60: 010104 | R60: 4
A61: 승강기 설치공사 | D61: 1 | E61: =공종별내역서!F1381 -> 0 | F61: =E61*D61 -> 0 | G61: =공종별내역서!H1381 -> 0 | H61: =G61*D61 -> 0 | I61: =공종별내역서!J1381 -> 0 | J61: =I61*D61 -> 0 | K61: =E61+G61+I61 -> 0 | L61: =F61+H61+J61 -> 0 | N61: 01010415 | P61: 010104 | R61: 4
A62: 철 거 공 사 | D62: 1 | E62: =공종별내역서!F1407 -> 0 | F62: =E62*D62 -> 0 | G62: =공종별내역서!H1407 -> 0 | H62: =G62*D62 -> 0 | I62: =공종별내역서!J1407 -> 0 | J62: =I62*D62 -> 0 | K62: =E62+G62+I62 -> 0 | L62: =F62+H62+J62 -> 0 | N62: 01010416 | P62: 010104 | R62: 4
A63: 골재비 및 운반비 | D63: 1 | E63: =공종별내역서!F1433 -> 0 | F63: =E63*D63 -> 0 | G63: =공종별내역서!H1433 -> 0 | H63: =G63*D63 -> 0 | I63: =공종별내역서!J1433 -> 0 | J63: =I63*D63 -> 0 | K63: =E63+G63+I63 -> 0 | L63: =F63+H63+J63 -> 0 | N63: 01010417 | P63: 010104 | R63: 4
A64: ◆.승강기#4 | D64: 1 | E64: =F65+F66+F67+F68+F69+F70+F71+F72+F73+F74+F75+F76+F77+F78+F79+F80+F81+F82+F83 -> 0 | F64: =E64*D64 -> 0 | G64: =H65+H66+H67+H68+H69+H70+H71+H72+H73+H74+H75+H76+H77+H78+H79+H80+H81+H82+H83 -> 0 | H64: =G64*D64 -> 0 | I64: =J65+J66+J67+J68+J69+J70+J71+J72+J73+J74+J75+J76+J77+J78+J79+J80+J81+J82+J83 -> 0 | J64: =I64*D64 -> 0 | K64: =E64+G64+I64 -> 0 | L64: =F64+H64+J64 -> 0 | N64: 010105 | P64: 0101 | R64: 3
A65: 가 설 공 사 | D65: 1 | E65: =공종별내역서!F1459 -> 0 | F65: =E65*D65 -> 0 | G65: =공종별내역서!H1459 -> 0 | H65: =G65*D65 -> 0 | I65: =공종별내역서!J1459 -> 0 | J65: =I65*D65 -> 0 | K65: =E65+G65+I65 -> 0 | L65: =F65+H65+J65 -> 0 | N65: 01010501 | P65: 010105 | R65: 4
A66: 토 및 지정공사 | D66: 1 | E66: =공종별내역서!F1485 -> 0 | F66: =E66*D66 -> 0 | G66: =공종별내역서!H1485 -> 0 | H66: =G66*D66 -> 0 | I66: =공종별내역서!J1485 -> 0 | J66: =I66*D66 -> 0 | K66: =E66+G66+I66 -> 0 | L66: =F66+H66+J66 -> 0 | N66: 01010502 | P66: 010105 | R66: 4
A67: 철근콘크리트공사 | D67: 1 | E67: =공종별내역서!F1511 -> 0 | F67: =E67*D67 -> 0 | G67: =공종별내역서!H1511 -> 0 | H67: =G67*D67 -> 0 | I67: =공종별내역서!J1511 -> 0 | J67: =I67*D67 -> 0 | K67: =E67+G67+I67 -> 0 | L67: =F67+H67+J67 -> 0 | N67: 01010503 | P67: 010105 | R67: 4
A68: 철 골 공 사 | D68: 1 | E68: =공종별내역서!F1537 -> 0 | F68: =E68*D68 -> 0 | G68: =공종별내역서!H1537 -> 0 | H68: =G68*D68 -> 0 | I68: =공종별내역서!J1537 -> 0 | J68: =I68*D68 -> 0 | K68: =E68+G68+I68 -> 0 | L68: =F68+H68+J68 -> 0 | N68: 01010504 | P68: 010105 | R68: 4
A69: 조 적 공 사 | D69: 1 | E69: =공종별내역서!F1563 -> 0 | F69: =E69*D69 -> 0 | G69: =공종별내역서!H1563 -> 0 | H69: =G69*D69 -> 0 | I69: =공종별내역서!J1563 -> 0 | J69: =I69*D69 -> 0 | K69: =E69+G69+I69 -> 0 | L69: =F69+H69+J69 -> 0 | N69: 01010505 | P69: 010105 | R69: 4
A70: 돌 공 사 | D70: 1 | E70: =공종별내역서!F1589 -> 0 | F70: =E70*D70 -> 0 | G70: =공종별내역서!H1589 -> 0 | H70: =G70*D70 -> 0 | I70: =공종별내역서!J1589 -> 0 | J70: =I70*D70 -> 0 | K70: =E70+G70+I70 -> 0 | L70: =F70+H70+J70 -> 0 | N70: 01010506 | P70: 010105 | R70: 4
A71: 수 장 공 사 | D71: 1 | E71: =공종별내역서!F1615 -> 0 | F71: =E71*D71 -> 0 | G71: =공종별내역서!H1615 -> 0 | H71: =G71*D71 -> 0 | I71: =공종별내역서!J1615 -> 0 | J71: =I71*D71 -> 0 | K71: =E71+G71+I71 -> 0 | L71: =F71+H71+J71 -> 0 | N71: 01010507 | P71: 010105 | R71: 4
A72: 방 수 공 사 | D72: 1 | E72: =공종별내역서!F1641 -> 0 | F72: =E72*D72 -> 0 | G72: =공종별내역서!H1641 -> 0 | H72: =G72*D72 -> 0 | I72: =공종별내역서!J1641 -> 0 | J72: =I72*D72 -> 0 | K72: =E72+G72+I72 -> 0 | L72: =F72+H72+J72 -> 0 | N72: 01010508 | P72: 010105 | R72: 4
A73: 금 속 공 사 | D73: 1 | E73: =공종별내역서!F1667 -> 0 | F73: =E73*D73 -> 0 | G73: =공종별내역서!H1667 -> 0 | H73: =G73*D73 -> 0 | I73: =공종별내역서!J1667 -> 0 | J73: =I73*D73 -> 0 | K73: =E73+G73+I73 -> 0 | L73: =F73+H73+J73 -> 0 | N73: 01010509 | P73: 010105 | R73: 4
A74: 미 장 공 사 | D74: 1 | E74: =공종별내역서!F1693 -> 0 | F74: =E74*D74 -> 0 | G74: =공종별내역서!H1693 -> 0 | H74: =G74*D74 -> 0 | I74: =공종별내역서!J1693 -> 0 | J74: =I74*D74 -> 0 | K74: =E74+G74+I74 -> 0 | L74: =F74+H74+J74 -> 0 | N74: 01010510 | P74: 010105 | R74: 4
A75: 창 호 공 사 | D75: 1 | E75: =공종별내역서!F1719 -> 0 | F75: =E75*D75 -> 0 | G75: =공종별내역서!H1719 -> 0 | H75: =G75*D75 -> 0 | I75: =공종별내역서!J1719 -> 0 | J75: =I75*D75 -> 0 | K75: =E75+G75+I75 -> 0 | L75: =F75+H75+J75 -> 0 | N75: 01010511 | P75: 010105 | R75: 4
A76: 유 리 공 사 | D76: 1 | E76: =공종별내역서!F1745 -> 0 | F76: =E76*D76 -> 0 | G76: =공종별내역서!H1745 -> 0 | H76: =G76*D76 -> 0 | I76: =공종별내역서!J1745 -> 0 | J76: =I76*D76 -> 0 | K76: =E76+G76+I76 -> 0 | L76: =F76+H76+J76 -> 0 | N76: 01010512 | P76: 010105 | R76: 4
A77: 칠 공 사 | D77: 1 | E77: =공종별내역서!F1771 -> 0 | F77: =E77*D77 -> 0 | G77: =공종별내역서!H1771 -> 0 | H77: =G77*D77 -> 0 | I77: =공종별내역서!J1771 -> 0 | J77: =I77*D77 -> 0 | K77: =E77+G77+I77 -> 0 | L77: =F77+H77+J77 -> 0 | N77: 01010513 | P77: 010105 | R77: 4
A78: 판 넬 공 사 | D78: 1 | E78: =공종별내역서!F1797 -> 0 | F78: =E78*D78 -> 0 | G78: =공종별내역서!H1797 -> 0 | H78: =G78*D78 -> 0 | I78: =공종별내역서!J1797 -> 0 | J78: =I78*D78 -> 0 | K78: =E78+G78+I78 -> 0 | L78: =F78+H78+J78 -> 0 | N78: 01010514 | P78: 010105 | R78: 4
A79: 부 대 공 사 | D79: 1 | E79: =공종별내역서!F1823 -> 0 | F79: =E79*D79 -> 0 | G79: =공종별내역서!H1823 -> 0 | H79: =G79*D79 -> 0 | I79: =공종별내역서!J1823 -> 0 | J79: =I79*D79 -> 0 | K79: =E79+G79+I79 -> 0 | L79: =F79+H79+J79 -> 0 | N79: 01010515 | P79: 010105 | R79: 4
A80: 익스펜션조인트공사 | D80: 1 | E80: =공종별내역서!F1849 -> 0 | F80: =E80*D80 -> 0 | G80: =공종별내역서!H1849 -> 0 | H80: =G80*D80 -> 0 | I80: =공종별내역서!J1849 -> 0 | J80: =I80*D80 -> 0 | K80: =E80+G80+I80 -> 0 | L80: =F80+H80+J80 -> 0 | N80: 01010516 | P80: 010105 | R80: 4
A81: 승강기 설치공사 | D81: 1 | E81: =공종별내역서!F1875 -> 0 | F81: =E81*D81 -> 0 | G81: =공종별내역서!H1875 -> 0 | H81: =G81*D81 -> 0 | I81: =공종별내역서!J1875 -> 0 | J81: =I81*D81 -> 0 | K81: =E81+G81+I81 -> 0 | L81: =F81+H81+J81 -> 0 | N81: 01010517 | P81: 010105 | R81: 4
A82: 철 거 공 사 | D82: 1 | E82: =공종별내역서!F1901 -> 0 | F82: =E82*D82 -> 0 | G82: =공종별내역서!H1901 -> 0 | H82: =G82*D82 -> 0 | I82: =공종별내역서!J1901 -> 0 | J82: =I82*D82 -> 0 | K82: =E82+G82+I82 -> 0 | L82: =F82+H82+J82 -> 0 | N82: 01010518 | P82: 010105 | R82: 4
A83: 골재비 및 운반비 | D83: 1 | E83: =공종별내역서!F1927 -> 0 | F83: =E83*D83 -> 0 | G83: =공종별내역서!H1927 -> 0 | H83: =G83*D83 -> 0 | I83: =공종별내역서!J1927 -> 0 | J83: =I83*D83 -> 0 | K83: =E83+G83+I83 -> 0 | L83: =F83+H83+J83 -> 0 | N83: 01010519 | P83: 010105 | R83: 4
A84: ◆.승강기 SPG | D84: 1 | E84: =F85 -> 0 | F84: =E84*D84 -> 0 | G84: =H85 -> 0 | H84: =G84*D84 -> 0 | I84: =J85 -> 0 | J84: =I84*D84 -> 0 | K84: =E84+G84+I84 -> 0 | L84: =F84+H84+J84 -> 0 | N84: 010106 | P84: 0101 | R84: 3
A85: S.P.G 공사 | D85: 1 | E85: =공종별내역서!F1953 -> 0 | F85: =E85*D85 -> 0 | G85: =공종별내역서!H1953 -> 0 | H85: =G85*D85 -> 0 | I85: =공종별내역서!J1953 -> 0 | J85: =I85*D85 -> 0 | K85: =E85+G85+I85 -> 0 | L85: =F85+H85+J85 -> 0 | N85: 01010601 | P85: 010106 | R85: 4
A86: ■.품질시험비 | D86: 1 | E86: =공종별내역서!F1979 -> 0 | F86: =E86*D86 -> 0 | G86: =공종별내역서!H1979 -> 0 | H86: =G86*D86 -> 0 | I86: =공종별내역서!J1979 -> 0 | J86: =I86*D86 -> 0 | K86: =E86+G86+I86 -> 0 | L86: =F86+H86+J86 -> 0 | N86: 0102 | P86: 01 | R86: 2
A87: ■.안전관리비 | D87: 1 | E87: =공종별내역서!F2005 -> 0 | F87: =E87*D87 -> 0 | G87: =공종별내역서!H2005 -> 0 | H87: =G87*D87 -> 0 | I87: =공종별내역서!J2005 -> 0 | J87: =I87*D87 -> 0 | K87: =E87+G87+I87 -> 0 | L87: =F87+H87+J87 -> 0 | N87: 0103 | P87: 01 | R87: 2
A88: ■.건설폐기물처리비 | D88: 1 | E88: =F89+F92+F95+F98 -> 0 | F88: =E88*D88 -> 0 | G88: =H89+H92+H95+H98 -> 0 | H88: =G88*D88 -> 0 | I88: =J89+J92+J95+J98 -> 0 | J88: =I88*D88 -> 0 | K88: =E88+G88+I88 -> 0 | L88: =F88+H88+J88 -> 0 | N88: 0104 | P88: 01 | R88: 2
A89: 승강기#1 | D89: 1 | E89: =F90+F91 -> 0 | F89: =E89*D89 -> 0 | G89: =H90+H91 -> 0 | H89: =G89*D89 -> 0 | I89: =J90+J91 -> 0 | J89: =I89*D89 -> 0 | K89: =E89+G89+I89 -> 0 | L89: =F89+H89+J89 -> 0 | N89: 010401 | P89: 0104 | R89: 3
A90: 신축공사 | D90: 1 | E90: =공종별내역서!F2031 -> 0 | F90: =E90*D90 -> 0 | G90: =공종별내역서!H2031 -> 0 | H90: =G90*D90 -> 0 | I90: =공종별내역서!J2031 -> 0 | J90: =I90*D90 -> 0 | K90: =E90+G90+I90 -> 0 | L90: =F90+H90+J90 -> 0 | N90: 01040101 | P90: 010401 | R90: 4
A91: 철거공사 | D91: 1 | E91: =공종별내역서!F2057 -> 0 | F91: =E91*D91 -> 0 | G91: =공종별내역서!H2057 -> 0 | H91: =G91*D91 -> 0 | I91: =공종별내역서!J2057 -> 0 | J91: =I91*D91 -> 0 | K91: =E91+G91+I91 -> 0 | L91: =F91+H91+J91 -> 0 | N91: 01040102 | P91: 010401 | R91: 4
A92: 승강기#2 | D92: 1 | E92: =F93+F94 -> 0 | F92: =E92*D92 -> 0 | G92: =H93+H94 -> 0 | H92: =G92*D92 -> 0 | I92: =J93+J94 -> 0 | J92: =I92*D92 -> 0 | K92: =E92+G92+I92 -> 0 | L92: =F92+H92+J92 -> 0 | N92: 010402 | P92: 0104 | R92: 3
A93: 신축공사 | D93: 1 | E93: =공종별내역서!F2083 -> 0 | F93: =E93*D93 -> 0 | G93: =공종별내역서!H2083 -> 0 | H93: =G93*D93 -> 0 | I93: =공종별내역서!J2083 -> 0 | J93: =I93*D93 -> 0 | K93: =E93+G93+I93 -> 0 | L93: =F93+H93+J93 -> 0 | N93: 01040201 | P93: 010402 | R93: 4
A94: 철거공사 | D94: 1 | E94: =공종별내역서!F2109 -> 0 | F94: =E94*D94 -> 0 | G94: =공종별내역서!H2109 -> 0 | H94: =G94*D94 -> 0 | I94: =공종별내역서!J2109 -> 0 | J94: =I94*D94 -> 0 | K94: =E94+G94+I94 -> 0 | L94: =F94+H94+J94 -> 0 | N94: 01040202 | P94: 010402 | R94: 4
A95: 승강기#3 | D95: 1 | E95: =F96+F97 -> 0 | F95: =E95*D95 -> 0 | G95: =H96+H97 -> 0 | H95: =G95*D95 -> 0 | I95: =J96+J97 -> 0 | J95: =I95*D95 -> 0 | K95: =E95+G95+I95 -> 0 | L95: =F95+H95+J95 -> 0 | N95: 010403 | P95: 0104 | R95: 3
A96: 신축공사 | D96: 1 | E96: =공종별내역서!F2135 -> 0 | F96: =E96*D96 -> 0 | G96: =공종별내역서!H2135 -> 0 | H96: =G96*D96 -> 0 | I96: =공종별내역서!J2135 -> 0 | J96: =I96*D96 -> 0 | K96: =E96+G96+I96 -> 0 | L96: =F96+H96+J96 -> 0 | N96: 01040301 | P96: 010403 | R96: 4
A97: 철거공사 | D97: 1 | E97: =공종별내역서!F2161 -> 0 | F97: =E97*D97 -> 0 | G97: =공종별내역서!H2161 -> 0 | H97: =G97*D97 -> 0 | I97: =공종별내역서!J2161 -> 0 | J97: =I97*D97 -> 0 | K97: =E97+G97+I97 -> 0 | L97: =F97+H97+J97 -> 0 | N97: 01040302 | P97: 010403 | R97: 4
A98: 승강기#4 | D98: 1 | E98: =F99+F100 -> 0 | F98: =E98*D98 -> 0 | G98: =H99+H100 -> 0 | H98: =G98*D98 -> 0 | I98: =J99+J100 -> 0 | J98: =I98*D98 -> 0 | K98: =E98+G98+I98 -> 0 | L98: =F98+H98+J98 -> 0 | N98: 010404 | P98: 0104 | R98: 3
A99: 신축공사 | D99: 1 | E99: =공종별내역서!F2187 -> 0 | F99: =E99*D99 -> 0 | G99: =공종별내역서!H2187 -> 0 | H99: =G99*D99 -> 0 | I99: =공종별내역서!J2187 -> 0 | J99: =I99*D99 -> 0 | K99: =E99+G99+I99 -> 0 | L99: =F99+H99+J99 -> 0 | N99: 01040401 | P99: 010404 | R99: 4
A100: 철거공사 | D100: 1 | E100: =공종별내역서!F2213 -> 0 | F100: =E100*D100 -> 0 | G100: =공종별내역서!H2213 -> 0 | H100: =G100*D100 -> 0 | I100: =공종별내역서!J2213 -> 0 | J100: =I100*D100 -> 0 | K100: =E100+G100+I100 -> 0 | L100: =F100+H100+J100 -> 0 | N100: 01040402 | P100: 010404 | R100: 4
...

Sheet 공종별내역서
A1: [ ■.새마을운동중앙연수원 생활관 환경개선(리모델링) ]
A2: 품 명 | B2: 규 격 | C2: 단위 | D2: 수량 | E2: 재 료 비 | G2: 노 무 비 | I2: 경 비 | K2: 합 계 | M2: 비 고 | N2: 품목코드 | O2: 변수 | P2: 설정 | Q2: 공종코드 | R2: 일위 | S2: 단산 | T2: 자재 | U2: 손료적용 | V2: 손료저장 | W2: 적용율 | X2: JUK1 | Y2: JUK2 | Z2: JUK3 | AA2: JUK4 | AB2: JUK5 | AC2: JUK6 | AD2: JUK7 | AE2: JUK8 | AF2: JUK9 | AG2: JUK10 | AH2: JUK11 | AI2: JUK12 | AJ2: JUK13 | AK2: JUK14 | AL2: JUK15 | AM2: JUK16 | AN2: JUK17 | AO2: JUK18 | AP2: JUK19 | AQ2: JUK20 | AR2: 자재구분 | AS2: 공종구분 | AT2: 공종레벨 | AU2: 공종+자재 | AV2: 고유번호
E3: 단 가 | F3: 금 액 | G3: 단 가 | H3: 금 액 | I3: 단 가 | J3: 금 액 | K3: 단 가 | L3: 금 액
A4: ◆.공통가설공사 | Q4: 010101
A5: 콘테이너형 가설사무소 설치 및 해체 | B5: 3.0*6.0m, 6개월 | C5: 개소 | D5: 1 | K5: =TRUNC(E5+G5+I5, 0) -> 0 | L5: =TRUNC(F5+H5+J5, 0) -> 0 | M5: 호표 1 | N5: 575C013524BCA2E5C491F70A5E2907 | Q5: 010101 | R5: T | S5: F | T5: F | AU5: 010101575C013524BCA2E5C491F70A5E2907 | AV5: 67477
A6: 콘테이너형 가설창고 설치 및 해체 | B6: 3.0*6.0m, 6개월 | C6: 개소 | D6: 1 | K6: =TRUNC(E6+G6+I6, 0) -> 0 | L6: =TRUNC(F6+H6+J6, 0) -> 0 | M6: 호표 2 | N6: 575C013524BCA2D53899AAE10B3967 | Q6: 010101 | R6: T | S6: F | T6: F | AU6: 010101575C013524BCA2D53899AAE10B3967 | AV6: 67478
A7: 콘테이너형 가설휴게실 설치 및 해체 | B7: 3.0*6.0m, 6개월 | C7: 개소 | D7: 1 | K7: =TRUNC(E7+G7+I7, 0) -> 0 | L7: =TRUNC(F7+H7+J7, 0) -> 0 | M7: 호표 3 | N7: 575C013524BCA2E5C491F70A5E2906 | Q7: 010101 | R7: T | S7: F | T7: F | AU7: 010101575C013524BCA2E5C491F70A5E2906 | AV7: 67362
A8: 콘테이너형 가설실험실 설치 및 해체 | B8: 3.0*6.0m, 6개월 | C8: 개소 | D8: 1 | K8: =TRUNC(E8+G8+I8, 0) -> 0 | L8: =TRUNC(F8+H8+J8, 0) -> 0 | M8: 호표 4 | N8: 575C013524BCA2D53899AAE10B3966 | Q8: 010101 | R8: T | S8: F | T8: F | AU8: 010101575C013524BCA2D53899AAE10B3966 | AV8: 67479
A9: 트럭크레인(30톤) | B9: 자재양중장비 | C9: 일 | D9: 4 | K9: =TRUNC(E9+G9+I9, 0) -> 0 | L9: =TRUNC(F9+H9+J9, 0) -> 0 | M9: 호표 5 | N9: 575C01353447D2D55C5DB65F76764E | Q9: 010101 | R9: T | S9: F | T9: F | AU9: 010101575C01353447D2D55C5DB65F76764E | AV9: 67388
A10: 고압물세척 | C10: ㎡ | D10: 57 | K10: =TRUNC(E10+G10+I10, 0) -> 0 | L10: =TRUNC(F10+H10+J10, 0) -> 0 | M10: 호표 6 | N10: 575D0133D4F0F2C588AEA75123A370 | Q10: 010101 | R10: T | S10: F | T10: F | AU10: 010101575D0133D4F0F2C588AEA75123A370 | AV10: 67387
Q11: 010101
Q12: 010101
Q13: 010101
Q14: 010101
Q15: 010101
Q16: 010101
Q17: 010101
Q18: 010101
Q19: 010101
Q20: 010101
Q21: 010101
Q22: 010101
... Q28: 010101
A29: [ 합 계 ] | L29: =SUMIF(Q5:Q28,"010101",L5:L28) -> 0 | N29: TOTAL
A30: 가 설 공 사 | Q30: 01010201
A31: 목재 귀 규준틀 설치 및 철거 | C31: 개소 | D31: 4 | K31: =TRUNC(E31+G31+I31, 0) -> 0 | L31: =TRUNC(F31+H31+J31, 0) -> 0 | M31: 호표 7 | N31: 575C01351494F2F5BA888FB66BCE0E | Q31: 01010201 | R31: T | S31: F | T31: F | AU31: 01010201575C01351494F2F5BA888FB66BCE0E | AV31: 66396
A32: 시스템 비계매기(발판2열)/내벽용(ELEV PIT) | B32: 3개월, 10m 이하, 보호망미시공 | C32: M2 | D32: 22 | K32: =TRUNC(E32+G32+I32, 0) -> 0 | L32: =TRUNC(F32+H32+J32, 0) -> 0 | M32: 호표 8 | N32: 575C01351494F2F5BB96132542463D | Q32: 01010201 | R32: T | S32: F | T32: F | AU32: 01010201575C01351494F2F5BB96132542463D | AV32: 66445
A33: 시스템 비계매기(발판2열)/내벽용(ELEV PIT) | B33: 3개월, 10m 초과~20m 이하, 보호망미시공 | C33: M2 | D33: 14 | K33: =TRUNC(E33+G33+I33, 0) -> 0 | L33: =TRUNC(F33+H33+J33, 0) -> 0 | M33: 호표 9 | N33: 575C01351494F2F5BB961325424638 | Q33: 01010201 | R33: T | S33: F | T33: F | AU33: 01010201575C01351494F2F5BB961325424638 | AV33: 66446
A34: 시스템 비계매기(발판2열)/외벽용 | B34: 3개월, 10m이하, 보호망미시공 | C34: M2 | D34: 112 | K34: =TRUNC(E34+G34+I34, 0) -> 0 | L34: =TRUNC(F34+H34+J34, 0) -> 0 | M34: 호표 10 | N34: 575C01351494F2F5BB961325424E73 | Q34: 01010201 | R34: T | S34: F | T34: F | AU34: 01010201575C01351494F2F5BB961325424E73 | AV34: 66447
A35: 시스템 비계매기(발판2열)/외벽용 | B35: 3개월, 10m 초과~20m 이하, 보호망미시공 | C35: M2 | D35: 65 | K35: =TRUNC(E35+G35+I35, 0) -> 0 | L35: =TRUNC(F35+H35+J35, 0) -> 0 | M35: 호표 11 | N35: 575C01351494F2F5BB96132541A161 | Q35: 01010201 | R35: T | S35: F | T35: F | AU35: 01010201575C01351494F2F5BB96132541A161 | AV35: 66448
A36: 건축물보양 - 콘크리트면 | B36: 부직포 깔기 | C36: M2 | D36: 22 | K36: =TRUNC(E36+G36+I36, 0) -> 0 | L36: =TRUNC(F36+H36+J36, 0) -> 0 | M36: 호표 12 | N36: 575C01354469624504B0B30AE5E4DA | Q36: 01010201 | R36: T | S36: F | T36: F | AU36: 01010201575C01354469624504B0B30AE5E4DA | AV36: 66407
A37: 구조부 먹매김 | B37: 일반 | C37: M2 | D37: 15 | K37: =TRUNC(E37+G37+I37, 0) -> 0 | L37: =TRUNC(F37+H37+J37, 0) -> 0 | M37: 호표 13 | N37: 575C013544696245070592AC70CEF8 | Q37: 01010201 | R37: T | S37: F | T37: F | AU37: 01010201575C013544696245070592AC70CEF8 | AV37: 67363
A38: 거푸집 먹매김 | B38: 일반 | C38: M2 | D38: 15 | K38: =TRUNC(E38+G38+I38, 0) -> 0 | L38: =TRUNC(F38+H38+J38, 0) -> 0 | M38: 호표 14 | N38: 575C013544696245070590FE94863E | Q38: 01010201 | R38: T | S38: F | T38: F | AU38: 01010201575C013544696245070590FE94863E | AV38: 67364
A39: 건축물 현장정리 | B39: 철근콘크리트조, 철골·철근콘크리트조 | C39: M2 | D39: 15 | K39: =TRUNC(E39+G39+I39, 0) -> 0 | L39: =TRUNC(F39+H39+J39, 0) -> 0 | M39: 호표 15 | N39: 575C0135446A02D5BE206BC00BAB78 | Q39: 01010201 | R39: T | S39: F | T39: F | AU39: 01010201575C0135446A02D5BE206BC00BAB78 | AV39: 67365
A40: 준공청소 | C40: M2 | D40: 15 | K40: =TRUNC(E40+G40+I40, 0) -> 0 | L40: =TRUNC(F40+H40+J40, 0) -> 0 | M40: 호표 16 | N40: 575C0135446F82D58AB8E0DE813C71 | Q40: 01010201 | R40: T | S40: F | T40: F | AU40: 01010201575C0135446F82D58AB8E0DE813C71 | AV40: 67366
A41: 건설폐재류 상차비 | C41: TON | D41: 0.428 | K41: =TRUNC(E41+G41+I41, 0) -> 0 | L41: =TRUNC(F41+H41+J41, 0) -> 0 | N41: 571D613EB42D72353CEEE2469B5B9AA669A770 | Q41: 01010201 | R41: F | S41: F | T41: T | AU41: 01010201571D613EB42D72353CEEE2469B5B9AA669A770 | AV41: 67442
A42: 혼합건설폐기물 상차비 | B42: (매립지반입대상 폐기물 포함) | C42: TON | D42: 0.103 | K42: =TRUNC(E42+G42+I42, 0) -> 0 | L42: =TRUNC(F42+H42+J42, 0) -> 0 | N42: 571D613EB42D72353CEEE2469B5B9AA669A773 | Q42: 01010201 | R42: F | S42: F | T42: T | AU42: 01010201571D613EB42D72353CEEE2469B5B9AA669A773 | AV42: 67443
Q43: 01010201
Q44: 01010201
Q45: 01010201
Q46: 01010201
Q47: 01010201
Q48: 01010201
Q49: 01010201
Q50: 01010201
Q51: 01010201
Q52: 01010201
Q53: 01010201
Q54: 01010201
A55: [ 합 계 ] | L55: =SUMIF(Q31:Q54,"01010201",L31:L54) -> 0 | N55: TOTAL
A56: 토 및 지정공사 | Q56: 01010202
A57: 기계터파기/보통토사/5M이하(육상) | B57: TypeⅠ(일반) | C57: M3 | D57: 48 | K57: =TRUNC(E57+G57+I57, 0) -> 0 | L57: =TRUNC(F57+H57+J57, 0) -> 0 | M57: 호표 17 | N57: 5770A13CF4CB9275537EE92B1A0687 | Q57: 01010202 | R57: T | S57: F | T57: F | AU57: 010102025770A13CF4CB9275537EE92B1A0687 | AV57: 66415
A58: 되메우기 및 다짐 | B58: 대형장비 | C58: M3 | D58: 27 | K58: =TRUNC(E58+G58+I58, 0) -> 0 | L58: =TRUNC(F58+H58+J58, 0) -> 0 | M58: 호표 18 | N58: 5770A13C24734215FBDE59D04A0701 | Q58: 01010202 | R58: T | S58: F | T58: F | AU58: 010102025770A13C24734215FBDE59D04A0701 | AV58: 66416
A59: 토사 운반/단지외 10km | B59: 보통, 덤프 24ton+굴착기 1.0m3(고르기 별도) | C59: M3 | D59: 21 | K59: =TRUNC(E59+G59+I59, 0) -> 0 | L59: =TRUNC(F59+H59+J59, 0) -> 0 | M59: 산근 1 | N59: 5770A13CC475E265034C49418016F1 | Q59: 01010202 | R59: F | S59: T | T59: F | AU59: 010102025770A13CC475E265034C49418016F1 | AV59: 66417
A60: 방습필름 설치 - 바닥 | B60: 폴리에틸렌필름, 두께, 0.03mm, 2겹 | C60: M2 | D60: 16 | K60: =TRUNC(E60+G60+I60, 0) -> 0 | L60: =TRUNC(F60+H60+J60, 0) -> 0 | M60: 호표 19 | N60: 575CE13EB42AB215359DC8AE985953 | Q60: 01010202 | R60: T | S60: F | T60: F | AU60: 01010202575CE13EB42AB215359DC8AE985953 | AV60: 67232
Q61: 01010202
Q62: 01010202
Q63: 01010202
Q64: 01010202
Q65: 01010202
Q66: 01010202
Q67: 01010202
Q68: 01010202
Q69: 01010202
Q70: 01010202
Q71: 01010202
Q72: 01010202
... Q80: 01010202
A81: [ 합 계 ] | L81: =SUMIF(Q57:Q80,"01010202",L57:L80) -> 0 | N81: TOTAL
A82: 철근콘크리트공사 | Q82: 01010203
A83: 레미콘 - 서울 | B83: 25-30-15 | C83: M3 | D83: 15 | K83: =TRUNC(E83+G83+I83, 0) -> 0 | L83: =TRUNC(F83+H83+J83, 0) -> 0 | N83: 5076B13D14AE52E5D1D2C2623FAF206BD8C8DD | Q83: 01010203 | R83: F | S83: F | T83: T | AU83: 010102035076B13D14AE52E5D1D2C2623FAF206BD8C8DD | AV83: 66452
A84: 레미콘 - 서울 | B84: 25-18-12 | C84: M3 | D84: 1 | K84: =TRUNC(E84+G84+I84, 0) -> 0 | L84: =TRUNC(F84+H84+J84, 0) -> 0 | N84: 5076B13D14AE52E5D1D2C2623FAF206BD8CE60 | Q84: 01010203 | R84: F | S84: F | T84: T | AU84: 010102035076B13D14AE52E5D1D2C2623FAF206BD8CE60 | AV84: 66451
A85: 레미콘 - 서울 | B85: 25-18-08 | C85: M3 | D85: 1 | K85: =TRUNC(E85+G85+I85, 0) -> 0 | L85: =TRUNC(F85+H85+J85, 0) -> 0 | N85: 5076B13D14AE52E5D1D2C2623FAF206BD8CD51 | Q85: 01010203 | R85: F | S85: F | T85: T | AU85: 010102035076B13D14AE52E5D1D2C2623FAF206BD8CD51 | AV85: 66450
A86: 콘크리트 펌프차 타설 | B86: slump 15cm, 매트기초 등, f2 : Type-Ⅱ, 32m | C86: M3 | D86: 8 | K86: =TRUNC(E86+G86+I86, 0) -> 0 | L86: =TRUNC(F86+H86+J86, 0) -> 0 | M86: 호표 20 | N86: 575C513D44B512F5891355A49A0E71 | Q86: 01010203 | R86: T | S86: F | T86: F | AU86: 01010203575C513D44B512F5891355A49A0E71 | AV86: 66424
A87: 콘크리트 펌프차 타설 | B87: slump 15cm, 벽,기둥,슬래브 등, f2 : Type-Ⅱ, 32m | C87: M3 | D87: 7 | K87: =TRUNC(E87+G87+I87, 0) -> 0 | L87: =TRUNC(F87+H87+J87, 0) -> 0 | M87: 호표 21 | N87: 575C513D44B512C5351564DA4B83C0 | Q87: 01010203 | R87: T | S87: F | T87: F | AU87: 01010203575C513D44B512C5351564DA4B83C0 | AV87: 66425
A88: 콘크리트 펌프차 타설(무근) | B88: slump 8~12cm, 벽,기둥,슬래브 등, f2 : Type-Ⅱ, 32m | C88: M3 | D88: 1 | K88: =TRUNC(E88+G88+I88, 0) -> 0 | L88: =TRUNC(F88+H88+J88, 0) -> 0 | M88: 호표 22 | N88: 575C513D44B6223528F340015AE220 | Q88: 01010203 | R88: T | S88: F | T88: F | AU88: 01010203575C513D44B6223528F340015AE220 | AV88: 66426
A89: 콘크리트 펌프차 타설(버림, 진동기無) | B89: slump 8~12cm, 매트기초 등, f2 : Type-Ⅱ, 32m | C89: M3 | D89: 1 | K89: =TRUNC(E89+G89+I89, 0) -> 0 | L89: =TRUNC(F89+H89+J89, 0) -> 0 | M89: 호표 23 | N89: 575C513D44B622157A17584E8F431B | Q89: 01010203 | R89: T | S89: F | T89: F | AU89: 01010203575C513D44B622157A17584E8F431B | AV89: 66427
A90: 유로폼 설치 및 해체 | B90: 3회, 복잡, 수직고 7m까지 | C90: M2 | D90: 11 | K90: =TRUNC(E90+G90+I90, 0) -> 0 | L90: =TRUNC(F90+H90+J90, 0) -> 0 | M90: 호표 24 | N90: 575C513D3495A2059CC9B58A118C0C | Q90: 01010203 | R90: T | S90: F | T90: F | AU90: 01010203575C513D3495A2059CC9B58A118C0C | AV90: 66458
A91: 유로폼 설치 및 해체 | B91: 3회, 보통, 수직고 7m까지 | C91: M2 | D91: 28 | K91: =TRUNC(E91+G91+I91, 0) -> 0 | L91: =TRUNC(F91+H91+J91, 0) -> 0 | M91: 호표 25 | N91: 575C513D3495A2059CC9B58A118FC0 | Q91: 01010203 | R91: T | S91: F | T91: F | AU91: 01010203575C513D3495A2059CC9B58A118FC0 | AV91: 66431
A92: 유로폼 설치 및 해체 | B92: 3회, 간단, 수직고 7m까지 | C92: M2 | D92: 9 | K92: =TRUNC(E92+G92+I92, 0) -> 0 | L92: =TRUNC(F92+H92+J92, 0) -> 0 | M92: 호표 26 | N92: 575C513D3495A2059CC9B58A118E39 | Q92: 01010203 | R92: T | S92: F | T92: F | AU92: 01010203575C513D3495A2059CC9B58A118E39 | AV92: 66432
A93: GC DECK | B93: GC1-Type(상단 D10, 하단 D8*2) | C93: M2 | D93: 8 | K93: =TRUNC(E93+G93+I93, 0) -> 0 | L93: =TRUNC(F93+H93+J93, 0) -> 0 | N93: 5076B13D14A602052F69B23EDA6B7171E111CA | Q93: 01010203 | R93: F | S93: F | T93: T | AU93: 010102035076B13D14A602052F69B23EDA6B7171E111CA | AV93: 66460
A94: 데크플레이트 설치 | B94: 10층 이하(자재 별도) | C94: M2 | D94: 8 | K94: =TRUNC(E94+G94+I94, 0) -> 0 | L94: =TRUNC(F94+H94+J94, 0) -> 0 | M94: 호표 27 | N94: 575C413ED47F42857F8B2CFCA68DFD | Q94: 01010203 | R94: T | S94: F | T94: F | AU94: 01010203575C413ED47F42857F8B2CFCA68DFD | AV94: 66459
A95: 철근콘크리트용봉강 | B95: 철근콘크리트용봉강, 이형봉강(SD400), HD-10, 지정장소도 | C95: TON | D95: 0.141 | K95: =TRUNC(E95+G95+I95, 0) -> 0 | L95: =TRUNC(F95+H95+J95, 0) -> 0 | N95: 5076B13D14AF6275F501E39CAC19E5C7AC62EA | Q95: 01010203 | R95: F | S95: F | T95: T | AU95: 010102035076B13D14AF6275F501E39CAC19E5C7AC62EA | AV95: 66453
A96: 철근콘크리트용봉강 | B96: 철근콘크리트용봉강, 이형봉강(SD400), HD-13, 지정장소도 | C96: TON | D96: 0.735 | K96: =TRUNC(E96+G96+I96, 0) -> 0 | L96: =TRUNC(F96+H96+J96, 0) -> 0 | N96: 5076B13D14AF6275F501E39CAC19E5C7AF376F | Q96: 01010203 | R96: F | S96: F | T96: T | AU96: 010102035076B13D14AF6275F501E39CAC19E5C7AF376F | AV96: 66454
A97: 철근콘크리트용봉강 | B97: 철근콘크리트용봉강, 이형봉강(SD400), HD-16, 지정장소도 | C97: TON | D97: 0.586 | K97: =TRUNC(E97+G97+I97, 0) -> 0 | L97: =TRUNC(F97+H97+J97, 0) -> 0 | N97: 5076B13D14AF6275F501E39CAC19E5C7AE1046 | Q97: 01010203 | R97: F | S97: F | T97: T | AU97: 010102035076B13D14AF6275F501E39CAC19E5C7AE1046 | AV97: 66455
A98: 철근콘크리트용봉강 | B98: 철근콘크리트용봉강, 이형봉강(SD400), HD-19, 지정장소도 | C98: TON | D98: 0.443 | K98: =TRUNC(E98+G98+I98, 0) -> 0 | L98: =TRUNC(F98+H98+J98, 0) -> 0 | N98: 5076B13D14AF6275F501E39CAC19E5C7A9AE23 | Q98: 01010203 | R98: F | S98: F | T98: T | AU98: 010102035076B13D14AF6275F501E39CAC19E5C7A9AE23 | AV98: 66456
A99: 철근 공장가공 및 현장조립 | B99: Type-Ⅰ | C99: TON | D99: 1.85 | K99: =TRUNC(E99+G99+I99, 0) -> 0 | L99: =TRUNC(F99+H99+J99, 0) -> 0 | M99: 호표 28 | N99: 575C513D04DC7275AFE2FDD6FF9A72 | Q99: 01010203 | R99: T | S99: F | T99: F | AU99: 01010203575C513D04DC7275AFE2FDD6FF9A72 | AV99: 66457
A100: 철근 가공조립 시공상세도 작성비 | C100: ton | D100: 1.85 | K100: =TRUNC(E100+G100+I100, 0) -> 0 | L100: =TRUNC(F100+H100+J100, 0) -> 0 | N100: 575D313014CBD2A5765EC2A2B49A9C | Q100: 01010203 | R100: F | S100: F | T100: T | AU100: 01010203575D313014CBD2A5765EC2A2B49A9C | AV100: 66442
A101: 철강설 | B101: 철강설, 고철, 작업설부산물 | C101: TON | D101: -0.049 | K101: =TRUNC(E101+G101+I101, 0) -> 0 | L101: =TRUNC(F101+H101+J101, 0) -> 0 | M101: 수집상차도 | N101: 505BC136C4215285096CFA7394F65F259F7C3E | Q101: 01010203 | R101: F | S101: F | T101: T | AU101: 01010203505BC136C4215285096CFA7394F65F259F7C3E | AV101: 66443
A102: 지수판설치 - 소켓연결 | B102: PVC, H200*5t | C102: M | D102: 11 | K102: =TRUNC(E102+G102+I102, 0) -> 0 | L102: =TRUNC(F102+H102+J102, 0) -> 0 | M102: 호표 29 | N102: 575C513DA4C402C52ADE88CE034981 | Q102: 01010203 | R102: T | S102: F | T102: F | AU102: 01010203575C513DA4C402C52ADE88CE034981 | AV102: 66444
Q103: 01010203
Q104: 01010203
Q105: 01010203
Q106: 01010203
A107: [ 합 계 ] | L107: =SUMIF(Q83:Q106,"01010203",L83:L106) -> 0 | N107: TOTAL
A108: 철 골 공 사 | Q108: 01010204
A109: H형강 | B109: SM275, 200*200*8*12mm, 현장도착도 | C109: TON | D109: 7.994 | K109: =TRUNC(E109+G109+I109, 0) -> 0 | L109: =TRUNC(F109+H109+J109, 0) -> 0 | M109: 49.9kg/m | N109: 5076B13D14AF6275F4797581DA8EDC8C30BA31 | Q109: 01010204 | R109: F | S109: F | T109: T | AU109: 010102045076B13D14AF6275F4797581DA8EDC8C30BA31 | AV109: 66511
A110: 용접구조용압연강판 | B110: 용접구조용압연강판(SM275), 9.0mm | C110: TON | D110: 0.981 | K110: =TRUNC(E110+G110+I110, 0) -> 0 | L110: =TRUNC(F110+H110+J110, 0) -> 0 | M110: 호표 30 | N110: 575C413E84FE12558F98441DAD2058 | Q110: 01010204 | R110: T | S110: F | T110: F | AU110: 01010204575C413E84FE12558F98441DAD2058 | AV110: 66512
A111: 용접구조용압연강판 | B111: 용접구조용압연강판(SM275), 12mm | C111: TON | D111: 0.924 | K111: =TRUNC(E111+G111+I111, 0) -> 0 | L111: =TRUNC(F111+H111+J111, 0) -> 0 | M111: 호표 31 | N111: 575C413E84FE12558F98441DAD217A | Q111: 01010204 | R111: T | S111: F | T111: F | AU111: 01010204575C413E84FE12558F98441DAD217A | AV111: 66514
A112: 용접구조용압연강판 | B112: 용접구조용압연강판(SM275), 16mm | C112: TON | D112: 0.068 | K112: =TRUNC(E112+G112+I112, 0) -> 0 | L112: =TRUNC(F112+H112+J112, 0) -> 0 | M112: 호표 32 | N112: 575C413E84FE12558F98441DAD217E | Q112: 01010204 | R112: T | S112: F | T112: F | AU112: 01010204575C413E84FE12558F98441DAD217E | AV112: 66513
...

Sheet Sheet1
