Workbook
Name database2: #REF!
Name database2: #REF!
Name HH: [1]정부노임단가!$A$5:$F$215
Name JH: [2]정부노임단가!$A$5:$F$215
Name JJ: [3]정부노임단가!$A$5:$F$215
Name KK: [2]정부노임단가!$A$5:$F$215
Name ㅗ50: [4]연습!#REF!
Name ㅗ50: [4]연습!#REF!

Sheet 건축원가
A1: 공사명 : 새마을운동중앙연수원 생활관 환경개선(리모델링)
A2: 비 목 | D2: 금 액 | G2: 구 성 비 | N2: 비 고
A3: 순 공 사 원 가 | B3: 재료비 | C3: 직 접 재 료 비
C4: 간 접 재 료 비
C5: 작 업 설 , 부 산 물 등 (△)
C6: [ 소 계 ]
B7: 노무비 | C7: 직 접 노 무 비
C8: 간 접 노 무 비 | G8: 직접노무비 | H8: × | I8: 0.174
C9: [ 소 계 ]
B10: 경 비 | C10: 산 출 경 비
C11: 품 질 관 리 비
C12: 안 전 관 리 비
C13: 건 설 폐 기 물 처 리 비 (100톤 미만)
C14: 산 재 보 험 료 | G14: 노무비 | H14: × | I14: 0.0356
C15: 고 용 보 험 료 | G15: 노무비 | H15: × | I15: 0.0101
C16: 건 강 보 험 료 | G16: 직접노무비 | H16: × | I16: 0.03595
C17: 연 금 보 험 료 | G17: 직접노무비 | H17: × | I17: 0.0475
C18: 노 인 장 기 요 양 보 험 료 | G18: 건강보험료 | H18: × | I18: 0.1314
C19: 퇴 직 공 제 부 금 비 | G19: 직접노무비 | H19: × | I19: 0.023
C20: 산 업 안 전 보 건 관 리 비 | G20: (재+직노+관급) | H20: × | I20: 0.0228 | J20: + | K20: 4325000
C21: 기 타 경 비 | G21: (재료비+노무비) | H21: × | I21: 0.052
C22: 환 경 보 전 비 | G22: (재+직노+산출경비) | H22: × | I22: 0.003
C23: 공 사 이 행 보 증 수 수 료 | G23: 50000000000 | H23: × | I23: 0.00014 | J23: + | K23: 13500000 | L23: × | M23: 0
C24: 건설하도급대금지급보증서발급수수료 | G24: (재+직노+산출경비) | H24: × | I24: 0.00081
C25: 건설기계대여대금지급보증서발급수수료 | G25: (재+직노+산출경비) | H25: × | I25: 0.0007
C26: 석 면 분 담 금 | G26: 노무비 | H26: × | I26: 6e-05
C27: 임 금 채 권 부 담 금 | G27: 노무비 | H27: × | I27: 0.0009
C28: [ 소 계 ]
B29: 계
A30: 일 반 관 리 비 | G30: 순공사 | H30: × | I30: 0.08
A31: 이 윤 | G31: (노무비+경비+일관) | H31: × | I31: 0.15
A32: T . A . B
A33: 비 구 조 요 소 검 토 비
A34: 폐 기 물 처 리 비 ( 건 설 ) | N34: 100톤미만적용
A35: 정 기 안 전 점 검 비 | G35: (순공사+관급) | H35: ×
A36: 공 급 가 액
A37: 공 사 손 해 보 험 료 | G37: (공급가액+관급) | H37: × | P37: ← 공사손해보험료 : PQ공사, 대안입찰, 턴키입찰 0.25%
A38: 부 가 가 치 세 | G38: (공급가액) | H38: × | I38: 0.1
A39: [ 도 급 액 ]
A40: 관급자재비 | C40: 도급자 설치 | N40: 부가세포함 | P40: ← 산업안전보건관리비에 반영
...

Sheet 건설폐기물원가
A1: 공사명 : 새마을운동중앙연수원 생활관 환경개선(리모델링)
A2: 비 목 | D2: 금 액 | G2: 구 성 비 | N2: 비 고
A3: 순 공 사 원 가 | B3: 재료비 | C3: ='[5](01)건축원가'!C3 -> 직 접 재 료 비
C4: ='[5](01)건축원가'!C4 -> 간 접 재 료 비
C5: ='[5](01)건축원가'!C5 -> 작 업 설 , 부 산 물 등 (△)
C6: ='[5](01)건축원가'!C6 -> [ 소 계 ]
B7: 노무비 | C7: ='[5](01)건축원가'!C7 -> 직 접 노 무 비
C8: ='[5](01)건축원가'!C8 -> 간 접 노 무 비 | G8: 직접노무비 | H8: × | I8: 0.174
C9: ='[5](01)건축원가'!C9 -> [ 소 계 ]
B10: 경 비 | C10: ='[5](01)건축원가'!C10 -> 산 출 경 비
C11: ='[5](01)건축원가'!C14 -> 산 재 보 험 료 | G11: 노무비 | H11: × | I11: 0.0356
C12: ='[5](01)건축원가'!C15 -> 고 용 보 험 료 | G12: 노무비 | H12: × | I12: 0.0101
C13: ='[5](01)건축원가'!C16 -> 건 강 보 험 료 | G13: 직접노무비 | H13: × | I13: 0.03595
C14: ='[5](01)건축원가'!C17 -> 연 금 보 험 료 | G14: 직접노무비 | H14: × | I14: 0.0475
C15: ='[5](01)건축원가'!C18 -> 노 인 장 기 요 양 보 험 료 | G15: 건강보험료 | H15: × | I15: 0.1314
C16: ='[5](01)건축원가'!C19 -> 퇴 직 공 제 부 금 비 | G16: 직접노무비 | H16: × | I16: 0.023
C17: ='[5](01)건축원가'!C20 -> 산 업 안 전 보 건 관 리 비 | G17: (재+직노+관급) | H17: × | I17: 0.0228 | L17: 0 | M17: 0
C18: ='[5](01)건축원가'!C21 -> 기 타 경 비 | G18: (재료비+노무비) | H18: × | I18: 0.052
C19: ='[5](01)건축원가'!C22 -> 환 경 보 전 비 | G19: (재+직노+산출경비) | H19: × | I19: 0.003
C20: ='[5](01)건축원가'!C23 -> 공 사 이 행 보 증 수 수 료 | G20: (재+직노+산출경비) | H20: × | I20: 0.00014 | J20: ] | L20: × | M20: 0
C21: ='[5](01)건축원가'!C24 -> 건설하도급대금지급보증서발급수수료 | G21: (재+직노+산출경비) | H21: × | I21: 0.00081
C22: ='[5](01)건축원가'!C25 -> 건설기계대여대금지급보증서발급수수료 | G22: (재+직노+산출경비) | H22: × | I22: 0.0007
C23: ='[5](01)건축원가'!C28 -> [ 소 계 ]
B24: ='[5](01)건축원가'!B29:C29 -> 계
A25: ='[5](01)건축원가'!A30:C30 -> 일 반 관 리 비 | G25: 순공사 | H25: × | I25: 0.08
A26: ='[5](01)건축원가'!A31:C31 -> 이 윤 | G26: (노무비+경비+일관) | H26: × | I26: 0.15
A27: ='[5](01)건축원가'!A32:C32 -> T . A . B
A28: 건 설 폐 기 물 처 리 비(100톤 이상) | G28: (순공사+관급) | H28: × | I28: 0
A29: ='[5](01)건축원가'!A36:C36 -> 공 급 가 액
A30: ='[5](01)건축원가'!A37:C37 -> 공 사 손 해 보 험 료 | G30: (공급가액+관급) | H30: × | I30: 0
A31: ='[5](01)건축원가'!A38:C38 -> 부 가 가 치 세 | G31: (공급가액) | H31: × | I31: 0.1
A32: ='[5](01)건축원가'!A39:C39 -> [ 도 급 액 ]
A33: ='[5](01)건축원가'!A40 -> 관급자재비 | C33: ='[5](01)건축원가'!C40 -> 도급자 설치 | N33: ='[5](01)건축원가'!N40 -> 부가세포함
C34: ='[5](01)건축원가'!C41 -> 관급자 설치 | N34: ='[5](01)건축원가'!N41 -> 부가세포함
C35: ='[5](01)건축원가'!C42 -> 소 계
A36: ='[5](01)건축원가'!A43:C43 -> 시 설 분 담 금 | N36: ='[5](01)건축원가'!N43 -> 부가세포함 | P36: ← 토목(하수도인입비), 기계(도시가스인입비,중온수인입비,상수도인입비), 전기(한전불입금)
A37: ='[5](01)건축원가'!A44:C44 -> 미 술 장 식 품 | N37: ='[5](01)건축원가'!N44 -> 부가세포함
A38: ='[5](01)건축원가'!A45:C45 -> 각 종 인 증 비 | N38: ='[5](01)건축원가'!N45 -> 부가세포함
A39: ='[5](01)건축원가'!A46:C46 -> [ 총 공 사 비 ]

Sheet 공종별집계표
A1: 공 종 별 집 계 표
A2: [ ■.새마을운동중앙연수원 생활관 환경개선(리모델링) ]
A3: 품 명 | B3: 규 격 | C3: 단위 | D3: 수량 | E3: 재 료 비 | G3: 노 무 비 | I3: 경 비 | K3: 합 계 | M3: 비 고 | N3: 공종코드 | O3: 변수 | P3: 상위공종 | Q3: 공종구분 | R3: 공종레벨 | S3: 공종소계 | T3: 원가계산서 연결금액
E4: 단 가 | F4: 금 액 | G4: 단 가 | H4: 금 액 | I4: 단 가 | J4: 금 액 | K4: 단 가 | L4: 금 액
A5: ■.새마을운동중앙연수원 생활관 환경개선(리모델링) | D5: 1 | E5: =F6+F86+F87+F88 -> 0 | F5: =E5*D5 -> 0 | G5: =H6+H86+H87+H88 -> 0 | H5: =G5*D5 -> 0 | I5: =J6+J86+J87+J88 -> 0 | J5: =I5*D5 -> 0 | K5: =E5+G5+I5 -> 0 | L5: =F5+H5+J5 -> 0 | N5: 01 | R5: 1
A6: ■.건축공사 | D6: 1 | E6: =F7+F8+F28+F46+F64+F84 -> 0 | F6: =E6*D6 -> 0 | G6: =H7+H8+H28+H46+H64+H84 -> 0 | H6: =G6*D6 -> 0 | I6: =J7+J8+J28+J46+J64+J84 -> 0 | J6: =I6*D6 -> 0 | K6: =E6+G6+I6 -> 0 | L6: =F6+H6+J6 -> 0 | N6: 0101 | P6: 01 | R6: 2
A7: ◆.공통가설공사 | D7: 1 | E7: =공종별내역서!F29 -> 0 | F7: =E7*D7 -> 0 | G7: =공종별내역서!H29 -> 0 | H7: =G7*D7 -> 0 | I7: =공종별내역서!J29 -> 0 | J7: =I7*D7 -> 0 | K7: =E7+G7+I7 -> 0 | L7: =F7+H7+J7 -> 0 | N7: 010101 | P7: 0101 | R7: 3
A8: ◆.승강기#1 | D8: 1 | E8: =F9+F10+F11+F12+F13+F14+F15+F16+F17+F18+F19+F20+F21+F22+F23+F24+F25+F26+F27 -> 0 | F8: =E8*D8 -> 0 | G8: =H9+H10+H11+H12+H13+H14+H15+H16+H17+H18+H19+H20+H21+H22+H23+H24+H25+H26+H27 -> 0 | H8: =G8*D8 -> 0 | I8: =J9+J10+J11+J12+J13+J14+J15+J16+J17+J18+J19+J20+J21+J22+J23+J24+J25+J26+J27 -> 0 | J8: =I8*D8 -> 0 | K8: =E8+G8+I8 -> 0 | L8: =F8+H8+J8 -> 0 | N8: 010102 | P8: 0101 | R8: 3
A9: 가 설 공 사 | D9: 1 | E9: =공종별내역서!F55 -> 0 | F9: =E9*D9 -> 0 | G9: =공종별내역서!H55 -> 0 | H9: =G9*D9 -> 0 | I9: =공종별내역서!J55 -> 0 | J9: =I9*D9 -> 0 | K9: =E9+G9+I9 -> 0 | L9: =F9+H9+J9 -> 0 | N9: 01010201 | P9: 010102 | R9: 4
A10: 토 및 지정공사 | D10: 1 | E10: =공종별내역서!F81 -> 0 | F10: =E10*D10 -> 0 | G10: =공종별내역서!H81 -> 0 | H10: =G10*D10 -> 0 | I10: =공종별내역서!J81 -> 0 | J10: =I10*D10 -> 0 | K10: =E10+G10+I10 -> 0 | L10: =F10+H10+J10 -> 0 | N10: 01010202 | P10: 010102 | R10: 4
A11: 철근콘크리트공사 | D11: 1 | E11: =공종별내역서!F107 -> 0 | F11: =E11*D11 -> 0 | G11: =공종별내역서!H107 -> 0 | H11: =G11*D11 -> 0 | I11: =공종별내역서!J107 -> 0 | J11: =I11*D11 -> 0 | K11: =E11+G11+I11 -> 0 | L11: =F11+H11+J11 -> 0 | N11: 01010203 | P11: 010102 | R11: 4
A12: 철 골 공 사 | D12: 1 | E12: =공종별내역서!F133 -> 0 | F12: =E12*D12 -> 0 | G12: =공종별내역서!H133 -> 0 | H12: =G12*D12 -> 0 | I12: =공종별내역서!J133 -> 0 | J12: =I12*D12 -> 0 | K12: =E12+G12+I12 -> 0 | L12: =F12+H12+J12 -> 0 | N12: 01010204 | P12: 010102 | R12: 4
A13: 조 적 공 사 | D13: 1 | E13: =공종별내역서!F159 -> 0 | F13: =E13*D13 -> 0 | G13: =공종별내역서!H159 -> 0 | H13: =G13*D13 -> 0 | I13: =공종별내역서!J159 -> 0 | J13: =I13*D13 -> 0 | K13: =E13+G13+I13 -> 0 | L13: =F13+H13+J13 -> 0 | N13: 01010205 | P13: 010102 | R13: 4
A14: 돌 공 사 | D14: 1 | E14: =공종별내역서!F185 -> 0 | F14: =E14*D14 -> 0 | G14: =공종별내역서!H185 -> 0 | H14: =G14*D14 -> 0 | I14: =공종별내역서!J185 -> 0 | J14: =I14*D14 -> 0 | K14: =E14+G14+I14 -> 0 | L14: =F14+H14+J14 -> 0 | N14: 01010206 | P14: 010102 | R14: 4
A15: 수 장 공 사 | D15: 1 | E15: =공종별내역서!F211 -> 0 | F15: =E15*D15 -> 0 | G15: =공종별내역서!H211 -> 0 | H15: =G15*D15 -> 0 | I15: =공종별내역서!J211 -> 0 | J15: =I15*D15 -> 0 | K15: =E15+G15+I15 -> 0 | L15: =F15+H15+J15 -> 0 | N15: 01010207 | P15: 010102 | R15: 4
A16: 방 수 공 사 | D16: 1 | E16: =공종별내역서!F237 -> 0 | F16: =E16*D16 -> 0 | G16: =공종별내역서!H237 -> 0 | H16: =G16*D16 -> 0 | I16: =공종별내역서!J237 -> 0 | J16: =I16*D16 -> 0 | K16: =E16+G16+I16 -> 0 | L16: =F16+H16+J16 -> 0 | N16: 01010208 | P16: 010102 | R16: 4
A17: 금 속 공 사 | D17: 1 | E17: =공종별내역서!F263 -> 0 | F17: =E17*D17 -> 0 | G17: =공종별내역서!H263 -> 0 | H17: =G17*D17 -> 0 | I17: =공종별내역서!J263 -> 0 | J17: =I17*D17 -> 0 | K17: =E17+G17+I17 -> 0 | L17: =F17+H17+J17 -> 0 | N17: 01010209 | P17: 010102 | R17: 4
A18: 미 장 공 사 | D18: 1 | E18: =공종별내역서!F289 -> 0 | F18: =E18*D18 -> 0 | G18: =공종별내역서!H289 -> 0 | H18: =G18*D18 -> 0 | I18: =공종별내역서!J289 -> 0 | J18: =I18*D18 -> 0 | K18: =E18+G18+I18 -> 0 | L18: =F18+H18+J18 -> 0 | N18: 01010210 | P18: 010102 | R18: 4
A19: 창 호 공 사 | D19: 1 | E19: =공종별내역서!F315 -> 0 | F19: =E19*D19 -> 0 | G19: =공종별내역서!H315 -> 0 | H19: =G19*D19 -> 0 | I19: =공종별내역서!J315 -> 0 | J19: =I19*D19 -> 0 | K19: =E19+G19+I19 -> 0 | L19: =F19+H19+J19 -> 0 | N19: 01010211 | P19: 010102 | R19: 4
A20: 유 리 공 사 | D20: 1 | E20: =공종별내역서!F341 -> 0 | F20: =E20*D20 -> 0 | G20: =공종별내역서!H341 -> 0 | H20: =G20*D20 -> 0 | I20: =공종별내역서!J341 -> 0 | J20: =I20*D20 -> 0 | K20: =E20+G20+I20 -> 0 | L20: =F20+H20+J20 -> 0 | N20: 01010212 | P20: 010102 | R20: 4
A21: 칠 공 사 | D21: 1 | E21: =공종별내역서!F367 -> 0 | F21: =E21*D21 -> 0 | G21: =공종별내역서!H367 -> 0 | H21: =G21*D21 -> 0 | I21: =공종별내역서!J367 -> 0 | J21: =I21*D21 -> 0 | K21: =E21+G21+I21 -> 0 | L21: =F21+H21+J21 -> 0 | N21: 01010213 | P21: 010102 | R21: 4
A22: 부 대 공 사 | D22: 1 | E22: =공종별내역서!F393 -> 0 | F22: =E22*D22 -> 0 | G22: =공종별내역서!H393 -> 0 | H22: =G22*D22 -> 0 | I22: =공종별내역서!J393 -> 0 | J22: =I22*D22 -> 0 | K22: =E22+G22+I22 -> 0 | L22: =F22+H22+J22 -> 0 | N22: 01010214 | P22: 010102 | R22: 4
A23: 판 넬 공 사 | D23: 1 | E23: =공종별내역서!F419 -> 0 | F23: =E23*D23 -> 0 | G23: =공종별내역서!H419 -> 0 | H23: =G23*D23 -> 0 | I23: =공종별내역서!J419 -> 0 | J23: =I23*D23 -> 0 | K23: =E23+G23+I23 -> 0 | L23: =F23+H23+J23 -> 0 | N23: 01010215 | P23: 010102 | R23: 4
A24: 익스펜션조인트공사 | D24: 1 | E24: =공종별내역서!F445 -> 0 | F24: =E24*D24 -> 0 | G24: =공종별내역서!H445 -> 0 | H24: =G24*D24 -> 0 | I24: =공종별내역서!J445 -> 0 | J24: =I24*D24 -> 0 | K24: =E24+G24+I24 -> 0 | L24: =F24+H24+J24 -> 0 | N24: 01010216 | P24: 010102 | R24: 4
A25: 승강기 설치공사 | D25: 1 | E25: =공종별내역서!F471 -> 0 | F25: =E25*D25 -> 0 | G25: =공종별내역서!H471 -> 0 | H25: =G25*D25 -> 0 | I25: =공종별내역서!J471 -> 0 | J25: =I25*D25 -> 0 | K25: =E25+G25+I25 -> 0 | L25: =F25+H25+J25 -> 0 | N25: 01010217 | P25: 010102 | R25: 4
A26: 철 거 공 사 | D26: 1 | E26: =공종별내역서!F523 -> 0 | F26: =E26*D26 -> 0 | G26: =공종별내역서!H523 -> 0 | H26: =G26*D26 -> 0 | I26: =공종별내역서!J523 -> 0 | J26: =I26*D26 -> 0 | K26: =E26+G26+I26 -> 0 | L26: =F26+H26+J26 -> 0 | N26: 01010218 | P26: 010102 | R26: 4
A27: 골재비 및 운반비 | D27: 1 | E27: =공종별내역서!F549 -> 0 | F27: =E27*D27 -> 0 | G27: =공종별내역서!H549 -> 0 | H27: =G27*D27 -> 0 | I27: =공종별내역서!J549 -> 0 | J27: =I27*D27 -> 0 | K27: =E27+G27+I27 -> 0 | L27: =F27+H27+J27 -> 0 | N27: 01010219 | P27: 010102 | R27: 4
A28: ◆.승강기#2 | D28: 1 | E28: =F29+F30+F31+F32+F33+F34+F35+F36+F37+F38+F39+F40+F41+F42+F43+F44+F45 -> 0 | F28: =E28*D28 -> 0 | G28: =H29+H30+H31+H32+H33+H34+H35+H36+H37+H38+H39+H40+H41+H42+H43+H44+H45 -> 0 | H28: =G28*D28 -> 0 | I28: =J29+J30+J31+J32+J33+J34+J35+J36+J37+J38+J39+J40+J41+J42+J43+J44+J45 -> 0 | J28: =I28*D28 -> 0 | K28: =E28+G28+I28 -> 0 | L28: =F28+H28+J28 -> 0 | N28: 010103 | P28: 0101 | R28: 3
A29: 가 설 공 사 | D29: 1 | E29: =공종별내역서!F575 -> 0 | F29: =E29*D29 -> 0 | G29: =공종별내역서!H575 -> 0 | H29: =G29*D29 -> 0 | I29: =공종별내역서!J575 -> 0 | J29: =I29*D29 -> 0 | K29: =E29+G29+I29 -> 0 | L29: =F29+H29+J29 -> 0 | N29: 01010301 | P29: 010103 | R29: 4
A30: 토 및 지정공사 | D30: 1 | E30: =공종별내역서!F601 -> 0 | F30: =E30*D30 -> 0 | G30: =공종별내역서!H601 -> 0 | H30: =G30*D30 -> 0 | I30: =공종별내역서!J601 -> 0 | J30: =I30*D30 -> 0 | K30: =E30+G30+I30 -> 0 | L30: =F30+H30+J30 -> 0 | N30: 01010302 | P30: 010103 | R30: 4
A31: 철근콘크리트공사 | D31: 1 | E31: =공종별내역서!F627 -> 0 | F31: =E31*D31 -> 0 | G31: =공종별내역서!H627 -> 0 | H31: =G31*D31 -> 0 | I31: =공종별내역서!J627 -> 0 | J31: =I31*D31 -> 0 | K31: =E31+G31+I31 -> 0 | L31: =F31+H31+J31 -> 0 | N31: 01010303 | P31: 010103 | R31: 4
A32: 철 골 공 사 | D32: 1 | E32: =공종별내역서!F653 -> 0 | F32: =E32*D32 -> 0 | G32: =공종별내역서!H653 -> 0 | H32: =G32*D32 -> 0 | I32: =공종별내역서!J653 -> 0 | J32: =I32*D32 -> 0 | K32: =E32+G32+I32 -> 0 | L32: =F32+H32+J32 -> 0 | N32: 01010304 | P32: 010103 | R32: 4
A33: 조 적 공 사 | D33: 1 | E33: =공종별내역서!F679 -> 0 | F33: =E33*D33 -> 0 | G33: =공종별내역서!H679 -> 0 | H33: =G33*D33 -> 0 | I33: =공종별내역서!J679 -> 0 | J33: =I33*D33 -> 0 | K33: =E33+G33+I33 -> 0 | L33: =F33+H33+J33 -> 0 | N33: 01010305 | P33: 010103 | R33: 4
A34: 돌 공 사 | D34: 1 | E34: =공종별내역서!F705 -> 0 | F34: =E34*D34 -> 0 | G34: =공종별내역서!H705 -> 0 | H34: =G34*D34 -> 0 | I34: =공종별내역서!J705 -> 0 | J34: =I34*D34 -> 0 | K34: =E34+G34+I34 -> 0 | L34: =F34+H34+J34 -> 0 | N34: 01010306 | P34: 010103 | R34: 4
A35: 수 장 공 사 | D35: 1 | E35: =공종별내역서!F731 -> 0 | F35: =E35*D35 -> 0 | G35: =공종별내역서!H731 -> 0 | H35: =G35*D35 -> 0 | I35: =공종별내역서!J731 -> 0 | J35: =I35*D35 -> 0 | K35: =E35+G35+I35 -> 0 | L35: =F35+H35+J35 -> 0 | N35: 01010307 | P35: 010103 | R35: 4
A36: 방 수 공 사 | D36: 1 | E36: =공종별내역서!F757 -> 0 | F36: =E36*D36 -> 0 | G36: =공종별내역서!H757 -> 0 | H36: =G36*D36 -> 0 | I36: =공종별내역서!J757 -> 0 | J36: =I36*D36 -> 0 | K36: =E36+G36+I36 -> 0 | L36: =F36+H36+J36 -> 0 | N36: 01010308 | P36: 010103 | R36: 4
A37: 금 속 공 사 | D37: 1 | E37: =공종별내역서!F783 -> 0 | F37: =E37*D37 -> 0 | G37: =공종별내역서!H783 -> 0 | H37: =G37*D37 -> 0 | I37: =공종별내역서!J783 -> 0 | J37: =I37*D37 -> 0 | K37: =E37+G37+I37 -> 0 | L37: =F37+H37+J37 -> 0 | N37: 01010309 | P37: 010103 | R37: 4
A38: 미 장 공 사 | D38: 1 | E38: =공종별내역서!F809 -> 0 | F38: =E38*D38 -> 0 | G38: =공종별내역서!H809 -> 0 | H38: =G38*D38 -> 0 | I38: =공종별내역서!J809 -> 0 | J38: =I38*D38 -> 0 | K38: =E38+G38+I38 -> 0 | L38: =F38+H38+J38 -> 0 | N38: 01010310 | P38: 010103 | R38: 4
A39: 창호 및 유리공사 | D39: 1 | E39: =공종별내역서!F835 -> 0 | F39: =E39*D39 -> 0 | G39: =공종별내역서!H835 -> 0 | H39: =G39*D39 -> 0 | I39: =공종별내역서!J835 -> 0 | J39: =I39*D39 -> 0 | K39: =E39+G39+I39 -> 0 | L39: =F39+H39+J39 -> 0 | N39: 01010311 | P39: 010103 | R39: 4
A40: 칠 공 사 | D40: 1 | E40: =공종별내역서!F861 -> 0 | F40: =E40*D40 -> 0 | G40: =공종별내역서!H861 -> 0 | H40: =G40*D40 -> 0 | I40: =공종별내역서!J861 -> 0 | J40: =I40*D40 -> 0 | K40: =E40+G40+I40 -> 0 | L40: =F40+H40+J40 -> 0 | N40: 01010312 | P40: 010103 | R40: 4
...

Sheet 공종별내역서
A1: [ ■.새마을운동중앙연수원 생활관 환경개선(리모델링) ]
A2: 품 명 | B2: 규 격 | C2: 단위 | D2: 수량 | E2: 재 료 비 | G2: 노 무 비 | I2: 경 비 | K2: 합 계 | M2: 비 고 | N2: 품목코드 | O2: 변수 | P2: 설정 | Q2: 공종코드 | R2: 일위 | S2: 단산 | T2: 자재 | U2: 손료적용 | V2: 손료저장 | W2: 적용율 | X2: JUK1 | Y2: JUK2 | Z2: JUK3 | AA2: JUK4 | AB2: JUK5 | AC2: JUK6 | AD2: JUK7 | AE2: JUK8 | AF2: JUK9 | AG2: JUK10 | AH2: JUK11 | AI2: JUK12 | AJ2: JUK13 | AK2: JUK14 | AL2: JUK15 | AM2: JUK16 | AN2: JUK17 | AO2: JUK18 | AP2: JUK19 | AQ2: JUK20 | AR2: 자재구분 | AS2: 공종구분 | AT2: 공종레벨 | AU2: 공종+자재 | AV2: 고유번호
E3: 단 가 | F3: 금 액 | G3: 단 가 | H3: 금 액 | I3: 단 가 | J3: 금 액 | K3: 단 가 | L3: 금 액
A4: ◆.공통가설공사 | Q4: 010101
A5: 콘테이너형 가설사무소 설치 및 해체 | B5: 3.0*6.0m, 6개월 | C5: 개소 | D5: 1 | K5: =TRUNC(E5+G5+I5, 0) -> 0 | L5: =TRUNC(F5+H5+J5, 0) -> 0 | M5: 호표 1 | N5: 575C013524BCA2E5C491F70A5E2907 | Q5: 010101 | R5: T | S5: F | T5: F | AU5: 010101575C013524BCA2E5C491F70A5E2907 | AV5: 67477
A6: 콘테이너형 가설창고 설치 및 해체 | B6: 3.0*6.0m, 6개월 | C6: 개소 | D6: 1 | K6: =TRUNC(E6+G6+I6, 0) -> 0 | L6: =TRUNC(F6+H6+J6, 0) -> 0 | M6: 호표 2 | N6: 575C013524BCA2D53899AAE10B3967 | Q6: 010101 | R6: T | S6: F | T6: F | AU6: 010101575C013524BCA2D53899AAE10B3967 | AV6: 67478
A7: 콘테이너형 가설휴게실 설치 및 해체 | B7: 3.0*6.0m, 6개월 | C7: 개소 | D7: 1 | K7: =TRUNC(E7+G7+I7, 0) -> 0 | L7: =TRUNC(F7+H7+J7, 0) -> 0 | M7: 호표 3 | N7: 575C013524BCA2E5C491F70A5E2906 | Q7: 010101 | R7: T | S7: F | T7: F | AU7: 010101575C013524BCA2E5C491F70A5E2906 | AV7: 67362
A8: 콘테이너형 가설실험실 설치 및 해체 | B8: 3.0*6.0m, 6개월 | C8: 개소 | D8: 1 | K8: =TRUNC(E8+G8+I8, 0) -> 0 | L8: =TRUNC(F8+H8+J8, 0) -> 0 | M8: 호표 4 | N8: 575C013524BCA2D53899AAE10B3966 | Q8: 010101 | R8: T | S8: F | T8: F | AU8: 010101575C013524BCA2D53899AAE10B3966 | AV8: 67479
A9: 트럭크레인(30톤) | B9: 자재양중장비 | C9: 일 | D9: 4 | K9: =TRUNC(E9+G9+I9, 0) -> 0 | L9: =TRUNC(F9+H9+J9, 0) -> 0 | M9: 호표 5 | N9: 575C01353447D2D55C5DB65F76764E | Q9: 010101 | R9: T | S9: F | T9: F | AU9: 010101575C01353447D2D55C5DB65F76764E | AV9: 67388
A10: 고압물세척 | C10: ㎡ | D10: 57 | K10: =TRUNC(E10+G10+I10, 0) -> 0 | L10: =TRUNC(F10+H10+J10, 0) -> 0 | M10: 호표 6 | N10: 575D0133D4F0F2C588AEA75123A370 | Q10: 010101 | R10: T | S10: F | T10: F | AU10: 010101575D0133D4F0F2C588AEA75123A370 | AV10: 67387
Q11: 010101
Q12: 010101
Q13: 010101
Q14: 010101
Q15: 010101
Q16: 010101
Q17: 010101
Q18: 010101
Q19: 010101
Q20: 010101
Q21: 010101
Q22: 010101
... Q28: 010101
A29: [ 합 계 ] | L29: =SUMIF(Q5:Q28,"010101",L5:L28) -> 0 | N29: TOTAL
A30: 가 설 공 사 | Q30: 01010201
A31: 목재 귀 규준틀 설치 및 철거 | C31: 개소 | D31: 4 | K31: =TRUNC(E31+G31+I31, 0) -> 0 | L31: =TRUNC(F31+H31+J31, 0) -> 0 | M31: 호표 7 | N31: 575C01351494F2F5BA888FB66BCE0E | Q31: 01010201 | R31: T | S31: F | T31: F | AU31: 01010201575C01351494F2F5BA888FB66BCE0E | AV31: 66396
A32: 시스템 비계매기(발판2열)/내벽용(ELEV PIT) | B32: 3개월, 10m 이하, 보호망미시공 | C32: M2 | D32: 22 | K32: =TRUNC(E32+G32+I32, 0) -> 0 | L32: =TRUNC(F32+H32+J32, 0) -> 0 | M32: 호표 8 | N32: 575C01351494F2F5BB96132542463D | Q32: 01010201 | R32: T | S32: F | T32: F | AU32: 01010201575C01351494F2F5BB96132542463D | AV32: 66445
A33: 시스템 비계매기(발판2열)/내벽용(ELEV PIT) | B33: 3개월, 10m 초과~20m 이하, 보호망미시공 | C33: M2 | D33: 14 | K33: =TRUNC(E33+G33+I33, 0) -> 0 | L33: =TRUNC(F33+H33+J33, 0) -> 0 | M33: 호표 9 | N33: 575C01351494F2F5BB961325424638 | Q33: 01010201 | R33: T | S33: F | T33: F | AU33: 01010201575C01351494F2F5BB961325424638 | AV33: 66446
A34: 시스템 비계매기(발판2열)/외벽용 | B34: 3개월, 10m이하, 보호망미시공 | C34: M2 | D34: 112 | K34: =TRUNC(E34+G34+I34, 0) -> 0 | L34: =TRUNC(F34+H34+J34, 0) -> 0 | M34: 호표 10 | N34: 575C01351494F2F5BB961325424E73 | Q34: 01010201 | R34: T | S34: F | T34: F | AU34: 01010201575C01351494F2F5BB961325424E73 | AV34: 66447
A35: 시스템 비계매기(발판2열)/외벽용 | B35: 3개월, 10m 초과~20m 이하, 보호망미시공 | C35: M2 | D35: 65 | K35: =TRUNC(E35+G35+I35, 0) -> 0 | L35: =TRUNC(F35+H35+J35, 0) -> 0 | M35: 호표 11 | N35: 575C01351494F2F5BB96132541A161 | Q35: 01010201 | R35: T | S35: F | T35: F | AU35: 01010201575C01351494F2F5BB96132541A161 | AV35: 66448
A36: 건축물보양 - 콘크리트면 | B36: 부직포 깔기 | C36: M2 | D36: 22 | K36: =TRUNC(E36+G36+I36, 0) -> 0 | L36: =TRUNC(F36+H36+J36, 0) -> 0 | M36: 호표 12 | N36: 575C01354469624504B0B30AE5E4DA | Q36: 01010201 | R36: T | S36: F | T36: F | AU36: 01010201575C01354469624504B0B30AE5E4DA | AV36: 66407
A37: 구조부 먹매김 | B37: 일반 | C37: M2 | D37: 15 | K37: =TRUNC(E37+G37+I37, 0) -> 0 | L37: =TRUNC(F37+H37+J37, 0) -> 0 | M37: 호표 13 | N37: 575C013544696245070592AC70CEF8 | Q37: 01010201 | R37: T | S37: F | T37: F | AU37: 01010201575C013544696245070592AC70CEF8 | AV37: 67363
A38: 거푸집 먹매김 | B38: 일반 | C38: M2 | D38: 15 | K38: =TRUNC(E38+G38+I38, 0) -> 0 | L38: =TRUNC(F38+H38+J38, 0) -> 0 | M38: 호표 14 | N38: 575C013544696245070590FE94863E | Q38: 01010201 | R38: T | S38: F | T38: F | AU38: 01010201575C013544696245070590FE94863E | AV38: 67364
A39: 건축물 현장정리 | B39: 철근콘크리트조, 철골·철근콘크리트조 | C39: M2 | D39: 15 | K39: =TRUNC(E39+G39+I39, 0) -> 0 | L39: =TRUNC(F39+H39+J39, 0) -> 0 | M39: 호표 15 | N39: 575C0135446A02D5BE206BC00BAB78 | Q39: 01010201 | R39: T | S39: F | T39: F | AU39: 01010201575C0135446A02D5BE206BC00BAB78 | AV39: 67365
A40: 준공청소 | C40: M2 | D40: 15 | K40: =TRUNC(E40+G40+I40, 0) -> 0 | L40: =TRUNC(F40+H40+J40, 0) -> 0 | M40: 호표 16 | N40: 575C0135446F82D58AB8E0DE813C71 | Q40: 01010201 | R40: T | S40: F | T40: F | AU40: 01010201575C0135446F82D58AB8E0DE813C71 | AV40: 67366
A41: 건설폐재류 상차비 | C41: TON | D41: 0.428 | K41: =TRUNC(E41+G41+I41, 0) -> 0 | L41: =TRUNC(F41+H41+J41, 0) -> 0 | N41: 571D613EB42D72353CEEE2469B5B9AA669A770 | Q41: 01010201 | R41: F | S41: F | T41: T | AU41: 01010201571D613EB42D72353CEEE2469B5B9AA669A770 | AV41: 67442
A42: 혼합건설폐기물 상차비 | B42: (매립지반입대상 폐기물 포함) | C42: TON | D42: 0.103 | K42: =TRUNC(E42+G42+I42, 0) -> 0 | L42: =TRUNC(F42+H42+J42, 0) -> 0 | N42: 571D613EB42D72353CEEE2469B5B9AA669A773 | Q42: 01010201 | R42: F | S42: F | T42: T | AU42: 01010201571D613EB42D72353CEEE2469B5B9AA669A773 | AV42: 67443
Q43: 01010201
Q44: 01010201
Q45: 01010201
...

Sheet Sheet1
