Workbook

Sheet 0. 용역비 산출내역서(총괄)
A3: 사업비 산출내역
J4: 1400
A5: 대 | B5: 중 | C5: 소 | D5: 세 | E5: 내역 | F5: 전체 계약금액(원) | J5: 차년도 계약금액(원) | M5: 합계
F6: 수량 | G6: 단위 | H6: 단가($,\) | I6: 전체 계약금액 | J6: 1차년도 | K6: 2차년도 | L6: 3차년도
A7: 계
A8: 1. 인건비 | B8: 소계
O9: 검산
A10: 2. 직접경비 | B10: 소계 | O10: =I10-M10 -> 0
B11: 2.2 사업비 | O11: =I11-M11 -> 0
C12: 2.2.1 PMC(현장감독, 사업관리) | O12: =I12-M12 -> 0
D13: 2.2.1.1 직접인건비 | F13: 1 | G13: 식 | O13: =I13-M13 -> 0
D14: 2.2.1.2 특수지 가산급 | F14: 0.05 | G14: %
D15: 2.2.1.3 직접경비 | F15: 0.45 | G15: %
D16: 2.2.1.4 제경비 | F16: 1.1 | G16: % | O16: =I16-M16 -> 0
D17: 2.2.1.5 기술료 | F17: 0.2 | G17: % | O17: =I17-M17 -> 0
D18: 2.2.1.6 손해배상공제보험 | F18: 0.00549 | G18: %
O19: =I19-M19 -> 0
C20: 2.2.2 설계비 | O20: =I20-M20 -> 0
D21: 2.2.2.1 건축설계 | F21: 1 | G21: 식 | O21: =I21-M21 -> 0
D22: 2.2.2.2 직졉경비 | F22: ='(산근4) 설계비,감리비'!D9 -> 0.15 | G22: % | O22: =I22-M22 -> 0
D23: 2.2.2.3 손해배상공제보험 | F23: ='(산근4) 설계비,감리비'!D10 -> 0.0041 | G23: % | O23: =I23-M23 -> 0
C25: 2.2.3 감리비 | O25: =I25-M25 -> 0
D26: 2.2.3.1 감리비 | F26: 1 | G26: 식 | O26: =I26-M26 -> 0
D27: 2.2.3.2 직접경비 | F27: ='(산근4) 설계비,감리비'!D13 -> 0.15 | G27: % | O27: =I27-M27 -> 0
D28: 2.2.3.3 손해배상공제보험 | F28: ='(산근4) 설계비,감리비'!D14 -> 0.0041 | G28: % | O28: =I28-M28 -> 0
C30: 2.2.4 시설구축비 | O30: =I30-M30 -> 0
D31: 2.2.4.1 건축물공사 | F31: 1 | G31: 식 | O31: =I31-M31 -> 0
D32: 2.2.4.2 옥외시설공사 | F32: 1 | G32: 식 | O32: =I32-M32 -> 0
A35: 3. 예비비 | F35: 0.05 | G35: %
A36: 4. 손해배상보험
A37: 5. 부가가치세 | B37: (영세율 적용)
H39: [공단예산비교]
H40: 구 분 | I40: =I6 -> 전체 계약금액 | J40: =J6 -> 1차년도 | K40: =K6 -> 2차년도 | L40: =L6 -> 3차년도
D41: =D40*0.0041 -> 0 | H41: 산 정 | I41: =I35+I10 -> 0 | J41: =J35+J10 -> 0 | K41: =K35+K10 -> 0 | L41: =L35+L10 -> 0
H42: 공단예산 | I42: =SUM(J42:L42) -> 3740000000 | J42: 105000000 | K42: 2059000000 | L42: 1576000000
H43: 증감 | I43: =I41-I42 -> -3740000000 | J43: =J41-J42 -> -105000000 | K43: =K41-K42 -> -2059000000 | L43: =L41-L42 -> -1576000000
I45: [연차별 배분]
I46: 구분 | J46: =J6 -> 1차년도 | K46: =K6 -> 2차년도 | L46: =L6 -> 3차년도 | M46: 계
I47: PMC | J47: 0.5 | K47: 0.3 | L47: 0.2 | M47: =SUM(J47:L47) -> 1
I48: 설계 | J48: 0.83 | K48: 0.17 | M48: =J48+K48+L48 -> 1
...

Sheet 1단계(계약)
K3: ='0. 용역비 산출내역서(총괄)'!$J$4 -> 1400 | L3: ='0. 용역비 산출내역서(총괄)'!$O$4 -> 0
A4: 대 | B4: 중 | C4: 소 | D4: 세 | E4: 내역 | F4: 수량 | G4: 단위 | H4: 단가($,\) | I4: 금 액(원) | J4: 정산기준 | K4: 비 고
A5: 계 | I5: =ROUND(I8+I29,-3) -> 0
A6: 1. 인건비 | B6: 소계
A8: 2. 직접경비 | B8: 소계 | I8: ='0. 용역비 산출내역서(총괄)'!J10 -> 0
B9: 2.1 사업비 | I9: ='0. 용역비 산출내역서(총괄)'!J11 -> 0 | M9: 8
C10: ='0. 용역비 산출내역서(총괄)'!C12 -> 2.2.1 PMC(현장감독, 사업관리) | I10: ='0. 용역비 산출내역서(총괄)'!J12 -> 0 | K10: (산근1) PMC
D11: ='0. 용역비 산출내역서(총괄)'!D13 -> 2.2.1.1 직접인건비 | F11: ='0. 용역비 산출내역서(총괄)'!F13 -> 1 | G11: ='0. 용역비 산출내역서(총괄)'!G13 -> 식 | I11: ='0. 용역비 산출내역서(총괄)'!J13 -> 0
D12: ='0. 용역비 산출내역서(총괄)'!D16 -> 2.2.1.4 제경비 | I12: ='0. 용역비 산출내역서(총괄)'!J16 -> 0 | J12: 실비정산
D13: ='0. 용역비 산출내역서(총괄)'!D17 -> 2.2.1.5 기술료 | F13: ='0. 용역비 산출내역서(총괄)'!F17 -> 0.2 | G13: ='0. 용역비 산출내역서(총괄)'!G17 -> % | I13: ='0. 용역비 산출내역서(총괄)'!J17 -> 0 | K13: (산근1-3) 손해배상공제요율표
C15: ='0. 용역비 산출내역서(총괄)'!C20 -> 2.2.2 설계비 | D15: ='0. 용역비 산출내역서(총괄)'!D20 -> 0 | I15: ='0. 용역비 산출내역서(총괄)'!J20 -> 0 | K15: (산근4) 설계비,감리비 | M15: 14
D16: ='0. 용역비 산출내역서(총괄)'!D21 -> 2.2.2.1 건축설계 | F16: ='0. 용역비 산출내역서(총괄)'!F21 -> 1 | G16: ='0. 용역비 산출내역서(총괄)'!G21 -> 식 | I16: ='0. 용역비 산출내역서(총괄)'!J21 -> 0 | M16: 3
D17: ='0. 용역비 산출내역서(총괄)'!D22 -> 2.2.2.2 직졉경비 | F17: ='0. 용역비 산출내역서(총괄)'!F22 -> 0.15 | G17: ='0. 용역비 산출내역서(총괄)'!G22 -> % | I17: ='0. 용역비 산출내역서(총괄)'!J22 -> 0 | J17: 실비정산
D18: ='0. 용역비 산출내역서(총괄)'!D23 -> 2.2.2.3 손해배상공제보험 | F18: ='0. 용역비 산출내역서(총괄)'!F23 -> 0.0041 | G18: ='0. 용역비 산출내역서(총괄)'!G23 -> % | I18: ='0. 용역비 산출내역서(총괄)'!J23 -> 0 | K18: (산근6) 손해배상공제요율표
C20: ='0. 용역비 산출내역서(총괄)'!C25 -> 2.2.3 감리비 | I20: ='0. 용역비 산출내역서(총괄)'!J25 -> 0 | K20: (산근4) 설계비,감리비
D21: ='0. 용역비 산출내역서(총괄)'!D26 -> 2.2.3.1 감리비 | F21: ='0. 용역비 산출내역서(총괄)'!F26 -> 1 | G21: ='0. 용역비 산출내역서(총괄)'!G26 -> 식 | I21: ='0. 용역비 산출내역서(총괄)'!J26 -> 0
D22: ='0. 용역비 산출내역서(총괄)'!D27 -> 2.2.3.2 직접경비 | F22: ='0. 용역비 산출내역서(총괄)'!F27 -> 0.15 | G22: ='0. 용역비 산출내역서(총괄)'!G27 -> % | I22: ='0. 용역비 산출내역서(총괄)'!J27 -> 0 | J22: 실비정산
D23: ='0. 용역비 산출내역서(총괄)'!D28 -> 2.2.3.3 손해배상공제보험 | F23: ='0. 용역비 산출내역서(총괄)'!F28 -> 0.0041 | G23: ='0. 용역비 산출내역서(총괄)'!G28 -> % | I23: ='0. 용역비 산출내역서(총괄)'!J28 -> 0 | K23: (산근6) 손해배상공제요율표
C25: ='0. 용역비 산출내역서(총괄)'!C30 -> 2.2.4 시설구축비 | I25: ='0. 용역비 산출내역서(총괄)'!J30 -> 0 | K25: (산근2) 시설구축비
D26: ='0. 용역비 산출내역서(총괄)'!D31 -> 2.2.4.1 건축물공사 | F26: ='0. 용역비 산출내역서(총괄)'!F31 -> 1 | G26: ='0. 용역비 산출내역서(총괄)'!G31 -> 식 | I26: ='0. 용역비 산출내역서(총괄)'!J31 -> 0
D27: ='0. 용역비 산출내역서(총괄)'!D32 -> 2.2.4.2 옥외시설공사 | F27: ='0. 용역비 산출내역서(총괄)'!F32 -> 1 | G27: ='0. 용역비 산출내역서(총괄)'!G32 -> 식 | I27: ='0. 용역비 산출내역서(총괄)'!J32 -> 0
A29: 3. 예비비 | F29: ='0. 용역비 산출내역서(총괄)'!F35 -> 0.05 | G29: ='0. 용역비 산출내역서(총괄)'!G35 -> % | I29: ='0. 용역비 산출내역서(총괄)'!J35 -> 0
A30: 4. 손해배상보험
A31: 5. 부가가치세 | B31: (영세율 적용)

Sheet 2단계(계약)
K3: ='0. 용역비 산출내역서(총괄)'!$J$4 -> 1400 | L3: ='0. 용역비 산출내역서(총괄)'!$O$4 -> 0
A4: 대 | B4: 중 | C4: 소 | D4: 세 | E4: 내역 | F4: 수량 | G4: 단위 | H4: 단가($,\) | I4: 금 액(원) | J4: 정산기준 | K4: 비 고
A5: 계 | I5: =ROUND(I8+I29,-3) -> 0
A6: 1. 인건비 | B6: 소계
A8: 2. 직접경비 | B8: 소계 | I8: ='0. 용역비 산출내역서(총괄)'!K10 -> 0
B9: 2.1 사업비 | I9: ='0. 용역비 산출내역서(총괄)'!K11 -> 0 | M9: 8
C10: ='0. 용역비 산출내역서(총괄)'!C12 -> 2.2.1 PMC(현장감독, 사업관리) | I10: ='0. 용역비 산출내역서(총괄)'!K12 -> 0 | K10: (산근1) PMC
D11: ='0. 용역비 산출내역서(총괄)'!D13 -> 2.2.1.1 직접인건비 | F11: ='0. 용역비 산출내역서(총괄)'!F13 -> 1 | G11: ='0. 용역비 산출내역서(총괄)'!G13 -> 식 | I11: ='0. 용역비 산출내역서(총괄)'!K13 -> 0
D12: ='0. 용역비 산출내역서(총괄)'!D16 -> 2.2.1.4 제경비 | I12: ='0. 용역비 산출내역서(총괄)'!K16 -> 0
D13: ='0. 용역비 산출내역서(총괄)'!D17 -> 2.2.1.5 기술료 | F13: ='0. 용역비 산출내역서(총괄)'!F17 -> 0.2 | G13: ='0. 용역비 산출내역서(총괄)'!G17 -> % | I13: ='0. 용역비 산출내역서(총괄)'!K17 -> 0 | K13: (산근1-3) 손해배상공제요율표
C15: ='0. 용역비 산출내역서(총괄)'!C20 -> 2.2.2 설계비 | D15: ='0. 용역비 산출내역서(총괄)'!D20 -> 0 | I15: ='0. 용역비 산출내역서(총괄)'!K20 -> 0 | K15: (산근4) 설계비,감리비 | M15: 14
D16: ='0. 용역비 산출내역서(총괄)'!D21 -> 2.2.2.1 건축설계 | F16: ='0. 용역비 산출내역서(총괄)'!F21 -> 1 | G16: ='0. 용역비 산출내역서(총괄)'!G21 -> 식 | I16: ='0. 용역비 산출내역서(총괄)'!K21 -> 0 | M16: 3
D17: ='0. 용역비 산출내역서(총괄)'!D22 -> 2.2.2.2 직졉경비 | F17: ='0. 용역비 산출내역서(총괄)'!F22 -> 0.15 | G17: ='0. 용역비 산출내역서(총괄)'!G22 -> % | I17: ='0. 용역비 산출내역서(총괄)'!K22 -> 0 | J17: 실비정산
D18: ='0. 용역비 산출내역서(총괄)'!D23 -> 2.2.2.3 손해배상공제보험 | F18: ='0. 용역비 산출내역서(총괄)'!F23 -> 0.0041 | G18: ='0. 용역비 산출내역서(총괄)'!G23 -> % | I18: ='0. 용역비 산출내역서(총괄)'!K23 -> 0 | K18: (산근6) 손해배상공제요율표
C20: ='0. 용역비 산출내역서(총괄)'!C25 -> 2.2.3 감리비 | I20: ='0. 용역비 산출내역서(총괄)'!K25 -> 0 | K20: (산근4) 설계비,감리비
D21: ='0. 용역비 산출내역서(총괄)'!D26 -> 2.2.3.1 감리비 | F21: ='0. 용역비 산출내역서(총괄)'!F26 -> 1 | G21: ='0. 용역비 산출내역서(총괄)'!G26 -> 식 | I21: ='0. 용역비 산출내역서(총괄)'!K26 -> 0
D22: ='0. 용역비 산출내역서(총괄)'!D27 -> 2.2.3.2 직접경비 | F22: ='0. 용역비 산출내역서(총괄)'!F27 -> 0.15 | G22: ='0. 용역비 산출내역서(총괄)'!G27 -> % | I22: ='0. 용역비 산출내역서(총괄)'!K27 -> 0 | J22: 실비정산
D23: ='0. 용역비 산출내역서(총괄)'!D28 -> 2.2.3.3 손해배상공제보험 | F23: ='0. 용역비 산출내역서(총괄)'!F28 -> 0.0041 | G23: ='0. 용역비 산출내역서(총괄)'!G28 -> % | I23: ='0. 용역비 산출내역서(총괄)'!K28 -> 0 | K23: (산근6) 손해배상공제요율표
C25: ='0. 용역비 산출내역서(총괄)'!C30 -> 2.2.4 시설구축비 | I25: ='0. 용역비 산출내역서(총괄)'!K30 -> 0 | K25: (산근2) 시설구축비
D26: ='0. 용역비 산출내역서(총괄)'!D31 -> 2.2.4.1 건축물공사 | F26: ='0. 용역비 산출내역서(총괄)'!F31 -> 1 | G26: ='0. 용역비 산출내역서(총괄)'!G31 -> 식 | I26: ='0. 용역비 산출내역서(총괄)'!K31 -> 0
D27: ='0. 용역비 산출내역서(총괄)'!D32 -> 2.2.4.2 옥외시설공사 | F27: ='0. 용역비 산출내역서(총괄)'!F32 -> 1 | G27: ='0. 용역비 산출내역서(총괄)'!G32 -> 식 | I27: ='0. 용역비 산출내역서(총괄)'!K32 -> 0
A29: 3. 예비비 | F29: ='0. 용역비 산출내역서(총괄)'!F35 -> 0.05 | G29: ='0. 용역비 산출내역서(총괄)'!G35 -> % | I29: ='0. 용역비 산출내역서(총괄)'!K35 -> 0
A30: 4. 손해배상보험
A31: 5. 부가가치세 | B31: (영세율 적용)

Sheet 3단계(계약)
K3: ='0. 용역비 산출내역서(총괄)'!$J$4 -> 1400 | L3: ='0. 용역비 산출내역서(총괄)'!$O$4 -> 0
A4: 대 | B4: 중 | C4: 소 | D4: 세 | E4: 내역 | F4: 수량 | G4: 단위 | H4: 단가($,\) | I4: 금 액(원) | J4: 정산기준 | K4: 비 고
A5: 계 | I5: =ROUND(I8+I29,-3) -> 0
A6: 1. 인건비 | B6: 소계
A8: 2. 직접경비 | B8: 소계 | I8: ='0. 용역비 산출내역서(총괄)'!L10 -> 0
B9: 2.1 사업비 | I9: ='0. 용역비 산출내역서(총괄)'!L11 -> 0 | M9: 8
C10: ='0. 용역비 산출내역서(총괄)'!C12 -> 2.2.1 PMC(현장감독, 사업관리) | I10: ='0. 용역비 산출내역서(총괄)'!L12 -> 0 | K10: (산근1) PMC
D11: ='0. 용역비 산출내역서(총괄)'!D13 -> 2.2.1.1 직접인건비 | F11: ='0. 용역비 산출내역서(총괄)'!F13 -> 1 | G11: ='0. 용역비 산출내역서(총괄)'!G13 -> 식 | I11: ='0. 용역비 산출내역서(총괄)'!L13 -> 0
D12: ='0. 용역비 산출내역서(총괄)'!D16 -> 2.2.1.4 제경비 | I12: ='0. 용역비 산출내역서(총괄)'!L16 -> 0
D13: ='0. 용역비 산출내역서(총괄)'!D17 -> 2.2.1.5 기술료 | F13: ='0. 용역비 산출내역서(총괄)'!F17 -> 0.2 | G13: ='0. 용역비 산출내역서(총괄)'!G17 -> % | I13: ='0. 용역비 산출내역서(총괄)'!L17 -> 0 | K13: (산근1-3) 손해배상공제요율표
C15: ='0. 용역비 산출내역서(총괄)'!C20 -> 2.2.2 설계비 | D15: ='0. 용역비 산출내역서(총괄)'!D20 -> 0 | I15: ='0. 용역비 산출내역서(총괄)'!L20 -> 0 | K15: (산근4) 설계비,감리비 | M15: 14
D16: ='0. 용역비 산출내역서(총괄)'!D21 -> 2.2.2.1 건축설계 | F16: ='0. 용역비 산출내역서(총괄)'!F21 -> 1 | G16: ='0. 용역비 산출내역서(총괄)'!G21 -> 식 | I16: ='0. 용역비 산출내역서(총괄)'!L21 -> 0 | M16: 3
D17: ='0. 용역비 산출내역서(총괄)'!D22 -> 2.2.2.2 직졉경비 | F17: ='0. 용역비 산출내역서(총괄)'!F22 -> 0.15 | G17: ='0. 용역비 산출내역서(총괄)'!G22 -> % | I17: ='0. 용역비 산출내역서(총괄)'!L22 -> 0 | J17: 실비정산
D18: ='0. 용역비 산출내역서(총괄)'!D23 -> 2.2.2.3 손해배상공제보험 | F18: ='0. 용역비 산출내역서(총괄)'!F23 -> 0.0041 | G18: ='0. 용역비 산출내역서(총괄)'!G23 -> % | I18: ='0. 용역비 산출내역서(총괄)'!L23 -> 0 | K18: (산근6) 손해배상공제요율표
C20: ='0. 용역비 산출내역서(총괄)'!C25 -> 2.2.3 감리비 | I20: ='0. 용역비 산출내역서(총괄)'!L25 -> 0 | K20: (산근4) 설계비,감리비
D21: ='0. 용역비 산출내역서(총괄)'!D26 -> 2.2.3.1 감리비 | F21: ='0. 용역비 산출내역서(총괄)'!F26 -> 1 | G21: ='0. 용역비 산출내역서(총괄)'!G26 -> 식 | I21: ='0. 용역비 산출내역서(총괄)'!L26 -> 0
D22: ='0. 용역비 산출내역서(총괄)'!D27 -> 2.2.3.2 직접경비 | F22: ='0. 용역비 산출내역서(총괄)'!F27 -> 0.15 | G22: ='0. 용역비 산출내역서(총괄)'!G27 -> % | I22: ='0. 용역비 산출내역서(총괄)'!L27 -> 0 | J22: 실비정산
D23: ='0. 용역비 산출내역서(총괄)'!D28 -> 2.2.3.3 손해배상공제보험 | F23: ='0. 용역비 산출내역서(총괄)'!F28 -> 0.0041 | G23: ='0. 용역비 산출내역서(총괄)'!G28 -> % | I23: ='0. 용역비 산출내역서(총괄)'!L28 -> 0 | K23: (산근6) 손해배상공제요율표
C25: ='0. 용역비 산출내역서(총괄)'!C30 -> 2.2.4 시설구축비 | I25: ='0. 용역비 산출내역서(총괄)'!L30 -> 0 | K25: (산근2) 시설구축비
D26: ='0. 용역비 산출내역서(총괄)'!D31 -> 2.2.4.1 건축물공사 | F26: ='0. 용역비 산출내역서(총괄)'!F31 -> 1 | G26: ='0. 용역비 산출내역서(총괄)'!G31 -> 식 | I26: ='0. 용역비 산출내역서(총괄)'!L31 -> 0
D27: ='0. 용역비 산출내역서(총괄)'!D32 -> 2.2.4.2 옥외시설공사 | F27: ='0. 용역비 산출내역서(총괄)'!F32 -> 1 | G27: ='0. 용역비 산출내역서(총괄)'!G32 -> 식 | I27: ='0. 용역비 산출내역서(총괄)'!L32 -> 0
A29: 3. 예비비 | F29: ='0. 용역비 산출내역서(총괄)'!F35 -> 0.05 | G29: ='0. 용역비 산출내역서(총괄)'!G35 -> % | I29: ='0. 용역비 산출내역서(총괄)'!L35 -> 0
A30: 4. 손해배상보험
A31: 5. 부가가치세 | B31: (영세율 적용)

Sheet 달력
C2: 2026. 06 | L2: 2026. 07 | U2: 2026. 08
C4: 일 | D4: 월 | E4: 화 | F4: 수 | G4: 목 | H4: 금 | I4: 토 | L4: 일 | M4: 월 | N4: 화 | O4: 수 | P4: 목 | Q4: 금 | R4: 토 | U4: 일 | V4: 월 | W4: 화 | X4: 수 | Y4: 목 | Z4: 금 | AA4: 토
D5: 1 | E5: =D5+1 -> 2 | F5: =E5+1 -> 3 | G5: =F5+1 -> 4 | H5: =G5+1 -> 5 | I5: =H5+1 -> 6 | O5: 1 | P5: =O5+1 -> 2 | Q5: =P5+1 -> 3 | R5: =Q5+1 -> 4 | AA5: 1
C6: =I5+1 -> 7 | D6: =C6+1 -> 8 | E6: =D6+1 -> 9 | F6: =E6+1 -> 10 | G6: =F6+1 -> 11 | H6: =G6+1 -> 12 | I6: =H6+1 -> 13 | L6: =R5+1 -> 5 | M6: =L6+1 -> 6 | N6: =M6+1 -> 7 | O6: =N6+1 -> 8 | P6: =O6+1 -> 9 | Q6: =P6+1 -> 10 | R6: =Q6+1 -> 11 | U6: =AA5+1 -> 2 | V6: =U6+1 -> 3 | W6: =V6+1 -> 4 | X6: =W6+1 -> 5 | Y6: =X6+1 -> 6 | Z6: =Y6+1 -> 7 | AA6: =Z6+1 -> 8
C7: =I6+1 -> 14 | D7: =C7+1 -> 15 | E7: =D7+1 -> 16 | F7: =E7+1 -> 17 | G7: =F7+1 -> 18 | H7: =G7+1 -> 19 | I7: =H7+1 -> 20 | L7: =R6+1 -> 12 | M7: =L7+1 -> 13 | N7: =M7+1 -> 14 | O7: =N7+1 -> 15 | P7: =O7+1 -> 16 | Q7: =P7+1 -> 17 | R7: =Q7+1 -> 18 | U7: =AA6+1 -> 9 | V7: =U7+1 -> 10 | W7: =V7+1 -> 11 | X7: =W7+1 -> 12 | Y7: =X7+1 -> 13 | Z7: =Y7+1 -> 14 | AA7: =Z7+1 -> 15
C8: =I7+1 -> 21 | D8: =C8+1 -> 22 | E8: =D8+1 -> 23 | F8: =E8+1 -> 24 | G8: =F8+1 -> 25 | H8: =G8+1 -> 26 | I8: =H8+1 -> 27 | L8: =R7+1 -> 19 | M8: =L8+1 -> 20 | N8: =M8+1 -> 21 | O8: =N8+1 -> 22 | P8: =O8+1 -> 23 | Q8: =P8+1 -> 24 | R8: =Q8+1 -> 25 | U8: =AA7+1 -> 16 | V8: =U8+1 -> 17 | W8: =V8+1 -> 18 | X8: =W8+1 -> 19 | Y8: =X8+1 -> 20 | Z8: =Y8+1 -> 21 | AA8: =Z8+1 -> 22
C9: =I8+1 -> 28 | D9: =C9+1 -> 29 | E9: =D9+1 -> 30 | L9: =R8+1 -> 26 | M9: =L9+1 -> 27 | N9: =M9+1 -> 28 | O9: =N9+1 -> 29 | P9: =O9+1 -> 30 | Q9: =P9+1 -> 31 | U9: =AA8+1 -> 23 | V9: =U9+1 -> 24 | W9: =V9+1 -> 25 | X9: =W9+1 -> 26 | Y9: =X9+1 -> 27 | Z9: =Y9+1 -> 28 | AA9: =Z9+1 -> 29
U10: =AA9+1 -> 30 | V10: =U10+1 -> 31
C13: 2026. 09 | L13: 2026. 10 | U13: 2026. 11
C15: 일 | D15: 월 | E15: 화 | F15: 수 | G15: 목 | H15: 금 | I15: 토 | L15: 일 | M15: 월 | N15: 화 | O15: 수 | P15: 목 | Q15: 금 | R15: 토 | U15: 일 | V15: 월 | W15: 화 | X15: 수 | Y15: 목 | Z15: 금 | AA15: 토
E16: 1 | F16: =E16+1 -> 2 | G16: =F16+1 -> 3 | H16: =G16+1 -> 4 | I16: =H16+1 -> 5 | P16: 1 | Q16: =P16+1 -> 2 | R16: =Q16+1 -> 3 | U16: 1 | V16: =U16+1 -> 2 | W16: =V16+1 -> 3 | X16: =W16+1 -> 4 | Y16: =X16+1 -> 5 | Z16: =Y16+1 -> 6 | AA16: =Z16+1 -> 7
C17: =I16+1 -> 6 | D17: =C17+1 -> 7 | E17: =D17+1 -> 8 | F17: =E17+1 -> 9 | G17: =F17+1 -> 10 | H17: =G17+1 -> 11 | I17: =H17+1 -> 12 | L17: =R16+1 -> 4 | M17: =L17+1 -> 5 | N17: =M17+1 -> 6 | O17: =N17+1 -> 7 | P17: =O17+1 -> 8 | Q17: =P17+1 -> 9 | R17: =Q17+1 -> 10 | U17: =AA16+1 -> 8 | V17: =U17+1 -> 9 | W17: =V17+1 -> 10 | X17: =W17+1 -> 11 | Y17: =X17+1 -> 12 | Z17: =Y17+1 -> 13 | AA17: =Z17+1 -> 14
C18: =I17+1 -> 13 | D18: =C18+1 -> 14 | E18: =D18+1 -> 15 | F18: =E18+1 -> 16 | G18: =F18+1 -> 17 | H18: =G18+1 -> 18 | I18: =H18+1 -> 19 | L18: =R17+1 -> 11 | M18: =L18+1 -> 12 | N18: =M18+1 -> 13 | O18: =N18+1 -> 14 | P18: =O18+1 -> 15 | Q18: =P18+1 -> 16 | R18: =Q18+1 -> 17 | U18: =AA17+1 -> 15 | V18: =U18+1 -> 16 | W18: =V18+1 -> 17 | X18: =W18+1 -> 18 | Y18: =X18+1 -> 19 | Z18: =Y18+1 -> 20 | AA18: =Z18+1 -> 21
C19: =I18+1 -> 20 | D19: =C19+1 -> 21 | E19: =D19+1 -> 22 | F19: =E19+1 -> 23 | G19: =F19+1 -> 24 | H19: =G19+1 -> 25 | I19: =H19+1 -> 26 | L19: =R18+1 -> 18 | M19: =L19+1 -> 19 | N19: =M19+1 -> 20 | O19: =N19+1 -> 21 | P19: =O19+1 -> 22 | Q19: =P19+1 -> 23 | R19: =Q19+1 -> 24 | U19: =AA18+1 -> 22 | V19: =U19+1 -> 23 | W19: =V19+1 -> 24 | X19: =W19+1 -> 25 | Y19: =X19+1 -> 26 | Z19: =Y19+1 -> 27 | AA19: =Z19+1 -> 28
C20: =I19+1 -> 27 | D20: =C20+1 -> 28 | E20: =D20+1 -> 29 | F20: =E20+1 -> 30 | L20: =R19+1 -> 25 | M20: =L20+1 -> 26 | N20: =M20+1 -> 27 | O20: =N20+1 -> 28 | P20: =O20+1 -> 29 | Q20: =P20+1 -> 30 | R20: =Q20+1 -> 31 | U20: =AA19+1 -> 29 | V20: =U20+1 -> 30
C24: 2026. 12 | L24: 2027. 01 | U24: 2027. 02
C26: 일 | D26: 월 | E26: 화 | F26: 수 | G26: 목 | H26: 금 | I26: 토 | L26: 일 | M26: 월 | N26: 화 | O26: 수 | P26: 목 | Q26: 금 | R26: 토 | U26: 일 | V26: 월 | W26: 화 | X26: 수 | Y26: 목 | Z26: 금 | AA26: 토
E27: 1 | F27: =E27+1 -> 2 | G27: =F27+1 -> 3 | H27: =G27+1 -> 4 | I27: =H27+1 -> 5 | Q27: 1 | R27: =Q27+1 -> 2 | V27: 1 | W27: =V27+1 -> 2 | X27: =W27+1 -> 3 | Y27: =X27+1 -> 4 | Z27: =Y27+1 -> 5 | AA27: =Z27+1 -> 6
C28: =I27+1 -> 6 | D28: =C28+1 -> 7 | E28: =D28+1 -> 8 | F28: =E28+1 -> 9 | G28: =F28+1 -> 10 | H28: =G28+1 -> 11 | I28: =H28+1 -> 12 | L28: =R27+1 -> 3 | M28: =L28+1 -> 4 | N28: =M28+1 -> 5 | O28: =N28+1 -> 6 | P28: =O28+1 -> 7 | Q28: =P28+1 -> 8 | R28: =Q28+1 -> 9 | U28: =AA27+1 -> 7 | V28: =U28+1 -> 8 | W28: =V28+1 -> 9 | X28: =W28+1 -> 10 | Y28: =X28+1 -> 11 | Z28: =Y28+1 -> 12 | AA28: =Z28+1 -> 13
C29: =I28+1 -> 13 | D29: =C29+1 -> 14 | E29: =D29+1 -> 15 | F29: =E29+1 -> 16 | G29: =F29+1 -> 17 | H29: =G29+1 -> 18 | I29: =H29+1 -> 19 | L29: =R28+1 -> 10 | M29: =L29+1 -> 11 | N29: =M29+1 -> 12 | O29: =N29+1 -> 13 | P29: =O29+1 -> 14 | Q29: =P29+1 -> 15 | R29: =Q29+1 -> 16 | U29: =AA28+1 -> 14 | V29: =U29+1 -> 15 | W29: =V29+1 -> 16 | X29: =W29+1 -> 17 | Y29: =X29+1 -> 18 | Z29: =Y29+1 -> 19 | AA29: =Z29+1 -> 20
C30: =I29+1 -> 20 | D30: =C30+1 -> 21 | E30: =D30+1 -> 22 | F30: =E30+1 -> 23 | G30: =F30+1 -> 24 | H30: =G30+1 -> 25 | I30: =H30+1 -> 26 | L30: =R29+1 -> 17 | M30: =L30+1 -> 18 | N30: =M30+1 -> 19 | O30: =N30+1 -> 20 | P30: =O30+1 -> 21 | Q30: =P30+1 -> 22 | R30: =Q30+1 -> 23 | U30: =AA29+1 -> 21 | V30: =U30+1 -> 22 | W30: =V30+1 -> 23 | X30: =W30+1 -> 24 | Y30: =X30+1 -> 25 | Z30: =Y30+1 -> 26 | AA30: =Z30+1 -> 27
C31: =I30+1 -> 27 | D31: =C31+1 -> 28 | E31: =D31+1 -> 29 | F31: =E31+1 -> 30 | G31: =F31+1 -> 31 | L31: =R30+1 -> 24 | M31: =L31+1 -> 25 | N31: =M31+1 -> 26 | O31: =N31+1 -> 27 | P31: =O31+1 -> 28 | Q31: =P31+1 -> 29 | R31: =Q31+1 -> 30 | U31: =AA30+1 -> 28
L32: =R31+1 -> 31
C35: 2027. 03 | L35: 2027. 04 | U35: 2027. 05
C37: 일 | D37: 월 | E37: 화 | F37: 수 | G37: 목 | H37: 금 | I37: 토 | L37: 일 | M37: 월 | N37: 화 | O37: 수 | P37: 목 | Q37: 금 | R37: 토 | U37: 일 | V37: 월 | W37: 화 | X37: 수 | Y37: 목 | Z37: 금 | AA37: 토
D38: 1 | E38: =D38+1 -> 2 | F38: =E38+1 -> 3 | G38: =F38+1 -> 4 | H38: =G38+1 -> 5 | I38: =H38+1 -> 6 | P38: 1 | Q38: =P38+1 -> 2 | R38: =Q38+1 -> 3 | AA38: =Z38+1 -> 1
C39: =I38+1 -> 7 | D39: =C39+1 -> 8 | E39: =D39+1 -> 9 | F39: =E39+1 -> 10 | G39: =F39+1 -> 11 | H39: =G39+1 -> 12 | I39: =H39+1 -> 13 | L39: =R38+1 -> 4 | M39: =L39+1 -> 5 | N39: =M39+1 -> 6 | O39: =N39+1 -> 7 | P39: =O39+1 -> 8 | Q39: =P39+1 -> 9 | R39: =Q39+1 -> 10 | U39: =AA38+1 -> 2 | V39: =U39+1 -> 3 | W39: =V39+1 -> 4 | X39: =W39+1 -> 5 | Y39: =X39+1 -> 6 | Z39: =Y39+1 -> 7 | AA39: =Z39+1 -> 8
C40: =I39+1 -> 14 | D40: =C40+1 -> 15 | E40: =D40+1 -> 16 | F40: =E40+1 -> 17 | G40: =F40+1 -> 18 | H40: =G40+1 -> 19 | I40: =H40+1 -> 20 | L40: =R39+1 -> 11 | M40: =L40+1 -> 12 | N40: =M40+1 -> 13 | O40: =N40+1 -> 14 | P40: =O40+1 -> 15 | Q40: =P40+1 -> 16 | R40: =Q40+1 -> 17 | U40: =AA39+1 -> 9 | V40: =U40+1 -> 10 | W40: =V40+1 -> 11 | X40: =W40+1 -> 12 | Y40: =X40+1 -> 13 | Z40: =Y40+1 -> 14 | AA40: =Z40+1 -> 15
C41: =I40+1 -> 21 | D41: =C41+1 -> 22 | E41: =D41+1 -> 23 | F41: =E41+1 -> 24 | G41: =F41+1 -> 25 | H41: =G41+1 -> 26 | I41: =H41+1 -> 27 | L41: =R40+1 -> 18 | M41: =L41+1 -> 19 | N41: =M41+1 -> 20 | O41: =N41+1 -> 21 | P41: =O41+1 -> 22 | Q41: =P41+1 -> 23 | R41: =Q41+1 -> 24 | U41: =AA40+1 -> 16 | V41: =U41+1 -> 17 | W41: =V41+1 -> 18 | X41: =W41+1 -> 19 | Y41: =X41+1 -> 20 | Z41: =Y41+1 -> 21 | AA41: =Z41+1 -> 22
C42: =I41+1 -> 28 | D42: =C42+1 -> 29 | E42: =D42+1 -> 30 | F42: =E42+1 -> 31 | L42: =R41+1 -> 25 | M42: =L42+1 -> 26 | N42: =M42+1 -> 27 | O42: =N42+1 -> 28 | P42: =O42+1 -> 29 | Q42: =P42+1 -> 30 | U42: =AA41+1 -> 23 | V42: =U42+1 -> 24 | W42: =V42+1 -> 25 | X42: =W42+1 -> 26 | Y42: =X42+1 -> 27 | Z42: =Y42+1 -> 28 | AA42: =Z42+1 -> 29
U43: =AA42+1 -> 30 | V43: =U43+1 -> 31
C46: 2027. 06 | L46: 2027. 07 | U46: 2027. 08
C48: 일 | D48: 월 | E48: 화 | F48: 수 | G48: 목 | H48: 금 | I48: 토 | L48: 일 | M48: 월 | N48: 화 | O48: 수 | P48: 목 | Q48: 금 | R48: 토 | U48: 일 | V48: 월 | W48: 화 | X48: 수 | Y48: 목 | Z48: 금 | AA48: 토
E49: 1 | F49: =E49+1 -> 2 | G49: =F49+1 -> 3 | H49: =G49+1 -> 4 | I49: =H49+1 -> 5 | P49: 1 | Q49: =P49+1 -> 2 | R49: =Q49+1 -> 3 | U49: 1 | V49: =U49+1 -> 2 | W49: =V49+1 -> 3 | X49: =W49+1 -> 4 | Y49: =X49+1 -> 5 | Z49: =Y49+1 -> 6 | AA49: =Z49+1 -> 7
C50: =I49+1 -> 6 | D50: =C50+1 -> 7 | E50: =D50+1 -> 8 | F50: =E50+1 -> 9 | G50: =F50+1 -> 10 | H50: =G50+1 -> 11 | I50: =H50+1 -> 12 | L50: =R49+1 -> 4 | M50: =L50+1 -> 5 | N50: =M50+1 -> 6 | O50: =N50+1 -> 7 | P50: =O50+1 -> 8 | Q50: =P50+1 -> 9 | R50: =Q50+1 -> 10 | U50: =AA49+1 -> 8 | V50: =U50+1 -> 9 | W50: =V50+1 -> 10 | X50: =W50+1 -> 11 | Y50: =X50+1 -> 12 | Z50: =Y50+1 -> 13 | AA50: =Z50+1 -> 14
C51: =I50+1 -> 13 | D51: =C51+1 -> 14 | E51: =D51+1 -> 15 | F51: =E51+1 -> 16 | G51: =F51+1 -> 17 | H51: =G51+1 -> 18 | I51: =H51+1 -> 19 | L51: =R50+1 -> 11 | M51: =L51+1 -> 12 | N51: =M51+1 -> 13 | O51: =N51+1 -> 14 | P51: =O51+1 -> 15 | Q51: =P51+1 -> 16 | R51: =Q51+1 -> 17 | U51: =AA50+1 -> 15 | V51: =U51+1 -> 16 | W51: =V51+1 -> 17 | X51: =W51+1 -> 18 | Y51: =X51+1 -> 19 | Z51: =Y51+1 -> 20 | AA51: =Z51+1 -> 21
C52: =I51+1 -> 20 | D52: =C52+1 -> 21 | E52: =D52+1 -> 22 | F52: =E52+1 -> 23 | G52: =F52+1 -> 24 | H52: =G52+1 -> 25 | I52: =H52+1 -> 26 | L52: =R51+1 -> 18 | M52: =L52+1 -> 19 | N52: =M52+1 -> 20 | O52: =N52+1 -> 21 | P52: =O52+1 -> 22 | Q52: =P52+1 -> 23 | R52: =Q52+1 -> 24 | U52: =AA51+1 -> 22 | V52: =U52+1 -> 23 | W52: =V52+1 -> 24 | X52: =W52+1 -> 25 | Y52: =X52+1 -> 26 | Z52: =Y52+1 -> 27 | AA52: =Z52+1 -> 28
C53: =I52+1 -> 27 | D53: =C53+1 -> 28 | E53: =D53+1 -> 29 | F53: =E53+1 -> 30 | L53: =R52+1 -> 25 | M53: =L53+1 -> 26 | N53: =M53+1 -> 27 | O53: =N53+1 -> 28 | P53: =O53+1 -> 29 | Q53: =P53+1 -> 30 | R53: =Q53+1 -> 31 | U53: =AA52+1 -> 29 | V53: =U53+1 -> 30 | W53: =V53+1 -> 31
C57: 2027. 09 | L57: 2027. 10 | U57: 2027. 11
C59: 일 | D59: 월 | E59: 화 | F59: 수 | G59: 목 | H59: 금 | I59: 토 | L59: 일 | M59: 월 | N59: 화 | O59: 수 | P59: 목 | Q59: 금 | R59: 토 | U59: 일 | V59: 월 | W59: 화 | X59: 수 | Y59: 목 | Z59: 금 | AA59: 토
...

Sheet (산근1) PMC_총괄표
B2: 건설엔지니어링 대가 등에 관한 기준에 따른 건축분야 건설사업관리 용역대가 산정 (감독 권한대행 등 건설사업관리를 하는 경우)
B3: 구 분 | C3: 금 액 (원) | D3: 비 고
B4: 직접인건비 | C4: ='(산근1-1) PMC_투입인원수'!N78*'(산근1-2) PMC_건설사업관리기술인 노임가격'!C4 -> 202646232
B5: 특수지 가산급 | C5: =ROUNDDOWN(C4*0.05,) -> 10132311 | D5: 직접인건비 5%
B6: 직접경비 | C6: =ROUNDDOWN(C4*0.45,) -> 91190804 | D6: 직접인건비의 45%, 실비정산
B7: 제경비 | C7: =ROUNDDOWN(C4*'(산근1-4) PMC_(Raw Data) 입력'!C14*0.01,) -> 222910855 | D7: 직접인건비의 110%
B8: 기술료 | C8: =(C4+C7)*'(산근1-4) PMC_(Raw Data) 입력'!C15*0.01 -> 85111417 | D8: 직접인건비의 20%
B9: 추가업무비용 | C9: ='(산근1-4) PMC_(Raw Data) 입력'!C16 -> 0
B10: 손해배상보험료 | C10: =ROUNDDOWN('(산근1-4) PMC_(Raw Data) 입력'!C17*0.01*(C4+C5+C6+C7+C8+C9),-3) -> 3359000 | D10: ='(산근1-4) PMC_(Raw Data) 입력'!C17 -> 0.549
B11: 중간합계 | C11: =ROUNDDOWN(SUM(C4+C5+C6+C7+C8+C9+C10),) -> 615350619
B12: 부가세 | D12: 중간합계의 10%적용
B13: 합 계 (용역대가) | C13: =C11+C12 -> 615350619
B15: [기존양식 분류]
B16: 건설사업관리 | C16: =ROUND(C4+C5+C7+C8,0) -> 520800815
B17: 직접경비 | C17: =ROUND(C6,0) -> 91190804
B18: 손해배상보험료 | C18: =ROUND(C10,) -> 3359000
C19: =SUM(C16:C18) -> 615350619

Sheet (산근1-1) PMC_투입인원수
B2: 업무분류체계 | E2: 적용 수량 | F2: 기준인원수(인･일) | G2: 보정계수 | J2: 난이도 | L2: 투입인원수 산정 | M2: 해당 여부 | N2: 투입인원수 | O2: 선정기준 | Q2: 보정계수 a | R2: 보정계수 b | S2: 보정계수 c
Q3: 0.9 | R3: 1 | S3: 1
B4: 단계 | C4: 기본업무 | E4: 단위 | F4: 고급 | G4: a | H4: b | I4: c | Q4: 1 | R4: 1.1 | S4: 1.1
B5: 공통 업무 | C5: 과업착수준비 | E5: 식 | F5: 7 | L5: =F5 -> 7 | M5: =IF('(산근1-4) PMC_(Raw Data) 입력'!J5="O",1,0) -> 0 | N5: =L5*M5 -> 0 | O5: CM 최소화 | Q5: 1.1 | R5: 1.2
C6: 건설사업관리 업무수행계획서 작성ㆍ운영 | E6: 식 | F6: 20.5 | L6: =F6 -> 20.5 | M6: =IF('(산근1-4) PMC_(Raw Data) 입력'!J6="O",1,0) -> 0 | N6: =L6*M6 -> 0 | O6: CM 최소화
C7: 건설사업관리 절차서 작성ㆍ운영 | E7: 식 | F7: 27.3 | L7: =F7 -> 27.3 | M7: =IF('(산근1-4) PMC_(Raw Data) 입력'!J7="O",1,0) -> 0 | N7: =L7*M7 -> 0 | O7: CM 최소화
C8: 작업분류체계 및 사업번호체계 관리, 사업정보축적ㆍ관리 | E8: 식 | F8: 22.3 | J8: ○ | L8: =F8*IF('(산근1-4) PMC_(Raw Data) 입력'!C4<=50,(0.011*('(산근1-4) PMC_(Raw Data) 입력'!$C$4*0.1)*(1-0.0025*('(산근1-4) PMC_(Raw Data) 입력'!$C$4*0.1))+('(산근1-5)PMC_(Raw Data)평균건설사업관리기간'!$C$12+(0.5*('(산근1-4) PMC_(Raw Data) 입력'!$C$10/'(산근1-4) PMC_(Raw Data) 입력'!$C$4))+0.2)*(('(산근1-4) PMC_(Raw Data) 입력'!C4*0.1)*0.2)),IF('(산근1-4) PMC_(Raw Data) 입력'!C4<=2000,(0.011*('(산근1-4) PMC_(Raw Data) 입력'!$C$4*0.1)*(1-0.0025*('(산근1-4) PMC_(Raw Data) 입력'!$C$4*0.1))+'(산근1-5)PMC_(Raw Data)평균건설사업관리기간'!$C$12+(0.5*('(산근1-4) PMC_(Raw Data) 입력'!$C$10/'(산근1-4) PMC_(Raw Data) 입력'!$C$4))+0.2),((0.011*200*(1-0.0025*200)+'(산근1-5)PMC_(Raw Data)평균건설사업관리기간'!$C$12+(0.5*('(산근1-4) PMC_(Raw Data) 입력'!$C$10/'(산근1-4) PMC_(Raw Data) 입력'!$C$4))+0.2)+(('(산근1-4) PMC_(Raw Data) 입력'!$C$4*0.1)-200)/250))) -> 4.3045413 | M8: =IF('(산근1-4) PMC_(Raw Data) 입력'!J8="O",IF('(산근1-4) PMC_(Raw Data) 입력'!$C$5="단순공종",1.1,IF('(산근1-4) PMC_(Raw Data) 입력'!$C$5="보통공종",1.15,IF('(산근1-4) PMC_(Raw Data) 입력'!$C$5="복잡공종",1.2))),0)*IF('(산근1-4) PMC_(Raw Data) 입력'!$C$20="O",1,0.8) -> 0 | N8: =L8*M8 -> 0 | O8: CM 최소화
C9: 사업정보관리시스템의 운영 | E9: 운영 | F9: 0.3 | J9: ○ | L9: =F9*IF('(산근1-4) PMC_(Raw Data) 입력'!C4<=50,(0.011*('(산근1-4) PMC_(Raw Data) 입력'!$C$4*0.1)*(1-0.0025*('(산근1-4) PMC_(Raw Data) 입력'!$C$4*0.1))+('(산근1-5)PMC_(Raw Data)평균건설사업관리기간'!$C$12+(0.5*('(산근1-4) PMC_(Raw Data) 입력'!$C$10/'(산근1-4) PMC_(Raw Data) 입력'!$C$4))+0.2)*(('(산근1-4) PMC_(Raw Data) 입력'!C4*0.1)*0.2)),IF('(산근1-4) PMC_(Raw Data) 입력'!C4<=2000,(0.011*('(산근1-4) PMC_(Raw Data) 입력'!$C$4*0.1)*(1-0.0025*('(산근1-4) PMC_(Raw Data) 입력'!$C$4*0.1))+'(산근1-5)PMC_(Raw Data)평균건설사업관리기간'!$C$12+(0.5*('(산근1-4) PMC_(Raw Data) 입력'!$C$10/'(산근1-4) PMC_(Raw Data) 입력'!$C$4))+0.2),((0.011*200*(1-0.0025*200)+'(산근1-5)PMC_(Raw Data)평균건설사업관리기간'!$C$12+(0.5*('(산근1-4) PMC_(Raw Data) 입력'!$C$10/'(산근1-4) PMC_(Raw Data) 입력'!$C$4))+0.2)+(('(산근1-4) PMC_(Raw Data) 입력'!$C$4*0.1)-200)/250)))*'(산근1-4) PMC_(Raw Data) 입력'!C9*22 -> 34.397724 | M9: =IF('(산근1-4) PMC_(Raw Data) 입력'!J9="O",IF('(산근1-4) PMC_(Raw Data) 입력'!$C$5="단순공종",1.1,IF('(산근1-4) PMC_(Raw Data) 입력'!$C$5="보통공종",1.15,IF('(산근1-4) PMC_(Raw Data) 입력'!$C$5="복잡공종",1.2))),0)*IF('(산근1-4) PMC_(Raw Data) 입력'!$C$20="O",1,0.8) -> 0 | N9: =L9*M9 -> 0 | O9: CM 최소화
E10: 일수
C11: 클레임 사전분석 | E11: 식 | F11: 31 | H11: ○ | L11: =F11*IF('(산근1-4) PMC_(Raw Data) 입력'!$C$6="신축",'(산근1-1) PMC_투입인원수'!$R$3,IF('(산근1-4) PMC_(Raw Data) 입력'!$C$6="전면 리모델링(증축포함)",'(산근1-1) PMC_투입인원수'!$R$4,IF('(산근1-4) PMC_(Raw Data) 입력'!$C$6="순환 리모델링",'(산근1-1) PMC_투입인원수'!$R$5))) -> 31 | M11: =IF('(산근1-4) PMC_(Raw Data) 입력'!J11="O",1,0) -> 0 | N11: =L11*M11 -> 0 | O11: CM 최소화
C12: 최종 건설사업관리 보고 | D12: 1)시공전 단계 | E12: 식 | F12: 27.3 | L12: =F12 -> 27.3 | M12: =IF('(산근1-4) PMC_(Raw Data) 입력'!J12="O",1,0) -> 0 | N12: =L12*M12 -> 0 | O12: CM 최소화
D13: 2)시공 이후 단계 | F13: 54.6 | L13: =F13 -> 54.6 | M13: =IF('(산근1-4) PMC_(Raw Data) 입력'!J13="O",1,0) -> 0 | N13: =L13*M13 -> 0 | O13: CM 최소화
B14: 설계전 단계 | C14: 건설기술용역업체 선정 | E14: 식 | F14: 43.7 | L14: =F14 -> 43.7 | M14: =IF('(산근1-4) PMC_(Raw Data) 입력'!J14="O",1,0) -> 0 | N14: =L14*M14 -> 0 | O14: CM 최소화
C15: 사업타당성조사보고서의 적정성 검토 | E15: 식 | F15: 21.6 | J15: ○ | L15: =F15*IF('(산근1-4) PMC_(Raw Data) 입력'!$C$4<=2000,0.015*('(산근1-4) PMC_(Raw Data) 입력'!$C$4*0.1)*(1-0.001*('(산근1-4) PMC_(Raw Data) 입력'!$C$4*0.1)),(0.015*200*(1-0.001*200)+(('(산근1-4) PMC_(Raw Data) 입력'!$C$4*0.1)-200)/250)) -> 0.99484641 | M15: =IF('(산근1-4) PMC_(Raw Data) 입력'!J15="O",1,0) -> 0 | N15: =L15*M15 -> 0 | O15: CM 최소화
C16: 기본계획보고서의 적정성 검토 | E16: 식 | F16: 21.3 | J16: ○ | L16: =F16*IF('(산근1-4) PMC_(Raw Data) 입력'!$C$4<=2000,0.015*('(산근1-4) PMC_(Raw Data) 입력'!$C$4*0.1)*(1-0.001*('(산근1-4) PMC_(Raw Data) 입력'!$C$4*0.1)),(0.015*200*(1-0.001*200)+(('(산근1-4) PMC_(Raw Data) 입력'!$C$4*0.1)-200)/250)) -> 0.9810291 | M16: =IF('(산근1-4) PMC_(Raw Data) 입력'!J16="O",1,0) -> 0 | N16: =L16*M16 -> 0 | O16: CM 최소화
C17: 발주방식 결정 지원 | E17: 식 | F17: 31 | L17: =F17 -> 31 | M17: =IF('(산근1-4) PMC_(Raw Data) 입력'!J17="O",1,0) -> 0 | N17: =L17*M17 -> 0 | O17: CM 최소화
C18: 관리기준공정계획수립 | E18: 식 | F18: 18 | G18: ○ | H18: ○ | J18: ○ | L18: =F18*IF('(산근1-4) PMC_(Raw Data) 입력'!$C$5="단순공종",'(산근1-1) PMC_투입인원수'!$Q$3,IF('(산근1-4) PMC_(Raw Data) 입력'!$C$5="보통공종",'(산근1-1) PMC_투입인원수'!$Q$4,IF('(산근1-4) PMC_(Raw Data) 입력'!$C$5="복잡공종",'(산근1-1) PMC_투입인원수'!$Q$5)))*IF('(산근1-4) PMC_(Raw Data) 입력'!$C$6="신축",'(산근1-1) PMC_투입인원수'!$R$3,IF('(산근1-4) PMC_(Raw Data) 입력'!$C$6="전면 리모델링(증축포함)",'(산근1-1) PMC_투입인원수'!$R$4,IF('(산근1-4) PMC_(Raw Data) 입력'!$C$6="순환 리모델링",'(산근1-1) PMC_투입인원수'!$R$5)))*IF('(산근1-4) PMC_(Raw Data) 입력'!$C$4<=2000,0.015*('(산근1-4) PMC_(Raw Data) 입력'!$C$4*0.1)*(1-0.001*('(산근1-4) PMC_(Raw Data) 입력'!$C$4*0.1)),(0.015*200*(1-0.001*200)+(('(산근1-4) PMC_(Raw Data) 입력'!$C$4*0.1)-200)/250)) -> 0.82903867 | M18: =IF('(산근1-4) PMC_(Raw Data) 입력'!J18="O",1,0) -> 0 | N18: =L18*M18 -> 0 | O18: CM 최소화
C19: 총사업비 집행계획수립지원(종합예산게획서) | E19: 식 | F19: 11.4 | L19: =F19 -> 11.4 | M19: =IF('(산근1-4) PMC_(Raw Data) 입력'!J19="O",1,0) -> 0 | N19: =L19*M19 -> 0 | O19: CM 최소화
B20: 기본 설계 단계 | C20: 기본설계 설계자 선정업무 지원 | E20: 식 | F20: 17.1 | L20: =F20 -> 17.1 | M20: =IF('(산근1-4) PMC_(Raw Data) 입력'!J20="O",1,0) -> 0 | N20: =L20*M20 -> 0 | O20: CM 최소화
C21: 기본설계 조정 및 연계성 검토 | E21: 용역 | F21: 8.4 | G21: ○ | H21: ○ | I21: ○ | J21: ○ | L21: =F21*IF('(산근1-4) PMC_(Raw Data) 입력'!$C$5="단순공종",'(산근1-1) PMC_투입인원수'!$Q$3,IF('(산근1-4) PMC_(Raw Data) 입력'!$C$5="보통공종",'(산근1-1) PMC_투입인원수'!$Q$4,IF('(산근1-4) PMC_(Raw Data) 입력'!$C$5="복잡공종",'(산근1-1) PMC_투입인원수'!$Q$5)))*IF('(산근1-4) PMC_(Raw Data) 입력'!$C$6="신축",'(산근1-1) PMC_투입인원수'!$R$3,IF('(산근1-4) PMC_(Raw Data) 입력'!$C$6="전면 리모델링(증축포함)",'(산근1-1) PMC_투입인원수'!$R$4,IF('(산근1-4) PMC_(Raw Data) 입력'!$C$6="순환 리모델링",'(산근1-1) PMC_투입인원수'!$R$5)))*IF('(산근1-4) PMC_(Raw Data) 입력'!$C$7="미적용",'(산근1-1) PMC_투입인원수'!$S$3,IF('(산근1-4) PMC_(Raw Data) 입력'!$C$7="적용",'(산근1-1) PMC_투입인원수'!$S$4))*IF('(산근1-4) PMC_(Raw Data) 입력'!$C$4<=2000,0.015*('(산근1-4) PMC_(Raw Data) 입력'!$C$4*0.1)*(1-0.001*('(산근1-4) PMC_(Raw Data) 입력'!$C$4*0.1)),(0.015*200*(1-0.001*200)+(('(산근1-4) PMC_(Raw Data) 입력'!$C$4*0.1)-200)/250))*'(산근1-4) PMC_(Raw Data) 입력'!C9 -> 10.445887 | M21: =IF('(산근1-4) PMC_(Raw Data) 입력'!J21="O",1,0) -> 1 | N21: =L21*M21 -> 10.445887 | O21: CM 필수
E22: 개월
C23: 기본설계단계의 예산검증 및 조정업무 | E23: 식 | F23: 22.5 | J23: ○ | L23: =F23*IF('(산근1-4) PMC_(Raw Data) 입력'!$C$4<=2000,0.015*('(산근1-4) PMC_(Raw Data) 입력'!$C$4*0.1)*(1-0.001*('(산근1-4) PMC_(Raw Data) 입력'!$C$4*0.1)),(0.015*200*(1-0.001*200)+(('(산근1-4) PMC_(Raw Data) 입력'!$C$4*0.1)-200)/250)) -> 1.0362983 | M23: =IF('(산근1-4) PMC_(Raw Data) 입력'!J23="O",1,0) -> 1 | N23: =L23*M23 -> 1.0362983 | O23: CM 필수
C24: 기본설계의 경제성(VE) 검토 | E24: 식 | F24: 90.6 | J24: ○ | L24: =F24*IF('(산근1-4) PMC_(Raw Data) 입력'!$C$4<=2000,0.015*('(산근1-4) PMC_(Raw Data) 입력'!$C$4*0.1)*(1-0.001*('(산근1-4) PMC_(Raw Data) 입력'!$C$4*0.1)),(0.015*200*(1-0.001*200)+(('(산근1-4) PMC_(Raw Data) 입력'!$C$4*0.1)-200)/250)) -> 4.172828 | M24: =IF('(산근1-4) PMC_(Raw Data) 입력'!J24="O",1,0) -> 1 | N24: =L24*M24 -> 4.172828 | O24: CM 필수
C25: 기본설계용역성과검토 | E25: 용역 | F25: 8.8 | G25: ○ | H25: ○ | I25: ○ | J25: ○ | L25: =F25*IF('(산근1-4) PMC_(Raw Data) 입력'!$C$5="단순공종",'(산근1-1) PMC_투입인원수'!$Q$3,IF('(산근1-4) PMC_(Raw Data) 입력'!$C$5="보통공종",'(산근1-1) PMC_투입인원수'!$Q$4,IF('(산근1-4) PMC_(Raw Data) 입력'!$C$5="복잡공종",'(산근1-1) PMC_투입인원수'!$Q$5)))*IF('(산근1-4) PMC_(Raw Data) 입력'!$C$6="신축",'(산근1-1) PMC_투입인원수'!$R$3,IF('(산근1-4) PMC_(Raw Data) 입력'!$C$6="전면 리모델링(증축포함)",'(산근1-1) PMC_투입인원수'!$R$4,IF('(산근1-4) PMC_(Raw Data) 입력'!$C$6="순환 리모델링",'(산근1-1) PMC_투입인원수'!$R$5)))*IF('(산근1-4) PMC_(Raw Data) 입력'!$C$7="미적용",'(산근1-1) PMC_투입인원수'!$S$3,IF('(산근1-4) PMC_(Raw Data) 입력'!$C$7="적용",'(산근1-1) PMC_투입인원수'!$S$4))*IF('(산근1-4) PMC_(Raw Data) 입력'!$C$4<=2000,0.015*('(산근1-4) PMC_(Raw Data) 입력'!$C$4*0.1)*(1-0.001*('(산근1-4) PMC_(Raw Data) 입력'!$C$4*0.1)),(0.015*200*(1-0.001*200)+(('(산근1-4) PMC_(Raw Data) 입력'!$C$4*0.1)-200)/250))*'(산근1-4) PMC_(Raw Data) 입력'!C9 -> 10.94331 | M25: =IF('(산근1-4) PMC_(Raw Data) 입력'!J25="O",1,0) -> 0 | N25: =L25*M25 -> 0 | O25: CM 최소화
E26: 개월
C27: 기본설계 용역 기성 및 준공검사관리 | E27: 회 | F27: 3.7 | L27: =F27 -> 3.7 | M27: =IF('(산근1-4) PMC_(Raw Data) 입력'!J27="O",1,0) -> 0 | N27: =L27*M27 -> 0 | O27: CM 최소화
C28: 각종 인허가 및 관계기관협의 지원 | E28: 식 | F28: 6.8 | L28: =F28 -> 6.8 | M28: =IF('(산근1-4) PMC_(Raw Data) 입력'!J28="O",1,0) -> 0 | N28: =L28*M28 -> 0 | O28: CM 최소화
C29: 기본설계단계의 기술자문회의 운영 및 관리ㆍ지원 | E29: 회 | F29: 2.5 | L29: =F29 -> 2.5 | M29: =IF('(산근1-4) PMC_(Raw Data) 입력'!J29="O",1,0) -> 0 | N29: =L29*M29 -> 0 | O29: CM 최소화
B30: 실시 설계 단계 | C30: 실시설계 설계자 선정업무 지원 | E30: 식 | F30: 13.9 | L30: =F30 -> 13.9 | M30: =IF('(산근1-4) PMC_(Raw Data) 입력'!J30="O",1,0) -> 0 | N30: =L30*M30 -> 0 | O30: CM 최소화
C31: 실시설계 조정 및 연계성 검토 | E31: 용역 | F31: 18.4 | G31: ○ | H31: ○ | I31: ○ | J31: ○ | L31: =F31*IF('(산근1-4) PMC_(Raw Data) 입력'!$C$5="단순공종",'(산근1-1) PMC_투입인원수'!$Q$3,IF('(산근1-4) PMC_(Raw Data) 입력'!$C$5="보통공종",'(산근1-1) PMC_투입인원수'!$Q$4,IF('(산근1-4) PMC_(Raw Data) 입력'!$C$5="복잡공종",'(산근1-1) PMC_투입인원수'!$Q$5)))*IF('(산근1-4) PMC_(Raw Data) 입력'!$C$6="신축",'(산근1-1) PMC_투입인원수'!$R$3,IF('(산근1-4) PMC_(Raw Data) 입력'!$C$6="전면 리모델링(증축포함)",'(산근1-1) PMC_투입인원수'!$R$4,IF('(산근1-4) PMC_(Raw Data) 입력'!$C$6="순환 리모델링",'(산근1-1) PMC_투입인원수'!$R$5)))*IF('(산근1-4) PMC_(Raw Data) 입력'!$C$7="미적용",'(산근1-1) PMC_투입인원수'!$S$3,IF('(산근1-4) PMC_(Raw Data) 입력'!$C$7="적용",'(산근1-1) PMC_투입인원수'!$S$4))*IF('(산근1-4) PMC_(Raw Data) 입력'!$C$4<=2000,0.015*('(산근1-4) PMC_(Raw Data) 입력'!$C$4*0.1)*(1-0.001*('(산근1-4) PMC_(Raw Data) 입력'!$C$4*0.1)),(0.015*200*(1-0.001*200)+(('(산근1-4) PMC_(Raw Data) 입력'!$C$4*0.1)-200)/250))*'(산근1-4) PMC_(Raw Data) 입력'!C9 -> 22.881467 | M31: =IF('(산근1-4) PMC_(Raw Data) 입력'!J31="O",1,0) -> 1 | N31: =L31*M31 -> 22.881467 | O31: CM 필수
E32: 개월
C33: 실시설계단계의 예산검증 및 조정업무 | E33: 식 | F33: 23.3 | J33: ○ | L33: =F33*IF('(산근1-4) PMC_(Raw Data) 입력'!$C$4<=2000,0.015*('(산근1-4) PMC_(Raw Data) 입력'!$C$4*0.1)*(1-0.001*('(산근1-4) PMC_(Raw Data) 입력'!$C$4*0.1)),(0.015*200*(1-0.001*200)+(('(산근1-4) PMC_(Raw Data) 입력'!$C$4*0.1)-200)/250)) -> 1.0731445 | M33: =IF('(산근1-4) PMC_(Raw Data) 입력'!J33="O",1,0) -> 1 | N33: =L33*M33 -> 1.0731445 | O33: CM 필수
C34: 실시설계의 경제성(VE) 검토 | E34: 식 | F34: 123.3 | J34: ○ | L34: =F34*IF('(산근1-4) PMC_(Raw Data) 입력'!$C$4<=2000,0.015*('(산근1-4) PMC_(Raw Data) 입력'!$C$4*0.1)*(1-0.001*('(산근1-4) PMC_(Raw Data) 입력'!$C$4*0.1)),(0.015*200*(1-0.001*200)+(('(산근1-4) PMC_(Raw Data) 입력'!$C$4*0.1)-200)/250)) -> 5.6789149 | M34: =IF('(산근1-4) PMC_(Raw Data) 입력'!J34="O",1,0) -> 1 | N34: =L34*M34 -> 5.6789149 | O34: CM 필수
C35: 실시설계용역성과검토 | E35: 용역 | F35: 18.9 | G35: ○ | H35: ○ | I35: ○ | J35: ○ | L35: =F35*IF('(산근1-4) PMC_(Raw Data) 입력'!$C$5="단순공종",'(산근1-1) PMC_투입인원수'!$Q$3,IF('(산근1-4) PMC_(Raw Data) 입력'!$C$5="보통공종",'(산근1-1) PMC_투입인원수'!$Q$4,IF('(산근1-4) PMC_(Raw Data) 입력'!$C$5="복잡공종",'(산근1-1) PMC_투입인원수'!$Q$5)))*IF('(산근1-4) PMC_(Raw Data) 입력'!$C$6="신축",'(산근1-1) PMC_투입인원수'!$R$3,IF('(산근1-4) PMC_(Raw Data) 입력'!$C$6="전면 리모델링(증축포함)",'(산근1-1) PMC_투입인원수'!$R$4,IF('(산근1-4) PMC_(Raw Data) 입력'!$C$6="순환 리모델링",'(산근1-1) PMC_투입인원수'!$R$5)))*IF('(산근1-4) PMC_(Raw Data) 입력'!$C$7="미적용",'(산근1-1) PMC_투입인원수'!$S$3,IF('(산근1-4) PMC_(Raw Data) 입력'!$C$7="적용",'(산근1-1) PMC_투입인원수'!$S$4))*IF('(산근1-4) PMC_(Raw Data) 입력'!$C$4<=2000,0.015*('(산근1-4) PMC_(Raw Data) 입력'!$C$4*0.1)*(1-0.001*('(산근1-4) PMC_(Raw Data) 입력'!$C$4*0.1)),(0.015*200*(1-0.001*200)+(('(산근1-4) PMC_(Raw Data) 입력'!$C$4*0.1)-200)/250))*'(산근1-4) PMC_(Raw Data) 입력'!C9 -> 23.503246 | M35: =IF('(산근1-4) PMC_(Raw Data) 입력'!J35="O",1,0) -> 0 | N35: =L35*M35 -> 0 | O35: CM 최소화
E36: 개월
C37: 실시설계 용역 기성 및 준공검사관리 | E37: 회 | F37: 8.1 | L37: =F37 -> 8.1 | M37: =IF('(산근1-4) PMC_(Raw Data) 입력'!J37="O",1,0) -> 0 | N37: =L37*M37 -> 0 | O37: CM 최소화
C38: 지급자재 조달 및 관리계획 수립 | E38: 식 | F38: 10.2 | L38: =F38 -> 10.2 | M38: =IF('(산근1-4) PMC_(Raw Data) 입력'!J38="O",1,0) -> 0 | N38: =L38*M38 -> 0 | O38: CM 최소화
C39: 각종 인허가 및 관계기관협의 지원 | E39: 식 | F39: 8.3 | L39: =F39 -> 8.3 | M39: =IF('(산근1-4) PMC_(Raw Data) 입력'!J39="O",1,0) -> 1 | N39: =L39*M39 -> 8.3 | O39: 사업특성반영
C40: 실시설계단계의 기술자문회의 운영 및 관리ㆍ지원 | E40: 회 | F40: 6.4 | L40: =F40 -> 6.4 | M40: =IF('(산근1-4) PMC_(Raw Data) 입력'!J40="O",1,0) -> 0 | N40: =L40*M40 -> 0 | O40: CM 최소화
C41: 시공자 선정계획수립 | E41: 식 | F41: 16.9 | L41: =F41 -> 16.9 | M41: =IF('(산근1-4) PMC_(Raw Data) 입력'!J41="O",1,0) -> 1 | N41: =L41*M41 -> 16.9 | O41: 사업특성반영
...

Sheet (산근1-2) PMC_건설사업관리기술인 노임가격
B2: 구 분 | C2: 연 도
C3: 2026
B4: 고 급 | C4: 376400

Sheet (산근1-3) PMC_손해배상공제요율표

Sheet (산근1-4) PMC_(Raw Data) 입력
J1: 해당여부 칸에서 'O' 또는 'X' 를 선택하십시오
B2: 공사 개요 | G2: 업무분류체계 | J2: 해당여부 | L2: 선정기준
B3: 구 분 | C3: 내 용 | D3: 단 위 | E3: 비고
B4: 총 공사비 | C4: 30.8 | D4: (억원) | E4: 직접입력 | G4: 단계 | H4: 기본업무
B5: 건축용도 | C5: 보통공종 | E5: 선택 | G5: 공통 업무 | H5: 과업착수준비 | J5: X | L5: CM 최소화
B6: 공사성격 | C6: 신축 | E6: 선택 | H6: 건설사업관리 업무수행계획서 작성ㆍ운영 | J6: X | L6: CM 최소화
B7: BIM 적용여부 | C7: 미적용 | E7: 선택 | H7: 건설사업관리 절차서 작성ㆍ운영 | J7: X | L7: CM 최소화
H8: 작업분류체계 및 사업번호체계 관리, 사업정보축적ㆍ관리 | J8: X | L8: CM 최소화
B9: 건설사업관리기간 | C9: 27 | D9: (개월) | E9: 직접입력 | H9: 사업정보관리시스템의 운영 | J9: X | L9: CM 최소화
B10: 골조공사비 | C10: =C4*30% -> 9.24 | D10: (억원) | E10: 30%적용
H11: 클레임 사전분석 | J11: X | L11: CM 최소화
H12: 최종 건설사업관리 보고 | I12: 1)시공전 단계 | J12: X | L12: CM 최소화
B13: 직접경비 | C13: ='(산근1) PMC_총괄표'!C4*50% -> 101323116 | D13: (원) | E13: 직접인건비의 50%, 실비정산 | I13: 2)시공 이후 단계 | J13: X | L13: CM 최소화
B14: 제경비요율 | C14: 110 | D14: % | E14: (110~120)% 중 선택 | G14: 설계전 단계 | H14: 건설기술용역업체 선정 | J14: X | L14: CM 최소화
B15: 기술료요율 | C15: 20 | D15: % | E15: (20~40)% 중 선택 | H15: 사업타당성조사보고서의 적정성 검토 | J15: X | L15: CM 최소화
B16: 추가업무비용 | C16: 0 | D16: (원) | E16: 필요시 작성 | H16: 기본계획보고서의 적정성 검토 | J16: X | L16: CM 최소화
B17: 손해배상보험 요율 | C17: 0.549 | D17: % | E17: 건축사공제조합 요율표 확인 | H17: 발주방식 결정 지원 | J17: X | L17: CM 최소화
H18: 관리기준공정계획수립 | J18: X | L18: CM 최소화
H19: 총사업비 집행계획수립지원(종합예산게획서) | J19: X | L19: CM 최소화
B20: 감독 권한대행 수행여부 | C20: O | D20: (시공단계) | E20: 선택 | G20: 기본 설계 단계 | H20: 기본설계 설계자 선정업무 지원 | J20: X | L20: CM 최소화
H21: 기본설계 조정 및 연계성 검토 | J21: O | L21: CM 필수
H23: 기본설계단계의 예산검증 및 조정업무 | J23: O | L23: CM 필수
H24: 기본설계의 경제성(VE) 검토 | J24: O | L24: CM 필수
H25: 기본설계용역성과검토 | J25: X | L25: CM 최소화
H27: 기본설계 용역 기성 및 준공검사관리 | J27: X | L27: CM 최소화
H28: 각종 인허가 및 관계기관협의 지원 | J28: X | L28: CM 최소화
H29: 기본설계단계의 기술자문회의 운영 및 관리ㆍ지원 | J29: X | L29: CM 최소화
G30: 실시 설계 단계 | H30: 실시설계 설계자 선정업무 지원 | J30: X | L30: CM 최소화
H31: 실시설계 조정 및 연계성 검토 | J31: O | L31: CM 필수
H33: 실시설계단계의 예산검증 및 조정업무 | J33: O | L33: CM 필수
H34: 실시설계의 경제성(VE) 검토 | J34: O | L34: CM 필수
H35: 실시설계용역성과검토 | J35: X | L35: CM 최소화
H37: 실시설계 용역 기성 및 준공검사관리 | J37: X | L37: CM 최소화
H38: 지급자재 조달 및 관리계획 수립 | J38: X | L38: CM 최소화
H39: 각종 인허가 및 관계기관협의 지원 | J39: O | L39: 사업특성반영
H40: 실시설계단계의 기술자문회의 운영 및 관리ㆍ지원 | J40: X | L40: CM 최소화
H41: 시공자 선정계획수립 | J41: O | L41: 사업특성반영
G42: 구매 조달 단계 | H42: 입찰업무지원 | J42: X | L42: CM 최소화
H43: 계약업무지원 | J43: X | L43: CM 최소화
H44: 지급자재조달지원 | J44: X | L44: CM 최소화
...

Sheet (산근1-5)PMC_(Raw Data)평균건설사업관리기간
B2: 평균건설사업관리기간(개월)
B3: 공사비(억원) | C3: 10 이하 | D3: 30 | E3: 50 | F3: 70 | G3: 100 | H3: 150 | I3: 200 | J3: 300 | K3: 400 | L3: 500 | M3: 700 | N3: 1,000 이상
B4: 평균건설사업관리기간(개월) | C4: 10 | D4: 14 | E4: 17 | F4: 24 | G4: 28 | H4: 30 | I4: 37 | J4: 38 | K4: 38 | L4: 39 | M4: 45 | N4: 54
B6: 건설사업관리기간보정계수
B7: x1 | C7: =IF('(산근1-4) PMC_(Raw Data) 입력'!C4<=10,'(산근1-4) PMC_(Raw Data) 입력'!C4,IF('(산근1-4) PMC_(Raw Data) 입력'!C4<=30,30,IF('(산근1-4) PMC_(Raw Data) 입력'!C4<=50,50,IF('(산근1-4) PMC_(Raw Data) 입력'!C4<=70,70,IF('(산근1-4) PMC_(Raw Data) 입력'!C4<=100,100,IF('(산근1-4) PMC_(Raw Data) 입력'!C4<=150,150,IF('(산근1-4) PMC_(Raw Data) 입력'!C4<=200,200,IF('(산근1-4) PMC_(Raw Data) 입력'!C4<=300,300,IF('(산근1-4) PMC_(Raw Data) 입력'!C4<=400,400,IF('(산근1-4) PMC_(Raw Data) 입력'!C4<=500,500,IF('(산근1-4) PMC_(Raw Data) 입력'!C4<=700,700,IF('(산근1-4) PMC_(Raw Data) 입력'!C4<1000,1000,IF('(산근1-4) PMC_(Raw Data) 입력'!C4>=1000,'(산근1-4) PMC_(Raw Data) 입력'!C4,))))))))))))) -> 50
B8: x2 | C8: =IF('(산근1-4) PMC_(Raw Data) 입력'!C4<=10,'(산근1-4) PMC_(Raw Data) 입력'!C4,IF('(산근1-4) PMC_(Raw Data) 입력'!C4<30,10,IF('(산근1-4) PMC_(Raw Data) 입력'!C4<50,30,IF('(산근1-4) PMC_(Raw Data) 입력'!C4<70,50,IF('(산근1-4) PMC_(Raw Data) 입력'!C4<100,70,IF('(산근1-4) PMC_(Raw Data) 입력'!C4<150,100,IF('(산근1-4) PMC_(Raw Data) 입력'!C4<200,150,IF('(산근1-4) PMC_(Raw Data) 입력'!C4<300,200,IF('(산근1-4) PMC_(Raw Data) 입력'!C4<400,300,IF('(산근1-4) PMC_(Raw Data) 입력'!C4<500,400,IF('(산근1-4) PMC_(Raw Data) 입력'!C4<700,500,IF('(산근1-4) PMC_(Raw Data) 입력'!C4<1000,700,IF('(산근1-4) PMC_(Raw Data) 입력'!C4>=1000,'(산근1-4) PMC_(Raw Data) 입력'!C4))))))))))))) -> 30
B9: y1 | C9: =IF('(산근1-4) PMC_(Raw Data) 입력'!C4<=10,C4,IF('(산근1-4) PMC_(Raw Data) 입력'!C4<30,C4,IF('(산근1-4) PMC_(Raw Data) 입력'!C4<50,D4,IF('(산근1-4) PMC_(Raw Data) 입력'!C4<70,E4,IF('(산근1-4) PMC_(Raw Data) 입력'!C4<100,F4,IF('(산근1-4) PMC_(Raw Data) 입력'!C4<150,G4,IF('(산근1-4) PMC_(Raw Data) 입력'!C4<200,H4,IF('(산근1-4) PMC_(Raw Data) 입력'!C4<300,I4,IF('(산근1-4) PMC_(Raw Data) 입력'!C4<400,J4,IF('(산근1-4) PMC_(Raw Data) 입력'!C4<500,K4,IF('(산근1-4) PMC_(Raw Data) 입력'!C4<700,L4,IF('(산근1-4) PMC_(Raw Data) 입력'!C4<1000,M4,IF('(산근1-4) PMC_(Raw Data) 입력'!C4>=1000,N4))))))))))))) -> 14
B10: y2 | C10: =IF('(산근1-4) PMC_(Raw Data) 입력'!C4<=10,C4,IF('(산근1-4) PMC_(Raw Data) 입력'!C4<=30,D4,IF('(산근1-4) PMC_(Raw Data) 입력'!C4<=50,E4,IF('(산근1-4) PMC_(Raw Data) 입력'!C4<=70,F4,IF('(산근1-4) PMC_(Raw Data) 입력'!C4<=100,G4,IF('(산근1-4) PMC_(Raw Data) 입력'!C4<=150,H4,IF('(산근1-4) PMC_(Raw Data) 입력'!C4<=200,I4,IF('(산근1-4) PMC_(Raw Data) 입력'!C4<=300,J4,IF('(산근1-4) PMC_(Raw Data) 입력'!C4<=400,K4,IF('(산근1-4) PMC_(Raw Data) 입력'!C4<=500,L4,IF('(산근1-4) PMC_(Raw Data) 입력'!C4<=700,M4,IF('(산근1-4) PMC_(Raw Data) 입력'!C4<1000,N4,IF('(산근1-4) PMC_(Raw Data) 입력'!C4>=1000,N4))))))))))))) -> 17
B11: 평균건설사업관리기간(개월) | C11: =IFERROR((C9-((('(산근1-4) PMC_(Raw Data) 입력'!C4-C8)*(C9-C10))/(C7-C8))),IF(OR('(산근1-4) PMC_(Raw Data) 입력'!C4=30,50,70,100,150,200,300,400,500,700),C9)) -> 14.12
B12: 건설사업관리기간 보정계수 | C12: =((C11-'(산근1-4) PMC_(Raw Data) 입력'!C9)/C11)*0.1 -> -0.09121813

Sheet (산근2) 시설구축비
B2: (산출근거1) 시설구축비
B4: □ 시설구축비 총괄표
B5: 구분 | G5: 시설구축비 (KRW)
B6: Ⅰ. 건축물 공사 | G6: 2401000000
B7: Ⅱ. 야외시설 공사 | G7: 679000000
B8: 계 | G8: =SUM(G6:H7) -> 3080000000
B10: □ 세부내역 | J10: ='0. 용역비 산출내역서(총괄)'!J4 -> 1400
B11: 구분 | C11: 항목 | E11: 면적 | G11: 총비용 | I11: 면적당비용 | L11: 산정기준 | M11: 비고
E12: ㎡ | F12: PY | G12: USD | H12: KRW | I12: USD/㎡ | J12: KRW/㎡ | K12: KRW/PY | Q12: CAD산정면적
B13: 공사비 | C13: 건축물 | D13: 교육훈련센터 | E13: 1040 | F13: =E13*0.3025 -> 314.6 | G13: =E13*I13 -> 728000 | H13: =E13*J13 -> 1019200000 | I13: 700 | J13: =I13*$J$10 -> 980000 | K13: =J13/0.3025 -> 3239669.4 | L13: 인터뷰 | Q13: 1042.3
D14: 기숙사및식당 | E14: 1410 | F14: =E14*0.3025 -> 426.525 | G14: =E14*I14 -> 987000 | H14: =E14*J14 -> 1381800000 | I14: 700 | J14: =I14*$J$10 -> 980000 | K14: =J14/0.3025 -> 3239669.4 | L14: 인터뷰 | Q14: 1410.54
D15: 소계 | E15: =SUM(E13:E14) -> 2450 | F15: =E15*0.3025 -> 741.125 | G15: =G13+G14 -> 1715000 | H15: =H13+H14 -> 2401000000
C16: 야외시설 | D16: 화학사고대응훈련장 | E16: 700 | F16: =E16*0.3025 -> 211.75 | G16: =E16*I16 -> 70000 | H16: =E16*J16 -> 98000000 | I16: 100 | J16: =I16*$J$10 -> 140000 | K16: =J16/0.3025 -> 462809.92 | L16: 예타기준
D17: 운송차량사고대응훈련장 | E17: 900 | F17: =E17*0.3025 -> 272.25 | G17: =E17*I17 -> 90000 | H17: =E17*J17 -> 126000000 | I17: 100 | J17: =I17*$J$10 -> 140000 | K17: =J17/0.3025 -> 462809.92 | L17: 예타기준
D18: 주차장 | E18: 2000 | F18: =E18*0.3025 -> 605 | G18: =E18*I18 -> 100000 | H18: =E18*J18 -> 140000000 | I18: 50 | J18: =I18*$J$10 -> 70000 | K18: =J18/0.3025 -> 231404.96 | L18: 인터뷰
D19: 도로포장 | E19: 1500 | F19: =E19*0.3025 -> 453.75 | G19: =E19*I19 -> 75000 | H19: =E19*J19 -> 105000000 | I19: 50 | J19: =I19*$J$10 -> 70000 | K19: =J19/0.3025 -> 231404.96 | L19: 인터뷰
D20: 조경시설(휴게 등) | E20: 1500 | F20: =E20*0.3025 -> 453.75 | G20: =E20*I20 -> 150000 | H20: =E20*J20 -> 210000000 | I20: 100 | J20: =I20*$J$10 -> 140000 | K20: =J20/0.3025 -> 462809.92 | L20: 사례 | Q20: 건축물 공사비 | R20: 2391196096
D21: 소계 | E21: =SUM(E16:E20) -> 6600 | F21: =E21*0.3025 -> 1996.5 | G21: =SUM(G16:G20) -> 485000 | H21: =SUM(H16:H20) -> 679000000 | Q21: 손해배상공제보험 | R21: =R20*0.0041 -> 9803904
C22: 총계 | G22: =G15+G21 -> 2200000 | H22: =H15+H21 -> 3080000000 | Q22: 건축물 | R22: =SUM(R20:R21) -> 2.401e+09
Q24: 야외시설 공사비 | R24: 676227467
Q25: 손해배상공제보험 | R25: =R24*0.0041 -> 2772532.6
Q26: 야외시설 공사비 | R26: =SUM(R24:R25) -> 6.79e+08

Sheet (산근3) 조달청공사비분석
B2: (산출근거2) 설계비 감리비 산정을 위한 조달청 국내공사비분석
B3: 산정방식 : 국내 발주 기반의 설계 및 감리비 산정을 위해, 산정된 현지 공사비를 국내 물가 기준 공사비로 환산,추정함.
B5: □ 국내 물가 기준공사비 추정
B6: 구분 | E6: 내용 | G6: 비고
B7: 시설총 연면적 | E7: ='(산근2) 시설구축비'!E15 -> 2450 | F7: =E7*0.3025 -> 741.125
B8: 조달청평균 면적당공사비 | E8: =E35 -> 3376445.7 | F8: =F35 -> 11161804
B9: 국내공사비환산 | E9: =E8*E7 -> 8.2722919e+09
B10: 백만단위 절사 | E10: =ROUNDDOWN(E9,-7) -> 8270000000
B12: □ 조달청 2025, 2026년 일반청사 및 일반수련시설 공사비 사례
B13: 구분 | C13: 년도 | D13: 시설명 | E13: 면적당공사비 | G13: 총공사비 | H13: 연면적 | J13: 규모 | K13: 구조
E14: 원/㎡ | F14: PY/㎡ | H14: ㎡ | I14: PY
B15: 일반청사 | C15: 2026 | D15: 경찰수사연수원 수사교육동 증축사업 | E15: 2698646 | F15: =E15/0.3025 -> 8921143.8 | G15: 48923752867 | H15: 18129 | I15: =H15*0.3025 -> 5484.0225 | J15: 지하 1층 ~ 지상 7층 | K15: 철근콘크리트조
D16: 증평경찰서 신축사업 건축공사 | E16: 3067660 | F16: =E16/0.3025 -> 10141025 | G16: 22338513382 | H16: 7281.94 | I16: =H16*0.3025 -> 2202.7868 | J16: 지하 1층 ~ 지상 4층 | K16: 철근콘크리트조
C17: 2025 | D17: 부산지방법원 동부지원 청사 별관 증축공사 | E17: 2539054 | F17: =E17/0.3025 -> 8393566.9 | G17: 16846620524 | H17: 6635 | I17: =H17*0.3025 -> 2007.0875 | J17: 지하 0층 ~ 지상 4층 | K17: 철골철근콘크리트조
D18: 과천행복드림센터 건립공사 | E18: 3700239 | F18: =E18/0.3025 -> 12232195 | G18: 17749528457 | H18: 4796.86 | I18: =H18*0.3025 -> 1451.0501 | J18: 지하 2층 ~ 지상 3층 | K18: 철근콘크리트조
D19: 중부지방해양경찰청 청사 신축공사 | E19: 2986528 | F19: =E19/0.3025 -> 9872819.8 | G19: 26856769920 | H19: 8992.64 | I19: =H19*0.3025 -> 2720.2736 | J19: 지하 1층 ~ 지상 4층 | K19: 철근콘크리트조
D20: 단양경찰서 신축사업 건축공사 | E20: 2815133 | F20: =E20/0.3025 -> 9306224.8 | G20: 18642680838 | H20: 6622.31 | I20: =H20*0.3025 -> 2003.2488 | J20: 지하 1층 ~ 지상 5층 | K20: 철근콘크리트조
D21: 장호원읍 행정복지센터 건립공사 | E21: 3999724 | F21: =E21/0.3025 -> 13222228 | G21: 11428171659 | H21: 2857.24 | I21: =H21*0.3025 -> 864.3151 | J21: 지하 1층 ~ 지상 3층 | K21: 철근콘크리트조
D22: {가칭]국립북한인권센터 건립사업 건축공사 | E22: 4264358 | F22: =E22/0.3025 -> 14097051 | G22: 10237444469 | H22: 2400.7 | I22: =H22*0.3025 -> 726.21175 | J22: 지하 1층 ~ 지상 3층 | K22: 철근콘크리트조
D23: 계룡경찰서 신축 건축공사 | E23: 2989525 | F23: =E23/0.3025 -> 9882727.3 | G23: 19085752629 | H23: 6384.21 | I23: =H23*0.3025 -> 1931.2235 | J23: 지하 1층 ~ 지상 4층 | K23: 철근콘크리트조
D24: 은평세무서 청사 신축공사 | E24: 3375350 | F24: =E24/0.3025 -> 11158182 | G24: 30227471893 | H24: 8955.36 | I24: =H24*0.3025 -> 2708.9964 | J24: 지하 4층 ~ 지상 7층 | K24: 철근콘크리트조
D25: 강동세무서 청사 신축공사 | E25: 3252415 | F25: =E25/0.3025 -> 10751785 | G25: 29395330100 | H25: 9038 | I25: =H25*0.3025 -> 2733.995 | J25: 지하 2층 ~ 지상 7층 | K25: 철근콘크리트조
D26: 119항공정비실 건립사업 건축공사 | E26: 4201900 | F26: =E26/0.3025 -> 13890579 | G26: 29301238389 | H26: 6973.33 | I26: =H26*0.3025 -> 2109.4323 | J26: 지하 1층 ~ 지상 3층 | K26: 철근콘크리트조
D27: 전남연수원 건립 건축공사 | E27: 3160151 | F27: =E27/0.3025 -> 10446780 | G27: 28303294716 | H27: 8956.31 | I27: =H27*0.3025 -> 2709.2838 | J27: 지하 0층 ~ 지상 6층 | K27: 철근콘크리트조
D28: 해양경찰 위성센터 건축공사 | E28: 4826689 | F28: =E28/0.3025 -> 15955997 | G28: 12491568792 | H28: 2588.02 | I28: =H28*0.3025 -> 782.87605 | J28: 지하 1층 ~ 지상 3층 | K28: 철근콘크리트조
D29: 밀양 공공임대형 지식산업센터 건립사업 | E29: 2388569 | F29: =E29/0.3025 -> 7896095.9 | G29: 22985155767 | H29: 9622.98 | I29: =H29*0.3025 -> 2910.9514 | J29: 지하 1층 ~ 지상 5층 | K29: 철근콘크리트조
... D33: 울릉소방서 신축 건축공사 | E33: 5381918 | F33: =E33/0.3025 -> 17791464 | G33: 25489624277 | H33: 4736.16 | I33: =H33*0.3025 -> 1432.6884 | J33: 지하 1층 ~ 지상 4층 | K33: 철근콘크리트조
B34: 일반수련시설 | C34: 2025 | D34: (가칭)강원도교직원수련원 장호 분원 신축공사 | E34: 5152461 | F34: =E34/0.3025 -> 17032929 | G34: 22597407109 | H34: 4385.75 | I34: =H34*0.3025 -> 1326.6894 | J34: 지하 1층 ~ 지상 4층 | K34: 철근콘크리트조
B35: 평균 | E35: =G35/H35 -> 3376445.7 | F35: =E35/0.3025 -> 11161804 | G35: =SUM(G15:G34) -> 505375248515 | H35: =SUM(H15:H34) -> 149676.7 | I35: =H35*0.3025 -> 45277.202

Sheet (산근4) 설계비,감리비
B2: (산출근거3) 설계비 감리비 산정을 위한 조달청 국내공사비분석
B4: 국내물가기준 환산 총공사비 | D4: ='(산근3) 조달청공사비분석'!E10 -> 8270000000 | F4: (산근2) 조달청공사비분석
B6: □ 국내 기준공사비 추정
B7: 구분 | D7: 요율 | E7: 비용 | F7: 비고
B8: 설계비 | C8: 건축설계 | D8: 0.04258 | E8: =$D$4*D8 -> 352136600 | F8: (산근5) 건축사업무대가
C9: 직접경비 | D9: 0.15 | E9: =E8*D9 -> 52820490 | F9: 실비정산, 설계비의 15% 적용
C10: 손해배상공제보험 | D10: 0.0041 | E10: =(E8+E9)*D10 -> 1660324.1 | F10: (산근6) : 업무시설적용
C11: 계 | E11: =SUM(E8:E10) -> 4.0661741e+08
B12: 감리비 | C12: 감리비 | D12: 0.0105 | E12: =$D$4*D12 -> 86835000 | F12: (산근5) 건축사업무대가
C13: 직접경비 | D13: 0.15 | E13: =E12*D13 -> 13025250 | F13: 실비정산, 감리비의 15% 적용
C14: 손해배상공제보험 | D14: 0.0041 | E14: =(E12+E13)*D14 -> 409427.03 | F14: (산근6) : 업무시설적용
C15: 계 | E15: =SUM(E12:E14) -> 1.0026968e+08
B17: □ 직접경비 실비정산 항목
B18: 1. 현지조사비 : 지반조사비, 현황측량비 등
B19: 2. 통번역비 : 전문기술번역비, 현지통역비 등
B20: 3. 해외출장비 : 항공료, 체재비 등
B21: 4. 인허가비용 : 현지 설계사 비용(면허도장), 인허가 수수료 등

Sheet (산근5) 건축사업무대가
A2: (산출근거4) 건축사의 업무대가기준(설계비, 감리비)

Sheet (산근6) 손해배상공제요율표
A2: (산출근거5) 손해배상공제요율표(건축사공제조합)
