Workbook
Name CV_1C: #REF!
Name SIZE: #REF!
Name 노임: #REF!
Name 단가: #REF!
Name 일위: #REF!
Name 품_______명: #REF!

Sheet 원가
A1: 원 가 계 산 서
A3: 공사명: | C3: 22경찰경호대 ALTS 교체 공사 | E3: 공사기간: 1 개월미만
A4: 비 목 | C4: 구 분 | D4: 금 액 | E4: 구 성 비 | I4: 요율 | J4: 수량 | K4: 금액 | L4: 이윤 | M4: 끝자리 맞추기
B5: 재 료 비 | C5: 직 접 재 료 비 | D5: =총괄표!I29 -> 0 | J5: 1 | K5: =D5*J5 -> 0
C6: 간 접 재 료 비 | K6: =D6*J6 -> 0
C7: ( 소 계 ) | D7: =SUM(D5:D6) -> 0 | K7: =D7*J7 -> 0
A8: 순 | B8: 노 무 비 | C8: 직 접 노 무 비 | D8: =총괄표!L29 -> 0 | J8: 1 | K8: =D8*J8 -> 0
C9: 간 접 노 무 비 | D9: =TRUNC(D8*I9/100) -> 0 | E9: (직접 노무비) * 17.5 % | I9: 17.5 | J9: 1 | K9: =D9*J9 -> 0
C10: ( 소 계 ) | D10: =SUM(D8:D9) -> 0 | K10: =D10*J10 -> 0
C11: 산 재 보 험 료 | D11: =TRUNC(D10*I11/100) -> 0 | E11: (노무비) * 3.56 % | I11: 3.56 | J11: 1 | K11: =D11*J11 -> 0
C12: 고 용 보 험 료 | D12: =TRUNC(D10*I12/100) -> 0 | E12: (노무비) * 1.01 % | I12: 1.01 | J12: 1 | K12: =D12*J12 -> 0
B13: 경 | C13: 산업안전관리비 | D13: =TRUNC((D7+D8)*I13/100) -> 0 | E13: (재료+직노) * 2.07% | I13: 2.07 | J13: 1 | K13: =D13*J13 -> 0
C14: 기 타 경 비 | D14: =TRUNC((D7+D10)*I14/100) -> 0 | E14: (재료+노무) * 5 % | I14: 5 | J14: 1 | K14: =D14*J14 -> 0
C15: 석 면 분 담 금 | D15: =TRUNC(D10*I15/100) -> 0 | E15: (노무비) * 0.006 % | I15: 0.006 | J15: 1 | K15: =D15*J15 -> 0
C16: 임금채권부담금 | D16: =TRUNC(D10*I16/100) -> 0 | E16: (노무비) * 0.09 % | I16: 0.09 | J16: 1 | K16: =D16*J16 -> 0
A17: 사 | I17: 10.25 | J17: 1 | K17: =D17*J17 -> 0
K18: =D18*J18 -> 0
K19: =D19*J19 -> 0
K20: =D20*J20 -> 0
B21: 비 | K21: =D21*J21 -> 0
A22: 비 | K22: =D22*J22 -> 0
K23: =D23*J23 -> 0
C24: ( 소 계 ) | D24: =SUM(D11:D23) -> 0 | K24: =D24*J24 -> 0
B25: ( 순 공 사 비 계 ) | D25: =D7+D10+D24 -> 0 | K25: =D25*J25 -> 0
A26: 일 반 관 리 비 | D26: =TRUNC((D7+D10+D24)*I26/100) -> 0 | E26: (재료+노무+경비) * 8 % | I26: 8 | J26: 1 | K26: =D26*J26 -> 0
A27: 이 윤 | D27: =L27-((SUM(K5:K26)+L27-TRUNC((SUM(K5:K26)+L27)/M27)*M27)) -> 0 | E27: (노무+경비+일반관리비) * 15 % | I27: 15 | J27: 1 | K27: =D27*J27 -> 0 | L27: =TRUNC((D10+D24+D26)*I27/100) -> 0 | M27: 100000
A28: ( 총 원 가 ) | D28: =SUM(K5:K27) -> 0 | K28: =D28*J28 -> 0
A29: 부 가 가 치 세 | D29: =TRUNC(D28*I29/100) -> 0 | E29: (총원가) * 10% | I29: 10 | J29: 1 | K29: =D29*J29 -> 0
K30: =D30*J30 -> 0
K31: =D31*J31 -> 0
K32: =D32*J32 -> 0
K33: =D33*J33 -> 0
A34: ( 총 계 ) | D34: =K34 -> 0 | E34: 만단위 절사 | K34: =TRUNC(D28+K29,-5) -> 0

Sheet 총괄표
A1: 총줄수-> | B1: 29 | D1: [ 22경찰경호대 ALTS 교체 공사 ] | AA1: 연속견적가로형식
A2: 번호 | B2: 공종코드 | C2: … | D2: 공 종 명 | E2: 규격 | F2: 단위 | G2: 수량 | H2: 재료비 | J2: 노무비 | M2: 경비 | P2: 계 | Q2: 비고
H3: 단가 | I3: 금액 | J3: 수량 | K3: 단가 | L3: 금액 | M3: 단가 | N3: 금액 | O3: 단가
B4: 공종줄 | D4: 변전실 ALTS 교체공사
B5: 01 | D5: 1. 변전실 자동부하전환개폐기 교체공사 | F5: 식 | G5: 1 | H5: =내역서!I29 -> 0 | I5: =G5*H5 -> 0 | K5: =내역서!L29 -> 0 | L5: =G5*K5 -> 0 | M5: =내역서!N29 -> 0 | N5: =G5*M5 -> 0 | O5: =IF((H5+K5+M5)=0,"",(H5+K5+M5)) | P5: =SUM(I5,L5,N5) -> 0
C29: Total | D29: ( 합 계 ) | I29: =TRUNC(SUM(I4:I28)) -> 0 | L29: =TRUNC(SUM(L4:L28)) -> 0 | N29: =TRUNC(SUM(N4:N28)) -> 0 | P29: =TRUNC(SUM(P4:P28)) -> 0

Sheet 내역서
A1: 총줄수-> | B1: 29 | D1: [ 22경찰경호대 ALTS 교체 공사 ] | W1: 노임 계산 정보 | AA1: 부속재 및 손료
A2: 번호 | B2: 공종코드 | C2: 코드 | D2: 명 칭 | E2: 규 격 | F2: 단위 | G2: 수량 | H2: 재료비 | J2: 노무비 | M2: 경비 | P2: 계 | Q2: 비고 | W2: 노임계 | X2: 전체(%) | Y2: 공종별(%) | Z2: 노임 소수 | AA2: CD배관재 | AB2: 일반배관재 | AC2: 소모재 | AD2: 자재계 | AE2: 노임계
H3: 단가 | I3: 금액 | J3: 수량 | K3: 단가 | L3: 금액 | M3: 단가 | N3: 금액 | O3: 단가 | AD3: =IF(옵션!$C$11=0,"1",옵션!$C$11) -> 1000 | AE3: =IF(옵션!$C$12=0,"1",옵션!$C$12) -> 1000
B4: 공종줄 | D4: 1.변전실 자동부하전환개폐기 교체공사
A5: E1450927212 | B5: 01 | C5: 2612152420683704 | D5: 접지용비닐절연전선(F-GV) | E5: 95㎟ | F5: M | G5: 8 | AC5: =G5*H5 -> 0
A6: E9400177007 | B6: 01 | C6: 3912143210033792 | D6: 러그단자 | E6: 동관단자 1 HOLE 95 ㎟ | F6: 개 | G6: 2
A7: 61100297101 | B7: 01 | C7: 3912110520172387 | D7: 자동부하전환개폐기(ALTS) | E7: ALTS, 25.8kV 600A 옥내 | F7: 대 | G7: 1 | Q7: 철거자재
A8: 61100297101 | B8: 01 | C8: 3912110520172387 | D8: 자동부하전환개폐기(ALTS) | E8: ALTS, 25.8kV 600A 옥내 | F8: 대 | G8: 1 | Q8: LS산전
A9: MM300004801 | B9: 01 | C9: 3912110121653842 | D9: ALTS 외함 | E9: 1200*1800*1500 | F9: SET | G9: 1 | Q9: 주문제작
A10: J1450057309 | B10: 01 | C10: 2612160621868121 | D10: 23KV동심난연케이블-옥내2열 | E10: 22.9kV,F-CN/CO,수밀,1x60㎟ | F10: M | G10: 39 | AC10: =G10*H10 -> 0
A11: 59752007003 | B11: 01 | C11: 3912140920174174 | D11: 케이블 단말접속자재 | E11: 자기수축,23kV 1Cx70 ㎟ | F11: 조 | G11: 2
A12: 59752367001 | B12: 01 | C12: 3912140920175221 | D12: 분기 접속재 | E12: 25KVA 60sq | F12: 개 | G12: 6 | Q12: 철거재사용
A13: MM070048889 | B13: 01 | C13: 391115ZZ701Z0002 | D13: 발전기 임대(케이블 포함) | E13: 50KW 3상 | F13: SET | G13: 1 | Q13: 방음
A14: MM070048890 | B14: 01 | C14: 391115ZZ701Z0001 | D14: 발전기 연료 | E14: 디젤 | F14: ℓ | G14: 150
A15: MM070048891 | B15: 01 | C15: 391115ZZ701Z0004 | D15: 한전 책임분기점 투개방 | F15: 회로 | G15: 2
A16: MM070048892 | B16: 01 | C16: 391115ZZ701Z0003 | D16: 운반 및 장비사용 | F16: 식 | G16: 1
A17: A0100000000 | B17: 01 | C17: RENT000000000003 | D17: [ 소모 잡자재 ] | E17: 전선, 전선관의 2 % | F17: 식 | G17: 1 | AC17: =TRUNC(TRUNC(SUM(AC4:AC16))*옵션!$B$33/100) -> 0 | AD17: =TRUNC(SUM(I4:I16))+TRUNC(SUM(N4:N16)) -> 0
A18: 56900017016 | B18: 01 | C18: L001010101000075 | D18: 노 무 비 | E18: 내선전공 | F18: 인 | G18: =노임근거!G19 -> 0 | AE18: =L18 -> 0
A19: 56900017076 | B19: 01 | C19: L001010101000078 | D19: 노 무 비 | E19: 저압케이블전공 | F19: 인 | G19: =노임근거!G20 -> 0 | AE19: =L19 -> 0
A20: 56900017117 | B20: 01 | C20: L001010101000076 | D20: 노 무 비 | E20: 특고압케이블전공 | F20: 인 | G20: =노임근거!G21 -> 0 | AE20: =L20 -> 0
A21: 56900017031 | B21: 01 | C21: L001010101000081 | D21: 노 무 비 | E21: 배전전공 | F21: 인 | G21: =노임근거!G22 -> 0 | AE21: =L21 -> 0
A22: 56900017035 | B22: 01 | C22: L001010501000116 | D22: 노 무 비 | E22: 변전전공 | F22: 인 | G22: =노임근거!G23 -> 0 | AE22: =L22 -> 0
A23: 56900017041 | B23: 01 | C23: L001010101000002 | D23: 노 무 비 | E23: 보통인부 | F23: 인 | G23: =노임근거!G24 -> 0 | AE23: =L23 -> 0
A24: 56900017042 | B24: 01 | C24: L001010101000006 | D24: 노 무 비 | E24: 비계공 | F24: 인 | G24: =노임근거!G25 -> 0 | AE24: =L24 -> 0
A25: 56900017015 | B25: 01 | C25: L001010101000051 | D25: 노 무 비 | E25: 기계설비공 | F25: 인 | G25: =노임근거!G26 -> 0 | AE25: =L25 -> 0
A26: A0300000000 | B26: 01 | C26: RENT000000000006 | D26: [ 공 구 손 료 ] | E26: 노무비의 3 % | F26: 식 | G26: 1
AC27: =TRUNC(AE27*옵션!$B$36/100) -> 0 | AD27: =TRUNC(SUM(L4:L25)) -> 0 | AE27: =TRUNC(SUM(AE4:AE26)) -> 0
B29: 합계줄 | D29: ( 합 계 )

Sheet 노임근거
B1: 29 | D1: [ 변전실 ALTS 교체공사 ] - 노임 산출근거(2026년 상반기 노임) | AA1: 내선전공 | AB1: 저압케이블전공 | AC1: 특고압케이블전공 | AD1: 배전전공 | AE1: 변전전공 | AF1: 보통인부 | AG1: 비계공 | AH1: 기계설비공
A2: 번호 | B2: 공종코드 | C2: 코드 | D2: 명 칭 | E2: 규 격 | F2: 단위 | G2: 수량 | K2: 코드 | L2: 공량산출 | P2: 단 위 단 가 산 출 | S2: 품셈근거 | T2: 비고
G3: 결정수량 | H3: 할증 | I3: 산출수량 | J3: 재할% | L3: 명칭 | M3: 품셈 | N3: 할증% | O3: 공량 | P3: 단가 | Q3: 단위단가 | R3: 단위계
B4: 공종줄 | D4: 1.변전실 자동부하전환개폐기 교체공사
B5: 01 | C5: 2612152420683704 | D5: 접지용비닐절연전선(F-GV) | E5: 95㎟ | F5: M | G5: =내역서!G5 -> 8 | H5: =IF(I5<>0,G5-I5,"") | I5: =내역서!J5 -> 0 | J5: 10 | K5: 56900017016 | L5: 내선전공 | M5: 0.008 | N5: 150 | O5: =IF(I5*M5=0,"",I5*M5*(N5/100)) | Q5: =TRUNC(P5*M5*N5/100) -> 0 | S5: 전기3-38 | AA5: =O5
B6: 01 | C6: 3912143210033792 | D6: 러그단자 | E6: 동관단자 1 HOLE 95 ㎟ | F6: 개 | G6: =내역서!G6 -> 2 | H6: =IF(I6<>0,G6-I6,"") | I6: =내역서!J6 -> 0 | K6: 56900017076 | L6: 저압케이블전공 | M6: 0.15 | N6: 120 | O6: =IF(I6*M6=0,"",I6*M6*(N6/100)) | Q6: =TRUNC(P6*M6*N6/100) -> 0 | S6: 전기4-37 | AB6: =O6
B7: 01 | C7: 3912110520172387 | D7: 자동부하전환개폐기(ALTS) | E7: ALTS, 25.8kV 600A 옥내 | F7: 대 | G7: =내역서!G7 -> 1 | H7: =IF(I7<>0,G7-I7,"") | I7: =내역서!J7 -> 0 | K7: 56900017031 | L7: 배전전공 | M7: 3.62 | N7: 30 | O7: =IF(I7*M7=0,"",I7*M7*(N7/100)) | Q7: =TRUNC(P7*M7*N7/100) -> 0 | S7: 전기4-21 | T7: 철거자재 | AD7: =O7
B8: 01 | C8: 3912110520172387 | G8: =내역서!G7 -> 1 | H8: =IF(I8<>0,G8-I8,"") | I8: =내역서!J7 -> 0 | K8: 56900017041 | L8: 보통인부 | M8: 3.62 | N8: 30 | O8: =IF(I8*M8=0,"",I8*M8*(N8/100)) | Q8: =TRUNC(P8*M8*N8/100) -> 0 | S8: 전기4-21 | T8: 철거자재 | AF8: =O8
B9: 01 | C9: 3912110520172387 | D9: 자동부하전환개폐기(ALTS) | E9: ALTS, 25.8kV 600A 옥내 | F9: 대 | G9: =내역서!G8 -> 1 | H9: =IF(I9<>0,G9-I9,"") | I9: =내역서!J8 -> 0 | K9: 56900017031 | L9: 배전전공 | M9: 3.62 | N9: 100 | O9: =IF(I9*M9=0,"",I9*M9*(N9/100)) | Q9: =TRUNC(P9*M9*N9/100) -> 0 | S9: 전기4-21 | AD9: =O9
B10: 01 | C10: 3912110520172387 | G10: =내역서!G8 -> 1 | H10: =IF(I10<>0,G10-I10,"") | I10: =내역서!J8 -> 0 | K10: 56900017041 | L10: 보통인부 | M10: 3.62 | N10: 100 | O10: =IF(I10*M10=0,"",I10*M10*(N10/100)) | Q10: =TRUNC(P10*M10*N10/100) -> 0 | S10: 전기4-21 | AF10: =O10
B11: 01 | C11: 3912110121653842 | D11: ALTS 외함 | E11: 1200*1800*1500 | F11: SET | G11: =내역서!G9 -> 1 | H11: =IF(I11<>0,G11-I11,"") | I11: =내역서!J9 -> 0 | K11: 56900017035 | L11: 변전전공 | M11: 2.45 | N11: 100 | O11: =IF(I11*M11=0,"",I11*M11*(N11/100)) | Q11: =TRUNC(P11*M11*N11/100) -> 0 | S11: 전기3-35 | AE11: =O11
B12: 01 | C12: 3912110121653842 | G12: =내역서!G9 -> 1 | H12: =IF(I12<>0,G12-I12,"") | I12: =내역서!J9 -> 0 | K12: 56900017042 | L12: 비계공 | M12: 1.2 | N12: 100 | O12: =IF(I12*M12=0,"",I12*M12*(N12/100)) | Q12: =TRUNC(P12*M12*N12/100) -> 0 | S12: 전기3-35 | AG12: =O12
B13: 01 | C13: 3912110121653842 | G13: =내역서!G9 -> 1 | H13: =IF(I13<>0,G13-I13,"") | I13: =내역서!J9 -> 0 | K13: 56900017015 | L13: 기계설비공 | M13: 0.5 | N13: 100 | O13: =IF(I13*M13=0,"",I13*M13*(N13/100)) | Q13: =TRUNC(P13*M13*N13/100) -> 0 | S13: 전기3-35 | AH13: =O13
B14: 01 | C14: 3912110121653842 | G14: =내역서!G9 -> 1 | H14: =IF(I14<>0,G14-I14,"") | I14: =내역서!J9 -> 0 | K14: 56900017041 | L14: 보통인부 | M14: 2.1 | N14: 100 | O14: =IF(I14*M14=0,"",I14*M14*(N14/100)) | Q14: =TRUNC(P14*M14*N14/100) -> 0 | S14: 전기3-35 | AF14: =O14
B15: 01 | C15: 2612160621868121 | D15: 23KV동심난연케이블-옥내2열 | E15: 22.9kV,F-CN/CO,수밀,1x60㎟ | F15: M | G15: =내역서!G10 -> 39 | H15: =IF(I15<>0,G15-I15,"") | I15: =내역서!J10 -> 0 | J15: 5 | K15: 56900017117 | L15: 특고압케이블전공 | M15: 0.0121 | N15: 180 | O15: =IF(I15*M15=0,"",I15*M15*(N15/100)) | Q15: =TRUNC(P15*M15*N15/100) -> 0 | S15: 전기4-34 | AC15: =O15
B16: 01 | C16: 2612160621868121 | G16: =내역서!G10 -> 39 | H16: =IF(I16<>0,G16-I16,"") | I16: =내역서!J10 -> 0 | J16: 5 | K16: 56900017041 | L16: 보통인부 | M16: 0.0121 | N16: 180 | O16: =IF(I16*M16=0,"",I16*M16*(N16/100)) | Q16: =TRUNC(P16*M16*N16/100) -> 0 | S16: 전기4-34 | AF16: =O16
B17: 01 | C17: 3912140920174174 | D17: 케이블 단말접속자재 | E17: 자기수축,23kV 1Cx70 ㎟ | F17: 조 | G17: =내역서!G11 -> 2 | H17: =IF(I17<>0,G17-I17,"") | I17: =내역서!J11 -> 0 | K17: 56900017117 | L17: 특고압케이블전공 | M17: 0.86 | N17: 100 | O17: =IF(I17*M17=0,"",I17*M17*(N17/100)) | Q17: =TRUNC(P17*M17*N17/100) -> 0 | S17: 전기4-37 | AC17: =O17
B18: 01 | C18: 3912140920175221 | D18: 분기 접속재 | E18: 25KVA 60sq | F18: 개 | G18: =내역서!G12 -> 6 | H18: =IF(I18<>0,G18-I18,"") | I18: =내역서!J12 -> 0 | K18: 56900017117 | L18: 특고압케이블전공 | M18: 0.52 | N18: 150 | O18: =IF(I18*M18=0,"",I18*M18*(N18/100)) | Q18: =TRUNC(P18*M18*N18/100) -> 0 | S18: 전기4-36 | T18: 철거재사용 | AC18: =O18
B19: 01 | C19: L001010101000075 | D19: 노 무 비 | E19: 내선전공 | F19: 인 | G19: =IF(H19*I19/100+0.5<1,TRUNC(H19*I19/100,3),TRUNC(H19*I19/100+0.5,J19)) -> 0 | H19: =(옵션!$B$12*옵션!$B$41)/100 -> 70 | I19: =SUM(AA5:AA18) -> 0 | J19: =옵션!$C$41 -> 0 | O19: =IF(I19*M19=0,"",I19*M19*(N19/100)) | Q19: =TRUNC(P19*M19*N19/100) -> 0 | Z19: 노임계 | AA19: =SUM(AA5:AA18) -> 0 | AB19: =SUM(AB5:AB18) -> 0 | AC19: =SUM(AC5:AC18) -> 0 | AD19: =SUM(AD5:AD18) -> 0 | AE19: =SUM(AE5:AE18) -> 0 | AF19: =SUM(AF5:AF18) -> 0 | AG19: =SUM(AG5:AG18) -> 0 | AH19: =SUM(AH5:AH18) -> 0
B20: 01 | C20: L001010101000078 | D20: 노 무 비 | E20: 저압케이블전공 | F20: 인 | G20: =IF(H20*I20/100+0.5<1,TRUNC(H20*I20/100,3),TRUNC(H20*I20/100+0.5,J20)) -> 0 | H20: =(옵션!$B$12*옵션!$B$41)/100 -> 70 | I20: =SUM(AB5:AB18) -> 0 | J20: =옵션!$C$41 -> 0 | O20: =IF(I20*M20=0,"",I20*M20*(N20/100)) | Q20: =TRUNC(P20*M20*N20/100) -> 0
B21: 01 | C21: L001010101000076 | D21: 노 무 비 | E21: 특고압케이블전공 | F21: 인 | G21: =IF(H21*I21/100+0.5<1,TRUNC(H21*I21/100,3),TRUNC(H21*I21/100+0.5,J21)) -> 0 | H21: =(옵션!$B$12*옵션!$B$41)/100 -> 70 | I21: =SUM(AC5:AC18) -> 0 | J21: =옵션!$C$41 -> 0 | O21: =IF(I21*M21=0,"",I21*M21*(N21/100)) | Q21: =TRUNC(P21*M21*N21/100) -> 0
B22: 01 | C22: L001010101000081 | D22: 노 무 비 | E22: 배전전공 | F22: 인 | G22: =IF(H22*I22/100+0.5<1,TRUNC(H22*I22/100,3),TRUNC(H22*I22/100+0.5,J22)) -> 0 | H22: =(옵션!$B$12*옵션!$B$41)/100 -> 70 | I22: =SUM(AD5:AD18) -> 0 | J22: =옵션!$C$41 -> 0 | O22: =IF(I22*M22=0,"",I22*M22*(N22/100)) | Q22: =TRUNC(P22*M22*N22/100) -> 0
B23: 01 | C23: L001010501000116 | D23: 노 무 비 | E23: 변전전공 | F23: 인 | G23: =IF(H23*I23/100+0.5<1,TRUNC(H23*I23/100,3),TRUNC(H23*I23/100+0.5,J23)) -> 0 | H23: =(옵션!$B$12*옵션!$B$41)/100 -> 70 | I23: =SUM(AE5:AE18) -> 0 | J23: =옵션!$C$41 -> 0 | O23: =IF(I23*M23=0,"",I23*M23*(N23/100)) | Q23: =TRUNC(P23*M23*N23/100) -> 0
B24: 01 | C24: L001010101000002 | D24: 노 무 비 | E24: 보통인부 | F24: 인 | G24: =IF(H24*I24/100+0.5<1,TRUNC(H24*I24/100,3),TRUNC(H24*I24/100+0.5,J24)) -> 0 | H24: =(옵션!$B$12*옵션!$B$41)/100 -> 70 | I24: =SUM(AF5:AF18) -> 0 | J24: =옵션!$C$41 -> 0 | O24: =IF(I24*M24=0,"",I24*M24*(N24/100)) | Q24: =TRUNC(P24*M24*N24/100) -> 0
B25: 01 | C25: L001010101000006 | D25: 노 무 비 | E25: 비계공 | F25: 인 | G25: =IF(H25*I25/100+0.5<1,TRUNC(H25*I25/100,3),TRUNC(H25*I25/100+0.5,J25)) -> 0 | H25: =(옵션!$B$12*옵션!$B$41)/100 -> 70 | I25: =SUM(AG5:AG18) -> 0 | J25: =옵션!$C$41 -> 0 | O25: =IF(I25*M25=0,"",I25*M25*(N25/100)) | Q25: =TRUNC(P25*M25*N25/100) -> 0
B26: 01 | C26: L001010101000051 | D26: 노 무 비 | E26: 기계설비공 | F26: 인 | G26: =IF(H26*I26/100+0.5<1,TRUNC(H26*I26/100,3),TRUNC(H26*I26/100+0.5,J26)) -> 0 | H26: =(옵션!$B$12*옵션!$B$41)/100 -> 70 | I26: =SUM(AH5:AH18) -> 0 | J26: =옵션!$C$41 -> 0 | O26: =IF(I26*M26=0,"",I26*M26*(N26/100)) | Q26: =TRUNC(P26*M26*N26/100) -> 0

Sheet 합산자재
B1: 29 | C1: [ 변전실 ALTS 교체공사 ] - 합산자재목록
A2: 번호 | B2: … | C2: 코드 | D2: 명 칭 | E2: 규 격 | F2: 단위 | G2: 수량 | H2: 재료비 | I2: 노무비 | J2: 경비 | K2: 지급비 | L2: 계 | M2: 비고
B4: E1450927212 | C4: 2612152420683704 | D4: 접지용비닐절연전선(F-GV) | E4: 95㎟ | F4: M | G4: 8 | H4: =ROUNDDOWN(단가조사!G4*옵션!$D$11,0) -> 14231 | L4: =SUM(H4,I4,J4) -> 14231
B5: J1450057309 | C5: 2612160621868121 | D5: 23KV동심난연케이블-옥내2열 | E5: 22.9kV,F-CN/CO,수밀,1x60㎟ | F5: M | G5: 39 | H5: =ROUNDDOWN(단가조사!G5*옵션!$D$11,0) -> 29120 | L5: =SUM(H5,I5,J5) -> 29120
B6: MM300004801 | C6: 3912110121653842 | D6: ALTS 외함 | E6: 1200*1800*1500 | F6: SET | G6: 1 | H6: =ROUNDDOWN(단가조사!G6*옵션!$D$11,0) -> 3700000 | L6: =SUM(H6,I6,J6) -> 3700000
B7: 59752007003 | C7: 3912140920174174 | D7: 케이블 단말접속자재 | E7: 자기수축,23kV 1Cx70 ㎟ | F7: 조 | G7: 2 | H7: =ROUNDDOWN(단가조사!G7*옵션!$D$11,0) -> 178935 | L7: =SUM(H7,I7,J7) -> 178935
B8: 59752367001 | C8: 3912140920175221 | D8: 분기 접속재 | E8: 25KVA 60sq | F8: 개 | G8: 6 | H8: =ROUNDDOWN(단가조사!G8*옵션!$D$11,0) -> 0 | L8: =SUM(H8,I8,J8) -> 0
B9: E9400177007 | C9: 3912143210033792 | D9: 러그단자 | E9: 동관단자 1 HOLE 95 ㎟ | F9: 개 | G9: 2 | H9: =ROUNDDOWN(단가조사!G9*옵션!$D$11,0) -> 2234 | L9: =SUM(H9,I9,J9) -> 2234
B10: 61100297101 | C10: 3912110520172387 | D10: 자동부하전환개폐기(ALTS) | E10: ALTS, 25.8kV 600A 옥내 | F10: 대 | G10: 1 | H10: =ROUNDDOWN(단가조사!G10*옵션!$D$11,0) -> 30245000 | L10: =SUM(H10,I10,J10) -> 30245000
B11: MM070048890 | C11: 391115ZZ701Z0001 | D11: 발전기 연료 | E11: 디젤 | F11: ℓ | G11: 150 | H11: =ROUNDDOWN(단가조사!G11*옵션!$D$11,0) -> 1800 | L11: =SUM(H11,I11,J11) -> 1800
B12: MM070048889 | C12: 391115ZZ701Z0002 | D12: 발전기 임대 | E12: 50KW 3상 | F12: SET | G12: 1 | H12: =ROUNDDOWN(단가조사!G12*옵션!$D$11,0) -> 1500000 | L12: =SUM(H12,I12,J12) -> 1500000
B13: MM070048892 | C13: 391115ZZ701Z0003 | D13: 운반 및 장비사용 | F13: 식 | G13: 1 | H13: =ROUNDDOWN(단가조사!G13*옵션!$D$11,0) -> 2500000 | L13: =SUM(H13,I13,J13) -> 2500000
B14: MM070048891 | C14: 391115ZZ701Z0004 | D14: 한전 책임분기점 투개방 | F14: 회로 | G14: 2 | H14: =ROUNDDOWN(단가조사!G14*옵션!$D$11,0) -> 300000 | L14: =SUM(H14,I14,J14) -> 300000
B15: 56900017016 | C15: L001010101000075 | D15: 노 무 비 | E15: 내선전공 | F15: 인 | G15: 0.084 | I15: =ROUNDDOWN(단가조사!G15,0) -> 273676 | L15: =SUM(H15,I15,J15) -> 273676
B16: 56900017076 | C16: L001010101000078 | D16: 노 무 비 | E16: 저압케이블전공 | F16: 인 | G16: 0.36 | I16: =ROUNDDOWN(단가조사!G16,0) -> 304156 | L16: =SUM(H16,I16,J16) -> 304156
B17: 56900017117 | C17: L001010101000076 | D17: 노 무 비 | E17: 특고압케이블전공 | F17: 인 | G17: 7 | I17: =ROUNDDOWN(단가조사!G17,0) -> 440616 | L17: =SUM(H17,I17,J17) -> 440616
B18: 56900017031 | C18: L001010101000081 | D18: 노 무 비 | E18: 배전전공 | F18: 인 | G18: 5 | I18: =ROUNDDOWN(단가조사!G18,0) -> 414968 | L18: =SUM(H18,I18,J18) -> 414968
B19: 56900017035 | C19: L001010501000116 | D19: 노 무 비 | E19: 변전전공 | F19: 인 | G19: 2 | I19: =ROUNDDOWN(단가조사!G19,0) -> 485075 | L19: =SUM(H19,I19,J19) -> 485075
B20: 56900017041 | C20: L001010101000002 | D20: 노 무 비 | E20: 보통인부 | F20: 인 | G20: 8 | I20: =ROUNDDOWN(단가조사!G20,0) -> 172068 | L20: =SUM(H20,I20,J20) -> 172068
B21: 56900017042 | C21: L001010101000006 | D21: 노 무 비 | E21: 비계공 | F21: 인 | G21: 1 | I21: =ROUNDDOWN(단가조사!G21,0) -> 281939 | L21: =SUM(H21,I21,J21) -> 281939
B22: 56900017015 | C22: L001010101000051 | D22: 노 무 비 | E22: 기계설비공 | F22: 인 | G22: 1 | I22: =ROUNDDOWN(단가조사!G22,0) -> 241698 | L22: =SUM(H22,I22,J22) -> 241698

Sheet 단가조사
B1: 33 | D1: [ 변전실 ALTS 교체공사 ] - 단가조사서(정보기준:2026년01월)
A2: 번호 | B2: 공종코드 | C2: 코드 | D2: 명 칭 | E2: 규 격 | F2: 단위 | G2: 적용단가 | H2: 시설단가 | J2: 거래가격 | L2: 물가정보 | N2: 물가자료 | P2: 조사단가1 | R2: 조사단가2 | T2: 비고
H3: 단가 | I3: 코드 | J3: 단가 | K3: PAGE | L3: 단가 | M3: PAGE | N3: 단가 | O3: PAGE | P3: 단가 | Q3: PAGE | R3: 단가 | S3: PAGE
C4: 2612152420683704 | D4: 접지용비닐절연전선(F-GV) | E4: 95㎟ | F4: M | G4: =SMALL(H4:P4,COUNTIF(H4:P4,0)+1) -> 14231 | H4: 14231 | J4: 17738 | K4: 994 | L4: 18891 | M4: 1-1165
C5: 2612160621868121 | D5: 23KV동심난연케이블-옥내2열 | E5: 22.9kV,F-CN/CO,수밀,1x60㎟ | F5: M | G5: =SMALL(H5:P5,COUNTIF(H5:P5,0)+1) -> 29120 | J5: 29120 | K5: 996
C6: 3912110121653842 | D6: ALTS 외함 | E6: 1200*1800*1500 | F6: SET | G6: =SMALL(H6:P6,COUNTIF(H6:P6,0)+1) -> 3700000 | P6: 3700000
C7: 3912140920174174 | D7: 케이블 단말접속자재 | E7: 자기수축,23kV 1Cx70 ㎟ | F7: 조 | G7: =SMALL(H7:P7,COUNTIF(H7:P7,0)+1) -> 178935 | H7: 178935 | J7: 222000 | K7: 1021
C8: 3912140920175221 | D8: 분기 접속재 | E8: 25KVA 60sq | F8: 개 | H8: 0 | J8: 0 | L8: 0 | P8: 0
C9: 3912143210033792 | D9: 러그단자 | E9: 동관단자 1 HOLE 95 ㎟ | F9: 개 | G9: =SMALL(H9:P9,COUNTIF(H9:P9,0)+1) -> 2234 | J9: 2521 | K9: 1019 | L9: 2234 | M9: 1-1231
C10: 3912110520172387 | D10: 자동부하전환개폐기(ALTS) | E10: ALTS, 25.8kV 600A 옥내 | F10: 대 | G10: =SMALL(H10:P10,COUNTIF(H10:P10,0)+1) -> 30245000 | J10: 30245000 | K10: 1096
C11: 391115ZZ701Z0001 | D11: 발전기 연료 | E11: 디젤 | F11: ℓ | G11: 1800
C12: 391115ZZ701Z0002 | D12: 발전기 임대 | E12: 50KW 3상 | F12: SET | G12: 1500000
C13: 391115ZZ701Z0003 | D13: 운반 및 장비사용 | F13: 식 | G13: 2500000
C14: 391115ZZ701Z0004 | D14: 한전 책임분기점 투개방 | F14: 회로 | G14: 300000
C15: L001010101000075 | D15: 노 무 비 | E15: 내선전공 | F15: 인 | G15: 273676
C16: L001010101000078 | D16: 노 무 비 | E16: 저압케이블전공 | F16: 인 | G16: 304156
C17: L001010101000076 | D17: 노 무 비 | E17: 특고압케이블전공 | F17: 인 | G17: 440616
C18: L001010101000081 | D18: 노 무 비 | E18: 배전전공 | F18: 인 | G18: 414968
C19: L001010501000116 | D19: 노 무 비 | E19: 변전전공 | F19: 인 | G19: 485075
C20: L001010101000002 | D20: 노 무 비 | E20: 보통인부 | F20: 인 | G20: 172068
C21: L001010101000006 | D21: 노 무 비 | E21: 비계공 | F21: 인 | G21: 281939
C22: L001010101000051 | D22: 노 무 비 | E22: 기계설비공 | F22: 인 | G22: 241698

Sheet 옵션
B1: 재료비 | C1: 노무비 | D1: 경비 | F1: 계
A2: 총 급 액 | B2: =총괄표!I29 -> 0 | C2: =총괄표!L29 -> 0 | D2: =총괄표!N29 -> 0 | F2: =SUM(B2,C2,D2) -> 0
A3: 관급 자재비 | F3: =SUM(B3,C3,D3) -> 0
B10: 적용율(%) | C10: 끝자리 | D10: 적용율(%)/100 | E10: 일위대가소수
A11: 전체자재 적용율(%)(공종/일위대가) | B11: 100 | C11: 1000 | D11: =$B$11/100 -> 1
A12: 전체노임 적용율(%)(공종) | B12: 70 | C12: 1000 | D12: =$B$12/100 -> 0.7 | E12: 2
A13: 전체노임 적용율(%)(일위대가) | B13: 100 | C13: 1 | D13: =$B$13/100 -> 1 | E13: 5
A20: *(그룹별 자재 단가 추가 할증)* | B20: 적용율(%) | D20: 적용율(%)/100
A21: Cable(CAB) 할증(%) | B21: =B11 -> 100 | D21: =$B$21/100 -> 1
A22: Wire (WIR) 할증(%) | B22: =B11 -> 100 | D22: =$B$22/100 -> 1
A23: Pipe (PIP) 할증(%) | B23: =B11 -> 100 | D23: =$B$23/100 -> 1
A24: 제 4그룹 할증(%) | B24: =B11 -> 100 | D24: =$B$24/100 -> 1
A25: 제 5그룹 할증(%) | B25: =B11 -> 100 | D25: =$B$25/100 -> 1
A30: *(그룹별 노임 추가 할증)* | B30: 적용율(%) | C30: 자동부속재(전기) | D30: 자동부속재(통신)
A31: 배관부속재(%) | B31: 15 | C31: 15 | D31: 20
A32: CD관부속재(%) | B32: 40 | C32: 40 | D32: 40
A33: 소모잡자재(%) | B33: 2
A34: 방폭할증(%)
A35: 고소할증(%) | B35: 2
A36: 공구손료(%) | B36: 3
A40: *(공종별 노임 적용율(%))* | B40: 적용율(%) | C40: 소수자릿수
A41: 1. 변전실 자동부하전환개폐기 교체공사 | B41: 100 | C41: 0
