Workbook

Sheet 0.공사기간산정근거
A1: 공사기간 산정근거
A2: ▣ 공사개요
A3: 공 사 명 | B3: 구지 고봉리 224-2번지선 도로 정비공사
A4: 공사규모 | B4: 도로정비공사
A5: 공사위치 | B5: 대구광역시 달성군 구지면 고봉리 224-2번지 일원
A6: 공사금액 | B6: 도급액 | C6: 관급액 | D6: 폐기물 | E6: CCTV
B7: 53610000 | C7: 20450000 | D7: 5650000 | E7: 290000
B8: =SUM(B7:E7) -> 80000000
A9: 공사기간 | B9: =C32 -> 49.6
B10: 준비기간 | C10: 비작업일수 | D10: 작업일수 | E10: 정리기간
B11: =C16 -> 9 | C11: =C20 -> 15.6 | D11: =C24 -> 16 | E11: =C29 -> 9
A14: ▣ 공사기간 산정내역
A15: 구 분 | B15: 내 역 | C15: 일 수 | D15: 비 고
A16: 준비기간 | B16: 산정일수 | C16: =SUM(C17:C19) -> 9 | D16: 착수준비기간
B17: 인허가 업무 추진 | C17: 0
B18: 자재선정및공사준비 | C18: 4
B19: 도면 검토 및 측량 | C19: 5
A20: 비작업일수 | B20: 산정일수(A+B-C) | C20: =C21+C22-C23 -> 15.6
B21: 해당월 작업 불가능 일수(A) | C21: ='1 공사기간 산출자료'!T39 -> 4.6
B22: 해당월 법정 공휴일(B) | C22: ='1 공사기간 산출자료'!T40 -> 12
B23: 월별 중복일수(C) | C23: ='1 공사기간 산출자료'!T41 -> 1
A24: 작업일수 | B24: 산정일수 | C24: =ROUND(SUM(C25:C28),0) -> 16
B25: =작업일수!C5 -> 토공 | C25: =작업일수!J5 -> 5
B26: =작업일수!C23 -> 배수공 | C26: =작업일수!J23 -> 8
B27: =작업일수!C54 -> 포장공 | C27: =작업일수!J54 -> 2
B28: =작업일수!C65 -> 부대공 | C28: =작업일수!J65 -> 1
A29: 정리기간 | B29: 산정일수 | C29: =SUM(C30:C31) -> 9
B30: 준공검사 관련 행정절차 | C30: 4
B31: 청소 등 현장정리 | C31: 5
A32: 계 | C32: =C16+C20+C24+C29 -> 49.6

Sheet 1 공사기간 산출자료
A1: 1. 공사기간 산출자료
A2: ㅁ 공사기간 : 공사준비, 정리기간, 작업일수, 비작업일수의 합계로 산출
A3: ㅁ 근거법령 : 공공 건설공사의 공사기간 산정기준
B5: 1) 준비기간 : 착공초기 하도급업체 선정, 설계도면 검토, 현장사무소 설치 등 본 공사 착수준비에 필요한 기간
B6: 2) 비작업일수 및 작업일수
P7: 2026년
B8: 구분 | E8: 1월 | F8: 2월 | G8: 3월 | H8: 4월 | I8: 5월 | J8: 6월 | K8: 7월 | L8: 8월 | M8: 9월 | N8: 10월 | O8: 11월 | P8: 12월 | Q8: 비고
B9: 월별 달력일수 | E9: 31 | F9: 28 | G9: 31 | H9: 30 | I9: 31 | J9: 30 | K9: 31 | L9: 31 | M9: 30 | N9: 31 | O9: 30 | P9: 31
B10: 법정공휴일수 | E10: 5 | F10: 7 | G10: 6 | H10: 4 | I10: 7 | J10: 5 | K10: 4 | L10: 7 | M10: 7 | N10: 7 | O10: 5 | P10: 5
B11: 기후여건 | C11: 혹서기 : 35°C 이상 (대구광역시) | E11: 0 | F11: 0 | G11: 0 | H11: 0 | I11: 0.4 | J11: 1.2 | K11: 6.4 | L11: 8.1 | M11: 0 | N11: 0 | O11: 0 | P11: 0
B12: 비작업 일수 | C12: 동절기 : 일최고기온 0°C 이하 및 신적설 5Cm 이상 | E12: 2.1 | F12: 0.5 | G12: 0.1 | H12: 0 | I12: 0 | J12: 0 | K12: 0 | L12: 0 | M12: 0 | N12: 0 | O12: 0 | P12: 0.9
B13: (대구지역) | C13: 일강수량 : 5㎜ 이상 | E13: 1.3 | F13: 1.3 | G13: 3.8 | H13: 4.4 | I13: 3.5 | J13: 4 | K13: 7 | L13: 7.7 | M13: 4.6 | N13: 2.6 | O13: 2 | P13: 1.1
B14: 10년간 평균기상 | C14: 소계 | E14: =SUM(E11:E13) -> 3.4 | F14: =SUM(F11:F13) -> 1.8 | G14: =SUM(G11:G13) -> 3.9 | H14: =SUM(H11:H13) -> 4.4 | I14: =SUM(I11:I13) -> 3.9 | J14: =SUM(J11:J13) -> 5.2 | K14: =SUM(K11:K13) -> 13.4 | L14: =SUM(L11:L13) -> 15.8 | ... P14: =SUM(P11:P13) -> 2
B16: A : | C16: 해당 월에 기후여건으로 인해 계획된 공종의 작업이 불가능한 일수
B17: B : | C17: 해당 월에 포함된 법정 공휴일수
B18: C : | C18: 월별 중복일수(C)=A*B/달력일수(소수점 첫째자리에서 반올림)
B19: D : | C19: 월 비작업일수 = A + B - C
B20: E : | C20: 월 작업일수 = 월별 달력일수 - D
B25: 3) 비작업일수 및 작업일수 산정값
P26: 2026년
B27: 구분 | E27: 1월 | F27: 2월 | G27: 3월 | H27: 4월 | I27: 5월 | J27: 6월 | K27: 7월 | L27: 8월 | M27: 9월 | N27: 10월 | O27: 11월 | P27: 12월 | Q27: 비고
B28: A | C28: 기후여건에 의한 작업 불가능한 일수 | E28: =E14 -> 3.4 | F28: =F14 -> 1.8 | G28: =G14 -> 3.9 | H28: =H14 -> 4.4 | I28: =I14 -> 3.9 | J28: =J14 -> 5.2 | K28: =K14 -> 13.4 | L28: =L14 -> 15.8 | ... P28: =P14 -> 2
B29: B | C29: 월별 법정 공휴일 수 | E29: =E10 -> 5 | F29: =F10 -> 7 | G29: =G10 -> 6 | H29: =H10 -> 4 | I29: =I10 -> 7 | J29: =J10 -> 5 | K29: =K10 -> 4 | L29: =L10 -> 7 | ... P29: =P10 -> 5
B30: C | C30: 월별 중복일수 | E30: =ROUND(E28*E29/E9,0) -> 1 | F30: =ROUND(F28*F29/F9,0) -> 0 | G30: =ROUND(G28*G29/G9,0) -> 1 | H30: =ROUND(H28*H29/H9,0) -> 1 | I30: =ROUND(I28*I29/I9,0) -> 1 | J30: =ROUND(J28*J29/J9,0) -> 1 | K30: =ROUND(K28*K29/K9,0) -> 2 | L30: =ROUND(L28*L29/L9,0) -> 4 | ... P30: =ROUND(P28*P29/P9,0) -> 0
B31: D | C31: 비작업일수 | E31: =E28+E29-E30 -> 7.4 | F31: =F28+F29-F30 -> 8.8 | G31: =G28+G29-G30 -> 8.9 | H31: =H28+H29-H30 -> 7.4 | I31: =I28+I29-I30 -> 9.9 | J31: =J28+J29-J30 -> 9.2 | K31: =K28+K29-K30 -> 15.4 | L31: =L28+L29-L30 -> 18.8 | ... P31: =P28+P29-P30 -> 7
B32: E | C32: 작업일수 | E32: =E9-E31 -> 23.6 | F32: =F9-F31 -> 19.2 | G32: =G9-G31 -> 22.1 | H32: =H9-H31 -> 22.6 | I32: =I9-I31 -> 21.1 | J32: =J9-J31 -> 20.8 | K32: =K9-K31 -> 15.6 | L32: =L9-L31 -> 12.2 | ... P32: =P9-P31 -> 24
B34: 4) 정리기간 | C34: : 준공검사 준비를 위한 행정절차 및 청소 등 현장정리에 필요한 기간
B36: 5) 공사기간 산출내역 | S36: 비작업일수 산정
C38: 가. 비작업일수 | D38: =T38 -> 15.6 | S38: 산정일수(A+B-C) | T38: =T39+T40-T41 -> 15.6
C39: 나. 작업일수 | D39: =작업일수!J78 -> 16 | S39: 해당월 작업 불가능 일수(A) | T39: =SUM(N28:O28) -> 4.6
C40: 다. 공사준비기간 | D40: ='0.공사기간산정근거'!C16 -> 9 | S40: 해당월 법정 공휴일(B) | T40: =SUM(N29:O29) -> 12
C41: 라. 공사정리기간 | D41: ='0.공사기간산정근거'!C29 -> 9 | S41: 월별 중복일수(C) | T41: =SUM(N30:O30) -> 1
C42: 마. 공사기간 (가~라. 합계) | D42: =SUM(D38:D41) -> 49.6
C43: 바. 공사개월수 (30일/1개월) | D43: =D42/30 -> 1.6533333

Sheet 작업일수
B1: 작업일수 산정
B3: 공종 | C3: 구 분 | D3: 규 격 | E3: 수량 | F3: 단위 | G3: 표준작업량 | J3: 작업일 | K3: 비 고
B5: 1. | C5: 토공 | J5: =ROUND(SUM(J6:J21),0) -> 5
B6: 1.01 | C6: 철거
C7: 아스팔트포장깨기 | D7: 기계 | E7: 39 | F7: ㎥ | G7: =6.9*8 -> 55.2 | H7: =F7 -> ㎥ | I7: 일 | J7: =ROUNDUP(E7/G7,1) -> 0.8
C8: 콘크리트포장깨기 | D8: 기계 | E8: 13 | F8: ㎥ | G8: =3.3*8 -> 26.4 | H8: =F8 -> ㎥ | I8: 일 | J8: =ROUNDUP(E8/G8,1) -> 0.5
C9: 무근콘크리트깨기 | D9: 기계 | E9: 16 | F9: ㎥ | G9: =3.3*8 -> 26.4 | H9: =F9 -> ㎥ | I9: 일 | J9: =ROUNDUP(E9/G9,1) -> 0.7
C10: 보도용 블록 장비사용 철거 | D10: B-Type | E10: 100 | F10: ㎡ | G10: 460 | H10: =F10 -> ㎡ | I10: 일 | J10: =ROUNDUP(E10/G10,1) -> 0.3
C11: 흄관철거 | D11: D=300mm | E11: 8 | F11: M | G11: =39*2.5 -> 97.5 | H11: =F11 -> M | I11: 일 | J11: =ROUNDUP(E11/G11,1) -> 0.1
C12: 콘크리트 포장절단 | E12: 8 | F12: M | G12: 450 | H12: =F12 -> M | I12: 일 | J12: =ROUNDUP(E12/G12,1) -> 0.1
C13: 아스팔트 포장절단 | E13: 17 | F13: M | G13: 500 | H13: =F13 -> M | I13: 일 | J13: =ROUNDUP(E13/G13,1) -> 0.1
C14: 폐기물상차 | D14: 기계 | E14: 75 | F14: ㎥ | G14: =13.27*8 -> 106.16 | H14: =F14 -> ㎥ | I14: 일 | J14: =ROUNDUP(E14/G14,1) -> 0.8
B15: 1.02 | C15: 토공
C16: 흙쌓기 | D16: 기계 | E16: 125 | F16: ㎥ | G16: =50.69*8 -> 405.52 | H16: =F16 -> ㎥ | I16: 일 | J16: =ROUNDUP(E16/G16,1) -> 0.4
C17: 흙깎기 | D17: 기계 | E17: 16 | F17: ㎥ | G17: =40.32*8 -> 322.56 | H17: =F17 -> ㎥ | I17: 일 | J17: =ROUNDUP(E17/G17,1) -> 0.1
C18: 터파기 | D18: 기계+인력 | E18: 20 | F18: ㎥ | G18: =34.56*8 -> 276.48 | H18: =F18 -> ㎥ | I18: 일 | J18: =ROUNDUP(E18/G18,1) -> 0.1
C19: 되메우기 | D19: 기계+인력 | E19: 12 | F19: ㎥ | G19: =44.35*8 -> 354.8 | H19: =F19 -> ㎥ | I19: 일 | J19: =ROUNDUP(E19/G19,1) -> 0.1
C20: 노반준비공 | D20: 기계 | E20: 79 | F20: ㎡ | G20: =36.9*8/0.1 -> 2952 | H20: =F20 -> ㎡ | I20: 일 | J20: =ROUNDUP(E20/G20,1) -> 0.1
C21: 순성토운반 | D21: 토사L=15㎞,사후정산 | E21: 116 | F21: ㎥ | G21: =43.2*8 -> 345.6 | H21: =F21 -> ㎥ | I21: 일 | J21: =ROUNDUP(E21/G21,1) -> 0.4
B23: 2. | C23: 배수공 | J23: =ROUND(SUM(J24:J52),0) -> 8
B24: 2.01 | C24: 우수관로
B25: 1) | C25: 관부설및접합 | D25: 본선부
C26: PE관접합및부설 | D26: D=300mm,소켓 | E26: 70 | F26: m | G26: 50 | H26: =F26 -> m | I26: 일 | J26: =ROUNDUP(E26/G26,1) -> 1.4
C27: PE관접합및부설 | D27: D=300mm,밴드 | E27: 4 | F27: m | G27: 60 | H27: =F27 -> m | I27: 일 | J27: =ROUNDUP(E27/G27,1) -> 0.1
C28: PE관 절단 | D28: D300 | E28: 8 | F28: 개소 | G28: 50 | H28: =F28 -> 개소 | I28: 일 | J28: =ROUNDUP(E28/G28,1) -> 0.2
C29: 맨홀천공 | D29: D300,벽체 | E29: 2 | F29: 개소 | G29: 10 | H29: =F29 -> 개소 | I29: 일 | J29: =ROUNDUP(E29/G29,1) -> 0.2
C30: 모래기초지정 | E30: 8 | F30: ㎥ | G30: 110 | H30: =F30 -> ㎥ | I30: 일 | J30: =ROUNDUP(E30/G30,1) -> 0.1
B31: 2) | C31: 관보호공
C32: 관보호공 | D32: D300,관로제외 | E32: 20 | F32: m | G32: =(63*0.319+40*1.28)/2 -> 35.6485 | H32: =F32 -> m | I32: 일 | J32: =ROUNDUP(E32/G32,1) -> 0.6
B33: 3) | C33: 집수정설치
C34: 우수받이설치,T1 | D34: 400×500×1000,기성품 | E34: 8 | F34: 개소 | G34: =1/0.61*8 -> 13.114754 | H34: =F34 -> 개소 | I34: 일 | J34: =ROUNDUP(E34/G34,1) -> 0.7
C35: 집수정설치,T2 | D35: 600×700×1100,현장타설 | E35: 1 | F35: 개소 | G35: 3 | H35: =F35 -> 개소 | I35: 일 | J35: =ROUNDUP(E35/G35,1) -> 0.4
C36: 주물뚜껑설치 | D36: 400×500×70 | E36: 8 | F36: 조 | G36: 50 | H36: =F36 -> 조 | I36: 일 | J36: =ROUNDUP(E36/G36,1) -> 0.2
C37: 스틸그레이팅설치 | D37: 700×700×50 | E37: 1 | F37: 조 | G37: 50 | H37: =F37 -> 조 | I37: 일 | J37: =ROUNDUP(E37/G37,1) -> 0.1
B38: 2.02 | C38: 도시가스보호맨홀 | H38: =F38
C39: 도시가스보호맨홀 | D39: 900×700×800,현장타설 | E39: 1 | F39: 개소 | G39: 5 | H39: =F39 -> 개소 | I39: 일 | J39: =ROUNDUP(E39/G39,1) -> 0.2
B40: 2.03 | C40: L형측구설치 | D40: B=0.5m,L=64.0m
C41: 레미콘타설(장비사용타설) | D41: 무근구조물 | E41: 8 | F41: ㎥ | G41: 63 | H41: =F41 -> ㎥ | I41: 일 | J41: =ROUNDUP(E41/G41,1) -> 0.2
C42: 유로폼 | D42: 간단,0~7m | E42: 24 | F42: ㎡ | G42: 40 | H42: =F42 -> ㎡ | I42: 일 | J42: =ROUNDUP(E42/G42,1) -> 0.6
C43: 면 목 | D43: 30, 21×21 | E43: 64 | F43: M | K43: 거푸집병행
C44: 신축이음 | D44: 스치로폴(t=10mm) | E44: 1 | F44: ㎡ | G44: 50 | H44: =F44 -> ㎡ | I44: 일 | J44: =ROUNDUP(E44/G44,1) -> 0.1
B45: 2.04 | C45: 경계석설치 | D45: L=129.0m
C46: 보차도 및 도로경계블록 설치(직선) | D46: B-Type, 200×200×1000 | E46: 52 | F46: M | G46: 65 | H46: =F46 -> M | I46: 일 | J46: =ROUNDUP(E46/G46,1) -> 0.8
C47: 보차도 및 도로경계블록 설치(곡선) | D47: B-Type, 200×100×1000 | E47: 9 | F47: M | G47: 85 | H47: =F47 -> M | I47: 일 | J47: =ROUNDUP(E47/G47,1) -> 0.2
C48: 보차도 및 도로경계블록 설치(직선) | D48: B-Type, 200×200~100×1000 | E48: 3 | F48: M | G48: 90 | H48: =F48 -> M | I48: 일 | J48: =ROUNDUP(E48/G48,1) -> 0.1
C49: 보차도 및 도로경계블록 설치(직선) | D49: B-Type, 150×150×1000 | E49: 65 | F49: M | G49: 100 | H49: =F49 -> M | I49: 일 | J49: =ROUNDUP(E49/G49,1) -> 0.7
C50: 몰 탈 | D50: 1:2(재료비포함) | E50: 0.1 | F50: ㎥ | G50: =20.89*8 -> 167.12 | H50: =F50 -> ㎥ | I50: 일 | J50: =ROUNDUP(E50/G50,1) -> 0.1
C51: 레미콘타설(장비사용타설) | D51: 무근구조물(소형) | E51: 2 | F51: ㎥ | G51: =63*0.5 -> 31.5 | H51: =F51 -> ㎥ | I51: 일 | J51: =ROUNDUP(E51/G51,1) -> 0.1
C52: 유로폼 | D52: 간단,0~7m | E52: 20 | F52: ㎡ | G52: 40 | H52: =F52 -> ㎡ | I52: 일 | J52: =ROUNDUP(E52/G52,1) -> 0.5
B54: 3. | C54: 포장공 | J54: =ROUND(SUM(J55:J63),0) -> 2
B55: 3.01 | C55: 아스콘포장
C56: 아스팔트 표층 포설및다짐 | D56: 소형장비,t=5~7cm,Q=B/2 | E56: 257 | F56: ㎡ | G56: 800 | H56: =F56 -> ㎡ | I56: 일 | J56: =ROUNDUP(E56/G56,1) -> 0.4
C57: 텍코팅(인력식) | D57: 아스팔트스프레이어400ℓ,Q=B/2 | E57: 257 | F57: ㎡ | G57: 4000 | H57: =F57 -> ㎡ | I57: 일 | J57: =ROUNDUP(E57/G57,1) -> 0.1
C58: 아스팔트 기층 포설및다짐 | D58: 소형장비,t=8~10cm,Q=B/2 | E58: 257 | F58: ㎡ | G58: 800 | H58: =F58 -> ㎡ | I58: 일 | J58: =ROUNDUP(E58/G58,1) -> 0.4
C59: 프라임코팅(인력식) | D59: 아스팔트스프레이어400ℓ,Q=B/2 | E59: 257 | F59: ㎡ | G59: 4000 | H59: =F59 -> ㎡ | I59: 일 | J59: =ROUNDUP(E59/G59,1) -> 0.1
C60: 보조기층포설및다짐 | D60: 기계시공-길어깨포장,Q=B/2 | E60: 74 | F60: ㎥ | G60: 112.5 | H60: =F60 -> ㎥ | I60: 일 | J60: =ROUNDUP(E60/G60,1) -> 0.7
B61: 3.02 | C61: 보도블록포장
C62: 보도용 블록 설치(소형) | D62: B-Type, t=8cm이하 | E62: 101 | F62: ㎡ | G62: 190 | H62: =F62 -> ㎡ | I62: 일 | J62: =ROUNDUP(E62/G62,1) -> 0.6
C63: 보조기층포설및다짐 | D63: 인력식 소규모 장비사용 시공,Q=B/2 | E63: 10 | F63: ㎥ | G63: 112.5 | H63: =F63 -> ㎥ | I63: 일 | J63: =ROUNDUP(E63/G63,1) -> 0.1
B65: 4. | C65: 부대공 | J65: =ROUND(SUM(J66:J74),0) -> 1
B66: 4.01 | C66: 차선도색
C67: 차선도색(융착식,일반형)-신설도로,차량전면통제 | D67: 수동식,백색실선 | E67: 10 | F67: ㎡ | G67: 700 | H67: =F67 -> ㎡ | I67: 일 | J67: =ROUNDUP(E67/G67,1) -> 0.1
C68: 차선도색(융착식,일반형)-신설도로,차량전면통제 | D68: 수동식,황색실선 | E68: 7 | F68: ㎡ | G68: 700 | H68: =F68 -> ㎡ | I68: 일 | J68: =ROUNDUP(E68/G68,1) -> 0.1
C69: 차선도색(융착식,일반형)-신설도로,차량전면통제 | D69: 수동식,백색,횡단보도.주차장 | E69: 3 | F69: ㎡ | G69: 266 | H69: =F69 -> ㎡ | I69: 일 | J69: =ROUNDUP(E69/G69,1) -> 0.1
C70: 차선밑그림-신설도로,차량전면통제 | D70: 실선 | E70: 17 | F70: ㎡ | G70: 900 | H70: =F70 -> ㎡ | I70: 일 | J70: =ROUNDUP(E70/G70,1) -> 0.1
C71: 차선밑그림-신설도로,차량전면통제 | D71: 횡단보도,주차장 | E71: 3 | F71: ㎡ | G71: 342 | H71: =F71 -> ㎡ | I71: 일 | J71: =ROUNDUP(E71/G71,1) -> 0.1
B72: 4.02 | C72: 출입문재설치
C73: 휀스 출입문 철거(재사용) | D73: H1.8 | E73: 8 | F73: m | G73: 40 | H73: =F73 -> m | I73: 일 | J73: =ROUNDUP(E73/G73,1) -> 0.2
C74: 휀스출입문 재설치 | D74: H1.8 | E74: 8 | F74: m | G74: 20 | H74: =F74 -> m | I74: 일 | J74: =ROUNDUP(E74/G74,1) -> 0.4
J78: =J5+J23+J54+J65 -> 16 | K78: 일

Sheet Sheet1

Sheet 2.작업일수 (2)
B1: 작업일수 산정
B3: 공종 | C3: 구 분 | D3: 규 격 | E3: 표준작업량 | H3: 수량 | J3: 작업일 | K3: 비 고
B5: 1. | C5: 토공 | J5: =ROUND(SUM(J6:J22),0) -> 47
B6: 1.01 | C6: 철거
C7: 지장물철거(일반건물) | D7: 전파,기계 | E7: 24.6 | F7: =I7 -> ㎥ | G7: 일 | H7: 463 | I7: ㎥ | J7: =ROUNDUP(H7/E7,1) -> 18.9
C8: 콘크리트 포장절단 | E8: 450 | F8: =I8 -> M | G8: 일 | H8: 26 | I8: M | J8: =ROUNDUP(H8/E8,1) -> 0.1
C9: 아스팔트 포장절단 | E9: 500 | F9: =I9 -> M | G9: 일 | H9: 11 | I9: M | J9: =ROUNDUP(H9/E9,1) -> 0.1
C10: 아스팔트포장깨기 | D10: 기계 | E10: 128 | F10: =I10 -> ㎥ | G10: 일 | H10: 66 | I10: ㎥ | J10: =ROUNDUP(H10/E10,1) -> 0.6
C11: 무근콘크리트깨기 | D11: 기계 | E11: 40 | F11: =I11 -> ㎥ | G11: 일 | H11: 396 | I11: ㎥ | J11: =ROUNDUP(H11/E11,1) -> 9.9
C12: 연결부 담장구멍뚫기 | D12: D150 | H12: 18 | I12: 개소 | K12: 깨기중복
C13: 폐기물 선별작업 | D13: 혼합 및 가연성 | H13: 463 | I13: ㎥ | K13: 지장물헐기중복
C14: 폐기물상차 | D14: 기계 | E14: 177.1 | F14: =I14 -> ㎥ | G14: 일 | H14: 927 | I14: ㎥ | J14: =ROUNDUP(H14/E14,1) -> 5.3
B15: 1.02 | C15: 토공 | F15: =I15
C16: 흙깍기 | D16: 기계 | E16: 483.8 | F16: =I16 -> ㎥ | G16: 일 | H16: 796 | I16: ㎥ | J16: =ROUNDUP(H16/E16,1) -> 1.7
C17: 흙쌓기 | D17: 기계 | E17: 788.4 | F17: =I17 -> ㎥ | G17: 일 | H17: 190 | I17: ㎥ | J17: =ROUNDUP(H17/E17,1) -> 0.3
C18: 흙쌓기 | D18: 비다짐 | E18: 788.4 | F18: =I18 -> ㎥ | G18: 일 | H18: 54 | I18: ㎥ | J18: =ROUNDUP(H18/E18,1) -> 0.1
C19: 터파기 | D19: 기계+인력 | E19: 435.4 | F19: =I19 -> ㎥ | G19: 일 | H19: 896 | I19: ㎥ | J19: =ROUNDUP(H19/E19,1) -> 2.1
C20: 되메우기 | D20: 기계+인력 | E20: 613.2 | F20: =I20 -> ㎥ | G20: 일 | H20: 567 | I20: ㎥ | J20: =ROUNDUP(H20/E20,1) -> 1
C21: 노반준비공 | D21: 기계 | E21: 443.5 | F21: =I21 -> ㎡ | G21: 일 | H21: 1702 | I21: ㎡ | J21: =ROUNDUP(H21/E21,1) -> 3.9
C22: 사토운반 | D22: 사토반출 | E22: 300 | F22: =I22 -> ㎥ | G22: 일 | H22: 797 | I22: ㎥ | J22: =ROUNDUP(H22/E22,1) -> 2.7 | K22: 절토작업중복
B24: 2. | C24: 배수공 | J24: =ROUND(SUM(J25:J63),0) -> 47
B25: 2.01 | C25: 우수관로
B26: 1) | C26: 관부설및접합
C27: 이중벽PE관접합및부설 | D27: D=400mm,소켓식 | E27: 30 | F27: =I27 -> m | G27: 일 | H27: 624 | I27: m | J27: =ROUNDUP(H27/E27,1) -> 20.8
C28: 이중벽PE관접합및부설 | D28: D=600mm,소켓식 | E28: 20 | F28: =I28 -> m | G28: 일 | H28: 76 | I28: m | J28: =ROUNDUP(H28/E28,1) -> 3.8
C29: 이중벽PE관접합및부설 | D29: D=300mm,밴드식 | E29: 40 | F29: =I29 -> m | G29: 일 | H29: 60 | I29: m | J29: =ROUNDUP(H29/E29,1) -> 1.5
C30: PE관 절단 | D30: D300 | H30: 15 | I30: 개소 | K30: 관부설중복
C31: PE관 절단 | D31: D400 | H31: 43 | I31: 개소 | K31: 관부설중복
C32: PE관 절단 | D32: D600 | H32: 4 | I32: 개소 | K32: 관부설중복
C33: 모래기초지정 | E33: 142.8 | F33: =I33 -> ㎥ | G33: 일 | H33: 141 | I33: ㎥ | J33: =ROUNDUP(H33/E33,1) -> 1
B34: 2) | C34: 관보호공
C35: 관보호공 | D35: D400,관로제외 | E35: 28 | F35: =I35 -> m | G35: 일 | H35: 38 | I35: m | J35: =ROUNDUP(H35/E35,1) -> 1.4
B36: 3) | C36: 가정분기관
C37: PVC관 연결 | D37: Φ150mm | H37: 56 | I37: m | K37: 관부설중복
C38: PVC엘보설치 | D38: D150,45˚ | H38: 28 | I38: 개소 | K38: 관부설중복
C39: 맨홀천공 | D39: D150 | H39: 14 | I39: 개소 | K39: 관부설중복
B40: 4) | C40: 집수정 | D40: N=48EA
C41: 우수받이설치 | D41: 450×600×1000,기성품 | E41: 10.5 | F41: =I41 -> 개소 | G41: 일 | H41: 33 | I41: 개소 | J41: =ROUNDUP(H41/E41,1) -> 3.2
C42: 우수받이설치 | D42: 450×600×850,기성품 | E42: 13.1 | F42: =I42 -> 개소 | G42: 일 | H42: 8 | I42: 개소 | J42: =ROUNDUP(H42/E42,1) -> 0.7
C43: 우수받이설치 | D43: 450×600×700,기성품 | E43: 13.1 | F43: =I43 -> 개소 | G43: 일 | H43: 2 | I43: 개소 | J43: =ROUNDUP(H43/E43,1) -> 0.2
C44: 우수집수정설치 | D44: 0.8×0.8×1.3,현장타설 | E44: 3.8 | F44: =I44 -> 개소 | G44: 일 | H44: 5 | I44: 개소 | J44: =ROUNDUP(H44/E44,1) -> 1.4
C45: 주물뚜껑설치 | D45: 500×640×70 | H45: 43 | I45: 조 | K45: 집수정설치중복
C46: 주물뚜껑설치 | D46: 900×900×70 | H46: 5 | I46: 조 | K46: 집수정설치중복
B47: 2.02 | C47: L형측구 설치
B48: 1) | C48: L형측구,TYPE-1 | D48: 일반부,L=533.5m
C49: 레미콘타설(장비사용타설) | D49: 무근구조물 | E49: 88.9 | F49: =I49 -> ㎥ | G49: 일 | H49: 85 | I49: ㎥ | J49: =ROUNDUP(H49/E49,1) -> 1
C50: 유로폼 | D50: 간단,0~7m | E50: 50 | F50: =I50 -> ㎡ | G50: 일 | H50: 203 | I50: ㎡ | J50: =ROUNDUP(H50/E50,1) -> 4.1
B51: 2) | C51: L형측구,TYPE-2 | D51: 옹벽부,L=96.5m
C52: 레미콘타설(장비사용타설) | D52: 무근구조물 | E52: 88.9 | F52: =I52 -> ㎥ | G52: 일 | H52: 12 | I52: ㎥ | J52: =ROUNDUP(H52/E52,1) -> 0.2
C53: 유로폼 | D53: 간단,0~7m | E53: 50 | F53: =I53 -> ㎡ | G53: 일 | H53: 19 | I53: ㎡ | J53: =ROUNDUP(H53/E53,1) -> 0.4
C54: 철근가공및조립 | D54: 일반(Type-Ⅰ) | E54: 1.5 | F54: =I54 -> Ton | G54: 일 | H54: 0.06 | I54: Ton | J54: =ROUNDUP(H54/E54,1) -> 0.1
B55: 3) | C55: L형측구,TYPE-3 | D55: H=0.15~0.6m,L=32.0m | F55: =I55 | G55: 일
C56: 레미콘타설(장비사용타설) | D56: 철근구조물 | E56: 80 | F56: =I56 -> ㎥ | G56: 일 | H56: 5 | I56: ㎥ | J56: =ROUNDUP(H56/E56,1) -> 0.1
C57: 유로폼 | D57: 보통,0~7m | E57: 33.3 | F57: =I57 -> ㎡ | G57: 일 | H57: 26 | I57: ㎡ | J57: =ROUNDUP(H57/E57,1) -> 0.8
C58: 문양거푸집 설치및해체 | D58: 스치로폼 | H58: 6 | I58: ㎡ | K58: 거푸집중복
C59: 철근가공및조립 | D59: 일반(Type-Ⅰ) | E59: 1.5 | F59: =I59 -> Ton | G59: 일 | H59: 0.407 | I59: Ton | J59: =ROUNDUP(H59/E59,1) -> 0.3
B60: 2.03 | C60: 경계석
C61: 보차도 및 도로경계블록 설치(직선) | D61: B-Type, 500mm미만 | E61: 80 | F61: =I61 -> M | G61: 일 | H61: 336 | I61: M | J61: =ROUNDUP(H61/E61,1) -> 4.2
C62: 보차도 및 도로경계블록 설치(직선) | D62: B-Type, 400mm미만 | E62: 110 | F62: =I62 -> M | G62: 일 | H62: 27 | I62: M | J62: =ROUNDUP(H62/E62,1) -> 0.3
C63: 보차도 및 도로경계블록 설치(직선) | D63: B-Type, 350mm미만 | E63: 120 | F63: =I63 -> M | G63: 일 | H63: 170 | I63: M | J63: =ROUNDUP(H63/E63,1) -> 1.5
B65: 3. | C65: 구조물공 | J65: =ROUND(SUM(J66:J89),0) -> 28
B66: 3.01 | C66: L형옹벽 | D66: H=2.0~2.5m,L=96.5m
C67: 레미콘타설(장비사용타설) | D67: 철근구조물 | E67: 80 | F67: =I67 -> ㎥ | G67: 일 | H67: 117 | I67: ㎥ | J67: =ROUNDUP(H67/E67,1) -> 1.5
C68: 레미콘타설(장비사용타설) | D68: 무근구조물 | E68: 88.9 | F68: =I68 -> ㎥ | G68: 일 | H68: 17 | I68: ㎥ | J68: =ROUNDUP(H68/E68,1) -> 0.2
C69: 유로폼 | D69: 보통,0~7m | E69: 33.3 | F69: =I69 -> ㎡ | G69: 일 | H69: 403 | I69: ㎡ | J69: =ROUNDUP(H69/E69,1) -> 12.2
C70: 유로폼 | D70: 간단,0~7m | E70: 50 | F70: =I70 -> ㎡ | G70: 일 | H70: 19 | I70: ㎡ | J70: =ROUNDUP(H70/E70,1) -> 0.4
C71: 문양거푸집 설치및해체 | D71: 스치로폼 | H71: 76 | I71: ㎡ | K71: 거푸집중복
C72: 스페이스설치 | D72: 벽체용 | H72: 403 | I72: ㎡ | K72: 철근작업중복
C73: 스페이스설치 | D73: 슬라브및기초 | H73: 151 | I73: ㎡ | K73: 철근작업중복
C74: 철근가공및조립 | D74: 일반(Type-Ⅰ) | E74: 1.5 | F74: =I74 -> Ton | G74: 일 | H74: 8.412 | I74: Ton | J74: =ROUNDUP(H74/E74,1) -> 5.7
C75: 강관비계 | D75: 10m이하(3개월) | E75: 100 | F75: =I75 -> ㎡ | G75: 일 | H75: 54 | I75: ㎡ | J75: =ROUNDUP(H75/E75,1) -> 0.6
C76: 신축이음 | D76: L형옹벽,H=2.0 | E76: 10 | F76: =I76 -> 개소 | G76: 일 | H76: 3 | I76: 개소 | J76: =ROUNDUP(H76/E76,1) -> 0.3
B77: 3.02 | C77: 깬잡석쌓기 | D77: H=1.6~0.2m,L=16.0m
C78: 깬잡석찰쌓기 | D78: 뒷길이35㎝ | E78: 25.8 | F78: =I78 -> ㎡ | G78: 일 | H78: 24 | I78: ㎡ | J78: =ROUNDUP(H78/E78,1) -> 1
C79: 뒷채움부설 | D79: 인력+기계 | E79: 114.3 | F79: =I79 -> ㎥ | G79: 일 | H79: 5 | I79: ㎥ | J79: =ROUNDUP(H79/E79,1) -> 0.1
C80: 레미콘타설(장비사용타설) | D80: 무근구조물 | E80: 88.9 | F80: =I80 -> ㎥ | G80: 일 | H80: 3 | I80: ㎥ | J80: =ROUNDUP(H80/E80,1) -> 0.1
C81: 유로폼 | D81: 간단,0~7m | E81: 50 | F81: =I81 -> ㎡ | G81: 일 | H81: 8 | I81: ㎡ | J81: =ROUNDUP(H81/E81,1) -> 0.2
B82: 3.03 | C82: L형면벽설치 | D82: H=1.2m,L=20.0m | F82: =I82 | G82: 일
C83: 레미콘타설(장비사용타설) | D83: 철근구조물 | E83: 80 | F83: =I83 -> ㎥ | G83: 일 | H83: 7 | I83: ㎥ | J83: =ROUNDUP(H83/E83,1) -> 0.1
C84: 유로폼 | D84: 보통,0~7m | E84: 33.3 | F84: =I84 -> ㎡ | G84: 일 | H84: 48 | I84: ㎡ | J84: =ROUNDUP(H84/E84,1) -> 1.5
C85: 철근가공및조립 | D85: 일반(Type-Ⅰ) | E85: 1.5 | F85: =I85 -> Ton | G85: 일 | H85: 0.487 | I85: Ton | J85: =ROUNDUP(H85/E85,1) -> 0.4
B86: 3.04 | C86: 측벽설치 | D86: H=0.7m,L=68.0m
C87: 레미콘타설(장비사용타설) | D87: 무근구조물 | E87: 80 | F87: =I87 -> ㎥ | G87: 일 | H87: 9 | I87: ㎥ | J87: =ROUNDUP(H87/E87,1) -> 0.2
C88: 유로폼 | D88: 보통,0~7m | E88: 33.3 | F88: =I88 -> ㎡ | G88: 일 | H88: 95 | I88: ㎡ | J88: =ROUNDUP(H88/E88,1) -> 2.9
C89: 철근가공및조립 | D89: 일반(Type-Ⅰ) | E89: 1.5 | F89: =I89 -> Ton | G89: 일 | H89: 0.042 | I89: Ton | J89: =ROUNDUP(H89/E89,1) -> 0.1
F90: =I90 | G90: 일
B91: 4. | C91: 포장공 | F91: =I91 | G91: 일 | J91: =ROUND(SUM(J92:J98),0) -> 5
B92: 4.01 | C92: 아스콘포장
C93: 아스팔트 표층 포설및다짐 | D93: 대형장비,3m≤B,t=5~7cm | E93: 4800 | F93: =I93 -> ㎡ | G93: 일 | H93: 2271 | I93: ㎡ | J93: =ROUNDUP(H93/E93,1) -> 0.5
C94: 아스팔트 기층 포설및다짐 | D94: 대형장비,3m≤B,t=8~10cm | E94: 4500 | F94: =I94 -> ㎡ | G94: 일 | H94: 2271 | I94: ㎡ | J94: =ROUNDUP(H94/E94,1) -> 0.6
C95: 보조기층포설및다짐 | D95: 기계시공-본선포장 | E95: 550 | F95: =I95 -> ㎥ | G95: 일 | H95: 682 | I95: ㎥ | J95: =ROUNDUP(H95/E95,1) -> 1.3
B96: 4.02 | C96: 콘크리트포장 | D96: t=20㎝,A=209.0㎡
C97: 콘크리트포장(인력포설) | D97: B-Type, t=20cm | E97: 25 | F97: =I97 -> ㎥ | G97: 일 | H97: 42 | I97: ㎥ | J97: =ROUNDUP(H97/E97,1) -> 1.7
C98: 유로폼 | D98: 간단,0~7m | E98: 50 | F98: =I98 -> ㎡ | G98: 일 | H98: 33 | I98: ㎡ | J98: =ROUNDUP(H98/E98,1) -> 0.7
B100: 5. | C100: 부대공 | J100: =ROUND(SUM(J101:J108),0) -> 4
C101: 차선도색제거 | E101: 35 | F101: =I101 -> ㎡ | G101: 일 | H101: 27 | I101: ㎡ | J101: =ROUNDUP(H101/E101,1) -> 0.8
C102: 차선도색 | D102: 수동식,백색실선 | E102: 700 | F102: =I102 -> ㎡ | G102: 일 | H102: 104 | I102: ㎡ | J102: =ROUNDUP(H102/E102,1) -> 0.2
C103: 차선도색 | D103: 수동식,횡단보도.주차장 | E103: 266 | F103: =I103 -> ㎡ | G103: 일 | H103: 20 | I103: ㎡ | J103: =ROUNDUP(H103/E103,1) -> 0.1
C104: 차선도색 | D104: 수동식,문자.기호 | E104: 126 | F104: =I104 -> ㎡ | G104: 일 | H104: 4 | I104: ㎡ | J104: =ROUNDUP(H104/E104,1) -> 0.1
C105: 차선밑그림-신설도로 | D105: 실선 | E105: 900 | F105: =I105 -> ㎡ | G105: 일 | H105: 104 | I105: ㎡ | J105: =ROUNDUP(H105/E105,1) -> 0.2
...

Sheet --->참고용

Sheet 월별작업일수(데이터산정)
A1: 공사유형별 준비기간 및 정리기간
A2: 공사유형 | B2: 준비기간 | AC2: 구분 | AD2: 월별 비작업 일수
A3: 공동주택 | B3: 30 | AD3: 1월 | AE3: 2월 | AF3: 3월 | AG3: 4월 | AH3: 5월 | AI3: 6월 | AJ3: 7월 | AK3: 8월 | AL3: 9월 | AM3: 10월 | AN3: 11월 | AO3: 12월
A4: 도로개량공사 | B4: 40 | AC4: 2019년 | AD4: 7.2 | AE4: 8 | AF4: 8.5 | AG4: 7.5 | AH4: 8.7 | AI4: 9.4 | AJ4: 14.6 | AK4: 15.3 | AL4: 10.4 | AM4: 7.6 | AN4: 5.2 | AO4: 7.7 | AP4: =SUM(AD4:AO4) -> 110.1
A5: 포장공사(신설) | B5: 50 | AC5: 2020년 | AD5: =T23 -> 10.2 | AE5: =T33 -> 5 | AF5: =T43 -> 7.5 | AG5: =T53 -> 8.5 | AH5: =T63 -> 9.7 | AI5: =T73 -> 8.4 | AJ5: =T83 -> 14.6 | AK5: =T93 -> 16.3 | AL5: =T103 -> 8.4 | AM5: =T113 -> 9.6 | AN5: =T123 -> 6.2 | AO5: =T133 -> 6.7 | AP5: =SUM(AD5:AO5) -> 111.1
A6: 포장공사(수선) | B6: 60
A7: 공동구공사 | B7: 80 | AC7: 구분 | AD7: 월별 작업 일수
A8: 강교가설공사 | B8: 90 | AD8: 1월 | AE8: 2월 | AF8: 3월 | AG8: 4월 | AH8: 5월 | AI8: 6월 | AJ8: 7월 | AK8: 8월 | AL8: 9월 | AM8: 10월 | AN8: 11월 | AO8: 12월
A9: PC교량공사 | B9: 70 | AC9: 2019년 | AD9: 23.8 | AE9: 20 | AF9: 22.5 | AG9: 22.5 | AH9: 23 | AI9: 21 | AJ9: 17 | AK9: 16 | AL9: 20 | AM9: 24 | AN9: 25 | AO9: 24 | AP9: =SUM(AD9:AO9) -> 258.8
A10: 교량보수공사 | B10: 60 | AC10: 2020년 | AD10: =R24 -> 20.8 | AE10: =R34 -> 24 | AF10: =R44 -> 23.5 | AG10: =R54 -> 21.5 | AH10: =R64 -> 21.3 | AI10: =R74 -> 21.6 | AJ10: =R84 -> 16.4 | AK10: =R94 -> 14.7 | AL10: =R104 -> 21.6 | AM10: =R114 -> 21.4 | AN10: =R124 -> 23.8 | AO10: =R134 -> 24.3 | AP10: =SUM(AD10:AO10) -> 254.9
A11: 하천공사 | B11: 40
A12: 항만공사 | B12: 40 | AB12: 갓바위 공사기간(2019.08~2020.02) | AE12: 산정값 | AF12: 적용값
A13: 표지판설치 | B13: 45 | AB13: 1 | AC13: 비작업일수 | AE13: =AK4+AL4+AM4+AN4+AO4+AD5+AE5 -> 61.4 | AF13: 61
AB14: 2 | AC14: 작업일수 | AE14: =AK9+AL9+AM9+AN9+AO9+AD10+AE10 -> 153.8 | AF14: 154
AB15: 3 | AC15: 공사준비기간 | AE15: 15 | AF15: 15
A16: 2019년 | N16: 2020년 | O16: A값은 고정 | AB16: 4 | AC16: 공사정리기간 | AE16: 10 | AF16: 10
A17: 1월 | N17: 1월 | AB17: 5 | AC17: 공사기간 | AD17: 1~4 합계 | AE17: =AE13+AE14+AE15+AE16 -> 240.2 | AF17: =SUM(AF13:AF16) -> 240
A18: 비작업일수 = A+B-C | N18: 비작업일수 = A+B-C | AB18: 6 | AC18: 공사개월수 | AD18: 공사일수/30일 | AE18: =AE17/30 -> 8.0066667 | AF18: =AF17/30 -> 8
A19: A : | B19: 해당 월에 기후여건으로 인해 계획된 공종의 작업이 불가능한 일수 | I19: 1월 | K19: 3.2 | L19: 일 | N19: A : | O19: 해당 월에 기후여건으로 인해 계획된 공종의 작업이 불가능한 일수 | W19: 1월 | Y19: 3.2 | Z19: 일 | AB19: 7 | AC19: 최종공사기간 | AD19: 공사개월수X30일 | AE19: =AE18*30 -> 240.2 | AF19: =AF18*30 -> 240
A20: B : | B20: 해당 월에 포함된 법정 공휴일수 | I20: 1월 | K20: 5 | L20: 일 | N20: B : | O20: 해당 월에 포함된 법정 공휴일수 | W20: 1월 | Y20: 8 | Z20: 일
A21: C : | B21: 월별 중복일수(C)=A*B/달력일수(소수점 첫째자리에서 반올림) | N21: C : | O21: 월별 중복일수(C)=A*B/달력일수(소수점 첫째자리에서 반올림)
A22: C : = | B22: 3.2 | C22: 5 | D22: / | E22: 31 | F22: = | G22: 1 | H22: 일 | N22: C : = | O22: 3.2 | P22: =Y20 -> 8 | Q22: / | R22: 31 | S22: = | T22: =O22*P22/R22 -> 0.82580645 | U22: 1 | V22: 일
A23: 비작업일수= | B23: 3.2 | C23: 5 | D23: - | E23: 1 | F23: = | G23: 7.2 | H23: 일 | N23: 비작업일수= | O23: 3.2 | P23: =P22 -> 8 | Q23: - | R23: =U22 -> 1 | S23: = | T23: =O23+P23-R23 -> 10.2 | V23: 일 | AC23: 작업불가능일수 | AE23: 풍속 15이상 | AF23: 합계
A24: 작업일수= | B24: 31 | C24: 7.2 | D24: = | E24: 23.8 | F24: 일 | N24: 작업일수= | O24: =R22 -> 31 | P24: =T23 -> 10.2 | Q24: = | R24: =O24-P24 -> 20.8 | S24: 일 | AC24: 1월 | AD24: 3.2 | AE24: 0.7 | AF24: =SUM(AD24:AE24) -> 3.9
AC25: 2월 | AD25: 2 | AE25: 0.5 | AF25: =SUM(AD25:AE25) -> 2.5
AC26: 3월 | AD26: 3.5 | AE26: 1.4 | AF26: =SUM(AD26:AE26) -> 4.9
A27: 2월 | N27: 2월 | AC27: 4월 | AD27: 4.5 | AE27: 1 | AF27: =SUM(AD27:AE27) -> 5.5
A28: 비작업일수 = A+B-C | N28: 비작업일수 = A+B-C | AC28: 5월 | AD28: 3.7 | AE28: 0.5 | AF28: =SUM(AD28:AE28) -> 4.2
A29: A : | B29: 해당 월에 기후여건으로 인해 계획된 공종의 작업이 불가능한 일수 | I29: 2월 | K29: 2 | L29: 일 | N29: A : | O29: 해당 월에 기후여건으로 인해 계획된 공종의 작업이 불가능한 일수 | W29: 2월 | Y29: 2 | Z29: 일 | AC29: 6월 | AD29: 4.4 | AE29: 0.1 | AF29: =SUM(AD29:AE29) -> 4.5
A30: B : | B30: 해당 월에 포함된 법정 공휴일수 | I30: 2월 | K30: 7 | L30: 일 | N30: B : | O30: 해당 월에 포함된 법정 공휴일수 | W30: 2월 | Y30: 4 | Z30: 일 | AC30: 7월 | AD30: 12.6 | AE30: 0.3 | AF30: =SUM(AD30:AE30) -> 12.9
A31: C : | B31: 월별 중복일수(C)=A*B/달력일수(소수점 첫째자리에서 반올림) | N31: C : | O31: 월별 중복일수(C)=A*B/달력일수(소수점 첫째자리에서 반올림) | AC31: 8월 | AD31: 13.3 | AE31: 0.3 | AF31: =SUM(AD31:AE31) -> 13.6
A32: C : = | B32: 2 | C32: 7 | D32: / | E32: 28 | F32: = | G32: 1 | H32: 일 | N32: C : = | O32: 2 | P32: =Y30 -> 4 | Q32: / | R32: 29 | S32: = | T32: =O32*P32/R32 -> 0.27586207 | U32: 1 | V32: 일 | AC32: 9월 | AD32: 4.4 | AE32: 0.1 | AF32: =SUM(AD32:AE32) -> 4.5
A33: 비작업일수= | B33: 2 | C33: 7 | D33: - | E33: 1 | F33: = | G33: 8 | H33: 일 | N33: 비작업일수= | O33: 2 | P33: =P32 -> 4 | Q33: - | R33: =U32 -> 1 | S33: = | T33: =O33+P33-R33 -> 5 | V33: 일 | AC33: 10월 | AD33: 2.6 | AE33: 0 | AF33: =SUM(AD33:AE33) -> 2.6
A34: 작업일수= | B34: 28 | C34: 8 | D34: = | E34: 20 | F34: 일 | N34: 작업일수= | O34: =R32 -> 29 | P34: =T33 -> 5 | Q34: = | R34: =O34-P34 -> 24 | S34: 일 | AC34: 11월 | AD34: 2.2 | AE34: 1 | AF34: =SUM(AD34:AE34) -> 3.2
AC35: 12월 | AD35: 2.7 | AE35: 1.4 | AF35: =SUM(AD35:AE35) -> 4.1
A37: 3월 | N37: 3월
A38: 비작업일수 = A+B-C | N38: 비작업일수 = A+B-C
A39: A : | B39: 해당 월에 기후여건으로 인해 계획된 공종의 작업이 불가능한 일수 | I39: 3월 | K39: 3.5 | L39: 일 | N39: A : | O39: 해당 월에 기후여건으로 인해 계획된 공종의 작업이 불가능한 일수 | W39: 3월 | Y39: 3.5 | Z39: 일
A40: B : | B40: 해당 월에 포함된 법정 공휴일수 | I40: 3월 | K40: 6 | L40: 일 | N40: B : | O40: 해당 월에 포함된 법정 공휴일수 | W40: 3월 | Y40: 5 | Z40: 일
A41: C : | B41: 월별 중복일수(C)=A*B/달력일수(소수점 첫째자리에서 반올림) | N41: C : | O41: 월별 중복일수(C)=A*B/달력일수(소수점 첫째자리에서 반올림)
A42: C : = | B42: 3.5 | C42: 6 | D42: / | E42: 31 | F42: = | G42: 1 | H42: 일 | N42: C : = | O42: 3.5 | P42: =Y40 -> 5 | Q42: / | R42: 31 | S42: = | T42: =O42*P42/R42 -> 0.56451613 | U42: 1 | V42: 일
A43: 비작업일수= | B43: 3.5 | C43: 6 | D43: - | E43: 1 | F43: = | G43: 8.5 | H43: 일 | N43: 비작업일수= | O43: 3.5 | P43: =P42 -> 5 | Q43: - | R43: =U42 -> 1 | S43: = | T43: =O43+P43-R43 -> 7.5 | V43: 일
A44: 작업일수= | B44: 31 | C44: 8.5 | D44: = | E44: 22.5 | F44: 일 | N44: 작업일수= | O44: =R42 -> 31 | P44: =T43 -> 7.5 | Q44: = | R44: =O44-P44 -> 23.5 | S44: 일
A47: 4월 | N47: 4월
A48: 비작업일수 = A+B-C | N48: 비작업일수 = A+B-C
A49: A : | B49: 해당 월에 기후여건으로 인해 계획된 공종의 작업이 불가능한 일수 | I49: 4월 | K49: 4.5 | L49: 일 | N49: A : | O49: 해당 월에 기후여건으로 인해 계획된 공종의 작업이 불가능한 일수 | W49: 4월 | Y49: 4.5 | Z49: 일
A50: B : | B50: 해당 월에 포함된 법정 공휴일수 | I50: 4월 | K50: 4 | L50: 일 | N50: B : | O50: 해당 월에 포함된 법정 공휴일수 | W50: 4월 | Y50: 5 | Z50: 일
A51: C : | B51: 월별 중복일수(C)=A*B/달력일수(소수점 첫째자리에서 반올림) | N51: C : | O51: 월별 중복일수(C)=A*B/달력일수(소수점 첫째자리에서 반올림)
A52: C : = | B52: 4.5 | C52: 4 | D52: / | E52: 30 | F52: = | G52: 1 | H52: 일 | N52: C : = | O52: 4.5 | P52: =Y50 -> 5 | Q52: / | R52: 30 | S52: = | T52: =O52*P52/R52 -> 0.75 | U52: 1 | V52: 일
A53: 비작업일수= | B53: 4.5 | C53: 4 | D53: - | E53: 1 | F53: = | G53: 7.5 | H53: 일 | N53: 비작업일수= | O53: 4.5 | P53: =P52 -> 5 | Q53: - | R53: =U52 -> 1 | S53: = | T53: =O53+P53-R53 -> 8.5 | V53: 일
A54: 작업일수= | B54: 30 | C54: 7.5 | D54: = | E54: 22.5 | F54: 일 | N54: 작업일수= | O54: =R52 -> 30 | P54: =T53 -> 8.5 | Q54: = | R54: =O54-P54 -> 21.5 | S54: 일
A57: 5월 | N57: 5월
A58: 비작업일수 = A+B-C | N58: 비작업일수 = A+B-C
A59: A : | B59: 해당 월에 기후여건으로 인해 계획된 공종의 작업이 불가능한 일수 | I59: 5월 | K59: 3.7 | L59: 일 | N59: A : | O59: 해당 월에 기후여건으로 인해 계획된 공종의 작업이 불가능한 일수 | W59: 5월 | Y59: 3.7 | Z59: 일
A60: B : | B60: 해당 월에 포함된 법정 공휴일수 | I60: 5월 | K60: 6 | L60: 일 | N60: B : | O60: 해당 월에 포함된 법정 공휴일수 | W60: 5월 | Y60: 7 | Z60: 일
A61: C : | B61: 월별 중복일수(C)=A*B/달력일수(소수점 첫째자리에서 반올림) | N61: C : | O61: 월별 중복일수(C)=A*B/달력일수(소수점 첫째자리에서 반올림)
A62: C : = | B62: 3.7 | C62: 6 | D62: / | E62: 31 | F62: = | G62: 1 | H62: 일 | N62: C : = | O62: 3.7 | P62: =Y60 -> 7 | Q62: / | R62: 31 | S62: = | T62: =O62*P62/R62 -> 0.83548387 | U62: 1 | V62: 일
A63: 비작업일수= | B63: 3.7 | C63: 6 | D63: - | E63: 1 | F63: = | G63: 8.7 | H63: 일 | N63: 비작업일수= | O63: 3.7 | P63: =P62 -> 7 | Q63: - | R63: =U62 -> 1 | S63: = | T63: =O63+P63-R63 -> 9.7 | V63: 일
A64: 작업일수= | B64: 31 | C64: 8.7 | D64: = | E64: 23 | F64: 일 | N64: 작업일수= | O64: =R62 -> 31 | P64: =T63 -> 9.7 | Q64: = | R64: =O64-P64 -> 21.3 | S64: 일
A67: 6월 | N67: 6월
A68: 비작업일수 = A+B-C | N68: 비작업일수 = A+B-C
A69: A : | B69: 해당 월에 기후여건으로 인해 계획된 공종의 작업이 불가능한 일수 | I69: 6월 | K69: 4.4 | L69: 일 | N69: A : | O69: 해당 월에 기후여건으로 인해 계획된 공종의 작업이 불가능한 일수 | W69: 6월 | Y69: 4.4 | Z69: 일
A70: B : | B70: 해당 월에 포함된 법정 공휴일수 | I70: 6월 | K70: 6 | L70: 일 | N70: B : | O70: 해당 월에 포함된 법정 공휴일수 | W70: 6월 | Y70: 5 | Z70: 일
A71: C : | B71: 월별 중복일수(C)=A*B/달력일수(소수점 첫째자리에서 반올림) | N71: C : | O71: 월별 중복일수(C)=A*B/달력일수(소수점 첫째자리에서 반올림)
A72: C : = | B72: 4.4 | C72: 6 | D72: / | E72: 30 | F72: = | G72: 1 | H72: 일 | N72: C : = | O72: 4.4 | P72: =Y70 -> 5 | Q72: / | R72: 30 | S72: = | T72: =O72*P72/R72 -> 0.73333333 | U72: 1 | V72: 일
A73: 비작업일수= | B73: 4.4 | C73: 6 | D73: - | E73: 1 | F73: = | G73: 9.4 | H73: 일 | N73: 비작업일수= | O73: 4.4 | P73: =P72 -> 5 | Q73: - | R73: =U72 -> 1 | S73: = | T73: =O73+P73-R73 -> 8.4 | V73: 일
A74: 작업일수= | B74: 30 | C74: 9.4 | D74: = | E74: 21 | F74: 일 | N74: 작업일수= | O74: =R72 -> 30 | P74: =T73 -> 8.4 | Q74: = | R74: =O74-P74 -> 21.6 | S74: 일
A77: 7월 | N77: 7월
A78: 비작업일수 = A+B-C | N78: 비작업일수 = A+B-C
A79: A : | B79: 해당 월에 기후여건으로 인해 계획된 공종의 작업이 불가능한 일수 | I79: 7월 | K79: 12.6 | L79: 일 | N79: A : | O79: 해당 월에 기후여건으로 인해 계획된 공종의 작업이 불가능한 일수 | W79: 7월 | Y79: 12.6 | Z79: 일
A80: B : | B80: 해당 월에 포함된 법정 공휴일수 | I80: 7월 | K80: 4 | L80: 일 | N80: B : | O80: 해당 월에 포함된 법정 공휴일수 | W80: 7월 | Y80: 4 | Z80: 일
A81: C : | B81: 월별 중복일수(C)=A*B/달력일수(소수점 첫째자리에서 반올림) | N81: C : | O81: 월별 중복일수(C)=A*B/달력일수(소수점 첫째자리에서 반올림)
A82: C : = | B82: 12.6 | C82: 4 | D82: / | E82: 31 | F82: = | G82: 2 | H82: 일 | N82: C : = | O82: 12.6 | P82: =Y80 -> 4 | Q82: / | R82: 31 | S82: = | T82: =O82*P82/R82 -> 1.6258065 | U82: 2 | V82: 일
A83: 비작업일수= | B83: 12.6 | C83: 4 | D83: - | E83: 2 | F83: = | G83: 14.6 | H83: 일 | N83: 비작업일수= | O83: 12.6 | P83: =P82 -> 4 | Q83: - | R83: =U82 -> 2 | S83: = | T83: =O83+P83-R83 -> 14.6 | V83: 일
A84: 작업일수= | B84: 31 | C84: 14.6 | D84: = | E84: 17 | F84: 일 | N84: 작업일수= | O84: =R82 -> 31 | P84: =T83 -> 14.6 | Q84: = | R84: =O84-P84 -> 16.4 | S84: 일
A87: 8월 | N87: 8월
A88: 비작업일수 = A+B-C | N88: 비작업일수 = A+B-C
A89: A : | B89: 해당 월에 기후여건으로 인해 계획된 공종의 작업이 불가능한 일수 | I89: 8월 | K89: 13.3 | L89: 일 | N89: A : | O89: 해당 월에 기후여건으로 인해 계획된 공종의 작업이 불가능한 일수 | W89: 8월 | Y89: 13.3 | Z89: 일
A90: B : | B90: 해당 월에 포함된 법정 공휴일수 | I90: 8월 | K90: 5 | L90: 일 | N90: B : | O90: 해당 월에 포함된 법정 공휴일수 | W90: 8월 | Y90: 6 | Z90: 일
A91: C : | B91: 월별 중복일수(C)=A*B/달력일수(소수점 첫째자리에서 반올림) | N91: C : | O91: 월별 중복일수(C)=A*B/달력일수(소수점 첫째자리에서 반올림)
A92: C : = | B92: 13.3 | C92: 5 | D92: / | E92: 31 | F92: = | G92: 3 | H92: 일 | N92: C : = | O92: 13.3 | P92: =Y90 -> 6 | Q92: / | R92: 31 | S92: = | T92: =O92*P92/R92 -> 2.5741935 | U92: 3 | V92: 일
A93: 비작업일수= | B93: 13.3 | C93: 5 | D93: - | E93: 3 | F93: = | G93: 15.3 | H93: 일 | N93: 비작업일수= | O93: 13.3 | P93: =P92 -> 6 | Q93: - | R93: =U92 -> 3 | S93: = | T93: =O93+P93-R93 -> 16.3 | V93: 일
A94: 작업일수= | B94: 31 | C94: 15.3 | D94: = | E94: 16 | F94: 일 | N94: 작업일수= | O94: =R92 -> 31 | P94: =T93 -> 16.3 | Q94: = | R94: =O94-P94 -> 14.7 | S94: 일
A97: 9월 | N97: 9월
A98: 비작업일수 = A+B-C | N98: 비작업일수 = A+B-C
A99: A : | B99: 해당 월에 기후여건으로 인해 계획된 공종의 작업이 불가능한 일수 | I99: 9월 | K99: 4.4 | L99: 일 | N99: A : | O99: 해당 월에 기후여건으로 인해 계획된 공종의 작업이 불가능한 일수 | W99: 9월 | Y99: 4.4 | Z99: 일
A100: B : | B100: 해당 월에 포함된 법정 공휴일수 | I100: 9월 | K100: 8 | L100: 일 | N100: B : | O100: 해당 월에 포함된 법정 공휴일수 | W100: 9월 | Y100: 5 | Z100: 일
A101: C : | B101: 월별 중복일수(C)=A*B/달력일수(소수점 첫째자리에서 반올림) | N101: C : | O101: 월별 중복일수(C)=A*B/달력일수(소수점 첫째자리에서 반올림)
A102: C : = | B102: 4.4 | C102: 8 | D102: / | E102: 30 | F102: = | G102: 2 | H102: 일 | N102: C : = | O102: 4.4 | P102: =Y100 -> 5 | Q102: / | R102: 30 | S102: = | T102: =O102*P102/R102 -> 0.73333333 | U102: 1 | V102: 일
A103: 비작업일수= | B103: 4.4 | C103: 8 | D103: - | E103: 2 | F103: = | G103: 10.4 | H103: 일 | N103: 비작업일수= | O103: 4.4 | P103: =P102 -> 5 | Q103: - | R103: =U102 -> 1 | S103: = | T103: =O103+P103-R103 -> 8.4 | V103: 일
A104: 작업일수= | B104: 30 | C104: 10.4 | D104: = | E104: 20 | F104: 일 | N104: 작업일수= | O104: =R102 -> 30 | P104: =T103 -> 8.4 | Q104: = | R104: =O104-P104 -> 21.6 | S104: 일
A107: 10월 | N107: 10월
A108: 비작업일수 = A+B-C | N108: 비작업일수 = A+B-C
A109: A : | B109: 해당 월에 기후여건으로 인해 계획된 공종의 작업이 불가능한 일수 | I109: 10월 | K109: 2.6 | L109: 일 | N109: A : | O109: 해당 월에 기후여건으로 인해 계획된 공종의 작업이 불가능한 일수 | W109: 10월 | Y109: 2.6 | Z109: 일
A110: B : | B110: 해당 월에 포함된 법정 공휴일수 | I110: 10월 | K110: 6 | L110: 일 | N110: B : | O110: 해당 월에 포함된 법정 공휴일수 | W110: 10월 | Y110: 8 | Z110: 일
A111: C : | B111: 월별 중복일수(C)=A*B/달력일수(소수점 첫째자리에서 반올림) | N111: C : | O111: 월별 중복일수(C)=A*B/달력일수(소수점 첫째자리에서 반올림)
A112: C : = | B112: 2.6 | C112: 6 | D112: / | E112: 31 | F112: = | G112: 1 | H112: 일 | N112: C : = | O112: 2.6 | P112: =Y110 -> 8 | Q112: / | R112: 31 | S112: = | T112: =O112*P112/R112 -> 0.67096774 | U112: 1 | V112: 일
A113: 비작업일수= | B113: 2.6 | C113: 6 | D113: - | E113: 1 | F113: = | G113: 7.6 | H113: 일 | N113: 비작업일수= | O113: 2.6 | P113: =P112 -> 8 | Q113: - | R113: =U112 -> 1 | S113: = | T113: =O113+P113-R113 -> 9.6 | V113: 일
A114: 작업일수= | B114: 31 | C114: 7.6 | D114: = | E114: 24 | F114: 일 | N114: 작업일수= | O114: =R112 -> 31 | P114: =T113 -> 9.6 | Q114: = | R114: =O114-P114 -> 21.4 | S114: 일
A117: 11월 | N117: 11월
...

Sheet 기상상태
A1: 기상상태에 따른 지역별 비작업일수(2008년-2017년)
A3: (1) 혹서기 : 35°C 이상 | S3: 작업불가능일수
A4: 번호 | B4: 도 | C4: 지역 | D4: 월평균 기상데이터 | P4: 소계 | S4: 1월 | T4: 3.2
D5: 1월 | E5: 2월 | F5: 3월 | G5: 4월 | H5: 5월 | I5: 6월 | J5: 7월 | K5: 8월 | L5: 9월 | M5: 10월 | N5: 11월 | O5: 12월 | S5: 2월 | T5: 2
A6: 34 | B6: 경상북도 | C6: 경주시 | D6: 0 | E6: 0 | F6: 0 | G6: 0 | H6: 0.3 | I6: 0.1 | J6: 3.8 | K6: 3.9 | L6: 0.1 | M6: 0 | N6: 0 | O6: 0 | P6: 8.2 | S6: 3월 | T6: 3.5
A7: 35 | B7: 경상북도 | C7: 구미 | D7: 0 | E7: 0 | F7: 0 | G7: 0 | H7: 0.2 | I7: 0 | J7: 1.4 | K7: 4.2 | L7: 0 | M7: 0 | N7: 0 | O7: 0 | P7: 5.8 | S7: 4월 | T7: 4.5
A8: 36 | B8: 경상북도 | C8: 문경 | D8: 0 | E8: 0 | F8: 0 | G8: 0 | H8: 0 | I8: 0.1 | J8: 0 | K8: 1.4 | L8: 0 | M8: 0 | N8: 0 | O8: 0 | P8: 1.5 | S8: 5월 | T8: 3.7
A9: 37 | B9: 경상북도 | C9: 봉화 | D9: 0 | E9: 0 | F9: 0 | G9: 0 | H9: 0 | I9: 0 | J9: 0 | K9: 0.3 | L9: 0 | M9: 0 | N9: 0 | O9: 0 | P9: 0.3 | S9: 6월 | T9: 4.4
A10: 38 | B10: 경상북도 | C10: 상주 | D10: 0 | E10: 0 | F10: 0 | G10: 0 | H10: 0.1 | I10: 0.4 | J10: 0.7 | K10: 3.6 | L10: 0 | M10: 0 | N10: 0 | O10: 0 | P10: 4.8 | S10: 7월 | T10: 12.6
A11: 39 | B11: 경상북도 | C11: 안동 | D11: 0 | E11: 0 | F11: 0 | G11: 0 | H11: 0 | I11: 0.2 | J11: 1 | K11: 3.7 | L11: 0 | M11: 0 | N11: 0 | O11: 0 | P11: 4.9 | S11: 8월 | T11: 13.3
A12: 40 | B12: 경상북도 | C12: 영덕 | D12: 0 | E12: 0 | F12: 0 | G12: 0 | H12: 0.1 | I12: 0.4 | J12: 3 | K12: 3.4 | L12: 0 | M12: 0 | N12: 0 | O12: 0 | P12: 6.9 | S12: 9월 | T12: 4.4
A13: 41 | B13: 경상북도 | C13: 영주 | D13: 0 | E13: 0 | F13: 0 | G13: 0 | H13: 0.1 | I13: 0 | J13: 0.3 | K13: 1.4 | L13: 0 | M13: 0 | N13: 0 | O13: 0 | P13: 1.8 | S13: 10월 | T13: 2.6
A14: 42 | B14: 경상북도 | C14: 영천 | D14: 0 | E14: 0 | F14: 0 | G14: 0 | H14: 0.3 | I14: 0.1 | J14: 3.4 | K14: 4.3 | L14: 0 | M14: 0 | N14: 0 | O14: 0 | P14: 8.1 | S14: 11월 | T14: 2.2
A15: 43 | B15: 경상북도 | C15: 울릉도 | D15: 0 | E15: 0 | F15: 0 | G15: 0 | H15: 0 | I15: 0 | J15: 0 | K15: 0.2 | L15: 0 | M15: 0 | N15: 0 | O15: 0 | P15: 0.2 | S15: 12월 | T15: 2.7
A16: 44 | B16: 경상북도 | C16: 울진 | D16: 0 | E16: 0 | F16: 0 | G16: 0 | H16: 0 | I16: 0.1 | J16: 0.6 | K16: 0.9 | L16: 0 | M16: 0 | N16: 0 | O16: 0 | P16: 1.6
A17: 45 | B17: 경상북도 | C17: 청송군 | D17: 0 | E17: 0 | F17: 0 | G17: 0 | H17: 0.1 | I17: 0.2 | J17: 0.6 | K17: 1.7 | L17: 0 | M17: 0 | N17: 0 | O17: 0 | P17: 2.6
A18: 46 | B18: 경상북도 | C18: 포항 | D18: 0 | E18: 0 | F18: 0 | G18: 0 | H18: 0 | I18: 0.2 | J18: 3.3 | K18: 3.2 | L18: 0 | M18: 0 | N18: 0 | O18: 0 | P18: 6.7
A19: 47 | B19: 광주광역시 | C19: 광주 | D19: 0 | E19: 0 | F19: 0 | G19: 0 | H19: 0 | I19: 0 | J19: 1.1 | K19: 3.4 | L19: 0 | M19: 0 | N19: 0 | O19: 0 | P19: 4.5
A20: 48 | B20: 대구광역시 | C20: 고산 | D20: 0 | E20: 0 | F20: 0 | G20: 0 | H20: 0 | I20: 0 | J20: 0 | K20: 0.1 | L20: 0 | M20: 0 | N20: 0 | O20: 0 | P20: 0.1
A21: 49 | B21: 대구광역시 | C21: 대구 | D21: 0 | E21: 0 | F21: 0 | G21: 0 | H21: 0.4 | I21: 0.5 | J21: 5.4 | K21: 5.9 | L21: 0.1 | M21: 0 | N21: 0 | O21: 0 | P21: 12.3
A22: 50 | B22: 대구광역시 | C22: 대구 기상대 | D22: 0 | E22: 0 | F22: 0 | G22: 0 | H22: 0.2 | I22: 0 | J22: 0.4 | K22: 0 | L22: 0 | M22: 0 | N22: 0 | O22: 0 | P22: 0.6
A24: (5) 동절기 : 일최고기온 0°C 이하 및 신적설 5m 이상 | Q24: 공종별 표준작업량
A25: 번호 | B25: 도 | C25: 지역 | D25: 월평균 기상데이터 | P25: 소계 | Q25: 공 종 | R25: 규 격 | S25: 표준작업량 | T25: 단 위
D26: 1월 | E26: 2월 | F26: 3월 | G26: 4월 | H26: 5월 | I26: 6월 | J26: 7월 | K26: 8월 | L26: 9월 | M26: 10월 | N26: 11월 | O26: 12월 | Q26: 보조기층 | S26: 550 | T26: ㎥/일
A27: 34 | B27: 경상북도 | C27: 경주시 | D27: 2.2 | E27: 0.8 | F27: 0 | G27: 0 | H27: 0 | I27: 0 | J27: 0 | K27: 0 | L27: 0 | M27: 0 | N27: 0 | O27: 1.1 | P27: 4.1 | Q27: 택코팅 | S27: 20000 | T27: ㎡/일
A28: 35 | B28: 경상북도 | C28: 구미 | D28: 4.6 | E28: 0.5 | F28: 0.1 | G28: 0 | H28: 0 | I28: 0 | J28: 0 | K28: 0 | L28: 0 | M28: 0 | N28: 0.1 | O28: 2 | P28: 7.3 | Q28: 프라임코팅 | S28: 20000 | T28: ㎡/일
A29: 36 | B29: 경상북도 | C29: 문경 | D29: 7.1 | E29: 1.8 | F29: 0 | G29: 0 | H29: 0 | I29: 0 | J29: 0 | K29: 0 | L29: 0 | M29: 0 | N29: 0 | O29: 5 | P29: 13.9 | Q29: 기층 | R29: 5~7Cm | S29: 4900 | T29: ㎡/일
A30: 37 | B30: 경상북도 | C30: 봉화 | D30: 8.3 | E30: 2.3 | F30: 0.3 | G30: 0 | H30: 0 | I30: 0 | J30: 0 | K30: 0 | L30: 0 | M30: 0 | N30: 0.1 | O30: 6.3 | P30: 17.3 | Q30: 기층2 | R30: 8~10Cm | S30: 4500 | T30: ㎡/일
A31: 38 | B31: 경상북도 | C31: 상주 | D31: 6.7 | E31: 1.4 | F31: 0.1 | G31: 0 | H31: 0 | I31: 0 | J31: 0 | K31: 0 | L31: 0 | M31: 0 | N31: 0 | O31: 4.6 | P31: 12.8 | Q31: 중간층 | R31: 5~7Cm | S31: 4800 | T31: ㎡/일
A32: 39 | B32: 경상북도 | C32: 안동 | D32: 5.7 | E32: 1.2 | F32: 0.2 | G32: 0 | H32: 0 | I32: 0 | J32: 0 | K32: 0 | L32: 0 | M32: 0 | N32: 0 | O32: 3.8 | P32: 10.9 | Q32: 표층 | R32: 5~7Cm | S32: 4800 | T32: ㎡/일
A33: 40 | B33: 경상북도 | C33: 영덕 | D33: 2.5 | E33: 0.4 | F33: 0 | G33: 0 | H33: 0 | I33: 0 | J33: 0 | K33: 0 | L33: 0 | M33: 0 | N33: 0 | O33: 1.5 | P33: 4.4 | Q33: 콘크리트표층 | R33: 1차로 | S33: 300 | T33: ㎥/일
A34: 41 | B34: 경상북도 | C34: 영주 | D34: 9 | E34: 2.3 | F34: 0.1 | G34: 0 | H34: 0 | I34: 0 | J34: 0 | K34: 0 | L34: 0 | M34: 0 | N34: 0.1 | O34: 6.3 | P34: 17.8 | Q34: 콘크리트표층2 | R34: 2차로 | S34: 700 | T34: ㎥/일
A35: 42 | B35: 경상북도 | C35: 영천 | D35: 2.7 | E35: 0.6 | F35: 0 | G35: 0 | H35: 0 | I35: 0 | J35: 0 | K35: 0 | L35: 0 | M35: 0 | N35: 0 | O35: 1.6 | P35: 4.9 | Q35: 포장절단및 줄눈설치 | S35: 3 | T35: 일
A36: 43 | B36: 경상북도 | C36: 울릉도 | D36: 11.3 | E36: 8.4 | F36: 1.1 | G36: 0 | H36: 0 | I36: 0 | J36: 0 | K36: 0 | L36: 0 | M36: 0 | N36: 0.1 | O36: 5.9 | P36: 26.8 | Q36: 차선도색 | S36: 3 | T36: 일
A37: 44 | B37: 경상북도 | C37: 울진 | D37: 2 | E37: 1.5 | F37: 0.1 | G37: 0 | H37: 0 | I37: 0 | J37: 0 | K37: 0 | L37: 0 | M37: 0 | N37: 0 | O37: 0.5 | P37: 4.1 | Q37: 노면절삭 | R37: 50mm | S37: 5000 | T37: 일
A38: 45 | B38: 경상북도 | C38: 청송군 | D38: 4.4 | E38: 1.8 | F38: 0 | G38: 0 | H38: 0 | I38: 0 | J38: 0 | K38: 0 | L38: 0 | M38: 0 | N38: 0 | O38: 3.5 | P38: 9.7 | Q38: 표지판설치 | S38: 8 | T38: 개/일
A39: 46 | B39: 경상북도 | C39: 포항 | D39: 1 | E39: 0.3 | F39: 0.2 | G39: 0 | H39: 0 | I39: 0 | J39: 0 | K39: 0 | L39: 0 | M39: 0 | N39: 0 | O39: 0.6 | P39: 2.1 | Q39: 표지판철거 | S39: 16 | T39: 개/일
A40: 47 | B40: 광주광역시 | C40: 광주 | D40: 4.9 | E40: 1 | F40: 0.1 | G40: 0 | H40: 0 | I40: 0 | J40: 0 | K40: 0 | L40: 0 | M40: 0 | N40: 0.3 | O40: 2.9 | P40: 9.2
A41: 48 | B41: 대구광역시 | C41: 고산 | D41: 0.1 | E41: 0.1 | F41: 0 | G41: 0 | H41: 0 | I41: 0 | J41: 0 | K41: 0 | L41: 0 | M41: 0 | N41: 0 | O41: 0 | P41: 0.2
A42: 49 | B42: 대구광역시 | C42: 대구 | D42: 2.2 | E42: 0.4 | F42: 0.1 | G42: 0 | H42: 0 | I42: 0 | J42: 0 | K42: 0 | L42: 0 | M42: 0 | N42: 0 | O42: 1.3 | P42: 4
A43: 50 | B43: 대구광역시 | C43: 대구 기상대 | D43: 0.1 | E43: 0 | F43: 0 | G43: 0 | H43: 0 | I43: 0 | J43: 0 | K43: 0 | L43: 0 | M43: 0 | N43: 0 | O43: 0.1 | P43: 0.2
A45: (7) 일강수량 : 5㎜ 이상
A46: 번호 | B46: 도 | C46: 지역 | D46: 월평균 기상데이터 | P46: 소계
D47: 1월 | E47: 2월 | F47: 3월 | G47: 4월 | H47: 5월 | I47: 6월 | J47: 7월 | K47: 8월 | L47: 9월 | M47: 10월 | N47: 11월 | O47: 12월
A48: 34 | B48: 경상북도 | C48: 경주시 | D48: 1 | E48: 1.2 | F48: 2.4 | G48: 4.2 | H48: 2.2 | I48: 2.9 | J48: 4 | K48: 4.7 | L48: 4.7 | M48: 2.8 | N48: 1.7 | O48: 1.2 | P48: 33
A49: 35 | B49: 경상북도 | C49: 구미 | D49: 0.7 | E49: 1.5 | F49: 2.7 | G49: 4.3 | H49: 2.8 | I49: 3.7 | J49: 7.2 | K49: 7.1 | L49: 4 | M49: 2.8 | N49: 2.7 | O49: 1.2 | P49: 40.7
A50: 36 | B50: 경상북도 | C50: 문경 | D50: 0.8 | E50: 1.7 | F50: 2.9 | G50: 4.6 | H50: 3.4 | I50: 4.3 | J50: 9.4 | K50: 8.1 | L50: 3.9 | M50: 3.1 | N50: 2.8 | O50: 1.8 | P50: 46.8
A51: 37 | B51: 경상북도 | C51: 봉화 | D51: 0.6 | E51: 1.4 | F51: 3 | G51: 4.8 | H51: 3.4 | I51: 4.4 | J51: 8.4 | K51: 8.4 | L51: 3.8 | M51: 2.6 | N51: 2 | O51: 1.7 | P51: 44.5
A52: 38 | B52: 경상북도 | C52: 상주 | D52: 1.1 | E52: 1.5 | F52: 3 | G52: 4.2 | H52: 2.9 | I52: 3.9 | J52: 7.3 | K52: 8.2 | L52: 4.4 | M52: 3 | N52: 2.6 | O52: 1.8 | P52: 43.9
A53: 39 | B53: 경상북도 | C53: 안동 | D53: 0.6 | E53: 1.3 | F53: 2.9 | G53: 4.3 | H53: 3.2 | I53: 3.9 | J53: 7.4 | K53: 8.3 | L53: 4 | M53: 2.8 | N53: 2.6 | O53: 1.4 | P53: 42.7
A54: 40 | B54: 경상북도 | C54: 영덕 | D54: 1.4 | E54: 2.1 | F54: 2.7 | G54: 3.9 | H54: 2.5 | I54: 3.3 | J54: 5.4 | K54: 6.4 | L54: 4.8 | M54: 3.1 | N54: 3.4 | O54: 1.7 | P54: 40.7
A55: 41 | B55: 경상북도 | C55: 영주 | D55: 0.6 | E55: 1.5 | F55: 3.3 | G55: 5.1 | H55: 3.4 | I55: 4.7 | J55: 8.9 | K55: 9 | L55: 4.2 | M55: 2.6 | N55: 2.5 | O55: 1.8 | P55: 47.6
A56: 42 | B56: 경상북도 | C56: 영천 | D56: 0.7 | E56: 1.7 | F56: 3.1 | G56: 5 | H56: 3.6 | I56: 3.8 | J56: 7.3 | K56: 6.6 | L56: 4.6 | M56: 2.8 | N56: 2.1 | O56: 1.5 | P56: 42.8
A57: 43 | B57: 경상북도 | C57: 울릉도 | D57: 9.5 | E57: 6.8 | F57: 4.7 | G57: 5.1 | H57: 3.4 | I57: 2.8 | J57: 4.3 | K57: 5.1 | L57: 5 | M57: 4.9 | N57: 7.1 | O57: 9 | P57: 67.7
A58: 44 | B58: 경상북도 | C58: 울진 | D58: 2.5 | E58: 2.6 | F58: 3.2 | G58: 4.2 | H58: 2.4 | I58: 3.1 | J58: 6.1 | K58: 6.8 | L58: 4.8 | M58: 3.4 | N58: 3.6 | O58: 2.1 | P58: 44.8
A59: 45 | B59: 경상북도 | C59: 청송군 | D59: 0.3 | E59: 1.2 | F59: 1.7 | G59: 3.2 | H59: 2.3 | I59: 2.4 | J59: 4.6 | K59: 5.5 | L59: 3.7 | M59: 2.7 | N59: 1.8 | O59: 0.9 | P59: 30.3
... A64: 50 | B64: 대구광역시 | C64: 대구 기상대 | D64: 0.2 | E64: 0.2 | F64: 0.8 | G64: 1.1 | H64: 0.5 | I64: 0.2 | J64: 0.6 | K64: 1.3 | L64: 0.4 | M64: 0.7 | N64: 0.4 | O64: 0.1 | P64: 6.5
A66: 법정 공휴일수(2019-2028년)
A67: 번호 | B67: 구분 | C67: 월간 법정공휴일 | O67: 소계
C68: 1월 | D68: 2월 | E68: 3월 | F68: 4월 | G68: 5월 | H68: 6월 | I68: 7월 | J68: 8월 | K68: 9월 | L68: 10월 | M68: 11월 | N68: 12월
A69: 1 | B69: 2019년 | C69: 5 | D69: 7 | E69: 6 | F69: 4 | G69: 6 | H69: 6 | I69: 4 | J69: 5 | K69: 8 | L69: 6 | M69: 4 | N69: 6 | O69: 67
A70: 2 | B70: 2020년 | C70: 8 | D70: 4 | E70: 5 | F70: 5 | G70: 7 | H70: 5 | I70: 4 | J70: 6 | K70: 5 | L70: 8 | M70: 5 | N70: 5 | O70: 67
A71: 3 | B71: 2021년 | C71: 6 | D71: 8 | E71: 5 | F71: 4 | G71: 8 | H71: 4 | I71: 4 | J71: 5 | K71: 7 | L71: 6 | M71: 4 | N71: 5 | O71: 66
A72: 4 | B72: 2022년 | C72: 7 | D72: 6 | E72: 5 | F72: 4 | G72: 6 | H72: 5 | I72: 5 | J72: 5 | K72: 7 | L72: 6 | M72: 4 | N72: 4 | O72: 64
A73: 5 | B73: 2023년 | C73: 8 | D73: 4 | E73: 5 | F73: 5 | G73: 7 | H73: 5 | I73: 5 | J73: 5 | K73: 7 | L73: 8 | M73: 4 | N73: 6 | O73: 69
A74: 6 | B74: 2024년 | C74: 5 | D74: 7 | E74: 6 | F74: 4 | G74: 7 | H74: 6 | I74: 4 | J74: 5 | K74: 8 | L74: 6 | M74: 4 | N74: 6 | O74: 68
A75: 7 | B75: 2025년 | C75: 8 | D75: 4 | E75: 6 | F75: 4 | G75: 7 | H75: 6 | I75: 4 | J75: 6 | K75: 4 | L75: 9 | M75: 5 | N75: 5 | O75: 68
A76: 8 | B76: 2026년 | C76: 5 | D76: 7 | E76: 5 | F76: 4 | G76: 7 | H76: 5 | I76: 4 | J76: 6 | K76: 8 | L76: 6 | M76: 5 | N76: 5 | O76: 67
A77: 9 | B77: 2027년 | C77: 6 | D77: 7 | E77: 5 | F77: 4 | G77: 8 | H77: 4 | I77: 4 | J77: 5 | K77: 7 | L77: 6 | M77: 4 | N77: 5 | O77: 65
A78: 10 | B78: 2028년 | C78: 9 | D78: 4 | E78: 5 | F78: 5 | G78: 7 | H78: 5 | I78: 5 | J78: 5 | K78: 4 | L78: 9 | M78: 4 | N78: 6 | O78: 68
A80: 월별 달력일수
A81: 1월 | B81: 2월 | C81: 3월 | D81: 4월 | E81: 5월 | F81: 6월 | G81: 7월 | H81: 8월 | I81: 9월 | J81: 10월 | K81: 11월 | L81: 12월
A82: 31 | B82: 28 | C82: 31 | D82: 30 | E82: 31 | F82: 30 | G82: 31 | H82: 31 | I82: 30 | J82: 31 | K82: 30 | L82: 31
