Workbook
Name _: #N/A
Name ____HSH1: #REF!
Name ____HSH1: #REF!
Name ____HSH2: #REF!
Name ____HSH2: #REF!
Name ____NP1: #REF!
Name ____NP1: #REF!
Name ____NP2: #REF!
Name ____NP2: #REF!
Name ____NSH1: #REF!
Name ____NSH1: #REF!
Name ____NSH2: #REF!
Name ____NSH2: #REF!
Name ____SBB1: #REF!
Name ____SBB1: #REF!
Name ____SBB2: #REF!
Name ____SBB2: #REF!
Name ____SBB3: #REF!
Name ____SBB3: #REF!
Name ____SBB4: #REF!
Name ____SBB4: #REF!
Name ____SBB5: #REF!
Name ____SBB5: #REF!
Name ____SH2: #REF!
Name ____SH2: #REF!
Name ____SHH1: #REF!
Name ____SHH1: #REF!
Name ____SHH2: #REF!
Name ____SHH2: #REF!
Name ____SHH3: #REF!
Name ____SHH3: #REF!
Name ____ST1: #REF!
Name ____ST1: #REF!
Name ___10: #REF!
Name ___10: #REF!
Name ___11: #REF!
Name ___11: #REF!
Name ___6: #REF!
Name ___6: #REF!
Name ___7: #REF!
Name ___7: #REF!
Name ___8: #REF!
Name ___8: #REF!
Name ___9: #REF!
Name ___9: #REF!
Name ___a1: #REF!
Name ___a1: #REF!
Name ___A100000: #N/A
Name ___A69999: #N/A
Name ___A99999: #N/A
Name ___aab42: #REF!
Name ___aab42: #REF!
Name ___C: #REF!
Name ___C: #REF!
Name ___CON135: #REF!
Name ___CON135: #REF!
Name ___CON210: #REF!
Name ___CON210: #REF!
Name ___CON240: #REF!
Name ___CON240: #REF!

Sheet 표지
A6: 부안군 상수도관망 유지관리 및 누수탐사용역(1차분)
A9: 설 계 내 역 서
F15: 2026. 10
A24: 부 안 군

Sheet 갑지
A1: 설계년월일 | E1: 2026. 10. | L1: 설계자 | S1: 심사자 | Z1: 팀 장 | AG1: 과 장
D5: =표지!A6 -> 부안군 상수도관망 유지관리 및 누수탐사용역(1차분)
G8: ○ 과 업 위 치
H9: ㆍ지방상수도 현대화사업 구역 : 부안1, 부안3, 유정2중블록(3개 중블록, 7개 소블록)
G12: ○ 과 업 개 요
H13: ㆍ유량 및 수압분석 : 1식
H14: ㆍ블록고립확인 : 1식
H15: ㆍ누수탐사 : 1식
H16: ㆍ상수도관망시설의 점검·정비 : 1식
H17: ㆍ성과품 작성 : 1식
F21: 용 역 비 : | L21: ="일금 "&NUMBERSTRING(AA21,1)&"원정" -> 일금 오억원정 | Z21: ( | AA21: =내역집계표!B4 -> 5e+08 | AI21: )

Sheet 설계설명서
A1: 설 계 설 명 서
B2: 1. | C2: 용역명 | D2: : | E2: =표지!A6 -> 부안군 상수도관망 유지관리 및 누수탐사용역(1차분)
B4: 2. | C4: 위치 | D4: : | E4: 지방상수도 현대화사업 구역 : 부안1, 부안3, 유정2중블록(7개 소블록)
B7: 3. | C7: 목적 | D7: : | E7: 본 과업은 수도법 제21조의 2(상수도관망의 관리) 및 지방상수도 현대화사업 업무처리지침(환경부, 2021.1)에 의거
E8: 부안군 급수구역을 대상으로 상수관망 전문 유지관리를 위한 것으로 유량 및 수압관리를 통해 유수율 분석 및
E9: 블록의 운영상 문제점을 파악하여 대책을 강구하고 지속적인 상수도관망의 유지관리를 통해 유수율 85% 이상 유지
E10: 관리와 안정적인 급수 및 맑고 깨끗한 수돗물을 공급하고, 효율적인 상수도관망의 유지관리를 위한 토대를 마련하여
E11: 상수도 예산집행과 경영합리화에 이바지하는데 그 목적이 있다.
B13: 4. | C13: 용역기간 | D13: : | E13: 착수일로부터 60개월간
B15: 5. | C15: 용역범위 | D15: : | E15: 유량 및 수압분석 | I15: : 1식
E16: 블록고립확인 | I16: : 1식
E17: 누수탐사 | I17: : 1식
E18: 상수도관망시설의 점검·정비 | I18: : 1식
E19: 유수율 성과검증 | I19: : 1식
E20: 성과품 작성 | I20: : 1식

Sheet 목차
E2: 목 차
D4: 1. | E4: 내역집계표
D5: 2. | E5: 설계내역서
D6: 3. | E6: 수량산출서
D7: 4. | E7: 일위대가표
D8: 5. | E8: 단가산출서
D9: 6. | E9: 산출근거
D10: 7. | E10: 손해배상보험료산출

Sheet 간지1
C15: 1. 내 역 집 계 표

Sheet 간지2
C15: 2. 설 계 내 역 서

Sheet 내역집계표
A2: =표지!A6 -> 부안군 상수도관망 유지관리 및 누수탐사용역(1차분)
A4: ㅇ 용 역 비 : | B4: =B21 -> 5e+08
A5: - 순 용 역 비 : | B5: =B16 -> 4.4361945e+08
A6: - 손해배상공제 : | B6: =B17 -> 8326000
A7: - 부가가치세 : | B7: =B20 -> 45454545
A9: ㅇ 내 역 서
A10: 구 분 | B10: 금 액 (원) | C10: 비 고
A11: 1. 직접인건비 | B11: =설계내역서!G5 -> 173231576
A12: 2. 제경비(직접인건비의 110~120%) | B12: =설계내역서!K50 -> 190554734 | C12: 110% 적용
A13: 3. 기술료((직접인건비+제경비)의 20~40% | B13: =설계내역서!K51 -> 72757262 | C13: 20%적용
A14: 4. 직접경비 | B14: =설계내역서!K52 -> 7142300
A15: 단수조정 | B15: =설계내역서!E56 -> -66417
A16: 순용역비 | B16: =설계내역서!E58 -> 4.4361945e+08
A17: 5. 손해배상공제 | B17: =설계내역서!E60 -> 8326000
A18: 6. 산업안전보건관리비 | B18: =설계내역서!E62 -> 2600000
A19: 합계 | B19: =설계내역서!E64 -> 4.5454545e+08
A20: 6. 부가가치세 | B20: =설계내역서!E66 -> 45454545
A21: 용 역 비 | B21: =B19+B20 -> 5e+08

Sheet 설계내역서
A1: 설 계 내 역 서
A2: ="□ 용역명 : "&표지!A6 -> □ 용역명 : 부안군 상수도관망 유지관리 및 누수탐사용역(1차분)
A3: 구 분 | B3: 규 격 | C3: 단 위 | D3: 수 량 | E3: 총 액 | F3: 노 무 비 | H3: 재 료 비 | J3: 경 비 | L3: 비 고
F4: 단 가 | G4: 금 액 | H4: 단 가 | I4: 금 액 | J4: 단 가 | K4: 금 액
A5: Ⅰ. 직접인건비 | E5: =G5+I5+K5 -> 173231576 | G5: =G6+G9+G28+G38+G40+G43 -> 173231576 | I5: =I6+I9+I28+I38+I40+I43 -> 0 | K5: =K6+K9+K28+K38+K40+K43 -> 0
A6: =수량산출서!A3 -> 1. 작업준비 및 계획 | E6: =G6+I6+K6 -> 11979465 | G6: =G7+G8 -> 11979465 | I6: =I7+I8 -> 0 | K6: =K7+K8 -> 0
A7: =수량산출서!A4 -> 가. 자료수집 및 준비 | C7: =수량산출서!B4 -> 식 | D7: =수량산출서!F4 -> 1 | E7: =G7+I7+K7 -> 3861033 | F7: ='일위대가 총괄'!$H$4 -> 3861033 | G7: =ROUND(D7*F7,0) -> 3861033 | L7: ='일위대가 총괄'!$A$4 -> 1
A8: =수량산출서!A5 -> 나. 현장시설물 현황조사 | C8: =수량산출서!B5 -> km | D8: =수량산출서!F5 -> 144 | E8: =G8+I8+K8 -> 8118432 | F8: ='일위대가 총괄'!$H$5 -> 56378 | G8: =ROUND(D8*F8,0) -> 8118432 | L8: ='일위대가 총괄'!$A$5 -> 2
A9: =수량산출서!A6 -> 2. 상수도관망의 누수탐사 | E9: =G9+I9+K9 -> 100647329 | G9: =G10+G14+G17+G27 -> 100647329 | I9: =I10+I14+I17+I27 -> 0 | K9: =K10+K14+K17+K27 -> 0
A10: =수량산출서!A7 -> 가. 유량 및 수압분석 | E10: =G10+I10+K10 -> 21850080 | G10: =G11+G12+G13 -> 21850080 | I10: =I11+I12+I13 -> 0 | K10: =K11+K12+K13 -> 0
A11: =수량산출서!A8 -> 1) 유량분석 | C11: =수량산출서!B8 -> 회 | D11: 40 | E11: =G11+I11+K11 -> 15696480 | F11: ='일위대가 총괄'!$H$6 -> 392412 | G11: =ROUND(D11*F11,0) -> 15696480 | L11: ='일위대가 총괄'!$A$6 -> 3
A12: =수량산출서!A9 -> 0) 수압측정 | C12: =수량산출서!B9 -> 회 | D12: =수량산출서!F9 -> 0 | E12: =G12+I12+K12 -> 0 | F12: ='일위대가 총괄'!$H$7 -> 538470 | G12: =ROUND(D12*F12,0) -> 0 | L12: ='일위대가 총괄'!$A$7 -> 0
A13: =수량산출서!A10 -> 2) 수압분석 | C13: =수량산출서!B10 -> 회 | D13: 40 | E13: =G13+I13+K13 -> 6153600 | F13: ='일위대가 총괄'!$H$8 -> 153840 | G13: =ROUND(D13*F13,0) -> 6153600 | L13: ='일위대가 총괄'!$A$8 -> 4
A14: =수량산출서!A11 -> 나. 블록고립확인 | E14: =G14+I14+K14 -> 6156830 | G14: =G15+G16 -> 6156830 | I14: =I15+I16 -> 0 | K14: =K15+K16 -> 0
A15: =수량산출서!A12 -> 1) 경계밸브 조사 | C15: =수량산출서!B12 -> 소블록 | D15: 1 | E15: =G15+I15+K15 -> 1182704 | F15: ='일위대가 총괄'!$H$9 -> 1182704 | G15: =ROUND(D15*F15,0) -> 1182704 | L15: ='일위대가 총괄'!$A$9 -> 5
A16: =수량산출서!A13 -> 2) 블록고립 확인 | C16: =수량산출서!B13 -> 소블록 | D16: 1 | E16: =G16+I16+K16 -> 4974126 | F16: ='일위대가 총괄'!$H$10 -> 4974126 | G16: =ROUND(D16*F16,0) -> 4974126 | L16: ='일위대가 총괄'!$A$10 -> 6
A17: =수량산출서!A14 -> 다. 누수탐사 | E17: =G17+I17+K17 -> 69312334 | G17: =G18+G19+G20+G21+G22+G23+G24+G25+G26 -> 69312334 | I17: =I18+I19+I20+I21+I22+I23+I24+I25+I26 -> 0 | K17: =K18+K19+K20+K21+K22+K23+K24+K25+K26 -> 0
A18: =수량산출서!A15 -> 1) 단계시험 | C18: =수량산출서!B15 -> 소블록 | D18: 1 | E18: =G18+I18+K18 -> 5476861 | F18: ='일위대가 총괄'!$H$11 -> 5476861 | G18: =ROUND(D18*F18,0) -> 5476861 | L18: ='일위대가 총괄'!$A$11 -> 7
A19: =수량산출서!A16 -> 2) 원격누수감시 | C19: =수량산출서!B16 -> 소블록 | D19: 7 | E19: =G19+I19+K19 -> 8500485 | F19: ='일위대가 총괄'!$H$12 -> 1214355 | G19: =ROUND(D19*F19,0) -> 8500485 | L19: ='일위대가 총괄'!$A$12 -> 8
A20: =수량산출서!A17 -> 3) 하수도 유수조사 | C20: =수량산출서!B17 -> km | D20: 25.9 | E20: =G20+I20+K20 -> 3243535 | F20: ='일위대가 총괄'!$H$13 -> 125233 | G20: =ROUND(D20*F20,0) -> 3243535 | L20: ='일위대가 총괄'!$A$13 -> 9
A21: =수량산출서!A18 -> 4) 계량기 청음조사 | C21: =수량산출서!B18 -> 전 | D21: 800 | E21: =G21+I21+K21 -> 8844800 | F21: ='일위대가 총괄'!$H$14 -> 11056 | G21: =ROUND(D21*F21,0) -> 8844800 | L21: ='일위대가 총괄'!$A$14 -> 10
A22: =수량산출서!A19 -> 5) 관로노선 확인조사 | C22: =수량산출서!B19 -> km | D22: 12 | E22: =G22+I22+K22 -> 6567408 | F22: ='일위대가 총괄'!$H$15 -> 547284 | G22: =ROUND(D22*F22,0) -> 6567408 | L22: ='일위대가 총괄'!$A$15 -> 11
A23: =수량산출서!A20 -> 6) 상관식 누수탐사 | C23: =수량산출서!B20 -> km | D23: 20.93 | E23: =G23+I23+K23 -> 12705117 | F23: ='일위대가 총괄'!$H$16 -> 607029 | G23: =ROUND(D23*F23,0) -> 12705117 | L23: ='일위대가 총괄'!$A$16 -> 12
A24: =수량산출서!A21 -> 7) 노면음청 조사 | C24: =수량산출서!B21 -> km | D24: 28.52 | E24: =G24+I24+K24 -> 11157024 | F24: ='일위대가 총괄'!$H$17 -> 391200 | G24: =ROUND(D24*F24,0) -> 11157024 | L24: ='일위대가 총괄'!$A$17 -> 13
A25: =수량산출서!A22 -> 8) 누수확인 조사 | C25: =수량산출서!B22 -> 건 | D25: 48 | E25: =G25+I25+K25 -> 5735472 | F25: ='일위대가 총괄'!$H$18 -> 119489 | G25: =ROUND(D25*F25,0) -> 5735472 | L25: ='일위대가 총괄'!$A$18 -> 14
A26: =수량산출서!A23 -> 9) 누수복구 입회 | C26: =수량산출서!B23 -> 건 | D26: 48 | E26: =G26+I26+K26 -> 7081632 | F26: ='일위대가 총괄'!$H$19 -> 147534 | G26: =ROUND(D26*F26,0) -> 7081632 | L26: ='일위대가 총괄'!$A$19 -> 15
A27: =수량산출서!A24 -> 라. 보고서 작성 | C27: =수량산출서!B24 -> 식 | D27: =수량산출서!F24 -> 1 | E27: =G27+I27+K27 -> 3328085 | F27: ='일위대가 총괄'!$H$21 -> 3328085 | G27: =ROUND(D27*F27,0) -> 3328085 | L27: ='일위대가 총괄'!$A$21 -> 17
A28: =수량산출서!A25 -> 3. 상수도관망시설의 점검·정비 | E28: =G28+I28+K28 -> 4620893 | G28: =G29+G32+G37 -> 4620893 | I28: =I29+I32+I37 -> 0 | K28: =K29+K32+K37 -> 0
A29: =수량산출서!A26 -> 가. 관로 | E29: =G29+I29+K29 -> 380593 | G29: =G30+G31 -> 380593 | I29: =I30+I31 -> 0 | K29: =K30+K31 -> 0
A30: =수량산출서!A27 -> 1) 상수관로 상태점검 | C30: =수량산출서!B27 -> km | D30: 56.98 | E30: =G30+I30+K30 -> 294587 | F30: ='일위대가 총괄'!$H$22 -> 5170 | G30: =ROUND(D30*F30,0) -> 294587 | L30: ='일위대가 총괄'!$A$22 -> 18
A31: =수량산출서!A28 -> 2) 가압시설 상태점검 | C31: =수량산출서!B28 -> 개소 | D31: 1 | E31: =G31+I31+K31 -> 86006 | F31: ='일위대가 총괄'!$H$23 -> 86006 | G31: =ROUND(D31*F31,0) -> 86006 | L31: ='일위대가 총괄'!$A$23 -> 19
A32: =수량산출서!A29 -> 나. 밸브실 및 밸브류 | E32: =G32+I32+K32 -> 4240300 | G32: =G33+G34+G35+G36 -> 4240300 | I32: =I33+I34+I35+I36 -> 0 | K32: =K33+K34+K35+K36 -> 0
A33: =수량산출서!A30 -> 1) 제수밸브실 상태점검 | C33: =수량산출서!B30 -> 개소 | D33: 20 | E33: =G33+I33+K33 -> 300800 | F33: ='일위대가 총괄'!$H$24 -> 15040 | G33: =ROUND(D33*F33,0) -> 300800 | L33: ='일위대가 총괄'!$A$24 -> 20
A34: =수량산출서!A31 -> 2) 공기밸브실 상태점검 | C34: =수량산출서!B31 -> 개소 | D34: 20 | E34: =G34+I34+K34 -> 2023640 | F34: ='일위대가 총괄'!$H$25 -> 101182 | G34: =ROUND(D34*F34,0) -> 2023640 | L34: ='일위대가 총괄'!$A$25 -> 21
A35: =수량산출서!A32 -> 3) 이토밸브실 상태점검 | C35: =수량산출서!B32 -> 개소 | D35: 20 | E35: =G35+I35+K35 -> 1546020 | F35: ='일위대가 총괄'!$H$26 -> 77301 | G35: =ROUND(D35*F35,0) -> 1546020 | L35: ='일위대가 총괄'!$A$26 -> 22
A36: =수량산출서!A33 -> 4) 감압밸브실 상태점검 | C36: =수량산출서!B33 -> 개소 | D36: 6 | E36: =G36+I36+K36 -> 369840 | F36: =+'일위대가 총괄'!$H$27 -> 61640 | G36: =ROUND(D36*F36,0) -> 369840 | L36: ='일위대가 총괄'!$A$27 -> 23
A37: =수량산출서!A34 -> 다. 성과품 작성 | C37: =수량산출서!B34 -> 식 | E37: =G37+I37+K37 -> 0 | F37: =+'일위대가 총괄'!$H$28 -> 1343744 | G37: =ROUND(D37*F37,0) -> 0 | L37: ='일위대가 총괄'!$A$28 -> 24
A38: =수량산출서!A35 -> 0. 불량관 교체 계획 | E38: =G38+I38+K38 -> 0 | G38: =G39 -> 0 | I38: =I39 -> 0 | K38: =K39 -> 0
A39: =수량산출서!A36 -> 가. 부단수 내시경 조사 | C39: =수량산출서!B36 -> 개소 | D39: =수량산출서!F36 -> 0 | E39: =G39+I39+K39 -> 0 | F39: =+'일위대가 총괄'!$H$29 -> 1696096 | G39: =ROUND(D39*F39,0) -> 0 | L39: ='일위대가 총괄'!$A$29 -> 0
A40: =수량산출서!A37 -> 4. 관망도 보완(CAD) | E40: =G40+I40+K40 -> 2069119 | G40: =G41+G42 -> 2069119 | I40: =I41+I42 -> 0 | K40: =K41+K42 -> 0
A41: =수량산출서!A38 -> 가. 관망도 전산화 | C41: =수량산출서!B38 -> km | D41: 2.39 | E41: =G41+I41+K41 -> 733405 | F41: =+'일위대가 총괄'!$H$30 -> 306864 | G41: =ROUND(D41*F41,0) -> 733405 | L41: ='일위대가 총괄'!$A$30 -> 25
A42: =수량산출서!A39 -> 나. 속성정보 입력 | C42: =수량산출서!B39 -> km | D42: 2.39 | E42: =G42+I42+K42 -> 1335714 | F42: =+'일위대가 총괄'!$H$31 -> 558876 | G42: =ROUND(D42*F42,0) -> 1335714 | L42: ='일위대가 총괄'!$A$31 -> 26
A43: =수량산출서!A40 -> 5. 유수율 성과검증 | E43: =G43+I43+K43 -> 53914770 | G43: =G44+G49 -> 53914770 | I43: =I44+I49 -> 0 | K43: =K44+K49 -> 0
A44: =수량산출서!A41 -> 가. 현대화사업 성과보증 구역 | E44: =G44+I44+K44 -> 53914770 | G44: =G45+G46+G47 -> 53914770 | I44: =I45+I46+I47 -> 0 | K44: =K45+K46+K47 -> 0
A45: =수량산출서!A42 -> 1) 급수전조사 | C45: =수량산출서!B42 -> 전 | D45: 4095 | E45: =G45+I45+K45 -> 53914770 | F45: =+'일위대가 총괄'!$H$32 -> 13166 | G45: =ROUND(D45*F45,0) -> 53914770 | I45: =ROUND(H45*D45,0) -> 0 | L45: ='일위대가 총괄'!$A$32 -> 27
A46: =수량산출서!A43 -> 2) 유량계 비교측정 및 교정 | C46: =수량산출서!B43 -> 개소 | E46: =G46+I46+K46 -> 0 | F46: ='<단산29-35>'!$AG$14 -> 837000 | G46: =ROUND(D46*F46,0) -> 0 | K46: =K47 -> 0 | L46: ='<단산29-35>'!$A$2 -> 30
A47: =수량산출서!A44 -> 3) 수도미터 봉인 | C47: =수량산출서!B44 -> 개소 | D47: =수량산출서!F44 -> 0 | E47: =G47+I47+K47 -> 0 | F47: =+'일위대가 총괄'!$H$33 -> 3269 | G47: =ROUND(D47*F47,0) -> 0 | L47: ='일위대가 총괄'!$A$33 -> 28
A48: =수량산출서!A45 -> 3) 수도미터 봉인 | C48: =수량산출서!B45 -> 개소 | D48: =수량산출서!F45 -> 0 | E48: =G48+I48+K48 -> 0 | F48: =+'일위대가 총괄'!$H$33 -> 3269 | G48: =ROUND(D48*F48,0) -> 0 | I48: =I49 -> 0 | K48: =K49 -> 0 | L48: ='일위대가 총괄'!$A$33 -> 28
A49: =수량산출서!A46 -> 다. 성과관리 보고서작성 | C49: =수량산출서!B46 -> 소블록 | E49: =G49+I49+K49 -> 0 | F49: ='일위대가 총괄'!$H$34 -> 2820520 | G49: =ROUND(F49*D49,0) -> 0 | L49: ='일위대가 총괄'!$A$35 -> 0
A50: Ⅱ. 제경비 | B50: 직접인건비의 | C50: % | D50: 110 | E50: =G50+I50+K50 -> 190554734 | J50: =$G$5 -> 173231576 | K50: =ROUND(J50*D50%,0) -> 190554734
A51: Ⅲ. 기술료 | B51: (직∙인+제경비)의 | C51: % | D51: 20 | E51: =G51+I51+K51 -> 72757262 | J51: =$J$50+$K$50 -> 363786310 | K51: =ROUND(J51*D51%,0) -> 72757262
A52: Ⅳ. 직접경비 | E52: =G52+I52+K52 -> 7142300 | K52: =K53+K54 -> 7142300
A53: 3. 인쇄비 | C53: 식 | D53: 1 | E53: =G53+I53+K53 -> 1620000 | J53: ='<단산29-35>'!AK60 -> 1620000 | K53: =ROUND(D53*J53,0) -> 1620000 | L53: ='<단산29-35>'!$A$53 -> 33
A54: 4. 단수 및 고립시험 홍보비 | C54: 식 | D54: 1 | E54: =G54+I54+K54 -> 5522300 | J54: =+'<단산29-35>'!AL68 -> 5522300 | K54: =ROUND(D54*J54,0) -> 5522300 | L54: ='<단산29-35>'!$A$62 -> 34
A56: 단수조정 | E56: -66417
A58: 순용역비 | B58: Ⅰ+Ⅱ+Ⅲ+Ⅳ | E58: =E5+E50+E51+E52+E56 -> 4.4361945e+08
A60: 손해배상공제 | B60: 순용역비의 | E60: =손해배상보험!G21 -> 8326000
A62: 산업안전보건관리비 | E62: =+'<단산29-35>'!R98 -> 2600000 | L62: ='<단산29-35>'!$A$74 -> 35
A64: 공급가액 | B64: 순용역비+손배료+안전 | E64: =E58+E60+E62 -> 4.5454545e+08
A66: 부가가치세 | B66: 공급가액의 | C66: % | D66: 10 | E66: =ROUNDDOWN(E64*D66%,0) -> 45454545
A68: 총액 | E68: =E64+E66 -> 5e+08

Sheet 간지3
C15: 3. 수 량 산 출 서

Sheet 수량산출서
A1: 수 량 산 출 서
A2: 공 종 | B2: 단위 | C2: 현황수량 | D2: 총적용율 | E2: 적용율/년 | F2: 적용총괄 | G2: 1차분 | H2: 2차분 | I2: 3차분 | J2: 4차분 | K2: 5차분 | L2: 비 고
A3: 1. 작업준비 및 계획
A4: 가. 자료수집 및 준비 | B4: 식 | C4: 1 | D4: =+F4/C4 -> 1 | E4: 1 | F4: =SUM(G4:K4) -> 1 | G4: =+ROUND($C4*$E4,0) -> 1
A5: 나. 현장시설물 현황조사 | B5: km | C5: ='과업대상지역 현황'!$C$5 -> 478.5 | D5: =+F5/C5 -> 0.30094044 | E5: 0.3 | F5: =SUM(G5:K5) -> 144 | G5: =+ROUND(C5*30%,0) -> 144 | L5: * 현대화사업 지역 기존자료 활용 가능하므로 30% 적용
A6: 2. 상수도관망의 누수탐사
A7: 가. 유량 및 수압분석
A8: 1) 유량분석 | B8: 회 | C8: ='과업대상지역 현황'!$A$5 -> 7 | F8: =SUM(G8:K8) -> 420 | G8: 84 | H8: 84 | I8: 84 | J8: 84 | K8: 84 | L8: * 전체 사업 대상 소블록 년별 분석(7소블록) × 12개월 × 5년
A9: 0) 수압측정 | B9: 회 | C9: ='과업대상지역 현황'!$A$5*5 -> 35 | F9: =SUM(G9:K9) -> 0 | L9: * 전체 사업 대상 소블록 년별 분석(17소블록) × 1회 X 5개소, 20%/년 적용 - 임계지점, 평균수압지대, 고지대, 저지대, 관말지역 등 블록당 5개소 측정
A10: 2) 수압분석 | B10: 회 | C10: ='과업대상지역 현황'!$A$5 -> 7 | F10: =SUM(G10:K10) -> 420 | G10: 84 | H10: 84 | I10: 84 | J10: 84 | K10: 84 | L10: * 전체 사업 대상 소블록 년별 분석(7소블록) × 12개월 × 5년
A11: 나. 블록고립확인
A12: 1) 경계밸브 조사 | B12: 소블록 | C12: ='과업대상지역 현황'!$A$5 -> 7 | D12: =+F12/C12 -> 1 | F12: =SUM(G12:K12) -> 7 | G12: 1 | H12: 2 | I12: 1 | J12: 2 | K12: 1 | L12: * 대상 소블록 년별 분석(7소블록) × 1회
A13: 2) 블록고립 확인 | B13: 소블록 | C13: ='과업대상지역 현황'!$A$5 -> 7 | D13: =+F13/C13 -> 1 | F13: =SUM(G13:K13) -> 7 | G13: 1 | H13: 2 | I13: 1 | J13: 2 | K13: 1 | L13: * 대상 소블록 년별 분석(7소블록) × 1회
A14: 다. 누수탐사
A15: 1) 단계시험 | B15: 소블록 | C15: ='과업대상지역 현황'!$A$5 -> 7 | D15: =+F15/C15 -> 1 | F15: =SUM(G15:K15) -> 7 | G15: 1 | H15: 2 | I15: 1 | J15: 2 | K15: 1 | L15: * 전체 사업 대상 소블록(7소블록) × 1회
A16: 2) 원격누수감시 | B16: 소블록 | C16: ='과업대상지역 현황'!$A$5 -> 7 | D16: =+F16/C16 -> 5 | E16: 0.2 | F16: =SUM(G16:K16) -> 35 | G16: 7 | H16: 7 | I16: 7 | J16: 7 | K16: 7 | L16: * 전체 사업 대상 소블록(7소블록) × 1회 × 5년
A17: 3) 하수도 유수조사 | B17: km | C17: ='과업대상지역 현황'!$C$5 -> 478.5 | D17: =+F17/C17 -> 0.5 | E17: 0.1 | F17: =SUM(G17:K17) -> 239.25 | G17: =+ROUND($E17*$C17,2) -> 47.85 | H17: =+ROUND($E17*$C17,2) -> 47.85 | I17: =+ROUND($E17*$C17,2) -> 47.85 | J17: =+ROUND($E17*$C17,2) -> 47.85 | K17: =+ROUND($E17*$C17,2) -> 47.85 | L17: =E17 -> 0.1
A18: 4) 계량기 청음조사 | B18: 전 | C18: ='과업대상지역 현황'!$G$5 -> 8095 | D18: =+F18/C18 -> 1 | E18: 0.2 | F18: =SUM(G18:K18) -> 8095 | G18: =+ROUND($E18*$C18,0) -> 1619 | H18: =+ROUND($E18*$C18,0) -> 1619 | I18: =+ROUND($E18*$C18,0) -> 1619 | J18: =+ROUND($E18*$C18,0) -> 1619 | K18: =+ROUND($E18*$C18,0) -> 1619 | L18: =E18 -> 0.2
A19: 5) 관로노선 확인조사 | B19: km | C19: ='과업대상지역 현황'!$C$5 -> 478.5 | D19: =+F19/C19 -> 0.25005225 | E19: 0.05 | F19: =SUM(G19:K19) -> 119.65 | G19: =+ROUND($E19*$C19,2) -> 23.93 | H19: =+ROUND($E19*$C19,2) -> 23.93 | I19: =+ROUND($E19*$C19,2) -> 23.93 | J19: =+ROUND($E19*$C19,2) -> 23.93 | K19: =+ROUND($E19*$C19,2) -> 23.93 | L19: =E19 -> 0.05
A20: 6) 상관식 누수탐사 | B20: km | C20: ='과업대상지역 현황'!$C$5 -> 478.5 | D20: =+F20/C20 -> 0.5 | E20: 0.1 | F20: =SUM(G20:K20) -> 239.25 | G20: =+ROUND($E20*$C20,2) -> 47.85 | H20: =+ROUND($E20*$C20,2) -> 47.85 | I20: =+ROUND($E20*$C20,2) -> 47.85 | J20: =+ROUND($E20*$C20,2) -> 47.85 | K20: =+ROUND($E20*$C20,2) -> 47.85 | L20: =E20 -> 0.1
A21: 7) 노면음청 조사 | B21: km | C21: ='과업대상지역 현황'!$C$5 -> 478.5 | D21: =+F21/C21 -> 1.2500522 | E21: 0.25 | F21: =SUM(G21:K21) -> 598.15 | G21: =+ROUND($E21*$C21,2) -> 119.63 | H21: =+ROUND($E21*$C21,2) -> 119.63 | I21: =+ROUND($E21*$C21,2) -> 119.63 | J21: =+ROUND($E21*$C21,2) -> 119.63 | K21: =+ROUND($E21*$C21,2) -> 119.63 | L21: =E21 -> 0.25
A22: 8) 누수확인 조사 | B22: 건 | C22: ='과업대상지역 현황'!$I$47 -> 240 | D22: =+F22/C22 -> 1 | E22: 0.2 | F22: =SUM(G22:K22) -> 240 | G22: =+ROUND($C22*$E22,0) -> 48 | H22: =+ROUND($C22*$E22,0) -> 48 | I22: =+ROUND($C22*$E22,0) -> 48 | J22: =+ROUND($C22*$E22,0) -> 48 | K22: =+ROUND($C22*$E22,0) -> 48 | L22: * 7개 소블록 누수현황 통계, 20%/년 적용
A23: 9) 누수복구 입회 | B23: 건 | C23: ='과업대상지역 현황'!$I$47 -> 240 | D23: =+F23/C23 -> 1 | E23: 0.2 | F23: =SUM(G23:K23) -> 240 | G23: =+ROUND($C23*$E23,0) -> 48 | H23: =+ROUND($C23*$E23,0) -> 48 | I23: =+ROUND($C23*$E23,0) -> 48 | J23: =+ROUND($C23*$E23,0) -> 48 | K23: =+ROUND($C23*$E23,0) -> 48 | L23: * 7개 소블록 누수현황 통계, 20%/년 적용
A24: 라. 보고서 작성 | B24: 식 | C24: 1 | D24: =+F24/C24 -> 1 | E24: 1 | F24: =SUM(G24:K24) -> 1 | K24: 1
A25: 3. 상수도관망시설의 점검·정비
A26: 가. 관로
A27: 1) 상수관로 상태점검 | B27: km | C27: ='과업대상지역 현황'!$D$34 -> 284.88 | D27: =+F27/C27 -> 1.0000702 | E27: 0.2 | F27: =SUM(G27:K27) -> 284.9 | G27: =ROUND($C27*$E27,2) -> 56.98 | H27: =ROUND($C27*$E27,2) -> 56.98 | I27: =ROUND($C27*$E27,2) -> 56.98 | J27: =ROUND($C27*$E27,2) -> 56.98 | K27: =ROUND($C27*$E27,2) -> 56.98 | L27: * 상수도 관망시설의 점검정비 점검주기 고려 1회/년 적용, 20%적용(배수관로)
A28: 2) 가압시설 상태점검 | B28: 개소 | C28: ='과업대상지역 현황'!$D$36 -> 1 | D28: =+F28/C28 -> 5 | E28: 1 | F28: =SUM(G28:K28) -> 5 | G28: =ROUND($C28*$E28,0) -> 1 | H28: =ROUND($C28*$E28,0) -> 1 | I28: =ROUND($C28*$E28,0) -> 1 | J28: =ROUND($C28*$E28,0) -> 1 | K28: =ROUND($C28*$E28,0) -> 1 | L28: * 상수도 관망시설의 점검정비 점검주기 고려 1회/년 적용
A29: 나. 밸브실 및 밸브류
A30: 1) 제수밸브실 상태점검 | B30: 개소 | C30: ='과업대상지역 현황'!$D$37 -> 40 | D30: =+F30/C30 -> 5 | E30: 1 | F30: =SUM(G30:K30) -> 200 | G30: =ROUND($C30*$E30,0) -> 40 | H30: =ROUND($C30*$E30,0) -> 40 | I30: =ROUND($C30*$E30,0) -> 40 | J30: =ROUND($C30*$E30,0) -> 40 | K30: =ROUND($C30*$E30,0) -> 40 | L30: * 성과보증지역 40개소/년, 5년 적용
A31: 2) 공기밸브실 상태점검 | B31: 개소 | C31: ='과업대상지역 현황'!$D$38 -> 40 | D31: =+F31/C31 -> 5 | E31: 1 | F31: =SUM(G31:K31) -> 200 | G31: =ROUND($C31*$E31,0) -> 40 | H31: =ROUND($C31*$E31,0) -> 40 | I31: =ROUND($C31*$E31,0) -> 40 | J31: =ROUND($C31*$E31,0) -> 40 | K31: =ROUND($C31*$E31,0) -> 40 | L31: * 성과보증지역 40개소/년, 5년 적용
A32: 3) 이토밸브실 상태점검 | B32: 개소 | C32: ='과업대상지역 현황'!$D$39 -> 20 | D32: =+F32/C32 -> 5 | E32: 1 | F32: =SUM(G32:K32) -> 100 | G32: =ROUND($C32*$E32,0) -> 20 | H32: =ROUND($C32*$E32,0) -> 20 | I32: =ROUND($C32*$E32,0) -> 20 | J32: =ROUND($C32*$E32,0) -> 20 | K32: =ROUND($C32*$E32,0) -> 20 | L32: * 성과보증지역 20개소/년, 5년 적용
A33: 4) 감압밸브실 상태점검 | B33: 개소 | C33: ='과업대상지역 현황'!$D$40 -> 11 | D33: =+F33/C33 -> 5 | E33: 1 | F33: =SUM(G33:K33) -> 55 | G33: =ROUND($C33*$E33,0) -> 11 | H33: =ROUND($C33*$E33,0) -> 11 | I33: =ROUND($C33*$E33,0) -> 11 | J33: =ROUND($C33*$E33,0) -> 11 | K33: =ROUND($C33*$E33,0) -> 11 | L33: * 성과보증지역 11개소/년, 5년 적용
A34: 다. 성과품 작성 | B34: 식 | C34: 1 | D34: =+F34/C34 -> 1 | E34: 1 | F34: =SUM(G34:K34) -> 1 | K34: 1
A35: 0. 불량관 교체 계획
A36: 가. 부단수 내시경 조사 | B36: 개소 | D36: =+F36/C36 -> #DIV/0! | E36: 1 | F36: =SUM(G36:K36) -> 0
A37: 4. 관망도 보완(CAD)
A38: 가. 관망도 전산화 | B38: km | C38: ='과업대상지역 현황'!$C$5 -> 478.5 | D38: =+F38/C38 -> 0.024973877 | E38: 0.005 | F38: =SUM(G38:K38) -> 11.95 | G38: =ROUND($C38*$E38,2) -> 2.39 | H38: =ROUND($C38*$E38,2) -> 2.39 | I38: =ROUND($C38*$E38,2) -> 2.39 | J38: =ROUND($C38*$E38,2) -> 2.39 | K38: =ROUND($C38*$E38,2) -> 2.39 | L38: * 누수복구공사 및 기타유관공사를 통한 관망도 반영, 관로연장의 0.5% 적용
A39: 나. 속성정보 입력 | B39: km | C39: ='과업대상지역 현황'!$C$5 -> 478.5 | D39: =+F39/C39 -> 0.024973877 | E39: 0.005 | F39: =SUM(G39:K39) -> 11.95 | G39: =ROUND($C39*$E39,2) -> 2.39 | H39: =ROUND($C39*$E39,2) -> 2.39 | I39: =ROUND($C39*$E39,2) -> 2.39 | J39: =ROUND($C39*$E39,2) -> 2.39 | K39: =ROUND($C39*$E39,2) -> 2.39 | L39: * 누수복구공사 및 기타유관공사를 통한 관망도 반영, 관로연장의 0.5% 적용
A40: 5. 유수율 성과검증
A41: 가. 현대화사업 성과보증 구역
A42: 1) 급수전조사 | B42: 전 | C42: ='과업대상지역 현황'!$G$10 -> 8095 | D42: =+F42/C42 -> 1 | E42: 1 | F42: =SUM(G42:K42) -> 8095 | G42: =+ROUND($C42*$E42,0) -> 8095 | L42: *급수전 조사
A43: 2) 유량계 비교측정 및 교정 | B43: 개소 | C43: 7 | D43: =+F43/C43 -> 4 | E43: 1 | F43: =SUM(G43:K43) -> 28 | H43: =+ROUND($C43*$E43,0) -> 7 | I43: =+ROUND($C43*$E43,0) -> 7 | J43: =+ROUND($C43*$E43,0) -> 7 | K43: =+ROUND($C43*$E43,0) -> 7 | L43: * 성과판정 유량계 년간 1회측정 : 총4회(1차년도 제외)
A44: 3) 수도미터 봉인 | B44: 개소 | C44: ='과업대상지역 현황'!$G$10 -> 8095 | D44: =+F44/C44 -> 0 | E44: 0 | F44: =SUM(G44:K44) -> 0 | H44: =+ROUND($C44*$E44,0) -> 0 | I44: =+ROUND($C44*$E44,0) -> 0 | J44: =+ROUND($C44*$E44,0) -> 0 | K44: =+ROUND($C44*$E44,0) -> 0 | L44: * 총 급수전수 10% 적용 4회
A45: 3) 수도미터 봉인 | B45: 개소 | C45: ='과업대상지역 현황'!$G$11 -> 7128 | D45: =+F45/C45 -> 0 | E45: 0 | F45: =SUM(G45:K45) -> 0 | G45: =+ROUND($C45*$E45,0) -> 0 | K45: =+ROUND($C45*$E45,0) -> 0 | L45: * 총 급수전수 10% 적용 2회
A46: 다. 성과관리 보고서작성 | B46: 소블록 | C46: ='과업대상지역 현황'!$A$5 -> 7 | D46: =+F46/C46 -> 1 | E46: 0 | F46: =SUM(G46:K46) -> 7 | H46: 0 | I46: 0 | J46: 0 | K46: 7 | L46: * 성과보증( 과업종료시), 총 1회

Sheet 과업대상지역 현황
A1: 과업대상지역 현황
A2: ▣ 사업 대상 지역 시설현황
A3: 소블록 (N) | C3: 관로연장 (단위:km) | G3: 급수전수 | I3: 비 고
C4: 계 (C=A+B) | D4: 배수관로 (A) | E4: 급수관로 (B) | F4: 블록당 (E=C/N) | G4: 계 | H4: 블록당
A5: =C10 -> 7 | C5: =SUM(D5:E5) -> 478.5 | D5: =E10 -> 284.88 | E5: =F10 -> 193.62 | F5: =ROUND(C5/A5,3) -> 68.357 | G5: =G10 -> 8095 | H5: =INT(G5/A5) -> 1156
A7: 구분 | D7: 관로연장(km) | G7: 급수전수(전) | H7: 비 고
A8: 대/중블록 | C8: 소블록 | D8: 계 | E8: 배수관 | F8: 급수관
A9: 총괄 | C9: =C12 -> 16 | D9: =E9+F9 -> 884.12 | E9: =E12 -> 478.5 | F9: =F12 -> 405.62 | G9: =G12 -> 14588
A10: 현대화사업 성과보증 구역 | C10: =COUNTA(C13:C17,C21:C22) -> 7 | D10: =SUM(D13:D17,D21:D22) -> 478.5 | E10: =SUM(E13:E17,E21:E22) -> 284.88 | F10: =SUM(F13:F17,F21:F22) -> 193.62 | G10: =SUM(G13:G17,G21:G22) -> 8095 | H10: 현대화사업 성과보증 구역
A11: 현대화사업 대상 외 지역 | C11: =COUNTA(C18:C20,C23:C28,C30) -> 10 | D11: =SUM(D18:D20,D23:D28,D30) -> 593.8 | E11: =SUM(E18:E20,E23:E28,E30) -> 366.97 | F11: =SUM(F18:F20,F23:F28,F30) -> 226.83 | G11: =SUM(G18:G20,G23:G28,G30) -> 7128 | H11: 현대화사업 대상 외 지역
A12: 부암댐계통 광역 | C12: =COUNTA(C13:C28) -> 16 | D12: =E12+F12 -> 884.12 | E12: =SUM(D13:D17,D21:D22) -> 478.5 | F12: =SUM(F13:F28) -> 405.62 | G12: =SUM(G13:G28) -> 14588
B13: 부안1 | C13: 동진A | D13: 101.23 | E13: 63.47 | F13: 37.76 | G13: 1434 | H13: 현대화사업 성과보증 구역
C14: 동진B | D14: 40.59 | E14: 27.23 | F14: 13.36 | G14: 909
C15: 부안A | D15: 26.95 | E15: 18.42 | F15: 8.53 | G15: 641
B16: 부안3 | C16: 부안F | D16: 19.19 | E16: 14.83 | F16: 4.36 | G16: 712 | H16: 현대화사업 성과보증 구역
C17: 백산 | D17: 116.84 | E17: 62.07 | F17: 54.77 | G17: 1740
B18: 유정1 | C18: 유정A | D18: 88.49 | E18: 46.14 | F18: 42.35 | G18: 1013 | H18: 현대화사업 대상 외 지역
C19: 유정B | D19: 104.83 | E19: 55.53 | F19: 49.3 | G19: 1272
C20: 유정E | D20: 57.49 | E20: 33.12 | F20: 24.37 | G20: 822
B21: 유정2 | C21: 유정C | D21: 73.33 | E21: 44.25 | F21: 29.08 | G21: 1295 | H21: 현대화사업 성과보증 구역
C22: 유정D | D22: 100.37 | E22: 54.61 | F22: 45.76 | G22: 1364
B23: 청림 | C23: 청림 | D23: 42.45 | E23: 31.6 | F23: 10.85 | G23: 270 | H23: 현대화사업 대상 외 지역
B24: 고사포 | C24: 고사포 | D24: 63 | E24: 38.03 | F24: 24.97 | G24: 915
B25: 격포 | C25: 격포 | D25: 27.67 | E25: 19.12 | F25: 8.55 | G25: 648
B26: 유유 | C26: 유유A | D26: 72.81 | E26: 47.07 | F26: 25.74 | G26: 744
C27: 유유B | D27: 87.77 | E27: 61.92 | F27: 25.85 | G27: 808
B28: 참프레 | C28: 참프레 | D28: 0.02 | E28: 0 | F28: 0.02 | G28: 1
A29: 위도 | C29: =COUNTA(C30) -> 1 | D29: =SUM(D30) -> 49.27 | E29: =SUM(E30) -> 34.44 | F29: =SUM(F30) -> 14.83 | G29: =SUM(G30) -> 635
A30: 위도 | B30: 위도 | C30: 위도 | D30: 49.27 | E30: 34.44 | F30: 14.83 | G30: 635 | H30: 현대화사업 대상 외 지역
A32: ▣ 지방상수도 현대화사업 대상 지역 상수도관망시설 점검 시설 현황
A33: 구 분 | C33: 단위 | D33: 수량 | E33: 비고
A34: 상수관로 | C34: km | D34: =D5 -> 284.88 | E34: 사업 대상 지역 배수관로 연장
A35: 유량계실 | C35: 개소 | D35: 7 | E35: 현대화사업 대상 7개소
A36: 가압시설 | C36: 개소 | D36: 1 | E36: 1개소/연간점검 적용
A37: 제수밸브 | C37: 개소 | D37: 40 | E37: 40개소/연간점검 적용
A38: 공기밸브실 | C38: 개소 | D38: 40 | E38: 40개소/연간점검 적용
A39: 이토밸브실 | C39: 개소 | D39: 20 | E39: 20개소/연간점검 적용
A40: 감압밸브실 | C40: 개소 | D40: 11 | E40: 11개소/연간점검 적용
A41: 주) 2023 상수도관망 관리 표준품셈 상수도관망시설의 점검주기(안) 참조하여 내역 적용
A43: ▣ 지방상수도 현대화사업 사후관리 대상 지역 누수현황
A44: - 누수확인조사 수량
A45: 구 분 | C45: 상수관로(km) | F45: 산출근거 | G45: 누수확인(건) | I45: 적 용(건)
C46: 합계 | D46: 배수관로 | E46: 급수관로 | F46: Km당 0.5건 | G46: 전체(최대) | H46: 비율 | I46: 100%적용
A47: 산출근거 | C47: =C5 -> 478.5 | D47: =D5 -> 284.88 | E47: =E5 -> 193.62 | F47: =C47*0.5 -> 239.25 | G47: =F47 -> 239.25 | H47: 1 | I47: =ROUND(G47*H47,-1) -> 240
A49: ▣ 누수민원현황
A50: 구 분 | D50: 계 | E50: 신고누수 | F50: 미신고누수 | G50: 신고누수(최대) | H50: 신고누수(평균) | I50: 비고
A51: 부안군 | C51: 2023년 | D51: =E51+F51 -> 337 | E51: 295 | F51: 42 | G51: =MAX(E51:E53) -> 295 | H51: =AVERAGE(E51:E53) -> 252 | I51: =ROUND(H51,-1) -> 250
C52: 2022년 | D52: =E52+F52 -> 307 | E52: 236 | F52: 71
C53: 2021년 | D53: =E53+F53 -> 329 | E53: 225 | F53: 104
A54: ※ 상수도통계연보('2022~'2024 환경부)

Sheet 간지4
C15: 4. 일 위 대 가 표

Sheet 일위대가 총괄
A1: 일위대가 총괄표
A2: 공 종 | C2: 규 격 | D2: 수 량 | E2: 단 위 | F2: 합 계 | G2: 노 무 비 | I2: 재 료 비 | K2: 경 비 | M2: 비 고
G3: 단 가 | H3: 금 액 | I3: 단 가 | J3: 금 액 | K3: 단 가 | L3: 금 액
A4: 1 | B4: =일위대가!B4 -> 자료수집 및 준비 | D4: 1 | E4: 식 | F4: =H4+J4+L4 -> 3861033 | H4: =일위대가!H12 -> 3861033 | J4: 0 | L4: 0 | M4: ='<단산1-29>투입인원'!A4 -> 1
A5: =A4+1 -> 2 | B5: =일위대가!B13 -> 현장시설물 현황조사 | D5: 1 | E5: km | F5: =H5+J5+L5 -> 56378 | H5: =일위대가!H21 -> 56378 | J5: 0 | L5: 0 | M5: ='<단산1-29>투입인원'!A5 -> 2
A6: =A5+1 -> 3 | B6: =일위대가!B22 -> 유량분석 | D6: 1 | E6: 회 | F6: =H6+J6+L6 -> 392412 | H6: =일위대가!H30 -> 392412 | J6: 0 | L6: 0 | M6: ='<단산1-29>투입인원'!A6 -> 3
B7: =일위대가!B31 -> 수압측정 | D7: 1 | E7: 회 | F7: =H7+J7+L7 -> 538470 | H7: =일위대가!H39 -> 538470 | J7: 0 | L7: 0 | M7: ='<단산1-29>투입인원'!A7 -> 0
A8: =A6+1 -> 4 | B8: =일위대가!B40 -> 수압분석 | D8: 1 | E8: 회 | F8: =H8+J8+L8 -> 153840 | H8: =일위대가!H48 -> 153840 | J8: 0 | L8: 0 | M8: ='<단산1-29>투입인원'!A8 -> 4
A9: =A8+1 -> 5 | B9: =일위대가!B49 -> 경계밸브 조사 | D9: 1 | E9: 소블록 | F9: =H9+J9+L9 -> 1182704 | H9: =일위대가!H57 -> 1182704 | J9: 0 | L9: 0 | M9: ='<단산1-29>투입인원'!A9 -> 5
A10: =A9+1 -> 6 | B10: =일위대가!B58 -> 블록고립 확인 | D10: 1 | E10: 소블록 | F10: =H10+J10+L10 -> 4974126 | H10: =일위대가!H66 -> 4974126 | J10: 0 | L10: 0 | M10: ='<단산1-29>투입인원'!A10 -> 6
A11: =A10+1 -> 7 | B11: =일위대가!B67 -> 단계시험 | D11: 1 | E11: 소블록 | F11: =H11+J11+L11 -> 5476861 | H11: =일위대가!H75 -> 5476861 | J11: 0 | L11: 0 | M11: ='<단산1-29>투입인원'!A11 -> 7
A12: =A11+1 -> 8 | B12: =일위대가!B76 -> 원격누수 감시 | D12: 1 | E12: 소블록 | F12: =H12+J12+L12 -> 1214355 | H12: =일위대가!H84 -> 1214355 | M12: ='<단산1-29>투입인원'!A12 -> 8
A13: =A12+1 -> 9 | B13: =일위대가!B85 -> 하수도 유수조사 | D13: 1 | E13: km | F13: =H13+J13+L13 -> 125233 | H13: =일위대가!H93 -> 125233 | J13: 0 | L13: 0 | M13: ='<단산1-29>투입인원'!A13 -> 9
A14: =A13+1 -> 10 | B14: =일위대가!B94 -> 계량기 청음조사 | D14: 1 | E14: 전 | F14: =H14+J14+L14 -> 11056 | H14: =일위대가!H102 -> 11056 | J14: 0 | L14: 0 | M14: ='<단산1-29>투입인원'!A14 -> 10
A15: =A14+1 -> 11 | B15: =일위대가!B103 -> 관로노선 확인조사 | D15: 1 | E15: km | F15: =H15+J15+L15 -> 547284 | H15: =일위대가!H111 -> 547284 | J15: 0 | L15: 0 | M15: ='<단산1-29>투입인원'!A15 -> 11
A16: =A15+1 -> 12 | B16: =일위대가!B112 -> 상관식 누수탐사 | D16: 1 | E16: km | F16: =H16+J16+L16 -> 607029 | H16: =일위대가!H120 -> 607029 | J16: 0 | L16: 0 | M16: ='<단산1-29>투입인원'!A16 -> 12
A17: =A16+1 -> 13 | B17: =일위대가!B121 -> 노면음청 조사 | D17: 1 | E17: km | F17: =H17+J17+L17 -> 391200 | H17: =일위대가!H129 -> 391200 | J17: 0 | L17: 0 | M17: ='<단산1-29>투입인원'!A17 -> 13
A18: =A17+1 -> 14 | B18: =일위대가!B130 -> 누수확인 조사 | D18: 1 | E18: 건 | F18: =H18+J18+L18 -> 119489 | H18: =일위대가!H138 -> 119489 | J18: 0 | L18: 0 | M18: ='<단산1-29>투입인원'!A18 -> 14
A19: =A18+1 -> 15 | B19: =일위대가!B139 -> 누수복구 입회 | D19: 1 | E19: 건 | F19: =H19+J19+L19 -> 147534 | H19: =일위대가!H147 -> 147534 | J19: 0 | L19: 0 | M19: ='<단산1-29>투입인원'!A19 -> 15
A20: =A19+1 -> 16 | B20: =일위대가!B148 -> 누수민원 대응 | D20: 1 | E20: 건 | F20: =H20+J20+L20 -> 287777 | H20: =일위대가!H156 -> 287777 | J20: 0 | L20: 0 | M20: ='<단산1-29>투입인원'!A20 -> 16
A21: =A20+1 -> 17 | B21: =일위대가!B157 -> 성과보고서 작성 | D21: 1 | E21: 식 | F21: =H21+J21+L21 -> 3328085 | H21: =일위대가!H165 -> 3328085 | J21: 0 | L21: 0 | M21: ='<단산1-29>투입인원'!A21 -> 17
A22: =A21+1 -> 18 | B22: =+일위대가!B166 -> 상수관로 상태점검 | D22: 1 | E22: km | F22: =H22+J22+L22 -> 5170 | H22: =+일위대가!H174 -> 5170 | J22: 0 | L22: 0 | M22: ='<단산1-29>투입인원'!A22 -> 18
A23: =A22+1 -> 19 | B23: =+일위대가!B175 -> 가압시설 상태점검 | D23: 1 | E23: 개소 | F23: =H23+J23+L23 -> 86006 | H23: =+일위대가!H183 -> 86006 | J23: 0 | L23: 0 | M23: ='<단산1-29>투입인원'!A23 -> 19
A24: =A23+1 -> 20 | B24: =+일위대가!B184 -> 제수밸브실 상태점검 | D24: 1 | E24: 개소 | F24: =H24+J24+L24 -> 15040 | H24: =+일위대가!H192 -> 15040 | J24: 0 | L24: 0 | M24: ='<단산1-29>투입인원'!A24 -> 20
A25: =A24+1 -> 21 | B25: =+일위대가!B193 -> 공기밸브실 상태점검 | D25: 1 | E25: 개소 | F25: =H25+J25+L25 -> 101182 | H25: =+일위대가!H201 -> 101182 | J25: 0 | L25: 0 | M25: ='<단산1-29>투입인원'!A25 -> 21
A26: =A25+1 -> 22 | B26: =+일위대가!B202 -> 이토밸브실 상태점검 | D26: 1 | E26: 개소 | F26: =H26+J26+L26 -> 77301 | H26: =+일위대가!H210 -> 77301 | J26: 0 | L26: 0 | M26: ='<단산1-29>투입인원'!A26 -> 22
A27: =A26+1 -> 23 | B27: =+일위대가!B211 -> 감압밸브실 상태점검 | D27: 1 | E27: 개소 | F27: =H27+J27+L27 -> 61640 | H27: =+일위대가!H219 -> 61640 | J27: 0 | L27: 0 | M27: ='<단산1-29>투입인원'!A27 -> 23
A28: =A27+1 -> 24 | B28: =일위대가!B220 -> 성과품 작성 | D28: 1 | E28: 식 | F28: =H28+J28+L28 -> 1343744 | H28: =일위대가!H228 -> 1343744 | J28: 0 | L28: 0 | M28: ='<단산1-29>투입인원'!A28 -> 24
B29: =일위대가!B229 -> 부단수 관내시경 조사 | D29: 1 | E29: 개소 | F29: =H29+J29+L29 -> 1696096 | H29: =일위대가!H237 -> 1696096 | J29: 0 | L29: 0 | M29: ='<단산1-29>투입인원'!A29 -> 0
A30: =A28+1 -> 25 | B30: =일위대가!B238 -> 관망도 전산화 | D30: 1 | E30: km | F30: =H30+J30+L30 -> 306864 | H30: =일위대가!H246 -> 306864 | J30: 0 | L30: 0 | M30: ='<단산1-29>투입인원'!A30 -> 25
A31: =A30+1 -> 26 | B31: =일위대가!B247 -> 속성정보 입력 | D31: 1 | E31: km | F31: =H31+J31+L31 -> 558876 | H31: =일위대가!H255 -> 558876 | J31: 0 | L31: 0 | M31: ='<단산1-29>투입인원'!A31 -> 26
A32: =A31+1 -> 27 | B32: =+일위대가!B256 -> 급수전조사 | D32: 1 | E32: 전 | F32: =H32+J32+L32 -> 13166 | H32: =+일위대가!H264 -> 13166 | J32: 0 | L32: 0 | M32: ='<단산1-29>투입인원'!A32 -> 27
A33: =A32+1 -> 28 | B33: =+일위대가!B265 -> 수도미터 봉인 | D33: 1 | E33: 개소 | F33: =H33+J33+L33 -> 4369 | H33: =+일위대가!H268 -> 3269 | J33: =+일위대가!J268 -> 1100 | L33: 0 | M33: ='<단산1-29>투입인원'!A33 -> 28
A34: =A33+1 -> 29 | B34: =+일위대가!B269 -> 성과보증 보고서작성 | D34: 1 | E34: 소블록 | F34: =H34+J34+L34 -> 2820520 | H34: =+일위대가!H277 -> 2820520 | J34: 0 | L34: 0 | M34: ='<단산1-29>투입인원'!A34 -> 29
B35: =+일위대가!$B$278 -> 관망운영관리 | D35: 1 | E35: 개월 | F35: =H35+J35+L35 -> 21271382 | H35: =+일위대가!H286 -> 21271382 | J35: 0 | L35: 0 | M35: ='<단산1-29>투입인원'!A35 -> 0

Sheet 일위대가
A1: 일 위 대 가 표
A2: 공 종 | C2: 규 격 | D2: 수 량 | E2: 단 위 | F2: 합계 | G2: 노 무 비 | I2: 재 료 비 | K2: 경 비 | M2: 비 고
G3: 단 가 | H3: 금 액 | I3: 단 가 | J3: 금 액 | K3: 단 가 | L3: 금 액
A4: 1 | B4: ='<단산1-29>투입인원'!B4 -> 자료수집 및 준비 | D4: 1 | E4: 소블록 | M4: ='<단산1-29>투입인원'!A4 -> 1
A5: 기술사 | D5: ='<단산1-29>투입인원'!$N$4 -> 0.651 | E5: 인 | F5: =H5+J5+L5 -> 304158 | G5: ='<산근1>노임단가'!$B$4 -> 467217 | H5: =INT(D5*G5) -> 304158
A6: 특급기술자 | D6: ='<단산1-29>투입인원'!$O$4 -> 1.948 | E6: 인 | F6: =H6+J6+L6 -> 727291 | G6: ='<산근1>노임단가'!$C$4 -> 373353 | H6: =INT(D6*G6) -> 727291
A7: 고급기술자 | D7: ='<단산1-29>투입인원'!$P$4 -> 2.593 | E7: 인 | F7: =H7+J7+L7 -> 806122 | G7: ='<산근1>노임단가'!$D$4 -> 310884 | H7: =INT(D7*G7) -> 806122
A8: 중급기술자 | D8: ='<단산1-29>투입인원'!$Q$4 -> 3.238 | E8: 인 | F8: =H8+J8+L8 -> 955656 | G8: ='<산근1>노임단가'!$E$4 -> 295138 | H8: =INT(D8*G8) -> 955656
A9: 초급기술자 | D9: ='<단산1-29>투입인원'!$R$4 -> 4.535 | E9: 인 | F9: =H9+J9+L9 -> 1067806 | G9: ='<산근1>노임단가'!$F$4 -> 235459 | H9: =INT(D9*G9) -> 1067806
A10: 중급숙련기술자 | F10: =H10+J10+L10 -> 0 | G10: ='<산근1>노임단가'!$H$4 -> 250087 | H10: =INT(D10*G10) -> 0
A11: 초급숙련기술자 | F11: =H11+J11+L11 -> 0 | G11: ='<산근1>노임단가'!$I$4 -> 218142 | H11: =INT(D11*G11) -> 0
A12: 계 | F12: =H12+J12+L12 -> 3861033 | H12: =SUM(H5:H11) -> 3861033 | J12: =SUM(J5:J11) -> 0 | L12: =SUM(L5:L11) -> 0
A13: =A4+1 -> 2 | B13: ='<단산1-29>투입인원'!B5 -> 현장시설물 현황조사 | D13: 1 | E13: km | M13: ='<단산1-29>투입인원'!A5 -> 2
A14: 기술사 | F14: =H14+J14+L14 -> 0 | G14: ='<산근1>노임단가'!$B$4 -> 467217 | H14: =INT(D14*G14) -> 0
A15: 특급기술자 | F15: =H15+J15+L15 -> 0 | G15: ='<산근1>노임단가'!$C$4 -> 373353 | H15: =INT(D15*G15) -> 0
A16: 고급기술자 | D16: ='<단산1-29>투입인원'!P5 -> 0.067 | E16: 인 | F16: =H16+J16+L16 -> 20829 | G16: ='<산근1>노임단가'!$D$4 -> 310884 | H16: =INT(D16*G16) -> 20829
A17: 중급기술자 | D17: ='<단산1-29>투입인원'!Q5 -> 0.067 | E17: 인 | F17: =H17+J17+L17 -> 19774 | G17: ='<산근1>노임단가'!$E$4 -> 295138 | H17: =INT(D17*G17) -> 19774
A18: 초급기술자 | D18: ='<단산1-29>투입인원'!R5 -> 0.067 | E18: 인 | F18: =H18+J18+L18 -> 15775 | G18: ='<산근1>노임단가'!$F$4 -> 235459 | H18: =INT(D18*G18) -> 15775
A19: 중급숙련기술자 | F19: =H19+J19+L19 -> 0 | G19: ='<산근1>노임단가'!$H$4 -> 250087 | H19: =INT(D19*G19) -> 0
A20: 초급숙련기술자 | F20: =H20+J20+L20 -> 0 | G20: ='<산근1>노임단가'!$I$4 -> 218142 | H20: =INT(D20*G20) -> 0
A21: 계 | F21: =H21+J21+L21 -> 56378 | H21: =SUM(H14:H20) -> 56378 | J21: =SUM(J14:J20) -> 0 | L21: =SUM(L14:L20) -> 0
A22: =A13+1 -> 3 | B22: ='<단산1-29>투입인원'!B6 -> 유량분석 | D22: 1 | E22: 회 | M22: ='<단산1-29>투입인원'!A6 -> 3
A23: 기술사 | F23: =H23+J23+L23 -> 0 | G23: ='<산근1>노임단가'!$B$4 -> 467217 | H23: =INT(D23*G23) -> 0
A24: 특급기술자 | D24: ='<단산1-29>투입인원'!O6 -> 0.25 | E24: 인 | F24: =H24+J24+L24 -> 93338 | G24: ='<산근1>노임단가'!$C$4 -> 373353 | H24: =INT(D24*G24) -> 93338
A25: 고급기술자 | D25: ='<단산1-29>투입인원'!P6 -> 0.25 | E25: 인 | F25: =H25+J25+L25 -> 77721 | G25: ='<산근1>노임단가'!$D$4 -> 310884 | H25: =INT(D25*G25) -> 77721
A26: 중급기술자 | D26: ='<단산1-29>투입인원'!Q6 -> 0.75 | E26: 인 | F26: =H26+J26+L26 -> 221353 | G26: ='<산근1>노임단가'!$E$4 -> 295138 | H26: =INT(D26*G26) -> 221353
A27: 초급기술자 | F27: =H27+J27+L27 -> 0 | G27: ='<산근1>노임단가'!$F$4 -> 235459 | H27: =INT(D27*G27) -> 0
A28: 중급숙련기술자 | F28: =H28+J28+L28 -> 0 | G28: ='<산근1>노임단가'!$H$4 -> 250087 | H28: =INT(D28*G28) -> 0
A29: 초급숙련기술자 | F29: =H29+J29+L29 -> 0 | G29: ='<산근1>노임단가'!$I$4 -> 218142 | H29: =INT(D29*G29) -> 0
A30: 계 | F30: =H30+J30+L30 -> 392412 | H30: =SUM(H23:H29) -> 392412 | J30: =SUM(J23:J29) -> 0 | L30: =SUM(L23:L29) -> 0
B31: ='<단산1-29>투입인원'!B7 -> 수압측정 | D31: 1 | E31: 회 | M31: ='<단산1-29>투입인원'!A7 -> 0
A32: 기술사 | F32: =H32+J32+L32 -> 0 | G32: ='<산근1>노임단가'!$B$4 -> 467217 | H32: =INT(D32*G32) -> 0
A33: 특급기술자 | F33: =H33+J33+L33 -> 0 | G33: ='<산근1>노임단가'!$C$4 -> 373353 | H33: =INT(D33*G33) -> 0
A34: 고급기술자 | D34: ='<단산1-29>투입인원'!$P$7 -> 0.5 | E34: 인 | F34: =H34+J34+L34 -> 155442 | G34: ='<산근1>노임단가'!$D$4 -> 310884 | H34: =INT(D34*G34) -> 155442
A35: 중급기술자 | D35: ='<단산1-29>투입인원'!$Q$7 -> 0.5 | E35: 인 | F35: =H35+J35+L35 -> 147569 | G35: ='<산근1>노임단가'!$E$4 -> 295138 | H35: =INT(D35*G35) -> 147569
A36: 초급기술자 | D36: ='<단산1-29>투입인원'!$R$7 -> 1 | E36: 인 | F36: =H36+J36+L36 -> 235459 | G36: ='<산근1>노임단가'!$F$4 -> 235459 | H36: =INT(D36*G36) -> 235459
A37: 중급숙련기술자 | F37: =H37+J37+L37 -> 0 | G37: ='<산근1>노임단가'!$H$4 -> 250087 | H37: =INT(D37*G37) -> 0
A38: 초급숙련기술자 | F38: =H38+J38+L38 -> 0 | G38: ='<산근1>노임단가'!$I$4 -> 218142 | H38: =INT(D38*G38) -> 0
A39: 계 | F39: =H39+J39+L39 -> 538470 | H39: =SUM(H32:H38) -> 538470 | J39: =SUM(J32:J38) -> 0 | L39: =SUM(L32:L38) -> 0
A40: =A22+1 -> 4 | B40: ='<단산1-29>투입인원'!B8 -> 수압분석 | D40: 1 | E40: 회 | M40: ='<단산1-29>투입인원'!A8 -> 4
A41: 기술사 | F41: =H41+J41+L41 -> 0 | G41: ='<산근1>노임단가'!$B$4 -> 467217 | H41: =INT(D41*G41) -> 0
A42: 특급기술자 | D42: ='<단산1-29>투입인원'!O8 -> 0.05 | E42: 인 | F42: =H42+J42+L42 -> 18667 | G42: ='<산근1>노임단가'!$C$4 -> 373353 | H42: =INT(D42*G42) -> 18667
A43: 고급기술자 | D43: ='<단산1-29>투입인원'!P8 -> 0.15 | E43: 인 | F43: =H43+J43+L43 -> 46632 | G43: ='<산근1>노임단가'!$D$4 -> 310884 | H43: =INT(D43*G43) -> 46632
A44: 중급기술자 | D44: ='<단산1-29>투입인원'!Q8 -> 0.3 | E44: 인 | F44: =H44+J44+L44 -> 88541 | G44: ='<산근1>노임단가'!$E$4 -> 295138 | H44: =INT(D44*G44) -> 88541
A45: 초급기술자 | F45: =H45+J45+L45 -> 0 | G45: ='<산근1>노임단가'!$F$4 -> 235459 | H45: =INT(D45*G45) -> 0
A46: 중급숙련기술자 | F46: =H46+J46+L46 -> 0 | G46: ='<산근1>노임단가'!$H$4 -> 250087 | H46: =INT(D46*G46) -> 0
A47: 초급숙련기술자 | F47: =H47+J47+L47 -> 0 | G47: ='<산근1>노임단가'!$I$4 -> 218142 | H47: =INT(D47*G47) -> 0
A48: 계 | F48: =H48+J48+L48 -> 153840 | H48: =SUM(H41:H47) -> 153840 | J48: =SUM(J41:J47) -> 0 | L48: =SUM(L41:L47) -> 0
A49: =A40+1 -> 5 | B49: ='<단산1-29>투입인원'!B9 -> 경계밸브 조사 | D49: 1 | E49: 소블록 | M49: ='<단산1-29>투입인원'!A9 -> 5
A50: 기술사 | F50: =H50+J50+L50 -> 0 | G50: ='<산근1>노임단가'!$B$4 -> 467217 | H50: =INT(D50*G50) -> 0
A51: 특급기술자 | D51: ='<단산1-29>투입인원'!O9 -> 0.206 | E51: 인 | F51: =H51+J51+L51 -> 76910 | G51: ='<산근1>노임단가'!$C$4 -> 373353 | H51: =INT(D51*G51) -> 76910
A52: 고급기술자 | D52: ='<단산1-29>투입인원'!P9 -> 1.444 | E52: 인 | F52: =H52+J52+L52 -> 448916 | G52: ='<산근1>노임단가'!$D$4 -> 310884 | H52: =INT(D52*G52) -> 448916
A53: 중급기술자 | D53: ='<단산1-29>투입인원'!Q9 -> 1.238 | E53: 인 | F53: =H53+J53+L53 -> 365380 | G53: ='<산근1>노임단가'!$E$4 -> 295138 | H53: =INT(D53*G53) -> 365380
A54: 초급기술자 | D54: ='<단산1-29>투입인원'!R9 -> 1.238 | E54: 인 | F54: =H54+J54+L54 -> 291498 | G54: ='<산근1>노임단가'!$F$4 -> 235459 | H54: =INT(D54*G54) -> 291498
A55: 중급숙련기술자 | F55: =H55+J55+L55 -> 0 | G55: ='<산근1>노임단가'!$H$4 -> 250087 | H55: =INT(D55*G55) -> 0
A56: 초급숙련기술자 | F56: =H56+J56+L56 -> 0 | G56: ='<산근1>노임단가'!$I$4 -> 218142 | H56: =INT(D56*G56) -> 0
A57: 계 | F57: =H57+J57+L57 -> 1182704 | H57: =SUM(H50:H56) -> 1182704 | J57: =SUM(J50:J56) -> 0 | L57: =SUM(L50:L56) -> 0
A58: =A49+1 -> 6 | B58: ='<단산1-29>투입인원'!B10 -> 블록고립 확인 | D58: 1 | E58: 소블록 | M58: ='<단산1-29>투입인원'!A10 -> 6
A59: 기술사 | D59: ='<단산1-29>투입인원'!N10 -> 2.325 | E59: 인 | F59: =H59+J59+L59 -> 1086279 | G59: ='<산근1>노임단가'!$B$4 -> 467217 | H59: =INT(D59*G59) -> 1086279
A60: 특급기술자 | D60: ='<단산1-29>투입인원'!O10 -> 2.325 | E60: 인 | F60: =H60+J60+L60 -> 868045 | G60: ='<산근1>노임단가'!$C$4 -> 373353 | H60: =INT(D60*G60) -> 868045
A61: 고급기술자 | D61: ='<단산1-29>투입인원'!P10 -> 3.1 | E61: 인 | F61: =H61+J61+L61 -> 963740 | G61: ='<산근1>노임단가'!$D$4 -> 310884 | H61: =INT(D61*G61) -> 963740
A62: 중급기술자 | D62: ='<단산1-29>투입인원'!Q10 -> 3.875 | E62: 인 | F62: =H62+J62+L62 -> 1143659 | G62: ='<산근1>노임단가'!$E$4 -> 295138 | H62: =INT(D62*G62) -> 1143659
A63: 초급기술자 | D63: ='<단산1-29>투입인원'!R10 -> 3.875 | E63: 인 | F63: =H63+J63+L63 -> 912403 | G63: ='<산근1>노임단가'!$F$4 -> 235459 | H63: =INT(D63*G63) -> 912403
A64: 중급숙련기술자 | F64: =H64+J64+L64 -> 0 | G64: ='<산근1>노임단가'!$H$4 -> 250087 | H64: =INT(D64*G64) -> 0
A65: 초급숙련기술자 | F65: =H65+J65+L65 -> 0 | G65: ='<산근1>노임단가'!$I$4 -> 218142 | H65: =INT(D65*G65) -> 0
A66: 계 | F66: =H66+J66+L66 -> 4974126 | H66: =SUM(H59:H65) -> 4974126 | J66: =SUM(J59:J65) -> 0 | L66: =SUM(L59:L65) -> 0
A67: =A58+1 -> 7 | B67: ='<단산1-29>투입인원'!B11 -> 단계시험 | D67: 1 | E67: 소블록 | M67: ='<단산1-29>투입인원'!A11 -> 7
A68: 기술사 | D68: ='<단산1-29>투입인원'!N11 -> 1.775 | E68: 인 | F68: =H68+J68+L68 -> 829310 | G68: ='<산근1>노임단가'!$B$4 -> 467217 | H68: =INT(D68*G68) -> 829310
A69: 특급기술자 | D69: ='<단산1-29>투입인원'!O11 -> 2.663 | E69: 인 | F69: =H69+J69+L69 -> 994239 | G69: ='<산근1>노임단가'!$C$4 -> 373353 | H69: =INT(D69*G69) -> 994239
A70: 고급기술자 | D70: ='<단산1-29>투입인원'!P11 -> 2.663 | E70: 인 | F70: =H70+J70+L70 -> 827884 | G70: ='<산근1>노임단가'!$D$4 -> 310884 | H70: =INT(D70*G70) -> 827884
A71: 중급기술자 | D71: ='<단산1-29>투입인원'!Q11 -> 5.325 | E71: 인 | F71: =H71+J71+L71 -> 1571609 | G71: ='<산근1>노임단가'!$E$4 -> 295138 | H71: =INT(D71*G71) -> 1571609
A72: 초급기술자 | D72: ='<단산1-29>투입인원'!R11 -> 5.325 | E72: 인 | F72: =H72+J72+L72 -> 1253819 | G72: ='<산근1>노임단가'!$F$4 -> 235459 | H72: =INT(D72*G72) -> 1253819
A73: 중급숙련기술자 | F73: =H73+J73+L73 -> 0 | G73: ='<산근1>노임단가'!$H$4 -> 250087 | H73: =INT(D73*G73) -> 0
A74: 초급숙련기술자 | F74: =H74+J74+L74 -> 0 | G74: ='<산근1>노임단가'!$I$4 -> 218142 | H74: =INT(D74*G74) -> 0
A75: 계 | F75: =H75+J75+L75 -> 5476861 | H75: =SUM(H68:H74) -> 5476861 | J75: =SUM(J68:J74) -> 0 | L75: =SUM(L68:L74) -> 0
A76: =A67+1 -> 8 | B76: ='<단산1-29>투입인원'!B12 -> 원격누수 감시 | D76: 1 | E76: 소블록 | M76: ='<단산1-29>투입인원'!A12 -> 8
A77: 기술사
A78: 특급기술자
A79: 고급기술자 | D79: ='<단산1-29>투입인원'!F12 -> 0.45 | F79: =H79+J79+L79 -> 139897 | G79: ='<산근1>노임단가'!$D$4 -> 310884 | H79: =INT(D79*G79) -> 139897
A80: 중급기술자 | D80: ='<단산1-29>투입인원'!G12 -> 2.025 | F80: =H80+J80+L80 -> 597654 | G80: ='<산근1>노임단가'!$E$4 -> 295138 | H80: =INT(D80*G80) -> 597654
A81: 초급기술자 | D81: ='<단산1-29>투입인원'!H12 -> 2.025 | F81: =H81+J81+L81 -> 476804 | G81: ='<산근1>노임단가'!$F$4 -> 235459 | H81: =INT(D81*G81) -> 476804
A82: 중급숙련기술자
A83: 초급숙련기술자
A84: 계 | F84: =H84+J84+L84 -> 1214355 | H84: =SUM(H77:H83) -> 1214355 | J84: =SUM(J77:J83) -> 0 | L84: =SUM(L77:L83) -> 0
A85: =A76+1 -> 9 | B85: ='<단산1-29>투입인원'!B13 -> 하수도 유수조사 | D85: 1 | E85: km | M85: ='<단산1-29>투입인원'!A13 -> 9
A86: 기술사 | F86: =H86+J86+L86 -> 0 | G86: ='<산근1>노임단가'!$B$4 -> 467217 | H86: =INT(D86*G86) -> 0
A87: 특급기술자 | D87: ='<단산1-29>투입인원'!O13 -> 0.023 | E87: 인 | F87: =H87+J87+L87 -> 8587 | G87: ='<산근1>노임단가'!$C$4 -> 373353 | H87: =INT(D87*G87) -> 8587
A88: 고급기술자 | D88: ='<단산1-29>투입인원'!P13 -> 0.068 | E88: 인 | F88: =H88+J88+L88 -> 21140 | G88: ='<산근1>노임단가'!$D$4 -> 310884 | H88: =INT(D88*G88) -> 21140
A89: 중급기술자 | D89: ='<단산1-29>투입인원'!Q13 -> 0.18 | E89: 인 | F89: =H89+J89+L89 -> 53124 | G89: ='<산근1>노임단가'!$E$4 -> 295138 | H89: =INT(D89*G89) -> 53124
A90: 초급기술자 | D90: ='<단산1-29>투입인원'!R13 -> 0.18 | E90: 인 | F90: =H90+J90+L90 -> 42382 | G90: ='<산근1>노임단가'!$F$4 -> 235459 | H90: =INT(D90*G90) -> 42382
A91: 중급숙련기술자 | F91: =H91+J91+L91 -> 0 | G91: ='<산근1>노임단가'!$H$4 -> 250087 | H91: =INT(D91*G91) -> 0
A92: 초급숙련기술자 | F92: =H92+J92+L92 -> 0 | G92: ='<산근1>노임단가'!$I$4 -> 218142 | H92: =INT(D92*G92) -> 0
A93: 계 | F93: =H93+J93+L93 -> 125233 | H93: =SUM(H86:H92) -> 125233 | J93: =SUM(J86:J92) -> 0 | L93: =SUM(L86:L92) -> 0
A94: =A85+1 -> 10 | B94: ='<단산1-29>투입인원'!B14 -> 계량기 청음조사 | D94: 1 | E94: 전 | M94: ='<단산1-29>투입인원'!A14 -> 10
A95: 기술사 | F95: =H95+J95+L95 -> 0 | G95: ='<산근1>노임단가'!$B$4 -> 467217 | H95: =INT(D95*G95) -> 0
A96: 특급기술자 | F96: =H96+J96+L96 -> 0 | G96: ='<산근1>노임단가'!$C$4 -> 373353 | H96: =INT(D96*G96) -> 0
A97: 고급기술자 | D97: ='<단산1-29>투입인원'!P14 -> 0.004 | E97: 인 | F97: =H97+J97+L97 -> 1243 | G97: ='<산근1>노임단가'!$D$4 -> 310884 | H97: =INT(D97*G97) -> 1243
A98: 중급기술자 | D98: ='<단산1-29>투입인원'!Q14 -> 0.018 | E98: 인 | F98: =H98+J98+L98 -> 5312 | G98: ='<산근1>노임단가'!$E$4 -> 295138 | H98: =INT(D98*G98) -> 5312
A99: 초급기술자 | F99: =H99+J99+L99 -> 0 | G99: ='<산근1>노임단가'!$F$4 -> 235459 | H99: =INT(D99*G99) -> 0
A100: 중급숙련기술자 | D100: ='<단산1-29>투입인원'!S14 -> 0.018 | E100: 인 | F100: =H100+J100+L100 -> 4501 | G100: ='<산근1>노임단가'!$H$4 -> 250087 | H100: =INT(D100*G100) -> 4501
...

Sheet 간지5
C15: 5. 단 가 산 출 서

Sheet <단산1-29>투입인원
A1: 투 입 인 원
A2: 공 종 | C2: 기 준 | D2: 실 제 투 입 인 원 | L2: 환 산 계 수 | M2: 보 정 계 수 | N2: 적 용 투 입 인 원 | V2: 산 출 근 거 | W2: 적 용 근 거
D3: 기술사 | E3: 특 급 기술자 | F3: 고 급 기술자 | G3: 중 급 기술자 | H3: 초 급 기술자 | I3: 중급숙련 기술자 | J3: 초급숙련 기술자 | K3: 보통인부 | N3: 기술사 | O3: 특 급 기술자 | P3: 고 급 기술자 | Q3: 중 급 기술자 | R3: 초 급 기술자 | S3: 중급숙련 기술자 | T3: 초급숙련 기술자 | U3: 보통인부
A4: 1 | B4: 자료수집 및 준비 | C4: 소블록 | D4: ='<산근2>표준품셈'!C6 -> 0.113 | E4: ='<산근2>표준품셈'!D6 -> 0.338 | F4: ='<산근2>표준품셈'!E6 -> 0.45 | G4: ='<산근2>표준품셈'!F6 -> 0.562 | H4: ='<산근2>표준품셈'!G6 -> 0.787 | L4: ='<산근3>환산,보정(누수관리)'!$E$5 -> 5.762 | N4: =ROUND(D4*$L4,3) -> 0.651 | O4: =ROUND(E4*$L4,3) -> 1.948 | P4: =ROUND(F4*$L4,3) -> 2.593 | Q4: =ROUND(G4*$L4,3) -> 3.238 | R4: =ROUND(H4*$L4,3) -> 4.535 | V4: <산근2> 상수도관망 관리 표준품셈 P13 (상수도관망의 누수관리) | W4: *환산계수 (1)적용 (누수)
A5: =A4+1 -> 2 | B5: 현장시설물 현황조사 | C5: km | F5: ='<산근2>표준품셈'!E7 -> 0.067 | G5: ='<산근2>표준품셈'!F7 -> 0.067 | H5: ='<산근2>표준품셈'!G7 -> 0.067 | P5: =F5 -> 0.067 | Q5: =G5 -> 0.067 | R5: =H5 -> 0.067 | W5: *환산계수 (2)적용 (누수) (수량에 적용)
A6: =A5+1 -> 3 | B6: 유량분석 | C6: 회 | E6: ='<산근2>표준품셈'!D11 -> 0.25 | F6: ='<산근2>표준품셈'!E11 -> 0.25 | G6: ='<산근2>표준품셈'!F11 -> 0.75 | O6: =E6 -> 0.25 | P6: =F6 -> 0.25 | Q6: =G6 -> 0.75 | W6: *환산계수 (4)적용 (누수) (수량에 적용)
B7: 수압측정 | C7: 회 | F7: ='<산근2>표준품셈'!E13 -> 0.5 | G7: ='<산근2>표준품셈'!F13 -> 0.5 | H7: ='<산근2>표준품셈'!G13 -> 1 | P7: =F7 -> 0.5 | Q7: =G7 -> 0.5 | R7: =H7 -> 1 | W7: *환산계수 (5)적용 (누수) (수량에 적용)
A8: =A6+1 -> 4 | B8: 수압분석 | C8: 회 | E8: ='<산근2>표준품셈'!D14 -> 0.05 | F8: ='<산근2>표준품셈'!E14 -> 0.15 | G8: ='<산근2>표준품셈'!F14 -> 0.3 | O8: =E8 -> 0.05 | P8: =F8 -> 0.15 | Q8: =G8 -> 0.3 | W8: *환산계수 (6)적용 (누수) (수량에 적용)
A9: =A8+1 -> 5 | B9: 경계밸브 조사 | C9: 소블록 | E9: ='<산근2>표준품셈'!D16 -> 0.206 | F9: ='<산근2>표준품셈'!E16 -> 1.444 | G9: ='<산근2>표준품셈'!F16 -> 1.238 | H9: ='<산근2>표준품셈'!G16 -> 1.238 | O9: =E9 -> 0.206 | P9: =F9 -> 1.444 | Q9: =G9 -> 1.238 | R9: =H9 -> 1.238 | W9: *환산계수 (7)적용 (누수) (수량에 적용)
A10: =A9+1 -> 6 | B10: 블록고립 확인 | C10: 소블록 | D10: ='<산근2>표준품셈'!C17 -> 2.325 | E10: ='<산근2>표준품셈'!D17 -> 2.325 | F10: ='<산근2>표준품셈'!E17 -> 3.1 | G10: ='<산근2>표준품셈'!F17 -> 3.875 | H10: ='<산근2>표준품셈'!G17 -> 3.875 | N10: =D10 -> 2.325 | O10: =E10 -> 2.325 | P10: =F10 -> 3.1 | Q10: =G10 -> 3.875 | R10: =H10 -> 3.875 | W10: *환산계수 (8)적용 (누수) (수량에 적용)
A11: =A10+1 -> 7 | B11: 단계시험 | C11: 소블록 | D11: ='<산근2>표준품셈'!C19 -> 1.775 | E11: ='<산근2>표준품셈'!D19 -> 2.663 | F11: ='<산근2>표준품셈'!E19 -> 2.663 | G11: ='<산근2>표준품셈'!F19 -> 5.325 | H11: ='<산근2>표준품셈'!G19 -> 5.325 | N11: =D11 -> 1.775 | O11: =E11 -> 2.663 | P11: =F11 -> 2.663 | Q11: =G11 -> 5.325 | R11: =H11 -> 5.325 | W11: *환산계수 (9)적용 (누수) (수량에 적용)
A12: =A11+1 -> 8 | B12: 원격누수 감시 | C12: 소블록 | F12: ='<산근2>표준품셈'!E20 -> 0.45 | G12: ='<산근2>표준품셈'!F20 -> 2.025 | H12: ='<산근2>표준품셈'!G20 -> 2.025 | P12: =F12 -> 0.45 | Q12: =G12 -> 2.025 | R12: =H12 -> 2.025 | W12: *환산계수 (9)적용 (누수) (수량에 적용)
A13: =A12+1 -> 9 | B13: 하수도 유수조사 | C13: km | E13: ='<산근2>표준품셈'!D21 -> 0.025 | F13: ='<산근2>표준품셈'!E21 -> 0.075 | G13: ='<산근2>표준품셈'!F21 -> 0.2 | H13: ='<산근2>표준품셈'!G21 -> 0.2 | M13: ='<산근3>환산,보정(누수관리)'!$E$59 -> 0.9 | O13: =ROUND(E13*$M13,3) -> 0.023 | P13: =ROUND(F13*$M13,3) -> 0.068 | Q13: =ROUND(G13*$M13,3) -> 0.18 | R13: =ROUND(H13*$M13,3) -> 0.18 | W13: *환산계수 (11)적용 (누수) (수량에 적용) *보정계수 (가)적용 (누수)
A14: =A13+1 -> 10 | B14: 계량기 청음조사 | C14: 전 | F14: ='<산근2>표준품셈'!E22 -> 0.004 | G14: ='<산근2>표준품셈'!F22 -> 0.016 | I14: ='<산근2>표준품셈'!H22 -> 0.016 | M14: ='<산근3>환산,보정(누수관리)'!$E$72 -> 1.1 | P14: =ROUND(F14*$M14,3) -> 0.004 | Q14: =ROUND(G14*$M14,3) -> 0.018 | S14: =ROUND(I14*$M14,3) -> 0.018 | W14: *환산계수 (12)적용 (누수) (수량에 적용) *보정계수 (나)적용 (누수)
A15: =A14+1 -> 11 | B15: 관로노선 확인조사 | C15: km | F15: ='<산근2>표준품셈'!E24 -> 0.206 | G15: ='<산근2>표준품셈'!F24 -> 0.619 | H15: ='<산근2>표준품셈'!G24 -> 0.619 | I15: ='<산근2>표준품셈'!H24 -> 0.619 | P15: =F15 -> 0.206 | Q15: =G15 -> 0.619 | R15: =H15 -> 0.619 | S15: =I15 -> 0.619 | W15: *환산계수 (14)적용 (누수) (수량에 적용)
A16: =A15+1 -> 12 | B16: 상관식 누수탐사 | C16: km | E16: ='<산근2>표준품셈'!D25 -> 0.1 | F16: ='<산근2>표준품셈'!E25 -> 0.8 | H16: ='<산근2>표준품셈'!G25 -> 0.8 | I16: ='<산근2>표준품셈'!H25 -> 0.8 | M16: ='<산근3>환산,보정(누수관리)'!$E$59 -> 0.9 | O16: =ROUND(E16*$M16,3) -> 0.09 | P16: =ROUND(F16*$M16,3) -> 0.72 | R16: =ROUND(H16*$M16,3) -> 0.72 | S16: =ROUND(I16*$M16,3) -> 0.72 | W16: *환산계수 (15)적용 (누수) (수량에 적용) *보정계수 (가)적용 (누수)
A17: =A16+1 -> 13 | B17: 노면음청 조사 | C17: km | E17: ='<산근2>표준품셈'!D23 -> 0.15 | F17: ='<산근2>표준품셈'!E23 -> 0.45 | G17: ='<산근2>표준품셈'!F23 -> 0.45 | H17: ='<산근2>표준품셈'!G23 -> 0.45 | M17: ='<산근3>환산,보정(누수관리)'!$E$59 -> 0.9 | O17: =ROUND(E17*$M17,3) -> 0.135 | P17: =ROUND(F17*$M17,3) -> 0.405 | Q17: =ROUND(G17*$M17,3) -> 0.405 | R17: =ROUND(H17*$M17,3) -> 0.405 | W17: *환산계수 (13)적용 (누수) (수량에 적용) *보정계수 (가)적용 (누수)
A18: =A17+1 -> 14 | B18: 누수확인 조사 | C18: 건 | F18: ='<산근2>표준품셈'!E26 -> 0.142 | G18: ='<산근2>표준품셈'!F26 -> 0.142 | H18: ='<산근2>표준품셈'!G26 -> 0.142 | P18: =F18 -> 0.142 | Q18: =G18 -> 0.142 | R18: =H18 -> 0.142 | W18: *환산계수 (16)적용 (누수) (수량에 적용)
A19: =A18+1 -> 15 | B19: 누수복구 입회 | C19: 건 | F19: ='<산근2>표준품셈'!E27 -> 0.263 | I19: ='<산근2>표준품셈'!H27 -> 0.263 | P19: =F19 -> 0.263 | S19: =I19 -> 0.263 | W19: *환산계수 (17)적용 (누수) (수량에 적용)
A20: =A19+1 -> 16 | B20: 누수민원 대응 | C20: 건 | F20: ='<산근2>표준품셈'!E28 -> 0.513 | I20: ='<산근2>표준품셈'!H28 -> 0.513 | P20: =F20 -> 0.513 | S20: =I20 -> 0.513 | W20: *환산계수 (18)적용 (누수) (수량에 적용)
A21: =A20+1 -> 17 | B21: 성과보고서 작성 | C21: 식 | D21: ='<산근2>표준품셈'!C30 -> 0.6 | E21: ='<산근2>표준품셈'!D30 -> 0.9 | F21: ='<산근2>표준품셈'!E30 -> 1.2 | G21: ='<산근2>표준품셈'!F30 -> 1.5 | H21: ='<산근2>표준품셈'!G30 -> 1.8 | L21: ='<산근3>환산,보정(누수관리)'!$E$47 -> 1.793 | N21: =ROUND(D21*$L21,3) -> 1.076 | O21: =ROUND(E21*$L21,3) -> 1.614 | P21: =ROUND(F21*$L21,3) -> 2.152 | Q21: =ROUND(G21*$L21,3) -> 2.69 | R21: =ROUND(H21*$L21,3) -> 3.227 | W21: *환산계수 (19)적용 (누수)
A22: =A21+1 -> 18 | B22: 상수관로 상태점검 | C22: km | H22: =+'<산근2>표준품셈'!G35 -> 0.0114 | J22: =+'<산근2>표준품셈'!I35 -> 0.0114 | R22: =+H22 -> 0.0114 | T22: =+J22 -> 0.0114 | V22: <산근2> 상수도관망 관리 표준품셈 P21 (상수도관망 시설의 점검.정비) | W22: *환산계수 (1)적용 (점검.정비) (수량에 적용)
A23: =A22+1 -> 19 | B23: 가압시설 상태점검 | C23: 개소 | I23: =+'<산근2>표준품셈'!H36 -> 0.163 | J23: =+'<산근2>표준품셈'!I36 -> 0.2074 | S23: =+I23 -> 0.163 | T23: =+J23 -> 0.2074 | W23: *환산계수 (2)적용 (점검.정비) (수량에 적용)
A24: =A23+1 -> 20 | B24: 제수밸브실 상태점검 | C24: 개소 | H24: =+'<산근2>표준품셈'!G37 -> 0.0296 | J24: =+'<산근2>표준품셈'!I37 -> 0.037 | R24: =+H24 -> 0.0296 | T24: =+J24 -> 0.037 | W24: *환산계수 (8)적용 (점검.정비) (수량에 적용)
A25: =A24+1 -> 21 | B25: 공기밸브실 상태점검 | C25: 개소 | H25: =+'<산근2>표준품셈'!G38 -> 0.0222 | I25: =+'<산근2>표준품셈'!H38 -> 0.1221 | J25: =+'<산근2>표준품셈'!I38 -> 0.2999 | R25: =+H25 -> 0.0222 | S25: =+I25 -> 0.1221 | T25: =+J25 -> 0.2999 | W25: *환산계수 (9)적용 (점검.정비) (수량에 적용)
A26: =A25+1 -> 22 | B26: 이토밸브실 상태점검 | C26: 개소 | H26: =+'<산근2>표준품셈'!G39 -> 0.0222 | I26: =+'<산근2>표준품셈'!H39 -> 0.1332 | J26: =+'<산근2>표준품셈'!I39 -> 0.1777 | R26: =+H26 -> 0.0222 | S26: =+I26 -> 0.1332 | T26: =+J26 -> 0.1777 | W26: *환산계수 (10)적용 (점검.정비) (수량에 적용)
A27: =A26+1 -> 23 | B27: 감압밸브실 상태점검 | C27: 개소 | I27: =+'<산근2>표준품셈'!H40 -> 0.0333 | J27: =+'<산근2>표준품셈'!I40 -> 0.2444 | S27: =+I27 -> 0.0333 | T27: =+J27 -> 0.2444 | W27: *환산계수 (14)적용 (점검.정비) (수량에 적용)
A28: =A27+1 -> 24 | B28: 성과품 작성 | C28: 식 | G28: 2 | H28: 3.2 | Q28: =+G28 -> 2 | R28: =+H28 -> 3.2
B29: 부단수 관내시경 조사 | C29: 개소 | D29: ='<산근2>표준품셈'!C72 -> 0.2 | F29: ='<산근2>표준품셈'!E72 -> 0.6 | G29: ='<산근2>표준품셈'!F72 -> 1.6 | H29: ='<산근2>표준품셈'!G72 -> 1.6 | J29: ='<산근2>표준품셈'!I72 -> 2.6 | N29: =D29 -> 0.2 | P29: =F29 -> 0.6 | Q29: =G29 -> 1.6 | R29: =H29 -> 1.6 | T29: =J29 -> 2.6 | V29: <산근2> 수도정비기본계획 표준품셈 P46 (유수율제고사업)
A30: =A28+1 -> 25 | B30: 관망도 전산화 | C30: km | H30: ='<산근2>표준품셈'!G57 -> 2.107 | I30: ='<산근2>표준품셈'!H57 -> 2.107 | M30: ='<산근5>환산,보정(관망도보완)'!$G$35 -> 0.3 | R30: =ROUND(H30*$M30,3) -> 0.632 | S30: =ROUND(I30*$M30,3) -> 0.632 | V30: <산근2> 상수도관망 관리 표준품셈 P27 (상수도관망도 작성) | W30: *환산계수 (7)적용 (관망도) (수량에 적용) *보정계수 (나)적용 (관망도)
A31: =A30+1 -> 26 | B31: 속성정보 입력 | C31: km | G31: ='<산근2>표준품셈'!F58 -> 1.833 | H31: ='<산근2>표준품셈'!G58 -> 3.667 | I31: ='<산근2>표준품셈'!H58 -> 1.833 | M31: ='<산근5>환산,보정(관망도보완)'!$G$35 -> 0.3 | Q31: =ROUND(G31*$M31,3) -> 0.55 | R31: =ROUND(H31*$M31,3) -> 1.1 | S31: =ROUND(I31*$M31,3) -> 0.55 | W31: *환산계수 (7)적용 (관망도) (수량에 적용) *보정계수 (나)적용 (관망도)
A32: =A31+1 -> 27 | B32: 급수전조사 | C32: 전 | E32: ='<산근2>표준품셈'!D55 -> 0.006 | F32: ='<산근2>표준품셈'!E55 -> 0.02 | H32: ='<산근2>표준품셈'!G55 -> 0.02 | O32: =E32 -> 0.006 | P32: =F32 -> 0.02 | R32: =H32 -> 0.02 | V32: <산근2> 수도정비기본계획 표준품셈 P45 (유수율제고사업)
A33: =A32+1 -> 28 | B33: 수도미터 봉인 | C33: 개소 | K33: 0.019 | U33: =+K33 -> 0.019 | V33: <산근4> kwater 2023년 지방상수도 현대화사업 성과관리 추진계획 알림
A34: =A33+1 -> 29 | B34: 성과보증 보고서 작성 | C34: 소블록 | D34: 0.5 | E34: 1 | F34: 2 | G34: 3 | H34: 3 | N34: =+D34 -> 0.5 | O34: =+E34 -> 1 | P34: =+F34 -> 2 | Q34: =+G34 -> 3 | R34: =+H34 -> 3 | V34: <산근2> 수도정비기본계획 표준품셈 P46 (유수율제고사업)
B35: 관망운영관리 | C35: 월 | G35: 1 | H35: 1 | J35: 2 | Q35: =G35 -> 1 | R35: =H35 -> 1 | T35: =J35 -> 2 | V35: <산근5> 지방상수도 현대화사업 업무편람 P112 (개략사업비 산정기준)

Sheet <단산29-35>
A1: 항목번호 | C1: 단 가 산 출 서 | AV1: 비고
A2: ='<단산1-29>투입인원'!A34+1 -> 30 | D2: ▣ 유량계 현장교정( K water 기준) | AV2: 산근 7
E4: 1) 현장교정 수수료 : | N4: =P5 -> 657173 | T4: 원(부가세 제외)
E5: - 유량계 현장교정 수수료 : | P5: =ROUND(722890/1.1,0) -> 657173 | V5: 원 | W5: (300mm 이하) | AC5: ◎ 산출근거 : 한국수자원공사 교정검사료 기준
E7: 2) 출장비 : | F7: =(K8+K9+K10)*K12 -> 180000 | L7: 원
E8: - 일 비 : | K8: 40000 | S8: (20,000원/2인)
E9: - 식 비 : | K9: 40000 | S9: (20,000원/2인)
E10: - 교 통 비 : | K10: =ROUNDDOWN((50*2)/12.52*1688.6,-4) -> 10000 | P10: 사무실 ↔ | S10: 부안군(L=50km 적용)
H11: 12.52km/L, 유류대(경) 1,688.6원/L
E12: - 인 원 수 : | K12: 2 | L12: (2인 1조)
E14: 3) 유량계 현장교정비 : | N14: =F7+N4 -> 837173 | T14: 원(1회당) | AD14: 적용 : | AG14: =+ROUND(N14,-3) -> 837000 | AM14: =+ROUND(U14,-3) -> 0
A16: =A2+1 -> 31 | C16: ▣ 주재비 | J16: (주5일 월 20.3일 근무/4인 상주) | AV16: 산근 8
D17: - | E17: 중급기술자 | J17: : | K17: ='<산근1>노임단가'!$E$4 -> 295138 | P17: 인ᆞ일 | S17: × | T17: 0.3 | W17: × | X17: 20.3 | AA17: 일/월 | AD17: × | AF17: 1 | AG17: 인 | AI17: = | AJ17: =TRUNC((K17*X17*AF17*T17),-4) -> 1790000 | AP17: 원ᆞ월
D18: - | E18: 초급기술자 | J18: : | K18: ='<산근1>노임단가'!$F$4 -> 235459 | P18: 인ᆞ일 | S18: × | T18: 0.3 | W18: × | X18: 20.3 | AA18: 일/월 | AD18: × | AF18: 0 | AG18: 인 | AI18: = | AJ18: =TRUNC((K18*X18*AF18*T18),-4) -> 0 | AP18: 원ᆞ월
D19: - | E19: 초급숙련기술자 | J19: : | K19: ='<산근1>노임단가'!$I$4 -> 218142 | P19: 인ᆞ일 | S19: × | T19: 0.3 | W19: × | X19: 20.3 | AA19: 일/월 | AD19: × | AF19: 1 | AG19: 인 | AI19: = | AJ19: =TRUNC((K19*X19*AF19*T19),-4) -> 1320000 | AP19: 원ᆞ월
D20: - | E20: 초급숙련기술자 | J20: : | K20: ='<산근1>노임단가'!$I$4 -> 218142 | P20: 인ᆞ일 | S20: × | T20: 0.3 | W20: × | X20: 20.3 | AA20: 일/월 | AD20: × | AF20: 0 | AG20: 인 | AI20: = | AJ20: =TRUNC((K20*X20*AF20*T20),-4) -> 0 | AP20: 원ᆞ월
F21: 적 용 | I21: (상주 직접인건비의 30% 적용) | AI21: = | AJ21: =TRUNC((AJ17+AJ18+AJ19+AJ20),-4) -> 3110000 | AP21: 원ᆞ월
C22: ※ 엔지니어링사업대가의 기준(산업통상자원부 제2024-217호)
D23: - 현장에 상주해야 하는 엔지니어링사업의 주재비는 그 내역을 산정하기 어려운 경우 상주 직접인건비의 30%로 한다.
C26: ▣ 비상주 기술인의 출장여비
D27: - | E27: 비상주 기술인 직접인건비의 10% 적용 | S27: : | AB27: × | AD27: 0.1 | AJ27: = | AL27: =U27*AD27 -> 0 | AS27: 원
F28: 적 용 | I28: (직접인건비의 10% 적용) | AJ28: = | AL28: =TRUNC(AL27,-4) -> 0 | AS28: 원 | AV28: 천단위 절사
D29: ※ 건설엔지니어링 대가 등에 관한 기준(국토교통부고시 제2023-530호)
E30: - [별표2] 건설사업관리기술인 배치기준 및 건설사업관리 직접경비
E31: - 기술지원기술인 직접인건비의 10%를 적용한다.
A33: =A16+1 -> 32 | C33: ▣ 차량운행비 | AV33: 산근 9
D34: - | E34: 손 료(아반떼) | P34: : | R34: =20340000/1.1 -> 18490909 | T34: 백만원 | W34: × | X34: 0.0001547 | AD34: × | AE34: 8 | AF34: 시간 | AH34: × | AI34: 22 | AK34: 일 | AL34: = | AM34: =TRUNC(R34*X34*AE34*AI34,-4) -> 500000 | AR34: 원
D35: - | E35: 재료비(휘발유) | P35: : | S35: 1688.6 | X35: 원 | AA35: × | AC35: 10 | AE35: ℓ/일 | AH35: × | AI35: 22 | AK35: 일 | AL35: = | AM35: =TRUNC(S35*AC35*AI35,-4) -> 370000 | AR35: 원
D36: - | E36: 잡 품 | P36: : | T36: 주연료비의 | AB36: × | AF36: 0.1 | AL36: = | AM36: =TRUNC(AM35*AF36,-4) -> 30000 | AR36: 원
G37: 계 | H37: (천원단위 절사) | AL37: = | AM37: =TRUNC(SUM(AM34:AR36),-4) -> 900000 | AR37: 원
C38: ※ 건설엔지니어링 대가 등에 관한 기준(국토교통부고시 제2023-580호)
D39: - [별표2] 건설사업관리기술인 배치기준 및 건설사업관리 직접경비
E41: 공사비 | P41: 차량대수 | AA41: 차량의 종류
E42: 1,000억원 미만 | P42: 1 | AA42: ㆍ승용차 : 배기량 2,000cc이하
E43: 1,000억원 이상 | P43: 2이상 | AA43: ㆍ승합차 : 배기량 3,000cc이하
E45: 구분 | J45: 산정일수 | P45: 시간당 손료계수 | AA45: 재료비
P46: (상각비ㆍ정비비ㆍ관리비) | AA46: 주연료 | AJ46: 잡품
E47: 승용차 | J47: 22일/월 | P47: 1,547 Ⅹ 10 -7 | AA47: 휘발유 10ℓ/일 | AJ47: 주연료비의 10%
E48: 승합차 | J48: 22일/월 | P48: 1,319 Ⅹ 10 -7 | AA48: 경유 10ℓ/일
C49: ※ 한국석유공사 오피넷 기준 평균 판매가격(부가세포함)
E50: 구분 | M50: 보통휘발유 | U50: 자동차용 경유 | AC50: 실내 등유 | AK50: 자동차용 부탄
E51: 2026년 2월 | M51: 1688.6 | U51: 1587.3 | AC51: 1312.2 | AK51: 998
A53: =A33+1 -> 33 | C53: ▣ 도서인쇄비 | AV53: 산근 10
D54: - | E54: 보고서 인쇄비(칼라, A4) | N54: : | O54: 100 | S54: × | U54: 10 | X54: × | Y54: 200 | AI54: = | AK54: =O54*U54*Y54 -> 200000 | AR54: 원
D55: - | E55: 보고서 인쇄비(흑백, A4) | N55: : | O55: 100 | S55: × | U55: 10 | X55: × | Y55: 50 | AI55: = | AK55: =O55*U55*Y55 -> 50000 | AR55: 원
D56: - | E56: 각종 조서(칼라, A4) | N56: : | O56: 1000 | S56: × | U56: 5 | X56: × | Y56: 200 | AI56: = | AK56: =O56*U56*Y56 -> 1000000 | AR56: 원
D57: - | E57: 각종 조서(흑백, A4) | N57: : | O57: 1000 | S57: × | U57: 5 | X57: × | Y57: 50 | AI57: = | AK57: =O57*U57*Y57 -> 250000 | AR57: 원
D58: - | E58: CD 제작 | N58: : | Q58: 2 | S58: × | T58: 1100 | AI58: = | AK58: =Q58*T58 -> 2200 | AR58: 원
D59: - | E59: 제본(코팅제본, A4) | N59: : | Q59: 4000 | V59: × | W59: 30 | AI59: = | AK59: =Q59*W59 -> 120000 | AR59: 원
G60: 계 | H60: (천원단위 절사) | AI60: = | AK60: =TRUNC(SUM(AK54:AQ59),-4) -> 1620000 | AR60: 원
A62: =A53+1 -> 34 | D62: ▣ 단수 및 고립시험 홍보비 | AV62: 산근 10
D64: 1) 단수홍보문 복사비 | N64: : | O64: 150 | R64: 매 | S64: x | T64: 5 | V64: 회 | W64: x | X64: ='과업대상지역 현황'!$A$5 -> 7 | Z64: 소블록 | AC64: x | AE64: 50 | AG64: 원/매 | AJ64: = | AL64: =+O64*T64*X64*AE64 -> 262500 | AR64: 원
D65: 2) 고립시험홍보문 복사비 | N65: : | O65: 300 | R65: 매 | S65: x | T65: 5 | V65: 회 | W65: x | X65: ='과업대상지역 현황'!$A$5 -> 7 | Z65: 소블록 | AC65: x | AE65: 50 | AG65: 원/매 | AJ65: = | AL65: =+O65*T65*X65*AE65 -> 525000 | AR65: 원
D66: 3) 전단지배포 | N66: : | T66: 5 | V66: 회 | W66: x | X66: ='과업대상지역 현황'!$A$5 -> 7 | Z66: 소블록 | AC66: x | AD66: =12410*8 -> 99280 | AI66: 원 | AJ66: = | AL66: =+T66*X66*AD66 -> 3474800 | AR66: 원
D67: 4) 플랜카드 제작설치 | N67: : | O67: 4 | Q67: 개소 | S67: x | T67: 1 | V67: 회 | W67: x | X67: ='과업대상지역 현황'!$A$5 -> 7 | Z67: 소블록 | AC67: x | AD67: 45000 | AI67: 원 | AJ67: = | AL67: =+O67*T67*X67*AD67 -> 1260000 | AR67: 원
G68: 계 | AL68: =SUM(AL64:AR67) -> 5522300 | AR68: 원
C69: ※ 전단지배포 단가는 전북특별자치도 생활임금 적용
F71: `1차 : | I71: =SUM(AL64:AQ66)/5+AL67 -> 2112460 | T71: `2차 : | W71: =SUM(AL64:AR66)/5 -> 852460 | AH71: `3차 : | AK71: =SUM(AL64:AR66)/5 -> 852460
T72: `4차 : | W72: =SUM(AL64:AR66)/5 -> 852460 | AH72: `5차 : | AK72: =SUM(AL64:AR66)/5 -> 852460
A74: =A62+1 -> 35 | D74: ▣ 산업안전보건관리비 | AV74: 산근 11 | AX74: 특수및기타건설공사 | AY74: 0.0207 | AZ74: 0.0159 | BA74: 2450000 | BB74: 0.0164 | BC74: 0.0178
E75: 1) 안전관리 대상 과업(외업)
E76: 구 분 | N76: 직접인건비 | V76: 제경비 | AD76: 기술료 | AL76: 용역원가
E77: 현장시설물 현황조사 | N77: =설계내역서!$G$7 -> 3861033 | V77: =INT(N77*1.1) -> 4247136 | AD77: =INT((V77+N77)*0.2) -> 1621633 | AL77: =N77+V77+AD77 -> 9729802
E78: 경계밸브 조사 | N78: =설계내역서!$G$15 -> 1182704 | V78: =INT(N78*1.1) -> 1300974 | AD78: =INT((V78+N78)*0.2) -> 496735 | AL78: =N78+V78+AD78 -> 2980413
E79: 블록고립 확인 | N79: =설계내역서!$G$16 -> 4974126 | V79: =INT(N79*1.1) -> 5471538 | AD79: =INT((V79+N79)*0.2) -> 2089132 | AL79: =N79+V79+AD79 -> 12534796
E80: 단계시험 | N80: =설계내역서!$G$18 -> 5476861 | V80: =INT(N80*1.1) -> 6024547 | AD80: =INT((V80+N80)*0.2) -> 2300281 | AL80: =N80+V80+AD80 -> 13801689
E81: 하수도 유수조사 | N81: =설계내역서!$G$20 -> 3243535 | V81: =INT(N81*1.1) -> 3567888 | AD81: =INT((V81+N81)*0.2) -> 1362284 | AL81: =N81+V81+AD81 -> 8173707
E82: 계량기 청음조사 | N82: =설계내역서!$G$21 -> 8844800 | V82: =INT(N82*1.1) -> 9729280 | AD82: =INT((V82+N82)*0.2) -> 3714816 | AL82: =N82+V82+AD82 -> 22288896
E83: 관로노선 확인조사 | N83: =설계내역서!$G$22 -> 6567408 | V83: =INT(N83*1.1) -> 7224148 | AD83: =INT((V83+N83)*0.2) -> 2758311 | AL83: =N83+V83+AD83 -> 16549867
E84: 상관식 누수탐사 | N84: =설계내역서!$G$23 -> 12705117 | V84: =INT(N84*1.1) -> 13975628 | AD84: =INT((V84+N84)*0.2) -> 5336149 | AL84: =N84+V84+AD84 -> 32016894
E85: 노면음청 조사 | N85: =설계내역서!$G$24 -> 11157024 | V85: =INT(N85*1.1) -> 12272726 | AD85: =INT((V85+N85)*0.2) -> 4685950 | AL85: =N85+V85+AD85 -> 28115700
E86: 누수확인 조사 | N86: =설계내역서!$G$25 -> 5735472 | V86: =INT(N86*1.1) -> 6309019 | AD86: =INT((V86+N86)*0.2) -> 2408898 | AL86: =N86+V86+AD86 -> 14453389
E87: 누수복구 입회 | N87: =설계내역서!$G$26 -> 7081632 | V87: =INT(N87*1.1) -> 7789795 | AD87: =INT((V87+N87)*0.2) -> 2974285 | AL87: =N87+V87+AD87 -> 17845712
E88: 상수관로 상태점검 | N88: =설계내역서!$G$30 -> 294587 | V88: =INT(N88*1.1) -> 324045 | AD88: =INT((V88+N88)*0.2) -> 123726 | AL88: =N88+V88+AD88 -> 742358
E89: 가압시설 상태점검 | N89: =설계내역서!$G$31 -> 86006 | V89: =INT(N89*1.1) -> 94606 | AD89: =INT((V89+N89)*0.2) -> 36122 | AL89: =N89+V89+AD89 -> 216734
E90: 제수밸브실 상태점검 | N90: =설계내역서!$G$33 -> 300800 | V90: =INT(N90*1.1) -> 330880 | AD90: =INT((V90+N90)*0.2) -> 126336 | AL90: =N90+V90+AD90 -> 758016
E91: 공기밸브실 상태점검 | N91: =설계내역서!$G$34 -> 2023640 | V91: =INT(N91*1.1) -> 2226004 | AD91: =INT((V91+N91)*0.2) -> 849928 | AL91: =N91+V91+AD91 -> 5099572
E92: 이토밸브실 상태점검 | N92: =설계내역서!$G$35 -> 1546020 | V92: =INT(N92*1.1) -> 1700622 | AD92: =INT((V92+N92)*0.2) -> 649328 | AL92: =N92+V92+AD92 -> 3895970
E93: 감압밸브실 상태점검 | N93: =설계내역서!$G$36 -> 369840 | V93: =INT(N93*1.1) -> 406824 | AD93: =INT((V93+N93)*0.2) -> 155332 | AL93: =N93+V93+AD93 -> 931996
E94: 급수전조사 | N94: =설계내역서!G45 -> 53914770 | V94: =INT(N94*1.1) -> 59306247 | AD94: =INT((V94+N94)*0.2) -> 22644203 | AL94: =N94+V94+AD94 -> 135865220
E95: 수도미터 봉인 | N95: =설계내역서!$G$46+설계내역서!$G$48 -> 0 | V95: =INT(N95*1.1) -> 0 | AD95: =INT((V95+N95)*0.2) -> 0 | AL95: =N95+V95+AD95 -> 0
E96: 계 | N96: =SUM(N77:U95) -> 129365375 | V96: =SUM(V77:AC95) -> 142301907 | AD96: =SUM(AD77:AK95) -> 54333449 | AL96: =SUM(AL77:AS95) -> 326000731
D98: ▣ 산업안전보건관리비 산정 | R98: =ROUNDDOWN(IF(AL96<500000000,N96*AY74,IF(N96<5000000000,N96*AZ74,N96*BC74)),-5) -> 2600000 | AI98: 원

Sheet 간지6
C15: 6. 산 출 근 거

Sheet <산근1>노임단가
A1: <산근 1> 노임단가
A2: □ 엔지니어링기술부문 기술자 노임단가[건설부문]
A3: 구 분 | B3: 기술사 | C3: 특급 기술자 | D3: 고급 기술자 | E3: 중급 기술자 | F3: 초급 기술자 | G3: 고급숙련 기술자 | H3: 중급숙련 기술자 | I3: 초급숙련 기술자
A4: 노임단가 | B4: 467217 | C4: 373353 | D4: 310884 | E4: 295138 | F4: 235459 | G4: 281075 | H4: 250087 | I4: 218142
A5: ※한국엔지니어링협회 기획홍보팀-1515호(2025.12.2.)
A39: □ 2026년 상반기 적용 건설업 임금실태 조사 보고서(대한건설협회)
A40: 구 분 | B40: 보통인부
A41: 노임단가 | B41: 172068

Sheet <산근2>표준품셈
A1: <산근 2> 표준품셈
A2: ▣ 상수도관망 관리 표준품셈 2023. 1(제3장 상수도관망의 누수탐사 투입인원수 산정기준, P13-15)
A3: 기 본 업 무 | B3: 단위 | C3: 기준인원수(인∙일/단위) | J3: 환산 계수 | K3: 보정 계수
C4: 기술사 | D4: 특급 기술자 | E4: 고급 기술자 | F4: 중급 기술자 | G4: 초급 기술자 | H4: 중급숙련 기술자 | I4: 초급숙련 기술자 | K4: (가) | Q4: (나)
A5: 1. 작업준비 및 계획
A6: 1.1 자료수집 및 준비 | B6: 소블록 | C6: 0.113 | D6: 0.338 | E6: 0.45 | F6: 0.562 | G6: 0.787 | J6: (1)
A7: 1.2 현장시설물 현황조사 | B7: km | E7: 0.067 | F7: 0.067 | G7: 0.067 | J7: (2)
A8: 2. 유량 및 수압측정
A9: 2.1 유량
A10: 2.1.1 측정 | B10: 회 | D10: 0.5 | E10: 0.5 | F10: 2 | G10: 2 | J10: (3)
A11: 2.1.2 분석 | B11: 회 | D11: 0.25 | E11: 0.25 | F11: 0.75 | J11: (4)
A12: 2.2 수압
A13: 2.2.1 측정 | B13: 회 | E13: 0.5 | F13: 0.5 | G13: 1 | J13: (5)
A14: 2.2.2 분석 | B14: 회 | D14: 0.05 | E14: 0.15 | F14: 0.3 | J14: (6)
A15: 3. 블록고립확인
A16: 3.1 경계밸브 조사 | B16: 소블록 | D16: 0.206 | E16: 1.444 | F16: 1.238 | G16: 1.238 | J16: (7)
A17: 3.2 블록고립 확인 | B17: 소블록 | C17: 2.325 | D17: 2.325 | E17: 3.1 | F17: 3.875 | G17: 3.875 | J17: (8)
A18: 4. 누수탐사
A19: 4.1 단계시험 | B19: 소블록 | C19: 1.775 | D19: 2.663 | E19: 2.663 | F19: 5.325 | G19: 5.325 | J19: (9)
A20: 4.2 원격누수감시 | B20: 소블록 | E20: 0.45 | F20: 2.025 | G20: 2.025 | J20: (10)
A21: 4.3 하수도 유수조사 | B21: km | D21: 0.025 | E21: 0.075 | F21: 0.2 | G21: 0.2 | J21: (11) | K21: ●
A22: 4.4 계량기 청음조사 | B22: 전 | E22: 0.004 | F22: 0.016 | H22: 0.016 | J22: (12) | Q22: ●
A23: 4.5 노면음청 조사 | B23: km | D23: 0.15 | E23: 0.45 | F23: 0.45 | G23: 0.45 | J23: (13) | K23: ●
A24: 4.6 관로노선 확인조사 | B24: km | E24: 0.206 | F24: 0.619 | G24: 0.619 | H24: 0.619 | J24: (14)
A25: 4.7 상관식 누수탐사 | B25: km | D25: 0.1 | E25: 0.8 | G25: 0.8 | H25: 0.8 | J25: (15) | K25: ●
A26: 4.8 누수확인 조사 | B26: 건 | E26: 0.142 | F26: 0.142 | G26: 0.142 | J26: (16)
A27: 4.9 누수복구 입회 | B27: 건 | E27: 0.263 | H27: 0.263 | J27: (17)
A28: 4.10 누수민원 대응 | B28: 건 | E28: 0.513 | H28: 0.513 | J28: (18)
A29: 5. 보고서 작성
A30: 5.1 성과보고서 작성 | B30: 식 | C30: 0.6 | D30: 0.9 | E30: 1.2 | F30: 1.5 | G30: 1.8 | J30: (19)
A32: ▣ 상수도관망 관리 표준품셈 2023. 1(제4장 상수도관망시설의 점검.정비 투입인원수 산정기준, P21)
A33: 기 본 업 무 | E33: 단위 | F33: 기준인원수(인∙일/단위) | J33: 환산 계수 | K33: 보정 계수
F34: 중급 기술자 | G34: 초급 기술자 | H34: 중급숙련 기술자 | I34: 초급숙련 기술자 | K34: (가) | Q34: (나)
A35: Ⅰ. 상태점검 | B35: Ⅰ.관로 | C35: 가. 상수관로 | E35: km | G35: 0.0114 | I35: 0.0114 | J35: (1)
C36: 나. 가압시설 | E36: 개소 | H36: 0.163 | I36: 0.2074 | J36: (2)
B37: 2. 밸브실 및 밸브류 | C37: 가. 제수밸브 | E37: 개소 | G37: 0.0296 | I37: 0.037 | J37: (8)
C38: 나. 공기밸브 | E38: 개소 | G38: 0.0222 | H38: 0.1221 | I38: 0.2999 | J38: (9)
C39: 다. 이토밸브 | E39: 개소 | G39: 0.0222 | H39: 0.1332 | I39: 0.1777 | J39: (10)
C40: 라. 감압밸브 | E40: 개소 | H40: 0.0333 | I40: 0.2444 | J40: (14)
A41: Ⅱ. 성과품작성 | E41: 식 | F41: 2 | G41: 3.2 | J41: (19)
A42: 주 1) 제4장 상수도관망시설의 점검.정비 p22-23 환산계수 및 보정계수 미적용
A44: ▣ 상수도관망 관리 표준품셈 2023. 1(제5장 상수도관망도 작성 투입인원수 산정기준, P27-28)
A45: 기 본 업 무 | B45: 단위 | C45: 기준인원수(인∙일/단위) | J45: 환산 계수 | K45: 보정 계수
C46: 기술사 | D46: 특급 기술자 | E46: 고급 기술자 | F46: 중급 기술자 | G46: 초급 기술자 | H46: 중급숙련 기술자 | I46: 초급숙련 기술자 | K46: (가) | Q46: (나)
A47: 1. 작업준비 및 계획
A48: 1.1 자료수집 및 준비 | B48: 소블록 | C48: 0.113 | D48: 0.338 | E48: 0.45 | F48: 0.562 | G48: 0.787 | J48: (1)
A49: 1.2 현장시설물 현황조사 | B49: km | E49: 0.067 | F49: 0.067 | G49: 0.067 | J49: (2)
A50: 2. 조사 및 탐사
A51: 2.1 관로 조사 및 탐사
A52: 2.1.1 관로탐사 | B52: km | D52: 0.822 | E52: 1.441 | F52: 0.823 | G52: 0.927 | J52: (3)
A53: 2.1.2 관로노선 확인조사 | B53: km | E53: 0.206 | F53: 0.619 | G53: 0.619 | H53: 0.619 | J53: (4)
A54: 2.2 밸브류조사 및 탐사 | B54: 소블록 | D54: 1.458 | E54: 4.752 | F54: 3.645 | G54: 3.645 | J54: (5)
A55: 2.3 급수전 조사 | B55: 전 | D55: 0.006 | E55: 0.02 | G55: 0.02 | J55: (6) | K55: ●
A56: 3. 관망도 작성
A57: 3.1 관망도 전산화 | B57: km | G57: 2.107 | H57: 2.107 | J57: (7) | Q57: ●
A58: 3.2 속성정보 입력 | B58: km | F58: 1.833 | G58: 3.667 | H58: 1.833 | J58: (7) | Q58: ●
A59: 주 1) "3. 관망도 작성"의 기준인원수는 「건설공사 표준품셈(국토부)」 토목부문/제9장/9-6-4/7.지하시설물도 작성 중 "가. 지하시설물 조사/탐사"의
A60: 지하시설물원도작성과 대장조서 및 속성 DB작성 투입인원수에 시설물별 증감계수(상수도 1.1)를 적용하여 제시
A61: 2) "3. 관망도 작성"의 중급숙련기술자는 측량기술자 노임단가(한국공간정보산업협회) 측량기능계 중급기능사를 적용
A63: ▣ 수도정비기본계획 표준품셈 2020. 1(부록4. 2) 유수율 제고사업 투입인원수 산정기준, P45)
A64: 기 본 업 무 | B64: 단위 | C64: 기준인원수(인∙일/단위) | J64: 비 고
C65: 기술사 | D65: 특급 기술자 | E65: 고급 기술자 | F65: 중급 기술자 | G65: 초급 기술자 | H65: 중급숙련 기술자 | I65: 초급숙련 기술자
A66: 1. 확인검침 | B66: 전 | F66: 0.00104 | H66: 0.01667
A69: ▣ 수도정비기본계획 표준품셈 2020. 1(부록4. 2) 유수율 제고사업 투입인원수 산정기준, P46)
A70: 기 본 업 무 | B70: 단위 | C70: 기준인원수(인∙일/단위) | J70: 비 고
C71: 기술사 | D71: 특급 기술자 | E71: 고급 기술자 | F71: 중급 기술자 | G71: 초급 기술자 | H71: 중급숙련 기술자 | I71: 초급숙련 기술자
A72: 1. 부단수관내시경조사 | B72: 개소 | C72: 0.2 | E72: 0.6 | F72: 1.6 | G72: 1.6 | I72: 2.6

Sheet <산근3>환산,보정(누수관리)
A1: <산근 3> 환산계수 및 보정계수(상수도관망의 누수탐사)
A2: 구 분 | B2: 항목 | C2: 세부내용 | H2: 비고
A3: 환산계수 | B3: (1) 소블록 | C3: ▪ (B1)0.9 | H3: 소수점 넷째자리 에서 반올림
C4: ※ B1 = 대상 소블록 개소수
C5: (B1) | D5: = | E5: =ROUND(A80^0.9,3) -> 5.762
B6: (2) 현황조사 연장 | C6: ▪ L1
C7: ※ L1 = 현장조사를 위한 관로연장(km)*
C8: * 조사가 필요한 송수 ∙ 배수 ∙ 급수관 연장
B9: (3) 유량 측정 | C9: ▪ NQ1
C10: ※ NQ1 = 유량 측정 횟수
B11: (4) 유량 분석 | C11: ▪ NQ2
C12: ※ NQ2 = 유량 분석 횟수
B13: (5) 수압 측정 | C13: ▪ NP1
C14: ※ NP1 = 수압 측정 횟수
B15: (6) 수압 분석 | C15: ▪ NP2
C16: ※ NP2 = 수압 분석 횟수
B17: (7 )소블록 | C17: ▪ B2
C18: ※ B2 = 대상 소블록 개소수
B19: (8) 소블록 | C19: ▪ B3
C20: ※ B3 = 대상 소블록 개소수
B21: (9) 소블록 | C21: ▪ B4
C22: ※ B4 = 대상 소블록 개소수
B23: (10) 소블록 | C23: ▪ B5
C24: ※ B5 = 대상 소블록 개소수
B25: (11) 하수관로 연장 | C25: ▪ L2
C26: ※ L2 = 대상 하수관로 연장(km)*
C27: * 조사가 필요한 하수관로 연장
B28: (12) 전 | C28: ▪ J
C29: ※ J = 대상 급수전 개소수
B30: (13) 관로 연장 | C30: ▪ L3
C31: ※ L3 = 대상 관로 연장(km)*
C32: * 조사가 필요한 배수 ∙ 급수관 연장
B33: (14) 관로조사 연장 | C33: ▪ L4
C34: ※ L4 = 대상 관로 연장(km)*
C35: * 조사가 필요한 송수 ∙ 배수 ∙ 급수관 연장
B36: (15) 관로탐사 연장 | C36: ▪ L5
C37: ※ L5 = 대상 관로 연장(km)*
C38: * 상관식탐사가 필요한 송수 ∙ 배수 ∙ 급수관 연장
B39: (16) 누수확인 조사건수 | C39: ▪ N1
C40: ※ N1 = 누수확인 조사 건수
B41: (17) 누수복구 입회건수 | C41: ▪ N2
C42: ※ N2 = 누수복구 입회 건수
B43: (18) 누수민원 대응건수 | C43: ▪ N3
C44: ※ N3 = 누수민원 대응 건수
B45: (19) 식 | C45: ▪ (B6)0.3
C46: ※ B6 = 대상 소블록 개소수
C47: (B6) | D47: = | E47: =ROUND(A80^0.3,3) -> 1.793
A48: 구 분 | B48: 항목 | C48: 세부내용 | H48: 비고
A49: 보정계수 | B49: (가) 복잡도주1) | C49: ▪ N ＜ 25, | D49: : | E49: 0.9
C50: ▪ 25 ≤ N ＜ 55, | D50: : | E50: 1
C51: ▪ N ≥ 55, | D51: : | E51: 1.1
C52: ※ N = 단위연장당 계량기수*
C53: * N | D53: = | E53: 대상구간 계량기 수[개소]
E54: 대상지역 현황조사 관로연장 [km]
D56: = | E56: =C80 -> 8095 | F56: = | G56: =E56/E57 -> 16.91745
E57: =E80 -> 478.5
C59: N | D59: = | E59: =ROUND(IF(G56>=55,1.1,IF(G56>=25,1,0.9)),3) -> 0.9
B61: (나) 밀집도주2) | C61: ▪ N ≥ 55, | D61: : | E61: 0.9
C62: ▪ 25 ≤ N ＜ 55, | D62: : | E62: 1
C63: ▪ N ＜ 25, | D63: : | E63: 1.1
C64: ※ N = 단위연장당 계량기수*
C66: ※ N (단위연장당 계량기수) = | E66: 대상구간 계량기 수[개소]
E67: 대상지역 현황조사 관로연장 [km]
D69: = | E69: =C80 -> 8095 | F69: = | G69: =E69/E70 -> 16.91745
E70: =E80 -> 478.5
C72: N | D72: = | E72: =ROUND(IF(G69>=55,0.9,IF(G69>=25,1,1.1)),3) -> 1.1
A74: 주1) "복잡도는 도심지, 교외지, 상업지역, 주거지역 등의 수도관로 매설상황과 교통혼잡, 소음, 야간 물사용에 따른 누수탐사 가능
A75: 시간의 증감 등으로 인한 업무난이도 고려, 하수도 유수조사, 노면음청조사, 상관식누수탐사에 적용
A76: 주2) "밀집도"는 수용가 계량기의 밀집 여부에 따른 이동 소요시간의 증감을 고려, 계량기 청음조사에 적용
A78: □ 상수도 현황
A79: 소블록수 | C79: 계량기수(전) | E79: 관로연장(km) | G79: 비 고
A80: =+'과업대상지역 현황'!A5 -> 7 | C80: =+'과업대상지역 현황'!G5 -> 8095 | E80: =+'과업대상지역 현황'!C5 -> 478.5

Sheet <산근4>환산,보정(점검정비)
A1: <산근 4> 환산계수 및 보정계수(상수도관망시설의 점검․정비)
A2: 구 분 | B2: 항목 | C2: 세부내용 | H2: 비고
A3: 환산계수 | B3: (1) 관로 연장 | C3: ▪ L1 | H3: 소수점 다섯째 자리에서 반올림
C4: ※ L1 = 대상 관로 연장(km)*
C5: * 상태점검이 필요한 송수 ․ 배수관 연장
B6: (2) 가압시설 | C6: ▪ N1
C7: ※ N1 = 가압시설(개소)*
C8: * 관로상에 설치된 소형가압펌프 시설(취수펌프, 송수펌프 제외)
B9: (3) 제수밸브실 | C9: ▪ V1
C10: ※ V1 = 제수밸브실(개소)*
C11: * 제수밸브 200mm 이하 밸브실
B12: (4) 제수밸브실 | C12: ▪ V2
C13: ※ V2 = 제수밸브실(개소)*
C14: * 제수밸브 350mm 이하 밸브실
B15: (5) 제수밸브실 | C15: ▪ V3
C16: ※ V3 = 제수밸브실(개소)*
C17: * 제수밸브 400mm 이상 ~ 700mm 이하 밸브실
B18: (6) 제수밸브실 | C18: ▪ V4
C19: ※ V4 = 제수밸브실(개소)*
C20: * 제수밸브 800mm 이상 ~ 1,600mm 이하 밸브실
B21: (7) 제수밸브실 | C21: ▪ V5
C22: ※ V5 = 제수밸브실(개소)*
C23: * 제수밸브 1,650mm 이상 밸브실
B24: (8) 제수밸브실 | C24: ▪ V6
C25: ※ V6 = 제수밸브실(개소)*
C26: * 밸브보호통 또는 원형밸브실
B27: (9) 공기밸브실 | C27: ▪ V7
C28: ※ V7 = 공기밸브실(개소)
B29: (10) 이토밸브실 | C29: ▪ V8
C30: ※ V8 = 이토밸브실(개소)
B31: (11) 신축관실 | C31: ▪ V9
C32: ※ V9 = 신축관실(개소)*
C33: * 신축관 700mm 이하 밸브실
B34: (12) 신축관실 | C34: ▪ V10
C35: ※ V10 = 신축관실(개소)*
C36: * 신축관 800mm 이상 ~ 1,600mm 이하 밸브실
B37: (13)신축관실 | C37: ▪ V11
C38: ※ V11 = 신축관실(개소)*
C39: * 신축관 1,650mm 이상 밸브실
B40: (14)안전밸브실 및 감압밸브실 | C40: ▪ V12
C41: ※ V12 = 안전밸브실 및 감압밸브실(개소)
B42: (15) 제수밸브 | C42: ▪ VB1
C43: ※ VB1 = 분해점검 대상 버터플라이 밸브(개소)*
C44: * 기어박스가 있는 350mm 이하 제수밸브
B45: (16) 제수밸브 | C45: ▪ VB2
C46: ※ VB2 = 분해점검 대상 버터플라이 밸브(개소)*
C47: * 기어박스가 있는 400mm 이상 ~ 700mm 이하 제수밸브
B48: (17) 제수밸브 | C48: ▪ VB3
C49: ※ VB3 = 분해점검 대상 버터플라이 밸브(개소)*
C50: * 기어박스가 있는 800mm 이상 ~ 1,600mm 이하 제수밸브
B51: (18) 제수밸브 | C51: ▪ VB4
C52: ※ VB4 = 분해점검 대상 버터플라이 밸브(개소)*
C53: * 기어박스가 있는 1,650mm 이상 제수밸브
B54: (19)공기밸브 | C54: ▪ VA
C55: ※ VA = 분해점검 대상 공기밸브(개소)
B56: (20) 식 | C56: ▪ 1.0

Sheet <산근5>환산,보정(관망도보완)
A1: <산근 4> 환산계수 및 보정계수(관망도 보완)
A2: 구 분 | B2: 항목 | C2: 세부내용 | H2: 비고
A3: 환산계수 | B3: ① 소블록 | C3: ▪ (B1)0.9 | H3: 소수점 넷째자리 에서 반올림
C4: ※ B1 = 대상 소블록 개소수
C5: (B1) | D5: = | E5: =ROUND(A43^0.9,3) -> 5.762
B6: ② 현황조사 연장 | C6: ▪ L1
C7: ※ L1 = 현장조사를 위한 관로연장(km)*
C8: * 조사가 필요한 송수 ∙ 배수 ∙ 급수관 연장
B9: ③ 관로탐사 연장 | C9: ▪ L2
C10: ※ L2 = 대상 관로 탐사연장(km)*
C11: * 탐사가 필요한 송수 ∙ 배수 ∙ 급수관 연장
B12: ④ 관로조사 연장 | C12: ▪ L3
C13: ※ L3 = 대상 관로 조사연장(km)*
C14: * 조사가 필요한 송수 ∙ 배수 ∙ 급수관 연장
B15: ⑤ 소블록 | C15: ▪ B1
C16: ※ B1 = 대상 소블록 개소수
B17: ⑥ 전 | C17: ▪ J
C18: ※ J = 대상 급수전 개소수
B19: ⑦ 관망도작성 연장 | C19: ▪ L4
C20: ※ L4 = 대상 관로 탐사연장(km)*
C21: * 관망도 작성 대상 송수 ∙ 배수 ∙ 급수관 연장
A22: 보정계수 | B22: ㉮ 밀집도주2) | C22: ▪ N ≥ 55, | D22: : | E22: 0.9
C23: ▪ 25 ≤ N ＜ 55, | D23: : | E23: 1
C24: ▪ N ＜ 25, | D24: : | E24: 1.1
C25: ※ N = 단위연장당 계량기수*
C27: ※ N (단위연장당 계량기수) = | E27: 대상구간 계량기 수[개소]
E28: 대상지역 현황조사 관로연장 [km]
D30: = | E30: =C43 -> 8095 | F30: = | G30: =E30/E31 -> 16.91745
E31: =E43 -> 478.5
C33: N | D33: = | E33: =ROUND(IF(G30>=55,0.9,IF(G30>=25,1,1.1)),3) -> 1.1
B35: ㉯ 사업성격 | C35: ▪ 발주청이 보유한 전산화된 관망도가 있는 경우, | G35: 0.3
C36: ▪ 발주청이 보유한 전산화된 관망도가 없는 경우, | G36: 1
C37: ※ 관망도는 CAD, GIS 등 파일형식
A39: 주) "밀집도"는 수용가 계량기의 밀집 여부에 따른 이동 소요시간의 증감을 고려
A41: □ 상수도 현황
A42: 소블록수 | C42: 계량기수(전) | E42: 관로연장(km) | G42: 비 고
A43: ='과업대상지역 현황'!$A$5 -> 7 | C43: ='과업대상지역 현황'!$G$5 -> 8095 | E43: ='과업대상지역 현황'!$C$5 -> 478.5

Sheet <산근6-11>
A1: <산근 6> 수도미터 봉인
A2: ▣ 2023년 지방상수도 현대화사업 성과관리 추진계획 알림(지방상수도처-317, 2023.03.06) 참고
A13: <산근 7> 유량계 현장교정( K water 기준)
A14: ▣ 산출근거 : 한국수자원공사 교정검사료 기준
A28: <산근 8> 주재비
A29: ▣ 엔지니어링사업대가의 기준(산업통상자원부 제2024-217호)
A41: ▣ 지방상수도 현대화사업 대상 지역 사후관리 상주 인원산출
A42: - 지방상수도 현대화사업 업무편람(2024.12 환경부) 붙임1. 개략사업비 산정기준 P111
A43: - 상수도 관망의 유지관리(관망·블록운영, 누수관리 등), 유수율 성과검증을 위한 유지관리 인력 산정
A44: 1) 부안군 지방상수도 현대화사업 총사업비 | D44: 41600 | E44: 백만원
B54: 자료: 지방상수도 현대화사업 업무편람(환경부, 2024.12), p111
B56: - 현장 상주 투입인력 및 기간
B57: 구분 | C57: 단위 | D57: 현장 상주 | E57: 적용
B58: 운영인원 | C58: 인 | D58: 4 | E58: 4
B59: 근무일수 | C59: 일/개월 | D59: 20.3 | E59: 20.3
B60: 운영기간 | C60: 중급 | D60: 60 | E60: 60
C61: 초급 | D61: 60 | E61: 60
C62: 초급숙련 | D62: 60 | E62: 60
C63: 초급숙련 | D63: 60 | E63: 60
A66: <산근 9> 차량운행비
A67: ▣ 건설엔지니어링 대가 등에 관한 기준(국토교통부고시 제2023-580호)
A82: <산근 10> 도서인쇄비, 단수 및 고립시험 홍보비
A83: ▣ 한국인터넷진흥원에 공시된 2025년 공통자재(인쇄,번역) 단가 p15
A102: <산근 11> 산업안전보건관리비
A103: ▣ 건설업 산업안전보건관리비 계상 및 사용기준 [별표1] 공사종류 및 규모별 산업안전보건관리비 계상기준표

Sheet 간지7
C15: 7. 손 해 배 상 공 제 료 산 출

Sheet 손해배상보험
A1: 손해배상보험료 산출(총괄)
A2: □ 엔지니어링손해배상공재료 산정(1단계 공제료 + 2단계 공제료)
B3: ○ | C3: 1단계 공제료(엔지니어링사업기간 또는 그 사업의 목적이 되는 시설물의 시공, 제작, 설치, 구축기간)
C4: 순용역비 | I4: =설계내역서!E58 -> 4.4361945e+08
C5: 1단계 공제료 | I5: = | J5: 순용역비 | O5: × | P5: [ | Q5: 기본요율 | T5: + | U5: { | V5: 가산요율 | Y5: × | Z5: ( | AA5: 표준담보기간초과일수 | AH5: / | AI5: 365 | AK5: ) | AL5: } | AM5: ]
C6: 5억원이하 | I6: = | J6: =IF(I4>=500000000,500000000,I4) -> 4.4361945e+08 | O6: × | P6: [ | Q6: =$K$47 -> 1.303 | T6: + | U6: { | V6: =$N$47 -> 0.207 | Y6: × | Z6: ( | AA6: 2 | AK6: ) | AL6: } | AM6: ] | AN6: = | AO6: =J6*(Q6+(V6*AA6))/100 -> 7616946
C7: 5억원 초과 10억원 이하 | I7: = | J7: =IF(I4>1000000000,500000000,IF(I4>=500000000,I4-500000000,IF(I4<500000000,0))) -> 0 | O7: × | P7: [ | Q7: =$Q$47 -> 1.264 | T7: + | U7: { | V7: =$T$47 -> 0.2 | Y7: × | Z7: ( | AA7: 2 | AK7: ) | AL7: } | AM7: ] | AN7: = | AO7: =J7*(Q7+(V7*AA7))/100 -> 0 | AU7: 365
C8: 10억원 초과 20억원 이하 | I8: = | J8: =IF(I4>2000000000,1000000000,IF(I4<=2000000000,IF(I4>1000000000,I4-1000000000,IF(I4<=1000000000,0)))) -> 0 | O8: × | P8: [ | Q8: =$W$47 -> 1.225 | T8: + | U8: { | V8: =$Z$47 -> 0.196 | Y8: × | Z8: ( | AA8: 2 | AK8: ) | AL8: } | AM8: ] | AN8: = | AO8: =J8*(Q8+(V8*AA8))/100 -> 0 | AU8: 365
C9: 20억원 초과 30억원 이하 | I9: = | J9: =IF(I4>3000000000,1000000000,IF(I4>=2000000000,I4-2000000000,IF(I4<2000000000,0))) -> 0 | O9: × | P9: [ | Q9: =$AC$47 -> 1.188 | T9: + | U9: { | V9: =$AF$47 -> 0.19 | Y9: × | Z9: ( | AA9: 2 | AK9: ) | AL9: } | AM9: ] | AN9: = | AO9: =J9*(Q9+(V9*AA9))/100 -> 0 | AU9: 365
C10: 30억원 초과 50억원 이하 | I10: = | J10: =I4-J6-J7-J8-J9 -> 0 | O10: × | P10: [ | Q10: =$AI$47 -> 1.146 | T10: + | U10: { | V10: =$AL$47 -> 0.184 | Y10: × | Z10: ( | AA10: 2 | AK10: ) | AL10: } | AM10: ] | AN10: = | AO10: =J10*(Q10+(V10*AA10))/100 -> 0 | AU10: 365
I11: = | J11: =SUM(AO6:AO10) -> 7616946 | AU11: 365
B13: ○ | C13: 2단계 공제료(1단계 이후 1년간)
I14: = | J14: 순용역비 | O14: × | P14: 0.0016
I15: = | J15: =I4 -> 4.4361945e+08 | O15: × | P15: 0.0016
I16: = | J16: =J15*P15 -> 709791.13
B18: ○ | C18: 공제료 | F18: = | G18: 1단계 공제료 | M18: + | N18: 2단계 공제료
F19: = | G19: =J11 -> 7616946 | M19: + | N19: =J16 -> 709791.13
F20: = | G20: =G19+N19 -> 8326737.2
B21: ○ | C21: 적 용 | F21: = | G21: =TRUNC(G20,-3) -> 8326000 | M21: (공제료 표시 : 천원 단위를 기본으로 하며 천원 미만의 단수는 절사)
A22: 손해배상보험료 산출(1차)
A23: □ 엔지니어링손해배상공재료 산정(1단계 공제료 + 2단계 공제료)
B24: ○ | C24: 1단계 공제료(엔지니어링사업기간 또는 그 사업의 목적이 되는 시설물의 시공, 제작, 설치, 구축기간)
C25: 순용역비 | I25: =설계내역서!E58/5 -> 88723891
C26: 1단계 공제료 | I26: = | J26: 순용역비 | O26: × | P26: [ | Q26: 기본요율 | T26: + | U26: { | V26: 가산요율 | Y26: × | Z26: ( | AA26: 표준담보기간초과일수 | AH26: / | AI26: 365 | AK26: ) | AL26: } | AM26: ]
C27: 5억원이하 | I27: = | J27: =IF(I25>=500000000,500000000,I25) -> 88723891 | O27: × | P27: [ | Q27: =$K$47 -> 1.303 | T27: + | U27: { | Y27: × | Z27: ( | AA27: 2 | AK27: ) | AL27: } | AM27: ] | AN27: = | AO27: =J27*(Q27+(V27*AA27))/100 -> 1156072.3
C28: 5억원 초과 10억원 이하 | I28: = | J28: =IF(I25>1000000000,500000000,IF(I25>=500000000,I25-500000000,IF(I25<500000000,0))) -> 0 | O28: × | P28: [ | Q28: =$Q$47 -> 1.264 | T28: + | U28: { | Y28: × | Z28: ( | AA28: 2 | AK28: ) | AL28: } | AM28: ] | AN28: = | AO28: =J28*(Q28+(V28*AA28))/100 -> 0
C29: 10억원 초과 20억원 이하 | I29: = | J29: =IF(I25>2000000000,1000000000,IF(I25<=2000000000,IF(I25>1000000000,I25-1000000000,IF(I25<=1000000000,0)))) -> 0 | O29: × | P29: [ | Q29: =$W$47 -> 1.225 | T29: + | U29: { | Y29: × | Z29: ( | AA29: 2 | AK29: ) | AL29: } | AM29: ] | AN29: = | AO29: =J29*(Q29+(V29*AA29))/100 -> 0
C30: 20억원 초과 30억원 이하 | I30: = | J30: =IF(I25>3000000000,1000000000,IF(I25>=2000000000,I25-2000000000,IF(I25<2000000000,0))) -> 0 | O30: × | P30: [ | Q30: =$AC$47 -> 1.188 | T30: + | U30: { | Y30: × | Z30: ( | AK30: ) | AL30: } | AM30: ] | AN30: = | AO30: =J30*(Q30+(V30*AA30))/100 -> 0
C31: 30억원 초과 50억원 이하 | I31: = | J31: =I25-J27-J28-J29-J30 -> 0 | O31: × | P31: [ | Q31: =$AI$47 -> 1.146 | T31: + | U31: { | Y31: × | Z31: ( | AK31: ) | AL31: } | AM31: ] | AN31: = | AO31: =J31*(Q31+(V31*AA31))/100 -> 0
I32: = | J32: =SUM(AO27:AO31) -> 1156072.3
B34: ○ | C34: 2단계 공제료(1단계 이후 1년간)
I35: = | J35: 순용역비 | O35: × | P35: 0.0016
I36: = | J36: =I25 -> 88723891 | O36: × | P36: 0.0016
I37: = | J37: =J36*P36 -> 141958.23
B39: ○ | C39: 공제료 | F39: = | G39: 1단계 공제료 | M39: + | N39: 2단계 공제료
F40: = | G40: =J32 -> 1156072.3 | M40: + | N40: =J37 -> 141958.23
F41: = | G41: =G40+N40 -> 1298030.5
B42: ○ | C42: 적 용 | F42: = | G42: =TRUNC(G41,-4) -> 1290000 | M42: (공제료 표시 : 천원 단위를 기본으로 하며 천원 미만의 단수는 절사)
A43: □ 유지(관리, 보수) 요율표
A44: 공사종류 | K44: 공제가입금액(보상한도액)
K45: 5억이하 | Q45: 5억초과 10억이하 | W45: 10억초과 20억이하 | AC45: 20억초과 30억이하 | AI45: 30억초과 50억이하 | AO45: 표준담보 기간(년)
K46: 기본요율 | N46: 가산요율 | Q46: 기본요율 | T46: 가산요율 | W46: 기본요율 | Z46: 가산요율 | AC46: 기본요율 | AF46: 가산요율 | AI46: 기본요율 | AL46: 가산요율
A47: 상수도(정수장포함) 건설공사 | K47: 1.303 | N47: 0.207 | Q47: 1.264 | T47: 0.2 | W47: 1.225 | Z47: 0.196 | AC47: 1.188 | AF47: 0.19 | AI47: 1.146 | AL47: 0.184 | AO47: 3
A48: ◦ 엔지니어링산업 진흥법 제31조(엔지니어링사업의 대가 기준 등)
A49: ◦ 엔지니어링산업 진흥법 시행령 제42조(엔지니어링사업자의 손해배상보험·공제)
A50: ◦ 엔지니어링손해배상보험 또는 공제 업무처리요령(산업통상자원부 고시 제2017-69호)
