Workbook

Sheet 원가계산서
B1: 공 사 원 가 계 산 서
B2: 제1공학관 창의공학지원실 노후시설 개선 전기공사 | F2: ="금액 : "&NUMBERSTRING(E27,1)&"원"&"(￦"&TEXT(E27,"#,##0"&")") -> 금액 : 영원(￦0)
B3: 비 목 | E3: 금 액 | F3: 구 성 비 | G3: 비 고
A4: A1 | B4: 순 공 사 원 가 | C4: 재 료 비 | D4: 직 접 재 료 비
A5: A2 | D5: 간 접 재 료 비
A6: A3 | D6: 작업설, 부산물(△)
A7: AS | D7: [ 소 계 1 ]
A8: B1 | C8: 노 무 비 | D8: 직 접 노 무 비
A9: B2 | D9: 간 접 노 무 비 | F9: 직접노무비 * 17.5%
A10: BS | D10: [ 소 계 2 ]
A11: C4 | C11: 경 비 | D11: 산 재 보 험 료 | F11: 노무비 * 3.56%
A12: C5 | D12: 고 용 보 험 료 | F12: 노무비 * 1.01%
A13: C5 | D13: 산업안전보건관리비 | F13: (재료비+직접노무비) * 2.07%
A14: CG | D14: 석 면 분 담 금 | F14: 노무비 * 0.006%
A15: C5 | D15: 임 금 채 권 분 담 금 | F15: 노무비 * 0.09%
A16: CG | D16: 기 타 경 비 | F16: (재료비+노무비) * 5%
A17: CS | D17: [ 소 계 3 ]
A18: S1 | B18: 계
A19: D1 | B19: 일 반 관 리 비 | F19: 계 * 8%
A20: D2 | B20: 이 윤 | F20: (노무비+경비+일반관리비) * 15%
A21: D9 | B21: [ 소 계 4 ] | F21: 재료비 + 노무비+ 경비+ 일반관리비+ 이윤
A22: DB | B22: 손 해 배 상 공 제 료 | F22: (소계4 + 관급자재금액) * 0.26477%
A23: DB | B23: 공 급 가 액 | F23: 소계4 + 손해배상공제료
A24: DB | B24: 부 가 가 치 세 | F24: 공급가액 * 10%
A25: DH | B25: 도 급 액 | F25: 공급가액 + 부가가치세
A26: DH | B26: 도급자설치 관급자재
A27: S2 | B27: 총 공 사 비 | E27: =TRUNC(E25+E26, 0) -> 0

Sheet 공종별집계표
A1: 공 종 별 집 계 표
A2: ="[" & 원가계산서!B2 & "]" -> [제1공학관 창의공학지원실 노후시설 개선 전기공사]
A3: 품 명 | B3: 규 격 | C3: 단위 | D3: 수량 | E3: 재 료 비 | G3: 노 무 비 | I3: 경 비 | K3: 합 계 | M3: 비 고
E4: 단 가 | F4: 금 액 | G4: 단 가 | H4: 금 액 | I4: 단 가 | J4: 금 액 | K4: 단 가 | L4: 금 액
A5: 01 제1공학관 창의공학지원실 노후시설 개선 전기공사 | D5: 1
A6: 0101 전기공사 | D6: 1
A7: [ 합 계 ]
A8: 0102 관급자재 | D8: 1
A9: [ 합 계 ]
J27: =J5 -> 0

Sheet 공종별내역서
A1: ="[" & 원가계산서!B2 & "]" -> [제1공학관 창의공학지원실 노후시설 개선 전기공사]
A2: 품 명 | B2: 규 격 | C2: 단위 | D2: 수량 | E2: 재 료 비 | G2: 노 무 비 | I2: 경 비 | K2: 합 계 | M2: 비 고 | N2: 품목코드 | O2: 변수 | P2: 설정 | Q2: 공종코드 | R2: 일위 | S2: 단산 | T2: 자재 | U2: 손료적용 | V2: 손료저장 | W2: 적용율 | X2: JUK1 | Y2: JUK2 | Z2: JUK3 | AA2: JUK4 | AB2: JUK5 | AC2: JUK6 | AD2: JUK7 | AE2: JUK8 | AF2: JUK9 | AG2: JUK10 | AH2: JUK11 | AI2: JUK12 | AJ2: JUK13 | AK2: JUK14 | AL2: JUK15 | AM2: JUK16 | AN2: JUK17 | AO2: JUK18 | AP2: JUK19 | AQ2: JUK20 | AR2: 자재구분 | AS2: 공종구분 | AT2: 공종레벨 | AU2: 공종+자재 | AV2: 고유번호
E3: 단 가 | F3: 금 액 | G3: 단 가 | H3: 금 액 | I3: 단 가 | J3: 금 액 | K3: 단 가 | L3: 금 액
A4: 0101 전기공사 | Q4: 0101
A5: =일위대가목록!B4 -> 금속덕트 철거 | B5: =일위대가목록!C4 -> 300mm*200mm | C5: =일위대가목록!D4 -> m | D5: =수량산출서!F5 -> 12 | M5: '호표 1 | N5: 59FE04414460618DEB0A5A674559BDE262AE16 | Q5: 0101 | R5: F | S5: F | T5: T | AU5: 010159FE04414460618DEB0A5A674559BDE262AE16 | AV5: 3
A6: =일위대가목록!B5 -> 금속덕트 철거 | B6: =일위대가목록!C5 -> 200mm*100mm | C6: =일위대가목록!D5 -> m | D6: =수량산출서!F6 -> 63 | M6: '호표 2 | N6: 59FE04414460618D9CEED063CD737B3AB669F4 | Q6: 0101 | R6: F | S6: F | T6: T | AU6: 010159FE04414460618D9CEED063CD737B3AB669F4 | AV6: 4
A7: =일위대가목록!B6 -> 강제전선관 철거 | B7: =일위대가목록!C6 -> 후강전선관, 아연도, 22mm | C7: =일위대가목록!D6 -> m | D7: =수량산출서!F7 -> 24 | M7: '호표 3 | N7: 59FE04414460618D9CEED063CD7BB1FF7EAE78 | Q7: 0101 | R7: F | S7: F | T7: T | AU7: 010159FE04414460618D9CEED063CD7BB1FF7EAE78 | AV7: 5
A8: =일위대가목록!B7 -> 합성수지전선관 철거 | B8: =일위대가목록!C7 -> 28mm | C8: =일위대가목록!D7 -> m | D8: =수량산출서!F8 -> 21 | M8: '호표 4 | N8: 5E9C94AF64B8518D6DE84863850F00 | Q8: 0101 | R8: T | S8: F | T8: F | AU8: 01015E9C94AF64B8518D6DE84863850F00 | AV8: 6
A9: =일위대가목록!B8 -> 합성수지전선관 철거 | B9: =일위대가목록!C8 -> 22mm | C9: =일위대가목록!D8 -> m | D9: =수량산출서!F9 -> 8 | M9: '호표 5 | N9: 5E9C94AF64B8518D6DE848638509F9 | Q9: 0101 | R9: T | S9: F | T9: F | AU9: 01015E9C94AF64B8518D6DE848638509F9 | AV9: 7
A10: =일위대가목록!B9 -> 전력케이블 철거 | B10: =일위대가목록!C9 -> F-CV, 0.6/1kV, 4C 16mm² | C10: =일위대가목록!D9 -> m | D10: =수량산출서!F10 -> 27 | M10: '호표 6 | N10: 5E9C94AF64B8518D6DE84863850BA5 | Q10: 0101 | R10: T | S10: F | T10: F | AU10: 01015E9C94AF64B8518D6DE84863850BA5 | AV10: 8
A11: =일위대가목록!B10 -> 전력케이블 철거 | B11: =일위대가목록!C10 -> F-CV, 0.6/1kV, 4C 10mm² | C11: =일위대가목록!D10 -> m | D11: =수량산출서!F11 -> 31 | M11: '호표 7 | N11: 5E9C94AF6483118D47334C69BB80D2 | Q11: 0101 | R11: T | S11: F | T11: F | AU11: 01015E9C94AF6483118D47334C69BB80D2 | AV11: 9
A12: =일위대가목록!B11 -> 전력케이블 철거 | B12: =일위대가목록!C11 -> F-CV, 0.6/1kV, 4C 6mm² | C12: =일위대가목록!D11 -> m | D12: =수량산출서!F12 -> 87 | M12: '호표 8 | N12: 5E9C94AF6483118D47334C69BB81F9 | Q12: 0101 | R12: T | S12: F | T12: F | AU12: 01015E9C94AF6483118D47334C69BB81F9 | AV12: 10
A13: =일위대가목록!B12 -> 전력케이블 철거 | B13: =일위대가목록!C12 -> F-CV, 0.6/1kV, 1C 6mm² | C13: =일위대가목록!D12 -> m | D13: =수량산출서!F13 -> 537 | M13: '호표 9 | N13: 5E9C94AF6434F18122B52F65E3ABD3 | Q13: 0101 | R13: T | S13: F | T13: F | AU13: 01015E9C94AF6434F18122B52F65E3ABD3 | AV13: 11
A14: =일위대가목록!B13 -> 전력케이블 철거 | B14: =일위대가목록!C13 -> F-CV, 0.6/1kV, 3C 4mm² | C14: =일위대가목록!D13 -> m | D14: =수량산출서!F14 -> 34 | M14: '호표 10 | N14: 5E9C94AF6434F18107E99F6B32D98D | Q14: 0101 | R14: T | S14: F | T14: F | AU14: 01015E9C94AF6434F18107E99F6B32D98D | AV14: 12
A15: =일위대가목록!B14 -> 절연전선 철거 | B15: =일위대가목록!C14 -> HFIX, 450/750V, 6mm² | C15: =일위대가목록!D14 -> m | D15: =수량산출서!F15 -> 1200 | M15: '호표 11 | N15: 5E9C94AF6434F18107E99F6B32DA94 | Q15: 0101 | R15: T | S15: F | T15: F | AU15: 01015E9C94AF6434F18107E99F6B32DA94 | AV15: 13
A16: =일위대가목록!B15 -> 접지용전선 철거 | B16: =일위대가목록!C15 -> GV, 4mm² | C16: =일위대가목록!D15 -> m | D16: =수량산출서!F16 -> 87 | M16: '호표 12 | N16: 5E9C94AF6434F18107E99F6B32DA94 | Q16: 0101 | R16: T | S16: F | T16: F | AU16: 01015E9C94AF6434F18107E99F6B32DA94 | AV16: 13
... A41: =일위대가목록!B40 -> LED실내조명등 설치 | B41: =일위대가목록!C40 -> #REF! | C41: =일위대가목록!D40 -> #REF! | D41: =수량산출서!F41 -> 42 | M41: '호표 37 | N41: 5E9C94AF6434F18107E99F6B33FA0E | Q41: 0101 | R41: T | S41: F | T41: F | AU41: 01015E9C94AF6434F18107E99F6B33FA0E | AV41: 14
A42: =수량산출서!B42 -> #REF! | B42: =수량산출서!C42 -> #REF! | C42: =수량산출서!D42 -> #REF! | D42: =수량산출서!F42 -> 26 | M42: '호표 38 | N42: 5E9C94AF6483118D47334C69BB81F9 | Q42: 0101 | R42: T | S42: F | T42: F | AU42: 01015E9C94AF6483118D47334C69BB81F9 | AV42: 10
A43: =수량산출서!B43 -> #REF! | B43: =수량산출서!C43 -> #REF! | C43: =수량산출서!D43 -> #REF! | D43: =수량산출서!F43 -> 208 | M43: '호표 39 | N43: 5E9C94AF6434F18122B52F65E3ABD3 | Q43: 0101 | R43: T | S43: F | T43: F | AU43: 01015E9C94AF6434F18122B52F65E3ABD3 | AV43: 11
A44: =수량산출서!B44 -> #REF! | B44: =수량산출서!C44 -> #REF! | C44: =수량산출서!D44 -> #REF! | D44: =수량산출서!F44 -> 13 | M44: '호표 40 | N44: 5E9C94AF6434F18107E99F6B32D98D | Q44: 0101 | R44: T | S44: F | T44: F | AU44: 01015E9C94AF6434F18107E99F6B32D98D | AV44: 12
A45: =수량산출서!B45 -> #REF! | B45: =수량산출서!C45 -> #REF! | C45: =수량산출서!D45 -> #REF! | D45: =수량산출서!F45 -> 4 | M45: '호표 41 | N45: 5E9C94AF6434F18107E99F6B32DA94 | Q45: 0101 | R45: T | S45: F | T45: F | AU45: 01015E9C94AF6434F18107E99F6B32DA94 | AV45: 13
A46: =수량산출서!B46 -> #REF! | B46: =수량산출서!C46 -> #REF! | C46: =수량산출서!D46 -> #REF! | D46: =수량산출서!F46 -> 2 | M46: '호표 42 | N46: 5E9C94AF6434F18107E99F6B32DA94 | Q46: 0101 | R46: T | S46: F | T46: F | AU46: 01015E9C94AF6434F18107E99F6B32DA94 | AV46: 13
A47: [ 합 계 ] | N47: 5F6014CBE4A1418BC60B2463728043A4AE6C3A | Q47: 0101 | R47: F | S47: F | T47: T | AU47: 01015F6014CBE4A1418BC60B2463728043A4AE6C3A | AV47: 19
A48: 0102 관급자재 | N48: 5E9C94AF6434F18107E99F6B33FA0E | Q48: 0101 | R48: T | S48: F | T48: F | AU48: 01015E9C94AF6434F18107E99F6B33FA0E | AV48: 14
A49: =#REF! -> #REF! | B49: =#REF! -> #REF! | C49: =#REF! -> #REF! | D49: =수량산출서!F47 -> 42 | M49: '호표 43 | N49: 5E9C94AF6434F18107E99F6B33FA0E | Q49: 0101 | R49: T | S49: F | T49: F | AU49: 01015E9C94AF6434F18107E99F6B33FA0E | AV49: 14
A50: [ 합 계 ] | F50: =SUM(F49) -> 0 | H50: =SUM(H49) -> 0 | J50: =SUM(J49) -> 0 | L50: =SUM(L49) -> 0 | N50: 5F6014CBE4A1418BC60B2463728043A4AE6C3A | Q50: 0101 | R50: F | S50: F | T50: T | AU50: 01015F6014CBE4A1418BC60B2463728043A4AE6C3A | AV50: 19

Sheet 수량산출서
A1: 수 량 산 출 서
A2: ="공 사 명 : " & 원가계산서!B2 -> 공 사 명 : 제1공학관 창의공학지원실 노후시설 개선 전기공사
A3: ="공 종 명 : 전기공사 _ " & 원가계산서!B2 -> 공 종 명 : 전기공사 _ 제1공학관 창의공학지원실 노후시설 개선 전기공사 | E3: 1 PAGE
A4: 코 드 | B4: 품 명 | C4: 규 격 | D4: 단 위 | E4: 산 출 식 | F4: 계 | G4: 비 고
A5: 'ZEA000000001 | B5: =일위대가목록!B4 -> 금속덕트 철거 | C5: =일위대가목록!C4 -> 300mm*200mm | D5: =일위대가목록!D4 -> m | E5: =RIGHT(H5,(LEN(H5)-1)) -> 12 | F5: =12 -> 12 | H5: =_xlfn.FORMULATEXT(F5) -> =12
A6: 'ZEA000000002 | B6: =일위대가목록!B5 -> 금속덕트 철거 | C6: =일위대가목록!C5 -> 200mm*100mm | D6: =일위대가목록!D5 -> m | E6: =RIGHT(H6,(LEN(H6)-1)) -> 21*3 | F6: =21*3 -> 63 | H6: =_xlfn.FORMULATEXT(F6) -> =21*3
A7: 'ZEA000000003 | B7: =일위대가목록!B6 -> 강제전선관 철거 | C7: =일위대가목록!C6 -> 후강전선관, 아연도, 22mm | D7: =일위대가목록!D6 -> m | E7: =RIGHT(H7,(LEN(H7)-1)) -> 3*5+3*3 | F7: =3*5+3*3 -> 24 | H7: =_xlfn.FORMULATEXT(F7) -> =3*5+3*3
A8: 'ZEA000000004 | B8: =일위대가목록!B7 -> 합성수지전선관 철거 | C8: =일위대가목록!C7 -> 28mm | D8: =일위대가목록!D7 -> m | E8: =RIGHT(H8,(LEN(H8)-1)) -> 5+8+8 | F8: =5+8+8 -> 21 | H8: =_xlfn.FORMULATEXT(F8) -> =5+8+8
A9: 'ZEA000000005 | B9: =일위대가목록!B8 -> 합성수지전선관 철거 | C9: =일위대가목록!C8 -> 22mm | D9: =일위대가목록!D8 -> m | E9: =RIGHT(H9,(LEN(H9)-1)) -> 8 | F9: =8 -> 8 | H9: =_xlfn.FORMULATEXT(F9) -> =8
A10: 'ZEA000000006 | B10: =일위대가목록!B9 -> 전력케이블 철거 | C10: =일위대가목록!C9 -> F-CV, 0.6/1kV, 4C 16mm² | D10: =일위대가목록!D9 -> m | E10: =RIGHT(H10,(LEN(H10)-1)) -> 3+6+15+3 | F10: =3+6+15+3 -> 27 | H10: =_xlfn.FORMULATEXT(F10) -> =3+6+15+3
A11: 'ZEA000000007 | B11: =일위대가목록!B10 -> 전력케이블 철거 | C11: =일위대가목록!C10 -> F-CV, 0.6/1kV, 4C 10mm² | D11: =일위대가목록!D10 -> m | E11: =RIGHT(H11,(LEN(H11)-1)) -> 3+6+19+3 | F11: =3+6+19+3 -> 31 | H11: =_xlfn.FORMULATEXT(F11) -> =3+6+19+3
A12: 'ZEA000000008 | B12: =일위대가목록!B11 -> 전력케이블 철거 | C12: =일위대가목록!C11 -> F-CV, 0.6/1kV, 4C 6mm² | D12: =일위대가목록!D11 -> m | E12: =RIGHT(H12,(LEN(H12)-1)) -> (3+15)+(3+15+6+3)+(3+15+21+3) | F12: =(3+15)+(3+15+6+3)+(3+15+21+3) -> 87 | H12: =_xlfn.FORMULATEXT(F12) -> =(3+15)+(3+15+6+3)+(3+15+21+3)
A13: 'ZEA000000009 | B13: =일위대가목록!B12 -> 전력케이블 철거 | C13: =일위대가목록!C12 -> F-CV, 0.6/1kV, 1C 6mm² | D13: =일위대가목록!D12 -> m | E13: =RIGHT(H13,(LEN(H13)-1)) -> (3+12+15+3)*3+(3+12+15+2+3)*3+(3+12+15+3)*3+(3+12+15+3+2+3)*3+(3+12+15+5+2+3)*3 | F13: =(3+12+15+3)*3+(3+12+15+2+3)*3+(3+12+15+3)*3+(3+12+15+3+2+3)*3+(3+12+15+5+2+3)*3 -> 537 | H13: =_xlfn.FORMULATEXT(F13) -> =(3+12+15+3)*3+(3+12+15+2+3)*3+(3+12+15+3)*3+(3+12+15+3+2+3)*3+(3+12+15+5+2+3)*3
A14: 'ZEA000000010 | B14: =일위대가목록!B13 -> 전력케이블 철거 | C14: =일위대가목록!C13 -> F-CV, 0.6/1kV, 3C 4mm² | D14: =일위대가목록!D13 -> m | E14: =RIGHT(H14,(LEN(H14)-1)) -> 3+15+16 | F14: =3+15+16 -> 34 | H14: =_xlfn.FORMULATEXT(F14) -> =3+15+16
A15: 'ZEA000000011 | B15: =일위대가목록!B14 -> 절연전선 철거 | C15: =일위대가목록!C14 -> HFIX, 450/750V, 6mm² | D15: =일위대가목록!D14 -> m | E15: =RIGHT(H15,(LEN(H15)-1)) -> (8+10+12+14+16+18+20+22+24+26)*2+(11+13+15+17+19+21+23+25+27+29)*2+(14+16+18+20+22+24+26+28+30+32)*2 | F15: =(8+10+12+14+16+18+20+22+24+26)*2+(11+13+15+17+19+21+23+25+27+29)*2+(14+16+18+20+22+24+26+28+30+32)*2 -> 1200 | H15: =_xlfn.FORMULATEXT(F15) -> =(8+10+12+14+16+18+20+22+24+26)*2+(11+13+15+17+19+21+23+25+27+29)*2+(14+16+18+20+22+24+26+28+30+32)*2
A16: 'ZEA000000012 | B16: =일위대가목록!B15 -> 접지용전선 철거 | C16: =일위대가목록!C15 -> GV, 4mm² | D16: =일위대가목록!D15 -> m | E16: =RIGHT(H16,(LEN(H16)-1)) -> (3+15)+(3+15+6+3)+(3+15+21+3) | F16: =(3+15)+(3+15+6+3)+(3+15+21+3) -> 87 | H16: =_xlfn.FORMULATEXT(F16) -> =(3+15)+(3+15+6+3)+(3+15+21+3)
A17: 'ZEA000000013 | B17: =일위대가목록!B16 -> 케이블트레이 설치 | C17: =일위대가목록!C16 -> #REF! | D17: =일위대가목록!D16 -> #REF! | E17: =RIGHT(H17,(LEN(H17)-1)) -> 4+5+21 | F17: =4+5+21 -> 30 | H17: =_xlfn.FORMULATEXT(F17) -> =4+5+21
A18: 'ZEA000000014 | B18: =일위대가목록!B17 -> 케이블트레이부속품 설치 | C18: =일위대가목록!C17 -> #REF! | D18: =일위대가목록!D17 -> #REF! | E18: =RIGHT(H18,(LEN(H18)-1)) -> 1 | F18: =1 -> 1 | H18: =_xlfn.FORMULATEXT(F18) -> =1
A19: 'ZEA000000015 | B19: =일위대가목록!B18 -> 케이블트레이부속품 설치 | C19: =일위대가목록!C18 -> #REF! | D19: =일위대가목록!D18 -> #REF! | E19: =RIGHT(H19,(LEN(H19)-1)) -> 1+1 | F19: =1+1 -> 2 | H19: =_xlfn.FORMULATEXT(F19) -> =1+1
A20: 'ZEA000000016 | B20: =일위대가목록!B19 -> 케이블트레이지지대 설치 | C20: =일위대가목록!C19 -> 스트롱앵커(천장) 3/8" | D20: =일위대가목록!D19 -> #REF! | E20: =RIGHT(H20,(LEN(H20)-1)) -> 30/1.5 | F20: =30/1.5 -> 20 | H20: =_xlfn.FORMULATEXT(F20) -> =30/1.5
A21: 'ZEA000000017 | B21: =일위대가목록!B20 -> 강제전선관 설치 | C21: =일위대가목록!C20 -> #REF! | D21: =일위대가목록!D20 -> #REF! | E21: =RIGHT(H21,(LEN(H21)-1)) -> (4+15)+(4+15+7+4)+(4+15+21+4) | F21: =(4+15)+(4+15+7+4)+(4+15+21+4) -> 93 | H21: =_xlfn.FORMULATEXT(F21) -> =(4+15)+(4+15+7+4)+(4+15+21+4)
A22: 'ZEA000000018 | B22: =일위대가목록!B21 -> 강제전선관 설치 | C22: =일위대가목록!C21 -> #REF! | D22: =일위대가목록!D21 -> #REF! | E22: =RIGHT(H22,(LEN(H22)-1)) -> (4+15+17+4)+(2+3)+(2+3)+(1+3)+(1+3)+(2+3) | F22: =(4+15+17+4)+(2+3)+(2+3)+(1+3)+(1+3)+(2+3) -> 63 | H22: =_xlfn.FORMULATEXT(F22) -> =(4+15+17+4)+(2+3)+(2+3)+(1+3)+(1+3)+(2+3)
A23: 'ZEA000000019 | B23: =일위대가목록!B22 -> 강제전선관 설치 | C23: =일위대가목록!C22 -> #REF! | D23: =일위대가목록!D22 -> #REF! | E23: =RIGHT(H23,(LEN(H23)-1)) -> 4+15+7+4 | F23: =4+15+7+4 -> 30 | H23: =_xlfn.FORMULATEXT(F23) -> =4+15+7+4
A24: 'ZEA000000020 | B24: =일위대가목록!B23 -> 강제전선관 설치 | C24: =일위대가목록!C23 -> #REF! | D24: =일위대가목록!D23 -> #REF! | E24: =RIGHT(H24,(LEN(H24)-1)) -> 3+15+3 | F24: =3+15+3 -> 21 | H24: =_xlfn.FORMULATEXT(F24) -> =3+15+3
A25: 'ZEA000000021 | B25: =일위대가목록!B24 -> 풀박스 설치 | C25: =일위대가목록!C24 -> #REF! | D25: =일위대가목록!D24 -> #REF! | E25: =RIGHT(H25,(LEN(H25)-1)) -> 4+2 | F25: =4+2 -> 6 | H25: =_xlfn.FORMULATEXT(F25) -> =4+2
A26: 'ZEA000000022 | B26: =일위대가목록!B25 -> 전력케이블 설치 | C26: =일위대가목록!C25 -> #REF! | D26: =일위대가목록!D25 -> #REF! | E26: =RIGHT(H26,(LEN(H26)-1)) -> 4+5+16+5 | F26: =4+5+16+5 -> 30 | H26: =_xlfn.FORMULATEXT(F26) -> =4+5+16+5
A27: 'ZEA000000023 | B27: =일위대가목록!B26 -> 전력케이블 설치 | C27: =일위대가목록!C26 -> #REF! | D27: =일위대가목록!D26 -> #REF! | E27: =RIGHT(H27,(LEN(H27)-1)) -> (4+5+5+5)+(4+5+21+5) | F27: =(4+5+5+5)+(4+5+21+5) -> 54 | H27: =_xlfn.FORMULATEXT(F27) -> =(4+5+5+5)+(4+5+21+5)
A28: 'ZEA000000024 | B28: =일위대가목록!B27 -> 전력케이블 설치 | C28: =일위대가목록!C27 -> #REF! | D28: =일위대가목록!D27 -> #REF! | E28: =RIGHT(H28,(LEN(H28)-1)) -> (4+15)+(4+15+7+4)+(4+15+21+4)+(4+2+5+2+3)+(4+2+7+2+3)+(4+2+5+2+3)+(4+2+7+2+3)+(4+2+7+2+3) | F28: =(4+15)+(4+15+7+4)+(4+15+21+4)+(4+2+5+2+3)+(4+2+7+2+3)+(4+2+5+2+3)+(4+2+7+2+3)+(4+2+7+2+3) -> 179 | H28: =_xlfn.FORMULATEXT(F28) -> =(4+15)+(4+15+7+4)+(4+15+21+4)+(4+2+5+2+3)+(4+2+7+2+3)+(4+2+5+2+3)+(4+2+7+2+3)+(4+2+7+2+3)
A29: 'ZEA000000025 | B29: =일위대가목록!B28 -> 전력케이블 설치 | C29: =일위대가목록!C28 -> #REF! | D29: =일위대가목록!D28 -> #REF! | E29: =RIGHT(H29,(LEN(H29)-1)) -> 4+15+16+4 | F29: =4+15+16+4 -> 39 | H29: =_xlfn.FORMULATEXT(F29) -> =4+15+16+4
A30: 'ZEA000000026 | B30: =일위대가목록!B29 -> 전력케이블 설치 | C30: =일위대가목록!C29 -> #REF! | D30: =일위대가목록!D29 -> #REF! | E30: =RIGHT(H30,(LEN(H30)-1)) -> (4+15+7+4)+(4+5+10+3)*12+6*2+3*2+3*2+6*2+9*2+3*6 | F30: =(4+15+7+4)+(4+5+10+3)*12+6*2+3*2+3*2+6*2+9*2+3*6 -> 366 | H30: =_xlfn.FORMULATEXT(F30) -> =(4+15+7+4)+(4+5+10+3)*12+6*2+3*2+3*2+6*2+9*2+3*6
A31: 'ZEA000000027 | B31: =일위대가목록!B30 -> UTP케이블 설치 | C31: =일위대가목록!C30 -> #REF! | D31: =일위대가목록!D30 -> #REF! | E31: =RIGHT(H31,(LEN(H31)-1)) -> 10+3+15+3 | F31: =10+3+15+3 -> 31 | H31: =_xlfn.FORMULATEXT(F31) -> =10+3+15+3
A32: 'ZEA000000028 | B32: =일위대가목록!B31 -> 접지용전선 설치 | C32: =일위대가목록!C31 -> #REF! | D32: =일위대가목록!D31 -> #REF! | E32: =RIGHT(H32,(LEN(H32)-1)) -> (4+15)+(4+15+7+4)+(4+15+21+4) | F32: =(4+15)+(4+15+7+4)+(4+15+21+4) -> 93 | H32: =_xlfn.FORMULATEXT(F32) -> =(4+15)+(4+15+7+4)+(4+15+21+4)
A33: 'ZEA000000029 | B33: =일위대가목록!B32 -> 배관 해체 | C33: =일위대가목록!C32 -> D25 | D33: =일위대가목록!D32 -> m | E33: =RIGHT(H33,(LEN(H33)-1)) -> 21+21+21+10 | F33: =21+21+21+10 -> 73 | H33: =_xlfn.FORMULATEXT(F33) -> =21+21+21+10
A34: 'ZEA000000030 | B34: =일위대가목록!B33 -> 스위치 철거 | C34: =일위대가목록!C33 -> 텀블러 스위치 단로용 | D34: =일위대가목록!D33 -> 개 | E34: =RIGHT(H34,(LEN(H34)-1)) -> 5 | F34: =5 -> 5 | H34: =_xlfn.FORMULATEXT(F34) -> =5
A35: 'ZEA000000031 | B35: =일위대가목록!B34 -> 스위치 설치 | C35: =일위대가목록!C34 -> #REF! | D35: =일위대가목록!D34 -> #REF! | E35: =RIGHT(H35,(LEN(H35)-1)) -> 2 | F35: =2 -> 2 | H35: =_xlfn.FORMULATEXT(F35) -> =2
A36: 'ZEA000000032 | B36: =일위대가목록!B35 -> 스위치 설치 | C36: =일위대가목록!C35 -> #REF! | D36: =일위대가목록!D35 -> #REF! | E36: =RIGHT(H36,(LEN(H36)-1)) -> 3 | F36: =3 -> 3 | H36: =_xlfn.FORMULATEXT(F36) -> =3
A37: 'ZEA000000033 | B37: =일위대가목록!B36 -> 스위치 설치 | C37: =일위대가목록!C36 -> #REF! | D37: =일위대가목록!D36 -> #REF! | E37: =RIGHT(H37,(LEN(H37)-1)) -> 2+2 | F37: =2+2 -> 4 | H37: =_xlfn.FORMULATEXT(F37) -> =2+2
A38: 'ZEA000000034 | B38: =일위대가목록!B37 -> 콘센트 철거 | C38: =일위대가목록!C37 -> 접지극부 15A | D38: =일위대가목록!D37 -> 개 | E38: =RIGHT(H38,(LEN(H38)-1)) -> 19 | F38: =19 -> 19 | H38: =_xlfn.FORMULATEXT(F38) -> =19
A39: 'ZEA000000035 | B39: =일위대가목록!B38 -> 콘센트 설치 | C39: =일위대가목록!C38 -> #REF! | D39: =일위대가목록!D38 -> #REF! | E39: =RIGHT(H39,(LEN(H39)-1)) -> 19 | F39: =19 -> 19 | H39: =_xlfn.FORMULATEXT(F39) -> =19
A40: 'ZEA000000036 | B40: =일위대가목록!B39 -> 멀티덕트 설치 | C40: =일위대가목록!C39 -> #REF! | D40: =일위대가목록!D39 -> #REF! | E40: =RIGHT(H40,(LEN(H40)-1)) -> 3+3 | F40: =3+3 -> 6 | H40: =_xlfn.FORMULATEXT(F40) -> =3+3
...

Sheet 일위대가목록
A1: 일 위 대 가 목 록
A2: ="[" & 원가계산서!B2 & "]" -> [제1공학관 창의공학지원실 노후시설 개선 전기공사]
A3: 코 드 | B3: 품 명 | C3: 규 격 | D3: 단위 | E3: 재 료 비 | F3: 노 무 비 | G3: 경 비 | H3: 합 계 | I3: 번 호 | J3: 비 고
A4: 5E9C94AF64B8518D6DE84863850F00 | B4: =일위대가!A5 -> 금속덕트 철거 | C4: =일위대가!B5 -> 300mm*200mm | D4: =일위대가!C5 -> m | I4: 호표 1 | K4: =_xlfn.FORMULATEXT(C4) -> =일위대가!B5 | L4: =RIGHT(K4, LEN(K4)-FIND("B",K4)-LEN("B")+1) -> 5 | M4: =L4-3 -> 2 | N4: 일위대가
A5: 5E9C94AF64B8518D6DE848638509F9 | B5: =일위대가!A11 -> 금속덕트 철거 | C5: =일위대가!B11 -> 200mm*100mm | D5: =일위대가!C11 -> m | I5: 호표 2 | K5: =_xlfn.FORMULATEXT(C5) -> =일위대가!B11 | L5: =RIGHT(K5, LEN(K5)-FIND("B",K5)-LEN("B")+1) -> 11 | M5: =L5-3 -> 8
A6: 5E9C94AF64B8518D6DE84863850BA5 | B6: =일위대가!A17 -> 강제전선관 철거 | C6: =일위대가!B17 -> 후강전선관, 아연도, 22mm | D6: =일위대가!C17 -> m | I6: 호표 3 | K6: =_xlfn.FORMULATEXT(C6) -> =일위대가!B17 | L6: =RIGHT(K6, LEN(K6)-FIND("B",K6)-LEN("B")+1) -> 17 | M6: =L6-3 -> 14
A7: 5E9C94AF6483118D47334C69BB80D2 | B7: =일위대가!A23 -> 합성수지전선관 철거 | C7: =일위대가!B23 -> 28mm | D7: =일위대가!C23 -> m | I7: 호표 4 | K7: =_xlfn.FORMULATEXT(C7) -> =일위대가!B23 | L7: =RIGHT(K7, LEN(K7)-FIND("B",K7)-LEN("B")+1) -> 23 | M7: =L7-3 -> 20
A8: 5E9C94AF6483118D47334C69BB81F9 | B8: =일위대가!A29 -> 합성수지전선관 철거 | C8: =일위대가!B29 -> 22mm | D8: =일위대가!C29 -> m | I8: 호표 5 | K8: =_xlfn.FORMULATEXT(C8) -> =일위대가!B29 | L8: =RIGHT(K8, LEN(K8)-FIND("B",K8)-LEN("B")+1) -> 29 | M8: =L8-3 -> 26
A9: 5E9C94AF6434F18122B52F65E3ABD3 | B9: =일위대가!A35 -> 전력케이블 철거 | C9: =일위대가!B35 -> F-CV, 0.6/1kV, 4C 16mm² | D9: =일위대가!C35 -> m | I9: 호표 6 | K9: =_xlfn.FORMULATEXT(C9) -> =일위대가!B35 | L9: =RIGHT(K9, LEN(K9)-FIND("B",K9)-LEN("B")+1) -> 35 | M9: =L9-3 -> 32
A10: 5E9C94AF6434F18107E99F6B32D98D | B10: =일위대가!A41 -> 전력케이블 철거 | C10: =일위대가!B41 -> F-CV, 0.6/1kV, 4C 10mm² | D10: =일위대가!C41 -> m | I10: 호표 7 | K10: =_xlfn.FORMULATEXT(C10) -> =일위대가!B41 | L10: =RIGHT(K10, LEN(K10)-FIND("B",K10)-LEN("B")+1) -> 41 | M10: =L10-3 -> 38
A11: 5E9C94AF6434F18107E99F6B32DA94 | B11: =일위대가!A47 -> 전력케이블 철거 | C11: =일위대가!B47 -> F-CV, 0.6/1kV, 4C 6mm² | D11: =일위대가!C47 -> m | I11: 호표 8 | K11: =_xlfn.FORMULATEXT(C11) -> =일위대가!B47 | L11: =RIGHT(K11, LEN(K11)-FIND("B",K11)-LEN("B")+1) -> 47 | M11: =L11-3 -> 44
A12: 5E9C94AF6434F18107E99F6B33FA0E | B12: =일위대가!A53 -> 전력케이블 철거 | C12: =일위대가!B53 -> F-CV, 0.6/1kV, 1C 6mm² | D12: =일위대가!C53 -> m | I12: 호표 9 | K12: =_xlfn.FORMULATEXT(C12) -> =일위대가!B53 | L12: =RIGHT(K12, LEN(K12)-FIND("B",K12)-LEN("B")+1) -> 53 | M12: =L12-3 -> 50
A13: 5E9C94AF6434F18107E99F6B33F7BA | B13: =일위대가!A59 -> 전력케이블 철거 | C13: =일위대가!B59 -> F-CV, 0.6/1kV, 3C 4mm² | D13: =일위대가!C59 -> m | I13: 호표 10 | K13: =_xlfn.FORMULATEXT(C13) -> =일위대가!B59 | L13: =RIGHT(K13, LEN(K13)-FIND("B",K13)-LEN("B")+1) -> 59 | M13: =L13-3 -> 56
A14: 5E9C94AF6434F18107E93563379942 | B14: =일위대가!A65 -> 절연전선 철거 | C14: =일위대가!B65 -> HFIX, 450/750V, 6mm² | D14: =일위대가!C65 -> m | I14: 호표 11 | K14: =_xlfn.FORMULATEXT(C14) -> =일위대가!B65 | L14: =RIGHT(K14, LEN(K14)-FIND("B",K14)-LEN("B")+1) -> 65 | M14: =L14-3 -> 62
A15: 5E9C94AF64B8518D6DE84863850BA5 | B15: =일위대가!A71 -> 접지용전선 철거 | C15: =일위대가!B71 -> GV, 4mm² | D15: =일위대가!C71 -> m | I15: 호표 12 | K15: =_xlfn.FORMULATEXT(C15) -> =일위대가!B71 | L15: =RIGHT(K15, LEN(K15)-FIND("B",K15)-LEN("B")+1) -> 71 | M15: =L15-3 -> 68
A16: 5E9C94AF6483118D47334C69BB80D2 | B16: =일위대가!A77 -> 케이블트레이 설치 | C16: =일위대가!B77 -> #REF! | D16: =일위대가!C77 -> #REF! | I16: 호표 13 | K16: =_xlfn.FORMULATEXT(C16) -> =일위대가!B77 | L16: =RIGHT(K16, LEN(K16)-FIND("B",K16)-LEN("B")+1) -> 77 | M16: =L16-3 -> 74
A17: 5E9C94AF6483118D47334C69BB81F9 | B17: =일위대가!A83 -> 케이블트레이부속품 설치 | C17: =일위대가!B83 -> #REF! | D17: =일위대가!C83 -> #REF! | I17: 호표 14 | K17: =_xlfn.FORMULATEXT(C17) -> =일위대가!B83 | L17: =RIGHT(K17, LEN(K17)-FIND("B",K17)-LEN("B")+1) -> 83 | M17: =L17-3 -> 80
A18: 5E9C94AF6483118D47334C69BB80D2 | B18: =일위대가!A89 -> 케이블트레이부속품 설치 | C18: =일위대가!B89 -> #REF! | D18: =일위대가!C89 -> #REF! | I18: 호표 15 | K18: =_xlfn.FORMULATEXT(C18) -> =일위대가!B89 | L18: =RIGHT(K18, LEN(K18)-FIND("B",K18)-LEN("B")+1) -> 89 | M18: =L18-3 -> 86
A19: 5E9C94AF6483118D47334C69BB81F9 | B19: =일위대가!A95 -> 케이블트레이지지대 설치 | C19: =일위대가!B95 -> 스트롱앵커(천장) 3/8" | D19: =일위대가!C95 -> #REF! | I19: 호표 16 | K19: =_xlfn.FORMULATEXT(C19) -> =일위대가!B95 | L19: =RIGHT(K19, LEN(K19)-FIND("B",K19)-LEN("B")+1) -> 95 | M19: =L19-3 -> 92
A20: 5E9C94AF6434F18122B52F65E3ABD3 | B20: =일위대가!A108 -> 강제전선관 설치 | C20: =일위대가!B108 -> #REF! | D20: =일위대가!C108 -> #REF! | I20: 호표 17 | K20: =_xlfn.FORMULATEXT(C20) -> =일위대가!B108 | L20: =RIGHT(K20, LEN(K20)-FIND("B",K20)-LEN("B")+1) -> 108 | M20: =L20-3 -> 105
A21: 5E9C94AF6434F18107E99F6B32D98D | B21: =일위대가!A116 -> 강제전선관 설치 | C21: =일위대가!B116 -> #REF! | D21: =일위대가!C116 -> #REF! | I21: 호표 18 | K21: =_xlfn.FORMULATEXT(C21) -> =일위대가!B116 | L21: =RIGHT(K21, LEN(K21)-FIND("B",K21)-LEN("B")+1) -> 116 | M21: =L21-3 -> 113
A22: 5E9C94AF6434F18107E99F6B32DA94 | B22: =일위대가!A124 -> 강제전선관 설치 | C22: =일위대가!B124 -> #REF! | D22: =일위대가!C124 -> #REF! | I22: 호표 19 | K22: =_xlfn.FORMULATEXT(C22) -> =일위대가!B124 | L22: =RIGHT(K22, LEN(K22)-FIND("B",K22)-LEN("B")+1) -> 124 | M22: =L22-3 -> 121
A23: 5E9C94AF6434F18107E99F6B33FA0E | B23: =일위대가!A132 -> 강제전선관 설치 | C23: =일위대가!B132 -> #REF! | D23: =일위대가!C132 -> #REF! | I23: 호표 20 | K23: =_xlfn.FORMULATEXT(C23) -> =일위대가!B132 | L23: =RIGHT(K23, LEN(K23)-FIND("B",K23)-LEN("B")+1) -> 132 | M23: =L23-3 -> 129
A24: 5E9C94AF6434F18107E99F6B33F7BA | B24: =일위대가!A140 -> 풀박스 설치 | C24: =일위대가!B140 -> #REF! | D24: =일위대가!C140 -> #REF! | I24: 호표 21 | K24: =_xlfn.FORMULATEXT(C24) -> =일위대가!B140 | L24: =RIGHT(K24, LEN(K24)-FIND("B",K24)-LEN("B")+1) -> 140 | M24: =L24-3 -> 137
A25: 5E9C94AF6434F18107E93563379942 | B25: =일위대가!A146 -> 전력케이블 설치 | C25: =일위대가!B146 -> #REF! | D25: =일위대가!C146 -> #REF! | I25: 호표 22 | K25: =_xlfn.FORMULATEXT(C25) -> =일위대가!B146 | L25: =RIGHT(K25, LEN(K25)-FIND("B",K25)-LEN("B")+1) -> 146 | M25: =L25-3 -> 143
A26: 5E9C94AF6434F18107E93563379942 | B26: =일위대가!A153 -> 전력케이블 설치 | C26: =일위대가!B153 -> #REF! | D26: =일위대가!C153 -> #REF! | I26: 호표 23 | K26: =_xlfn.FORMULATEXT(C26) -> =일위대가!B153 | L26: =RIGHT(K26, LEN(K26)-FIND("B",K26)-LEN("B")+1) -> 153 | M26: =L26-3 -> 150
A27: 5E9C94ADB4FD718A789A8D67C87259 | B27: =일위대가!A160 -> 전력케이블 설치 | C27: =일위대가!B160 -> #REF! | D27: =일위대가!C160 -> #REF! | I27: 호표 24 | K27: =_xlfn.FORMULATEXT(C27) -> =일위대가!B160 | L27: =RIGHT(K27, LEN(K27)-FIND("B",K27)-LEN("B")+1) -> 160 | M27: =L27-3 -> 157
A28: 5E9C94ADB4FD718A789A8D67C87259 | B28: =일위대가!A167 -> 전력케이블 설치 | C28: =일위대가!B167 -> #REF! | D28: =일위대가!C167 -> #REF! | I28: 호표 25 | K28: =_xlfn.FORMULATEXT(C28) -> =일위대가!B167 | L28: =RIGHT(K28, LEN(K28)-FIND("B",K28)-LEN("B")+1) -> 167 | M28: =L28-3 -> 164
A29: 5E9C94ADB4FD718A789A8D67C87259 | B29: =일위대가!A174 -> 전력케이블 설치 | C29: =일위대가!B174 -> #REF! | D29: =일위대가!C174 -> #REF! | I29: 호표 26 | K29: =_xlfn.FORMULATEXT(C29) -> =일위대가!B174 | L29: =RIGHT(K29, LEN(K29)-FIND("B",K29)-LEN("B")+1) -> 174 | M29: =L29-3 -> 171
A30: 5E9C94ADB4FD718A789A8D67C87259 | B30: =일위대가!A181 -> UTP케이블 설치 | C30: =일위대가!B181 -> #REF! | D30: =일위대가!C181 -> #REF! | I30: 호표 27 | K30: =_xlfn.FORMULATEXT(C30) -> =일위대가!B181 | L30: =RIGHT(K30, LEN(K30)-FIND("B",K30)-LEN("B")+1) -> 181 | M30: =L30-3 -> 178
A31: 5E9C94ADB4FD718A789A8D67C87259 | B31: =일위대가!A188 -> 접지용전선 설치 | C31: =일위대가!B188 -> #REF! | D31: =일위대가!C188 -> #REF! | I31: 호표 28 | K31: =_xlfn.FORMULATEXT(C31) -> =일위대가!B188 | L31: =RIGHT(K31, LEN(K31)-FIND("B",K31)-LEN("B")+1) -> 188 | M31: =L31-3 -> 185
A32: 5E9C94ADB4FD718A789A8D67C87259 | B32: =일위대가!A195 -> 배관 해체 | C32: =일위대가!B195 -> D25 | D32: =일위대가!C195 -> m | I32: 호표 29 | K32: =_xlfn.FORMULATEXT(C32) -> =일위대가!B195 | L32: =RIGHT(K32, LEN(K32)-FIND("B",K32)-LEN("B")+1) -> 195 | M32: =L32-3 -> 192
A33: 5E9C94AF6434F18107E93563379942 | B33: =일위대가!A202 -> 스위치 철거 | C33: =일위대가!B202 -> 텀블러 스위치 단로용 | D33: =일위대가!C202 -> 개 | I33: 호표 30 | K33: =_xlfn.FORMULATEXT(C33) -> =일위대가!B202 | L33: =RIGHT(K33, LEN(K33)-FIND("B",K33)-LEN("B")+1) -> 202 | M33: =L33-3 -> 199
A34: 5E9C94ADB4FD718A789A8D67C87259 | B34: =일위대가!A208 -> 스위치 설치 | C34: =일위대가!B208 -> #REF! | D34: =일위대가!C208 -> #REF! | I34: 호표 31 | K34: =_xlfn.FORMULATEXT(C34) -> =일위대가!B208 | L34: =RIGHT(K34, LEN(K34)-FIND("B",K34)-LEN("B")+1) -> 208 | M34: =L34-3 -> 205
A35: 5E9C94ADB4FD718A789A8D67C87259 | B35: =일위대가!A214 -> 스위치 설치 | C35: =일위대가!B214 -> #REF! | D35: =일위대가!C214 -> #REF! | I35: 호표 32 | K35: =_xlfn.FORMULATEXT(C35) -> =일위대가!B214 | L35: =RIGHT(K35, LEN(K35)-FIND("B",K35)-LEN("B")+1) -> 214 | M35: =L35-3 -> 211
A36: 5E9C94AF6434F18107E93563379942 | B36: =일위대가!A220 -> 스위치 설치 | C36: =일위대가!B220 -> #REF! | D36: =일위대가!C220 -> #REF! | I36: 호표 33 | K36: =_xlfn.FORMULATEXT(C36) -> =일위대가!B220 | L36: =RIGHT(K36, LEN(K36)-FIND("B",K36)-LEN("B")+1) -> 220 | M36: =L36-3 -> 217
A37: 5E9C94ADB4FD718A789A8D67C87259 | B37: =일위대가!A226 -> 콘센트 철거 | C37: =일위대가!B226 -> 접지극부 15A | D37: =일위대가!C226 -> 개 | I37: 호표 34 | K37: =_xlfn.FORMULATEXT(C37) -> =일위대가!B226 | L37: =RIGHT(K37, LEN(K37)-FIND("B",K37)-LEN("B")+1) -> 226 | M37: =L37-3 -> 223
A38: 5E9C94ADB4FD718A789A8D67C87259 | B38: =일위대가!A232 -> 콘센트 설치 | C38: =일위대가!B232 -> #REF! | D38: =일위대가!C232 -> #REF! | I38: 호표 35 | K38: =_xlfn.FORMULATEXT(C38) -> =일위대가!B232 | L38: =RIGHT(K38, LEN(K38)-FIND("B",K38)-LEN("B")+1) -> 232 | M38: =L38-3 -> 229
A39: 5E9C94ADB4FD718A789A8D67C87259 | B39: =일위대가!A238 -> 멀티덕트 설치 | C39: =일위대가!B238 -> #REF! | D39: =일위대가!C238 -> #REF! | I39: 호표 36 | K39: =_xlfn.FORMULATEXT(C39) -> =일위대가!B238 | L39: =RIGHT(K39, LEN(K39)-FIND("B",K39)-LEN("B")+1) -> 238 | M39: =L39-3 -> 235
A40: 5E9C94ADB4FD718A789A8D67C87259 | B40: =일위대가!A245 -> LED실내조명등 설치 | C40: =일위대가!B245 -> #REF! | D40: =일위대가!C245 -> #REF! | E40: =일위대가!F249 -> 0 | F40: =일위대가!H249 -> 0 | G40: =일위대가!J249 -> 0 | H40: =E40+F40+G40 -> 0 | I40: 호표 37 | K40: =_xlfn.FORMULATEXT(C40) -> =일위대가!B245 | L40: =RIGHT(K40, LEN(K40)-FIND("B",K40)-LEN("B")+1) -> 245 | M40: =L40-3 -> 242

Sheet 일위대가
A1: ="[" & 원가계산서!B2 & "]" -> [제1공학관 창의공학지원실 노후시설 개선 전기공사]
A2: 품 명 | B2: 규 격 | C2: 단위 | D2: 수량 | E2: 재 료 비 | G2: 노 무 비 | I2: 경 비 | K2: 합 계 | M2: 비 고 | N2: 일위대가 | O2: 품목코드 | P2: 일위 | Q2: 단산 | R2: 자재 | S2: 손료적용 | T2: 손료저장 | U2: 적용율 | V2: JUK1 | W2: JUK2 | X2: JUK3 | Y2: JUK4 | Z2: JUK5 | AA2: JUK6 | AB2: JUK7 | AC2: JUK8 | AD2: JUK9 | AE2: JUK10 | AF2: JUK11 | AG2: JUK12 | AH2: JUK13 | AI2: JUK14 | AJ2: JUK15 | AK2: JUK16 | AL2: JUK17 | AM2: JUK18 | AN2: JUK19 | AO2: JUK20 | AP2: 할증적용 | AQ2: 할증저장 | AR2: 할증율 | AS2: HAL1 | AT2: HAL2 | AU2: HAL3 | AV2: 자재구분 | AW2: 일위대가+자재 | AX2: 장비일위 | AY2: 설정
E3: 단 가 | F3: 금 액 | G3: 단 가 | H3: 금 액 | I3: 단 가 | J3: 금 액 | K3: 단 가 | L3: 금 액
A4: =A5&" "&B5&" "& C5&" ( 호표 1 )" -> 금속덕트 철거 300mm*200mm m ( 호표 1 ) | N4: 5E9C94AF64B8518D6DE84863850F00
A5: 금속덕트 철거 | B5: 300mm*200mm | C5: m | D5: 1 | N5: 5E9C94AF64B8518D6DE84863850F00 | O5: 59FE04414472F18932106F6D74CF7C12DDA25D | P5: F | Q5: F | R5: T | V5: 1 | AW5: 5E9C94AF64B8518D6DE84863850F0059FE04414472F18932106F6D74CF7C12DDA25D
A6: 내선전공 | B6: 일반공사 직종 | C6: 인 | D6: =0.6*0.5 -> 0.3 | N6: 5E9C94AF64B8518D6DE84863850F00 | O6: 5E05F4BD7485118AFB6D9A68BA8F02711E4288 | P6: F | Q6: F | R6: T | W6: 2 | AW6: 5E9C94AF64B8518D6DE84863850F005E05F4BD7485118AFB6D9A68BA8F02711E4288
A7: 공구손료 | B7: 인력품의 3% | C7: 식 | D7: 1 | N7: 5E9C94AF64B8518D6DE84863850F00 | O7: 5FCFC405040A11833082BC6CE426002 | P7: F | Q7: F | R7: F | S7: 1 | T7: 0 | U7: 0.03 | AW7: 5E9C94AF64B8518D6DE84863850F005FCFC405040A11833082BC6CE427003
A8: [ 합 계 ] | F8: =TRUNC(SUMIF(N5:N7, N4, F5:F7),0) -> 0 | H8: =TRUNC(SUMIF(N5:N7, N4, H5:H7),0) -> 0 | J8: =TRUNC(SUMIF(N5:N7, N4, J5:J7),0) -> 0 | L8: =F8+H8+J8 -> 0 | N8: TOTAL | O8: TOTAL
A10: =A11&" "&B11&" "& C11&" ( 호표 2 )" -> 금속덕트 철거 200mm*100mm m ( 호표 2 ) | N10: 5E9C94AF64B8518D6DE84863850F00
A11: 금속덕트 철거 | B11: 200mm*100mm | C11: m | D11: 1 | N11: 5E9C94AF64B8518D6DE84863850F00 | O11: 59FE04414472F18932106F6D74CF7C12DDA25D | P11: F | Q11: F | R11: T | V11: 1 | AW11: 5E9C94AF64B8518D6DE84863850F0059FE04414472F18932106F6D74CF7C12DDA25D
A12: 내선전공 | B12: 일반공사 직종 | C12: 인 | D12: =0.45*0.5 -> 0.225 | N12: 5E9C94AF64B8518D6DE84863850F00 | O12: 5E05F4BD7485118AFB6D9A68BA8F02711E4288 | P12: F | Q12: F | R12: T | W12: 2 | AW12: 5E9C94AF64B8518D6DE84863850F005E05F4BD7485118AFB6D9A68BA8F02711E4288
A13: 공구손료 | B13: 인력품의 3% | C13: 식 | D13: 1 | N13: 5E9C94AF64B8518D6DE84863850F00 | O13: 5FCFC405040A11833082BC6CE426002 | P13: F | Q13: F | R13: F | S13: 1 | T13: 0 | U13: 0.03 | AW13: 5E9C94AF64B8518D6DE84863850F005FCFC405040A11833082BC6CE427003
A14: [ 합 계 ] | F14: =TRUNC(SUMIF(N11:N13, N10, F11:F13),0) -> 0 | H14: =TRUNC(SUMIF(N11:N13, N10, H11:H13),0) -> 0 | J14: =TRUNC(SUMIF(N11:N13, N10, J11:J13),0) -> 0 | L14: =F14+H14+J14 -> 0 | N14: TOTAL | O14: TOTAL
A16: =A17&" "&B17&" "& C17&" ( 호표 3 )" -> 강제전선관 철거 후강전선관, 아연도, 22mm m ( 호표 3 ) | N16: 5E9C94AF64B8518D6DE84863850F00
A17: 강제전선관 철거 | B17: 후강전선관, 아연도, 22mm | C17: m | D17: 1 | N17: 5E9C94AF64B8518D6DE84863850F00 | O17: 59FE04414472F18932106F6D74CF7C12DDA25D | P17: F | Q17: F | R17: T | V17: 1 | AW17: 5E9C94AF64B8518D6DE84863850F0059FE04414472F18932106F6D74CF7C12DDA25D
A18: 내선전공 | B18: 일반공사 직종 | C18: 인 | D18: =0.11*0.3 -> 0.033 | N18: 5E9C94AF64B8518D6DE84863850F00 | O18: 5E05F4BD7485118AFB6D9A68BA8F02711E4288 | P18: F | Q18: F | R18: T | W18: 2 | AW18: 5E9C94AF64B8518D6DE84863850F005E05F4BD7485118AFB6D9A68BA8F02711E4288
A19: 공구손료 | B19: 인력품의 3% | C19: 식 | D19: 1 | N19: 5E9C94AF64B8518D6DE84863850F00 | O19: 5FCFC405040A11833082BC6CE426002 | P19: F | Q19: F | R19: F | S19: 1 | T19: 0 | U19: 0.03 | AW19: 5E9C94AF64B8518D6DE84863850F005FCFC405040A11833082BC6CE427003
A20: [ 합 계 ] | F20: =TRUNC(SUMIF(N17:N19, N16, F17:F19),0) -> 0 | H20: =TRUNC(SUMIF(N17:N19, N16, H17:H19),0) -> 0 | J20: =TRUNC(SUMIF(N17:N19, N16, J17:J19),0) -> 0 | L20: =F20+H20+J20 -> 0 | N20: TOTAL | O20: TOTAL
A22: =A23&" "&B23&" "& C23&" ( 호표 4 )" -> 합성수지전선관 철거 28mm m ( 호표 4 ) | N22: 5E9C94AF64B8518D6DE84863850F00
A23: 합성수지전선관 철거 | B23: 28mm | C23: m | D23: 1 | N23: 5E9C94AF64B8518D6DE84863850F00 | O23: 59FE04414472F18932106F6D74CF7C12DDA25D | P23: F | Q23: F | R23: T | V23: 1 | AW23: 5E9C94AF64B8518D6DE84863850F0059FE04414472F18932106F6D74CF7C12DDA25D
A24: 내선전공 | B24: 일반공사 직종 | C24: 인 | D24: =0.08*0.3 -> 0.024 | N24: 5E9C94AF64B8518D6DE84863850F00 | O24: 5E05F4BD7485118AFB6D9A68BA8F02711E4288 | P24: F | Q24: F | R24: T | W24: 2 | AW24: 5E9C94AF64B8518D6DE84863850F005E05F4BD7485118AFB6D9A68BA8F02711E4288
A25: 공구손료 | B25: 인력품의 3% | C25: 식 | D25: 1 | N25: 5E9C94AF64B8518D6DE84863850F00 | O25: 5FCFC405040A11833082BC6CE426002 | P25: F | Q25: F | R25: F | S25: 1 | T25: 0 | U25: 0.03 | AW25: 5E9C94AF64B8518D6DE84863850F005FCFC405040A11833082BC6CE427003
A26: [ 합 계 ] | F26: =TRUNC(SUMIF(N23:N25, N22, F23:F25),0) -> 0 | H26: =TRUNC(SUMIF(N23:N25, N22, H23:H25),0) -> 0 | J26: =TRUNC(SUMIF(N23:N25, N22, J23:J25),0) -> 0 | L26: =F26+H26+J26 -> 0 | N26: TOTAL | O26: TOTAL
A28: =A29&" "&B29&" "& C29&" ( 호표 5 )" -> 합성수지전선관 철거 22mm m ( 호표 5 ) | N28: 5E9C94AF64B8518D6DE84863850F00
A29: 합성수지전선관 철거 | B29: 22mm | C29: m | D29: 1 | N29: 5E9C94AF64B8518D6DE84863850F00 | O29: 59FE04414472F18932106F6D74CF7C12DDA25D | P29: F | Q29: F | R29: T | V29: 1 | AW29: 5E9C94AF64B8518D6DE84863850F0059FE04414472F18932106F6D74CF7C12DDA25D
A30: 내선전공 | B30: 일반공사 직종 | C30: 인 | D30: =0.06*0.3 -> 0.018 | N30: 5E9C94AF64B8518D6DE84863850F00 | O30: 5E05F4BD7485118AFB6D9A68BA8F02711E4288 | P30: F | Q30: F | R30: T | W30: 2 | AW30: 5E9C94AF64B8518D6DE84863850F005E05F4BD7485118AFB6D9A68BA8F02711E4288
A31: 공구손료 | B31: 인력품의 3% | C31: 식 | D31: 1 | N31: 5E9C94AF64B8518D6DE84863850F00 | O31: 5FCFC405040A11833082BC6CE426002 | P31: F | Q31: F | R31: F | S31: 1 | T31: 0 | U31: 0.03 | AW31: 5E9C94AF64B8518D6DE84863850F005FCFC405040A11833082BC6CE427003
A32: [ 합 계 ] | F32: =TRUNC(SUMIF(N29:N31, N28, F29:F31),0) -> 0 | H32: =TRUNC(SUMIF(N29:N31, N28, H29:H31),0) -> 0 | J32: =TRUNC(SUMIF(N29:N31, N28, J29:J31),0) -> 0 | L32: =F32+H32+J32 -> 0 | N32: TOTAL | O32: TOTAL
A34: =A35&" "&B35&" "& C35&" ( 호표 6 )" -> 전력케이블 철거 F-CV, 0.6/1kV, 4C 16mm² m ( 호표 6 ) | N34: 5E9C94AF64B8518D6DE84863850F00
A35: 전력케이블 철거 | B35: F-CV, 0.6/1kV, 4C 16mm² | C35: m | D35: 1 | N35: 5E9C94AF64B8518D6DE84863850F00 | O35: 59FE04414472F18932106F6D74CF7C12DDA25D | P35: F | Q35: F | R35: T | V35: 1 | AW35: 5E9C94AF64B8518D6DE84863850F0059FE04414472F18932106F6D74CF7C12DDA25D
A36: 저압케이블전공 | B36: 일반공사 직종 | C36: 인 | D36: =0.023*2.6*0.5 -> 0.0299 | N36: 5E9C94AF64B8518D6DE84863850F00 | O36: 5E05F4BD7485118AFB6D9A68BA8F02711E4288 | P36: F | Q36: F | R36: T | W36: 2 | AW36: 5E9C94AF64B8518D6DE84863850F005E05F4BD7485118AFB6D9A68BA8F02711E4288
A37: 공구손료 | B37: 인력품의 3% | C37: 식 | D37: 1 | N37: 5E9C94AF64B8518D6DE84863850F00 | O37: 5FCFC405040A11833082BC6CE426002 | P37: F | Q37: F | R37: F | S37: 1 | T37: 0 | U37: 0.03 | AW37: 5E9C94AF64B8518D6DE84863850F005FCFC405040A11833082BC6CE427003
A38: [ 합 계 ] | F38: =TRUNC(SUMIF(N35:N37, N34, F35:F37),0) -> 0 | H38: =TRUNC(SUMIF(N35:N37, N34, H35:H37),0) -> 0 | J38: =TRUNC(SUMIF(N35:N37, N34, J35:J37),0) -> 0 | L38: =F38+H38+J38 -> 0 | N38: TOTAL | O38: TOTAL
A40: =A41&" "&B41&" "& C41&" ( 호표 7 )" -> 전력케이블 철거 F-CV, 0.6/1kV, 4C 10mm² m ( 호표 7 ) | N40: 5E9C94AF64B8518D6DE84863850F00
A41: 전력케이블 철거 | B41: F-CV, 0.6/1kV, 4C 10mm² | C41: m | D41: 1 | N41: 5E9C94AF64B8518D6DE84863850F00 | O41: 59FE04414472F18932106F6D74CF7C12DDA25D | P41: F | Q41: F | R41: T | V41: 1 | AW41: 5E9C94AF64B8518D6DE84863850F0059FE04414472F18932106F6D74CF7C12DDA25D
A42: 저압케이블전공 | B42: 일반공사 직종 | C42: 인 | D42: =0.049*0.5 -> 0.0245 | N42: 5E9C94AF64B8518D6DE84863850F00 | O42: 5E05F4BD7485118AFB6D9A68BA8F02711E4288 | P42: F | Q42: F | R42: T | W42: 2 | AW42: 5E9C94AF64B8518D6DE84863850F005E05F4BD7485118AFB6D9A68BA8F02711E4288
A43: 공구손료 | B43: 인력품의 3% | C43: 식 | D43: 1 | N43: 5E9C94AF64B8518D6DE84863850F00 | O43: 5FCFC405040A11833082BC6CE426002 | P43: F | Q43: F | R43: F | S43: 1 | T43: 0 | U43: 0.03 | AW43: 5E9C94AF64B8518D6DE84863850F005FCFC405040A11833082BC6CE427003
A44: [ 합 계 ] | F44: =TRUNC(SUMIF(N41:N43, N40, F41:F43),0) -> 0 | H44: =TRUNC(SUMIF(N41:N43, N40, H41:H43),0) -> 0 | J44: =TRUNC(SUMIF(N41:N43, N40, J41:J43),0) -> 0 | L44: =F44+H44+J44 -> 0 | N44: TOTAL | O44: TOTAL
A46: =A47&" "&B47&" "& C47&" ( 호표 8 )" -> 전력케이블 철거 F-CV, 0.6/1kV, 4C 6mm² m ( 호표 8 ) | N46: 5E9C94AF64B8518D6DE84863850F00
A47: 전력케이블 철거 | B47: F-CV, 0.6/1kV, 4C 6mm² | C47: m | D47: 1 | N47: 5E9C94AF64B8518D6DE84863850F00 | O47: 59FE04414472F18932106F6D74CF7C12DDA25D | P47: F | Q47: F | R47: T | V47: 1 | AW47: 5E9C94AF64B8518D6DE84863850F0059FE04414472F18932106F6D74CF7C12DDA25D
...
