Workbook

Sheet 사업개요
A1: 주택건설공사 감리자 모집에 따른 사업개요
A3: 가. 사업현황
A4: 구 분 | B4: 내 용 | E4: 비 고
A5: 사 업 명 | B5: 청주 센트럴밸리 공동주택 신축공사
A6: 사업주체 | B6: ㈜한국토지신탁
B7: 서울특별시 강남구 테헤란로 137
B8: TEL) 02-3451-1268 | C8: FAX) 050-6426-1268
A9: 설 계 자 | B9: ㈜시아플랜건축
B10: 서울특별시 강남구 언주로30길 13
B11: TEL) 02-570-1004 | C11: FAX) 02-570-1003
A12: 시 공 사 | B12: ㈜한화
B13: 서울특별시 중구 청계천로 86
B14: TEL) | C14: FAX)
A15: 사업개요 | B15: 대지위치 : 충청북도 청주시 흥덕구 옥산면 국사리 1102번지 일원
B16: 공사규모 : 지하 3층, 지상 29층 아파트 13개동 1,621세대 및 부대복리시설
B17: 전체공사기간 : 2026.12 ~ 2029. 11. (36개월)
B18: 대지면적 : 80,623㎡
B19: 건축면적 : 11,766.2367㎡
B20: 연 면 적 : 288,487.9513㎡
B21: 사업승인 : 2026. 09.18
A23: 나.총사업비 | D23: (단위 : 천원)
A24: 항 목 | C24: 금 액 | E24: 비 고
A25: 총 사 업 비 | C25: ='소방_갑지(사업비)'!D24 -> 639123080 | D25: 천원
A26: 대 지 비 | C26: ='소방_갑지(사업비)'!D22 -> 77059640 | D26: 천원
A27: 총 공 사 비 | C27: ='소방_갑지(사업비)'!D14 -> 457282252 | D27: 천원
A28: 감 리 구 분
B29: 가.소방감리 대상공사비 | C29: ='소방_갑지(사업비)'!E24 -> 24784696 | D29: 천원 | E29: 일반관리비, 이윤 포함
B30: 나.타법감리 대상공사비 | C30: ='소방_갑지(사업비)'!G24 -> 432497556 | D30: 천원 | E30: 일반관리비, 이윤 포함

Sheet 건축_갑지(사업비)
A1: 【별지 제1호 서식】
A2: 총사업비 산출 총괄표
A3: 사업명 : 청주 분평·미평지구 A1 BL 공동주택 신축공사 | G3: (단위 : 천원)
A4: 구 분 | D4: 전 체 | E4: 건축감리대상 | F4: 감리제외 | G4: 타법감리
A5: 총 공사비 | B5: 순공사비 | C5: 토목공사 | D5: =+'건축_을지(총공사비)'!D18 -> 33117203 | E5: =+D5 -> 33117203 | G5: =+D5-E5 -> 0
C6: 건축공사 | D6: =+'건축_을지(총공사비)'!D42 -> 238096426 | E6: =+D6 -> 238096426 | G6: =+D6-E6 -> 0
C7: 기계설비공사 | D7: =+'건축_을지(총공사비)'!D52 -> 32459496 | E7: =+D7 -> 32459496 | G7: =+D7-E7 -> 0
C8: 전기공사 | D8: =+'건축_을지(총공사비)'!D53 -> 27823758 | E8: 0 | G8: =+D8-E8 -> 27823758
C9: 정보통신공사 | D9: =+'건축_을지(총공사비)'!D54 -> 11137465 | E9: 0 | G9: =+D9-E9 -> 11137465
C10: 소방공사 | D10: =+'건축_을지(총공사비)'!D55 -> 17120500 | E10: 0 | G10: =+D10-E10 -> 17120500
C11: 소 계 | D11: =SUM(D5:D10) -> 359754848 | E11: =SUM(E5:E10) -> 303673125 | F11: =SUM(F5:F10) -> 0 | G11: =SUM(G5:G10) -> 56081723
B12: 일반관리비 | D12: ='건축_을지(총공사비)'!D57 -> 19766750 | E12: ='건축_을지(총공사비)'!E57 -> 17218392 | F12: 0 | G12: =+D12-E12 -> 2548358
B13: 이 윤 | D13: ='건축_을지(총공사비)'!D58 -> 15813402 | E13: ='건축_을지(총공사비)'!E58 -> 13774715 | F13: 0 | G13: =+D13-E13 -> 2038686.7
B14: 계 | D14: =SUM(D11:D13) -> 395335000 | E14: =SUM(E11:E13) -> 3.3466623e+08 | F14: =SUM(F11:F13) -> 0 | G14: =SUM(G11:G13) -> 60668768
A15: 간접비 | B15: 설계비 | D15: 3400000 | F15: =+D15 -> 3400000
B16: 감리비 | D16: 5705864 | F16: =+D16 -> 5705864
B17: 일반분양시설 경비 | D17: 21079000 | F17: =+D17 -> 21079000
B18: 분담금 및 부담금 | D18: 7651130 | F18: =+D18 -> 7651130
B19: 보상비 | F19: =+D19 -> 0
B20: 기타 사업비성 경비 | D20: 26964280 | F20: =+D20 -> 26964280
B21: 계 | D21: =SUM(D15:D20) -> 64800274 | F21: =SUM(F15:F20) -> 64800274
A22: 대 지 비 | D22: 270522000 | F22: =+D22 -> 270522000
A23: 부가가치세액 | D23: 1919639 | F23: =+D23 -> 1919639
A24: 총사업비 계 | D24: =D14+D21+D22+D23 -> 7.3257691e+08 | E24: =E11+E12+E13+E21+E22+E23 -> 3.3466623e+08 | F24: =F14+F21+F22+F23 -> 3.3724191e+08 | G24: =G11+G12+G13+G21+G22+G23 -> 60668768
A25: 주 : 1. 순공사비란 재료비, 노무비, 경비를 합한 금액임.
A26: 2. 일반관리비와 이윤에 대한 정의 및 산정방법은 ‘원가계산에 의한 예정가격작성준칙(회계예규)’에 따름
A27: 3. 부가가치세액의 정의와 산정방법은 ‘부가가치세법’에 따름
A28: 4. 간접비란 사업비중 총공사비를 제외한 설계비, 감리비, 분양시설경비등 사업비성 경비를 말하며,
A29: 세부 비목은 다음과 같음.
A30: ● 일반분양시설경비 : 시공비, 운영비, 광고홍보비
A31: ● 분담금 및 부담금 : 인입분담금(가스, 전기, 수도, 지역난방), 진입도로, 학교용지확보 부담금
A32: ● 보상비 : 이주대책비, 이주보상비
A33: ● 기타사업비성 경비 : 제세공과금, 측량·교통·환경 영향평가 수수료, 취득세, 등록세, 건물보존등기비 및
A34: 입주관리비, 감정평가수수료, 분양·임대 및 하자보증수수료 등 기타 사업비성 경비
A35: ● 대지비 : 대지구입비, 대지구입 관련 금융비용 및 제세공과금
A36: 5. 감리대상 공사비 산정시 발코니확장공사 금액 포함 금액임.

Sheet 건축_을지(총공사비)
A1: 【별지 제2호 서식】
D2: 공종별 총공사비 구성 현황표
A3: 사업명 : 청주 분평·미평지구 A1 BL 공동주택 신축공사 | G3: (단위:천원)
A4: 구 분 | B4: 분 야 | C4: 공 종 | D4: 전 체 | E4: 건축감리 | F4: 감리제외 | G4: 타법감리
A5: 순공사비 | B5: 토목,조경 (13개공사) | C5: 토 공 사 | D5: =E5+F5+G5 -> 6623441 | E5: ='청주시 사례'!M5 -> 6623441 | F5: 0 | G5: 0
C6: 흙막이 공사 | D6: =E6+F6+G6 -> 3311719 | E6: ='청주시 사례'!M6 -> 3311719 | F6: 0 | G6: 0
C7: 비탈면 보호공사 | D7: =E7+F7+G7 -> 441563 | E7: ='청주시 사례'!M7 -> 441563 | F7: 0 | G7: 0
C8: 옹벽공사 | D8: =E8+F8+G8 -> 662345 | E8: ='청주시 사례'!M8 -> 662345 | F8: 0 | G8: 0
C9: 석축공사 | D9: =E9+F9+G9 -> 662345 | E9: ='청주시 사례'!M9 -> 662345 | F9: 0 | G9: 0
C10: 우,오수공사 | D10: =E10+F10+G10 -> 1987033 | E10: ='청주시 사례'!M10 -> 1987033 | F10: 0 | G10: 0
C11: 공동구공사 | D11: =E11+F11+G11 -> 441563 | E11: ='청주시 사례'!M11 -> 441563 | F11: 0 | G11: 0
C12: 지하저수조 및 급수공사 | D12: =E12+F12+G12 -> 1103906 | E12: ='청주시 사례'!M12 -> 1103906 | F12: 0 | G12: 0
C13: 도로포장공사 | D13: =E13+F13+G13 -> 3311719 | E13: ='청주시 사례'!M13 -> 3311719 | F13: 0 | G13: 0
C14: 교통안전시설물공사 | D14: =E14+F14+G14 -> 220782 | E14: ='청주시 사례'!M14 -> 220782 | F14: 0 | G14: 0
C15: 정화조시설공사 | D15: =E15+F15+G15 -> 883126 | E15: ='청주시 사례'!M15 -> 883126 | F15: 0 | G15: 0
C16: 조경공사 | D16: =E16+F16+G16 -> 11039066 | E16: ='청주시 사례'!M16 -> 11039066 | F16: 0 | G16: 0
C17: 부대시설공사 | D17: =E17+F17+G17 -> 2428595 | E17: ='청주시 사례'!M17 -> 2428595 | F17: 0 | G17: 0
C18: 소 계 | D18: =SUM(D5:D17) -> 33117203 | E18: =SUM(E5:E17) -> 33117203 | F18: 0 | G18: 0
B19: 건축 (23개공사) | C19: 공통가설공사 | D19: =E19+F19+G19 -> 3095253 | E19: ='청주시 사례'!M19 -> 3095253 | F19: 0 | G19: 0
C20: 가시설물공사 | D20: =E20+F20+G20 -> 10000050 | E20: ='청주시 사례'!M20 -> 10000050 | F20: 0 | G20: 0
C21: 지정 및 기초공사 | D21: =E21+F21+G21 -> 3809542 | E21: ='청주시 사례'!M21 -> 3809542 | F21: 0 | G21: 0
C22: 철골공사 | D22: =E22+F22+G22 -> 119049 | E22: ='청주시 사례'!M22 -> 119049 | F22: 0 | G22: 0
C23: 철근콘크리트공사 | D23: =E23+F23+G23 -> 93190940 | E23: ='청주시 사례'!M23 -> 93190940 | F23: 0 | G23: 0
C24: 용접공사 | D24: =E24+F24+G24 -> 23810 | E24: ='청주시 사례'!M24 -> 23810 | F24: 0 | G24: 0
C25: 조적공사 | D25: =E25+F25+G25 -> 4285735 | E25: ='청주시 사례'!M25 -> 4285735 | F25: 0 | G25: 0
C26: 미장공사 | D26: =E26+F26+G26 -> 10000050 | E26: ='청주시 사례'!M26 -> 10000050 | F26: 0 | G26: 0
C27: 단열공사 | D27: =E27+F27+G27 -> 9523857 | E27: ='청주시 사례'!M27 -> 9523857 | F27: 0 | G27: 0
C28: 방수, 방습공사 | D28: =E28+F28+G28 -> 8095279 | E28: ='청주시 사례'!M28 -> 8095279 | F28: 0 | G28: 0
C29: 목 공 사 | D29: =E29+F29+G29 -> 15000074 | E29: ='청주시 사례'!M29 -> 15000074 | F29: 0 | G29: 0
C30: 가구공사 | D30: =E30+F30+G30 -> 6904796 | E30: ='청주시 사례'!M30 -> 6904796 | F30: 0 | G30: 0
C31: 금속공사 | D31: =E31+F31+G31 -> 6781731 | E31: ='청주시 사례'!M31 -> 6781731 | F31: 0 | G31: 0
... C41: 잡공사 | D41: =E41+F41+G41 -> 952386 | E41: ='청주시 사례'!M41 -> 952386 | F41: 0 | G41: 0
C42: 소 계 | D42: =SUM(D19:D41) -> 238096426 | E42: =SUM(E19:E41) -> 238096426 | F42: 0 | G42: 0
B43: 기계설비 (9개공사) | C43: 급수설비공사 | D43: =E43+F43+G43 -> 3409280 | E43: ='청주시 사례'!M43 -> 3409280 | F43: 0 | G43: 0
C44: 급탕설비공사 | D44: =E44+F44+G44 -> 2894995 | E44: ='청주시 사례'!M44 -> 2894995 | F44: 0 | G44: 0
C45: 오배수 및 통기설비공사 | D45: =E45+F45+G45 -> 4264837 | E45: ='청주시 사례'!M45 -> 4264837 | F45: 0 | G45: 0
C46: 위생기구공사 | D46: =E46+F46+G46 -> 2815924 | E46: ='청주시 사례'!M46 -> 2815924 | F46: 0 | G46: 0
C47: 승강기기계공사 | D47: =E47+F47+G47 -> 5569705 | E47: ='청주시 사례'!M47 -> 5569705 | F47: 0 | G47: 0
C48: 난방설비공사 | D48: =E48+F48+G48 -> 7385599 | E48: ='청주시 사례'!M48 -> 7385599 | F48: 0 | G48: 0
C49: 가스설비공사 | D49: =E49+F49+G49 -> 603412 | E49: ='청주시 사례'!M49 -> 603412 | F49: 0 | G49: 0
C50: 자동제어설비공사 | D50: =E50+F50+G50 -> 662429 | E50: ='청주시 사례'!M50 -> 662429 | F50: 0 | G50: 0
C51: 특수설비공사 | D51: =E51+F51+G51 -> 4853315 | E51: ='청주시 사례'!M51 -> 4853315 | F51: 0 | G51: 0
C52: 소 계 | D52: =SUM(D43:D51) -> 32459496 | E52: =SUM(E43:E51) -> 32459496 | F52: 0 | G52: 0
B53: 전기공사 | D53: =E53+F53+G53 -> 27823758 | E53: 0 | F53: 0 | G53: ='청주시 사례'!M68 -> 27823758
B54: 정보통신공사 | D54: =E54+F54+G54 -> 11137465 | E54: 0 | F54: 0 | G54: ='청주시 사례'!M69 -> 11137465
B55: 소방공사 | D55: =E55+F55+G55 -> 17120500 | E55: 0 | F55: 0 | G55: ='청주시 사례'!M72 -> 17120500
B56: 소 계 | D56: =+SUM(D52:D55,D42,D18) -> 359754848 | E56: =+SUM(E52:E55,E42,E18) -> 303673125 | F56: =+SUM(F52:F55,F42,F18) -> 0 | G56: =+SUM(G52:G55,G42,G18) -> 56081723
A57: 일반관리비 | D57: =E57+F57+G57 -> 19766750 | E57: ='청주시 사례'!M73*'청주시 사례'!P75 -> 17218392 | F57: 0 | G57: ='청주시 사례'!M73-'건축_을지(총공사비)'!E57 -> 2548358
A58: 이 윤 | D58: =E58+F58+G58 -> 15813402 | E58: ='청주시 사례'!M74*'청주시 사례'!P75 -> 13774715 | F58: 0 | G58: ='청주시 사례'!M74-'건축_을지(총공사비)'!E58 -> 2038686.7
A59: 총공사비계 | D59: =+SUM(D56:D58) -> 395335000 | E59: =+SUM(E56:E58) -> 3.3466623e+08 | F59: =+SUM(F56:F58) -> 0 | G59: =+SUM(G56:G58) -> 60668768

Sheet 건축_예정공정표
A2: 청주 분평·미평지구 A1 BL 공동주택 신축공사 예 정 공 정 표
A4: ■ | B4: 사 업 명 | C4: : 청주 분평·미평지구 A1 BL 공동주택 신축공사
A5: ■ | B5: 착공예정일 | C5: : 2026. 02. 01.
A6: ■ | B6: 공 사 규 모 | C6: : 아파트 10개동, 1,351세대 ( 지하2층~지상29층 )
A7: ■ | B7: 공 사 기 간 | C7: : 2026. 02. 01. ~ 2029. 01. 31. (36개월)
A8: ■ | B8: 위치 | C8: : 충청북도 청주시 서원구 분평동 213번지 일원
A11: 구 분 | C11: 2026년 | O11: 2027년 | AA11: 2028년 | AM11: 2029년 | AP11: 비 고
C12: 1 | D12: 2 | E12: 3 | F12: 4 | G12: 5 | H12: 6 | I12: 7 | J12: 8 | K12: 9 | L12: 10 | M12: 11 | N12: 12 | O12: 1 | P12: 2 | Q12: 3 | R12: 4 | S12: 5 | T12: 6 | U12: 7 | V12: 8 | W12: 9 | X12: 10 | Y12: 11 | Z12: 12 | AA12: 1 | AB12: 2 | AC12: 3 | AD12: 4 | AE12: 5 | AF12: 6 | AG12: 7 | AH12: 8 | AI12: 9 | AJ12: 10 | AK12: 11 | AL12: 12 | AM12: 1 | AN12: 2 | AO12: 3
A13: 전체공정 | AP13: 2026.02.01. ~ 2029.01.31. (36개월)
C14: 1 | D14: 1 | E14: 1 | F14: 1 | G14: 1 | H14: 1 | I14: 1 | J14: 1 | K14: 1 | L14: 1 | M14: 1 | N14: 1 | O14: 1 | P14: 1 | Q14: 1 | R14: 1 | S14: 1 | T14: 1 | U14: 1 | V14: 1 | W14: 1 | X14: 1 | Y14: 1 | Z14: 1 | AA14: 1 | AB14: 1 | AC14: 1 | AD14: 1 | AE14: 1 | AF14: 1 | AG14: 1 | AH14: 1 | AI14: 1 | AJ14: 1 | AK14: 1 | AL14: 1 | AM14: 1
A16: 건축공사 | B16: 건축공사 | AP16: 2026.02.01. ~ 2029.01.31. (36개월)
C17: 1 | D17: 1 | E17: 1 | F17: 1 | G17: 1 | H17: 1 | I17: 1 | J17: 1 | K17: 1 | L17: 1 | M17: 1 | N17: 1 | O17: 1 | P17: 1 | Q17: 1 | R17: 1 | S17: 1 | T17: 1 | U17: 1 | V17: 1 | W17: 1 | X17: 1 | Y17: 1 | Z17: 1 | AA17: 1 | AB17: 1 | AC17: 1 | AD17: 1 | AE17: 1 | AF17: 1 | AG17: 1 | AH17: 1 | AI17: 1 | AJ17: 1 | AK17: 1 | AL17: 1 | AM17: 1
A19: 구조체공사 | AP19: 2026.09.01.~2028.04.30. (20개월)
K20: 1 | L20: 1 | M20: 1 | N20: 1 | O20: 1 | P20: 1 | Q20: 1 | R20: 1 | S20: 1 | T20: 1 | U20: 1 | V20: 1 | W20: 1 | X20: 1 | Y20: 1 | Z20: 1 | AA20: 1 | AB20: 1 | AC20: 1 | AD20: 1
A22: 토목공사 | AP22: 2026.02.01.~2026.09.31. 2028.10.01.~2029.01.31. (12개월)
C23: 1 | D23: 1 | E23: 1 | F23: 1 | G23: 1 | H23: 1 | I23: 1 | J23: 1 | K23: 1 | AK23: 1 | AL23: 1 | AM23: 1
A25: 조경공사 | AP25: 2028.10.01.~2029.01.31. (3개월)
AK26: 1 | AL26: 1 | AM26: 1
A28: 설비공사 | AP28: 2026.02.01. ~ 2029.01.31. (36개월)
C29: 1 | D29: 1 | E29: 1 | F29: 1 | G29: 1 | H29: 1 | I29: 1 | J29: 1 | K29: 1 | L29: 1 | M29: 1 | N29: 1 | O29: 1 | P29: 1 | Q29: 1 | R29: 1 | S29: 1 | T29: 1 | U29: 1 | V29: 1 | W29: 1 | X29: 1 | Y29: 1 | Z29: 1 | AA29: 1 | AB29: 1 | AC29: 1 | AD29: 1 | AE29: 1 | AF29: 1 | AG29: 1 | AH29: 1 | AI29: 1 | AJ29: 1 | AK29: 1 | AL29: 1 | AM29: 1

Sheet 소방_갑지(사업비)
A1: 【별지 제1호 서식】
A2: 총사업비 산출 총괄표
A3: 사업명 : 포레나 청주 옥산 공동주택 신축공사 | G3: (단위 : 천원)
A4: 구 분 | D4: 전 체 | E4: 감리대상(소방) | F4: 감리제외 | G4: 타법감리
A5: 총 공사비 | B5: 순공사비 | C5: 토목공사 | D5: 53473078 | G5: =D5 -> 53473078
C6: 건축공사 | D6: 244839938 | G6: =D6 -> 244839938
C7: 기계설비공사 | D7: 34651477 | G7: =D7 -> 34651477
C8: 소방공사 | D8: 21562687 | E8: =D8 -> 21562687
C9: 전기공사 | D9: 28321913 | G9: =D9 -> 28321913
C10: 정보통신공사 | D10: 14986466 | G10: =D10 -> 14986466
C11: 소 계 | D11: =SUM(D5:D10) -> 397835559 | E11: =SUM(E5:E10) -> 21562687 | F11: =SUM(F5:F10) -> 0 | G11: =D11-E11-F11 -> 376272872
B12: 일반관리비 | D12: 22864113 | E12: ='소방_을지(총공사비)'!E14 -> 1239234 | F12: 0 | G12: =D12-E12-F12 -> 21624879
B13: 이 윤 | D13: 36582580 | E13: ='소방_을지(총공사비)'!E15 -> 1982775 | F13: 0 | G13: =D13-E13-F13 -> 34599805
B14: 계 | D14: 457282252 | E14: =E13+E12+E11 -> 24784696 | F14: =F13+F12+F11 -> 0 | G14: =G13+G12+G11 -> 432497556
A15: 간접비 | B15: 설계비 | D15: 8726761 | F15: =D15 -> 8726761
B16: 감리비 | D16: 10472113 | F16: =D16 -> 10472113
B17: 일반분양시설 경비 | D17: 20974225 | F17: =D17 -> 20974225
B18: 분담금 및 부담금 | D18: =6402437+700000+800000+1745352 -> 9647789 | F18: =D18 -> 9647789
B19: 보상비 | D19: 0 | F19: =D19 -> 0
B20: 기타 사업비성 경비 | D20: =35144863+19815437-12605692 -> 42354608 | F20: =D20 -> 42354608
B21: 계 | D21: =SUM(D15:D20) -> 92175496 | F21: =SUM(F15:F20) -> 92175496 | G21: 0
A22: 대 지 비 | D22: 77059640 | F22: 77059640 | G22: 0
A23: 부가가치세액 | D23: 12605692 | F23: 12605692 | G23: 0
A24: 총사업비 계 | D24: =SUM(D14,D21,D22,D23) -> 639123080 | E24: =SUM(E14,E21,E22,E23) -> 24784696 | F24: =SUM(F14,F21,F22,F23) -> 181840828 | G24: =SUM(G14,G21,G22,G23) -> 432497556

Sheet 소방_을지(총공사비)
D2: 공종별 총공사비 구성 현황표(소방)
A3: 사업명 : 포레나 청주 옥산 공동주택 신축공사 | G3: (단위:천원)
A4: 구 분 | B4: 분 야 | C4: 공 종 | D4: 전 체 | E4: 감리대상(소방) | F4: 감리제외 | G4: 타법감리
B5: 소방공사 | C5: 기계소방공사 | D5: =('소방_갑지(사업비)'!D14-'소방_갑지(사업비)'!D13-'소방_갑지(사업비)'!D12)*4.061% -> 16156102 | E5: =D5 -> 16156102 | F5: 0 | H5: 0.8008817
C6: 전기소방공사 | D6: =('소방_갑지(사업비)'!D14-'소방_갑지(사업비)'!D13-'소방_갑지(사업비)'!D12)*1.359% -> 5406585.2 | E6: =D6 -> 5406585.2 | F6: 0 | H6: 0.1991183
C7: 소 계 | D7: =SUM(D5:D6) -> 21562687 | E7: =E6+E5 -> 21562687 | F7: 0 | G7: =SUM(G5:G6) -> 0
B8: 건축공사 | D8: ='소방_갑지(사업비)'!D6 -> 244839938 | F8: 0 | G8: =D8 -> 244839938
B9: 토목공사 | D9: ='소방_갑지(사업비)'!D5 -> 53473078 | F9: 0 | G9: =D9 -> 53473078
B10: 기계설비공사 | D10: ='소방_갑지(사업비)'!D7 -> 34651477 | F10: 0 | G10: =D10 -> 34651477
B11: 전기공사 | D11: ='소방_갑지(사업비)'!D9 -> 28321913 | E11: 0 | F11: 0 | G11: =D11 -> 28321913
B12: 정보통신공사 | D12: ='소방_갑지(사업비)'!D10 -> 14986466 | E12: 0 | F12: 0 | G12: =D12 -> 14986466
B13: 소 계 | D13: =SUM(D7:D12) -> 3.9783556e+08 | E13: =SUM(E7:E12) -> 21562687 | F13: 0 | G13: =SUM(G7:G12) -> 376272872
A14: 일반관리비 | D14: ='소방_갑지(사업비)'!D12 -> 22864113 | E14: =ROUNDDOWN(D14*($E$13/$D$13),0) -> 1239234 | F14: 0 | G14: =D14-E14 -> 21624879
A15: 이 윤 | D15: ='소방_갑지(사업비)'!D13 -> 36582580 | E15: =ROUNDDOWN(D15*($E$13/$D$13),0) -> 1982775 | F15: 0 | G15: =D15-E15 -> 34599805
A16: 총공사비계 | D16: =D15+D14+D13 -> 4.5728225e+08 | E16: =E15+E14+E13 -> 24784696 | F16: 0 | G16: =G15+G14+G13 -> 432497556
E18: =E14/D14 -> 0.05419996
E19: =E15/D15 -> 0.054199977
E22: =E7/D13 -> 0.0542

Sheet 예정공정표
A1: ○ 청주 센트럴밸리 공동주택 예정공정표
A3: 공사기간 : 2026.12 ~ 2029. 11
A4: .
A5: 구 분 | C5: 2026 | D5: 2027년 | P5: 2028년 | AB5: 2029년 | AM5: 비고
C6: 12 | D6: 1 | E6: =IF(D6<12,D6+1,IF(D6=12,1,D6+1)) -> 2 | F6: =IF(E6<12,E6+1,IF(E6=12,1,E6+1)) -> 3 | G6: 4 | H6: =IF(G6<12,G6+1,IF(G6=12,1,G6+1)) -> 5 | I6: =IF(H6<12,H6+1,IF(H6=12,1,H6+1)) -> 6 | J6: =IF(I6<12,I6+1,IF(I6=12,1,I6+1)) -> 7 | K6: =IF(J6<12,J6+1,IF(J6=12,1,J6+1)) -> 8 | L6: =IF(K6<12,K6+1,IF(K6=12,1,K6+1)) -> 9 | M6: =IF(L6<12,L6+1,IF(L6=12,1,L6+1)) -> 10 | N6: =IF(M6<12,M6+1,IF(M6=12,1,M6+1)) -> 11 | O6: =IF(N6<12,N6+1,IF(N6=12,1,N6+1)) -> 12 | ... AK6: =IF(AJ6<12,AJ6+1,IF(AJ6=12,1,AJ6+1)) -> 10 | AL6: 11
A7: 전체 공사 | AM7: 36개월 (26.12.01~29.11.30)
A10: 토목 공사 | AM10: 11개월 (26.12.01~27.10.31) 9개월 (29.01.01~29.09.30)
A13: 조경공사 | AM13: 7개월 (29.05.01~29.11.30)
A16: 건축 공사 | AM16: 32개월 (27.04.01~29.11.30)
A19: 구조체 공사 | AM19: 21개월 (27.06.01~29.02.28)
A22: 기계설비 공사 | AM22: 32개월 (27.04.01~29.11.30)
A25: 전기 공사 | AM25: 32개월 (27.04.01~29.11.30)
A28: 정보통신 공사 | AM28: 32개월 (27.04.01~29.11.30)
A31: 소방설비 공사 | AM31: 32개월 (27.04.01~29.11.30)

Sheet 소방_예정공정표
A2: 청주 분평·미평지구 A1 BL 공동주택 신축공사 예 정 공 정 표
A4: ■ | B4: 사 업 명 | C4: : 청주 분평·미평지구 A1 BL 공동주택 신축공사
A5: ■ | B5: 착공예정일 | C5: : 2026. 02. 01.
A6: ■ | B6: 공 사 규 모 | C6: : 아파트 10개동, 1,351세대 ( 지하2층~지상29층 )
A7: ■ | B7: 공 사 기 간 | C7: : 2026. 02. 01. ~ 2029. 01. 31. (36개월)
A8: ■ | B8: 소 방 공 사 기 간 | C8: : 2026. 09. 01. ~ 2029. 01. 31. (29개월)
A9: ■ | B9: 위치 | C9: : 충청북도 청주시 서원구 분평동 213번지 일원
A12: 구 분 | C12: 2026년 | O12: 2027년 | AA12: 2028년 | AM12: 2029년 | AP12: 비 고
C13: 1 | D13: 2 | E13: 3 | F13: 4 | G13: 5 | H13: 6 | I13: 7 | J13: 8 | K13: 9 | L13: 10 | M13: 11 | N13: 12 | O13: 1 | P13: 2 | Q13: 3 | R13: 4 | S13: 5 | T13: 6 | U13: 7 | V13: 8 | W13: 9 | X13: 10 | Y13: 11 | Z13: 12 | AA13: 1 | AB13: 2 | AC13: 3 | AD13: 4 | AE13: 5 | AF13: 6 | AG13: 7 | AH13: 8 | AI13: 9 | AJ13: 10 | AK13: 11 | AL13: 12 | AM13: 1 | AN13: 2 | AO13: 3
A14: 전체공정 | AP14: 2026.02.01. ~ 2029.01.31. (36개월)
C15: 1 | D15: 1 | E15: 1 | F15: 1 | G15: 1 | H15: 1 | I15: 1 | J15: 1 | K15: 1 | L15: 1 | M15: 1 | N15: 1 | O15: 1 | P15: 1 | Q15: 1 | R15: 1 | S15: 1 | T15: 1 | U15: 1 | V15: 1 | W15: 1 | X15: 1 | Y15: 1 | Z15: 1 | AA15: 1 | AB15: 1 | AC15: 1 | AD15: 1 | AE15: 1 | AF15: 1 | AG15: 1 | AH15: 1 | AI15: 1 | AJ15: 1 | AK15: 1 | AL15: 1 | AM15: 1
A17: 소방공사 | B17: 건축공사 | AP17: 2026.09.01. ~ 2029.01.31. (29개월)
K18: 1 | L18: 1 | M18: 1 | N18: 1 | O18: 1 | P18: 1 | Q18: 1 | R18: 1 | S18: 1 | T18: 1 | U18: 1 | V18: 1 | W18: 1 | X18: 1 | Y18: 1 | Z18: 1 | AA18: 1 | AB18: 1 | AC18: 1 | AD18: 1 | AE18: 1 | AF18: 1 | AG18: 1 | AH18: 1 | AI18: 1 | AJ18: 1 | AK18: 1 | AL18: 1 | AM18: 1

Sheet 전기_갑지(사업비)
A1: 【별지 제1호 서식】
A2: 총사업비 산출 총괄표
A3: 사업명 : 청주 분평·미평지구 A1 BL 공동주택 신축공사 | G3: (단위 : 천원)
A4: 구 분 | D4: 전 체 | E4: 감리대상(전기) | F4: 감리제외 | G4: 타법감리
A5: 총 공사비 | B5: 순공사비 | C5: 토목공사 | D5: =E5+G5+F5 -> 33117203 | G5: ='전기_을지(총공사비)'!D22 -> 33117203
C6: 건축공사 | D6: =E6+G6+F6 -> 238096426 | G6: ='전기_을지(총공사비)'!D21 -> 238096426
C7: 기계설비공사 | D7: =E7+G7+F7 -> 32459496 | G7: ='전기_을지(총공사비)'!D23 -> 32459496
C8: 전기공사 | D8: =E8+G8+F8 -> 27823758 | E8: ='전기_을지(총공사비)'!E20 -> 27823758 | G8: 0
C9: 정보통신공사 | D9: =E9+G9+F9 -> 11137465 | G9: ='전기_을지(총공사비)'!D24 -> 11137465
C10: 소방공사 | D10: =E10+G10+F10 -> 17120500 | G10: ='전기_을지(총공사비)'!D25 -> 17120500
C11: 소 계 | D11: =SUM(D5:D10) -> 359754848 | E11: =+SUM(E5:E10) -> 27823758 | F11: =SUM(F5:F10) -> 0 | G11: =SUM(G5:G10) -> 331931090
B12: 일반관리비 | D12: =E12+G12+F12 -> 19766750 | E12: ='전기_을지(총공사비)'!E27 -> 1577618.6 | F12: 0 | G12: ='전기_을지(총공사비)'!G27 -> 18189131
B13: 이 윤 | D13: =E13+G13+F13 -> 15813402 | E13: ='전기_을지(총공사비)'!E28 -> 1262095 | F13: 0 | G13: ='전기_을지(총공사비)'!G28 -> 14551307
B14: 계 | D14: =SUM(D11:D13) -> 395335000 | E14: =SUM(E11:E13) -> 30663472 | F14: =SUM(F11:F13) -> 0 | G14: =SUM(G11:G13) -> 3.6467153e+08
A15: 간접비 | B15: 설계비 | D15: 3400000 | F15: =+D15 -> 3400000
B16: 감리비 | D16: 5705864 | F16: =+D16 -> 5705864
B17: 일반분양시설 경비 | D17: 21079000 | F17: =+D17 -> 21079000
B18: 분담금 및 부담금 | D18: 7651130 | F18: =+D18 -> 7651130
B19: 보상비 | F19: =+D19 -> 0
B20: 기타 사업비성 경비 | D20: 26964280 | F20: =+D20 -> 26964280
B21: 계 | D21: =SUM(D15:D20) -> 64800274 | E21: 0 | F21: =SUM(F15:F20) -> 64800274 | G21: 0
A22: 대 지 비 | D22: 270522000 | E22: 0 | F22: =+D22 -> 270522000 | G22: 0
A23: 부가가치세액 | D23: 1919639 | E23: 0 | F23: =+D23 -> 1919639 | G23: 0
A24: 총사업비 계 | D24: =D14+D21+D22+D23 -> 7.3257691e+08 | E24: =E14+E21+E22+E23 -> 30663472 | F24: =F14+F21+F22+F23 -> 3.3724191e+08 | G24: =G11+G12+G13+G21+G22+G23 -> 3.6467153e+08

Sheet 전기_을지(총공사비)
D2: 공종별 총공사비 구성 현황표(전기)
A3: 사업명 : 청주 분평·미평지구 A1 BL 공동주택 신축공사 | G3: (단위:천원)
A4: 구 분 | B4: 분 야 | C4: 공 종 | D4: 전 체 | E4: 감리대상(전기) | F4: 감리제외 | G4: 타법감리
B5: 전기공사 | C5: 배관공사 | D5: =E5+F5+G5 -> 988898 | E5: ='청주시 사례'!M53 -> 988898 | F5: 0 | G5: 0
C6: 배선공사 | D6: =E6+F6+G6 -> 1662695 | E6: ='청주시 사례'!M54 -> 1662695 | F6: 0 | G6: 0
C7: 외등설치공사 | D7: =E7+F7+G7 -> 2906428 | E7: ='청주시 사례'!M55 -> 2906428 | F7: 0 | G7: 0
C8: 간선공사 | D8: =E8+F8+G8 -> 834713 | E8: ='청주시 사례'!M56 -> 834713 | F8: 0 | G8: 0
C9: 분,배전반공사 | D9: =E9+F9+G9 -> 278237 | E9: ='청주시 사례'!M57 -> 278237 | F9: 0 | G9: 0
C10: 수변전설비공사 | D10: =E10+F10+G10 -> 6127954 | E10: ='청주시 사례'!M58 -> 6127954 | F10: 0 | G10: 0
C11: 트레이설치공사 | D11: =E11+F11+G11 -> 1112950 | E11: ='청주시 사례'!M59 -> 1112950 | F11: 0 | G11: 0
C12: 레이스웨이설치공사 | D12: =E12+F12+G12 -> 834713 | E12: ='청주시 사례'!M60 -> 834713 | F12: 0 | G12: 0
C13: 발전기설비공사 | D13: =E13+F13+G13 -> 2782376 | E13: ='청주시 사례'!M61 -> 2782376 | F13: 0 | G13: 0
C14: 고압인입공사 | D14: =E14+F14+G14 -> 834713 | E14: ='청주시 사례'!M62 -> 834713 | F14: 0 | G14: 0
C15: 기계실동력설비공사 | D15: =E15+F15+G15 -> 1391188 | E15: ='청주시 사례'!M63 -> 1391188 | F15: 0 | G15: 0
C16: 배선기구설치공사 | D16: =E16+F16+G16 -> 2782376 | E16: ='청주시 사례'!M64 -> 2782376 | F16: 0 | G16: 0
C17: 조명기구설치공사 | D17: =E17+F17+G17 -> 3895327 | E17: ='청주시 사례'!M65 -> 3895327 | F17: 0 | G17: 0
... C19: 피뢰설비공사 | D19: =E19+F19+G19 -> 834714 | E19: ='청주시 사례'!M67 -> 834714 | F19: 0 | G19: 0
C20: 소 계 | D20: =SUM(D5:D19) -> 27823758 | E20: =SUM(E5:E19) -> 27823758 | F20: 0 | G20: 0
B21: 건축공사 | D21: =E21+F21+G21 -> 238096426 | E21: 0 | F21: 0 | G21: ='청주시 사례'!M42 -> 238096426
B22: 토목공사 | D22: =E22+F22+G22 -> 33117203 | E22: 0 | F22: 0 | G22: ='청주시 사례'!M18 -> 33117203
B23: 기계설비공사 | D23: =E23+F23+G23 -> 32459496 | E23: 0 | F23: 0 | G23: ='청주시 사례'!M52 -> 32459496
B24: 정보통신공사 | D24: =E24+F24+G24 -> 11137465 | E24: 0 | F24: 0 | G24: ='청주시 사례'!M69 -> 11137465
B25: 소방공사 | D25: =E25+F25+G25 -> 17120500 | E25: 0 | F25: 0 | G25: ='청주시 사례'!M72 -> 17120500
B26: 소 계 | D26: =+SUM(D20:D25) -> 359754848 | E26: =+SUM(E20:E25) -> 27823758 | F26: =+SUM(F20:F25) -> 0 | G26: =+SUM(G20:G25) -> 331931090
A27: 일반관리비 | D27: =E27+F27+G27 -> 19766750 | E27: ='청주시 사례'!M73*'청주시 사례'!R75 -> 1577618.6 | F27: 0 | G27: ='청주시 사례'!M73-'전기_을지(총공사비)'!E27 -> 18189131
A28: 이 윤 | D28: =E28+F28+G28 -> 15813402 | E28: ='청주시 사례'!M74*'청주시 사례'!R75 -> 1262095 | F28: 0 | G28: ='청주시 사례'!M74-'전기_을지(총공사비)'!E28 -> 14551307
A29: 총공사비계 | D29: =+SUM(D26:D28) -> 395335000 | E29: =+SUM(E26:E28) -> 30663472 | F29: =+SUM(F26:F28) -> 0 | G29: =+SUM(G26:G28) -> 3.6467153e+08

Sheet 전기_예정공정표
A2: 청주 분평·미평지구 A1 BL 공동주택 신축공사 예 정 공 정 표
A4: ■ | B4: 사 업 명 | C4: : 청주 분평·미평지구 A1 BL 공동주택 신축공사
A5: ■ | B5: 착공예정일 | C5: : 2026. 02. 01.
A6: ■ | B6: 공 사 규 모 | C6: : 아파트 10개동, 1,351세대 ( 지하2층~지상29층 )
A7: ■ | B7: 공 사 기 간 | C7: : 2026. 02. 01. ~ 2029. 01. 31. (36개월)
A8: ■ | B8: 전 기 공 사 기 간 | C8: : 2026. 09. 01. ~ 2029. 01. 31. (29개월)
A9: ■ | B9: 위치 | C9: : 충청북도 청주시 서원구 분평동 213번지 일원
A12: 구 분 | C12: 2026년 | O12: 2027년 | AA12: 2028년 | AM12: 2029년 | AP12: 비 고
C13: 1 | D13: 2 | E13: 3 | F13: 4 | G13: 5 | H13: 6 | I13: 7 | J13: 8 | K13: 9 | L13: 10 | M13: 11 | N13: 12 | O13: 1 | P13: 2 | Q13: 3 | R13: 4 | S13: 5 | T13: 6 | U13: 7 | V13: 8 | W13: 9 | X13: 10 | Y13: 11 | Z13: 12 | AA13: 1 | AB13: 2 | AC13: 3 | AD13: 4 | AE13: 5 | AF13: 6 | AG13: 7 | AH13: 8 | AI13: 9 | AJ13: 10 | AK13: 11 | AL13: 12 | AM13: 1 | AN13: 2 | AO13: 3
A14: 전체공정 | AP14: 2026.02.01. ~ 2029.01.31. (36개월)
C15: 1 | D15: 1 | E15: 1 | F15: 1 | G15: 1 | H15: 1 | I15: 1 | J15: 1 | K15: 1 | L15: 1 | M15: 1 | N15: 1 | O15: 1 | P15: 1 | Q15: 1 | R15: 1 | S15: 1 | T15: 1 | U15: 1 | V15: 1 | W15: 1 | X15: 1 | Y15: 1 | Z15: 1 | AA15: 1 | AB15: 1 | AC15: 1 | AD15: 1 | AE15: 1 | AF15: 1 | AG15: 1 | AH15: 1 | AI15: 1 | AJ15: 1 | AK15: 1 | AL15: 1 | AM15: 1
A17: 전기공사 | B17: 건축공사 | AP17: 2026.09.01. ~ 2029.01.31. (29개월)
K18: 1 | L18: 1 | M18: 1 | N18: 1 | O18: 1 | P18: 1 | Q18: 1 | R18: 1 | S18: 1 | T18: 1 | U18: 1 | V18: 1 | W18: 1 | X18: 1 | Y18: 1 | Z18: 1 | AA18: 1 | AB18: 1 | AC18: 1 | AD18: 1 | AE18: 1 | AF18: 1 | AG18: 1 | AH18: 1 | AI18: 1 | AJ18: 1 | AK18: 1 | AL18: 1 | AM18: 1

Sheet 청주시 사례
N2: (단위 : 천원)
A3: 구 분 | B3: 공 종 | D3: 사직1구역 | F3: 장성1BL | H3: 장성2BL | J3: 평균 | K3: 요율 | L3: 분평미평
D4: 전 체 | E4: 요율 | F4: 전 체 | G4: 요율 | H4: 전 체 | I4: 요율 | L4: 적용값 | M4: 보정값 | N4: 요율
A5: 순공사비 | B5: 토목 | C5: 토 공 사 | D5: 19604938 | E5: =D5/$D$75 -> 0.028385322 | F5: 4749122 | G5: =F5/$F$75 -> 0.016753995 | H5: 3483053 | I5: =H5/$F$75 -> 0.012287545 | J5: =AVERAGE(F5,H5) -> 4116087.5 | K5: =J5/$J$75 -> 0.016753996 | L5: =ROUND(K5*$L$75,0) -> 6623441 | M5: =L5 -> 6623441 | N5: =M5/$M$75 -> 0.016753996
B6: (13개공종) | C6: 흙막이 공사 | D6: 8845060.3 | E6: =D6/$D$75 -> 0.012806461 | F6: 2374560 | G6: =F6/$F$75 -> 0.0083769938 | H6: 1741526 | I6: =H6/$F$75 -> 0.0061437709 | J6: =AVERAGE(F6,H6) -> 2058043 | K6: =J6/$J$75 -> 0.0083769951 | L6: =ROUND(K6*$L$75,0) -> 3311719 | M6: =L6 -> 3311719 | N6: =M6/$M$75 -> 0.0083769942
C7: 비탈면 보호공사 | D7: 0 | E7: =D7/$D$75 -> 0 | F7: 316608 | G7: =F7/$F$75 -> 0.0011169325 | H7: 232204 | I7: =H7/$F$75 -> 0.00081917133 | J7: =AVERAGE(F7,H7) -> 274406 | K7: =J7/$J$75 -> 0.0011169338 | L7: =ROUND(K7*$L$75,0) -> 441563 | M7: =L7 -> 441563 | N7: =M7/$M$75 -> 0.0011169337
C8: 옹벽공사 | D8: 3044972.1 | E8: =D8/$D$75 -> 0.0044087113 | F8: 474913 | G8: =F8/$F$75 -> 0.0016754023 | H8: 348306 | I8: =H8/$F$75 -> 0.001228757 | J8: =AVERAGE(F8,H8) -> 411609.5 | K8: =J8/$J$75 -> 0.0016754027 | L8: =ROUND(K8*$L$75,0) -> 662345 | M8: =L8 -> 662345 | N8: =M8/$M$75 -> 0.0016754019
C9: 석축공사 | D9: 0 | E9: =D9/$D$75 -> 0 | F9: 474913 | G9: =F9/$F$75 -> 0.0016754023 | H9: 348306 | I9: =H9/$F$75 -> 0.001228757 | J9: =AVERAGE(F9,H9) -> 411609.5 | K9: =J9/$J$75 -> 0.0016754027 | L9: =ROUND(K9*$L$75,0) -> 662345 | M9: =L9 -> 662345 | N9: =M9/$M$75 -> 0.0016754019
C10: 우,오수공사 | D10: 3642256.4 | E10: =D10/$D$75 -> 0.0052734989 | F10: 1424737 | G10: =F10/$F$75 -> 0.0050261998 | H10: 1044916 | I10: =H10/$F$75 -> 0.0036862639 | J10: =AVERAGE(F10,H10) -> 1234826.5 | K10: =J10/$J$75 -> 0.0050261999 | L10: =ROUND(K10*$L$75,0) -> 1987033 | M10: =L10 -> 1987033 | N10: =M10/$M$75 -> 0.0050262006
C11: 공동구공사 | D11: 0 | E11: =D11/$D$75 -> 0 | F11: 316608 | G11: =F11/$F$75 -> 0.0011169325 | H11: 232204 | I11: =H11/$F$75 -> 0.00081917133 | J11: =AVERAGE(F11,H11) -> 274406 | K11: =J11/$J$75 -> 0.0011169338 | L11: =ROUND(K11*$L$75,0) -> 441563 | M11: =L11 -> 441563 | N11: =M11/$M$75 -> 0.0011169337
C12: 지하저수조 및 급수공사 | D12: 0 | E12: =D12/$D$75 -> 0 | F12: 791520 | G12: =F12/$F$75 -> 0.0027923313 | H12: 580508 | I12: =H12/$F$75 -> 0.0020479213 | J12: =AVERAGE(F12,H12) -> 686014 | K12: =J12/$J$75 -> 0.0027923303 | L12: =ROUND(K12*$L$75,0) -> 1103906 | M12: =L12 -> 1103906 | N12: =M12/$M$75 -> 0.0027923306
C13: 도로포장공사 | D13: 4640655.1 | E13: =D13/$D$75 -> 0.0067190464 | F13: 2374560 | G13: =F13/$F$75 -> 0.0083769938 | H13: 1741526 | I13: =H13/$F$75 -> 0.0061437709 | J13: =AVERAGE(F13,H13) -> 2058043 | K13: =J13/$J$75 -> 0.0083769951 | L13: =ROUND(K13*$L$75,0) -> 3311719 | M13: =L13 -> 3311719 | N13: =M13/$M$75 -> 0.0083769942
C14: 교통안전시설물공사 | D14: 0 | E14: =D14/$D$75 -> 0 | F14: 158304 | G14: =F14/$F$75 -> 0.00055846626 | H14: 116102 | I14: =H14/$F$75 -> 0.00040958567 | J14: =AVERAGE(F14,H14) -> 137203 | K14: =J14/$J$75 -> 0.00055846688 | L14: =ROUND(K14*$L$75,0) -> 220782 | M14: =L14 -> 220782 | N14: =M14/$M$75 -> 0.00055846813
C15: 정화조시설공사 | D15: 0 | E15: =D15/$D$75 -> 0 | F15: 633217 | G15: =F15/$F$75 -> 0.0022338686 | H15: 464407 | I15: =H15/$F$75 -> 0.0016383391 | J15: =AVERAGE(F15,H15) -> 548812 | K15: =J15/$J$75 -> 0.0022338675 | L15: =ROUND(K15*$L$75,0) -> 883126 | M15: =L15 -> 883126 | N15: =M15/$M$75 -> 0.0022338675
C16: 조경공사 | D16: ='[1]공사비 실행'!$L$13 -> 21803529 | E16: =D16/$D$75 -> 0.031568586 | F16: 7915203 | G16: =F16/$F$75 -> 0.027923323 | H16: 5805086 | I16: =H16/$F$75 -> 0.020479234 | J16: =AVERAGE(F16,H16) -> 6860144.5 | K16: =J16/$J$75 -> 0.027923322 | L16: =ROUND(K16*$L$75,0) -> 11039066 | M16: =L16 -> 11039066 | N16: =M16/$M$75 -> 0.027923321
C17: 부대시설공사 | D17: 0 | E17: =D17/$D$75 -> 0 | F17: 1741345 | G17: =F17/$F$75 -> 0.0061431324 | H17: 1277119 | I17: =H17/$F$75 -> 0.0045054317 | J17: =AVERAGE(F17,H17) -> 1509232 | K17: =J17/$J$75 -> 0.0061431316 | L17: =ROUND(K17*$L$75,0) -> 2428595 | M17: =L17 -> 2428595 | N17: =M17/$M$75 -> 0.0061431318
C18: 소 계 | D18: =SUM(D5:D17) -> 61581411 | E18: =D18/$D$75 -> 0.089161626 | F18: =SUM(F5:F17) -> 23745610 | G18: =F18/$F$75 -> 0.083769974 | H18: =SUM(H5:H17) -> 17415263 | I18: =H18/$F$75 -> 0.061437719 | J18: =AVERAGE(F18,H18) -> 20580436 | K18: =SUM(K5:K17) -> 0.083769978 | L18: =SUM(L5:L17) -> 33117203 | M18: =L18 -> 33117203 | N18: =M18/$M$75 -> 0.083769975
B19: 건축 | C19: 공통가설공사 | D19: 21840620 | E19: =D19/$D$75 -> 0.03162229 | F19: 2219350 | G19: =F19/$F$75 -> 0.0078294426 | H19: 1627693 | I19: =H19/$F$75 -> 0.0057421898 | J19: =AVERAGE(F19,H19) -> 1923521.5 | K19: =J19/$J$75 -> 0.0078294429 | L19: =ROUND(K19*$L$75,0) -> 3095253 | M19: =L19 -> 3095253 | N19: =M19/$M$75 -> 0.0078294434
B20: (23개공사) | C20: 가시설물공사 | D20: 4214461.6 | E20: =D20/$D$75 -> 0.0061019754 | F20: 7170210 | G20: =F20/$F$75 -> 0.02529513 | H20: 5258701 | I20: =H20/$F$75 -> 0.018551692 | J20: =AVERAGE(F20,H20) -> 6214455.5 | K20: =J20/$J$75 -> 0.025295129 | L20: =ROUND(K20*$L$75,0) -> 10000050 | M20: =L20 -> 10000050 | N20: =M20/$M$75 -> 0.025295129
C21: 지정 및 기초공사 | D21: 6637149.7 | E21: =D21/$D$75 -> 0.0096097029 | F21: 2731508 | G21: =F21/$F$75 -> 0.0096362382 | H21: 2003314 | I21: =H21/$F$75 -> 0.0070673089 | J21: =AVERAGE(F21,H21) -> 2367411 | K21: =J21/$J$75 -> 0.0096362371 | L21: =ROUND(K21*$L$75,0) -> 3809542 | M21: =L21 -> 3809542 | N21: =M21/$M$75 -> 0.0096362376
C22: 철골공사 | D22: 0 | E22: =D22/$D$75 -> 0 | F22: 85360 | G22: =F22/$F$75 -> 0.00030113377 | H22: 62604 | I22: =H22/$F$75 -> 0.00022085495 | J22: =AVERAGE(F22,H22) -> 73982 | K22: =J22/$J$75 -> 0.00030113406 | L22: =ROUND(K22*$L$75,0) -> 119049 | M22: =L22 -> 119049 | N22: =M22/$M$75 -> 0.00030113448
C23: 철근콘크리트공사 | D23: 2.0223473e+08 | E23: =D23/$D$75 -> 0.29280877 | F23: 66819525 | G23: =F23/$F$75 -> 0.23572651 | H23: 49006088 | I23: =H23/$F$75 -> 0.17288411 | J23: =AVERAGE(F23,H23) -> 57912806 | K23: =J23/$J$75 -> 0.23572651 | L23: =ROUND(K23*$L$75,0) -> 93190940 | M23: =L23 -> 93190940 | N23: =M23/$M$75 -> 0.23572651
C24: 용접공사 | D24: 0 | E24: =D24/$D$75 -> 0 | F24: 17072 | G24: =F24/$F$75 -> 6.0226753e-05 | H24: 12521 | I24: =H24/$F$75 -> 4.4171695e-05 | J24: =AVERAGE(F24,H24) -> 14796.5 | K24: =J24/$J$75 -> 6.022722e-05 | L24: =ROUND(K24*$L$75,0) -> 23810 | M24: =L24 -> 23810 | N24: =M24/$M$75 -> 6.0227402e-05
C25: 조적공사 | D25: 13740981 | E25: =D25/$D$75 -> 0.019895099 | F25: 3072946 | G25: =F25/$F$75 -> 0.010840766 | H25: 2253729 | I25: =H25/$F$75 -> 0.0079507252 | J25: =AVERAGE(F25,H25) -> 2663337.5 | K25: =J25/$J$75 -> 0.010840767 | L25: =ROUND(K25*$L$75,0) -> 4285735 | M25: =L25 -> 4285735 | N25: =M25/$M$75 -> 0.010840768
C26: 미장공사 | D26: 14143099 | E26: =D26/$D$75 -> 0.020477311 | F26: 7170210 | G26: =F26/$F$75 -> 0.02529513 | H26: 5258701 | I26: =H26/$F$75 -> 0.018551692 | J26: =AVERAGE(F26,H26) -> 6214455.5 | K26: =J26/$J$75 -> 0.025295129 | L26: =ROUND(K26*$L$75,0) -> 10000050 | M26: =L26 -> 10000050 | N26: =M26/$M$75 -> 0.025295129
C27: 단열공사 | D27: 5657139.5 | E27: =D27/$D$75 -> 0.0081907795 | F27: 6828771 | G27: =F27/$F$75 -> 0.024090599 | H27: 5008287 | I27: =H27/$F$75 -> 0.017668279 | J27: =AVERAGE(F27,H27) -> 5918529 | K27: =J27/$J$75 -> 0.024090599 | L27: =ROUND(K27*$L$75,0) -> 9523857 | M27: =L27 -> 9523857 | N27: =M27/$M$75 -> 0.024090599
C28: 방수, 방습공사 | D28: 8502976.5 | E28: =D28/$D$75 -> 0.01231117 | F28: 5804456 | G28: =F28/$F$75 -> 0.020477011 | H28: 4257044 | I28: =H28/$F$75 -> 0.015018038 | J28: =AVERAGE(F28,H28) -> 5030750 | K28: =J28/$J$75 -> 0.020477011 | L28: =ROUND(K28*$L$75,0) -> 8095279 | M28: =L28 -> 8095279 | N28: =M28/$M$75 -> 0.020477011
C29: 목 공 사 | D29: 9805770.3 | E29: =D29/$D$75 -> 0.014197441 | F29: 10755314 | G29: =F29/$F$75 -> 0.037942692 | H29: 7888052 | I29: =H29/$F$75 -> 0.02782754 | J29: =AVERAGE(F29,H29) -> 9321683 | K29: =J29/$J$75 -> 0.037942693 | L29: =ROUND(K29*$L$75,0) -> 15000074 | M29: =L29 -> 15000074 | N29: =M29/$M$75 -> 0.037942692
C30: 가구공사 | D30: 10469934 | E30: =D30/$D$75 -> 0.015159061 | F30: 4950859 | G30: =F30/$F$75 -> 0.017465684 | H30: 3631008 | I30: =H30/$F$75 -> 0.012809502 | J30: =AVERAGE(F30,H30) -> 4290933.5 | K30: =J30/$J$75 -> 0.017465684 | L30: =ROUND(K30*$L$75,0) -> 6904796 | M30: =L30 -> 6904796 | N30: =M30/$M$75 -> 0.017465684
C31: 금속공사 | D31: 5521932.6 | E31: =D31/$D$75 -> 0.0079950181 | F31: 3170210 | G31: =F31/$F$75 -> 0.011183895 | H31: 5258701 | I31: =H31/$F$75 -> 0.018551692 | J31: =AVERAGE(F31,H31) -> 4214455.5 | K31: =J31/$J$75 -> 0.01715439 | L31: =ROUND(K31*$L$75,0) -> 6781731 | M31: =L31 -> 6781731 | N31: =M31/$M$75 -> 0.017154391
C32: 지붕 및 홈통공사 | D32: 0 | E32: =D32/$D$75 -> 0 | F32: 512158 | G32: =F32/$F$75 -> 0.0018067955 | H32: 375621 | I32: =H32/$F$75 -> 0.0013251191 | J32: =AVERAGE(F32,H32) -> 443889.5 | K32: =J32/$J$75 -> 0.0018067942 | L32: =ROUND(K32*$L$75,0) -> 714289 | M32: =L32 -> 714289 | N32: =M32/$M$75 -> 0.0018067942
... C41: 잡공사 | D41: 15956313 | E41: =D41/$D$75 -> 0.023102602 | F41: 682877 | G41: =F41/$F$75 -> 0.0024090595 | H41: 500829 | I41: =H41/$F$75 -> 0.001766829 | J41: =AVERAGE(F41,H41) -> 591853 | K41: =J41/$J$75 -> 0.0024090603 | L41: =ROUND(K41*$L$75,0) -> 952386 | M41: =L41 -> 952386 | N41: =M41/$M$75 -> 0.0024090607
C42: 소 계 | D42: =SUM(D19:D41) -> 3.8938588e+08 | E42: =D42/$D$75 -> 0.56377855 | F42: =SUM(F19:F41) -> 170719277 | G42: =F42/$F$75 -> 0.60226498 | H42: =SUM(H19:H41) -> 125207175 | I42: =H42/$F$75 -> 0.44170698 | J42: =AVERAGE(F42,H42) -> 147963226 | K42: =SUM(K19:K41) -> 0.60226498 | L42: =SUM(L19:L41) -> 238096426 | M42: =L42 -> 238096426 | N42: =M42/$M$75 -> 0.60226498
B43: 기계설비 | C43: 급수설비공사 | D43: 3862844.8 | E43: =D43/$D$75 -> 0.0055928814 | F43: 2444513 | G43: =F43/$F$75 -> 0.0086237747 | H43: 1792830 | I43: =H43/$F$75 -> 0.0063247616 | J43: =AVERAGE(F43,H43) -> 2118671.5 | K43: =J43/$J$75 -> 0.0086237755 | L43: =ROUND(K43*$L$75,0) -> 3409280 | M43: =L43 -> 3409280 | N43: =M43/$M$75 -> 0.0086237748
B44: (9개공사) | C44: 급탕설비공사 | D44: 2229217.6 | E44: =D44/$D$75 -> 0.0032276082 | F44: 2075762 | G44: =F44/$F$75 -> 0.0073228916 | H44: 1522384 | I44: =H44/$F$75 -> 0.0053706798 | J44: =AVERAGE(F44,H44) -> 1799073 | K44: =J44/$J$75 -> 0.0073228916 | L44: =ROUND(K44*$L$75,0) -> 2894995 | M44: =L44 -> 2894995 | N44: =M44/$M$75 -> 0.0073228907
C45: 오배수 및 통기설비공사 | D45: 7844806.7 | E45: =D45/$D$75 -> 0.011358228 | F45: 3057963 | G45: =F45/$F$75 -> 0.010787909 | H45: 2242739 | I45: =H45/$F$75 -> 0.0079119546 | J45: =AVERAGE(F45,H45) -> 2650351 | K45: =J45/$J$75 -> 0.010787907 | L45: =ROUND(K45*$L$75,0) -> 4264837 | M45: =L45 -> 4264837 | N45: =M45/$M$75 -> 0.010787906
C46: 위생기구공사 | D46: 5804664 | E46: =D46/$D$75 -> 0.0084043752 | F46: 2019067 | G46: =F46/$F$75 -> 0.0071228825 | H46: 1480803 | I46: =H46/$F$75 -> 0.00522399 | J46: =AVERAGE(F46,H46) -> 1749935 | K46: =J46/$J$75 -> 0.0071228818 | L46: =ROUND(K46*$L$75,0) -> 2815924 | M46: =L46 -> 2815924 | N46: =M46/$M$75 -> 0.0071228806
C47: 승강기기계공사 | E47: =D47/$D$75 -> 0 | F47: 3993575 | G47: =F47/$F$75 -> 0.014088569 | H47: 2928927 | I47: =H47/$F$75 -> 0.010332695 | J47: =AVERAGE(F47,H47) -> 3461251 | K47: =J47/$J$75 -> 0.01408857 | L47: =ROUND(K47*$L$75,0) -> 5569705 | M47: =L47 -> 5569705 | N47: =M47/$M$75 -> 0.01408857
C48: 난방설비공사 | D48: 4444737.8 | E48: =D48/$D$75 -> 0.0064353844 | F48: 5295603 | G48: =F48/$F$75 -> 0.018681875 | H48: 3883847 | I48: =H48/$F$75 -> 0.01370147 | J48: =AVERAGE(F48,H48) -> 4589725 | K48: =J48/$J$75 -> 0.018681876 | L48: =ROUND(K48*$L$75,0) -> 7385599 | M48: =L48 -> 7385599 | N48: =M48/$M$75 -> 0.018681875
C49: 가스설비공사 | D49: 3530605.8 | E49: =D49/$D$75 -> 0.0051118439 | F49: 432657 | G49: =F49/$F$75 -> 0.0015263312 | H49: 317315 | I49: =H49/$F$75 -> 0.0011194267 | J49: =AVERAGE(F49,H49) -> 374986 | K49: =J49/$J$75 -> 0.0015263315 | L49: =ROUND(K49*$L$75,0) -> 603412 | M49: =L49 -> 603412 | N49: =M49/$M$75 -> 0.0015263308
C50: 자동제어설비공사 | D50: 1571097.7 | E50: =D50/$D$75 -> 0.0022747388 | F50: 474973 | G50: =F50/$F$75 -> 0.001675614 | H50: 348350 | I50: =H50/$F$75 -> 0.0012289122 | J50: =AVERAGE(F50,H50) -> 411661.5 | K50: =J50/$J$75 -> 0.0016756143 | L50: =ROUND(K50*$L$75,0) -> 662429 | M50: =L50 -> 662429 | N50: =M50/$M$75 -> 0.0016756144
C51: 특수설비공사 | D51: 20866814 | E51: =D51/$D$75 -> 0.030212349 | F51: 3479911 | G51: =F51/$F$75 -> 0.012276461 | H51: 2552201 | I51: =H51/$F$75 -> 0.0090036773 | J51: =AVERAGE(F51,H51) -> 3016056 | K51: =J51/$J$75 -> 0.012276462 | L51: =ROUND(K51*$L$75,0) -> 4853315 | M51: =L51 -> 4853315 | N51: =M51/$M$75 -> 0.012276462
C52: 소 계 | D52: =SUM(D43:D51) -> 50154789 | E52: =D52/$D$75 -> 0.07261741 | F52: =SUM(F43:F51) -> 23274024 | G52: =F52/$F$75 -> 0.082106308 | H52: =SUM(H43:H51) -> 17069396 | I52: =H52/$F$75 -> 0.060217567 | J52: =AVERAGE(F52,H52) -> 20171710 | K52: =SUM(K43:K51) -> 0.08210631 | L52: =SUM(L43:L51) -> 32459496 | M52: =L52 -> 32459496 | N52: =M52/$M$75 -> 0.082106305
B53: 전기(15개공사) | C53: 배관공사 | D53: 3069050.4 | E53: =D53/$D$75 -> 0.0044435735 | F53: 497506 | G53: =F53/$F$75 -> 0.0017551061 | H53: 731580 | I53: =H53/$F$75 -> 0.0025808744 | J53: =AVERAGE(F53,H53) -> 614543 | K53: =J53/$J$75 -> 0.002501417 | L53: =ROUND(K53*$L$75,0) -> 988898 | M53: =L53 -> 988898 | N53: =M53/$M$75 -> 0.0025014178
C54: 배선공사 | D54: 407778 | E54: =D54/$D$75 -> 0.00059040787 | F54: 896009 | G54: =F54/$F$75 -> 0.0031609485 | H54: 1170529 | I54: =H54/$F$75 -> 0.0041294026 | J54: =AVERAGE(F54,H54) -> 1033269 | K54: =J54/$J$75 -> 0.0042057864 | L54: =ROUND(K54*$L$75,0) -> 1662695 | M54: =L54 -> 1662695 | N54: =M54/$M$75 -> 0.0042057875
C55: 외등설치공사 | D55: 5377659.4 | E55: =D55/$D$75 -> 0.0077861298 | F55: 2295511 | G55: =F55/$F$75 -> 0.0080981241 | H55: 1316845 | I55: =H55/$F$75 -> 0.0046455775 | J55: =AVERAGE(F55,H55) -> 1806178 | K55: =J55/$J$75 -> 0.0073518115 | L55: =ROUND(K55*$L$75,0) -> 2906428 | M55: =L55 -> 2906428 | N55: =M55/$M$75 -> 0.0073518105
C56: 간선공사 | D56: 4700724.7 | E56: =D56/$D$75 -> 0.0068060191 | F56: 598504 | G56: =F56/$F$75 -> 0.0021114077 | H56: 438948 | I56: =H56/$F$75 -> 0.0015485247 | J56: =AVERAGE(F56,H56) -> 518726 | K56: =J56/$J$75 -> 0.0021114064 | L56: =ROUND(K56*$L$75,0) -> 834713 | M56: =L56 -> 834713 | N56: =M56/$M$75 -> 0.0021114068
C57: 분,배전반공사 | D57: 145022.53 | E57: =D57/$D$75 -> 0.00020997319 | F57: 199501 | G57: =F57/$F$75 -> 0.0007038014 | H57: 146316 | I57: =H57/$F$75 -> 0.00051617488 | J57: =AVERAGE(F57,H57) -> 172908.5 | K57: =J57/$J$75 -> 0.00070380146 | L57: =ROUND(K57*$L$75,0) -> 278237 | M57: =L57 -> 278237 | N57: =M57/$M$75 -> 0.00070380057
C58: 수변전설비공사 | D58: 14945.036 | E58: =D58/$D$75 -> 2.1638408e-05 | F58: 4690019 | G58: =F58/$F$75 -> 0.016545491 | H58: 2926322 | I58: =H58/$F$75 -> 0.010323505 | J58: =AVERAGE(F58,H58) -> 3808170.5 | K58: =J58/$J$75 -> 0.01550066 | L58: =ROUND(K58*$L$75,0) -> 6127954 | M58: =L58 -> 6127954 | N58: =M58/$M$75 -> 0.015500661
C59: 트레이설치공사 | D59: 7473.419 | E59: =D59/$D$75 -> 1.0820509e-05 | F59: 798005 | G59: =F59/$F$75 -> 0.0028152091 | H59: 585264 | I59: =H59/$F$75 -> 0.0020646995 | J59: =AVERAGE(F59,H59) -> 691634.5 | K59: =J59/$J$75 -> 0.0028152079 | L59: =ROUND(K59*$L$75,0) -> 1112950 | M59: =L59 -> 1112950 | N59: =M59/$M$75 -> 0.0028152074
C60: 레이스웨이설치공사 | D60: 16456420 | E60: =D60/$D$75 -> 0.02382669 | F60: 598504 | G60: =F60/$F$75 -> 0.0021114077 | H60: 438948 | I60: =H60/$F$75 -> 0.0015485247 | J60: =AVERAGE(F60,H60) -> 518726 | K60: =J60/$J$75 -> 0.0021114064 | L60: =ROUND(K60*$L$75,0) -> 834713 | M60: =L60 -> 834713 | N60: =M60/$M$75 -> 0.0021114068
C61: 발전기설비공사 | D61: 1865366.8 | E61: =D61/$D$75 -> 0.0027008011 | F61: 1995012 | G61: =F61/$F$75 -> 0.007038021 | H61: 1463161 | I61: =H61/$F$75 -> 0.0051617524 | J61: =AVERAGE(F61,H61) -> 1729086.5 | K61: =J61/$J$75 -> 0.0070380207 | L61: =ROUND(K61*$L$75,0) -> 2782376 | M61: =L61 -> 2782376 | N61: =M61/$M$75 -> 0.0070380209
C62: 고압인입공사 | D62: 4126017.5 | E62: =D62/$D$75 -> 0.0059739202 | F62: 598504 | G62: =F62/$F$75 -> 0.0021114077 | H62: 438948 | I62: =H62/$F$75 -> 0.0015485247 | J62: =AVERAGE(F62,H62) -> 518726 | K62: =J62/$J$75 -> 0.0021114064 | L62: =ROUND(K62*$L$75,0) -> 834713 | M62: =L62 -> 834713 | N62: =M62/$M$75 -> 0.0021114068
C63: 기계실동력설비공사 | D63: 540881.27 | E63: =D63/$D$75 -> 0.00078312356 | F63: 997506 | G63: =F63/$F$75 -> 0.0035190105 | H63: 731580 | I63: =H63/$F$75 -> 0.0025808744 | J63: =AVERAGE(F63,H63) -> 864543 | K63: =J63/$J$75 -> 0.0035190093 | L63: =ROUND(K63*$L$75,0) -> 1391188 | M63: =L63 -> 1391188 | N63: =M63/$M$75 -> 0.0035190105
C64: 배선기구설치공사 | D64: 888673.68 | E64: =D64/$D$75 -> 0.0012866803 | F64: 1995012 | G64: =F64/$F$75 -> 0.007038021 | H64: 1463161 | I64: =H64/$F$75 -> 0.0051617524 | J64: =AVERAGE(F64,H64) -> 1729086.5 | K64: =J64/$J$75 -> 0.0070380207 | L64: =ROUND(K64*$L$75,0) -> 2782376 | M64: =L64 -> 2782376 | N64: =M64/$M$75 -> 0.0070380209
C65: 조명기구설치공사 | D65: 746145.29 | E65: =D65/$D$75 -> 0.0010803183 | F65: 2793017 | G65: =F65/$F$75 -> 0.0098532302 | H65: 2048426 | I65: =H65/$F$75 -> 0.0072264554 | J65: =AVERAGE(F65,H65) -> 2420721.5 | K65: =J65/$J$75 -> 0.0098532306 | L65: =ROUND(K65*$L$75,0) -> 3895327 | M65: =L65 -> 3895327 | N65: =M65/$M$75 -> 0.0098532308
... C67: 피뢰설비공사 | D67: 149228.7 | E67: =D67/$D$75 -> 0.00021606315 | F67: 598505 | G67: =F67/$F$75 -> 0.0021114113 | H67: 438949 | I67: =H67/$F$75 -> 0.0015485282 | J67: =AVERAGE(F67,H67) -> 518727 | K67: =J67/$J$75 -> 0.0021114105 | L67: =ROUND(K67*$L$75,0) -> 834714 | M67: =L67 -> 834714 | N67: =M67/$M$75 -> 0.0021114093
C68: 소 계 | D68: =SUM(D53:D67) -> 39429519 | E68: =D68/$D$75 -> 0.057088657 | F68: =SUM(F53:F67) -> 19950118 | G68: =F68/$F$75 -> 0.070380203 | H68: =SUM(H53:H67) -> 14631610 | I68: =H68/$F$75 -> 0.051617524 | J68: =AVERAGE(F68,H68) -> 17290864 | K68: =SUM(K53:K67) -> 0.070380203 | L68: =SUM(L53:L67) -> 27823758 | M68: =L68 -> 27823758 | N68: =M68/$M$75 -> 0.070380204
B69: 정보통신(13개공사) | D69: =[2]총사업비산출내역!F9 -> 13902879 | E69: =D69/$D$75 -> 0.020129504 | F69: 7985756 | G69: =F69/$F$75 -> 0.028172221 | H69: 5856831 | I69: =H69/$F$75 -> 0.02066178 | J69: =AVERAGE(F69,H69) -> 6921293.5 | K69: =J69/$J$75 -> 0.028172221 | L69: =ROUND(K69*$L$75,0) -> 11137465 | M69: =L69 -> 11137465 | N69: =M69/$M$75 -> 0.028172221
B70: 소방설비(2개공사) | C70: 기계소방공사 | E70: =D70/$D$75 -> 0 | F70: =$F$72*H70/$H$72 -> 8470230.2 | G70: =F70/$F$75 -> 0.029881353 | H70: 6212149.3 | I70: =H70/$F$75 -> 0.021915276 | J70: =AVERAGE(F70,H70) -> 7341189.8 | K70: =J70/$J$75 -> 0.029881354 | L70: =ROUND(K70*$L$75,0) -> 11813145 | M70: =L70 -> 11813145 | N70: =M70/$M$75 -> 0.029881354
C71: 전기소방공사 | E71: =D71/$D$75 -> 0 | F71: =$F$72*H71/$H$72 -> 3805465.8 | G71: =F71/$F$75 -> 0.013424956 | H71: 2790965.6 | I71: =H71/$F$75 -> 0.0098459934 | J71: =AVERAGE(F71,H71) -> 3298215.7 | K71: =J71/$J$75 -> 0.013424956 | L71: =ROUND(K71*$L$75,0) -> 5307355 | M71: =L71 -> 5307355 | N71: =M71/$M$75 -> 0.013424956
C72: 소 계 | D72: 21340304 | E72: =D72/$D$75 -> 0.030897899 | F72: 12275696 | G72: =F72/$F$75 -> 0.043306309 | H72: =SUM(H70:H71) -> 9003115 | I72: =H72/$F$75 -> 0.031761269 | J72: =AVERAGE(F72,H72) -> 10639406 | K72: =SUM(K70:K71) -> 0.04330631 | L72: =SUM(L70:L71) -> 17120500 | M72: =L72 -> 17120500 | N72: =M72/$M$75 -> 0.04330631
A73: 일반관리비 | D73: =[2]총사업비산출내역!F13 -> 90400404 | E73: =D73/$D$75 -> 0.13088766 | F73: 14173103 | G73: =F73/$F$75 -> 0.049999999 | H73: 10394692 | I73: =H73/$F$75 -> 0.036670486 | J73: =AVERAGE(F73,H73) -> 12283897 | K73: =J73/$J$75 -> 0.049999999 | L73: =ROUND(K73*$L$75,0) -> 19766750 | M73: =L73 -> 19766750 | N73: =M73/$M$75 -> 0.05 | P73: 건축 | Q73: 소방 | R73: 전기 | S73: 계
A74: 이윤 | D74: 24476501 | E74: =D74/$D$75 -> 0.035438692 | F74: 11338484 | G74: =F74/$F$75 -> 0.040000005 | H74: 8315753.6 | I74: =H74/$F$75 -> 0.029336389 | J74: =AVERAGE(F74,H74) -> 9827118.8 | K74: =J74/$J$75 -> 0.040000003 | L74: =ROUND(K74*$L$75,0)+1 -> 15813402 | M74: =L74 -> 15813402 | N74: =M74/$M$75 -> 0.040000005 | P74: =M18+M42+M52 -> 303673125 | Q74: =M72 -> 17120500 | R74: =M68 -> 27823758 | S74: =P74+Q74+R74 -> 348617383
A75: 총공사비계 | D75: =D18+D42+D52+D68+D69+D72+D73+D74 -> 6.9067168e+08 | E75: =D75/$D$75 -> 1 | F75: =F18+F42+F52+F68+F69+F72+F73+F74 -> 283462068 | G75: =F75/$F$75 -> 1 | H75: =H18+H42+H52+H68+H69+H72+H73+H74 -> 2.0789384e+08 | I75: =H75/$F$75 -> 0.73340972 | J75: =AVERAGE(F75,H75) -> 2.4567795e+08 | K75: =J75/$J$75 -> 1 | L75: 395335000 | M75: =M18+M42+M52+M68+M69+M72+M73+M74 -> 395335000 | N75: =M75/$M$75 -> 1 | P75: =P74/$S$74 -> 0.87107855 | Q75: =Q74/$S$74 -> 0.049109714 | R75: =R74/$S$74 -> 0.079811734 | S75: =S74/$S$74 -> 1
K76: =K18+K42+K52+K68+K69+K72+K73+K74 -> 1 | L76: =L18+L42+L52+L68+L69+L72+L73+L74 -> 395335000
